{"text_format":"1","workbook":"xlsx","n_sheets":13,"sheets":["ตั้งค่า","รายชื่อนักเรียน","โครงสร้างหลักสูตร","ลงหลักสูตร","คีย์คะแนน","คุณลักษณะ-อ่านคิดวิเคราะห์","ความคิดเห็นครูประจำชั้น","ปพ.6 T1 (50คะแนน)","ปพ.6 T1 (100 คะแนน)","ปพ.6 ปลายปี","บันทึกข้อความ","แบบสรุปผลการเรียน","แบบรายงาน SAR"],"not_rendered":{"charts":0,"images":12,"macros":1,"external_links":0,"defined_names":13,"comments":0,"pivot_tables":0},"unopened":[],"bounds":{"document_bytes":16777216,"sheet_cells":100000,"rows_first":2000,"rows_last":500,"rows_between":2000,"halvings":0,"cell_chars":16384,"cell_head_chars":4096},"cells_cut":0,"cells_raw":0,"read":"whole","date_system":"1900"}

{"sheet":"ตั้งค่า","index":0,"n_rows":18,"n_cols":31,"rows_kept":18,"cut":false,"hidden":false,"merged":[[1,18,10,18],[4,0,4,4],[4,5,4,13],[37,16,37,22],[36,16,36,22],[5,9,5,13],[1,17,9,17],[1,16,9,16],[7,5,7,13],[5,0,5,4],[11,5,11,13],[12,5,12,13],[13,5,13,13],[8,5,8,13],[9,5,9,13],[10,5,10,13]]}
[]
[null,null,null,null,null,null,null,null,null,null,null,null,null,null,null,null,"อัพเดทล่าสุด - พฤษภาคม 2567","ออกแบบและพัฒนาโดย KRU WANG","โปรแกรม ปพ.6 ประถม เวอร์ชั่น 7 NEW"]
[]
[]
[">> ก่อนใช้งานโปรแกรม อย่าลืมเปิดการใช้งานแมโครทุกครั้ง <<",null,null,null,null,"NEW สามารถเชื่อมโยงกับโปรแกรม ปพ.5 เวอร์ชั่น 10"]
["ตั้งค่าโปรแกรม"]
[null,null,"ปีการศึกษา  ",null,null,null,null,null,null,null,null,null,null,null,null,null,null,null,null,null,null,null,null,null,null,null,null,null,null,"ไม่ผ่าน",0]
[null,null,"สังกัด  ","สำนักงานเขตพื้นที่การศึกษาประถมศึกษานราธิวาส เขต 2",null,"*** คำเตือน ***",null,null,null,null,null,null,null,null,null,null,null,null,null,null,null,null,null,null,null,null,null,null,null,"ผ่าน",1]
[null,null,"โรงเรียน   ","บ้านหัวคลอง",null,">> ห้ามแก้ไขไฟล์หรือลบสูตรคำนวณเด็ดขาด <<",null,null,null,null,null,null,null,null,null,null,null,null,null,null,null,null,null,null,null,null,null,null,null,"ดี",2]
[null,null,"ระดับชั้น   ",null,null,"โปรแกรมนี้ออกแบบสำหรับ MS Excel 2021 ขึ้นไป",null,null,null,null,null,null,null,null,null,null,null,null,null,null,null,null,null,null,null,null,null,null,null,"ดีเยี่ยม",3]
[null,null,"ครูประจำชั้นคนที่ 1   ",null,null," ควรตั้งชื่อไฟล์ใหม่ เพื่อใช้บันทึกข้อมูล",null,null,null,null,null,null,null,null,null,null,null,null,null,null,null,null,null,null,null,null,0,"-",49,"ต่ำกว่าเกณฑ์","0"]
[null,null,"ครูประจำชั้นคนที่ 2   ",null,null,"  ให้สอดคล้องกับห้องที่ประจำชั้นและปีการศึกษา",null,null,null,null,null,null,null,null,null,null,null,null,null,null,null,null,null,null,null,null,50,"-",54,"ผ่านเกณฑ์ขั้นต่ำ","1"]
[null,null,"หัวหน้าฝ่ายวิชาการ  ",null,null,"เช่น  *** ปพ.6-ป1-67  หรือ ปพ.6-ป4-68",null,null,null,null,null,null,null,null,null,null,null,null,null,null,null,null,null,null,null,null,55,"-",59,"พอใช้","1.5"]
[null,null,"ผู้อำนวยการโรงเรียน",null,null,null,null,null,null,null,null,null,null,null,null,null,null,null,null,null,null,null,null,null,null,null,60,"-",64,"ปานกลาง","2"]
[null,null,"วันที่ (อนุมัติผล) ",null,null,null,null,null,null,null,null,null,null,null,null,null,null,null,null,null,null,null,null,null,null,null,65,"-",69,"ค่อนข้างดี","2.5"]
[null,null,"วันอนุมัติตรงกับวัน",{"$f":"TEXT(D15,\"dddd\")","v":"เสาร์"},null,null,null,null,null,null,null,null,null,null,null,null,null,null,null,null,null,null,null,null,null,null,70,"-",74,"ดี","3"]
[null,null,null,null,null,null,null,null,null,null,null,null,null,null,null,null,null,null,null,null,null,null,null,null,null,null,75,"-",79,"ดีมาก","3.5"]
[null,null,null,null,null,null,null,null,null,null,null,null,null,null,null,null,null,null,null,null,null,null,null,null,null,null,80,"-",100,"ดีเยี่ยม","4"]

{"sheet":"รายชื่อนักเรียน","index":1,"n_rows":16,"n_cols":19,"rows_kept":16,"cut":false,"hidden":false,"merged":[[0,6,0,10],[1,1,1,5],[1,8,1,10],[2,1,4,1],[2,2,4,2],[2,3,4,3],[2,4,4,4],[2,5,4,5],[2,6,4,6],[15,8,16,10],[8,15,8,17],[9,15,9,17],[4,11,4,12],[4,15,4,17],[5,15,5,17],[6,15,6,17],[7,15,7,17],[5,8,5,10],[6,8,6,10],[2,8,4,10]]}
[null,null,null,null,null,null,null,null,null,null,null,{"$f":"COUNT(B6:B50)","v":0},{"$f":"L1-L2","v":0}]
[null,{"$f":"\"รายชื่อนักเรียนโรงเรียน\"&ตั้งค่า!D9&\"  ชั้น\"&ตั้งค่า!D10","v":"รายชื่อนักเรียนโรงเรียนบ้านหัวคลอง  ชั้น"},null,null,null,null,null,null,null,null,null,{"$f":"COUNTIF(F6:F50,\"ย้าย\")","v":0},{"$f":"L1*100","v":0}]
[null,"เลขที่","เลขประจำตัว","เลขประจำตัวประชาชน","ชื่อ - สกุล","หมายเหตุ",null,null,"สิ่งที่ควรทำ"]
[null,null,null,null,null,null,null,null,null,null,null,{"$f":"S10","v":38}]
[null,null,null,null,null,null,null,null,null,null,null,"ออก",null,null,null,"จำนวนนักเรียน เมื่อต้นปีการศึกษา",null,null,38]
[null,null,null,null,null,null,null,null,"ให้ลบรายชื่อนักเรียนที่ย้าย",null,null,null,"ย้าย",null,null,"จำนวนนักเรียน ออกระหว่างปี",null,null,{"$f":"COUNTIF($F$6:$F$50,\"ออก\")","v":0}]
[null,null,null,null,null,null,null,null,"ออกให้เรียบร้อยก่อนนะครับ",null,null,null,null,null,null,"จำนวนนักเรียน ย้ายออก",null,null,{"$f":"COUNTIF($F$6:$F$50,\"ย้าย\")","v":0}]
[null,null,null,null,null,null,null,null,null,null,null,null,null,null,null,"จำนวนนักเรียนที่ติด ร",null,null,{"$f":"COUNTIF($F$6:$F$50,\"ร\")","v":0}]
[null,null,null,null,null,null,null,null,null,null,null,null,null,null,null,"จำนวนนักเรียนที่ติด มส",null,null,{"$f":"COUNTIF($F$6:$F$50,\"มส\")","v":0}]
[null,null,null,null,null,null,null,null,null,null,null,null,null,null,null,"จำนวนนักเรียน เมื่อสิ้นปีการศึกษา",null,null,{"$f":"(S5-S6)-S7","v":38}]
[]
[]
[]
[]
[]
[null,null,null,null,null,null,null,null,"ห้ามปรับแก้ไขตารางเด็ดขาด"]

{"sheet":"โครงสร้างหลักสูตร","index":2,"n_rows":27,"n_cols":36,"rows_kept":27,"cut":false,"hidden":false,"merged":[[23,32,23,33],[22,2,22,3],[22,8,22,9],[22,14,22,15],[22,20,22,21],[22,26,22,27],[22,32,22,33],[23,8,23,9],[23,26,23,27],[23,14,23,15],[23,20,23,21],[23,2,23,3],[26,32,26,33],[27,2,27,3],[27,8,27,9],[27,14,27,15],[27,20,27,21],[27,26,27,27],[27,32,27,33],[26,26,26,27],[26,2,26,3],[26,8,26,9],[26,14,26,15],[26,20,26,21],[24,32,24,33],[25,26,25,27],[25,32,25,33],[24,26,24,27],[25,14,25,15],[25,20,25,21],[24,14,24,15],[24,20,24,21],[25,8,25,9],[25,2,25,3],[24,2,24,3],[24,8,24,9],[0,1,0,3],[1,1,1,3],[3,1,3,5],[3,7,3,11],[3,13,3,17],[3,19,3,23],[3,25,3,29],[3,31,3,35],[2,1,2,17],[2,19,2,35]]}
[null,"คัดลอกโครงสร้างหลักสูตร"]
[null,"ที่คุณครูประจำชั้น"]
[null,{"$f":"\"โครงสร้างหลักสูตร โรงเรียน\"&ตั้งค่า!$D$9","v":"โครงสร้างหลักสูตร โรงเรียนบ้านหัวคลอง"},null,null,null,null,null,null,null,null,null,null,null,null,null,null,null,null,null,{"$f":"\"โครงสร้างหลักสูตร  โรงเรียน\"&ตั้งค่า!$D$9","v":"โครงสร้างหลักสูตร  โรงเรียนบ้านหัวคลอง"}]
[null,"ระดับชั้นประถมศึกษาปีที่ 1",null,null,null,null,null,"ระดับชั้นประถมศึกษาปีที่ 2",null,null,null,null,null,"ระดับชั้นประถมศึกษาปีที่ 3",null,null,null,null,null,"ระดับชั้นประถมศึกษาปีที่ 4",null,null,null,null,null,"ระดับชั้นประถมศึกษาปีที่ 5",null,null,null,null,null,"ระดับชั้นประถมศึกษาปีที่ 6"]
[null,"ที่","รหัสวิชา","รายชื่อวิชา","ชั่วโมง/ปี","ประเภทรายวิชา",null,"ที่","รหัสวิชา","รายชื่อวิชา","ชั่วโมง/ปี","ประเภทรายวิชา",null,"ที่","รหัสวิชา","รายชื่อวิชา","ชั่วโมง / ปี","ประเภทรายวิชา",null,"ที่","รหัสวิชา","รายชื่อวิชา","ชั่วโมง / ปี","ประเภทรายวิชา",null,"ที่","รหัสวิชา","รายชื่อวิชา","ชั่วโมง / ปี","ประเภทรายวิชา",null,"ที่","รหัสวิชา","รายชื่อวิชา","ชั่วโมง / ปี","ประเภทรายวิชา"]
[null,1,"ท 11101","ภาษาไทย",200,"พื้นฐาน",null,1,"ท 12101","ภาษาไทย",200,"พื้นฐาน",null,1,"ท 13101","ภาษาไทย",200,"พื้นฐาน",null,1,"ท 14101","ภาษาไทย",160,"พื้นฐาน",null,1,"ท 15101","ภาษาไทย",160,"พื้นฐาน",null,1,"ท 16101","ภาษาไทย",160,"พื้นฐาน"]
[null,2,"ค 11101","คณิตศาสตร์",160,"พื้นฐาน",null,2,"ค 12101","คณิตศาสตร์",160,"พื้นฐาน",null,2,"ค 13101","คณิตศาสตร์",160,"พื้นฐาน",null,2,"ค 14101","คณิตศาสตร์",160,"พื้นฐาน",null,2,"ค 15101","คณิตศาสตร์",160,"พื้นฐาน",null,2,"ค 16101","คณิตศาสตร์",160,"พื้นฐาน"]
[null,3,"ว 11101","วิทยาศาสตร์และเทคโนโลยี",80,"พื้นฐาน",null,3,"ว 12101","วิทยาศาสตร์และเทคโนโลยี",80,"พื้นฐาน",null,3,"ว 13101","วิทยาศาสตร์และเทคโนโลยี",80,"พื้นฐาน",null,3,"ว 14101","วิทยาศาสตร์และเทคโนโลยี",120,"พื้นฐาน",null,3,"ว 15101","วิทยาศาสตร์และเทคโนโลยี",120,"พื้นฐาน",null,3,"ว 16101","วิทยาศาสตร์และเทคโนโลยี",120,"พื้นฐาน"]
[null,4,"ส 11101","สังคมศึกษา ศาสนา และวัฒนธรรม",80,"พื้นฐาน",null,4,"ส 12101","สังคมศึกษา ศาสนา และวัฒนธรรม",80,"พื้นฐาน",null,4,"ส 13101","สังคมศึกษา ศาสนา และวัฒนธรรม",80,"พื้นฐาน",null,4,"ส 14101","สังคมศึกษา ศาสนา และวัฒนธรรม",80,"พื้นฐาน",null,4,"ส 15101","สังคมศึกษา ศาสนา และวัฒนธรรม",80,"พื้นฐาน",null,4,"ส 16101","สังคมศึกษา ศาสนา และวัฒนธรรม",80,"พื้นฐาน"]
[null,5,"ส 11102","ประวัติศาสตร์",40,"พื้นฐาน",null,5,"ส 12102","ประวัติศาสตร์",40,"พื้นฐาน",null,5,"ส 13102","ประวัติศาสตร์",40,"พื้นฐาน",null,5,"ส 14102","ประวัติศาสตร์",40,"พื้นฐาน",null,5,"ส 15102","ประวัติศาสตร์",40,"พื้นฐาน",null,5,"ส 16102","ประวัติศาสตร์",40,"พื้นฐาน"]
[null,6,"พ 11101","สุขศึกษาและพลศึกษา",80,"พื้นฐาน",null,6,"พ 12101","สุขศึกษาและพลศึกษา",80,"พื้นฐาน",null,6,"พ 13101","สุขศึกษาและพลศึกษา",80,"พื้นฐาน",null,6,"พ 14101","สุขศึกษาและพลศึกษา",80,"พื้นฐาน",null,6,"พ 15101","สุขศึกษาและพลศึกษา",80,"พื้นฐาน",null,6,"พ 16101","สุขศึกษาและพลศึกษา",80,"พื้นฐาน"]
[null,7,"ศ 11101","ศิลปะ",80,"พื้นฐาน",null,7,"ศ 12101","ศิลปะ",80,"พื้นฐาน",null,7,"ศ 13101","ศิลปะ",80,"พื้นฐาน",null,7,"ศ 14101","ศิลปะ",80,"พื้นฐาน",null,7,"ศ 15101","ศิลปะ",80,"พื้นฐาน",null,7,"ศ 16101","ศิลปะ",80,"พื้นฐาน"]
[null,8,"ง 11101","การงานอาชีพ",40,"พื้นฐาน",null,8,"ง 12101","การงานอาชีพ",40,"พื้นฐาน",null,8,"ง 13101","การงานอาชีพ",40,"พื้นฐาน",null,8,"ง 14101","การงานอาชีพ",40,"พื้นฐาน",null,8,"ง 15101","การงานอาชีพ",40,"พื้นฐาน",null,8,"ง 16101","การงานอาชีพ",40,"พื้นฐาน"]
[null,9,"อ 11101","ภาษาต่างประเทศ",160,"พื้นฐาน",null,9,"อ 12101","ภาษาต่างประเทศ",160,"พื้นฐาน",null,9,"อ 13101","ภาษาต่างประเทศ",160,"พื้นฐาน",null,9,"อ 14101","ภาษาต่างประเทศ",160,"พื้นฐาน",null,9,"อ 15101","ภาษาต่างประเทศ",160,"พื้นฐาน",null,9,"อ 16101","ภาษาต่างประเทศ",160,"พื้นฐาน"]
[null,10,"ว 11201","วิทยาการคำนวณ",40,"เพิ่มเติม",null,10,"ว 12201","วิทยาการคำนวณ",40,"เพิ่มเติม",null,10,"ว 13201","วิทยาการคำนวณ",40,"เพิ่มเติม",null,10,"ว 14201","วิทยาการคำนวณ",40,"เพิ่มเติม",null,10,"ว 15201","วิทยาการคำนวณ",40,"เพิ่มเติม",null,10,"ว 16201","วิทยาการคำนวณ",40,"เพิ่มเติม"]
[null,11,"ส 11201","อัลกุรอาน",40,"เพิ่มเติม",null,11,"ส 12201","อัลกุรอาน",40,"เพิ่มเติม",null,11,"ส 13201","อัลกุรอาน",40,"เพิ่มเติม",null,11,"ส 14201","อัลกุรอาน",40,"เพิ่มเติม",null,11,"ส 15201","อัลกุรอาน",40,"เพิ่มเติม",null,11,"ส 16201","อัลกุรอาน",40,"เพิ่มเติม"]
[null,12,"ส 11202","หน้าที่พลเมือง",40,"เพิ่มเติม",null,12,"ส 12202","หน้าที่พลเมือง",40,"เพิ่มเติม",null,12,"ส 13202","หน้าที่พลเมือง",40,"เพิ่มเติม",null,12,"ส 14202","หน้าที่พลเมือง",40,"เพิ่มเติม",null,12,"ส 15202","หน้าที่พลเมือง",40,"เพิ่มเติม",null,12,"ส 16202","หน้าที่พลเมือง",40,"เพิ่มเติม"]
[null,13,"ส 11203","นวัตวิถีตากใบ",40,"เพิ่มเติม",null,13,"ส 12203","นวัตวิถีตากใบ",40,"เพิ่มเติม",null,13,"ส 13203","นวัตวิถีตากใบ",40,"เพิ่มเติม",null,13,"ส 14203","นวัตวิถีตากใบ",40,"เพิ่มเติม",null,13,"ส 15203","นวัตวิถีตากใบ",40,"เพิ่มเติม",null,13,"ส 16203","นวัตวิถีตากใบ",40,"เพิ่มเติม"]
[null,14,null,"การป้องกันการทุจริต",40,"เพิ่มเติม",null,14,null,"การป้องกันการทุจริต",40,"เพิ่มเติม",null,14,null,"การป้องกันการทุจริต",40,"เพิ่มเติม",null,14,null,"การป้องกันการทุจริต",40,"เพิ่มเติม",null,14,null,"การป้องกันการทุจริต",40,"เพิ่มเติม",null,14,null,"การป้องกันการทุจริต",40,"เพิ่มเติม"]
[]
[]
[]
[null,"ที่","ชื่อกิจกรรมพัฒนาผู้เรียน",null,"ชั่วโมง/ปี","ประเภทรายวิชา",null,"ที่","ชื่อกิจกรรมพัฒนาผู้เรียน",null,"ชั่วโมง/ปี","ประเภทรายวิชา",null,"ที่","ชื่อกิจกรรมพัฒนาผู้เรียน",null,"ชั่วโมง/ปี","ประเภทรายวิชา",null,"ที่","ชื่อกิจกรรมพัฒนาผู้เรียน",null,"ชั่วโมง/ปี","ประเภทรายวิชา",null,"ที่","ชื่อกิจกรรมพัฒนาผู้เรียน",null,"ชั่วโมง/ปี","ประเภทรายวิชา",null,"ที่","ชื่อกิจกรรมพัฒนาผู้เรียน",null,"ชั่วโมง/ปี","ประเภทรายวิชา"]
[null,1,"กิจกรรมแนะแนว",null,40,"กิจกรรม",null,1,"กิจกรรมแนะแนว",null,40,"กิจกรรม",null,1,"กิจกรรมแนะแนว",null,40,"กิจกรรม",null,1,"กิจกรรมแนะแนว",null,40,"กิจกรรม",null,1,"กิจกรรมแนะแนว",null,40,"กิจกรรม",null,1,"กิจกรรมแนะแนว",null,40,"กิจกรรม"]
[null,2,"กิจกรรมลูกเสือ - เนตรนารี",null,40,"กิจกรรม",null,2,"กิจกรรมลูกเสือ - เนตรนารี",null,40,"กิจกรรม",null,2,"กิจกรรมลูกเสือ - เนตรนารี",null,40,"กิจกรรม",null,2,"กิจกรรมลูกเสือ - เนตรนารี",null,40,"กิจกรรม",null,2,"กิจกรรมลูกเสือ - เนตรนารี",null,40,"กิจกรรม",null,2,"กิจกรรมลูกเสือ - เนตรนารี",null,40,"กิจกรรม"]
[null,3,"กิจกรรมชุมนุม",null,30,"กิจกรรม",null,3,"กิจกรรมชุมนุม",null,30,"กิจกรรม",null,3,"กิจกรรมชุมนุม",null,30,"กิจกรรม",null,3,"กิจกรรมชุมนุม",null,30,"กิจกรรม",null,3,"กิจกรรมชุมนุม",null,30,"กิจกรรม",null,3,"กิจกรรมชุมนุม",null,30,"กิจกรรม"]
[null,4,"กิจกรรมเพื่อสังคมและสาธารณประโยชน์",null,10,"กิจกรรม",null,4,"กิจกรรมเพื่อสังคมและสาธารณประโยชน์",null,10,"กิจกรรม",null,4,"กิจกรรมเพื่อสังคมและสาธารณประโยชน์",null,10,"กิจกรรม",null,4,"กิจกรรมเพื่อสังคมและสาธารณประโยชน์",null,10,"กิจกรรม",null,4,"กิจกรรมเพื่อสังคมและสาธารณประโยชน์",null,10,"กิจกรรม",null,4,"กิจกรรมเพื่อสังคมและสาธารณประโยชน์",null,10,"กิจกรรม"]

{"sheet":"ลงหลักสูตร","index":3,"n_rows":20,"n_cols":11,"rows_kept":20,"cut":false,"hidden":false,"merged":[[24,1,24,2],[19,1,19,2],[20,1,20,2],[7,10,8,10],[0,0,0,4],[21,1,21,2],[22,1,22,2],[23,1,23,2]]}
[{"$f":"\"โครงสร้างหลักสูตร ระดับชั้น\"&ตั้งค่า!D10","v":"โครงสร้างหลักสูตร ระดับชั้น"}]
["ที่","รหัสวิชา","รายชื่อวิชา","ชั่วโมง / ปี","ประเภทรายวิชา"]
[]
[]
[]
[]
[]
[null,null,null,null,null,null,null,null,null,null,"ห้ามปรับแก้ไขตารางเด็ดขาด"]
[]
[]
[]
[]
[]
[]
[]
[]
[]
[]
[]
["ที่","ชื่อกิจกรรมพัฒนาผู้เรียน",null,"ชั่วโมง/ปี","ประเภทรายวิชา"]

{"sheet":"คีย์คะแนน","index":4,"n_rows":54,"n_cols":190,"rows_kept":54,"cut":false,"hidden":false,"merged":[[5,6,6,6],[4,27,4,30],[5,10,6,10],[3,35,3,38],[2,3,2,6],[2,7,2,10],[2,11,2,14],[2,15,2,18],[2,19,2,22],[2,23,2,26],[2,27,2,30],[2,31,2,34],[2,35,2,38],[4,35,4,38],[3,7,3,10],[4,7,4,10],[3,27,3,30],[3,19,3,22],[5,14,6,14],[5,18,6,18],[5,22,6,22],[5,26,6,26],[5,30,6,30],[2,0,2,2],[3,0,3,2],[4,0,4,2],[5,2,6,2],[5,1,6,1],[5,0,6,0],[2,158,4,163],[5,158,6,163],[3,43,3,46],[4,43,4,46],[5,46,6,46],[3,67,3,70],[4,67,4,70],[5,70,6,70],[3,11,3,14],[4,11,4,14],[3,15,3,18],[3,39,3,42],[4,72,6,72],[4,73,6,73],[5,152,6,157],[2,152,4,157],[3,3,3,6],[4,3,4,6],[2,151,6,151],[4,115,4,129],[4,132,4,146],[4,149,5,149],[2,78,3,112],[2,115,3,149],[2,114,6,114],[4,112,5,112],[2,113,6,113],[2,150,6,150],[4,78,4,94],[4,95,4,111],[2,77,5,77],[3,47,3,50],[4,47,4,50],[5,50,6,50],[5,42,6,42],[5,54,6,54],[2,47,2,50],[3,63,3,66],[4,63,4,66],[5,66,6,66],[4,51,4,54],[3,55,3,58],[4,55,4,58],[3,59,3,62],[4,59,4,62],[2,39,2,42],[2,43,2,46],[2,51,2,54],[2,55,2,58],[2,59,2,62],[2,63,2,66],[2,67,2,70],[5,58,6,58],[2,166,2,189],[3,182,6,182],[3,183,6,183],[4,71,6,71],[4,19,4,22],[3,23,3,26],[4,23,4,26],[4,15,4,18],[3,31,3,34],[4,31,4,34],[2,74,6,74],[2,75,6,75],[2,76,6,76],[5,62,6,62],[4,39,4,42],[2,71,3,73],[3,51,3,54],[5,34,6,34],[5,38,6,38],[3,185,6,185],[3,189,6,189],[3,186,6,186],[3,187,6,187],[3,188,6,188],[3,181,6,181],[3,174,6,174],[3,175,6,175],[3,176,6,176],[3,177,6,177],[3,178,6,178],[3,180,6,180],[3,184,6,184],[3,166,6,166],[3,167,6,167],[3,168,6,168],[3,169,6,169],[3,170,6,170],[3,171,6,171],[3,172,6,172],[3,173,6,173],[3,179,6,179]]}
[null,null,null,null,null,null,null,null,null,null,null,null,null,null,null,null,null,null,null,null,null,null,null,null,null,null,null,null,null,null,null,null,null,null,null,null,null,null,null,null,null,null,null,null,null,null,null,null,null,null,null,null,null,null,null,null,null,null,null,null,null,null,null,null,null,null,null,null,null,null,null,null,null,null,null,null,null,null,null,null,null,null,null,null,null,null,null,null,null,null,null,null,null,null,null,null,null,null,null,null,null,null,null,null,null,null,null,null,null,null,null,null,null,null,{"$f":"รายชื่อนักเรียน!M2*DJ2","v":0}]
[null,null,null,null,null,null,null,null,null,null,null,null,null,null,null,null,null,null,null,null,null,null,null,null,null,null,null,null,null,null,null,null,null,null,null,null,null,null,null,null,null,null,null,null,null,null,null,null,null,null,null,null,null,null,null,null,null,null,null,null,null,null,null,null,null,null,null,null,null,null,null,null,null,null,null,null,null,null,null,null,null,null,null,null,null,null,null,null,null,null,null,null,null,null,null,null,null,null,null,null,null,null,null,null,null,null,null,null,null,null,null,null,null,{"$f":"COUNTA(ลงหลักสูตร!C3:C19)","v":0},{"$f":"DJ2*100","v":0}]
["แบบบันทึกคะแนน",null,null,{"$f":"ลงหลักสูตร!A3","v":0},null,null,null,{"$f":"ลงหลักสูตร!A4","v":0},null,null,null,{"$f":"ลงหลักสูตร!A5","v":0},null,null,null,{"$f":"ลงหลักสูตร!A6","v":0},null,null,null,{"$f":"ลงหลักสูตร!A7","v":0},null,null,null,{"$f":"ลงหลักสูตร!A8","v":0},null,null,null,{"$f":"ลงหลักสูตร!A9","v":0},null,null,null,{"$f":"ลงหลักสูตร!A10","v":0},null,null,null,{"$f":"ลงหลักสูตร!A11","v":0},null,null,null,{"$f":"ลงหลักสูตร!A12","v":0},null,null,null,{"$f":"ลงหลักสูตร!A13","v":0},null,null,null,{"$f":"ลงหลักสูตร!A14","v":0},null,null,null,{"$f":"ลงหลักสูตร!A15","v":0},null,null,null,{"$f":"ลงหลักสูตร!A16","v":0},null,null,null,{"$f":"ลงหลักสูตร!A17","v":0},null,null,null,{"$f":"ลงหลักสูตร!A18","v":0},null,null,null,{"$f":"ลงหลักสูตร!A19","v":0},null,null,null,"สรุปผลการประเมิน",null,null,"เกรดเฉลี่ย","รวมคะแนนทุกวิชา","ได้ลำดับที่","หมายเหตุ","คะแนนปลายปี",null,null,null,null,null,null,null,null,null,null,null,null,null,null,null,null,null,null,null,null,null,null,null,null,null,null,null,null,null,null,null,null,null,null,"รวมคะแนนทุกวิชาทั้งปี","   สอบได้ลำดับที่","คะแนนระหว่างปี",null,null,null,null,null,null,null,null,null,null,null,null,null,null,null,null,null,null,null,null,null,null,null,null,null,null,null,null,null,null,null,null,null,null,"รวมคะแนนทุกวิชาระหว่างเรียน","   สอบได้ลำดับที่","ปลายปี",null,null,null,null,null,"ระหว่างปี",null,null,null,null,null,null,null,{"$f":"CONCATENATE(\"แบบสรุปผลการเรียนของนักเรียน  ชั้น\",ตั้งค่า!D10&\"  โรงเรียน\",ตั้งค่า!D9&\"  ปีการศึกษา \",ตั้งค่า!D7)","v":"แบบสรุปผลการเรียนของนักเรียน  ชั้น  โรงเรียนบ้านหัวคลอง  ปีการศึกษา "}]
[{"$f":"CONCATENATE(\"  ชั้น\",ตั้งค่า!D10)","v":"  ชั้น"},null,null,{"$f":"IF(ลงหลักสูตร!C3=\"\",\"\",ลงหลักสูตร!C3)","v":""},null,null,null,{"$f":"IF(ลงหลักสูตร!C4=\"\",\"\",ลงหลักสูตร!C4)","v":""},null,null,null,{"$f":"IF(ลงหลักสูตร!C5=\"\",\"\",ลงหลักสูตร!C5)","v":""},null,null,null,{"$f":"IF(ลงหลักสูตร!C6=\"\",\"\",ลงหลักสูตร!C6)","v":""},null,null,null,{"$f":"IF(ลงหลักสูตร!C7=\"\",\"\",ลงหลักสูตร!C7)","v":""},null,null,null,{"$f":"IF(ลงหลักสูตร!C8=\"\",\"\",ลงหลักสูตร!C8)","v":""},null,null,null,{"$f":"IF(ลงหลักสูตร!C9=\"\",\"\",ลงหลักสูตร!C9)","v":""},null,null,null,{"$f":"IF(ลงหลักสูตร!C10=\"\",\"\",ลงหลักสูตร!C10)","v":""},null,null,null,{"$f":"IF(ลงหลักสูตร!C11=\"\",\"\",ลงหลักสูตร!C11)","v":""},null,null,null,{"$f":"IF(ลงหลักสูตร!C12=\"\",\"\",ลงหลักสูตร!C12)","v":""},null,null,null,{"$f":"IF(ลงหลักสูตร!C13=\"\",\"\",ลงหลักสูตร!C13)","v":""},null,null,null,{"$f":"IF(ลงหลักสูตร!C14=\"\",\"\",ลงหลักสูตร!C14)","v":""},null,null,null,{"$f":"IF(ลงหลักสูตร!C15=\"\",\"\",ลงหลักสูตร!$C15)","v":""},null,null,null,{"$f":"IF(ลงหลักสูตร!C16=\"\",\"\",ลงหลักสูตร!C16)","v":""},null,null,null,{"$f":"IF(ลงหลักสูตร!C17=\"\",\"\",ลงหลักสูตร!C17)","v":""},null,null,null,{"$f":"IF(ลงหลักสูตร!C18=\"\",\"\",ลงหลักสูตร!C18)","v":""},null,null,null,{"$f":"IF(ลงหลักสูตร!C19=\"\",\"\",ลงหลักสูตร!C19)","v":""},null,null,null,null,null,null,null,null,null,null,null,null,null,null,null,null,null,null,null,null,null,null,null,null,null,null,null,null,null,null,null,null,null,null,null,null,null,null,null,null,null,null,null,null,null,null,null,null,null,null,null,null,null,null,null,null,null,null,null,null,null,null,null,null,null,null,null,null,null,null,null,null,null,null,null,null,null,null,null,null,null,null,null,null,null,null,null,null,null,null,null,null,null,null,null,null,null,null,"เลขที่","เลขประจำตัว","ชื่อ -สกุล",{"$f":"CA6","v":""},"","","","","","","","","","","","","","","","",{"$f":"BT5","v":"คุณลักษณะอันพึงประสงค์"},{"$f":"BU5","v":"การอ่าน คิด วิเคราะห์ฯ"},{"$f":"BV5","v":"กิจกรรมพัฒนาผู้เรียน"},"หมายเหตุ"]
[{"$f":"CONCATENATE(\"ปีการศึกษา \",ตั้งค่า!D7)","v":"ปีการศึกษา "},null,null,{"$f":"IF(ลงหลักสูตร!$E3=\"\",\"\",ลงหลักสูตร!$E3)","v":""},null,null,null,{"$f":"IF(ลงหลักสูตร!$E4=\"\",\"\",ลงหลักสูตร!$E4)","v":""},null,null,null,{"$f":"IF(ลงหลักสูตร!$E5=\"\",\"\",ลงหลักสูตร!$E5)","v":""},null,null,null,{"$f":"IF(ลงหลักสูตร!$E6=\"\",\"\",ลงหลักสูตร!$E6)","v":""},null,null,null,{"$f":"IF(ลงหลักสูตร!$E7=\"\",\"\",ลงหลักสูตร!$E7)","v":""},null,null,null,{"$f":"IF(ลงหลักสูตร!$E8=\"\",\"\",ลงหลักสูตร!$E8)","v":""},null,null,null,{"$f":"IF(ลงหลักสูตร!$E9=\"\",\"\",ลงหลักสูตร!$E9)","v":""},null,null,null,{"$f":"IF(ลงหลักสูตร!$E10=\"\",\"\",ลงหลักสูตร!$E10)","v":""},null,null,null,{"$f":"IF(ลงหลักสูตร!$E11=\"\",\"\",ลงหลักสูตร!$E11)","v":""},null,null,null,{"$f":"IF(ลงหลักสูตร!$E12=\"\",\"\",ลงหลักสูตร!$E12)","v":""},null,null,null,{"$f":"IF(ลงหลักสูตร!$E13=\"\",\"\",ลงหลักสูตร!$E13)","v":""},null,null,null,{"$f":"IF(ลงหลักสูตร!$E14=\"\",\"\",ลงหลักสูตร!$E14)","v":""},null,null,null,{"$f":"IF(ลงหลักสูตร!$E15=\"\",\"\",ลงหลักสูตร!$E15)","v":""},null,null,null,{"$f":"IF(ลงหลักสูตร!$E16=\"\",\"\",ลงหลักสูตร!$E16)","v":""},null,null,null,{"$f":"IF(ลงหลักสูตร!$E17=\"\",\"\",ลงหลักสูตร!$E17)","v":""},null,null,null,{"$f":"IF(ลงหลักสูตร!$E18=\"\",\"\",ลงหลักสูตร!$E18)","v":""},null,null,null,{"$f":"IF(ลงหลักสูตร!$E19=\"\",\"\",ลงหลักสูตร!$E19)","v":""},null,null,null,"คุณลักษณะอันพึงประสงค์","การอ่าน คิด วิเคราะห์ฯ","กิจกรรมพัฒนาผู้เรียน",null,null,null,null,"สูตรจะประมวลผลเกรดจากคะแนนที่คุณครูกรอก",null,null,null,null,null,null,null,null,null,null,null,null,null,null,null,null,"(ผลการเรียน x น้ำหนัก)",null,null,null,null,null,null,null,null,null,null,null,null,null,null,null,null,"เกรดเฉลี่ย",null,null,"สูตรจะประมวลผลเกรดจากคะแนนที่คุณครูกรอก",null,null,null,null,null,null,null,null,null,null,null,null,null,null,null,null,"(ผลการเรียน x น้ำหนัก)",null,null,null,null,null,null,null,null,null,null,null,null,null,null,null,null,"เกรดเฉลี่ย"]
["เลขที่","เลขประจำตัว","ชื่อ-สกุล","เทอมที่ 1","เทอมที่ 2","รวม","เกรด","เทอมที่ 1","เทอมที่ 2","รวม","เกรด","เทอมที่ 1","เทอมที่ 2","รวม","เกรด","เทอมที่ 1","เทอมที่ 2","รวม","เกรด","เทอมที่ 1","เทอมที่ 2","รวม","เกรด","เทอมที่ 1","เทอมที่ 2","รวม","เกรด","เทอมที่ 1","เทอมที่ 2","รวม","เกรด","เทอมที่ 1","เทอมที่ 2","รวม","เกรด","เทอมที่ 1","เทอมที่ 2","รวม","เกรด","เทอมที่ 1","เทอมที่ 2","รวม","เกรด","เทอมที่ 1","เทอมที่ 2","รวม","เกรด","เทอมที่ 1","เทอมที่ 2","รวม","เกรด","เทอมที่ 1","เทอมที่ 2","รวม","เกรด","เทอมที่ 1","เทอมที่ 2","รวม","เกรด","เทอมที่ 1","เทอมที่ 2","รวม","เกรด","เทอมที่ 1","เทอมที่ 2","รวม","เกรด","เทอมที่ 1","เทอมที่ 2","รวม","เกรด",null,null,null,null,null,null,null,{"$f":"D4","v":""},{"$f":"H4","v":""},{"$f":"L4","v":""},{"$f":"P4","v":""},{"$f":"T4","v":""},{"$f":"X4","v":""},{"$f":"AB4","v":""},{"$f":"AF4","v":""},{"$f":"AJ4","v":""},{"$f":"AN4","v":""},{"$f":"AR4","v":""},{"$f":"AV4","v":""},{"$f":"AZ4","v":""},{"$f":"BD4","v":""},{"$f":"BH4","v":""},{"$f":"BL4","v":""},{"$f":"BP4","v":""},{"$f":"CA6","v":""},"","","","","","","","","","","","","","","",{"$f":"CQ6","v":""},null,null,null,{"$f":"CA6","v":""},"","","","","","","","","","","","","","","",{"$f":"CQ6","v":""},{"$f":"DL6","v":""},{"$f":"DM6","v":""},{"$f":"DN6","v":""},{"$f":"DO6","v":""},{"$f":"DP6","v":""},{"$f":"DQ6","v":""},{"$f":"DR6","v":""},{"$f":"DS6","v":""},{"$f":"DT6","v":""},{"$f":"DU6","v":""},{"$f":"DV6","v":""},{"$f":"DW6","v":""},{"$f":"DX6","v":""},{"$f":"DY6","v":""},{"$f":"DZ6","v":""},{"$f":"EA6","v":""},{"$f":"EB6","v":""},null,null,null,"คำนวณเกรดไม่ปัดเศษ  ลำดับที่เทียบเกรดเฉลี่ยก่อน ถ้าเท่ากัน  เทียบคะแนนรวม",null,null,null,null,null,"คำนวณเกรดไม่ปัดเศษ  ลำดับที่เทียบเกรดเฉลี่ยก่อน ถ้าเท่ากัน  เทียบคะแนนรวม"]
[null,null,null,50,50,{"$f":"SUM(D7:E7)","v":100},null,50,50,{"$f":"SUM(H7:I7)","v":100},null,50,50,{"$f":"SUM(L7:M7)","v":100},null,50,50,{"$f":"SUM(P7:Q7)","v":100},null,50,50,{"$f":"SUM(T7:U7)","v":100},null,50,50,{"$f":"SUM(X7:Y7)","v":100},null,50,50,{"$f":"SUM(AB7:AC7)","v":100},null,50,50,{"$f":"SUM(AF7:AG7)","v":100},null,50,50,{"$f":"SUM(AJ7:AK7)","v":100},null,50,50,{"$f":"SUM(AN7:AO7)","v":100},null,50,50,{"$f":"SUM(AR7:AS7)","v":100},null,50,50,{"$f":"SUM(AV7:AW7)","v":100},null,50,50,{"$f":"SUM(AZ7:BA7)","v":100},null,50,50,{"$f":"SUM(BD7:BE7)","v":100},null,50,50,{"$f":"SUM(BH7:BI7)","v":100},null,50,50,{"$f":"SUM(BL7:BM7)","v":100},null,50,50,{"$f":"SUM(BP7:BQ7)","v":100},null,null,null,null,null,null,null,"ย้าย",{"$f":"ลงหลักสูตร!D3","v":0},{"$f":"ลงหลักสูตร!D4","v":0},{"$f":"ลงหลักสูตร!D5","v":0},{"$f":"ลงหลักสูตร!D6","v":0},{"$f":"ลงหลักสูตร!D7","v":0},{"$f":"ลงหลักสูตร!D8","v":0},{"$f":"ลงหลักสูตร!D9","v":0},{"$f":"ลงหลักสูตร!D10","v":0},{"$f":"ลงหลักสูตร!D11","v":0},{"$f":"ลงหลักสูตร!D12","v":0},{"$f":"ลงหลักสูตร!D13","v":0},{"$f":"ลงหลักสูตร!D14","v":0},{"$f":"ลงหลักสูตร!D15","v":0},{"$f":"ลงหลักสูตร!D16","v":0},{"$f":"ลงหลักสูตร!D17","v":0},{"$f":"ลงหลักสูตร!D18","v":0},{"$f":"ลงหลักสูตร!D19","v":0},{"$f":"IF(ISERROR(CA7/40),0,CA7/40)","v":0},0,0,0,0,0,0,0,0,0,0,0,0,0,0,0,{"$f":"IF(ISERROR(CQ7/40),0,CQ7/40)","v":0},{"$f":"SUM(CR7:DH7)","v":0},null,null,{"$f":"IFERROR(CA7/2,\"\")","v":0},0,0,0,0,0,0,0,0,0,0,0,0,0,0,0,{"$f":"IFERROR(CQ7/2,\"\")","v":0},{"$f":"IF(ISERROR(DL7/40),0,DL7/40)","v":0},{"$f":"IF(ISERROR(DM7/40),0,DM7/40)","v":0},{"$f":"IF(ISERROR(DN7/40),0,DN7/40)","v":0},{"$f":"IF(ISERROR(DO7/40),0,DO7/40)","v":0},{"$f":"IF(ISERROR(DP7/40),0,DP7/40)","v":0},{"$f":"IF(ISERROR(DQ7/40),0,DQ7/40)","v":0},{"$f":"IF(ISERROR(DR7/40),0,DR7/40)","v":0},{"$f":"IF(ISERROR(DS7/40),0,DS7/40)","v":0},{"$f":"IF(ISERROR(DT7/40),0,DT7/40)","v":0},{"$f":"IF(ISERROR(DU7/40),0,DU7/40)","v":0},{"$f":"IF(ISERROR(DV7/40),0,DV7/40)","v":0},{"$f":"IF(ISERROR(DW7/40),0,DW7/40)","v":0},{"$f":"IF(ISERROR(DX7/40),0,DX7/40)","v":0},{"$f":"IF(ISERROR(DY7/40),0,DY7/40)","v":0},{"$f":"IF(ISERROR(DZ7/40),0,DZ7/40)","v":0},{"$f":"IF(ISERROR(EA7/40),0,EA7/40)","v":0},{"$f":"IF(ISERROR(EB7/40),0,EB7/40)","v":0},{"$f":"SUM(EC7:ES7)","v":0}]
[{"$f":"รายชื่อนักเรียน!B6","v":0},{"$f":"รายชื่อนักเรียน!C6","v":0},{"$f":"IF(รายชื่อนักเรียน!E6=\"\",\"\",รายชื่อนักเรียน!E6)","v":""},null,null,{"$f":"IF(C8=\"\",\"\",SUM(D8:E8))","v":""},{"$f":"IF(D8=\"\",\"\",VLOOKUP(F8,ตั้งค่า!$AA$11:$AE$18,5,TRUE))","v":""},null,null,{"$f":"IF(C8=\"\",\"\",SUM(H8:I8))","v":""},{"$f":"IF(H8=\"\",\"\",VLOOKUP(J8,ตั้งค่า!$AA$11:$AE$18,5,TRUE))","v":""},null,null,{"$f":"IF(C8=\"\",\"\",SUM(L8+M8))","v":""},{"$f":"IF(L8=\"\",\"\",VLOOKUP(N8,ตั้งค่า!$AA$11:$AE$18,5,TRUE))","v":""},null,null,{"$f":"IF(C8=\"\",\"\",SUM(P8+Q8))","v":""},{"$f":"IF(P8=\"\",\"\",VLOOKUP(R8,ตั้งค่า!$AA$11:$AE$18,5,TRUE))","v":""},null,null,{"$f":"IF(C8=\"\",\"\",SUM(T8+U8))","v":""},{"$f":"IF(T8=\"\",\"\",VLOOKUP(V8,ตั้งค่า!$AA$11:$AE$18,5,TRUE))","v":""},null,null,{"$f":"IF(C8=\"\",\"\",SUM(X8+Y8))","v":""},{"$f":"IF(X8=\"\",\"\",VLOOKUP(Z8,ตั้งค่า!$AA$11:$AE$18,5,TRUE))","v":""},null,null,{"$f":"IF(C8=\"\",\"\",SUM(AB8+AC8))","v":""},{"$f":"IF(AB8=\"\",\"\",VLOOKUP(AD8,ตั้งค่า!$AA$11:$AE$18,5,TRUE))","v":""},null,null,{"$f":"IF(C8=\"\",\"\",SUM(AF8+AG8))","v":""},{"$f":"IF(AF8=\"\",\"\",VLOOKUP(AH8,ตั้งค่า!$AA$11:$AE$18,5,TRUE))","v":""},null,null,{"$f":"IF(C8=\"\",\"\",SUM(AJ8+AK8))","v":""},{"$f":"IF(AJ8=\"\",\"\",VLOOKUP(AL8,ตั้งค่า!$AA$11:$AE$18,5,TRUE))","v":""},null,null,{"$f":"IF(C8=\"\",\"\",SUM(AN8+AO8))","v":""},{"$f":"IF(AN8=\"\",\"\",VLOOKUP(AP8,ตั้งค่า!$AA$11:$AE$18,5,TRUE))","v":""},null,null,{"$f":"IF(C8=\"\",\"\",SUM(AR8+AS8))","v":""},{"$f":"IF(AR8=\"\",\"\",VLOOKUP(AT8,ตั้งค่า!$AA$11:$AE$18,5,TRUE))","v":""},null,null,{"$f":"IF(C8=\"\",\"\",SUM(AV8+AW8))","v":""},{"$f":"IF(AV8=\"\",\"\",VLOOKUP(AX8,ตั้งค่า!$AA$11:$AE$18,5,TRUE))","v":""},null,null,{"$f":"IF(C8=\"\",\"\",SUM(AZ8+BA8))","v":""},{"$f":"IF(AZ8=\"\",\"\",VLOOKUP(BB8,ตั้งค่า!$AA$11:$AE$18,5,TRUE))","v":""},null,null,{"$f":"IF(C8=\"\",\"\",SUM(BD8+BE8))","v":""},{"$f":"IF(BD8=\"\",\"\",VLOOKUP(BF8,ตั้งค่า!$AA$11:$AE$18,5,TRUE))","v":""},null,null,{"$f":"IF(C8=\"\",\"\",SUM(BH8+BI8))","v":""},{"$f":"IF(BH8=\"\",\"\",VLOOKUP(BJ8,ตั้งค่า!$AA$11:$AE$18,5,TRUE))","v":""},null,null,{"$f":"IF(C8=\"\",\"\",SUM(BL8+BM8))","v":""},{"$f":"IF(BL8=\"\",\"\",VLOOKUP(BN8,ตั้งค่า!$AA$11:$AE$18,5,TRUE))","v":""},null,null,{"$f":"IF(C8=\"\",\"\",SUM(BP8+BQ8))","v":""},{"$f":"IF(BP8=\"\",\"\",VLOOKUP(BR8,ตั้งค่า!$AA$11:$AE$18,5,TRUE))","v":""},{"$f":"'คุณลักษณะ-อ่านคิดวิเคราะห์'!AM8","v":""},{"$f":"'คุณลักษณะ-อ่านคิดวิเคราะห์'!AO8","v":""},null,{"$f":"EW8","v":""},{"$f":"DJ8","v":""},{"$f":"FB8","v":""},{"$f":"รายชื่อนักเรียน!F6","v":0},{"$f":"IF($F8=\"\",\"\",IF($F8>=80,4,IF($F8>=75,3.5,IF($F8>=70,3,IF($F8>=65,2.5,IF($F8>=60,2,IF($F8>=55,1.5,IF($F8>=50,1,0))))))))","v":""},{"$f":"IF($J8=\"\",\"\",IF($J8>=80,4,IF($J8>=75,3.5,IF($J8>=70,3,IF($J8>=65,2.5,IF($J8>=60,2,IF($J8>=55,1.5,IF($J8>=50,1,0))))))))","v":""},{"$f":"IF($N8=\"\",\"\",IF($N8>=80,4,IF($N8>=75,3.5,IF($N8>=70,3,IF($N8>=65,2.5,IF($N8>=60,2,IF($N8>=55,1.5,IF($N8>=50,1,0))))))))","v":""},{"$f":"IF($R8=\"\",\"\",IF($R8>=80,4,IF($R8>=75,3.5,IF($R8>=70,3,IF($R8>=65,2.5,IF($R8>=60,2,IF($R8>=55,1.5,IF($R8>=50,1,0))))))))","v":""},{"$f":"IF($V8=\"\",\"\",IF($V8>=80,4,IF($V8>=75,3.5,IF($V8>=70,3,IF($V8>=65,2.5,IF($V8>=60,2,IF($V8>=55,1.5,IF($V8>=50,1,0))))))))","v":""},{"$f":"IF($Z8=\"\",\"\",IF($Z8>=80,4,IF($Z8>=75,3.5,IF($Z8>=70,3,IF($Z8>=65,2.5,IF($Z8>=60,2,IF($Z8>=55,1.5,IF($Z8>=50,1,0))))))))","v":""},{"$f":"IF($AD8=\"\",\"\",IF($AD8>=80,4,IF($AD8>=75,3.5,IF($AD8>=70,3,IF($AD8>=65,2.5,IF($AD8>=60,2,IF($AD8>=55,1.5,IF($AD8>=50,1,0))))))))","v":""},{"$f":"IF($AH8=\"\",\"\",IF($AH8>=80,4,IF($AH8>=75,3.5,IF($AH8>=70,3,IF($AH8>=65,2.5,IF($AH8>=60,2,IF($AH8>=55,1.5,IF($AH8>=50,1,0))))))))","v":""},{"$f":"IF($AL8=\"\",\"\",IF($AL8>=80,4,IF($AL8>=75,3.5,IF($AL8>=70,3,IF($AL8>=65,2.5,IF($AL8>=60,2,IF($AL8>=55,1.5,IF($AL8>=50,1,0))))))))","v":""},{"$f":"IF($AP8=\"\",\"\",IF($AP8>=80,4,IF($AP8>=75,3.5,IF($AP8>=70,3,IF($AP8>=65,2.5,IF($AP8>=60,2,IF($AP8>=55,1.5,IF($AP8>=50,1,0))))))))","v":""},{"$f":"IF($AT8=\"\",\"\",IF($AT8>=80,4,IF($AT8>=75,3.5,IF($AT8>=70,3,IF($AT8>=65,2.5,IF($AT8>=60,2,IF($AT8>=55,1.5,IF($AT8>=50,1,0))))))))","v":""},{"$f":"IF($AX8=\"\",\"\",IF($AX8>=80,4,IF($AX8>=75,3.5,IF($AX8>=70,3,IF($AX8>=65,2.5,IF($AX8>=60,2,IF($AX8>=55,1.5,IF($AX8>=50,1,0))))))))","v":""},{"$f":"IF($BB8=\"\",\"\",IF($BB8>=80,4,IF($BB8>=75,3.5,IF($BB8>=70,3,IF($BB8>=65,2.5,IF($BB8>=60,2,IF($BB8>=55,1.5,IF($BB8>=50,1,0))))))))","v":""},{"$f":"IF($BF8=\"\",\"\",IF($BF8>=80,4,IF($BF8>=75,3.5,IF($BF8>=70,3,IF($BF8>=65,2.5,IF($BF8>=60,2,IF($BF8>=55,1.5,IF($BF8>=50,1,0))))))))","v":""},{"$f":"IF($BJ8=\"\",\"\",IF($BJ8>=80,4,IF($BJ8>=75,3.5,IF($BJ8>=70,3,IF($BJ8>=65,2.5,IF($BJ8>=60,2,IF($BJ8>=55,1.5,IF($BJ8>=50,1,0))))))))","v":""},{"$f":"IF($BN8=\"\",\"\",IF($BN8>=80,4,IF($BN8>=75,3.5,IF($BN8>=70,3,IF($BN8>=65,2.5,IF($BN8>=60,2,IF($BN8>=55,1.5,IF($BN8>=50,1,0))))))))","v":""},{"$f":"IF($BR8=\"\",\"\",IF($BR8>=80,4,IF($BR8>=75,3.5,IF($BR8>=70,3,IF($BR8>=65,2.5,IF($BR8>=60,2,IF($BR8>=55,1.5,IF($BR8>=50,1,0))))))))","v":""},{"$f":"IFERROR(CA8*$CR$7,\"\")","v":""},{"$f":"IFERROR(CB8*$CS$7,\"\")","v":""},{"$f":"IFERROR(CC8*$CT$7,\"\")","v":""},{"$f":"IFERROR(CD8*$CU$7,\"\")","v":""},{"$f":"IFERROR(CE8*$CV$7,\"\")","v":""},{"$f":"IFERROR(CF8*$CW$7,\"\")","v":""},{"$f":"IFERROR(CG8*$CX$7,\"\")","v":""},{"$f":"IFERROR(CH8*$CY$7,\"\")","v":""},{"$f":"IFERROR(CI8*$CZ$7,\"\")","v":""},{"$f":"IFERROR(CJ8*$DA$7,\"\")","v":""},{"$f":"IFERROR(CK8*$DB$7,\"\")","v":""},{"$f":"IFERROR(CL8*$DC$7,\"\")","v":""},{"$f":"IFERROR(CM8*$DD$7,\"\")","v":""},{"$f":"IFERROR(CN8*$DE$7,\"\")","v":""},{"$f":"IFERROR(CO8*$DF$7,\"\")","v":""},{"$f":"IFERROR(CP8*$DG$7,\"\")","v":""},{"$f":"IFERROR(CQ8*$DH$7,\"\")","v":""},{"$f":"IF(C8=\"\",\"\",SUM(CR8:DH8)/$DI$7)","v":""},{"$f":"IF(C8=\"\",\"\",SUM(F8,J8,N8,R8,V8,Z8,AD8,AH8,AL8,AP8,AT8,AX8,BB8,BF8,BJ8,BN8,BR8))","v":""},{"$f":"IF($C8=\"\",\"\",RANK($DJ8,$DJ$8:$DJ$52,0))","v":""},{"$f":"IF($D8=\"\",\"\",IF($D8*2>=80,4,IF($D8*2>=75,3.5,IF($D8*2>=70,3,IF($D8*2>=65,2.5,IF($D8*2>=60,2,IF($D8*2>=55,1.5,IF($D8*2>=50,1,0))))))))","v":""},{"$f":"IF($H8=\"\",\"\",IF($H8*2>=80,4,IF($H8*2>=75,3.5,IF($H8*2>=70,3,IF($H8*2>=65,2.5,IF($H8*2>=60,2,IF($H8*2>=55,1.5,IF($H8*2>=50,1,0))))))))","v":""},{"$f":"IF($L8=\"\",\"\",IF($L8*2>=80,4,IF($L8*2>=75,3.5,IF($L8*2>=70,3,IF($L8*2>=65,2.5,IF($L8*2>=60,2,IF($L8*2>=55,1.5,IF($L8*2>=50,1,0))))))))","v":""},{"$f":"IF($P8=\"\",\"\",IF($P8*2>=80,4,IF($P8*2>=75,3.5,IF($P8*2>=70,3,IF($P8*2>=65,2.5,IF($P8*2>=60,2,IF($P8*2>=55,1.5,IF($P8*2>=50,1,0))))))))","v":""},{"$f":"IF($T8=\"\",\"\",IF($T8*2>=80,4,IF($T8*2>=75,3.5,IF($T8*2>=70,3,IF($T8*2>=65,2.5,IF($T8*2>=60,2,IF($T8*2>=55,1.5,IF($T8*2>=50,1,0))))))))","v":""},{"$f":"IF($X8=\"\",\"\",IF($X8*2>=80,4,IF($X8*2>=75,3.5,IF($X8*2>=70,3,IF($X8*2>=65,2.5,IF($X8*2>=60,2,IF($X8*2>=55,1.5,IF($X8*2>=50,1,0))))))))","v":""},{"$f":"IF($AB8=\"\",\"\",IF($AB8*2>=80,4,IF($AB8*2>=75,3.5,IF($AB8*2>=70,3,IF($AB8*2>=65,2.5,IF($AB8*2>=60,2,IF($AB8*2>=55,1.5,IF($AB8*2>=50,1,0))))))))","v":""},{"$f":"IF($AF8=\"\",\"\",IF($AF8*2>=80,4,IF($AF8*2>=75,3.5,IF($AF8*2>=70,3,IF($AF8*2>=65,2.5,IF($AF8*2>=60,2,IF($AF8*2>=55,1.5,IF($AF8*2>=50,1,0))))))))","v":""},{"$f":"IF($AJ8=\"\",\"\",IF($AJ8*2>=80,4,IF($AJ8*2>=75,3.5,IF($AJ8*2>=70,3,IF($AJ8*2>=65,2.5,IF($AJ8*2>=60,2,IF($AJ8*2>=55,1.5,IF($AJ8*2>=50,1,0))))))))","v":""},{"$f":"IF($AN8=\"\",\"\",IF($AN8*2>=80,4,IF($AN8*2>=75,3.5,IF($AN8*2>=70,3,IF($AN8*2>=65,2.5,IF($AN8*2>=60,2,IF($AN8*2>=55,1.5,IF($AN8*2>=50,1,0))))))))","v":""},{"$f":"IF($AR8=\"\",\"\",IF($AR8*2>=80,4,IF($AR8*2>=75,3.5,IF($AR8*2>=70,3,IF($AR8*2>=65,2.5,IF($AR8*2>=60,2,IF($AR8*2>=55,1.5,IF($AR8*2>=50,1,0))))))))","v":""},{"$f":"IF($AV8=\"\",\"\",IF($AV8*2>=80,4,IF($AV8*2>=75,3.5,IF($AV8*2>=70,3,IF($AV8*2>=65,2.5,IF($AV8*2>=60,2,IF($AV8*2>=55,1.5,IF($AV8*2>=50,1,0))))))))","v":""},{"$f":"IF($AZ8=\"\",\"\",IF($AZ8*2>=80,4,IF($AZ8*2>=75,3.5,IF($AZ8*2>=70,3,IF($AZ8*2>=65,2.5,IF($AZ8*2>=60,2,IF($AZ8*2>=55,1.5,IF($AZ8*2>=50,1,0))))))))","v":""},{"$f":"IF($BD8=\"\",\"\",IF($BD8*2>=80,4,IF($BD8*2>=75,3.5,IF($BD8*2>=70,3,IF($BD8*2>=65,2.5,IF($BD8*2>=60,2,IF($BD8*2>=55,1.5,IF($BD8*2>=50,1,0))))))))","v":""},{"$f":"IF($BH8=\"\",\"\",IF($BH8*2>=80,4,IF($BH8*2>=75,3.5,IF($BH8*2>=70,3,IF($BH8*2>=65,2.5,IF($BH8*2>=60,2,IF($BH8*2>=55,1.5,IF($BH8*2>=50,1,0))))))))","v":""},{"$f":"IF($BL8=\"\",\"\",IF($BL8*2>=80,4,IF($BL8*2>=75,3.5,IF($BL8*2>=70,3,IF($BL8*2>=65,2.5,IF($BL8*2>=60,2,IF($BL8*2>=55,1.5,IF($BL8*2>=50,1,0))))))))","v":""},{"$f":"IF($BP8=\"\",\"\",IF($BP8*2>=80,4,IF($BP8*2>=75,3.5,IF($BP8*2>=70,3,IF($BP8*2>=65,2.5,IF($BP8*2>=60,2,IF($BP8*2>=55,1.5,IF($BP8*2>=50,1,0))))))))","v":""},{"$f":"IFERROR(DL8*$EC$7,\"\")","v":""},{"$f":"IFERROR(DM8*$ED$7,\"\")","v":""},{"$f":"IFERROR(DN8*$EE$7,\"\")","v":""},{"$f":"IFERROR(DO8*$EF$7,\"\")","v":""},{"$f":"IFERROR(DP8*$EG$7,\"\")","v":""},{"$f":"IFERROR(DQ8*$EH$7,\"\")","v":""},{"$f":"IFERROR(DR8*$EI$7,\"\")","v":""},{"$f":"IFERROR(DS8*$EJ$7,\"\")","v":""},{"$f":"IFERROR(DT8*$EK$7,\"\")","v":""},{"$f":"IFERROR(DU8*$EL$7,\"\")","v":""},{"$f":"IFERROR(DV8*$EM$7,\"\")","v":""},{"$f":"IFERROR(DW8*$EN$7,\"\")","v":""},{"$f":"IFERROR(DX8*$EO$7,\"\")","v":""},{"$f":"IFERROR(DY8*$EP$7,\"\")","v":""},{"$f":"IFERROR(DZ8*$EQ$7,\"\")","v":""},{"$f":"IFERROR(EA8*$ER$7,\"\")","v":""},{"$f":"IFERROR(EB8*$ES$7,\"\")","v":""},{"$f":"IF(C8=\"\",\"\",SUM(EC8:ES8)/$ET$7)","v":""},{"$f":"IF(C8=\"\",\"\",SUM(D8,H8,L8,P8,T8,X8,AB8,AF8,AJ8,AN8,AR8,AV8,AZ8,BD8,BH8,BL8,BP8))","v":""},{"$f":"IF($C8=\"\",\"\",RANK($EU8,$EU$8:$EU$52,0))","v":""},{"$f":"IF(C8=\"\",\"\",ROUNDDOWN(DI8,2))","v":""},{"$f":"IF(C8=\"\",\"\",DJ8)","v":""},{"$f":"IF(C8=\"\",\"\",EW8*100)","v":""},{"$f":"IF(C8=\"\",\"\",TEXT(EX8,\"0000\"))","v":""},{"$f":"IF(C8=\"\",\"\",(EY8&EZ8)*1)","v":""},{"$f":"IF(C8=\"\",\"\",RANK(FA8,$FA$8:$FA$52))","v":""},{"$f":"IF(C8=\"\",\"\",ROUNDDOWN(ET8,2))","v":""},{"$f":"IF(C8=\"\",\"\",EU8)","v":""},{"$f":"IF(C8=\"\",\"\",FC8*100)","v":""},{"$f":"IF(C8=\"\",\"\",TEXT(FD8,\"0000\"))","v":""},{"$f":"IF(C8=\"\",\"\",(FE8&FF8)*1)","v":""},{"$f":"IF(C8=\"\",\"\",RANK(FG8,$FG$8:$FG$52))","v":""},{"$f":"TEXT(A8,\"00\")","v":"00"},null,{"$f":"รายชื่อนักเรียน!B6","v":0},{"$f":"B8","v":0},{"$f":"C8","v":""},{"$f":"G8","v":""},{"$f":"K8","v":""},{"$f":"O8","v":""},{"$f":"S8","v":""},{"$f":"W8","v":""},{"$f":"AA8","v":""},{"$f":"AE8","v":""},{"$f":"AI8","v":""},{"$f":"AM8","v":""},{"$f":"AQ8","v":""},{"$f":"AU8","v":""},{"$f":"AY8","v":""},{"$f":"BC8","v":""},{"$f":"BG8","v":""},{"$f":"BK8","v":""},{"$f":"BO8","v":""},{"$f":"BS8","v":""},{"$f":"BT8","v":""},{"$f":"BU8","v":""},{"$f":"IF(BV8=\"\",\"\",(IF(BV8=\"ผ่าน\",\"ผ\",\"มผ\")))","v":""},{"$f":"BZ8","v":0}]
[{"$f":"รายชื่อนักเรียน!B7","v":0},{"$f":"รายชื่อนักเรียน!C7","v":0},{"$f":"IF(รายชื่อนักเรียน!E7=\"\",\"\",รายชื่อนักเรียน!E7)","v":""},null,null,{"$f":"IF(C9=\"\",\"\",SUM(D9:E9))","v":""},{"$f":"IF(D9=\"\",\"\",VLOOKUP(F9,ตั้งค่า!$AA$11:$AE$18,5,TRUE))","v":""},null,null,{"$f":"IF(C9=\"\",\"\",SUM(H9:I9))","v":""},{"$f":"IF(H9=\"\",\"\",VLOOKUP(J9,ตั้งค่า!$AA$11:$AE$18,5,TRUE))","v":""},null,null,"",{"$f":"IF(L9=\"\",\"\",VLOOKUP(N9,ตั้งค่า!$AA$11:$AE$18,5,TRUE))","v":""},null,null,"",{"$f":"IF(P9=\"\",\"\",VLOOKUP(R9,ตั้งค่า!$AA$11:$AE$18,5,TRUE))","v":""},null,null,"",{"$f":"IF(T9=\"\",\"\",VLOOKUP(V9,ตั้งค่า!$AA$11:$AE$18,5,TRUE))","v":""},null,null,"",{"$f":"IF(X9=\"\",\"\",VLOOKUP(Z9,ตั้งค่า!$AA$11:$AE$18,5,TRUE))","v":""},null,null,"",{"$f":"IF(AB9=\"\",\"\",VLOOKUP(AD9,ตั้งค่า!$AA$11:$AE$18,5,TRUE))","v":""},null,null,"",{"$f":"IF(AF9=\"\",\"\",VLOOKUP(AH9,ตั้งค่า!$AA$11:$AE$18,5,TRUE))","v":""},null,null,"",{"$f":"IF(AJ9=\"\",\"\",VLOOKUP(AL9,ตั้งค่า!$AA$11:$AE$18,5,TRUE))","v":""},null,null,"",{"$f":"IF(AN9=\"\",\"\",VLOOKUP(AP9,ตั้งค่า!$AA$11:$AE$18,5,TRUE))","v":""},null,null,{"$f":"IF(C9=\"\",\"\",SUM(AR9+AS9))","v":""},{"$f":"IF(AR9=\"\",\"\",VLOOKUP(AT9,ตั้งค่า!$AA$11:$AE$18,5,TRUE))","v":""},null,null,{"$f":"IF(C9=\"\",\"\",SUM(AV9+AW9))","v":""},{"$f":"IF(AV9=\"\",\"\",VLOOKUP(AX9,ตั้งค่า!$AA$11:$AE$18,5,TRUE))","v":""},null,null,"",{"$f":"IF(AZ9=\"\",\"\",VLOOKUP(BB9,ตั้งค่า!$AA$11:$AE$18,5,TRUE))","v":""},null,null,"",{"$f":"IF(BD9=\"\",\"\",VLOOKUP(BF9,ตั้งค่า!$AA$11:$AE$18,5,TRUE))","v":""},null,null,"",{"$f":"IF(BH9=\"\",\"\",VLOOKUP(BJ9,ตั้งค่า!$AA$11:$AE$18,5,TRUE))","v":""},null,null,"",{"$f":"IF(BL9=\"\",\"\",VLOOKUP(BN9,ตั้งค่า!$AA$11:$AE$18,5,TRUE))","v":""},null,null,{"$f":"IF(C9=\"\",\"\",SUM(BP9+BQ9))","v":""},{"$f":"IF(BP9=\"\",\"\",VLOOKUP(BR9,ตั้งค่า!$AA$11:$AE$18,5,TRUE))","v":""},{"$f":"'คุณลักษณะ-อ่านคิดวิเคราะห์'!AM9","v":""},{"$f":"'คุณลักษณะ-อ่านคิดวิเคราะห์'!AO9","v":""},null,{"$f":"EW9","v":""},{"$f":"DJ9","v":""},{"$f":"FB9","v":""},{"$f":"รายชื่อนักเรียน!F7","v":0},{"$f":"IF($F9=\"\",\"\",IF($F9>=80,4,IF($F9>=75,3.5,IF($F9>=70,3,IF($F9>=65,2.5,IF($F9>=60,2,IF($F9>=55,1.5,IF($F9>=50,1,0))))))))","v":""},{"$f":"IF($J9=\"\",\"\",IF($J9>=80,4,IF($J9>=75,3.5,IF($J9>=70,3,IF($J9>=65,2.5,IF($J9>=60,2,IF($J9>=55,1.5,IF($J9>=50,1,0))))))))","v":""},{"$f":"IF($N9=\"\",\"\",IF($N9>=80,4,IF($N9>=75,3.5,IF($N9>=70,3,IF($N9>=65,2.5,IF($N9>=60,2,IF($N9>=55,1.5,IF($N9>=50,1,0))))))))","v":""},{"$f":"IF($R9=\"\",\"\",IF($R9>=80,4,IF($R9>=75,3.5,IF($R9>=70,3,IF($R9>=65,2.5,IF($R9>=60,2,IF($R9>=55,1.5,IF($R9>=50,1,0))))))))","v":""},{"$f":"IF($V9=\"\",\"\",IF($V9>=80,4,IF($V9>=75,3.5,IF($V9>=70,3,IF($V9>=65,2.5,IF($V9>=60,2,IF($V9>=55,1.5,IF($V9>=50,1,0))))))))","v":""},{"$f":"IF($Z9=\"\",\"\",IF($Z9>=80,4,IF($Z9>=75,3.5,IF($Z9>=70,3,IF($Z9>=65,2.5,IF($Z9>=60,2,IF($Z9>=55,1.5,IF($Z9>=50,1,0))))))))","v":""},{"$f":"IF($AD9=\"\",\"\",IF($AD9>=80,4,IF($AD9>=75,3.5,IF($AD9>=70,3,IF($AD9>=65,2.5,IF($AD9>=60,2,IF($AD9>=55,1.5,IF($AD9>=50,1,0))))))))","v":""},{"$f":"IF($AH9=\"\",\"\",IF($AH9>=80,4,IF($AH9>=75,3.5,IF($AH9>=70,3,IF($AH9>=65,2.5,IF($AH9>=60,2,IF($AH9>=55,1.5,IF($AH9>=50,1,0))))))))","v":""},{"$f":"IF($AL9=\"\",\"\",IF($AL9>=80,4,IF($AL9>=75,3.5,IF($AL9>=70,3,IF($AL9>=65,2.5,IF($AL9>=60,2,IF($AL9>=55,1.5,IF($AL9>=50,1,0))))))))","v":""},{"$f":"IF($AP9=\"\",\"\",IF($AP9>=80,4,IF($AP9>=75,3.5,IF($AP9>=70,3,IF($AP9>=65,2.5,IF($AP9>=60,2,IF($AP9>=55,1.5,IF($AP9>=50,1,0))))))))","v":""},{"$f":"IF($AT9=\"\",\"\",IF($AT9>=80,4,IF($AT9>=75,3.5,IF($AT9>=70,3,IF($AT9>=65,2.5,IF($AT9>=60,2,IF($AT9>=55,1.5,IF($AT9>=50,1,0))))))))","v":""},{"$f":"IF($AX9=\"\",\"\",IF($AX9>=80,4,IF($AX9>=75,3.5,IF($AX9>=70,3,IF($AX9>=65,2.5,IF($AX9>=60,2,IF($AX9>=55,1.5,IF($AX9>=50,1,0))))))))","v":""},{"$f":"IF($BB9=\"\",\"\",IF($BB9>=80,4,IF($BB9>=75,3.5,IF($BB9>=70,3,IF($BB9>=65,2.5,IF($BB9>=60,2,IF($BB9>=55,1.5,IF($BB9>=50,1,0))))))))","v":""},{"$f":"IF($BF9=\"\",\"\",IF($BF9>=80,4,IF($BF9>=75,3.5,IF($BF9>=70,3,IF($BF9>=65,2.5,IF($BF9>=60,2,IF($BF9>=55,1.5,IF($BF9>=50,1,0))))))))","v":""},{"$f":"IF($BJ9=\"\",\"\",IF($BJ9>=80,4,IF($BJ9>=75,3.5,IF($BJ9>=70,3,IF($BJ9>=65,2.5,IF($BJ9>=60,2,IF($BJ9>=55,1.5,IF($BJ9>=50,1,0))))))))","v":""},{"$f":"IF($BN9=\"\",\"\",IF($BN9>=80,4,IF($BN9>=75,3.5,IF($BN9>=70,3,IF($BN9>=65,2.5,IF($BN9>=60,2,IF($BN9>=55,1.5,IF($BN9>=50,1,0))))))))","v":""},{"$f":"IF($BR9=\"\",\"\",IF($BR9>=80,4,IF($BR9>=75,3.5,IF($BR9>=70,3,IF($BR9>=65,2.5,IF($BR9>=60,2,IF($BR9>=55,1.5,IF($BR9>=50,1,0))))))))","v":""},"","","","","","","","","","","","","","","",{"$f":"IFERROR(CP9*$DG$7,\"\")","v":""},{"$f":"IFERROR(CQ9*$DH$7,\"\")","v":""},"",{"$f":"IF(C9=\"\",\"\",SUM(F9,J9,N9,R9,V9,Z9,AD9,AH9,AL9,AP9,AT9,AX9,BB9,BF9,BJ9,BN9,BR9))","v":""},"",{"$f":"IF($D9=\"\",\"\",IF($D9*2>=80,4,IF($D9*2>=75,3.5,IF($D9*2>=70,3,IF($D9*2>=65,2.5,IF($D9*2>=60,2,IF($D9*2>=55,1.5,IF($D9*2>=50,1,0))))))))","v":""},{"$f":"IF($H9=\"\",\"\",IF($H9*2>=80,4,IF($H9*2>=75,3.5,IF($H9*2>=70,3,IF($H9*2>=65,2.5,IF($H9*2>=60,2,IF($H9*2>=55,1.5,IF($H9*2>=50,1,0))))))))","v":""},{"$f":"IF($L9=\"\",\"\",IF($L9*2>=80,4,IF($L9*2>=75,3.5,IF($L9*2>=70,3,IF($L9*2>=65,2.5,IF($L9*2>=60,2,IF($L9*2>=55,1.5,IF($L9*2>=50,1,0))))))))","v":""},{"$f":"IF($P9=\"\",\"\",IF($P9*2>=80,4,IF($P9*2>=75,3.5,IF($P9*2>=70,3,IF($P9*2>=65,2.5,IF($P9*2>=60,2,IF($P9*2>=55,1.5,IF($P9*2>=50,1,0))))))))","v":""},{"$f":"IF($T9=\"\",\"\",IF($T9*2>=80,4,IF($T9*2>=75,3.5,IF($T9*2>=70,3,IF($T9*2>=65,2.5,IF($T9*2>=60,2,IF($T9*2>=55,1.5,IF($T9*2>=50,1,0))))))))","v":""},{"$f":"IF($X9=\"\",\"\",IF($X9*2>=80,4,IF($X9*2>=75,3.5,IF($X9*2>=70,3,IF($X9*2>=65,2.5,IF($X9*2>=60,2,IF($X9*2>=55,1.5,IF($X9*2>=50,1,0))))))))","v":""},{"$f":"IF($AB9=\"\",\"\",IF($AB9*2>=80,4,IF($AB9*2>=75,3.5,IF($AB9*2>=70,3,IF($AB9*2>=65,2.5,IF($AB9*2>=60,2,IF($AB9*2>=55,1.5,IF($AB9*2>=50,1,0))))))))","v":""},{"$f":"IF($AF9=\"\",\"\",IF($AF9*2>=80,4,IF($AF9*2>=75,3.5,IF($AF9*2>=70,3,IF($AF9*2>=65,2.5,IF($AF9*2>=60,2,IF($AF9*2>=55,1.5,IF($AF9*2>=50,1,0))))))))","v":""},{"$f":"IF($AJ9=\"\",\"\",IF($AJ9*2>=80,4,IF($AJ9*2>=75,3.5,IF($AJ9*2>=70,3,IF($AJ9*2>=65,2.5,IF($AJ9*2>=60,2,IF($AJ9*2>=55,1.5,IF($AJ9*2>=50,1,0))))))))","v":""},{"$f":"IF($AN9=\"\",\"\",IF($AN9*2>=80,4,IF($AN9*2>=75,3.5,IF($AN9*2>=70,3,IF($AN9*2>=65,2.5,IF($AN9*2>=60,2,IF($AN9*2>=55,1.5,IF($AN9*2>=50,1,0))))))))","v":""},{"$f":"IF($AR9=\"\",\"\",IF($AR9*2>=80,4,IF($AR9*2>=75,3.5,IF($AR9*2>=70,3,IF($AR9*2>=65,2.5,IF($AR9*2>=60,2,IF($AR9*2>=55,1.5,IF($AR9*2>=50,1,0))))))))","v":""},{"$f":"IF($AV9=\"\",\"\",IF($AV9*2>=80,4,IF($AV9*2>=75,3.5,IF($AV9*2>=70,3,IF($AV9*2>=65,2.5,IF($AV9*2>=60,2,IF($AV9*2>=55,1.5,IF($AV9*2>=50,1,0))))))))","v":""},{"$f":"IF($AZ9=\"\",\"\",IF($AZ9*2>=80,4,IF($AZ9*2>=75,3.5,IF($AZ9*2>=70,3,IF($AZ9*2>=65,2.5,IF($AZ9*2>=60,2,IF($AZ9*2>=55,1.5,IF($AZ9*2>=50,1,0))))))))","v":""},{"$f":"IF($BD9=\"\",\"\",IF($BD9*2>=80,4,IF($BD9*2>=75,3.5,IF($BD9*2>=70,3,IF($BD9*2>=65,2.5,IF($BD9*2>=60,2,IF($BD9*2>=55,1.5,IF($BD9*2>=50,1,0))))))))","v":""},{"$f":"IF($BH9=\"\",\"\",IF($BH9*2>=80,4,IF($BH9*2>=75,3.5,IF($BH9*2>=70,3,IF($BH9*2>=65,2.5,IF($BH9*2>=60,2,IF($BH9*2>=55,1.5,IF($BH9*2>=50,1,0))))))))","v":""},{"$f":"IF($BL9=\"\",\"\",IF($BL9*2>=80,4,IF($BL9*2>=75,3.5,IF($BL9*2>=70,3,IF($BL9*2>=65,2.5,IF($BL9*2>=60,2,IF($BL9*2>=55,1.5,IF($BL9*2>=50,1,0))))))))","v":""},{"$f":"IF($BP9=\"\",\"\",IF($BP9*2>=80,4,IF($BP9*2>=75,3.5,IF($BP9*2>=70,3,IF($BP9*2>=65,2.5,IF($BP9*2>=60,2,IF($BP9*2>=55,1.5,IF($BP9*2>=50,1,0))))))))","v":""},{"$f":"IFERROR(DL9*$EC$7,\"\")","v":""},{"$f":"IFERROR(DM9*$ED$7,\"\")","v":""},{"$f":"IFERROR(DN9*$EE$7,\"\")","v":""},{"$f":"IFERROR(DO9*$EF$7,\"\")","v":""},{"$f":"IFERROR(DP9*$EG$7,\"\")","v":""},{"$f":"IFERROR(DQ9*$EH$7,\"\")","v":""},{"$f":"IFERROR(DR9*$EI$7,\"\")","v":""},{"$f":"IFERROR(DS9*$EJ$7,\"\")","v":""},{"$f":"IFERROR(DT9*$EK$7,\"\")","v":""},{"$f":"IFERROR(DU9*$EL$7,\"\")","v":""},{"$f":"IFERROR(DV9*$EM$7,\"\")","v":""},{"$f":"IFERROR(DW9*$EN$7,\"\")","v":""},{"$f":"IFERROR(DX9*$EO$7,\"\")","v":""},{"$f":"IFERROR(DY9*$EP$7,\"\")","v":""},{"$f":"IFERROR(DZ9*$EQ$7,\"\")","v":""},{"$f":"IFERROR(EA9*$ER$7,\"\")","v":""},{"$f":"IFERROR(EB9*$ES$7,\"\")","v":""},"",{"$f":"IF(C9=\"\",\"\",SUM(D9,H9,L9,P9,T9,X9,AB9,AF9,AJ9,AN9,AR9,AV9,AZ9,BD9,BH9,BL9,BP9))","v":""},"","","","","","","","","","","","","","00",null,{"$f":"รายชื่อนักเรียน!B7","v":0},0,"","","","","","","","","","","","","","","","",{"$f":"BO9","v":""},"","","","",0]
[{"$f":"รายชื่อนักเรียน!B8","v":0},{"$f":"รายชื่อนักเรียน!C8","v":0},{"$f":"IF(รายชื่อนักเรียน!E8=\"\",\"\",รายชื่อนักเรียน!E8)","v":""},null,null,"",{"$f":"IF(D10=\"\",\"\",VLOOKUP(F10,ตั้งค่า!$AA$11:$AE$18,5,TRUE))","v":""},null,null,"",{"$f":"IF(H10=\"\",\"\",VLOOKUP(J10,ตั้งค่า!$AA$11:$AE$18,5,TRUE))","v":""},null,null,"",{"$f":"IF(L10=\"\",\"\",VLOOKUP(N10,ตั้งค่า!$AA$11:$AE$18,5,TRUE))","v":""},null,null,"",{"$f":"IF(P10=\"\",\"\",VLOOKUP(R10,ตั้งค่า!$AA$11:$AE$18,5,TRUE))","v":""},null,null,"",{"$f":"IF(T10=\"\",\"\",VLOOKUP(V10,ตั้งค่า!$AA$11:$AE$18,5,TRUE))","v":""},null,null,"",{"$f":"IF(X10=\"\",\"\",VLOOKUP(Z10,ตั้งค่า!$AA$11:$AE$18,5,TRUE))","v":""},null,null,"",{"$f":"IF(AB10=\"\",\"\",VLOOKUP(AD10,ตั้งค่า!$AA$11:$AE$18,5,TRUE))","v":""},null,null,"",{"$f":"IF(AF10=\"\",\"\",VLOOKUP(AH10,ตั้งค่า!$AA$11:$AE$18,5,TRUE))","v":""},null,null,"",{"$f":"IF(AJ10=\"\",\"\",VLOOKUP(AL10,ตั้งค่า!$AA$11:$AE$18,5,TRUE))","v":""},null,null,"",{"$f":"IF(AN10=\"\",\"\",VLOOKUP(AP10,ตั้งค่า!$AA$11:$AE$18,5,TRUE))","v":""},null,null,"",{"$f":"IF(AR10=\"\",\"\",VLOOKUP(AT10,ตั้งค่า!$AA$11:$AE$18,5,TRUE))","v":""},null,null,"",{"$f":"IF(AV10=\"\",\"\",VLOOKUP(AX10,ตั้งค่า!$AA$11:$AE$18,5,TRUE))","v":""},null,null,"",{"$f":"IF(AZ10=\"\",\"\",VLOOKUP(BB10,ตั้งค่า!$AA$11:$AE$18,5,TRUE))","v":""},null,null,"",{"$f":"IF(BD10=\"\",\"\",VLOOKUP(BF10,ตั้งค่า!$AA$11:$AE$18,5,TRUE))","v":""},null,null,"",{"$f":"IF(BH10=\"\",\"\",VLOOKUP(BJ10,ตั้งค่า!$AA$11:$AE$18,5,TRUE))","v":""},null,null,"",{"$f":"IF(BL10=\"\",\"\",VLOOKUP(BN10,ตั้งค่า!$AA$11:$AE$18,5,TRUE))","v":""},null,null,"",{"$f":"IF(BP10=\"\",\"\",VLOOKUP(BR10,ตั้งค่า!$AA$11:$AE$18,5,TRUE))","v":""},{"$f":"'คุณลักษณะ-อ่านคิดวิเคราะห์'!AM10","v":""},{"$f":"'คุณลักษณะ-อ่านคิดวิเคราะห์'!AO10","v":""},null,"","","",{"$f":"รายชื่อนักเรียน!F8","v":0},"",{"$f":"IF($J10=\"\",\"\",IF($J10>=80,4,IF($J10>=75,3.5,IF($J10>=70,3,IF($J10>=65,2.5,IF($J10>=60,2,IF($J10>=55,1.5,IF($J10>=50,1,0))))))))","v":""},"","","","","","","","","","","","","","","","","","","","","","","","","","","","","","","","","","","","","","","","","","","","","","","","","","","","","","","","","","","","","",{"$f":"IFERROR(DU10*$EL$7,\"\")","v":""},"","","","","","","","","","","","","","","","","","","","","","","00",null,{"$f":"รายชื่อนักเรียน!B8","v":0},0,"","","","","","","","","","","","","","","","",{"$f":"BO10","v":""},"","","","",0]
[{"$f":"รายชื่อนักเรียน!B9","v":0},{"$f":"รายชื่อนักเรียน!C9","v":0},{"$f":"IF(รายชื่อนักเรียน!E9=\"\",\"\",รายชื่อนักเรียน!E9)","v":""},null,null,"",{"$f":"IF(D11=\"\",\"\",VLOOKUP(F11,ตั้งค่า!$AA$11:$AE$18,5,TRUE))","v":""},null,null,"",{"$f":"IF(H11=\"\",\"\",VLOOKUP(J11,ตั้งค่า!$AA$11:$AE$18,5,TRUE))","v":""},null,null,"",{"$f":"IF(L11=\"\",\"\",VLOOKUP(N11,ตั้งค่า!$AA$11:$AE$18,5,TRUE))","v":""},null,null,"",{"$f":"IF(P11=\"\",\"\",VLOOKUP(R11,ตั้งค่า!$AA$11:$AE$18,5,TRUE))","v":""},null,null,"",{"$f":"IF(T11=\"\",\"\",VLOOKUP(V11,ตั้งค่า!$AA$11:$AE$18,5,TRUE))","v":""},null,null,"",{"$f":"IF(X11=\"\",\"\",VLOOKUP(Z11,ตั้งค่า!$AA$11:$AE$18,5,TRUE))","v":""},null,null,"",{"$f":"IF(AB11=\"\",\"\",VLOOKUP(AD11,ตั้งค่า!$AA$11:$AE$18,5,TRUE))","v":""},null,null,"",{"$f":"IF(AF11=\"\",\"\",VLOOKUP(AH11,ตั้งค่า!$AA$11:$AE$18,5,TRUE))","v":""},null,null,"",{"$f":"IF(AJ11=\"\",\"\",VLOOKUP(AL11,ตั้งค่า!$AA$11:$AE$18,5,TRUE))","v":""},null,null,"",{"$f":"IF(AN11=\"\",\"\",VLOOKUP(AP11,ตั้งค่า!$AA$11:$AE$18,5,TRUE))","v":""},null,null,"",{"$f":"IF(AR11=\"\",\"\",VLOOKUP(AT11,ตั้งค่า!$AA$11:$AE$18,5,TRUE))","v":""},null,null,"",{"$f":"IF(AV11=\"\",\"\",VLOOKUP(AX11,ตั้งค่า!$AA$11:$AE$18,5,TRUE))","v":""},null,null,"",{"$f":"IF(AZ11=\"\",\"\",VLOOKUP(BB11,ตั้งค่า!$AA$11:$AE$18,5,TRUE))","v":""},null,null,"",{"$f":"IF(BD11=\"\",\"\",VLOOKUP(BF11,ตั้งค่า!$AA$11:$AE$18,5,TRUE))","v":""},null,null,"",{"$f":"IF(BH11=\"\",\"\",VLOOKUP(BJ11,ตั้งค่า!$AA$11:$AE$18,5,TRUE))","v":""},null,null,"",{"$f":"IF(BL11=\"\",\"\",VLOOKUP(BN11,ตั้งค่า!$AA$11:$AE$18,5,TRUE))","v":""},null,null,"",{"$f":"IF(BP11=\"\",\"\",VLOOKUP(BR11,ตั้งค่า!$AA$11:$AE$18,5,TRUE))","v":""},{"$f":"'คุณลักษณะ-อ่านคิดวิเคราะห์'!AM11","v":""},{"$f":"'คุณลักษณะ-อ่านคิดวิเคราะห์'!AO11","v":""},null,"","","",{"$f":"รายชื่อนักเรียน!F9","v":0},{"$f":"IF($F11=\"\",\"\",IF($F11>=80,4,IF($F11>=75,3.5,IF($F11>=70,3,IF($F11>=65,2.5,IF($F11>=60,2,IF($F11>=55,1.5,IF($F11>=50,1,0))))))))","v":""},"","","","","","","","","","","","","","","","","","","","","","","","","","","","","","","","","","","","","","","","","","","","","","","","","","","","","","","","","","","","","","","","","","","","","","","","","","","","","","","","","","","","","","00",null,{"$f":"รายชื่อนักเรียน!B9","v":0},0,"","","","","","","","","","","","","","","","","","","","","",0]
[{"$f":"รายชื่อนักเรียน!B10","v":0},{"$f":"รายชื่อนักเรียน!C10","v":0},{"$f":"IF(รายชื่อนักเรียน!E10=\"\",\"\",รายชื่อนักเรียน!E10)","v":""},null,null,"",{"$f":"IF(D12=\"\",\"\",VLOOKUP(F12,ตั้งค่า!$AA$11:$AE$18,5,TRUE))","v":""},null,null,"",{"$f":"IF(H12=\"\",\"\",VLOOKUP(J12,ตั้งค่า!$AA$11:$AE$18,5,TRUE))","v":""},null,null,"",{"$f":"IF(L12=\"\",\"\",VLOOKUP(N12,ตั้งค่า!$AA$11:$AE$18,5,TRUE))","v":""},null,null,"",{"$f":"IF(P12=\"\",\"\",VLOOKUP(R12,ตั้งค่า!$AA$11:$AE$18,5,TRUE))","v":""},null,null,"",{"$f":"IF(T12=\"\",\"\",VLOOKUP(V12,ตั้งค่า!$AA$11:$AE$18,5,TRUE))","v":""},null,null,"",{"$f":"IF(X12=\"\",\"\",VLOOKUP(Z12,ตั้งค่า!$AA$11:$AE$18,5,TRUE))","v":""},null,null,"",{"$f":"IF(AB12=\"\",\"\",VLOOKUP(AD12,ตั้งค่า!$AA$11:$AE$18,5,TRUE))","v":""},null,null,"",{"$f":"IF(AF12=\"\",\"\",VLOOKUP(AH12,ตั้งค่า!$AA$11:$AE$18,5,TRUE))","v":""},null,null,"",{"$f":"IF(AJ12=\"\",\"\",VLOOKUP(AL12,ตั้งค่า!$AA$11:$AE$18,5,TRUE))","v":""},null,null,"",{"$f":"IF(AN12=\"\",\"\",VLOOKUP(AP12,ตั้งค่า!$AA$11:$AE$18,5,TRUE))","v":""},null,null,"",{"$f":"IF(AR12=\"\",\"\",VLOOKUP(AT12,ตั้งค่า!$AA$11:$AE$18,5,TRUE))","v":""},null,null,"",{"$f":"IF(AV12=\"\",\"\",VLOOKUP(AX12,ตั้งค่า!$AA$11:$AE$18,5,TRUE))","v":""},null,null,"",{"$f":"IF(AZ12=\"\",\"\",VLOOKUP(BB12,ตั้งค่า!$AA$11:$AE$18,5,TRUE))","v":""},null,null,"",{"$f":"IF(BD12=\"\",\"\",VLOOKUP(BF12,ตั้งค่า!$AA$11:$AE$18,5,TRUE))","v":""},null,null,"",{"$f":"IF(BH12=\"\",\"\",VLOOKUP(BJ12,ตั้งค่า!$AA$11:$AE$18,5,TRUE))","v":""},null,null,"",{"$f":"IF(BL12=\"\",\"\",VLOOKUP(BN12,ตั้งค่า!$AA$11:$AE$18,5,TRUE))","v":""},null,null,"",{"$f":"IF(BP12=\"\",\"\",VLOOKUP(BR12,ตั้งค่า!$AA$11:$AE$18,5,TRUE))","v":""},{"$f":"'คุณลักษณะ-อ่านคิดวิเคราะห์'!AM12","v":""},{"$f":"'คุณลักษณะ-อ่านคิดวิเคราะห์'!AO12","v":""},null,"","","",{"$f":"รายชื่อนักเรียน!F10","v":0},"","","","","","","","","","","","","","","","","","","","","","","","","","","","","","","","","","","","","","","","","","","","","","","","","","","","","","","","","","","","","","","","","","","","","","","","","","","","","","","","","","","","","","","00",null,{"$f":"รายชื่อนักเรียน!B10","v":0},0,"","","","","","","","","","","","","","","","","","","","","",0]
[{"$f":"รายชื่อนักเรียน!B11","v":0},{"$f":"รายชื่อนักเรียน!C11","v":0},{"$f":"IF(รายชื่อนักเรียน!E11=\"\",\"\",รายชื่อนักเรียน!E11)","v":""},null,null,"",{"$f":"IF(D13=\"\",\"\",VLOOKUP(F13,ตั้งค่า!$AA$11:$AE$18,5,TRUE))","v":""},null,null,"",{"$f":"IF(H13=\"\",\"\",VLOOKUP(J13,ตั้งค่า!$AA$11:$AE$18,5,TRUE))","v":""},null,null,"",{"$f":"IF(L13=\"\",\"\",VLOOKUP(N13,ตั้งค่า!$AA$11:$AE$18,5,TRUE))","v":""},null,null,"",{"$f":"IF(P13=\"\",\"\",VLOOKUP(R13,ตั้งค่า!$AA$11:$AE$18,5,TRUE))","v":""},null,null,"",{"$f":"IF(T13=\"\",\"\",VLOOKUP(V13,ตั้งค่า!$AA$11:$AE$18,5,TRUE))","v":""},null,null,"",{"$f":"IF(X13=\"\",\"\",VLOOKUP(Z13,ตั้งค่า!$AA$11:$AE$18,5,TRUE))","v":""},null,null,"",{"$f":"IF(AB13=\"\",\"\",VLOOKUP(AD13,ตั้งค่า!$AA$11:$AE$18,5,TRUE))","v":""},null,null,"",{"$f":"IF(AF13=\"\",\"\",VLOOKUP(AH13,ตั้งค่า!$AA$11:$AE$18,5,TRUE))","v":""},null,null,"",{"$f":"IF(AJ13=\"\",\"\",VLOOKUP(AL13,ตั้งค่า!$AA$11:$AE$18,5,TRUE))","v":""},null,null,"",{"$f":"IF(AN13=\"\",\"\",VLOOKUP(AP13,ตั้งค่า!$AA$11:$AE$18,5,TRUE))","v":""},null,null,"",{"$f":"IF(AR13=\"\",\"\",VLOOKUP(AT13,ตั้งค่า!$AA$11:$AE$18,5,TRUE))","v":""},null,null,"",{"$f":"IF(AV13=\"\",\"\",VLOOKUP(AX13,ตั้งค่า!$AA$11:$AE$18,5,TRUE))","v":""},null,null,"",{"$f":"IF(AZ13=\"\",\"\",VLOOKUP(BB13,ตั้งค่า!$AA$11:$AE$18,5,TRUE))","v":""},null,null,"",{"$f":"IF(BD13=\"\",\"\",VLOOKUP(BF13,ตั้งค่า!$AA$11:$AE$18,5,TRUE))","v":""},null,null,"",{"$f":"IF(BH13=\"\",\"\",VLOOKUP(BJ13,ตั้งค่า!$AA$11:$AE$18,5,TRUE))","v":""},null,null,"",{"$f":"IF(BL13=\"\",\"\",VLOOKUP(BN13,ตั้งค่า!$AA$11:$AE$18,5,TRUE))","v":""},null,null,"",{"$f":"IF(BP13=\"\",\"\",VLOOKUP(BR13,ตั้งค่า!$AA$11:$AE$18,5,TRUE))","v":""},{"$f":"'คุณลักษณะ-อ่านคิดวิเคราะห์'!AM13","v":""},{"$f":"'คุณลักษณะ-อ่านคิดวิเคราะห์'!AO13","v":""},null,"","","",{"$f":"รายชื่อนักเรียน!F11","v":0},"","","","","","","","","","","","","","","","","","","","","","","","","","","","","","","","","","","","","","","","","","","","","","","","","","","","","","","","","","","","","","","","","","","","","","","","","","","","","","","","","","","","","","","00",null,{"$f":"รายชื่อนักเรียน!B11","v":0},0,"","","","","","","","","","","","","","","","","","","","","",0]
[{"$f":"รายชื่อนักเรียน!B12","v":0},{"$f":"รายชื่อนักเรียน!C12","v":0},{"$f":"IF(รายชื่อนักเรียน!E12=\"\",\"\",รายชื่อนักเรียน!E12)","v":""},null,null,"",{"$f":"IF(D14=\"\",\"\",VLOOKUP(F14,ตั้งค่า!$AA$11:$AE$18,5,TRUE))","v":""},null,null,"",{"$f":"IF(H14=\"\",\"\",VLOOKUP(J14,ตั้งค่า!$AA$11:$AE$18,5,TRUE))","v":""},null,null,"",{"$f":"IF(L14=\"\",\"\",VLOOKUP(N14,ตั้งค่า!$AA$11:$AE$18,5,TRUE))","v":""},null,null,"",{"$f":"IF(P14=\"\",\"\",VLOOKUP(R14,ตั้งค่า!$AA$11:$AE$18,5,TRUE))","v":""},null,null,"",{"$f":"IF(T14=\"\",\"\",VLOOKUP(V14,ตั้งค่า!$AA$11:$AE$18,5,TRUE))","v":""},null,null,"",{"$f":"IF(X14=\"\",\"\",VLOOKUP(Z14,ตั้งค่า!$AA$11:$AE$18,5,TRUE))","v":""},null,null,"",{"$f":"IF(AB14=\"\",\"\",VLOOKUP(AD14,ตั้งค่า!$AA$11:$AE$18,5,TRUE))","v":""},null,null,"",{"$f":"IF(AF14=\"\",\"\",VLOOKUP(AH14,ตั้งค่า!$AA$11:$AE$18,5,TRUE))","v":""},null,null,"",{"$f":"IF(AJ14=\"\",\"\",VLOOKUP(AL14,ตั้งค่า!$AA$11:$AE$18,5,TRUE))","v":""},null,null,"",{"$f":"IF(AN14=\"\",\"\",VLOOKUP(AP14,ตั้งค่า!$AA$11:$AE$18,5,TRUE))","v":""},null,null,"",{"$f":"IF(AR14=\"\",\"\",VLOOKUP(AT14,ตั้งค่า!$AA$11:$AE$18,5,TRUE))","v":""},null,null,"",{"$f":"IF(AV14=\"\",\"\",VLOOKUP(AX14,ตั้งค่า!$AA$11:$AE$18,5,TRUE))","v":""},null,null,"",{"$f":"IF(AZ14=\"\",\"\",VLOOKUP(BB14,ตั้งค่า!$AA$11:$AE$18,5,TRUE))","v":""},null,null,"",{"$f":"IF(BD14=\"\",\"\",VLOOKUP(BF14,ตั้งค่า!$AA$11:$AE$18,5,TRUE))","v":""},null,null,"",{"$f":"IF(BH14=\"\",\"\",VLOOKUP(BJ14,ตั้งค่า!$AA$11:$AE$18,5,TRUE))","v":""},null,null,"",{"$f":"IF(BL14=\"\",\"\",VLOOKUP(BN14,ตั้งค่า!$AA$11:$AE$18,5,TRUE))","v":""},null,null,"",{"$f":"IF(BP14=\"\",\"\",VLOOKUP(BR14,ตั้งค่า!$AA$11:$AE$18,5,TRUE))","v":""},{"$f":"'คุณลักษณะ-อ่านคิดวิเคราะห์'!AM14","v":""},{"$f":"'คุณลักษณะ-อ่านคิดวิเคราะห์'!AO14","v":""},null,"","","",{"$f":"รายชื่อนักเรียน!F12","v":0},{"$f":"IF($F14=\"\",\"\",IF($F14>=80,4,IF($F14>=75,3.5,IF($F14>=70,3,IF($F14>=65,2.5,IF($F14>=60,2,IF($F14>=55,1.5,IF($F14>=50,1,0))))))))","v":""},"","","","","","","","","","","","","","","","","","","","","","","","","","","","","","","","","","","","","","","","","","","","","","","","","","","","","","","","","","","","","","","","","","","","","","","","","","","","","","","","","","","","","","00",null,{"$f":"รายชื่อนักเรียน!B12","v":0},0,"","","","","","","","","","","","","","","","","","","","","",0]
[{"$f":"รายชื่อนักเรียน!B13","v":0},{"$f":"รายชื่อนักเรียน!C13","v":0},{"$f":"IF(รายชื่อนักเรียน!E13=\"\",\"\",รายชื่อนักเรียน!E13)","v":""},null,null,"",{"$f":"IF(D15=\"\",\"\",VLOOKUP(F15,ตั้งค่า!$AA$11:$AE$18,5,TRUE))","v":""},null,null,"",{"$f":"IF(H15=\"\",\"\",VLOOKUP(J15,ตั้งค่า!$AA$11:$AE$18,5,TRUE))","v":""},null,null,"",{"$f":"IF(L15=\"\",\"\",VLOOKUP(N15,ตั้งค่า!$AA$11:$AE$18,5,TRUE))","v":""},null,null,"",{"$f":"IF(P15=\"\",\"\",VLOOKUP(R15,ตั้งค่า!$AA$11:$AE$18,5,TRUE))","v":""},null,null,"",{"$f":"IF(T15=\"\",\"\",VLOOKUP(V15,ตั้งค่า!$AA$11:$AE$18,5,TRUE))","v":""},null,null,"",{"$f":"IF(X15=\"\",\"\",VLOOKUP(Z15,ตั้งค่า!$AA$11:$AE$18,5,TRUE))","v":""},null,null,"",{"$f":"IF(AB15=\"\",\"\",VLOOKUP(AD15,ตั้งค่า!$AA$11:$AE$18,5,TRUE))","v":""},null,null,"",{"$f":"IF(AF15=\"\",\"\",VLOOKUP(AH15,ตั้งค่า!$AA$11:$AE$18,5,TRUE))","v":""},null,null,"",{"$f":"IF(AJ15=\"\",\"\",VLOOKUP(AL15,ตั้งค่า!$AA$11:$AE$18,5,TRUE))","v":""},null,null,"",{"$f":"IF(AN15=\"\",\"\",VLOOKUP(AP15,ตั้งค่า!$AA$11:$AE$18,5,TRUE))","v":""},null,null,"",{"$f":"IF(AR15=\"\",\"\",VLOOKUP(AT15,ตั้งค่า!$AA$11:$AE$18,5,TRUE))","v":""},null,null,"",{"$f":"IF(AV15=\"\",\"\",VLOOKUP(AX15,ตั้งค่า!$AA$11:$AE$18,5,TRUE))","v":""},null,null,"",{"$f":"IF(AZ15=\"\",\"\",VLOOKUP(BB15,ตั้งค่า!$AA$11:$AE$18,5,TRUE))","v":""},null,null,"",{"$f":"IF(BD15=\"\",\"\",VLOOKUP(BF15,ตั้งค่า!$AA$11:$AE$18,5,TRUE))","v":""},null,null,"",{"$f":"IF(BH15=\"\",\"\",VLOOKUP(BJ15,ตั้งค่า!$AA$11:$AE$18,5,TRUE))","v":""},null,null,"",{"$f":"IF(BL15=\"\",\"\",VLOOKUP(BN15,ตั้งค่า!$AA$11:$AE$18,5,TRUE))","v":""},null,null,"",{"$f":"IF(BP15=\"\",\"\",VLOOKUP(BR15,ตั้งค่า!$AA$11:$AE$18,5,TRUE))","v":""},{"$f":"'คุณลักษณะ-อ่านคิดวิเคราะห์'!AM15","v":""},{"$f":"'คุณลักษณะ-อ่านคิดวิเคราะห์'!AO15","v":""},null,"","","",{"$f":"รายชื่อนักเรียน!F13","v":0},"","","","","","","","","","","","","","","","","","","","","","","","","","","","","","","","","","","","","","","","","","","","","","","","","","","","","","","","","","","","","","","","","","","","","","","","","","","","","","","","","","","","","","","00",null,{"$f":"รายชื่อนักเรียน!B13","v":0},0,"","","","","","","","","","","","","","","","","","","","","",0]
[{"$f":"รายชื่อนักเรียน!B14","v":0},{"$f":"รายชื่อนักเรียน!C14","v":0},{"$f":"IF(รายชื่อนักเรียน!E14=\"\",\"\",รายชื่อนักเรียน!E14)","v":""},null,null,"",{"$f":"IF(D16=\"\",\"\",VLOOKUP(F16,ตั้งค่า!$AA$11:$AE$18,5,TRUE))","v":""},null,null,"",{"$f":"IF(H16=\"\",\"\",VLOOKUP(J16,ตั้งค่า!$AA$11:$AE$18,5,TRUE))","v":""},null,null,"",{"$f":"IF(L16=\"\",\"\",VLOOKUP(N16,ตั้งค่า!$AA$11:$AE$18,5,TRUE))","v":""},null,null,"",{"$f":"IF(P16=\"\",\"\",VLOOKUP(R16,ตั้งค่า!$AA$11:$AE$18,5,TRUE))","v":""},null,null,"",{"$f":"IF(T16=\"\",\"\",VLOOKUP(V16,ตั้งค่า!$AA$11:$AE$18,5,TRUE))","v":""},null,null,"",{"$f":"IF(X16=\"\",\"\",VLOOKUP(Z16,ตั้งค่า!$AA$11:$AE$18,5,TRUE))","v":""},null,null,"",{"$f":"IF(AB16=\"\",\"\",VLOOKUP(AD16,ตั้งค่า!$AA$11:$AE$18,5,TRUE))","v":""},null,null,"",{"$f":"IF(AF16=\"\",\"\",VLOOKUP(AH16,ตั้งค่า!$AA$11:$AE$18,5,TRUE))","v":""},null,null,"",{"$f":"IF(AJ16=\"\",\"\",VLOOKUP(AL16,ตั้งค่า!$AA$11:$AE$18,5,TRUE))","v":""},null,null,"",{"$f":"IF(AN16=\"\",\"\",VLOOKUP(AP16,ตั้งค่า!$AA$11:$AE$18,5,TRUE))","v":""},null,null,"",{"$f":"IF(AR16=\"\",\"\",VLOOKUP(AT16,ตั้งค่า!$AA$11:$AE$18,5,TRUE))","v":""},null,null,"",{"$f":"IF(AV16=\"\",\"\",VLOOKUP(AX16,ตั้งค่า!$AA$11:$AE$18,5,TRUE))","v":""},null,null,"",{"$f":"IF(AZ16=\"\",\"\",VLOOKUP(BB16,ตั้งค่า!$AA$11:$AE$18,5,TRUE))","v":""},null,null,"",{"$f":"IF(BD16=\"\",\"\",VLOOKUP(BF16,ตั้งค่า!$AA$11:$AE$18,5,TRUE))","v":""},null,null,"",{"$f":"IF(BH16=\"\",\"\",VLOOKUP(BJ16,ตั้งค่า!$AA$11:$AE$18,5,TRUE))","v":""},null,null,"",{"$f":"IF(BL16=\"\",\"\",VLOOKUP(BN16,ตั้งค่า!$AA$11:$AE$18,5,TRUE))","v":""},null,null,"",{"$f":"IF(BP16=\"\",\"\",VLOOKUP(BR16,ตั้งค่า!$AA$11:$AE$18,5,TRUE))","v":""},{"$f":"'คุณลักษณะ-อ่านคิดวิเคราะห์'!AM16","v":""},{"$f":"'คุณลักษณะ-อ่านคิดวิเคราะห์'!AO16","v":""},null,"","","",{"$f":"รายชื่อนักเรียน!F14","v":0},"","","","","","","","","","","","","","","","","","","","","","","","","","","","","","","","","","","","","","","","","","","","","","","","","","","","","","","","","","","","","","","","","","","","","","","","","","","","","","","","","","","","","","","00",null,{"$f":"รายชื่อนักเรียน!B14","v":0},0,"","","","","","","","","","","","","","","","","","","","","",0]
[{"$f":"รายชื่อนักเรียน!B15","v":0},{"$f":"รายชื่อนักเรียน!C15","v":0},{"$f":"IF(รายชื่อนักเรียน!E15=\"\",\"\",รายชื่อนักเรียน!E15)","v":""},null,null,"",{"$f":"IF(D17=\"\",\"\",VLOOKUP(F17,ตั้งค่า!$AA$11:$AE$18,5,TRUE))","v":""},null,null,"",{"$f":"IF(H17=\"\",\"\",VLOOKUP(J17,ตั้งค่า!$AA$11:$AE$18,5,TRUE))","v":""},null,null,"",{"$f":"IF(L17=\"\",\"\",VLOOKUP(N17,ตั้งค่า!$AA$11:$AE$18,5,TRUE))","v":""},null,null,"",{"$f":"IF(P17=\"\",\"\",VLOOKUP(R17,ตั้งค่า!$AA$11:$AE$18,5,TRUE))","v":""},null,null,"",{"$f":"IF(T17=\"\",\"\",VLOOKUP(V17,ตั้งค่า!$AA$11:$AE$18,5,TRUE))","v":""},null,null,"",{"$f":"IF(X17=\"\",\"\",VLOOKUP(Z17,ตั้งค่า!$AA$11:$AE$18,5,TRUE))","v":""},null,null,"",{"$f":"IF(AB17=\"\",\"\",VLOOKUP(AD17,ตั้งค่า!$AA$11:$AE$18,5,TRUE))","v":""},null,null,"",{"$f":"IF(AF17=\"\",\"\",VLOOKUP(AH17,ตั้งค่า!$AA$11:$AE$18,5,TRUE))","v":""},null,null,"",{"$f":"IF(AJ17=\"\",\"\",VLOOKUP(AL17,ตั้งค่า!$AA$11:$AE$18,5,TRUE))","v":""},null,null,"",{"$f":"IF(AN17=\"\",\"\",VLOOKUP(AP17,ตั้งค่า!$AA$11:$AE$18,5,TRUE))","v":""},null,null,"",{"$f":"IF(AR17=\"\",\"\",VLOOKUP(AT17,ตั้งค่า!$AA$11:$AE$18,5,TRUE))","v":""},null,null,"",{"$f":"IF(AV17=\"\",\"\",VLOOKUP(AX17,ตั้งค่า!$AA$11:$AE$18,5,TRUE))","v":""},null,null,"",{"$f":"IF(AZ17=\"\",\"\",VLOOKUP(BB17,ตั้งค่า!$AA$11:$AE$18,5,TRUE))","v":""},null,null,"",{"$f":"IF(BD17=\"\",\"\",VLOOKUP(BF17,ตั้งค่า!$AA$11:$AE$18,5,TRUE))","v":""},null,null,"",{"$f":"IF(BH17=\"\",\"\",VLOOKUP(BJ17,ตั้งค่า!$AA$11:$AE$18,5,TRUE))","v":""},null,null,"",{"$f":"IF(BL17=\"\",\"\",VLOOKUP(BN17,ตั้งค่า!$AA$11:$AE$18,5,TRUE))","v":""},null,null,"",{"$f":"IF(BP17=\"\",\"\",VLOOKUP(BR17,ตั้งค่า!$AA$11:$AE$18,5,TRUE))","v":""},{"$f":"'คุณลักษณะ-อ่านคิดวิเคราะห์'!AM17","v":""},{"$f":"'คุณลักษณะ-อ่านคิดวิเคราะห์'!AO17","v":""},null,"","","",{"$f":"รายชื่อนักเรียน!F15","v":0},"","","","","","","","","","","","","","","","","","","","","","","","","","","","","","","","","","","","","","","","","","","","","","","","","","","","","","","","","","","","","","","","","","","","","","","","","","","","","","","","","","","","","","","00",null,{"$f":"รายชื่อนักเรียน!B15","v":0},0,"","","","","","","","","","","","","","","","","","","","","",0]
[{"$f":"รายชื่อนักเรียน!B16","v":0},{"$f":"รายชื่อนักเรียน!C16","v":0},{"$f":"IF(รายชื่อนักเรียน!E16=\"\",\"\",รายชื่อนักเรียน!E16)","v":""},null,null,"",{"$f":"IF(D18=\"\",\"\",VLOOKUP(F18,ตั้งค่า!$AA$11:$AE$18,5,TRUE))","v":""},null,null,"",{"$f":"IF(H18=\"\",\"\",VLOOKUP(J18,ตั้งค่า!$AA$11:$AE$18,5,TRUE))","v":""},null,null,"",{"$f":"IF(L18=\"\",\"\",VLOOKUP(N18,ตั้งค่า!$AA$11:$AE$18,5,TRUE))","v":""},null,null,"",{"$f":"IF(P18=\"\",\"\",VLOOKUP(R18,ตั้งค่า!$AA$11:$AE$18,5,TRUE))","v":""},null,null,"",{"$f":"IF(T18=\"\",\"\",VLOOKUP(V18,ตั้งค่า!$AA$11:$AE$18,5,TRUE))","v":""},null,null,"",{"$f":"IF(X18=\"\",\"\",VLOOKUP(Z18,ตั้งค่า!$AA$11:$AE$18,5,TRUE))","v":""},null,null,"",{"$f":"IF(AB18=\"\",\"\",VLOOKUP(AD18,ตั้งค่า!$AA$11:$AE$18,5,TRUE))","v":""},null,null,"",{"$f":"IF(AF18=\"\",\"\",VLOOKUP(AH18,ตั้งค่า!$AA$11:$AE$18,5,TRUE))","v":""},null,null,"",{"$f":"IF(AJ18=\"\",\"\",VLOOKUP(AL18,ตั้งค่า!$AA$11:$AE$18,5,TRUE))","v":""},null,null,"",{"$f":"IF(AN18=\"\",\"\",VLOOKUP(AP18,ตั้งค่า!$AA$11:$AE$18,5,TRUE))","v":""},null,null,"",{"$f":"IF(AR18=\"\",\"\",VLOOKUP(AT18,ตั้งค่า!$AA$11:$AE$18,5,TRUE))","v":""},null,null,"",{"$f":"IF(AV18=\"\",\"\",VLOOKUP(AX18,ตั้งค่า!$AA$11:$AE$18,5,TRUE))","v":""},null,null,"",{"$f":"IF(AZ18=\"\",\"\",VLOOKUP(BB18,ตั้งค่า!$AA$11:$AE$18,5,TRUE))","v":""},null,null,"",{"$f":"IF(BD18=\"\",\"\",VLOOKUP(BF18,ตั้งค่า!$AA$11:$AE$18,5,TRUE))","v":""},null,null,"",{"$f":"IF(BH18=\"\",\"\",VLOOKUP(BJ18,ตั้งค่า!$AA$11:$AE$18,5,TRUE))","v":""},null,null,"",{"$f":"IF(BL18=\"\",\"\",VLOOKUP(BN18,ตั้งค่า!$AA$11:$AE$18,5,TRUE))","v":""},null,null,"",{"$f":"IF(BP18=\"\",\"\",VLOOKUP(BR18,ตั้งค่า!$AA$11:$AE$18,5,TRUE))","v":""},{"$f":"'คุณลักษณะ-อ่านคิดวิเคราะห์'!AM18","v":""},{"$f":"'คุณลักษณะ-อ่านคิดวิเคราะห์'!AO18","v":""},null,"","","",{"$f":"รายชื่อนักเรียน!F16","v":0},"","","","","","","","","","","","","","","","","","","","","","","","","","","","","","","","","","","","","","","","","","","","","","","","","","","","","","","","","","","","","","","","","","","","","","","","","","","","","","","","","","","","","","","00",null,{"$f":"รายชื่อนักเรียน!B16","v":0},0,"","","","","","","","","","","","","","","","","","","","","",0]
[{"$f":"รายชื่อนักเรียน!B17","v":0},{"$f":"รายชื่อนักเรียน!C17","v":0},{"$f":"IF(รายชื่อนักเรียน!E17=\"\",\"\",รายชื่อนักเรียน!E17)","v":""},null,null,"",{"$f":"IF(D19=\"\",\"\",VLOOKUP(F19,ตั้งค่า!$AA$11:$AE$18,5,TRUE))","v":""},null,null,"",{"$f":"IF(H19=\"\",\"\",VLOOKUP(J19,ตั้งค่า!$AA$11:$AE$18,5,TRUE))","v":""},null,null,"",{"$f":"IF(L19=\"\",\"\",VLOOKUP(N19,ตั้งค่า!$AA$11:$AE$18,5,TRUE))","v":""},null,null,"",{"$f":"IF(P19=\"\",\"\",VLOOKUP(R19,ตั้งค่า!$AA$11:$AE$18,5,TRUE))","v":""},null,null,"",{"$f":"IF(T19=\"\",\"\",VLOOKUP(V19,ตั้งค่า!$AA$11:$AE$18,5,TRUE))","v":""},null,null,"",{"$f":"IF(X19=\"\",\"\",VLOOKUP(Z19,ตั้งค่า!$AA$11:$AE$18,5,TRUE))","v":""},null,null,"",{"$f":"IF(AB19=\"\",\"\",VLOOKUP(AD19,ตั้งค่า!$AA$11:$AE$18,5,TRUE))","v":""},null,null,"",{"$f":"IF(AF19=\"\",\"\",VLOOKUP(AH19,ตั้งค่า!$AA$11:$AE$18,5,TRUE))","v":""},null,null,"",{"$f":"IF(AJ19=\"\",\"\",VLOOKUP(AL19,ตั้งค่า!$AA$11:$AE$18,5,TRUE))","v":""},null,null,"",{"$f":"IF(AN19=\"\",\"\",VLOOKUP(AP19,ตั้งค่า!$AA$11:$AE$18,5,TRUE))","v":""},null,null,"",{"$f":"IF(AR19=\"\",\"\",VLOOKUP(AT19,ตั้งค่า!$AA$11:$AE$18,5,TRUE))","v":""},null,null,"",{"$f":"IF(AV19=\"\",\"\",VLOOKUP(AX19,ตั้งค่า!$AA$11:$AE$18,5,TRUE))","v":""},null,null,"",{"$f":"IF(AZ19=\"\",\"\",VLOOKUP(BB19,ตั้งค่า!$AA$11:$AE$18,5,TRUE))","v":""},null,null,"",{"$f":"IF(BD19=\"\",\"\",VLOOKUP(BF19,ตั้งค่า!$AA$11:$AE$18,5,TRUE))","v":""},null,null,"",{"$f":"IF(BH19=\"\",\"\",VLOOKUP(BJ19,ตั้งค่า!$AA$11:$AE$18,5,TRUE))","v":""},null,null,"",{"$f":"IF(BL19=\"\",\"\",VLOOKUP(BN19,ตั้งค่า!$AA$11:$AE$18,5,TRUE))","v":""},null,null,"",{"$f":"IF(BP19=\"\",\"\",VLOOKUP(BR19,ตั้งค่า!$AA$11:$AE$18,5,TRUE))","v":""},{"$f":"'คุณลักษณะ-อ่านคิดวิเคราะห์'!AM19","v":""},{"$f":"'คุณลักษณะ-อ่านคิดวิเคราะห์'!AO19","v":""},null,"","","",{"$f":"รายชื่อนักเรียน!F17","v":0},"","","","","","","","","","","","","","","","","","","","","","","","","","","","","","","","","","","","","","","","","","","","","","","","","","","","","","","","","","","","","","","","","","","","","","","","","","","","","","","","","","","","","","","00",null,{"$f":"รายชื่อนักเรียน!B17","v":0},0,"","","","","","","","","","","","","","","","","","","","","",0]
[{"$f":"รายชื่อนักเรียน!B18","v":0},{"$f":"รายชื่อนักเรียน!C18","v":0},{"$f":"IF(รายชื่อนักเรียน!E18=\"\",\"\",รายชื่อนักเรียน!E18)","v":""},null,null,"",{"$f":"IF(D20=\"\",\"\",VLOOKUP(F20,ตั้งค่า!$AA$11:$AE$18,5,TRUE))","v":""},null,null,"",{"$f":"IF(H20=\"\",\"\",VLOOKUP(J20,ตั้งค่า!$AA$11:$AE$18,5,TRUE))","v":""},null,null,"",{"$f":"IF(L20=\"\",\"\",VLOOKUP(N20,ตั้งค่า!$AA$11:$AE$18,5,TRUE))","v":""},null,null,"",{"$f":"IF(P20=\"\",\"\",VLOOKUP(R20,ตั้งค่า!$AA$11:$AE$18,5,TRUE))","v":""},null,null,"",{"$f":"IF(T20=\"\",\"\",VLOOKUP(V20,ตั้งค่า!$AA$11:$AE$18,5,TRUE))","v":""},null,null,"",{"$f":"IF(X20=\"\",\"\",VLOOKUP(Z20,ตั้งค่า!$AA$11:$AE$18,5,TRUE))","v":""},null,null,"",{"$f":"IF(AB20=\"\",\"\",VLOOKUP(AD20,ตั้งค่า!$AA$11:$AE$18,5,TRUE))","v":""},null,null,"",{"$f":"IF(AF20=\"\",\"\",VLOOKUP(AH20,ตั้งค่า!$AA$11:$AE$18,5,TRUE))","v":""},null,null,"",{"$f":"IF(AJ20=\"\",\"\",VLOOKUP(AL20,ตั้งค่า!$AA$11:$AE$18,5,TRUE))","v":""},null,null,"",{"$f":"IF(AN20=\"\",\"\",VLOOKUP(AP20,ตั้งค่า!$AA$11:$AE$18,5,TRUE))","v":""},null,null,"",{"$f":"IF(AR20=\"\",\"\",VLOOKUP(AT20,ตั้งค่า!$AA$11:$AE$18,5,TRUE))","v":""},null,null,"",{"$f":"IF(AV20=\"\",\"\",VLOOKUP(AX20,ตั้งค่า!$AA$11:$AE$18,5,TRUE))","v":""},null,null,"",{"$f":"IF(AZ20=\"\",\"\",VLOOKUP(BB20,ตั้งค่า!$AA$11:$AE$18,5,TRUE))","v":""},null,null,"",{"$f":"IF(BD20=\"\",\"\",VLOOKUP(BF20,ตั้งค่า!$AA$11:$AE$18,5,TRUE))","v":""},null,null,"",{"$f":"IF(BH20=\"\",\"\",VLOOKUP(BJ20,ตั้งค่า!$AA$11:$AE$18,5,TRUE))","v":""},null,null,"",{"$f":"IF(BL20=\"\",\"\",VLOOKUP(BN20,ตั้งค่า!$AA$11:$AE$18,5,TRUE))","v":""},null,null,"",{"$f":"IF(BP20=\"\",\"\",VLOOKUP(BR20,ตั้งค่า!$AA$11:$AE$18,5,TRUE))","v":""},{"$f":"'คุณลักษณะ-อ่านคิดวิเคราะห์'!AM20","v":""},{"$f":"'คุณลักษณะ-อ่านคิดวิเคราะห์'!AO20","v":""},null,"","","",{"$f":"รายชื่อนักเรียน!F18","v":0},"","","","","","","","","","","","","","","","","","","","","","","","","","","","","","","","","","","","","","","","","","","","","","","","","","","","","","","","","","","","","","","","","","","","","","","","","","","","","","","","","","","","","","","00",null,{"$f":"รายชื่อนักเรียน!B18","v":0},0,"","","","","","","","","","","","","","","","","","","","","",0]
[{"$f":"รายชื่อนักเรียน!B19","v":0},{"$f":"รายชื่อนักเรียน!C19","v":0},{"$f":"IF(รายชื่อนักเรียน!E19=\"\",\"\",รายชื่อนักเรียน!E19)","v":""},null,null,"",{"$f":"IF(D21=\"\",\"\",VLOOKUP(F21,ตั้งค่า!$AA$11:$AE$18,5,TRUE))","v":""},null,null,"",{"$f":"IF(H21=\"\",\"\",VLOOKUP(J21,ตั้งค่า!$AA$11:$AE$18,5,TRUE))","v":""},null,null,"",{"$f":"IF(L21=\"\",\"\",VLOOKUP(N21,ตั้งค่า!$AA$11:$AE$18,5,TRUE))","v":""},null,null,"",{"$f":"IF(P21=\"\",\"\",VLOOKUP(R21,ตั้งค่า!$AA$11:$AE$18,5,TRUE))","v":""},null,null,"",{"$f":"IF(T21=\"\",\"\",VLOOKUP(V21,ตั้งค่า!$AA$11:$AE$18,5,TRUE))","v":""},null,null,"",{"$f":"IF(X21=\"\",\"\",VLOOKUP(Z21,ตั้งค่า!$AA$11:$AE$18,5,TRUE))","v":""},null,null,"",{"$f":"IF(AB21=\"\",\"\",VLOOKUP(AD21,ตั้งค่า!$AA$11:$AE$18,5,TRUE))","v":""},null,null,"",{"$f":"IF(AF21=\"\",\"\",VLOOKUP(AH21,ตั้งค่า!$AA$11:$AE$18,5,TRUE))","v":""},null,null,"",{"$f":"IF(AJ21=\"\",\"\",VLOOKUP(AL21,ตั้งค่า!$AA$11:$AE$18,5,TRUE))","v":""},null,null,"",{"$f":"IF(AN21=\"\",\"\",VLOOKUP(AP21,ตั้งค่า!$AA$11:$AE$18,5,TRUE))","v":""},null,null,"",{"$f":"IF(AR21=\"\",\"\",VLOOKUP(AT21,ตั้งค่า!$AA$11:$AE$18,5,TRUE))","v":""},null,null,"",{"$f":"IF(AV21=\"\",\"\",VLOOKUP(AX21,ตั้งค่า!$AA$11:$AE$18,5,TRUE))","v":""},null,null,"",{"$f":"IF(AZ21=\"\",\"\",VLOOKUP(BB21,ตั้งค่า!$AA$11:$AE$18,5,TRUE))","v":""},null,null,"",{"$f":"IF(BD21=\"\",\"\",VLOOKUP(BF21,ตั้งค่า!$AA$11:$AE$18,5,TRUE))","v":""},null,null,"",{"$f":"IF(BH21=\"\",\"\",VLOOKUP(BJ21,ตั้งค่า!$AA$11:$AE$18,5,TRUE))","v":""},null,null,"",{"$f":"IF(BL21=\"\",\"\",VLOOKUP(BN21,ตั้งค่า!$AA$11:$AE$18,5,TRUE))","v":""},null,null,"",{"$f":"IF(BP21=\"\",\"\",VLOOKUP(BR21,ตั้งค่า!$AA$11:$AE$18,5,TRUE))","v":""},{"$f":"'คุณลักษณะ-อ่านคิดวิเคราะห์'!AM21","v":""},{"$f":"'คุณลักษณะ-อ่านคิดวิเคราะห์'!AO21","v":""},null,"","","",{"$f":"รายชื่อนักเรียน!F19","v":0},"","","","","","","","","","","","","","","","","","","","","","","","","","","","","","","","","","","","","","","","","","","","","","","","","","","","","","","","","","","","","","","","","","","","","","","","","","","","","","","","","","","","","","","00",null,{"$f":"รายชื่อนักเรียน!B19","v":0},0,"","","","","","","","","","","","","","","","","","","","","",0]
[{"$f":"รายชื่อนักเรียน!B20","v":0},{"$f":"รายชื่อนักเรียน!C20","v":0},{"$f":"IF(รายชื่อนักเรียน!E20=\"\",\"\",รายชื่อนักเรียน!E20)","v":""},null,null,"",{"$f":"IF(D22=\"\",\"\",VLOOKUP(F22,ตั้งค่า!$AA$11:$AE$18,5,TRUE))","v":""},null,null,"",{"$f":"IF(H22=\"\",\"\",VLOOKUP(J22,ตั้งค่า!$AA$11:$AE$18,5,TRUE))","v":""},null,null,"",{"$f":"IF(L22=\"\",\"\",VLOOKUP(N22,ตั้งค่า!$AA$11:$AE$18,5,TRUE))","v":""},null,null,"",{"$f":"IF(P22=\"\",\"\",VLOOKUP(R22,ตั้งค่า!$AA$11:$AE$18,5,TRUE))","v":""},null,null,"",{"$f":"IF(T22=\"\",\"\",VLOOKUP(V22,ตั้งค่า!$AA$11:$AE$18,5,TRUE))","v":""},null,null,"",{"$f":"IF(X22=\"\",\"\",VLOOKUP(Z22,ตั้งค่า!$AA$11:$AE$18,5,TRUE))","v":""},null,null,"",{"$f":"IF(AB22=\"\",\"\",VLOOKUP(AD22,ตั้งค่า!$AA$11:$AE$18,5,TRUE))","v":""},null,null,"",{"$f":"IF(AF22=\"\",\"\",VLOOKUP(AH22,ตั้งค่า!$AA$11:$AE$18,5,TRUE))","v":""},null,null,"",{"$f":"IF(AJ22=\"\",\"\",VLOOKUP(AL22,ตั้งค่า!$AA$11:$AE$18,5,TRUE))","v":""},null,null,"",{"$f":"IF(AN22=\"\",\"\",VLOOKUP(AP22,ตั้งค่า!$AA$11:$AE$18,5,TRUE))","v":""},null,null,"",{"$f":"IF(AR22=\"\",\"\",VLOOKUP(AT22,ตั้งค่า!$AA$11:$AE$18,5,TRUE))","v":""},null,null,"",{"$f":"IF(AV22=\"\",\"\",VLOOKUP(AX22,ตั้งค่า!$AA$11:$AE$18,5,TRUE))","v":""},null,null,"",{"$f":"IF(AZ22=\"\",\"\",VLOOKUP(BB22,ตั้งค่า!$AA$11:$AE$18,5,TRUE))","v":""},null,null,"",{"$f":"IF(BD22=\"\",\"\",VLOOKUP(BF22,ตั้งค่า!$AA$11:$AE$18,5,TRUE))","v":""},null,null,"",{"$f":"IF(BH22=\"\",\"\",VLOOKUP(BJ22,ตั้งค่า!$AA$11:$AE$18,5,TRUE))","v":""},null,null,"",{"$f":"IF(BL22=\"\",\"\",VLOOKUP(BN22,ตั้งค่า!$AA$11:$AE$18,5,TRUE))","v":""},null,null,"",{"$f":"IF(BP22=\"\",\"\",VLOOKUP(BR22,ตั้งค่า!$AA$11:$AE$18,5,TRUE))","v":""},{"$f":"'คุณลักษณะ-อ่านคิดวิเคราะห์'!AM22","v":""},{"$f":"'คุณลักษณะ-อ่านคิดวิเคราะห์'!AO22","v":""},null,"","","",{"$f":"รายชื่อนักเรียน!F20","v":0},"","","","","","","","","","","","","","","","","","","","","","","","","","","","","","","","","","","","","","","","","","","","","","","","","","","","","","","","","","","","","","","","","","","","","","","","","","","","","","","","","","","","","","","00",null,{"$f":"รายชื่อนักเรียน!B20","v":0},0,"","","","","","","","","","","","","","","","","","","","","",0]
[{"$f":"รายชื่อนักเรียน!B21","v":0},{"$f":"รายชื่อนักเรียน!C21","v":0},{"$f":"IF(รายชื่อนักเรียน!E21=\"\",\"\",รายชื่อนักเรียน!E21)","v":""},null,null,"",{"$f":"IF(D23=\"\",\"\",VLOOKUP(F23,ตั้งค่า!$AA$11:$AE$18,5,TRUE))","v":""},null,null,"",{"$f":"IF(H23=\"\",\"\",VLOOKUP(J23,ตั้งค่า!$AA$11:$AE$18,5,TRUE))","v":""},null,null,"",{"$f":"IF(L23=\"\",\"\",VLOOKUP(N23,ตั้งค่า!$AA$11:$AE$18,5,TRUE))","v":""},null,null,"",{"$f":"IF(P23=\"\",\"\",VLOOKUP(R23,ตั้งค่า!$AA$11:$AE$18,5,TRUE))","v":""},null,null,"",{"$f":"IF(T23=\"\",\"\",VLOOKUP(V23,ตั้งค่า!$AA$11:$AE$18,5,TRUE))","v":""},null,null,"",{"$f":"IF(X23=\"\",\"\",VLOOKUP(Z23,ตั้งค่า!$AA$11:$AE$18,5,TRUE))","v":""},null,null,"",{"$f":"IF(AB23=\"\",\"\",VLOOKUP(AD23,ตั้งค่า!$AA$11:$AE$18,5,TRUE))","v":""},null,null,"",{"$f":"IF(AF23=\"\",\"\",VLOOKUP(AH23,ตั้งค่า!$AA$11:$AE$18,5,TRUE))","v":""},null,null,"",{"$f":"IF(AJ23=\"\",\"\",VLOOKUP(AL23,ตั้งค่า!$AA$11:$AE$18,5,TRUE))","v":""},null,null,"",{"$f":"IF(AN23=\"\",\"\",VLOOKUP(AP23,ตั้งค่า!$AA$11:$AE$18,5,TRUE))","v":""},null,null,"",{"$f":"IF(AR23=\"\",\"\",VLOOKUP(AT23,ตั้งค่า!$AA$11:$AE$18,5,TRUE))","v":""},null,null,"",{"$f":"IF(AV23=\"\",\"\",VLOOKUP(AX23,ตั้งค่า!$AA$11:$AE$18,5,TRUE))","v":""},null,null,"",{"$f":"IF(AZ23=\"\",\"\",VLOOKUP(BB23,ตั้งค่า!$AA$11:$AE$18,5,TRUE))","v":""},null,null,"",{"$f":"IF(BD23=\"\",\"\",VLOOKUP(BF23,ตั้งค่า!$AA$11:$AE$18,5,TRUE))","v":""},null,null,"",{"$f":"IF(BH23=\"\",\"\",VLOOKUP(BJ23,ตั้งค่า!$AA$11:$AE$18,5,TRUE))","v":""},null,null,"",{"$f":"IF(BL23=\"\",\"\",VLOOKUP(BN23,ตั้งค่า!$AA$11:$AE$18,5,TRUE))","v":""},null,null,"",{"$f":"IF(BP23=\"\",\"\",VLOOKUP(BR23,ตั้งค่า!$AA$11:$AE$18,5,TRUE))","v":""},{"$f":"'คุณลักษณะ-อ่านคิดวิเคราะห์'!AM23","v":""},{"$f":"'คุณลักษณะ-อ่านคิดวิเคราะห์'!AO23","v":""},null,"","","",{"$f":"รายชื่อนักเรียน!F21","v":0},"","","","","","","","","","","","","","","","","","","","","","","","","","","","","","","","","","","","","","","","","","","","","","","","","","","","","","","","","","","","","","","","","","","","","","","","","","","","","","","","","","","","","","","00",null,{"$f":"รายชื่อนักเรียน!B21","v":0},0,"","","","","","","","","","","","","","","","","","","","","",0]
[{"$f":"รายชื่อนักเรียน!B22","v":0},{"$f":"รายชื่อนักเรียน!C22","v":0},{"$f":"IF(รายชื่อนักเรียน!E22=\"\",\"\",รายชื่อนักเรียน!E22)","v":""},null,null,"",{"$f":"IF(D24=\"\",\"\",VLOOKUP(F24,ตั้งค่า!$AA$11:$AE$18,5,TRUE))","v":""},null,null,"",{"$f":"IF(H24=\"\",\"\",VLOOKUP(J24,ตั้งค่า!$AA$11:$AE$18,5,TRUE))","v":""},null,null,"",{"$f":"IF(L24=\"\",\"\",VLOOKUP(N24,ตั้งค่า!$AA$11:$AE$18,5,TRUE))","v":""},null,null,"",{"$f":"IF(P24=\"\",\"\",VLOOKUP(R24,ตั้งค่า!$AA$11:$AE$18,5,TRUE))","v":""},null,null,"",{"$f":"IF(T24=\"\",\"\",VLOOKUP(V24,ตั้งค่า!$AA$11:$AE$18,5,TRUE))","v":""},null,null,"",{"$f":"IF(X24=\"\",\"\",VLOOKUP(Z24,ตั้งค่า!$AA$11:$AE$18,5,TRUE))","v":""},null,null,"",{"$f":"IF(AB24=\"\",\"\",VLOOKUP(AD24,ตั้งค่า!$AA$11:$AE$18,5,TRUE))","v":""},null,null,"",{"$f":"IF(AF24=\"\",\"\",VLOOKUP(AH24,ตั้งค่า!$AA$11:$AE$18,5,TRUE))","v":""},null,null,"",{"$f":"IF(AJ24=\"\",\"\",VLOOKUP(AL24,ตั้งค่า!$AA$11:$AE$18,5,TRUE))","v":""},null,null,"",{"$f":"IF(AN24=\"\",\"\",VLOOKUP(AP24,ตั้งค่า!$AA$11:$AE$18,5,TRUE))","v":""},null,null,"",{"$f":"IF(AR24=\"\",\"\",VLOOKUP(AT24,ตั้งค่า!$AA$11:$AE$18,5,TRUE))","v":""},null,null,"",{"$f":"IF(AV24=\"\",\"\",VLOOKUP(AX24,ตั้งค่า!$AA$11:$AE$18,5,TRUE))","v":""},null,null,"",{"$f":"IF(AZ24=\"\",\"\",VLOOKUP(BB24,ตั้งค่า!$AA$11:$AE$18,5,TRUE))","v":""},null,null,"",{"$f":"IF(BD24=\"\",\"\",VLOOKUP(BF24,ตั้งค่า!$AA$11:$AE$18,5,TRUE))","v":""},null,null,"",{"$f":"IF(BH24=\"\",\"\",VLOOKUP(BJ24,ตั้งค่า!$AA$11:$AE$18,5,TRUE))","v":""},null,null,"",{"$f":"IF(BL24=\"\",\"\",VLOOKUP(BN24,ตั้งค่า!$AA$11:$AE$18,5,TRUE))","v":""},null,null,"",{"$f":"IF(BP24=\"\",\"\",VLOOKUP(BR24,ตั้งค่า!$AA$11:$AE$18,5,TRUE))","v":""},{"$f":"'คุณลักษณะ-อ่านคิดวิเคราะห์'!AM24","v":""},{"$f":"'คุณลักษณะ-อ่านคิดวิเคราะห์'!AO24","v":""},null,"","","",{"$f":"รายชื่อนักเรียน!F22","v":0},"","","","","","","","","","","","","","","","","","","","","","","","","","","","","","","","","","","","","","","","","","","","","","","","","","","","","","","","","","","","","","","","","","","","","","","","","","","","","","","","","","","","","","","00",null,{"$f":"รายชื่อนักเรียน!B22","v":0},0,"","","","","","","","","","","","","","","","","","","","","",0]
[{"$f":"รายชื่อนักเรียน!B23","v":0},{"$f":"รายชื่อนักเรียน!C23","v":0},{"$f":"IF(รายชื่อนักเรียน!E23=\"\",\"\",รายชื่อนักเรียน!E23)","v":""},null,null,"",{"$f":"IF(D25=\"\",\"\",VLOOKUP(F25,ตั้งค่า!$AA$11:$AE$18,5,TRUE))","v":""},null,null,"",{"$f":"IF(H25=\"\",\"\",VLOOKUP(J25,ตั้งค่า!$AA$11:$AE$18,5,TRUE))","v":""},null,null,"",{"$f":"IF(L25=\"\",\"\",VLOOKUP(N25,ตั้งค่า!$AA$11:$AE$18,5,TRUE))","v":""},null,null,"",{"$f":"IF(P25=\"\",\"\",VLOOKUP(R25,ตั้งค่า!$AA$11:$AE$18,5,TRUE))","v":""},null,null,"",{"$f":"IF(T25=\"\",\"\",VLOOKUP(V25,ตั้งค่า!$AA$11:$AE$18,5,TRUE))","v":""},null,null,"",{"$f":"IF(X25=\"\",\"\",VLOOKUP(Z25,ตั้งค่า!$AA$11:$AE$18,5,TRUE))","v":""},null,null,"",{"$f":"IF(AB25=\"\",\"\",VLOOKUP(AD25,ตั้งค่า!$AA$11:$AE$18,5,TRUE))","v":""},null,null,"",{"$f":"IF(AF25=\"\",\"\",VLOOKUP(AH25,ตั้งค่า!$AA$11:$AE$18,5,TRUE))","v":""},null,null,"",{"$f":"IF(AJ25=\"\",\"\",VLOOKUP(AL25,ตั้งค่า!$AA$11:$AE$18,5,TRUE))","v":""},null,null,"",{"$f":"IF(AN25=\"\",\"\",VLOOKUP(AP25,ตั้งค่า!$AA$11:$AE$18,5,TRUE))","v":""},null,null,"",{"$f":"IF(AR25=\"\",\"\",VLOOKUP(AT25,ตั้งค่า!$AA$11:$AE$18,5,TRUE))","v":""},null,null,"",{"$f":"IF(AV25=\"\",\"\",VLOOKUP(AX25,ตั้งค่า!$AA$11:$AE$18,5,TRUE))","v":""},null,null,"",{"$f":"IF(AZ25=\"\",\"\",VLOOKUP(BB25,ตั้งค่า!$AA$11:$AE$18,5,TRUE))","v":""},null,null,"",{"$f":"IF(BD25=\"\",\"\",VLOOKUP(BF25,ตั้งค่า!$AA$11:$AE$18,5,TRUE))","v":""},null,null,"",{"$f":"IF(BH25=\"\",\"\",VLOOKUP(BJ25,ตั้งค่า!$AA$11:$AE$18,5,TRUE))","v":""},null,null,"",{"$f":"IF(BL25=\"\",\"\",VLOOKUP(BN25,ตั้งค่า!$AA$11:$AE$18,5,TRUE))","v":""},null,null,"",{"$f":"IF(BP25=\"\",\"\",VLOOKUP(BR25,ตั้งค่า!$AA$11:$AE$18,5,TRUE))","v":""},{"$f":"'คุณลักษณะ-อ่านคิดวิเคราะห์'!AM25","v":""},{"$f":"'คุณลักษณะ-อ่านคิดวิเคราะห์'!AO25","v":""},null,"","","",{"$f":"รายชื่อนักเรียน!F23","v":0},"","","","","","","","","","","","","","","","","","","","","","","","","","","","","","","","","","","","","","","","","","","","","","","","","","","","","","","","","","","","","","","","","","","","","","","","","","","","","","","","","","","","","","","00",null,{"$f":"รายชื่อนักเรียน!B23","v":0},0,"","","","","","","","","","","","","","","","","","","","","",0]
[{"$f":"รายชื่อนักเรียน!B24","v":0},{"$f":"รายชื่อนักเรียน!C24","v":0},{"$f":"IF(รายชื่อนักเรียน!E24=\"\",\"\",รายชื่อนักเรียน!E24)","v":""},null,null,"",{"$f":"IF(D26=\"\",\"\",VLOOKUP(F26,ตั้งค่า!$AA$11:$AE$18,5,TRUE))","v":""},null,null,"",{"$f":"IF(H26=\"\",\"\",VLOOKUP(J26,ตั้งค่า!$AA$11:$AE$18,5,TRUE))","v":""},null,null,"",{"$f":"IF(L26=\"\",\"\",VLOOKUP(N26,ตั้งค่า!$AA$11:$AE$18,5,TRUE))","v":""},null,null,"",{"$f":"IF(P26=\"\",\"\",VLOOKUP(R26,ตั้งค่า!$AA$11:$AE$18,5,TRUE))","v":""},null,null,"",{"$f":"IF(T26=\"\",\"\",VLOOKUP(V26,ตั้งค่า!$AA$11:$AE$18,5,TRUE))","v":""},null,null,"",{"$f":"IF(X26=\"\",\"\",VLOOKUP(Z26,ตั้งค่า!$AA$11:$AE$18,5,TRUE))","v":""},null,null,"",{"$f":"IF(AB26=\"\",\"\",VLOOKUP(AD26,ตั้งค่า!$AA$11:$AE$18,5,TRUE))","v":""},null,null,"",{"$f":"IF(AF26=\"\",\"\",VLOOKUP(AH26,ตั้งค่า!$AA$11:$AE$18,5,TRUE))","v":""},null,null,"",{"$f":"IF(AJ26=\"\",\"\",VLOOKUP(AL26,ตั้งค่า!$AA$11:$AE$18,5,TRUE))","v":""},null,null,"",{"$f":"IF(AN26=\"\",\"\",VLOOKUP(AP26,ตั้งค่า!$AA$11:$AE$18,5,TRUE))","v":""},null,null,"",{"$f":"IF(AR26=\"\",\"\",VLOOKUP(AT26,ตั้งค่า!$AA$11:$AE$18,5,TRUE))","v":""},null,null,"",{"$f":"IF(AV26=\"\",\"\",VLOOKUP(AX26,ตั้งค่า!$AA$11:$AE$18,5,TRUE))","v":""},null,null,"",{"$f":"IF(AZ26=\"\",\"\",VLOOKUP(BB26,ตั้งค่า!$AA$11:$AE$18,5,TRUE))","v":""},null,null,"",{"$f":"IF(BD26=\"\",\"\",VLOOKUP(BF26,ตั้งค่า!$AA$11:$AE$18,5,TRUE))","v":""},null,null,"",{"$f":"IF(BH26=\"\",\"\",VLOOKUP(BJ26,ตั้งค่า!$AA$11:$AE$18,5,TRUE))","v":""},null,null,"",{"$f":"IF(BL26=\"\",\"\",VLOOKUP(BN26,ตั้งค่า!$AA$11:$AE$18,5,TRUE))","v":""},null,null,"",{"$f":"IF(BP26=\"\",\"\",VLOOKUP(BR26,ตั้งค่า!$AA$11:$AE$18,5,TRUE))","v":""},{"$f":"'คุณลักษณะ-อ่านคิดวิเคราะห์'!AM26","v":""},{"$f":"'คุณลักษณะ-อ่านคิดวิเคราะห์'!AO26","v":""},null,"","","",{"$f":"รายชื่อนักเรียน!F24","v":0},"","","","","","","","","","","","","","","","","","","","","","","","","","","","","","","","","","","","","","","","","","","","","","","","","","","","","","","","","","","","","","","","","","","","","","","","","","","","","","","","","","","","","","","00",null,{"$f":"รายชื่อนักเรียน!B24","v":0},0,"","","","","","","","","","","","","","","","","","","","","",0]
[{"$f":"รายชื่อนักเรียน!B25","v":0},{"$f":"รายชื่อนักเรียน!C25","v":0},{"$f":"IF(รายชื่อนักเรียน!E25=\"\",\"\",รายชื่อนักเรียน!E25)","v":""},null,null,"",{"$f":"IF(D27=\"\",\"\",VLOOKUP(F27,ตั้งค่า!$AA$11:$AE$18,5,TRUE))","v":""},null,null,"",{"$f":"IF(H27=\"\",\"\",VLOOKUP(J27,ตั้งค่า!$AA$11:$AE$18,5,TRUE))","v":""},null,null,"",{"$f":"IF(L27=\"\",\"\",VLOOKUP(N27,ตั้งค่า!$AA$11:$AE$18,5,TRUE))","v":""},null,null,"",{"$f":"IF(P27=\"\",\"\",VLOOKUP(R27,ตั้งค่า!$AA$11:$AE$18,5,TRUE))","v":""},null,null,"",{"$f":"IF(T27=\"\",\"\",VLOOKUP(V27,ตั้งค่า!$AA$11:$AE$18,5,TRUE))","v":""},null,null,"",{"$f":"IF(X27=\"\",\"\",VLOOKUP(Z27,ตั้งค่า!$AA$11:$AE$18,5,TRUE))","v":""},null,null,"",{"$f":"IF(AB27=\"\",\"\",VLOOKUP(AD27,ตั้งค่า!$AA$11:$AE$18,5,TRUE))","v":""},null,null,"",{"$f":"IF(AF27=\"\",\"\",VLOOKUP(AH27,ตั้งค่า!$AA$11:$AE$18,5,TRUE))","v":""},null,null,"",{"$f":"IF(AJ27=\"\",\"\",VLOOKUP(AL27,ตั้งค่า!$AA$11:$AE$18,5,TRUE))","v":""},null,null,"",{"$f":"IF(AN27=\"\",\"\",VLOOKUP(AP27,ตั้งค่า!$AA$11:$AE$18,5,TRUE))","v":""},null,null,"",{"$f":"IF(AR27=\"\",\"\",VLOOKUP(AT27,ตั้งค่า!$AA$11:$AE$18,5,TRUE))","v":""},null,null,"",{"$f":"IF(AV27=\"\",\"\",VLOOKUP(AX27,ตั้งค่า!$AA$11:$AE$18,5,TRUE))","v":""},null,null,"",{"$f":"IF(AZ27=\"\",\"\",VLOOKUP(BB27,ตั้งค่า!$AA$11:$AE$18,5,TRUE))","v":""},null,null,"",{"$f":"IF(BD27=\"\",\"\",VLOOKUP(BF27,ตั้งค่า!$AA$11:$AE$18,5,TRUE))","v":""},null,null,"",{"$f":"IF(BH27=\"\",\"\",VLOOKUP(BJ27,ตั้งค่า!$AA$11:$AE$18,5,TRUE))","v":""},null,null,"",{"$f":"IF(BL27=\"\",\"\",VLOOKUP(BN27,ตั้งค่า!$AA$11:$AE$18,5,TRUE))","v":""},null,null,"",{"$f":"IF(BP27=\"\",\"\",VLOOKUP(BR27,ตั้งค่า!$AA$11:$AE$18,5,TRUE))","v":""},{"$f":"'คุณลักษณะ-อ่านคิดวิเคราะห์'!AM27","v":""},{"$f":"'คุณลักษณะ-อ่านคิดวิเคราะห์'!AO27","v":""},null,"","","",{"$f":"รายชื่อนักเรียน!F25","v":0},"","","","","","","","","","","","","","","","","","","","","","","","","","","","","","","","","","","","","","","","","","","","","","","","","","","","","","","","","","","","","","","","","","","","","","","","","","","","","","","","","","","","","","","00",null,{"$f":"รายชื่อนักเรียน!B25","v":0},0,"","","","","","","","","","","","","","","","","","","","","",0]
[{"$f":"รายชื่อนักเรียน!B26","v":0},{"$f":"รายชื่อนักเรียน!C26","v":0},{"$f":"IF(รายชื่อนักเรียน!E26=\"\",\"\",รายชื่อนักเรียน!E26)","v":""},null,null,"",{"$f":"IF(D28=\"\",\"\",VLOOKUP(F28,ตั้งค่า!$AA$11:$AE$18,5,TRUE))","v":""},null,null,"",{"$f":"IF(H28=\"\",\"\",VLOOKUP(J28,ตั้งค่า!$AA$11:$AE$18,5,TRUE))","v":""},null,null,"",{"$f":"IF(L28=\"\",\"\",VLOOKUP(N28,ตั้งค่า!$AA$11:$AE$18,5,TRUE))","v":""},null,null,"",{"$f":"IF(P28=\"\",\"\",VLOOKUP(R28,ตั้งค่า!$AA$11:$AE$18,5,TRUE))","v":""},null,null,"",{"$f":"IF(T28=\"\",\"\",VLOOKUP(V28,ตั้งค่า!$AA$11:$AE$18,5,TRUE))","v":""},null,null,"",{"$f":"IF(X28=\"\",\"\",VLOOKUP(Z28,ตั้งค่า!$AA$11:$AE$18,5,TRUE))","v":""},null,null,"",{"$f":"IF(AB28=\"\",\"\",VLOOKUP(AD28,ตั้งค่า!$AA$11:$AE$18,5,TRUE))","v":""},null,null,"",{"$f":"IF(AF28=\"\",\"\",VLOOKUP(AH28,ตั้งค่า!$AA$11:$AE$18,5,TRUE))","v":""},null,null,"",{"$f":"IF(AJ28=\"\",\"\",VLOOKUP(AL28,ตั้งค่า!$AA$11:$AE$18,5,TRUE))","v":""},null,null,"",{"$f":"IF(AN28=\"\",\"\",VLOOKUP(AP28,ตั้งค่า!$AA$11:$AE$18,5,TRUE))","v":""},null,null,"",{"$f":"IF(AR28=\"\",\"\",VLOOKUP(AT28,ตั้งค่า!$AA$11:$AE$18,5,TRUE))","v":""},null,null,"",{"$f":"IF(AV28=\"\",\"\",VLOOKUP(AX28,ตั้งค่า!$AA$11:$AE$18,5,TRUE))","v":""},null,null,"",{"$f":"IF(AZ28=\"\",\"\",VLOOKUP(BB28,ตั้งค่า!$AA$11:$AE$18,5,TRUE))","v":""},null,null,"",{"$f":"IF(BD28=\"\",\"\",VLOOKUP(BF28,ตั้งค่า!$AA$11:$AE$18,5,TRUE))","v":""},null,null,"",{"$f":"IF(BH28=\"\",\"\",VLOOKUP(BJ28,ตั้งค่า!$AA$11:$AE$18,5,TRUE))","v":""},null,null,"",{"$f":"IF(BL28=\"\",\"\",VLOOKUP(BN28,ตั้งค่า!$AA$11:$AE$18,5,TRUE))","v":""},null,null,"",{"$f":"IF(BP28=\"\",\"\",VLOOKUP(BR28,ตั้งค่า!$AA$11:$AE$18,5,TRUE))","v":""},{"$f":"'คุณลักษณะ-อ่านคิดวิเคราะห์'!AM28","v":""},{"$f":"'คุณลักษณะ-อ่านคิดวิเคราะห์'!AO28","v":""},null,"","","",{"$f":"รายชื่อนักเรียน!F26","v":0},"","","","","","","","","","","","","","","","","","","","","","","","","","","","","","","","","","","","","","","","","","","","","","","","","","","","","","","","","","","","","","","","","","","","","","","","","","","","","","","","","","","","","","","00",null,{"$f":"รายชื่อนักเรียน!B26","v":0},0,"","","","","","","","","","","","","","","","","","","","","",0]
[{"$f":"รายชื่อนักเรียน!B27","v":0},{"$f":"รายชื่อนักเรียน!C27","v":0},{"$f":"IF(รายชื่อนักเรียน!E27=\"\",\"\",รายชื่อนักเรียน!E27)","v":""},null,null,"",{"$f":"IF(D29=\"\",\"\",VLOOKUP(F29,ตั้งค่า!$AA$11:$AE$18,5,TRUE))","v":""},null,null,"",{"$f":"IF(H29=\"\",\"\",VLOOKUP(J29,ตั้งค่า!$AA$11:$AE$18,5,TRUE))","v":""},null,null,"",{"$f":"IF(L29=\"\",\"\",VLOOKUP(N29,ตั้งค่า!$AA$11:$AE$18,5,TRUE))","v":""},null,null,"",{"$f":"IF(P29=\"\",\"\",VLOOKUP(R29,ตั้งค่า!$AA$11:$AE$18,5,TRUE))","v":""},null,null,"",{"$f":"IF(T29=\"\",\"\",VLOOKUP(V29,ตั้งค่า!$AA$11:$AE$18,5,TRUE))","v":""},null,null,"",{"$f":"IF(X29=\"\",\"\",VLOOKUP(Z29,ตั้งค่า!$AA$11:$AE$18,5,TRUE))","v":""},null,null,"",{"$f":"IF(AB29=\"\",\"\",VLOOKUP(AD29,ตั้งค่า!$AA$11:$AE$18,5,TRUE))","v":""},null,null,"",{"$f":"IF(AF29=\"\",\"\",VLOOKUP(AH29,ตั้งค่า!$AA$11:$AE$18,5,TRUE))","v":""},null,null,"",{"$f":"IF(AJ29=\"\",\"\",VLOOKUP(AL29,ตั้งค่า!$AA$11:$AE$18,5,TRUE))","v":""},null,null,"",{"$f":"IF(AN29=\"\",\"\",VLOOKUP(AP29,ตั้งค่า!$AA$11:$AE$18,5,TRUE))","v":""},null,null,"",{"$f":"IF(AR29=\"\",\"\",VLOOKUP(AT29,ตั้งค่า!$AA$11:$AE$18,5,TRUE))","v":""},null,null,"",{"$f":"IF(AV29=\"\",\"\",VLOOKUP(AX29,ตั้งค่า!$AA$11:$AE$18,5,TRUE))","v":""},null,null,"",{"$f":"IF(AZ29=\"\",\"\",VLOOKUP(BB29,ตั้งค่า!$AA$11:$AE$18,5,TRUE))","v":""},null,null,"",{"$f":"IF(BD29=\"\",\"\",VLOOKUP(BF29,ตั้งค่า!$AA$11:$AE$18,5,TRUE))","v":""},null,null,"",{"$f":"IF(BH29=\"\",\"\",VLOOKUP(BJ29,ตั้งค่า!$AA$11:$AE$18,5,TRUE))","v":""},null,null,"",{"$f":"IF(BL29=\"\",\"\",VLOOKUP(BN29,ตั้งค่า!$AA$11:$AE$18,5,TRUE))","v":""},null,null,"",{"$f":"IF(BP29=\"\",\"\",VLOOKUP(BR29,ตั้งค่า!$AA$11:$AE$18,5,TRUE))","v":""},{"$f":"'คุณลักษณะ-อ่านคิดวิเคราะห์'!AM29","v":""},{"$f":"'คุณลักษณะ-อ่านคิดวิเคราะห์'!AO29","v":""},null,"","","",{"$f":"รายชื่อนักเรียน!F27","v":0},"","","","","","","","","","","","","","","","","","","","","","","","","","","","","","","","","","","","","","","","","","","","","","","","","","","","","","","","","","","","","","","","","","","","","","","","","","","","","","","","","","","","","","","00",null,{"$f":"รายชื่อนักเรียน!B27","v":0},0,"","","","","","","","","","","","","","","","","","","","","",0]
[{"$f":"รายชื่อนักเรียน!B28","v":0},{"$f":"รายชื่อนักเรียน!C28","v":0},{"$f":"IF(รายชื่อนักเรียน!E28=\"\",\"\",รายชื่อนักเรียน!E28)","v":""},null,null,"",{"$f":"IF(D30=\"\",\"\",VLOOKUP(F30,ตั้งค่า!$AA$11:$AE$18,5,TRUE))","v":""},null,null,"",{"$f":"IF(H30=\"\",\"\",VLOOKUP(J30,ตั้งค่า!$AA$11:$AE$18,5,TRUE))","v":""},null,null,"",{"$f":"IF(L30=\"\",\"\",VLOOKUP(N30,ตั้งค่า!$AA$11:$AE$18,5,TRUE))","v":""},null,null,"",{"$f":"IF(P30=\"\",\"\",VLOOKUP(R30,ตั้งค่า!$AA$11:$AE$18,5,TRUE))","v":""},null,null,"",{"$f":"IF(T30=\"\",\"\",VLOOKUP(V30,ตั้งค่า!$AA$11:$AE$18,5,TRUE))","v":""},null,null,"",{"$f":"IF(X30=\"\",\"\",VLOOKUP(Z30,ตั้งค่า!$AA$11:$AE$18,5,TRUE))","v":""},null,null,"",{"$f":"IF(AB30=\"\",\"\",VLOOKUP(AD30,ตั้งค่า!$AA$11:$AE$18,5,TRUE))","v":""},null,null,"",{"$f":"IF(AF30=\"\",\"\",VLOOKUP(AH30,ตั้งค่า!$AA$11:$AE$18,5,TRUE))","v":""},null,null,"",{"$f":"IF(AJ30=\"\",\"\",VLOOKUP(AL30,ตั้งค่า!$AA$11:$AE$18,5,TRUE))","v":""},null,null,"",{"$f":"IF(AN30=\"\",\"\",VLOOKUP(AP30,ตั้งค่า!$AA$11:$AE$18,5,TRUE))","v":""},null,null,"",{"$f":"IF(AR30=\"\",\"\",VLOOKUP(AT30,ตั้งค่า!$AA$11:$AE$18,5,TRUE))","v":""},null,null,"",{"$f":"IF(AV30=\"\",\"\",VLOOKUP(AX30,ตั้งค่า!$AA$11:$AE$18,5,TRUE))","v":""},null,null,"",{"$f":"IF(AZ30=\"\",\"\",VLOOKUP(BB30,ตั้งค่า!$AA$11:$AE$18,5,TRUE))","v":""},null,null,"",{"$f":"IF(BD30=\"\",\"\",VLOOKUP(BF30,ตั้งค่า!$AA$11:$AE$18,5,TRUE))","v":""},null,null,"",{"$f":"IF(BH30=\"\",\"\",VLOOKUP(BJ30,ตั้งค่า!$AA$11:$AE$18,5,TRUE))","v":""},null,null,"",{"$f":"IF(BL30=\"\",\"\",VLOOKUP(BN30,ตั้งค่า!$AA$11:$AE$18,5,TRUE))","v":""},null,null,"",{"$f":"IF(BP30=\"\",\"\",VLOOKUP(BR30,ตั้งค่า!$AA$11:$AE$18,5,TRUE))","v":""},{"$f":"'คุณลักษณะ-อ่านคิดวิเคราะห์'!AM30","v":""},{"$f":"'คุณลักษณะ-อ่านคิดวิเคราะห์'!AO30","v":""},null,"","","",{"$f":"รายชื่อนักเรียน!F28","v":0},"","","","","","","","","","","","","","","","","","","","","","","","","","","","","","","","","","","","","","","","","","","","","","","","","","","","","","","","","","","","","","","","","","","","","","","","","","","","","","","","","","","","","","","00",null,{"$f":"รายชื่อนักเรียน!B28","v":0},0,"","","","","","","","","","","","","","","","","","","","","",0]
[{"$f":"รายชื่อนักเรียน!B29","v":0},{"$f":"รายชื่อนักเรียน!C29","v":0},{"$f":"IF(รายชื่อนักเรียน!E29=\"\",\"\",รายชื่อนักเรียน!E29)","v":""},null,null,"",{"$f":"IF(D31=\"\",\"\",VLOOKUP(F31,ตั้งค่า!$AA$11:$AE$18,5,TRUE))","v":""},null,null,"",{"$f":"IF(H31=\"\",\"\",VLOOKUP(J31,ตั้งค่า!$AA$11:$AE$18,5,TRUE))","v":""},null,null,"",{"$f":"IF(L31=\"\",\"\",VLOOKUP(N31,ตั้งค่า!$AA$11:$AE$18,5,TRUE))","v":""},null,null,"",{"$f":"IF(P31=\"\",\"\",VLOOKUP(R31,ตั้งค่า!$AA$11:$AE$18,5,TRUE))","v":""},null,null,"",{"$f":"IF(T31=\"\",\"\",VLOOKUP(V31,ตั้งค่า!$AA$11:$AE$18,5,TRUE))","v":""},null,null,"",{"$f":"IF(X31=\"\",\"\",VLOOKUP(Z31,ตั้งค่า!$AA$11:$AE$18,5,TRUE))","v":""},null,null,"",{"$f":"IF(AB31=\"\",\"\",VLOOKUP(AD31,ตั้งค่า!$AA$11:$AE$18,5,TRUE))","v":""},null,null,"",{"$f":"IF(AF31=\"\",\"\",VLOOKUP(AH31,ตั้งค่า!$AA$11:$AE$18,5,TRUE))","v":""},null,null,"",{"$f":"IF(AJ31=\"\",\"\",VLOOKUP(AL31,ตั้งค่า!$AA$11:$AE$18,5,TRUE))","v":""},null,null,"",{"$f":"IF(AN31=\"\",\"\",VLOOKUP(AP31,ตั้งค่า!$AA$11:$AE$18,5,TRUE))","v":""},null,null,"",{"$f":"IF(AR31=\"\",\"\",VLOOKUP(AT31,ตั้งค่า!$AA$11:$AE$18,5,TRUE))","v":""},null,null,"",{"$f":"IF(AV31=\"\",\"\",VLOOKUP(AX31,ตั้งค่า!$AA$11:$AE$18,5,TRUE))","v":""},null,null,"",{"$f":"IF(AZ31=\"\",\"\",VLOOKUP(BB31,ตั้งค่า!$AA$11:$AE$18,5,TRUE))","v":""},null,null,"",{"$f":"IF(BD31=\"\",\"\",VLOOKUP(BF31,ตั้งค่า!$AA$11:$AE$18,5,TRUE))","v":""},null,null,"",{"$f":"IF(BH31=\"\",\"\",VLOOKUP(BJ31,ตั้งค่า!$AA$11:$AE$18,5,TRUE))","v":""},null,null,"",{"$f":"IF(BL31=\"\",\"\",VLOOKUP(BN31,ตั้งค่า!$AA$11:$AE$18,5,TRUE))","v":""},null,null,"",{"$f":"IF(BP31=\"\",\"\",VLOOKUP(BR31,ตั้งค่า!$AA$11:$AE$18,5,TRUE))","v":""},{"$f":"'คุณลักษณะ-อ่านคิดวิเคราะห์'!AM31","v":""},{"$f":"'คุณลักษณะ-อ่านคิดวิเคราะห์'!AO31","v":""},null,"","","",{"$f":"รายชื่อนักเรียน!F29","v":0},"","","","","","","","","","","","","","","","","","","","","","","","","","","","","","","","","","","","","","","","","","","","","","","","","","","","","","","","","","","","","","","","","","","","","","","","","","","","","","","","","","","","","","","00",null,{"$f":"รายชื่อนักเรียน!B29","v":0},0,"","","","","","","","","","","","","","","","","","","","","",0]
[{"$f":"รายชื่อนักเรียน!B30","v":0},{"$f":"รายชื่อนักเรียน!C30","v":0},{"$f":"IF(รายชื่อนักเรียน!E30=\"\",\"\",รายชื่อนักเรียน!E30)","v":""},null,null,"",{"$f":"IF(D32=\"\",\"\",VLOOKUP(F32,ตั้งค่า!$AA$11:$AE$18,5,TRUE))","v":""},null,null,"",{"$f":"IF(H32=\"\",\"\",VLOOKUP(J32,ตั้งค่า!$AA$11:$AE$18,5,TRUE))","v":""},null,null,"",{"$f":"IF(L32=\"\",\"\",VLOOKUP(N32,ตั้งค่า!$AA$11:$AE$18,5,TRUE))","v":""},null,null,"",{"$f":"IF(P32=\"\",\"\",VLOOKUP(R32,ตั้งค่า!$AA$11:$AE$18,5,TRUE))","v":""},null,null,"",{"$f":"IF(T32=\"\",\"\",VLOOKUP(V32,ตั้งค่า!$AA$11:$AE$18,5,TRUE))","v":""},null,null,"",{"$f":"IF(X32=\"\",\"\",VLOOKUP(Z32,ตั้งค่า!$AA$11:$AE$18,5,TRUE))","v":""},null,null,"",{"$f":"IF(AB32=\"\",\"\",VLOOKUP(AD32,ตั้งค่า!$AA$11:$AE$18,5,TRUE))","v":""},null,null,"",{"$f":"IF(AF32=\"\",\"\",VLOOKUP(AH32,ตั้งค่า!$AA$11:$AE$18,5,TRUE))","v":""},null,null,"",{"$f":"IF(AJ32=\"\",\"\",VLOOKUP(AL32,ตั้งค่า!$AA$11:$AE$18,5,TRUE))","v":""},null,null,"",{"$f":"IF(AN32=\"\",\"\",VLOOKUP(AP32,ตั้งค่า!$AA$11:$AE$18,5,TRUE))","v":""},null,null,"",{"$f":"IF(AR32=\"\",\"\",VLOOKUP(AT32,ตั้งค่า!$AA$11:$AE$18,5,TRUE))","v":""},null,null,"",{"$f":"IF(AV32=\"\",\"\",VLOOKUP(AX32,ตั้งค่า!$AA$11:$AE$18,5,TRUE))","v":""},null,null,"",{"$f":"IF(AZ32=\"\",\"\",VLOOKUP(BB32,ตั้งค่า!$AA$11:$AE$18,5,TRUE))","v":""},null,null,"",{"$f":"IF(BD32=\"\",\"\",VLOOKUP(BF32,ตั้งค่า!$AA$11:$AE$18,5,TRUE))","v":""},null,null,"",{"$f":"IF(BH32=\"\",\"\",VLOOKUP(BJ32,ตั้งค่า!$AA$11:$AE$18,5,TRUE))","v":""},null,null,"",{"$f":"IF(BL32=\"\",\"\",VLOOKUP(BN32,ตั้งค่า!$AA$11:$AE$18,5,TRUE))","v":""},null,null,"",{"$f":"IF(BP32=\"\",\"\",VLOOKUP(BR32,ตั้งค่า!$AA$11:$AE$18,5,TRUE))","v":""},{"$f":"'คุณลักษณะ-อ่านคิดวิเคราะห์'!AM32","v":""},{"$f":"'คุณลักษณะ-อ่านคิดวิเคราะห์'!AO32","v":""},null,"","","",{"$f":"รายชื่อนักเรียน!F30","v":0},"","","","","","","","","","","","","","","","","","","","","","","","","","","","","","","","","","","","","","","","","","","","","","","","","","","","","","","","","","","","","","","","","","","","","","","","","","","","","","","","","","","","","","","00",null,{"$f":"รายชื่อนักเรียน!B30","v":0},0,"","","","","","","","","","","","","","","","","","","","","",0]
[{"$f":"รายชื่อนักเรียน!B31","v":0},{"$f":"รายชื่อนักเรียน!C31","v":0},{"$f":"IF(รายชื่อนักเรียน!E31=\"\",\"\",รายชื่อนักเรียน!E31)","v":""},null,null,"",{"$f":"IF(D33=\"\",\"\",VLOOKUP(F33,ตั้งค่า!$AA$11:$AE$18,5,TRUE))","v":""},null,null,"",{"$f":"IF(H33=\"\",\"\",VLOOKUP(J33,ตั้งค่า!$AA$11:$AE$18,5,TRUE))","v":""},null,null,"",{"$f":"IF(L33=\"\",\"\",VLOOKUP(N33,ตั้งค่า!$AA$11:$AE$18,5,TRUE))","v":""},null,null,"",{"$f":"IF(P33=\"\",\"\",VLOOKUP(R33,ตั้งค่า!$AA$11:$AE$18,5,TRUE))","v":""},null,null,"",{"$f":"IF(T33=\"\",\"\",VLOOKUP(V33,ตั้งค่า!$AA$11:$AE$18,5,TRUE))","v":""},null,null,"",{"$f":"IF(X33=\"\",\"\",VLOOKUP(Z33,ตั้งค่า!$AA$11:$AE$18,5,TRUE))","v":""},null,null,"",{"$f":"IF(AB33=\"\",\"\",VLOOKUP(AD33,ตั้งค่า!$AA$11:$AE$18,5,TRUE))","v":""},null,null,"",{"$f":"IF(AF33=\"\",\"\",VLOOKUP(AH33,ตั้งค่า!$AA$11:$AE$18,5,TRUE))","v":""},null,null,"",{"$f":"IF(AJ33=\"\",\"\",VLOOKUP(AL33,ตั้งค่า!$AA$11:$AE$18,5,TRUE))","v":""},null,null,"",{"$f":"IF(AN33=\"\",\"\",VLOOKUP(AP33,ตั้งค่า!$AA$11:$AE$18,5,TRUE))","v":""},null,null,"",{"$f":"IF(AR33=\"\",\"\",VLOOKUP(AT33,ตั้งค่า!$AA$11:$AE$18,5,TRUE))","v":""},null,null,"",{"$f":"IF(AV33=\"\",\"\",VLOOKUP(AX33,ตั้งค่า!$AA$11:$AE$18,5,TRUE))","v":""},null,null,"",{"$f":"IF(AZ33=\"\",\"\",VLOOKUP(BB33,ตั้งค่า!$AA$11:$AE$18,5,TRUE))","v":""},null,null,"",{"$f":"IF(BD33=\"\",\"\",VLOOKUP(BF33,ตั้งค่า!$AA$11:$AE$18,5,TRUE))","v":""},null,null,"",{"$f":"IF(BH33=\"\",\"\",VLOOKUP(BJ33,ตั้งค่า!$AA$11:$AE$18,5,TRUE))","v":""},null,null,"",{"$f":"IF(BL33=\"\",\"\",VLOOKUP(BN33,ตั้งค่า!$AA$11:$AE$18,5,TRUE))","v":""},null,null,"",{"$f":"IF(BP33=\"\",\"\",VLOOKUP(BR33,ตั้งค่า!$AA$11:$AE$18,5,TRUE))","v":""},{"$f":"'คุณลักษณะ-อ่านคิดวิเคราะห์'!AM33","v":""},{"$f":"'คุณลักษณะ-อ่านคิดวิเคราะห์'!AO33","v":""},null,"","","",{"$f":"รายชื่อนักเรียน!F31","v":0},"","","","","","","","","","","","","","","","","","","","","","","","","","","","","","","","","","","","","","","","","","","","","","","","","","","","","","","","","","","","","","","","","","","","","","","","","","","","","","","","","","","","","","","00",null,{"$f":"รายชื่อนักเรียน!B31","v":0},0,"","","","","","","","","","","","","","","","","","","","","",0]
[{"$f":"รายชื่อนักเรียน!B32","v":0},{"$f":"รายชื่อนักเรียน!C32","v":0},{"$f":"IF(รายชื่อนักเรียน!E32=\"\",\"\",รายชื่อนักเรียน!E32)","v":""},null,null,"",{"$f":"IF(D34=\"\",\"\",VLOOKUP(F34,ตั้งค่า!$AA$11:$AE$18,5,TRUE))","v":""},null,null,"",{"$f":"IF(H34=\"\",\"\",VLOOKUP(J34,ตั้งค่า!$AA$11:$AE$18,5,TRUE))","v":""},null,null,"",{"$f":"IF(L34=\"\",\"\",VLOOKUP(N34,ตั้งค่า!$AA$11:$AE$18,5,TRUE))","v":""},null,null,"",{"$f":"IF(P34=\"\",\"\",VLOOKUP(R34,ตั้งค่า!$AA$11:$AE$18,5,TRUE))","v":""},null,null,"",{"$f":"IF(T34=\"\",\"\",VLOOKUP(V34,ตั้งค่า!$AA$11:$AE$18,5,TRUE))","v":""},null,null,"",{"$f":"IF(X34=\"\",\"\",VLOOKUP(Z34,ตั้งค่า!$AA$11:$AE$18,5,TRUE))","v":""},null,null,"",{"$f":"IF(AB34=\"\",\"\",VLOOKUP(AD34,ตั้งค่า!$AA$11:$AE$18,5,TRUE))","v":""},null,null,"",{"$f":"IF(AF34=\"\",\"\",VLOOKUP(AH34,ตั้งค่า!$AA$11:$AE$18,5,TRUE))","v":""},null,null,"",{"$f":"IF(AJ34=\"\",\"\",VLOOKUP(AL34,ตั้งค่า!$AA$11:$AE$18,5,TRUE))","v":""},null,null,"",{"$f":"IF(AN34=\"\",\"\",VLOOKUP(AP34,ตั้งค่า!$AA$11:$AE$18,5,TRUE))","v":""},null,null,"",{"$f":"IF(AR34=\"\",\"\",VLOOKUP(AT34,ตั้งค่า!$AA$11:$AE$18,5,TRUE))","v":""},null,null,"",{"$f":"IF(AV34=\"\",\"\",VLOOKUP(AX34,ตั้งค่า!$AA$11:$AE$18,5,TRUE))","v":""},null,null,"",{"$f":"IF(AZ34=\"\",\"\",VLOOKUP(BB34,ตั้งค่า!$AA$11:$AE$18,5,TRUE))","v":""},null,null,"",{"$f":"IF(BD34=\"\",\"\",VLOOKUP(BF34,ตั้งค่า!$AA$11:$AE$18,5,TRUE))","v":""},null,null,"",{"$f":"IF(BH34=\"\",\"\",VLOOKUP(BJ34,ตั้งค่า!$AA$11:$AE$18,5,TRUE))","v":""},null,null,"",{"$f":"IF(BL34=\"\",\"\",VLOOKUP(BN34,ตั้งค่า!$AA$11:$AE$18,5,TRUE))","v":""},null,null,"",{"$f":"IF(BP34=\"\",\"\",VLOOKUP(BR34,ตั้งค่า!$AA$11:$AE$18,5,TRUE))","v":""},{"$f":"'คุณลักษณะ-อ่านคิดวิเคราะห์'!AM34","v":""},{"$f":"'คุณลักษณะ-อ่านคิดวิเคราะห์'!AO34","v":""},null,"","","",{"$f":"รายชื่อนักเรียน!F32","v":0},"","","","","","","","","","","","","","","","","","","","","","","","","","","","","","","","","","","","","","","","","","","","","","","","","","","","","","","","","","","","","","","","","","","","","","","","","","","","","","","","","","","","","","","00",null,{"$f":"รายชื่อนักเรียน!B32","v":0},0,"","","","","","","","","","","","","","","","","","","","","",0]
[{"$f":"รายชื่อนักเรียน!B33","v":0},{"$f":"รายชื่อนักเรียน!C33","v":0},{"$f":"IF(รายชื่อนักเรียน!E33=\"\",\"\",รายชื่อนักเรียน!E33)","v":""},null,null,"",{"$f":"IF(D35=\"\",\"\",VLOOKUP(F35,ตั้งค่า!$AA$11:$AE$18,5,TRUE))","v":""},null,null,"",{"$f":"IF(H35=\"\",\"\",VLOOKUP(J35,ตั้งค่า!$AA$11:$AE$18,5,TRUE))","v":""},null,null,"",{"$f":"IF(L35=\"\",\"\",VLOOKUP(N35,ตั้งค่า!$AA$11:$AE$18,5,TRUE))","v":""},null,null,"",{"$f":"IF(P35=\"\",\"\",VLOOKUP(R35,ตั้งค่า!$AA$11:$AE$18,5,TRUE))","v":""},null,null,"",{"$f":"IF(T35=\"\",\"\",VLOOKUP(V35,ตั้งค่า!$AA$11:$AE$18,5,TRUE))","v":""},null,null,"",{"$f":"IF(X35=\"\",\"\",VLOOKUP(Z35,ตั้งค่า!$AA$11:$AE$18,5,TRUE))","v":""},null,null,"",{"$f":"IF(AB35=\"\",\"\",VLOOKUP(AD35,ตั้งค่า!$AA$11:$AE$18,5,TRUE))","v":""},null,null,"",{"$f":"IF(AF35=\"\",\"\",VLOOKUP(AH35,ตั้งค่า!$AA$11:$AE$18,5,TRUE))","v":""},null,null,"",{"$f":"IF(AJ35=\"\",\"\",VLOOKUP(AL35,ตั้งค่า!$AA$11:$AE$18,5,TRUE))","v":""},null,null,"",{"$f":"IF(AN35=\"\",\"\",VLOOKUP(AP35,ตั้งค่า!$AA$11:$AE$18,5,TRUE))","v":""},null,null,"",{"$f":"IF(AR35=\"\",\"\",VLOOKUP(AT35,ตั้งค่า!$AA$11:$AE$18,5,TRUE))","v":""},null,null,"",{"$f":"IF(AV35=\"\",\"\",VLOOKUP(AX35,ตั้งค่า!$AA$11:$AE$18,5,TRUE))","v":""},null,null,"",{"$f":"IF(AZ35=\"\",\"\",VLOOKUP(BB35,ตั้งค่า!$AA$11:$AE$18,5,TRUE))","v":""},null,null,"",{"$f":"IF(BD35=\"\",\"\",VLOOKUP(BF35,ตั้งค่า!$AA$11:$AE$18,5,TRUE))","v":""},null,null,"",{"$f":"IF(BH35=\"\",\"\",VLOOKUP(BJ35,ตั้งค่า!$AA$11:$AE$18,5,TRUE))","v":""},null,null,"",{"$f":"IF(BL35=\"\",\"\",VLOOKUP(BN35,ตั้งค่า!$AA$11:$AE$18,5,TRUE))","v":""},null,null,"",{"$f":"IF(BP35=\"\",\"\",VLOOKUP(BR35,ตั้งค่า!$AA$11:$AE$18,5,TRUE))","v":""},{"$f":"'คุณลักษณะ-อ่านคิดวิเคราะห์'!AM35","v":""},{"$f":"'คุณลักษณะ-อ่านคิดวิเคราะห์'!AO35","v":""},null,"","","",{"$f":"รายชื่อนักเรียน!F33","v":0},"","","","","","","","","","","","","","","","","","","","","","","","","","","","","","","","","","","","","","","","","","","","","","","","","","","","","","","","","","","","","","","","","","","","","","","","","","","","","","","","","","","","","","","00",null,{"$f":"รายชื่อนักเรียน!B33","v":0},0,"","","","","","","","","","","","","","","","","","","","","",0]
[{"$f":"รายชื่อนักเรียน!B34","v":0},{"$f":"รายชื่อนักเรียน!C34","v":0},{"$f":"IF(รายชื่อนักเรียน!E34=\"\",\"\",รายชื่อนักเรียน!E34)","v":""},null,null,"",{"$f":"IF(D36=\"\",\"\",VLOOKUP(F36,ตั้งค่า!$AA$11:$AE$18,5,TRUE))","v":""},null,null,"",{"$f":"IF(H36=\"\",\"\",VLOOKUP(J36,ตั้งค่า!$AA$11:$AE$18,5,TRUE))","v":""},null,null,"",{"$f":"IF(L36=\"\",\"\",VLOOKUP(N36,ตั้งค่า!$AA$11:$AE$18,5,TRUE))","v":""},null,null,"",{"$f":"IF(P36=\"\",\"\",VLOOKUP(R36,ตั้งค่า!$AA$11:$AE$18,5,TRUE))","v":""},null,null,"",{"$f":"IF(T36=\"\",\"\",VLOOKUP(V36,ตั้งค่า!$AA$11:$AE$18,5,TRUE))","v":""},null,null,"",{"$f":"IF(X36=\"\",\"\",VLOOKUP(Z36,ตั้งค่า!$AA$11:$AE$18,5,TRUE))","v":""},null,null,"",{"$f":"IF(AB36=\"\",\"\",VLOOKUP(AD36,ตั้งค่า!$AA$11:$AE$18,5,TRUE))","v":""},null,null,"",{"$f":"IF(AF36=\"\",\"\",VLOOKUP(AH36,ตั้งค่า!$AA$11:$AE$18,5,TRUE))","v":""},null,null,"",{"$f":"IF(AJ36=\"\",\"\",VLOOKUP(AL36,ตั้งค่า!$AA$11:$AE$18,5,TRUE))","v":""},null,null,"",{"$f":"IF(AN36=\"\",\"\",VLOOKUP(AP36,ตั้งค่า!$AA$11:$AE$18,5,TRUE))","v":""},null,null,"",{"$f":"IF(AR36=\"\",\"\",VLOOKUP(AT36,ตั้งค่า!$AA$11:$AE$18,5,TRUE))","v":""},null,null,"",{"$f":"IF(AV36=\"\",\"\",VLOOKUP(AX36,ตั้งค่า!$AA$11:$AE$18,5,TRUE))","v":""},null,null,"",{"$f":"IF(AZ36=\"\",\"\",VLOOKUP(BB36,ตั้งค่า!$AA$11:$AE$18,5,TRUE))","v":""},null,null,"",{"$f":"IF(BD36=\"\",\"\",VLOOKUP(BF36,ตั้งค่า!$AA$11:$AE$18,5,TRUE))","v":""},null,null,"",{"$f":"IF(BH36=\"\",\"\",VLOOKUP(BJ36,ตั้งค่า!$AA$11:$AE$18,5,TRUE))","v":""},null,null,"",{"$f":"IF(BL36=\"\",\"\",VLOOKUP(BN36,ตั้งค่า!$AA$11:$AE$18,5,TRUE))","v":""},null,null,"",{"$f":"IF(BP36=\"\",\"\",VLOOKUP(BR36,ตั้งค่า!$AA$11:$AE$18,5,TRUE))","v":""},{"$f":"'คุณลักษณะ-อ่านคิดวิเคราะห์'!AM36","v":""},{"$f":"'คุณลักษณะ-อ่านคิดวิเคราะห์'!AO36","v":""},null,"","","",{"$f":"รายชื่อนักเรียน!F34","v":0},"","","","","","","","","","","","","","","","","","","","","","","","","","","","","","","","","","","","","","","","","","","","","","","","","","","","","","","","","","","","","","","","","","","","","","","","","","","","","","","","","","","","","","","00",null,{"$f":"รายชื่อนักเรียน!B34","v":0},0,"","","","","","","","","","","","","","","","","","","","","",0]
[{"$f":"รายชื่อนักเรียน!B35","v":0},{"$f":"รายชื่อนักเรียน!C35","v":0},{"$f":"IF(รายชื่อนักเรียน!E35=\"\",\"\",รายชื่อนักเรียน!E35)","v":""},null,null,"",{"$f":"IF(D37=\"\",\"\",VLOOKUP(F37,ตั้งค่า!$AA$11:$AE$18,5,TRUE))","v":""},null,null,"",{"$f":"IF(H37=\"\",\"\",VLOOKUP(J37,ตั้งค่า!$AA$11:$AE$18,5,TRUE))","v":""},null,null,"",{"$f":"IF(L37=\"\",\"\",VLOOKUP(N37,ตั้งค่า!$AA$11:$AE$18,5,TRUE))","v":""},null,null,"",{"$f":"IF(P37=\"\",\"\",VLOOKUP(R37,ตั้งค่า!$AA$11:$AE$18,5,TRUE))","v":""},null,null,"",{"$f":"IF(T37=\"\",\"\",VLOOKUP(V37,ตั้งค่า!$AA$11:$AE$18,5,TRUE))","v":""},null,null,"",{"$f":"IF(X37=\"\",\"\",VLOOKUP(Z37,ตั้งค่า!$AA$11:$AE$18,5,TRUE))","v":""},null,null,"",{"$f":"IF(AB37=\"\",\"\",VLOOKUP(AD37,ตั้งค่า!$AA$11:$AE$18,5,TRUE))","v":""},null,null,"",{"$f":"IF(AF37=\"\",\"\",VLOOKUP(AH37,ตั้งค่า!$AA$11:$AE$18,5,TRUE))","v":""},null,null,"",{"$f":"IF(AJ37=\"\",\"\",VLOOKUP(AL37,ตั้งค่า!$AA$11:$AE$18,5,TRUE))","v":""},null,null,"",{"$f":"IF(AN37=\"\",\"\",VLOOKUP(AP37,ตั้งค่า!$AA$11:$AE$18,5,TRUE))","v":""},null,null,"",{"$f":"IF(AR37=\"\",\"\",VLOOKUP(AT37,ตั้งค่า!$AA$11:$AE$18,5,TRUE))","v":""},null,null,"",{"$f":"IF(AV37=\"\",\"\",VLOOKUP(AX37,ตั้งค่า!$AA$11:$AE$18,5,TRUE))","v":""},null,null,"",{"$f":"IF(AZ37=\"\",\"\",VLOOKUP(BB37,ตั้งค่า!$AA$11:$AE$18,5,TRUE))","v":""},null,null,"",{"$f":"IF(BD37=\"\",\"\",VLOOKUP(BF37,ตั้งค่า!$AA$11:$AE$18,5,TRUE))","v":""},null,null,"",{"$f":"IF(BH37=\"\",\"\",VLOOKUP(BJ37,ตั้งค่า!$AA$11:$AE$18,5,TRUE))","v":""},null,null,"",{"$f":"IF(BL37=\"\",\"\",VLOOKUP(BN37,ตั้งค่า!$AA$11:$AE$18,5,TRUE))","v":""},null,null,"",{"$f":"IF(BP37=\"\",\"\",VLOOKUP(BR37,ตั้งค่า!$AA$11:$AE$18,5,TRUE))","v":""},{"$f":"'คุณลักษณะ-อ่านคิดวิเคราะห์'!AM37","v":""},{"$f":"'คุณลักษณะ-อ่านคิดวิเคราะห์'!AO37","v":""},null,"","","",{"$f":"รายชื่อนักเรียน!F35","v":0},"","","","","","","","","","","","","","","","","","","","","","","","","","","","","","","","","","","","","","","","","","","","","","","","","","","","","","","","","","","","","","","","","","","","","","","","","","","","","","","","","","","","","","","00",null,{"$f":"รายชื่อนักเรียน!B35","v":0},0,"","","","","","","","","","","","","","","","","","","","","",0]
[{"$f":"รายชื่อนักเรียน!B36","v":0},{"$f":"รายชื่อนักเรียน!C36","v":0},{"$f":"IF(รายชื่อนักเรียน!E36=\"\",\"\",รายชื่อนักเรียน!E36)","v":""},null,null,"",{"$f":"IF(D38=\"\",\"\",VLOOKUP(F38,ตั้งค่า!$AA$11:$AE$18,5,TRUE))","v":""},null,null,"",{"$f":"IF(H38=\"\",\"\",VLOOKUP(J38,ตั้งค่า!$AA$11:$AE$18,5,TRUE))","v":""},null,null,"",{"$f":"IF(L38=\"\",\"\",VLOOKUP(N38,ตั้งค่า!$AA$11:$AE$18,5,TRUE))","v":""},null,null,"",{"$f":"IF(P38=\"\",\"\",VLOOKUP(R38,ตั้งค่า!$AA$11:$AE$18,5,TRUE))","v":""},null,null,"",{"$f":"IF(T38=\"\",\"\",VLOOKUP(V38,ตั้งค่า!$AA$11:$AE$18,5,TRUE))","v":""},null,null,"",{"$f":"IF(X38=\"\",\"\",VLOOKUP(Z38,ตั้งค่า!$AA$11:$AE$18,5,TRUE))","v":""},null,null,"",{"$f":"IF(AB38=\"\",\"\",VLOOKUP(AD38,ตั้งค่า!$AA$11:$AE$18,5,TRUE))","v":""},null,null,"",{"$f":"IF(AF38=\"\",\"\",VLOOKUP(AH38,ตั้งค่า!$AA$11:$AE$18,5,TRUE))","v":""},null,null,"",{"$f":"IF(AJ38=\"\",\"\",VLOOKUP(AL38,ตั้งค่า!$AA$11:$AE$18,5,TRUE))","v":""},null,null,"",{"$f":"IF(AN38=\"\",\"\",VLOOKUP(AP38,ตั้งค่า!$AA$11:$AE$18,5,TRUE))","v":""},null,null,"",{"$f":"IF(AR38=\"\",\"\",VLOOKUP(AT38,ตั้งค่า!$AA$11:$AE$18,5,TRUE))","v":""},null,null,"",{"$f":"IF(AV38=\"\",\"\",VLOOKUP(AX38,ตั้งค่า!$AA$11:$AE$18,5,TRUE))","v":""},null,null,"",{"$f":"IF(AZ38=\"\",\"\",VLOOKUP(BB38,ตั้งค่า!$AA$11:$AE$18,5,TRUE))","v":""},null,null,"",{"$f":"IF(BD38=\"\",\"\",VLOOKUP(BF38,ตั้งค่า!$AA$11:$AE$18,5,TRUE))","v":""},null,null,"",{"$f":"IF(BH38=\"\",\"\",VLOOKUP(BJ38,ตั้งค่า!$AA$11:$AE$18,5,TRUE))","v":""},null,null,"",{"$f":"IF(BL38=\"\",\"\",VLOOKUP(BN38,ตั้งค่า!$AA$11:$AE$18,5,TRUE))","v":""},null,null,"",{"$f":"IF(BP38=\"\",\"\",VLOOKUP(BR38,ตั้งค่า!$AA$11:$AE$18,5,TRUE))","v":""},{"$f":"'คุณลักษณะ-อ่านคิดวิเคราะห์'!AM38","v":""},{"$f":"'คุณลักษณะ-อ่านคิดวิเคราะห์'!AO38","v":""},null,"","","",{"$f":"รายชื่อนักเรียน!F36","v":0},"","","","","","","","","","","","","","","","","","","","","","","","","","","","","","","","","","","","","","","","","","","","","","","","","","","","","","","","","","","","","","","","","","","","","","","","","","","","","","","","","","","","","","","00",null,{"$f":"รายชื่อนักเรียน!B36","v":0},0,"","","","","","","","","","","","","","","","","","","","","",0]
[{"$f":"รายชื่อนักเรียน!B37","v":0},{"$f":"รายชื่อนักเรียน!C37","v":0},{"$f":"IF(รายชื่อนักเรียน!E37=\"\",\"\",รายชื่อนักเรียน!E37)","v":""},null,null,"",{"$f":"IF(D39=\"\",\"\",VLOOKUP(F39,ตั้งค่า!$AA$11:$AE$18,5,TRUE))","v":""},null,null,"",{"$f":"IF(H39=\"\",\"\",VLOOKUP(J39,ตั้งค่า!$AA$11:$AE$18,5,TRUE))","v":""},null,null,"",{"$f":"IF(L39=\"\",\"\",VLOOKUP(N39,ตั้งค่า!$AA$11:$AE$18,5,TRUE))","v":""},null,null,"",{"$f":"IF(P39=\"\",\"\",VLOOKUP(R39,ตั้งค่า!$AA$11:$AE$18,5,TRUE))","v":""},null,null,"",{"$f":"IF(T39=\"\",\"\",VLOOKUP(V39,ตั้งค่า!$AA$11:$AE$18,5,TRUE))","v":""},null,null,"",{"$f":"IF(X39=\"\",\"\",VLOOKUP(Z39,ตั้งค่า!$AA$11:$AE$18,5,TRUE))","v":""},null,null,"",{"$f":"IF(AB39=\"\",\"\",VLOOKUP(AD39,ตั้งค่า!$AA$11:$AE$18,5,TRUE))","v":""},null,null,"",{"$f":"IF(AF39=\"\",\"\",VLOOKUP(AH39,ตั้งค่า!$AA$11:$AE$18,5,TRUE))","v":""},null,null,"",{"$f":"IF(AJ39=\"\",\"\",VLOOKUP(AL39,ตั้งค่า!$AA$11:$AE$18,5,TRUE))","v":""},null,null,"",{"$f":"IF(AN39=\"\",\"\",VLOOKUP(AP39,ตั้งค่า!$AA$11:$AE$18,5,TRUE))","v":""},null,null,"",{"$f":"IF(AR39=\"\",\"\",VLOOKUP(AT39,ตั้งค่า!$AA$11:$AE$18,5,TRUE))","v":""},null,null,"",{"$f":"IF(AV39=\"\",\"\",VLOOKUP(AX39,ตั้งค่า!$AA$11:$AE$18,5,TRUE))","v":""},null,null,"",{"$f":"IF(AZ39=\"\",\"\",VLOOKUP(BB39,ตั้งค่า!$AA$11:$AE$18,5,TRUE))","v":""},null,null,"",{"$f":"IF(BD39=\"\",\"\",VLOOKUP(BF39,ตั้งค่า!$AA$11:$AE$18,5,TRUE))","v":""},null,null,"",{"$f":"IF(BH39=\"\",\"\",VLOOKUP(BJ39,ตั้งค่า!$AA$11:$AE$18,5,TRUE))","v":""},null,null,"",{"$f":"IF(BL39=\"\",\"\",VLOOKUP(BN39,ตั้งค่า!$AA$11:$AE$18,5,TRUE))","v":""},null,null,"",{"$f":"IF(BP39=\"\",\"\",VLOOKUP(BR39,ตั้งค่า!$AA$11:$AE$18,5,TRUE))","v":""},{"$f":"'คุณลักษณะ-อ่านคิดวิเคราะห์'!AM39","v":""},{"$f":"'คุณลักษณะ-อ่านคิดวิเคราะห์'!AO39","v":""},null,"","","",{"$f":"รายชื่อนักเรียน!F37","v":0},"","","","","","","","","","","","","","","","","","","","","","","","","","","","","","","","","","","","","","","","","","","","","","","","","","","","","","","","","","","","","","","","","","","","","","","","","","","","","","","","","","","","","","","00",null,{"$f":"รายชื่อนักเรียน!B37","v":0},0,"","","","","","","","","","","","","","","","","","","","","",0]
[{"$f":"รายชื่อนักเรียน!B38","v":0},{"$f":"รายชื่อนักเรียน!C38","v":0},{"$f":"IF(รายชื่อนักเรียน!E38=\"\",\"\",รายชื่อนักเรียน!E38)","v":""},null,null,"",{"$f":"IF(D40=\"\",\"\",VLOOKUP(F40,ตั้งค่า!$AA$11:$AE$18,5,TRUE))","v":""},null,null,"",{"$f":"IF(H40=\"\",\"\",VLOOKUP(J40,ตั้งค่า!$AA$11:$AE$18,5,TRUE))","v":""},null,null,"",{"$f":"IF(L40=\"\",\"\",VLOOKUP(N40,ตั้งค่า!$AA$11:$AE$18,5,TRUE))","v":""},null,null,"",{"$f":"IF(P40=\"\",\"\",VLOOKUP(R40,ตั้งค่า!$AA$11:$AE$18,5,TRUE))","v":""},null,null,"",{"$f":"IF(T40=\"\",\"\",VLOOKUP(V40,ตั้งค่า!$AA$11:$AE$18,5,TRUE))","v":""},null,null,"",{"$f":"IF(X40=\"\",\"\",VLOOKUP(Z40,ตั้งค่า!$AA$11:$AE$18,5,TRUE))","v":""},null,null,"",{"$f":"IF(AB40=\"\",\"\",VLOOKUP(AD40,ตั้งค่า!$AA$11:$AE$18,5,TRUE))","v":""},null,null,"",{"$f":"IF(AF40=\"\",\"\",VLOOKUP(AH40,ตั้งค่า!$AA$11:$AE$18,5,TRUE))","v":""},null,null,"",{"$f":"IF(AJ40=\"\",\"\",VLOOKUP(AL40,ตั้งค่า!$AA$11:$AE$18,5,TRUE))","v":""},null,null,"",{"$f":"IF(AN40=\"\",\"\",VLOOKUP(AP40,ตั้งค่า!$AA$11:$AE$18,5,TRUE))","v":""},null,null,"",{"$f":"IF(AR40=\"\",\"\",VLOOKUP(AT40,ตั้งค่า!$AA$11:$AE$18,5,TRUE))","v":""},null,null,"",{"$f":"IF(AV40=\"\",\"\",VLOOKUP(AX40,ตั้งค่า!$AA$11:$AE$18,5,TRUE))","v":""},null,null,"",{"$f":"IF(AZ40=\"\",\"\",VLOOKUP(BB40,ตั้งค่า!$AA$11:$AE$18,5,TRUE))","v":""},null,null,"",{"$f":"IF(BD40=\"\",\"\",VLOOKUP(BF40,ตั้งค่า!$AA$11:$AE$18,5,TRUE))","v":""},null,null,"",{"$f":"IF(BH40=\"\",\"\",VLOOKUP(BJ40,ตั้งค่า!$AA$11:$AE$18,5,TRUE))","v":""},null,null,"",{"$f":"IF(BL40=\"\",\"\",VLOOKUP(BN40,ตั้งค่า!$AA$11:$AE$18,5,TRUE))","v":""},null,null,"",{"$f":"IF(BP40=\"\",\"\",VLOOKUP(BR40,ตั้งค่า!$AA$11:$AE$18,5,TRUE))","v":""},{"$f":"'คุณลักษณะ-อ่านคิดวิเคราะห์'!AM40","v":""},{"$f":"'คุณลักษณะ-อ่านคิดวิเคราะห์'!AO40","v":""},null,"","","",{"$f":"รายชื่อนักเรียน!F38","v":0},"","","","","","","","","","","","","","","","","","","","","","","","","","","","","","","","","","","","","","","","","","","","","","","","","","","","","","","","","","","","","","","","","","","","","","","","","","","","","","","","","","","","","","","00",null,{"$f":"รายชื่อนักเรียน!B38","v":0},0,"","","","","","","","","","","","","","","","","","","","","",0]
[{"$f":"รายชื่อนักเรียน!B39","v":0},{"$f":"รายชื่อนักเรียน!C39","v":0},{"$f":"IF(รายชื่อนักเรียน!E39=\"\",\"\",รายชื่อนักเรียน!E39)","v":""},null,null,"",{"$f":"IF(D41=\"\",\"\",VLOOKUP(F41,ตั้งค่า!$AA$11:$AE$18,5,TRUE))","v":""},null,null,"",{"$f":"IF(H41=\"\",\"\",VLOOKUP(J41,ตั้งค่า!$AA$11:$AE$18,5,TRUE))","v":""},null,null,"",{"$f":"IF(L41=\"\",\"\",VLOOKUP(N41,ตั้งค่า!$AA$11:$AE$18,5,TRUE))","v":""},null,null,"",{"$f":"IF(P41=\"\",\"\",VLOOKUP(R41,ตั้งค่า!$AA$11:$AE$18,5,TRUE))","v":""},null,null,"",{"$f":"IF(T41=\"\",\"\",VLOOKUP(V41,ตั้งค่า!$AA$11:$AE$18,5,TRUE))","v":""},null,null,"",{"$f":"IF(X41=\"\",\"\",VLOOKUP(Z41,ตั้งค่า!$AA$11:$AE$18,5,TRUE))","v":""},null,null,"",{"$f":"IF(AB41=\"\",\"\",VLOOKUP(AD41,ตั้งค่า!$AA$11:$AE$18,5,TRUE))","v":""},null,null,"",{"$f":"IF(AF41=\"\",\"\",VLOOKUP(AH41,ตั้งค่า!$AA$11:$AE$18,5,TRUE))","v":""},null,null,"",{"$f":"IF(AJ41=\"\",\"\",VLOOKUP(AL41,ตั้งค่า!$AA$11:$AE$18,5,TRUE))","v":""},null,null,"",{"$f":"IF(AN41=\"\",\"\",VLOOKUP(AP41,ตั้งค่า!$AA$11:$AE$18,5,TRUE))","v":""},null,null,"",{"$f":"IF(AR41=\"\",\"\",VLOOKUP(AT41,ตั้งค่า!$AA$11:$AE$18,5,TRUE))","v":""},null,null,"",{"$f":"IF(AV41=\"\",\"\",VLOOKUP(AX41,ตั้งค่า!$AA$11:$AE$18,5,TRUE))","v":""},null,null,"",{"$f":"IF(AZ41=\"\",\"\",VLOOKUP(BB41,ตั้งค่า!$AA$11:$AE$18,5,TRUE))","v":""},null,null,"",{"$f":"IF(BD41=\"\",\"\",VLOOKUP(BF41,ตั้งค่า!$AA$11:$AE$18,5,TRUE))","v":""},null,null,"",{"$f":"IF(BH41=\"\",\"\",VLOOKUP(BJ41,ตั้งค่า!$AA$11:$AE$18,5,TRUE))","v":""},null,null,"",{"$f":"IF(BL41=\"\",\"\",VLOOKUP(BN41,ตั้งค่า!$AA$11:$AE$18,5,TRUE))","v":""},null,null,"",{"$f":"IF(BP41=\"\",\"\",VLOOKUP(BR41,ตั้งค่า!$AA$11:$AE$18,5,TRUE))","v":""},{"$f":"'คุณลักษณะ-อ่านคิดวิเคราะห์'!AM41","v":""},{"$f":"'คุณลักษณะ-อ่านคิดวิเคราะห์'!AO41","v":""},null,"","","",{"$f":"รายชื่อนักเรียน!F39","v":0},"","","","","","","","","","","","","","","","","","","","","","","","","","","","","","","","","","","","","","","","","","","","","","","","","","","","","","","","","","","","","","","","","","","","","","","","","","","","","","","","","","","","","","","00",null,{"$f":"รายชื่อนักเรียน!B39","v":0},0,"","","","","","","","","","","","","","","","","","","","","",0]
[{"$f":"รายชื่อนักเรียน!B40","v":0},{"$f":"รายชื่อนักเรียน!C40","v":0},{"$f":"IF(รายชื่อนักเรียน!E40=\"\",\"\",รายชื่อนักเรียน!E40)","v":""},null,null,"",{"$f":"IF(D42=\"\",\"\",VLOOKUP(F42,ตั้งค่า!$AA$11:$AE$18,5,TRUE))","v":""},null,null,"",{"$f":"IF(H42=\"\",\"\",VLOOKUP(J42,ตั้งค่า!$AA$11:$AE$18,5,TRUE))","v":""},null,null,"",{"$f":"IF(L42=\"\",\"\",VLOOKUP(N42,ตั้งค่า!$AA$11:$AE$18,5,TRUE))","v":""},null,null,"",{"$f":"IF(P42=\"\",\"\",VLOOKUP(R42,ตั้งค่า!$AA$11:$AE$18,5,TRUE))","v":""},null,null,"",{"$f":"IF(T42=\"\",\"\",VLOOKUP(V42,ตั้งค่า!$AA$11:$AE$18,5,TRUE))","v":""},null,null,"",{"$f":"IF(X42=\"\",\"\",VLOOKUP(Z42,ตั้งค่า!$AA$11:$AE$18,5,TRUE))","v":""},null,null,"",{"$f":"IF(AB42=\"\",\"\",VLOOKUP(AD42,ตั้งค่า!$AA$11:$AE$18,5,TRUE))","v":""},null,null,"",{"$f":"IF(AF42=\"\",\"\",VLOOKUP(AH42,ตั้งค่า!$AA$11:$AE$18,5,TRUE))","v":""},null,null,"",{"$f":"IF(AJ42=\"\",\"\",VLOOKUP(AL42,ตั้งค่า!$AA$11:$AE$18,5,TRUE))","v":""},null,null,"",{"$f":"IF(AN42=\"\",\"\",VLOOKUP(AP42,ตั้งค่า!$AA$11:$AE$18,5,TRUE))","v":""},null,null,"",{"$f":"IF(AR42=\"\",\"\",VLOOKUP(AT42,ตั้งค่า!$AA$11:$AE$18,5,TRUE))","v":""},null,null,"",{"$f":"IF(AV42=\"\",\"\",VLOOKUP(AX42,ตั้งค่า!$AA$11:$AE$18,5,TRUE))","v":""},null,null,"",{"$f":"IF(AZ42=\"\",\"\",VLOOKUP(BB42,ตั้งค่า!$AA$11:$AE$18,5,TRUE))","v":""},null,null,"",{"$f":"IF(BD42=\"\",\"\",VLOOKUP(BF42,ตั้งค่า!$AA$11:$AE$18,5,TRUE))","v":""},null,null,"",{"$f":"IF(BH42=\"\",\"\",VLOOKUP(BJ42,ตั้งค่า!$AA$11:$AE$18,5,TRUE))","v":""},null,null,"",{"$f":"IF(BL42=\"\",\"\",VLOOKUP(BN42,ตั้งค่า!$AA$11:$AE$18,5,TRUE))","v":""},null,null,"",{"$f":"IF(BP42=\"\",\"\",VLOOKUP(BR42,ตั้งค่า!$AA$11:$AE$18,5,TRUE))","v":""},{"$f":"'คุณลักษณะ-อ่านคิดวิเคราะห์'!AM42","v":""},{"$f":"'คุณลักษณะ-อ่านคิดวิเคราะห์'!AO42","v":""},null,"","","",{"$f":"รายชื่อนักเรียน!F40","v":0},"","","","","","","","","","","","","","","","","","","","","","","","","","","","","","","","","","","","","","","","","","","","","","","","","","","","","","","","","","","","","","","","","","","","","","","","","","","","","","","","","","","","","","","00",null,{"$f":"รายชื่อนักเรียน!B40","v":0},0,"","","","","","","","","","","","","","","","","","","","","",0]
[{"$f":"รายชื่อนักเรียน!B41","v":0},{"$f":"รายชื่อนักเรียน!C41","v":0},{"$f":"IF(รายชื่อนักเรียน!E41=\"\",\"\",รายชื่อนักเรียน!E41)","v":""},null,null,{"$f":"IF(C43=\"\",\"\",SUM(D43:E43))","v":""},{"$f":"IF(D43=\"\",\"\",VLOOKUP(F43,ตั้งค่า!$AA$11:$AE$18,5,TRUE))","v":""},null,null,"",{"$f":"IF(H43=\"\",\"\",VLOOKUP(J43,ตั้งค่า!$AA$11:$AE$18,5,TRUE))","v":""},null,null,"",{"$f":"IF(L43=\"\",\"\",VLOOKUP(N43,ตั้งค่า!$AA$11:$AE$18,5,TRUE))","v":""},null,null,"",{"$f":"IF(P43=\"\",\"\",VLOOKUP(R43,ตั้งค่า!$AA$11:$AE$18,5,TRUE))","v":""},null,null,"",{"$f":"IF(T43=\"\",\"\",VLOOKUP(V43,ตั้งค่า!$AA$11:$AE$18,5,TRUE))","v":""},null,null,"",{"$f":"IF(X43=\"\",\"\",VLOOKUP(Z43,ตั้งค่า!$AA$11:$AE$18,5,TRUE))","v":""},null,null,"",{"$f":"IF(AB43=\"\",\"\",VLOOKUP(AD43,ตั้งค่า!$AA$11:$AE$18,5,TRUE))","v":""},null,null,"",{"$f":"IF(AF43=\"\",\"\",VLOOKUP(AH43,ตั้งค่า!$AA$11:$AE$18,5,TRUE))","v":""},null,null,"",{"$f":"IF(AJ43=\"\",\"\",VLOOKUP(AL43,ตั้งค่า!$AA$11:$AE$18,5,TRUE))","v":""},null,null,"",{"$f":"IF(AN43=\"\",\"\",VLOOKUP(AP43,ตั้งค่า!$AA$11:$AE$18,5,TRUE))","v":""},null,null,"",{"$f":"IF(AR43=\"\",\"\",VLOOKUP(AT43,ตั้งค่า!$AA$11:$AE$18,5,TRUE))","v":""},null,null,"",{"$f":"IF(AV43=\"\",\"\",VLOOKUP(AX43,ตั้งค่า!$AA$11:$AE$18,5,TRUE))","v":""},null,null,"",{"$f":"IF(AZ43=\"\",\"\",VLOOKUP(BB43,ตั้งค่า!$AA$11:$AE$18,5,TRUE))","v":""},null,null,"",{"$f":"IF(BD43=\"\",\"\",VLOOKUP(BF43,ตั้งค่า!$AA$11:$AE$18,5,TRUE))","v":""},null,null,"",{"$f":"IF(BH43=\"\",\"\",VLOOKUP(BJ43,ตั้งค่า!$AA$11:$AE$18,5,TRUE))","v":""},null,null,"",{"$f":"IF(BL43=\"\",\"\",VLOOKUP(BN43,ตั้งค่า!$AA$11:$AE$18,5,TRUE))","v":""},null,null,"",{"$f":"IF(BP43=\"\",\"\",VLOOKUP(BR43,ตั้งค่า!$AA$11:$AE$18,5,TRUE))","v":""},{"$f":"'คุณลักษณะ-อ่านคิดวิเคราะห์'!AM43","v":""},{"$f":"'คุณลักษณะ-อ่านคิดวิเคราะห์'!AO43","v":""},null,"","","",{"$f":"รายชื่อนักเรียน!F41","v":0},"","","","","","","","","","","","","","","","","","","","","","","","","","","","","","","","","","","","","","","","","","","","","","","","","","","","","","","","","","","","","","","","","","","","","","","","","","","","","","","","","","","","","","","00",null,{"$f":"รายชื่อนักเรียน!B41","v":0},0,"","","","","","","","","","","","","","","","","","","","","",0]
[{"$f":"รายชื่อนักเรียน!B42","v":0},{"$f":"รายชื่อนักเรียน!C42","v":0},{"$f":"IF(รายชื่อนักเรียน!E42=\"\",\"\",รายชื่อนักเรียน!E42)","v":""},null,null,"",{"$f":"IF(D44=\"\",\"\",VLOOKUP(F44,ตั้งค่า!$AA$11:$AE$18,5,TRUE))","v":""},null,null,"",{"$f":"IF(H44=\"\",\"\",VLOOKUP(J44,ตั้งค่า!$AA$11:$AE$18,5,TRUE))","v":""},null,null,"",{"$f":"IF(L44=\"\",\"\",VLOOKUP(N44,ตั้งค่า!$AA$11:$AE$18,5,TRUE))","v":""},null,null,"",{"$f":"IF(P44=\"\",\"\",VLOOKUP(R44,ตั้งค่า!$AA$11:$AE$18,5,TRUE))","v":""},null,null,"",{"$f":"IF(T44=\"\",\"\",VLOOKUP(V44,ตั้งค่า!$AA$11:$AE$18,5,TRUE))","v":""},null,null,"",{"$f":"IF(X44=\"\",\"\",VLOOKUP(Z44,ตั้งค่า!$AA$11:$AE$18,5,TRUE))","v":""},null,null,"",{"$f":"IF(AB44=\"\",\"\",VLOOKUP(AD44,ตั้งค่า!$AA$11:$AE$18,5,TRUE))","v":""},null,null,"",{"$f":"IF(AF44=\"\",\"\",VLOOKUP(AH44,ตั้งค่า!$AA$11:$AE$18,5,TRUE))","v":""},null,null,"",{"$f":"IF(AJ44=\"\",\"\",VLOOKUP(AL44,ตั้งค่า!$AA$11:$AE$18,5,TRUE))","v":""},null,null,"",{"$f":"IF(AN44=\"\",\"\",VLOOKUP(AP44,ตั้งค่า!$AA$11:$AE$18,5,TRUE))","v":""},null,null,"",{"$f":"IF(AR44=\"\",\"\",VLOOKUP(AT44,ตั้งค่า!$AA$11:$AE$18,5,TRUE))","v":""},null,null,"",{"$f":"IF(AV44=\"\",\"\",VLOOKUP(AX44,ตั้งค่า!$AA$11:$AE$18,5,TRUE))","v":""},null,null,"",{"$f":"IF(AZ44=\"\",\"\",VLOOKUP(BB44,ตั้งค่า!$AA$11:$AE$18,5,TRUE))","v":""},null,null,"",{"$f":"IF(BD44=\"\",\"\",VLOOKUP(BF44,ตั้งค่า!$AA$11:$AE$18,5,TRUE))","v":""},null,null,"",{"$f":"IF(BH44=\"\",\"\",VLOOKUP(BJ44,ตั้งค่า!$AA$11:$AE$18,5,TRUE))","v":""},null,null,"",{"$f":"IF(BL44=\"\",\"\",VLOOKUP(BN44,ตั้งค่า!$AA$11:$AE$18,5,TRUE))","v":""},null,null,"",{"$f":"IF(BP44=\"\",\"\",VLOOKUP(BR44,ตั้งค่า!$AA$11:$AE$18,5,TRUE))","v":""},{"$f":"'คุณลักษณะ-อ่านคิดวิเคราะห์'!AM44","v":""},{"$f":"'คุณลักษณะ-อ่านคิดวิเคราะห์'!AO44","v":""},null,"","","",{"$f":"รายชื่อนักเรียน!F42","v":0},"","","","","","","","","","","","","","","","","","","","","","","","","","","","","","","","","","","","","","","","","","","","","","","","","","","","","","","","","","","","","","","","","","","","","","","","","","","","","","","","","","","","","","","00",null,{"$f":"รายชื่อนักเรียน!B42","v":0},0,"","","","","","","","","","","","","","","","","","","","","",0]
[{"$f":"รายชื่อนักเรียน!B43","v":0},{"$f":"รายชื่อนักเรียน!C43","v":0},{"$f":"IF(รายชื่อนักเรียน!E43=\"\",\"\",รายชื่อนักเรียน!E43)","v":""},null,null,"",{"$f":"IF(D45=\"\",\"\",VLOOKUP(F45,ตั้งค่า!$AA$11:$AE$18,5,TRUE))","v":""},null,null,"",{"$f":"IF(H45=\"\",\"\",VLOOKUP(J45,ตั้งค่า!$AA$11:$AE$18,5,TRUE))","v":""},null,null,"",{"$f":"IF(L45=\"\",\"\",VLOOKUP(N45,ตั้งค่า!$AA$11:$AE$18,5,TRUE))","v":""},null,null,"",{"$f":"IF(P45=\"\",\"\",VLOOKUP(R45,ตั้งค่า!$AA$11:$AE$18,5,TRUE))","v":""},null,null,"",{"$f":"IF(T45=\"\",\"\",VLOOKUP(V45,ตั้งค่า!$AA$11:$AE$18,5,TRUE))","v":""},null,null,"",{"$f":"IF(X45=\"\",\"\",VLOOKUP(Z45,ตั้งค่า!$AA$11:$AE$18,5,TRUE))","v":""},null,null,"",{"$f":"IF(AB45=\"\",\"\",VLOOKUP(AD45,ตั้งค่า!$AA$11:$AE$18,5,TRUE))","v":""},null,null,"",{"$f":"IF(AF45=\"\",\"\",VLOOKUP(AH45,ตั้งค่า!$AA$11:$AE$18,5,TRUE))","v":""},null,null,"",{"$f":"IF(AJ45=\"\",\"\",VLOOKUP(AL45,ตั้งค่า!$AA$11:$AE$18,5,TRUE))","v":""},null,null,"",{"$f":"IF(AN45=\"\",\"\",VLOOKUP(AP45,ตั้งค่า!$AA$11:$AE$18,5,TRUE))","v":""},null,null,"",{"$f":"IF(AR45=\"\",\"\",VLOOKUP(AT45,ตั้งค่า!$AA$11:$AE$18,5,TRUE))","v":""},null,null,"",{"$f":"IF(AV45=\"\",\"\",VLOOKUP(AX45,ตั้งค่า!$AA$11:$AE$18,5,TRUE))","v":""},null,null,"",{"$f":"IF(AZ45=\"\",\"\",VLOOKUP(BB45,ตั้งค่า!$AA$11:$AE$18,5,TRUE))","v":""},null,null,"",{"$f":"IF(BD45=\"\",\"\",VLOOKUP(BF45,ตั้งค่า!$AA$11:$AE$18,5,TRUE))","v":""},null,null,"",{"$f":"IF(BH45=\"\",\"\",VLOOKUP(BJ45,ตั้งค่า!$AA$11:$AE$18,5,TRUE))","v":""},null,null,"",{"$f":"IF(BL45=\"\",\"\",VLOOKUP(BN45,ตั้งค่า!$AA$11:$AE$18,5,TRUE))","v":""},null,null,"",{"$f":"IF(BP45=\"\",\"\",VLOOKUP(BR45,ตั้งค่า!$AA$11:$AE$18,5,TRUE))","v":""},{"$f":"'คุณลักษณะ-อ่านคิดวิเคราะห์'!AM45","v":""},{"$f":"'คุณลักษณะ-อ่านคิดวิเคราะห์'!AO45","v":""},null,"","","",{"$f":"รายชื่อนักเรียน!F43","v":0},"","","","","","","","","","","","","","","","","","","","","","","","","","","","","","","","","","","","","","","","","","","","","","","","","","","","","","","","","","","","","","","","","","","","","","","","","","","","","","","","","","","","","","","00",null,{"$f":"รายชื่อนักเรียน!B43","v":0},0,"","","","","","","","","","","","","","","","","","","","","",0]
[{"$f":"รายชื่อนักเรียน!B44","v":0},{"$f":"รายชื่อนักเรียน!C44","v":0},{"$f":"IF(รายชื่อนักเรียน!E44=\"\",\"\",รายชื่อนักเรียน!E44)","v":""},null,null,"",{"$f":"IF(D46=\"\",\"\",VLOOKUP(F46,ตั้งค่า!$AA$11:$AE$18,5,TRUE))","v":""},null,null,"",{"$f":"IF(H46=\"\",\"\",VLOOKUP(J46,ตั้งค่า!$AA$11:$AE$18,5,TRUE))","v":""},null,null,"",{"$f":"IF(L46=\"\",\"\",VLOOKUP(N46,ตั้งค่า!$AA$11:$AE$18,5,TRUE))","v":""},null,null,"",{"$f":"IF(P46=\"\",\"\",VLOOKUP(R46,ตั้งค่า!$AA$11:$AE$18,5,TRUE))","v":""},null,null,"",{"$f":"IF(T46=\"\",\"\",VLOOKUP(V46,ตั้งค่า!$AA$11:$AE$18,5,TRUE))","v":""},null,null,"",{"$f":"IF(X46=\"\",\"\",VLOOKUP(Z46,ตั้งค่า!$AA$11:$AE$18,5,TRUE))","v":""},null,null,"",{"$f":"IF(AB46=\"\",\"\",VLOOKUP(AD46,ตั้งค่า!$AA$11:$AE$18,5,TRUE))","v":""},null,null,"",{"$f":"IF(AF46=\"\",\"\",VLOOKUP(AH46,ตั้งค่า!$AA$11:$AE$18,5,TRUE))","v":""},null,null,"",{"$f":"IF(AJ46=\"\",\"\",VLOOKUP(AL46,ตั้งค่า!$AA$11:$AE$18,5,TRUE))","v":""},null,null,"",{"$f":"IF(AN46=\"\",\"\",VLOOKUP(AP46,ตั้งค่า!$AA$11:$AE$18,5,TRUE))","v":""},null,null,"",{"$f":"IF(AR46=\"\",\"\",VLOOKUP(AT46,ตั้งค่า!$AA$11:$AE$18,5,TRUE))","v":""},null,null,"",{"$f":"IF(AV46=\"\",\"\",VLOOKUP(AX46,ตั้งค่า!$AA$11:$AE$18,5,TRUE))","v":""},null,null,"",{"$f":"IF(AZ46=\"\",\"\",VLOOKUP(BB46,ตั้งค่า!$AA$11:$AE$18,5,TRUE))","v":""},null,null,"",{"$f":"IF(BD46=\"\",\"\",VLOOKUP(BF46,ตั้งค่า!$AA$11:$AE$18,5,TRUE))","v":""},null,null,"",{"$f":"IF(BH46=\"\",\"\",VLOOKUP(BJ46,ตั้งค่า!$AA$11:$AE$18,5,TRUE))","v":""},null,null,"",{"$f":"IF(BL46=\"\",\"\",VLOOKUP(BN46,ตั้งค่า!$AA$11:$AE$18,5,TRUE))","v":""},null,null,"",{"$f":"IF(BP46=\"\",\"\",VLOOKUP(BR46,ตั้งค่า!$AA$11:$AE$18,5,TRUE))","v":""},{"$f":"'คุณลักษณะ-อ่านคิดวิเคราะห์'!AM46","v":""},{"$f":"'คุณลักษณะ-อ่านคิดวิเคราะห์'!AO46","v":""},null,"","","",{"$f":"รายชื่อนักเรียน!F44","v":0},"","","","","","","","","","","","","","","","","","","","","","","","","","","","","","","","","","","","","","","","","","","","","","","","","","","","","","","","","","","","","","","","","","","","","","","","","","","","","","","","","","","","","","","00",null,{"$f":"รายชื่อนักเรียน!B44","v":0},0,"",{"$f":"G46","v":""},{"$f":"K46","v":""},{"$f":"O46","v":""},{"$f":"S46","v":""},{"$f":"W46","v":""},{"$f":"AA46","v":""},{"$f":"AE46","v":""},{"$f":"AI46","v":""},{"$f":"AM46","v":""},{"$f":"AQ46","v":""},{"$f":"AU46","v":""},{"$f":"AY46","v":""},{"$f":"BC46","v":""},{"$f":"BG46","v":""},{"$f":"BK46","v":""},{"$f":"BO46","v":""},{"$f":"BS46","v":""},{"$f":"BT46","v":""},"","",0]
[{"$f":"รายชื่อนักเรียน!B45","v":0},{"$f":"รายชื่อนักเรียน!C45","v":0},{"$f":"IF(รายชื่อนักเรียน!E45=\"\",\"\",รายชื่อนักเรียน!E45)","v":""},null,null,"",{"$f":"IF(D47=\"\",\"\",VLOOKUP(F47,ตั้งค่า!$AA$11:$AE$18,5,TRUE))","v":""},null,null,"",{"$f":"IF(H47=\"\",\"\",VLOOKUP(J47,ตั้งค่า!$AA$11:$AE$18,5,TRUE))","v":""},null,null,"",{"$f":"IF(L47=\"\",\"\",VLOOKUP(N47,ตั้งค่า!$AA$11:$AE$18,5,TRUE))","v":""},null,null,"",{"$f":"IF(P47=\"\",\"\",VLOOKUP(R47,ตั้งค่า!$AA$11:$AE$18,5,TRUE))","v":""},null,null,"",{"$f":"IF(T47=\"\",\"\",VLOOKUP(V47,ตั้งค่า!$AA$11:$AE$18,5,TRUE))","v":""},null,null,"",{"$f":"IF(X47=\"\",\"\",VLOOKUP(Z47,ตั้งค่า!$AA$11:$AE$18,5,TRUE))","v":""},null,null,"",{"$f":"IF(AB47=\"\",\"\",VLOOKUP(AD47,ตั้งค่า!$AA$11:$AE$18,5,TRUE))","v":""},null,null,"",{"$f":"IF(AF47=\"\",\"\",VLOOKUP(AH47,ตั้งค่า!$AA$11:$AE$18,5,TRUE))","v":""},null,null,"",{"$f":"IF(AJ47=\"\",\"\",VLOOKUP(AL47,ตั้งค่า!$AA$11:$AE$18,5,TRUE))","v":""},null,null,"",{"$f":"IF(AN47=\"\",\"\",VLOOKUP(AP47,ตั้งค่า!$AA$11:$AE$18,5,TRUE))","v":""},null,null,"",{"$f":"IF(AR47=\"\",\"\",VLOOKUP(AT47,ตั้งค่า!$AA$11:$AE$18,5,TRUE))","v":""},null,null,"",{"$f":"IF(AV47=\"\",\"\",VLOOKUP(AX47,ตั้งค่า!$AA$11:$AE$18,5,TRUE))","v":""},null,null,"",{"$f":"IF(AZ47=\"\",\"\",VLOOKUP(BB47,ตั้งค่า!$AA$11:$AE$18,5,TRUE))","v":""},null,null,"",{"$f":"IF(BD47=\"\",\"\",VLOOKUP(BF47,ตั้งค่า!$AA$11:$AE$18,5,TRUE))","v":""},null,null,"",{"$f":"IF(BH47=\"\",\"\",VLOOKUP(BJ47,ตั้งค่า!$AA$11:$AE$18,5,TRUE))","v":""},null,null,"",{"$f":"IF(BL47=\"\",\"\",VLOOKUP(BN47,ตั้งค่า!$AA$11:$AE$18,5,TRUE))","v":""},null,null,"",{"$f":"IF(BP47=\"\",\"\",VLOOKUP(BR47,ตั้งค่า!$AA$11:$AE$18,5,TRUE))","v":""},{"$f":"'คุณลักษณะ-อ่านคิดวิเคราะห์'!AM47","v":""},{"$f":"'คุณลักษณะ-อ่านคิดวิเคราะห์'!AO47","v":""},null,"","","",{"$f":"รายชื่อนักเรียน!F45","v":0},"","","","","","","","","","","","","","","","","","","","","","","","","","","","","","","","","","","","","","","","","","","","","","","","","","","","","","","","","","","","","","","","","","","","","","","","","","","","","","","","","","","","","","","00",null,{"$f":"รายชื่อนักเรียน!B45","v":0},0,"","","","","","","","","","","","","","","","","","","","","",0]
[{"$f":"รายชื่อนักเรียน!B46","v":0},{"$f":"รายชื่อนักเรียน!C46","v":0},{"$f":"IF(รายชื่อนักเรียน!E46=\"\",\"\",รายชื่อนักเรียน!E46)","v":""},null,null,"",{"$f":"IF(D48=\"\",\"\",VLOOKUP(F48,ตั้งค่า!$AA$11:$AE$18,5,TRUE))","v":""},null,null,"",{"$f":"IF(H48=\"\",\"\",VLOOKUP(J48,ตั้งค่า!$AA$11:$AE$18,5,TRUE))","v":""},null,null,"",{"$f":"IF(L48=\"\",\"\",VLOOKUP(N48,ตั้งค่า!$AA$11:$AE$18,5,TRUE))","v":""},null,null,"",{"$f":"IF(P48=\"\",\"\",VLOOKUP(R48,ตั้งค่า!$AA$11:$AE$18,5,TRUE))","v":""},null,null,"",{"$f":"IF(T48=\"\",\"\",VLOOKUP(V48,ตั้งค่า!$AA$11:$AE$18,5,TRUE))","v":""},null,null,"",{"$f":"IF(X48=\"\",\"\",VLOOKUP(Z48,ตั้งค่า!$AA$11:$AE$18,5,TRUE))","v":""},null,null,"",{"$f":"IF(AB48=\"\",\"\",VLOOKUP(AD48,ตั้งค่า!$AA$11:$AE$18,5,TRUE))","v":""},null,null,"",{"$f":"IF(AF48=\"\",\"\",VLOOKUP(AH48,ตั้งค่า!$AA$11:$AE$18,5,TRUE))","v":""},null,null,"",{"$f":"IF(AJ48=\"\",\"\",VLOOKUP(AL48,ตั้งค่า!$AA$11:$AE$18,5,TRUE))","v":""},null,null,"",{"$f":"IF(AN48=\"\",\"\",VLOOKUP(AP48,ตั้งค่า!$AA$11:$AE$18,5,TRUE))","v":""},null,null,"",{"$f":"IF(AR48=\"\",\"\",VLOOKUP(AT48,ตั้งค่า!$AA$11:$AE$18,5,TRUE))","v":""},null,null,"",{"$f":"IF(AV48=\"\",\"\",VLOOKUP(AX48,ตั้งค่า!$AA$11:$AE$18,5,TRUE))","v":""},null,null,"",{"$f":"IF(AZ48=\"\",\"\",VLOOKUP(BB48,ตั้งค่า!$AA$11:$AE$18,5,TRUE))","v":""},null,null,"",{"$f":"IF(BD48=\"\",\"\",VLOOKUP(BF48,ตั้งค่า!$AA$11:$AE$18,5,TRUE))","v":""},null,null,"",{"$f":"IF(BH48=\"\",\"\",VLOOKUP(BJ48,ตั้งค่า!$AA$11:$AE$18,5,TRUE))","v":""},null,null,"",{"$f":"IF(BL48=\"\",\"\",VLOOKUP(BN48,ตั้งค่า!$AA$11:$AE$18,5,TRUE))","v":""},null,null,"",{"$f":"IF(BP48=\"\",\"\",VLOOKUP(BR48,ตั้งค่า!$AA$11:$AE$18,5,TRUE))","v":""},{"$f":"'คุณลักษณะ-อ่านคิดวิเคราะห์'!AM48","v":""},{"$f":"'คุณลักษณะ-อ่านคิดวิเคราะห์'!AO48","v":""},null,"","","",{"$f":"รายชื่อนักเรียน!F46","v":0},"","","","","","","","","","","","","","","","","","","","","","","","","","","","","","","","","","","","","","","","","","","","","","","","","","","","","","","","","","","","","","","","","","","","","","","","","","","","","","","","","","","","","","","00",null,{"$f":"รายชื่อนักเรียน!B46","v":0},0,"","","","","","","","","","","","","","","","","","","","","",0]
[{"$f":"รายชื่อนักเรียน!B47","v":0},{"$f":"รายชื่อนักเรียน!C47","v":0},{"$f":"IF(รายชื่อนักเรียน!E47=\"\",\"\",รายชื่อนักเรียน!E47)","v":""},null,null,"",{"$f":"IF(D49=\"\",\"\",VLOOKUP(F49,ตั้งค่า!$AA$11:$AE$18,5,TRUE))","v":""},null,null,"",{"$f":"IF(H49=\"\",\"\",VLOOKUP(J49,ตั้งค่า!$AA$11:$AE$18,5,TRUE))","v":""},null,null,"",{"$f":"IF(L49=\"\",\"\",VLOOKUP(N49,ตั้งค่า!$AA$11:$AE$18,5,TRUE))","v":""},null,null,"",{"$f":"IF(P49=\"\",\"\",VLOOKUP(R49,ตั้งค่า!$AA$11:$AE$18,5,TRUE))","v":""},null,null,"",{"$f":"IF(T49=\"\",\"\",VLOOKUP(V49,ตั้งค่า!$AA$11:$AE$18,5,TRUE))","v":""},null,null,"",{"$f":"IF(X49=\"\",\"\",VLOOKUP(Z49,ตั้งค่า!$AA$11:$AE$18,5,TRUE))","v":""},null,null,"",{"$f":"IF(AB49=\"\",\"\",VLOOKUP(AD49,ตั้งค่า!$AA$11:$AE$18,5,TRUE))","v":""},null,null,"",{"$f":"IF(AF49=\"\",\"\",VLOOKUP(AH49,ตั้งค่า!$AA$11:$AE$18,5,TRUE))","v":""},null,null,"",{"$f":"IF(AJ49=\"\",\"\",VLOOKUP(AL49,ตั้งค่า!$AA$11:$AE$18,5,TRUE))","v":""},null,null,"",{"$f":"IF(AN49=\"\",\"\",VLOOKUP(AP49,ตั้งค่า!$AA$11:$AE$18,5,TRUE))","v":""},null,null,"",{"$f":"IF(AR49=\"\",\"\",VLOOKUP(AT49,ตั้งค่า!$AA$11:$AE$18,5,TRUE))","v":""},null,null,"",{"$f":"IF(AV49=\"\",\"\",VLOOKUP(AX49,ตั้งค่า!$AA$11:$AE$18,5,TRUE))","v":""},null,null,"",{"$f":"IF(AZ49=\"\",\"\",VLOOKUP(BB49,ตั้งค่า!$AA$11:$AE$18,5,TRUE))","v":""},null,null,"",{"$f":"IF(BD49=\"\",\"\",VLOOKUP(BF49,ตั้งค่า!$AA$11:$AE$18,5,TRUE))","v":""},null,null,"",{"$f":"IF(BH49=\"\",\"\",VLOOKUP(BJ49,ตั้งค่า!$AA$11:$AE$18,5,TRUE))","v":""},null,null,"",{"$f":"IF(BL49=\"\",\"\",VLOOKUP(BN49,ตั้งค่า!$AA$11:$AE$18,5,TRUE))","v":""},null,null,"",{"$f":"IF(BP49=\"\",\"\",VLOOKUP(BR49,ตั้งค่า!$AA$11:$AE$18,5,TRUE))","v":""},{"$f":"'คุณลักษณะ-อ่านคิดวิเคราะห์'!AM49","v":""},{"$f":"'คุณลักษณะ-อ่านคิดวิเคราะห์'!AO49","v":""},null,"","","",{"$f":"รายชื่อนักเรียน!F47","v":0},"","","","","","","","","","","","","","","","","","","","","","","","","","","","","","","","","","","","","","","","","","","","","","","","","","","","","","","","","","","","","","","","","","","","","","","","","","","","","","","","","","","","","","","00",null,{"$f":"รายชื่อนักเรียน!B47","v":0},0,"","","","","","","","","","","","","","","","","","","","","",0]
[{"$f":"รายชื่อนักเรียน!B48","v":0},{"$f":"รายชื่อนักเรียน!C48","v":0},{"$f":"IF(รายชื่อนักเรียน!E48=\"\",\"\",รายชื่อนักเรียน!E48)","v":""},null,null,"",{"$f":"IF(D50=\"\",\"\",VLOOKUP(F50,ตั้งค่า!$AA$11:$AE$18,5,TRUE))","v":""},null,null,"",{"$f":"IF(H50=\"\",\"\",VLOOKUP(J50,ตั้งค่า!$AA$11:$AE$18,5,TRUE))","v":""},null,null,"",{"$f":"IF(L50=\"\",\"\",VLOOKUP(N50,ตั้งค่า!$AA$11:$AE$18,5,TRUE))","v":""},null,null,"",{"$f":"IF(P50=\"\",\"\",VLOOKUP(R50,ตั้งค่า!$AA$11:$AE$18,5,TRUE))","v":""},null,null,"",{"$f":"IF(T50=\"\",\"\",VLOOKUP(V50,ตั้งค่า!$AA$11:$AE$18,5,TRUE))","v":""},null,null,"",{"$f":"IF(X50=\"\",\"\",VLOOKUP(Z50,ตั้งค่า!$AA$11:$AE$18,5,TRUE))","v":""},null,null,"",{"$f":"IF(AB50=\"\",\"\",VLOOKUP(AD50,ตั้งค่า!$AA$11:$AE$18,5,TRUE))","v":""},null,null,"",{"$f":"IF(AF50=\"\",\"\",VLOOKUP(AH50,ตั้งค่า!$AA$11:$AE$18,5,TRUE))","v":""},null,null,"",{"$f":"IF(AJ50=\"\",\"\",VLOOKUP(AL50,ตั้งค่า!$AA$11:$AE$18,5,TRUE))","v":""},null,null,"",{"$f":"IF(AN50=\"\",\"\",VLOOKUP(AP50,ตั้งค่า!$AA$11:$AE$18,5,TRUE))","v":""},null,null,"",{"$f":"IF(AR50=\"\",\"\",VLOOKUP(AT50,ตั้งค่า!$AA$11:$AE$18,5,TRUE))","v":""},null,null,"",{"$f":"IF(AV50=\"\",\"\",VLOOKUP(AX50,ตั้งค่า!$AA$11:$AE$18,5,TRUE))","v":""},null,null,"",{"$f":"IF(AZ50=\"\",\"\",VLOOKUP(BB50,ตั้งค่า!$AA$11:$AE$18,5,TRUE))","v":""},null,null,"",{"$f":"IF(BD50=\"\",\"\",VLOOKUP(BF50,ตั้งค่า!$AA$11:$AE$18,5,TRUE))","v":""},null,null,"",{"$f":"IF(BH50=\"\",\"\",VLOOKUP(BJ50,ตั้งค่า!$AA$11:$AE$18,5,TRUE))","v":""},null,null,"",{"$f":"IF(BL50=\"\",\"\",VLOOKUP(BN50,ตั้งค่า!$AA$11:$AE$18,5,TRUE))","v":""},null,null,"",{"$f":"IF(BP50=\"\",\"\",VLOOKUP(BR50,ตั้งค่า!$AA$11:$AE$18,5,TRUE))","v":""},{"$f":"'คุณลักษณะ-อ่านคิดวิเคราะห์'!AM50","v":""},{"$f":"'คุณลักษณะ-อ่านคิดวิเคราะห์'!AO50","v":""},null,"","","",{"$f":"รายชื่อนักเรียน!F48","v":0},"","","","","","","","","","","","","","","","","","","","","","","","","","","","","","","","","","","","","","","","","","","","","","","","","","","","","","","","","","","","","","","","","","","","","","","","","","","","","","","","","","","","","","","00",null,{"$f":"รายชื่อนักเรียน!B48","v":0},0,"","","","","","","","","","","","","","","","","","","","","",0]
[{"$f":"รายชื่อนักเรียน!B49","v":0},{"$f":"รายชื่อนักเรียน!C49","v":0},{"$f":"IF(รายชื่อนักเรียน!E49=\"\",\"\",รายชื่อนักเรียน!E49)","v":""},null,null,"",{"$f":"IF(D51=\"\",\"\",VLOOKUP(F51,ตั้งค่า!$AA$11:$AE$18,5,TRUE))","v":""},null,null,"",{"$f":"IF(H51=\"\",\"\",VLOOKUP(J51,ตั้งค่า!$AA$11:$AE$18,5,TRUE))","v":""},null,null,"",{"$f":"IF(L51=\"\",\"\",VLOOKUP(N51,ตั้งค่า!$AA$11:$AE$18,5,TRUE))","v":""},null,null,"",{"$f":"IF(P51=\"\",\"\",VLOOKUP(R51,ตั้งค่า!$AA$11:$AE$18,5,TRUE))","v":""},null,null,"",{"$f":"IF(T51=\"\",\"\",VLOOKUP(V51,ตั้งค่า!$AA$11:$AE$18,5,TRUE))","v":""},null,null,"",{"$f":"IF(X51=\"\",\"\",VLOOKUP(Z51,ตั้งค่า!$AA$11:$AE$18,5,TRUE))","v":""},null,null,"",{"$f":"IF(AB51=\"\",\"\",VLOOKUP(AD51,ตั้งค่า!$AA$11:$AE$18,5,TRUE))","v":""},null,null,"",{"$f":"IF(AF51=\"\",\"\",VLOOKUP(AH51,ตั้งค่า!$AA$11:$AE$18,5,TRUE))","v":""},null,null,"",{"$f":"IF(AJ51=\"\",\"\",VLOOKUP(AL51,ตั้งค่า!$AA$11:$AE$18,5,TRUE))","v":""},null,null,"",{"$f":"IF(AN51=\"\",\"\",VLOOKUP(AP51,ตั้งค่า!$AA$11:$AE$18,5,TRUE))","v":""},null,null,"",{"$f":"IF(AR51=\"\",\"\",VLOOKUP(AT51,ตั้งค่า!$AA$11:$AE$18,5,TRUE))","v":""},null,null,"",{"$f":"IF(AV51=\"\",\"\",VLOOKUP(AX51,ตั้งค่า!$AA$11:$AE$18,5,TRUE))","v":""},null,null,"",{"$f":"IF(AZ51=\"\",\"\",VLOOKUP(BB51,ตั้งค่า!$AA$11:$AE$18,5,TRUE))","v":""},null,null,"",{"$f":"IF(BD51=\"\",\"\",VLOOKUP(BF51,ตั้งค่า!$AA$11:$AE$18,5,TRUE))","v":""},null,null,"",{"$f":"IF(BH51=\"\",\"\",VLOOKUP(BJ51,ตั้งค่า!$AA$11:$AE$18,5,TRUE))","v":""},null,null,"",{"$f":"IF(BL51=\"\",\"\",VLOOKUP(BN51,ตั้งค่า!$AA$11:$AE$18,5,TRUE))","v":""},null,null,"",{"$f":"IF(BP51=\"\",\"\",VLOOKUP(BR51,ตั้งค่า!$AA$11:$AE$18,5,TRUE))","v":""},{"$f":"'คุณลักษณะ-อ่านคิดวิเคราะห์'!AM51","v":""},{"$f":"'คุณลักษณะ-อ่านคิดวิเคราะห์'!AO51","v":""},null,"","","",{"$f":"รายชื่อนักเรียน!F49","v":0},"","","","","","","","","","","","","","","","","","","","","","","","","","","","","","","","","","","","","","","","","","","","","","","","","","","","","","","","","","","","","","","","","","","","","","","","","","","","","","","","","","","","","","","00",null,{"$f":"รายชื่อนักเรียน!B49","v":0},0,"","","","","","","","","","","","","","","","","","","","","",0]
[{"$f":"รายชื่อนักเรียน!B50","v":0},{"$f":"รายชื่อนักเรียน!C50","v":0},{"$f":"IF(รายชื่อนักเรียน!E50=\"\",\"\",รายชื่อนักเรียน!E50)","v":""},null,null,"",{"$f":"IF(D52=\"\",\"\",VLOOKUP(F52,ตั้งค่า!$AA$11:$AE$18,5,TRUE))","v":""},null,null,"",{"$f":"IF(H52=\"\",\"\",VLOOKUP(J52,ตั้งค่า!$AA$11:$AE$18,5,TRUE))","v":""},null,null,"",{"$f":"IF(L52=\"\",\"\",VLOOKUP(N52,ตั้งค่า!$AA$11:$AE$18,5,TRUE))","v":""},null,null,"",{"$f":"IF(P52=\"\",\"\",VLOOKUP(R52,ตั้งค่า!$AA$11:$AE$18,5,TRUE))","v":""},null,null,"",{"$f":"IF(T52=\"\",\"\",VLOOKUP(V52,ตั้งค่า!$AA$11:$AE$18,5,TRUE))","v":""},null,null,"",{"$f":"IF(X52=\"\",\"\",VLOOKUP(Z52,ตั้งค่า!$AA$11:$AE$18,5,TRUE))","v":""},null,null,"",{"$f":"IF(AB52=\"\",\"\",VLOOKUP(AD52,ตั้งค่า!$AA$11:$AE$18,5,TRUE))","v":""},null,null,"",{"$f":"IF(AF52=\"\",\"\",VLOOKUP(AH52,ตั้งค่า!$AA$11:$AE$18,5,TRUE))","v":""},null,null,"",{"$f":"IF(AJ52=\"\",\"\",VLOOKUP(AL52,ตั้งค่า!$AA$11:$AE$18,5,TRUE))","v":""},null,null,"",{"$f":"IF(AN52=\"\",\"\",VLOOKUP(AP52,ตั้งค่า!$AA$11:$AE$18,5,TRUE))","v":""},null,null,"",{"$f":"IF(AR52=\"\",\"\",VLOOKUP(AT52,ตั้งค่า!$AA$11:$AE$18,5,TRUE))","v":""},null,null,"",{"$f":"IF(AV52=\"\",\"\",VLOOKUP(AX52,ตั้งค่า!$AA$11:$AE$18,5,TRUE))","v":""},null,null,"",{"$f":"IF(AZ52=\"\",\"\",VLOOKUP(BB52,ตั้งค่า!$AA$11:$AE$18,5,TRUE))","v":""},null,null,"",{"$f":"IF(BD52=\"\",\"\",VLOOKUP(BF52,ตั้งค่า!$AA$11:$AE$18,5,TRUE))","v":""},null,null,"",{"$f":"IF(BH52=\"\",\"\",VLOOKUP(BJ52,ตั้งค่า!$AA$11:$AE$18,5,TRUE))","v":""},null,null,"",{"$f":"IF(BL52=\"\",\"\",VLOOKUP(BN52,ตั้งค่า!$AA$11:$AE$18,5,TRUE))","v":""},null,null,"",{"$f":"IF(BP52=\"\",\"\",VLOOKUP(BR52,ตั้งค่า!$AA$11:$AE$18,5,TRUE))","v":""},{"$f":"'คุณลักษณะ-อ่านคิดวิเคราะห์'!AM52","v":""},{"$f":"'คุณลักษณะ-อ่านคิดวิเคราะห์'!AO52","v":""},null,"","","",{"$f":"รายชื่อนักเรียน!F50","v":0},"","","","","","","","","","","","","","","","","","","","","","","","","","","","","","","","","","","","","","","","","","","","","","","","","","","","","","","","","","","","","","","","","","","","","","","","","","","","","","","","","","","","","","","00",null,{"$f":"รายชื่อนักเรียน!B50","v":0},0,"","","","","","","","","","","","","","","","","","","","","",0]
[null,null,null,{"$f":"รายชื่อนักเรียน!L1","v":0},{"$f":"D53*100","v":0},{"$f":"SUM(F8:F52)","v":0},null,null,null,{"$f":"SUM(J8:J52)","v":0},null,null,null,{"$f":"SUM(N8:N52)","v":0},null,null,null,{"$f":"SUM(R8:R52)","v":0},null,null,null,{"$f":"SUM(V8:V52)","v":0},null,null,null,{"$f":"SUM(Z8:Z52)","v":0},null,null,null,{"$f":"SUM(AD8:AD52)","v":0},null,null,null,{"$f":"SUM(AH8:AH52)","v":0},null,null,null,{"$f":"SUM(AL8:AL52)","v":0},null,null,null,{"$f":"SUM(AP8:AP52)","v":0},null,null,null,{"$f":"SUM(AT8:AT52)","v":0},null,null,null,{"$f":"SUM(AX8:AX52)","v":0},null,null,null,{"$f":"SUM(BB8:BB52)","v":0},null,null,null,{"$f":"SUM(BF8:BF52)","v":0},null,null,null,{"$f":"SUM(BJ8:BJ52)","v":0},null,null,null,{"$f":"SUM(BN8:BN52)","v":0},null,null,null,{"$f":"SUM(BR8:BR52)","v":0},null,{"$f":"SUM(F53:BS53)","v":0},null,null,null,0,null,null,0,0,0,0,0,0,0,0,0,0,0,0,0,0,0,0,0,0,0,0,0,0,0,0,0,0,0,0,0,0,0,0,0,0,null,{"$f":"SUM(DJ8:DJ52)","v":0}]
[1,2,3,4,5,6,7,8,9,10,11,12,13,14,15,16,17,18,19,20,21,22,23,24,25,26,27,28,29,30,31,32,33,34,35,36,37,38,39,40,41,42,43,44,45,46,47,48,49,50,51,52,53,54,55,56,57,58,59,60,61,62,63,64,65,66,67,68,69,70,71,72,73,74,75,76,77,78,79,80,81,82,83,84,85,86,87,88,89,90,91,92,93,94,95,96,97,98,99,100,101,102,103,104,105,106,107,108,109,110,111,112,113,114,115,116,117,118,119,120,121,122,123,124,125,126,127,128,129,130,131,132,133,134,135,136,137,138,139,140,141,142,143,144,145,146,147,148,149,150,151,152,153,154,155,156,157,158,159,160,161,162,163,164,165,166]

{"sheet":"คุณลักษณะ-อ่านคิดวิเคราะห์","index":5,"n_rows":54,"n_cols":79,"rows_kept":54,"cut":false,"hidden":false,"merged":[[3,13,3,14],[3,15,3,16],[4,71,6,71],[2,0,6,0],[2,1,6,1],[2,2,6,2],[4,52,6,52],[4,54,6,54],[5,37,6,37],[5,38,6,38],[5,39,6,39],[5,40,6,40],[3,37,4,38],[3,39,4,40],[4,23,5,24],[4,27,5,28],[3,3,3,4],[3,5,3,6],[3,7,3,8],[3,9,3,10],[3,11,3,12],[4,35,5,36],[0,29,0,35],[1,29,1,35],[3,41,6,41],[4,15,5,16],[4,17,5,18],[4,19,5,20],[4,25,5,26],[4,29,5,30],[4,31,5,32],[3,35,3,36],[2,3,2,36],[3,17,3,18],[3,19,3,20],[3,21,3,22],[3,23,3,24],[4,47,6,47],[4,42,6,42],[4,43,6,43],[4,44,6,44],[4,45,6,45],[4,46,6,46],[4,48,6,48],[4,49,6,49],[4,50,6,50],[4,51,6,51],[4,53,6,53],[4,3,5,4],[4,5,5,6],[4,7,5,8],[4,9,5,10],[4,11,5,12],[4,76,6,76],[2,42,2,59],[2,60,2,77],[3,77,6,77],[4,60,6,60],[4,61,6,61],[4,62,6,62],[4,63,6,63],[4,64,6,64],[4,65,6,65],[4,66,6,66],[4,67,6,67],[4,68,6,68],[3,59,6,59],[4,74,6,74],[4,70,6,70],[3,25,3,26],[4,13,5,14],[4,72,6,72],[4,57,6,57],[4,75,6,75],[3,27,3,28],[3,29,3,30],[4,33,5,34],[3,31,3,32],[3,33,3,34],[4,73,6,73],[4,21,5,22],[4,56,6,56],[4,58,6,58],[4,69,6,69],[4,55,6,55]]}
[]
[]
["เลขที่","เลขประจำตัวนักเรียน","ชื่อ-สกุล","แบบบันทึกผลการประเมินคุณลักษณะอันพึงประสงค์และผลการประเมินการอ่าน คิด วิเคราะห์และเขียน",null,null,null,null,null,null,null,null,null,null,null,null,null,null,null,null,null,null,null,null,null,null,null,null,null,null,null,null,null,null,null,null,null,null,null,null,null,null,"คุณลักษณะ",null,null,null,null,null,null,null,null,null,null,null,null,null,null,null,null,null,"อ่านคิดวิเคราะห์",null,null,null,null,null,null,null,null,null,null,null,null,null,null,null,null,null,"ย้าย"]
[null,null,null,{"$f":"คีย์คะแนน!D3","v":0},null,{"$f":"คีย์คะแนน!H3","v":0},null,{"$f":"คีย์คะแนน!L3","v":0},null,{"$f":"คีย์คะแนน!P3","v":0},null,{"$f":"คีย์คะแนน!T3","v":0},null,{"$f":"คีย์คะแนน!X3","v":0},null,{"$f":"คีย์คะแนน!AB3","v":0},null,{"$f":"คีย์คะแนน!AF3","v":0},null,{"$f":"คีย์คะแนน!AJ3","v":0},null,{"$f":"คีย์คะแนน!AN3","v":0},null,{"$f":"คีย์คะแนน!AR3","v":0},null,{"$f":"คีย์คะแนน!AV3","v":0},null,{"$f":"คีย์คะแนน!AZ3","v":0},null,{"$f":"คีย์คะแนน!BD3","v":0},null,{"$f":"คีย์คะแนน!BH3","v":0},null,{"$f":"คีย์คะแนน!BL3","v":0},null,{"$f":"คีย์คะแนน!BP3","v":0},null,"คุณลักษณะอันพึงประสงค์",null,"อ่าน คิดวิเคราะห์ฯ",null,"หมายเหตุ",null,null,null,null,null,null,null,null,null,null,null,null,null,null,null,null,null,"สรุปผลการประเมิน",null,null,null,null,null,null,null,null,null,null,null,null,null,null,null,null,null,"สรุปผลการประเมิน"]
[null,null,null,{"$f":"IF(ลงหลักสูตร!C3=\"\",\"\",ลงหลักสูตร!C3)","v":""},null,{"$f":"IF(ลงหลักสูตร!C4=\"\",\"\",ลงหลักสูตร!C4)","v":""},null,{"$f":"IF(ลงหลักสูตร!C5=\"\",\"\",ลงหลักสูตร!C5)","v":""},null,{"$f":"IF(ลงหลักสูตร!C6=\"\",\"\",ลงหลักสูตร!C6)","v":""},null,{"$f":"IF(ลงหลักสูตร!C7=\"\",\"\",ลงหลักสูตร!C7)","v":""},null,{"$f":"IF(ลงหลักสูตร!C8=\"\",\"\",ลงหลักสูตร!C8)","v":""},null,{"$f":"IF(ลงหลักสูตร!C9=\"\",\"\",ลงหลักสูตร!C9)","v":""},null,{"$f":"IF(ลงหลักสูตร!C10=\"\",\"\",ลงหลักสูตร!C10)","v":""},null,{"$f":"IF(ลงหลักสูตร!C11=\"\",\"\",ลงหลักสูตร!C11)","v":""},null,{"$f":"IF(ลงหลักสูตร!C12=\"\",\"\",ลงหลักสูตร!C12)","v":""},null,{"$f":"IF(ลงหลักสูตร!C13=\"\",\"\",ลงหลักสูตร!C13)","v":""},null,{"$f":"IF(ลงหลักสูตร!C14=\"\",\"\",ลงหลักสูตร!C14)","v":""},null,{"$f":"IF(ลงหลักสูตร!C15=\"\",\"\",ลงหลักสูตร!C15)","v":""},null,{"$f":"IF(ลงหลักสูตร!C16=\"\",\"\",ลงหลักสูตร!C16)","v":""},null,{"$f":"IF(ลงหลักสูตร!C17=\"\",\"\",ลงหลักสูตร!C17)","v":""},null,{"$f":"IF(ลงหลักสูตร!C18=\"\",\"\",ลงหลักสูตร!C18)","v":""},null,{"$f":"IF(ลงหลักสูตร!C19=\"\",\"\",ลงหลักสูตร!C19)","v":""},null,null,null,null,null,null,{"$f":"IF(ลงหลักสูตร!C3=\"\",\"\",ลงหลักสูตร!C3)","v":""},{"$f":"IF(ลงหลักสูตร!C4=\"\",\"\",ลงหลักสูตร!C4)","v":""},{"$f":"IF(ลงหลักสูตร!C5=\"\",\"\",ลงหลักสูตร!C5)","v":""},{"$f":"IF(ลงหลักสูตร!C6=\"\",\"\",ลงหลักสูตร!C6)","v":""},{"$f":"IF(ลงหลักสูตร!C7=\"\",\"\",ลงหลักสูตร!C7)","v":""},{"$f":"IF(ลงหลักสูตร!C8=\"\",\"\",ลงหลักสูตร!C8)","v":""},{"$f":"IF(ลงหลักสูตร!C9=\"\",\"\",ลงหลักสูตร!C9)","v":""},{"$f":"IF(ลงหลักสูตร!C10=\"\",\"\",ลงหลักสูตร!C10)","v":""},{"$f":"IF(ลงหลักสูตร!C11=\"\",\"\",ลงหลักสูตร!C11)","v":""},{"$f":"IF(ลงหลักสูตร!C12=\"\",\"\",ลงหลักสูตร!C12)","v":""},{"$f":"IF(ลงหลักสูตร!C13=\"\",\"\",ลงหลักสูตร!C13)","v":""},{"$f":"IF(ลงหลักสูตร!C14=\"\",\"\",ลงหลักสูตร!C14)","v":""},{"$f":"IF(ลงหลักสูตร!C15=\"\",\"\",ลงหลักสูตร!C15)","v":""},{"$f":"IF(ลงหลักสูตร!C16=\"\",\"\",ลงหลักสูตร!C16)","v":""},{"$f":"IF(ลงหลักสูตร!C17=\"\",\"\",ลงหลักสูตร!C17)","v":""},{"$f":"IF(ลงหลักสูตร!C18=\"\",\"\",ลงหลักสูตร!C18)","v":""},{"$f":"IF(ลงหลักสูตร!C19=\"\",\"\",ลงหลักสูตร!C19)","v":""},null,{"$f":"AQ5","v":""},"","","","","","","","","","","","","","","",{"$f":"BG5","v":""}]
[null,null,null,null,null,null,null,null,null,null,null,null,null,null,null,null,null,null,null,null,null,null,null,null,null,null,null,null,null,null,null,null,null,null,null,null,null,"สรุปผลการประเมิน","สรุปผลระดับคุณภาพ","สรุปผลการประเมิน","สรุปผลระดับคุณภาพ"]
[null,null,null,"คุณลักษณะ","อ่านคิดวิเคราะห์","คุณลักษณะ","อ่านคิดวิเคราะห์","คุณลักษณะ","อ่านคิดวิเคราะห์","คุณลักษณะ","อ่านคิดวิเคราะห์","คุณลักษณะ","อ่านคิดวิเคราะห์","คุณลักษณะ","อ่านคิดวิเคราะห์","คุณลักษณะ","อ่านคิดวิเคราะห์","คุณลักษณะ","อ่านคิดวิเคราะห์","คุณลักษณะ","อ่านคิดวิเคราะห์","คุณลักษณะ","อ่านคิดวิเคราะห์","คุณลักษณะ","อ่านคิดวิเคราะห์","คุณลักษณะ","อ่านคิดวิเคราะห์","คุณลักษณะ","อ่านคิดวิเคราะห์","คุณลักษณะ","อ่านคิดวิเคราะห์","คุณลักษณะ","อ่านคิดวิเคราะห์","คุณลักษณะ","อ่านคิดวิเคราะห์","คุณลักษณะ","อ่านคิดวิเคราะห์"]
[{"$f":"IF(คีย์คะแนน!A8=\"\",\"\",คีย์คะแนน!A8)","v":0},{"$f":"IF(คีย์คะแนน!B8=\"\",\"\",คีย์คะแนน!B8)","v":0},{"$f":"IF(คีย์คะแนน!C8=\"\",\"\",คีย์คะแนน!C8)","v":""},null,null,null,null,null,null,null,null,null,null,null,null,null,null,null,null,null,null,null,null,null,null,null,null,null,null,null,null,null,null,null,null,null,null,{"$f":"IF(BH8=\"\",\"\",BH8)","v":""},{"$f":"IF(AL8=\"\",\"\",(IF(AL8>=2.5,\"ดีเยี่ยม\",IF(AL8>=1.5,\"ดี\",IF(AL8>=0.5,\"ผ่าน\",IF(AL8>=0,\"ไม่ผ่าน\",\"\"))))))","v":""},{"$f":"IF(BZ8=\"\",\"\",BZ8)","v":""},{"$f":"IF(AN8=\"\",\"\",(IF(AN8>=2.5,\"ดีเยี่ยม\",IF(AN8>=1.5,\"ดี\",IF(AN8>=0.5,\"ผ่าน\",IF(AN8>=0,\"ไม่ผ่าน\",\"\"))))))","v":""},{"$f":"รายชื่อนักเรียน!F6","v":0},{"$f":"IF(D8=\"\",\"\",VLOOKUP(D8,ตั้งค่า!$AD$7:$AE$10,2,FALSE))","v":""},{"$f":"IF(F8=\"\",\"\",VLOOKUP(F8,ตั้งค่า!$AD$7:$AE$10,2,FALSE))","v":""},{"$f":"IF(H8=\"\",\"\",VLOOKUP(H8,ตั้งค่า!$AD$7:$AE$10,2,FALSE))","v":""},{"$f":"IF(J8=\"\",\"\",VLOOKUP(J8,ตั้งค่า!$AD$7:$AE$10,2,FALSE))","v":""},{"$f":"IF(L8=\"\",\"\",VLOOKUP(L8,ตั้งค่า!$AD$7:$AE$10,2,FALSE))","v":""},{"$f":"IF(N8=\"\",\"\",VLOOKUP(N8,ตั้งค่า!$AD$7:$AE$10,2,FALSE))","v":""},{"$f":"IF(P8=\"\",\"\",VLOOKUP(P8,ตั้งค่า!$AD$7:$AE$10,2,FALSE))","v":""},{"$f":"IF(R8=\"\",\"\",VLOOKUP(R8,ตั้งค่า!$AD$7:$AE$10,2,FALSE))","v":""},{"$f":"IF(T8=\"\",\"\",VLOOKUP(T8,ตั้งค่า!$AD$7:$AE$10,2,FALSE))","v":""},{"$f":"IF(V8=\"\",\"\",VLOOKUP(V8,ตั้งค่า!$AD$7:$AE$10,2,FALSE))","v":""},{"$f":"IF(X8=\"\",\"\",VLOOKUP(X8,ตั้งค่า!$AD$7:$AE$10,2,FALSE))","v":""},{"$f":"IF(Z8=\"\",\"\",VLOOKUP(Z8,ตั้งค่า!$AD$7:$AE$10,2,FALSE))","v":""},{"$f":"IF(AB8=\"\",\"\",VLOOKUP(AB8,ตั้งค่า!$AD$7:$AE$10,2,FALSE))","v":""},{"$f":"IF(AD8=\"\",\"\",VLOOKUP(AD8,ตั้งค่า!$AD$7:$AE$10,2,FALSE))","v":""},{"$f":"IF(AF8=\"\",\"\",VLOOKUP(AF8,ตั้งค่า!$AD$7:$AE$10,2,FALSE))","v":""},{"$f":"IF(AH8=\"\",\"\",VLOOKUP(AH8,ตั้งค่า!$AD$7:$AE$10,2,FALSE))","v":""},{"$f":"IF(AJ8=\"\",\"\",VLOOKUP(AJ8,ตั้งค่า!$AD$7:$AE$10,2,FALSE))","v":""},{"$f":"IFERROR(AVERAGE(AQ8:BG8),\"\")","v":""},{"$f":"IF(E8=\"\",\"\",VLOOKUP(E8,ตั้งค่า!$AD$7:$AE$10,2,FALSE))","v":""},{"$f":"IF(G8=\"\",\"\",VLOOKUP(G8,ตั้งค่า!$AD$7:$AE$10,2,FALSE))","v":""},{"$f":"IF(I8=\"\",\"\",VLOOKUP(I8,ตั้งค่า!$AD$7:$AE$10,2,FALSE))","v":""},{"$f":"IF(K8=\"\",\"\",VLOOKUP(K8,ตั้งค่า!$AD$7:$AE$10,2,FALSE))","v":""},{"$f":"IF(M8=\"\",\"\",VLOOKUP(M8,ตั้งค่า!$AD$7:$AE$10,2,FALSE))","v":""},{"$f":"IF(O8=\"\",\"\",VLOOKUP(O8,ตั้งค่า!$AD$7:$AE$10,2,FALSE))","v":""},{"$f":"IF(Q8=\"\",\"\",VLOOKUP(Q8,ตั้งค่า!$AD$7:$AE$10,2,FALSE))","v":""},{"$f":"IF(S8=\"\",\"\",VLOOKUP(S8,ตั้งค่า!$AD$7:$AE$10,2,FALSE))","v":""},{"$f":"IF(U8=\"\",\"\",VLOOKUP(U8,ตั้งค่า!$AD$7:$AE$10,2,FALSE))","v":""},{"$f":"IF(W8=\"\",\"\",VLOOKUP(W8,ตั้งค่า!$AD$7:$AE$10,2,FALSE))","v":""},{"$f":"IF(Y8=\"\",\"\",VLOOKUP(Y8,ตั้งค่า!$AD$7:$AE$10,2,FALSE))","v":""},{"$f":"IF(AA8=\"\",\"\",VLOOKUP(AA8,ตั้งค่า!$AD$7:$AE$10,2,FALSE))","v":""},{"$f":"IF(AC8=\"\",\"\",VLOOKUP(AC8,ตั้งค่า!$AD$7:$AE$10,2,FALSE))","v":""},{"$f":"IF(AE8=\"\",\"\",VLOOKUP(AE8,ตั้งค่า!$AD$7:$AE$10,2,FALSE))","v":""},{"$f":"IF(AG8=\"\",\"\",VLOOKUP(AG8,ตั้งค่า!$AD$7:$AE$10,2,FALSE))","v":""},{"$f":"IF(AI8=\"\",\"\",VLOOKUP(AI8,ตั้งค่า!$AD$7:$AE$10,2,FALSE))","v":""},{"$f":"IF(AK8=\"\",\"\",VLOOKUP(AK8,ตั้งค่า!$AD$7:$AE$10,2,FALSE))","v":""},{"$f":"IFERROR(AVERAGE(BI8:BY8),\"\")","v":""}]
[{"$f":"IF(คีย์คะแนน!A9=\"\",\"\",คีย์คะแนน!A9)","v":0},{"$f":"IF(คีย์คะแนน!B9=\"\",\"\",คีย์คะแนน!B9)","v":0},{"$f":"IF(คีย์คะแนน!C9=\"\",\"\",คีย์คะแนน!C9)","v":""},null,null,null,null,null,null,null,null,null,null,null,null,null,null,null,null,null,null,null,null,null,null,null,null,null,null,null,null,null,null,null,null,null,null,{"$f":"IF(BH9=\"\",\"\",BH9)","v":""},{"$f":"IF(AL9=\"\",\"\",(IF(AL9>=2.5,\"ดีเยี่ยม\",IF(AL9>=1.5,\"ดี\",IF(AL9>=0.5,\"ผ่าน\",IF(AL9>=0,\"ไม่ผ่าน\",\"\"))))))","v":""},{"$f":"IF(BZ9=\"\",\"\",BZ9)","v":""},{"$f":"IF(AN9=\"\",\"\",(IF(AN9>=2.5,\"ดีเยี่ยม\",IF(AN9>=1.5,\"ดี\",IF(AN9>=0.5,\"ผ่าน\",IF(AN9>=0,\"ไม่ผ่าน\",\"\"))))))","v":""},{"$f":"รายชื่อนักเรียน!F7","v":0},{"$f":"IF(D9=\"\",\"\",VLOOKUP(D9,ตั้งค่า!$AD$7:$AE$10,2,FALSE))","v":""},{"$f":"IF(F9=\"\",\"\",VLOOKUP(F9,ตั้งค่า!$AD$7:$AE$10,2,FALSE))","v":""},{"$f":"IF(H9=\"\",\"\",VLOOKUP(H9,ตั้งค่า!$AD$7:$AE$10,2,FALSE))","v":""},{"$f":"IF(J9=\"\",\"\",VLOOKUP(J9,ตั้งค่า!$AD$7:$AE$10,2,FALSE))","v":""},{"$f":"IF(L9=\"\",\"\",VLOOKUP(L9,ตั้งค่า!$AD$7:$AE$10,2,FALSE))","v":""},{"$f":"IF(N9=\"\",\"\",VLOOKUP(N9,ตั้งค่า!$AD$7:$AE$10,2,FALSE))","v":""},{"$f":"IF(P9=\"\",\"\",VLOOKUP(P9,ตั้งค่า!$AD$7:$AE$10,2,FALSE))","v":""},{"$f":"IF(R9=\"\",\"\",VLOOKUP(R9,ตั้งค่า!$AD$7:$AE$10,2,FALSE))","v":""},{"$f":"IF(T9=\"\",\"\",VLOOKUP(T9,ตั้งค่า!$AD$7:$AE$10,2,FALSE))","v":""},{"$f":"IF(V9=\"\",\"\",VLOOKUP(V9,ตั้งค่า!$AD$7:$AE$10,2,FALSE))","v":""},{"$f":"IF(X9=\"\",\"\",VLOOKUP(X9,ตั้งค่า!$AD$7:$AE$10,2,FALSE))","v":""},{"$f":"IF(Z9=\"\",\"\",VLOOKUP(Z9,ตั้งค่า!$AD$7:$AE$10,2,FALSE))","v":""},{"$f":"IF(AB9=\"\",\"\",VLOOKUP(AB9,ตั้งค่า!$AD$7:$AE$10,2,FALSE))","v":""},{"$f":"IF(AD9=\"\",\"\",VLOOKUP(AD9,ตั้งค่า!$AD$7:$AE$10,2,FALSE))","v":""},{"$f":"IF(AF9=\"\",\"\",VLOOKUP(AF9,ตั้งค่า!$AD$7:$AE$10,2,FALSE))","v":""},{"$f":"IF(AH9=\"\",\"\",VLOOKUP(AH9,ตั้งค่า!$AD$7:$AE$10,2,FALSE))","v":""},{"$f":"IF(AJ9=\"\",\"\",VLOOKUP(AJ9,ตั้งค่า!$AD$7:$AE$10,2,FALSE))","v":""},{"$f":"IFERROR(AVERAGE(AQ9:BG9),\"\")","v":""},{"$f":"IF(E9=\"\",\"\",VLOOKUP(E9,ตั้งค่า!$AD$7:$AE$10,2,FALSE))","v":""},{"$f":"IF(G9=\"\",\"\",VLOOKUP(G9,ตั้งค่า!$AD$7:$AE$10,2,FALSE))","v":""},{"$f":"IF(I9=\"\",\"\",VLOOKUP(I9,ตั้งค่า!$AD$7:$AE$10,2,FALSE))","v":""},{"$f":"IF(K9=\"\",\"\",VLOOKUP(K9,ตั้งค่า!$AD$7:$AE$10,2,FALSE))","v":""},{"$f":"IF(M9=\"\",\"\",VLOOKUP(M9,ตั้งค่า!$AD$7:$AE$10,2,FALSE))","v":""},{"$f":"IF(O9=\"\",\"\",VLOOKUP(O9,ตั้งค่า!$AD$7:$AE$10,2,FALSE))","v":""},{"$f":"IF(Q9=\"\",\"\",VLOOKUP(Q9,ตั้งค่า!$AD$7:$AE$10,2,FALSE))","v":""},{"$f":"IF(S9=\"\",\"\",VLOOKUP(S9,ตั้งค่า!$AD$7:$AE$10,2,FALSE))","v":""},{"$f":"IF(U9=\"\",\"\",VLOOKUP(U9,ตั้งค่า!$AD$7:$AE$10,2,FALSE))","v":""},{"$f":"IF(W9=\"\",\"\",VLOOKUP(W9,ตั้งค่า!$AD$7:$AE$10,2,FALSE))","v":""},{"$f":"IF(Y9=\"\",\"\",VLOOKUP(Y9,ตั้งค่า!$AD$7:$AE$10,2,FALSE))","v":""},{"$f":"IF(AA9=\"\",\"\",VLOOKUP(AA9,ตั้งค่า!$AD$7:$AE$10,2,FALSE))","v":""},{"$f":"IF(AC9=\"\",\"\",VLOOKUP(AC9,ตั้งค่า!$AD$7:$AE$10,2,FALSE))","v":""},{"$f":"IF(AE9=\"\",\"\",VLOOKUP(AE9,ตั้งค่า!$AD$7:$AE$10,2,FALSE))","v":""},{"$f":"IF(AG9=\"\",\"\",VLOOKUP(AG9,ตั้งค่า!$AD$7:$AE$10,2,FALSE))","v":""},{"$f":"IF(AI9=\"\",\"\",VLOOKUP(AI9,ตั้งค่า!$AD$7:$AE$10,2,FALSE))","v":""},{"$f":"IF(AK9=\"\",\"\",VLOOKUP(AK9,ตั้งค่า!$AD$7:$AE$10,2,FALSE))","v":""},{"$f":"IFERROR(AVERAGE(BI9:BY9),\"\")","v":""}]
[{"$f":"IF(คีย์คะแนน!A10=\"\",\"\",คีย์คะแนน!A10)","v":0},{"$f":"IF(คีย์คะแนน!B10=\"\",\"\",คีย์คะแนน!B10)","v":0},{"$f":"IF(คีย์คะแนน!C10=\"\",\"\",คีย์คะแนน!C10)","v":""},null,null,null,null,null,null,null,null,null,null,null,null,null,null,null,null,null,null,null,null,null,null,null,null,null,null,null,null,null,null,null,null,null,null,{"$f":"IF(BH10=\"\",\"\",BH10)","v":""},"","","",{"$f":"รายชื่อนักเรียน!F8","v":0},{"$f":"IF(D10=\"\",\"\",VLOOKUP(D10,ตั้งค่า!$AD$7:$AE$10,2,FALSE))","v":""},{"$f":"IF(F10=\"\",\"\",VLOOKUP(F10,ตั้งค่า!$AD$7:$AE$10,2,FALSE))","v":""},{"$f":"IF(H10=\"\",\"\",VLOOKUP(H10,ตั้งค่า!$AD$7:$AE$10,2,FALSE))","v":""},{"$f":"IF(J10=\"\",\"\",VLOOKUP(J10,ตั้งค่า!$AD$7:$AE$10,2,FALSE))","v":""},{"$f":"IF(L10=\"\",\"\",VLOOKUP(L10,ตั้งค่า!$AD$7:$AE$10,2,FALSE))","v":""},{"$f":"IF(N10=\"\",\"\",VLOOKUP(N10,ตั้งค่า!$AD$7:$AE$10,2,FALSE))","v":""},{"$f":"IF(P10=\"\",\"\",VLOOKUP(P10,ตั้งค่า!$AD$7:$AE$10,2,FALSE))","v":""},{"$f":"IF(R10=\"\",\"\",VLOOKUP(R10,ตั้งค่า!$AD$7:$AE$10,2,FALSE))","v":""},{"$f":"IF(T10=\"\",\"\",VLOOKUP(T10,ตั้งค่า!$AD$7:$AE$10,2,FALSE))","v":""},{"$f":"IF(V10=\"\",\"\",VLOOKUP(V10,ตั้งค่า!$AD$7:$AE$10,2,FALSE))","v":""},{"$f":"IF(X10=\"\",\"\",VLOOKUP(X10,ตั้งค่า!$AD$7:$AE$10,2,FALSE))","v":""},{"$f":"IF(Z10=\"\",\"\",VLOOKUP(Z10,ตั้งค่า!$AD$7:$AE$10,2,FALSE))","v":""},{"$f":"IF(AB10=\"\",\"\",VLOOKUP(AB10,ตั้งค่า!$AD$7:$AE$10,2,FALSE))","v":""},{"$f":"IF(AD10=\"\",\"\",VLOOKUP(AD10,ตั้งค่า!$AD$7:$AE$10,2,FALSE))","v":""},{"$f":"IF(AF10=\"\",\"\",VLOOKUP(AF10,ตั้งค่า!$AD$7:$AE$10,2,FALSE))","v":""},{"$f":"IF(AH10=\"\",\"\",VLOOKUP(AH10,ตั้งค่า!$AD$7:$AE$10,2,FALSE))","v":""},{"$f":"IF(AJ10=\"\",\"\",VLOOKUP(AJ10,ตั้งค่า!$AD$7:$AE$10,2,FALSE))","v":""},"",{"$f":"IF(E10=\"\",\"\",VLOOKUP(E10,ตั้งค่า!$AD$7:$AE$10,2,FALSE))","v":""},{"$f":"IF(G10=\"\",\"\",VLOOKUP(G10,ตั้งค่า!$AD$7:$AE$10,2,FALSE))","v":""},{"$f":"IF(I10=\"\",\"\",VLOOKUP(I10,ตั้งค่า!$AD$7:$AE$10,2,FALSE))","v":""},{"$f":"IF(K10=\"\",\"\",VLOOKUP(K10,ตั้งค่า!$AD$7:$AE$10,2,FALSE))","v":""},{"$f":"IF(M10=\"\",\"\",VLOOKUP(M10,ตั้งค่า!$AD$7:$AE$10,2,FALSE))","v":""},{"$f":"IF(O10=\"\",\"\",VLOOKUP(O10,ตั้งค่า!$AD$7:$AE$10,2,FALSE))","v":""},{"$f":"IF(Q10=\"\",\"\",VLOOKUP(Q10,ตั้งค่า!$AD$7:$AE$10,2,FALSE))","v":""},{"$f":"IF(S10=\"\",\"\",VLOOKUP(S10,ตั้งค่า!$AD$7:$AE$10,2,FALSE))","v":""},{"$f":"IF(U10=\"\",\"\",VLOOKUP(U10,ตั้งค่า!$AD$7:$AE$10,2,FALSE))","v":""},{"$f":"IF(W10=\"\",\"\",VLOOKUP(W10,ตั้งค่า!$AD$7:$AE$10,2,FALSE))","v":""},{"$f":"IF(Y10=\"\",\"\",VLOOKUP(Y10,ตั้งค่า!$AD$7:$AE$10,2,FALSE))","v":""},{"$f":"IF(AA10=\"\",\"\",VLOOKUP(AA10,ตั้งค่า!$AD$7:$AE$10,2,FALSE))","v":""},{"$f":"IF(AC10=\"\",\"\",VLOOKUP(AC10,ตั้งค่า!$AD$7:$AE$10,2,FALSE))","v":""},{"$f":"IF(AE10=\"\",\"\",VLOOKUP(AE10,ตั้งค่า!$AD$7:$AE$10,2,FALSE))","v":""},{"$f":"IF(AG10=\"\",\"\",VLOOKUP(AG10,ตั้งค่า!$AD$7:$AE$10,2,FALSE))","v":""},{"$f":"IF(AI10=\"\",\"\",VLOOKUP(AI10,ตั้งค่า!$AD$7:$AE$10,2,FALSE))","v":""},{"$f":"IF(AK10=\"\",\"\",VLOOKUP(AK10,ตั้งค่า!$AD$7:$AE$10,2,FALSE))","v":""},""]
[{"$f":"IF(คีย์คะแนน!A11=\"\",\"\",คีย์คะแนน!A11)","v":0},{"$f":"IF(คีย์คะแนน!B11=\"\",\"\",คีย์คะแนน!B11)","v":0},{"$f":"IF(คีย์คะแนน!C11=\"\",\"\",คีย์คะแนน!C11)","v":""},null,null,null,null,null,null,null,null,null,null,null,null,null,null,null,null,null,null,null,null,null,null,null,null,null,null,null,null,null,null,null,null,null,null,{"$f":"IF(BH11=\"\",\"\",BH11)","v":""},"","","",{"$f":"รายชื่อนักเรียน!F9","v":0},{"$f":"IF(D11=\"\",\"\",VLOOKUP(D11,ตั้งค่า!$AD$7:$AE$10,2,FALSE))","v":""},{"$f":"IF(F11=\"\",\"\",VLOOKUP(F11,ตั้งค่า!$AD$7:$AE$10,2,FALSE))","v":""},{"$f":"IF(H11=\"\",\"\",VLOOKUP(H11,ตั้งค่า!$AD$7:$AE$10,2,FALSE))","v":""},{"$f":"IF(J11=\"\",\"\",VLOOKUP(J11,ตั้งค่า!$AD$7:$AE$10,2,FALSE))","v":""},{"$f":"IF(L11=\"\",\"\",VLOOKUP(L11,ตั้งค่า!$AD$7:$AE$10,2,FALSE))","v":""},{"$f":"IF(N11=\"\",\"\",VLOOKUP(N11,ตั้งค่า!$AD$7:$AE$10,2,FALSE))","v":""},{"$f":"IF(P11=\"\",\"\",VLOOKUP(P11,ตั้งค่า!$AD$7:$AE$10,2,FALSE))","v":""},{"$f":"IF(R11=\"\",\"\",VLOOKUP(R11,ตั้งค่า!$AD$7:$AE$10,2,FALSE))","v":""},{"$f":"IF(T11=\"\",\"\",VLOOKUP(T11,ตั้งค่า!$AD$7:$AE$10,2,FALSE))","v":""},{"$f":"IF(V11=\"\",\"\",VLOOKUP(V11,ตั้งค่า!$AD$7:$AE$10,2,FALSE))","v":""},{"$f":"IF(X11=\"\",\"\",VLOOKUP(X11,ตั้งค่า!$AD$7:$AE$10,2,FALSE))","v":""},{"$f":"IF(Z11=\"\",\"\",VLOOKUP(Z11,ตั้งค่า!$AD$7:$AE$10,2,FALSE))","v":""},{"$f":"IF(AB11=\"\",\"\",VLOOKUP(AB11,ตั้งค่า!$AD$7:$AE$10,2,FALSE))","v":""},{"$f":"IF(AD11=\"\",\"\",VLOOKUP(AD11,ตั้งค่า!$AD$7:$AE$10,2,FALSE))","v":""},{"$f":"IF(AF11=\"\",\"\",VLOOKUP(AF11,ตั้งค่า!$AD$7:$AE$10,2,FALSE))","v":""},{"$f":"IF(AH11=\"\",\"\",VLOOKUP(AH11,ตั้งค่า!$AD$7:$AE$10,2,FALSE))","v":""},{"$f":"IF(AJ11=\"\",\"\",VLOOKUP(AJ11,ตั้งค่า!$AD$7:$AE$10,2,FALSE))","v":""},"",{"$f":"IF(E11=\"\",\"\",VLOOKUP(E11,ตั้งค่า!$AD$7:$AE$10,2,FALSE))","v":""},{"$f":"IF(G11=\"\",\"\",VLOOKUP(G11,ตั้งค่า!$AD$7:$AE$10,2,FALSE))","v":""},{"$f":"IF(I11=\"\",\"\",VLOOKUP(I11,ตั้งค่า!$AD$7:$AE$10,2,FALSE))","v":""},{"$f":"IF(K11=\"\",\"\",VLOOKUP(K11,ตั้งค่า!$AD$7:$AE$10,2,FALSE))","v":""},{"$f":"IF(M11=\"\",\"\",VLOOKUP(M11,ตั้งค่า!$AD$7:$AE$10,2,FALSE))","v":""},{"$f":"IF(O11=\"\",\"\",VLOOKUP(O11,ตั้งค่า!$AD$7:$AE$10,2,FALSE))","v":""},{"$f":"IF(Q11=\"\",\"\",VLOOKUP(Q11,ตั้งค่า!$AD$7:$AE$10,2,FALSE))","v":""},{"$f":"IF(S11=\"\",\"\",VLOOKUP(S11,ตั้งค่า!$AD$7:$AE$10,2,FALSE))","v":""},{"$f":"IF(U11=\"\",\"\",VLOOKUP(U11,ตั้งค่า!$AD$7:$AE$10,2,FALSE))","v":""},{"$f":"IF(W11=\"\",\"\",VLOOKUP(W11,ตั้งค่า!$AD$7:$AE$10,2,FALSE))","v":""},{"$f":"IF(Y11=\"\",\"\",VLOOKUP(Y11,ตั้งค่า!$AD$7:$AE$10,2,FALSE))","v":""},{"$f":"IF(AA11=\"\",\"\",VLOOKUP(AA11,ตั้งค่า!$AD$7:$AE$10,2,FALSE))","v":""},{"$f":"IF(AC11=\"\",\"\",VLOOKUP(AC11,ตั้งค่า!$AD$7:$AE$10,2,FALSE))","v":""},{"$f":"IF(AE11=\"\",\"\",VLOOKUP(AE11,ตั้งค่า!$AD$7:$AE$10,2,FALSE))","v":""},{"$f":"IF(AG11=\"\",\"\",VLOOKUP(AG11,ตั้งค่า!$AD$7:$AE$10,2,FALSE))","v":""},{"$f":"IF(AI11=\"\",\"\",VLOOKUP(AI11,ตั้งค่า!$AD$7:$AE$10,2,FALSE))","v":""},{"$f":"IF(AK11=\"\",\"\",VLOOKUP(AK11,ตั้งค่า!$AD$7:$AE$10,2,FALSE))","v":""},""]
[{"$f":"IF(คีย์คะแนน!A12=\"\",\"\",คีย์คะแนน!A12)","v":0},{"$f":"IF(คีย์คะแนน!B12=\"\",\"\",คีย์คะแนน!B12)","v":0},{"$f":"IF(คีย์คะแนน!C12=\"\",\"\",คีย์คะแนน!C12)","v":""},null,null,null,null,null,null,null,null,null,null,null,null,null,null,null,null,null,null,null,null,null,null,null,null,null,null,null,null,null,null,null,null,null,null,"","","","",{"$f":"รายชื่อนักเรียน!F10","v":0},{"$f":"IF(D12=\"\",\"\",VLOOKUP(D12,ตั้งค่า!$AD$7:$AE$10,2,FALSE))","v":""},{"$f":"IF(F12=\"\",\"\",VLOOKUP(F12,ตั้งค่า!$AD$7:$AE$10,2,FALSE))","v":""},{"$f":"IF(H12=\"\",\"\",VLOOKUP(H12,ตั้งค่า!$AD$7:$AE$10,2,FALSE))","v":""},{"$f":"IF(J12=\"\",\"\",VLOOKUP(J12,ตั้งค่า!$AD$7:$AE$10,2,FALSE))","v":""},{"$f":"IF(L12=\"\",\"\",VLOOKUP(L12,ตั้งค่า!$AD$7:$AE$10,2,FALSE))","v":""},{"$f":"IF(N12=\"\",\"\",VLOOKUP(N12,ตั้งค่า!$AD$7:$AE$10,2,FALSE))","v":""},{"$f":"IF(P12=\"\",\"\",VLOOKUP(P12,ตั้งค่า!$AD$7:$AE$10,2,FALSE))","v":""},{"$f":"IF(R12=\"\",\"\",VLOOKUP(R12,ตั้งค่า!$AD$7:$AE$10,2,FALSE))","v":""},{"$f":"IF(T12=\"\",\"\",VLOOKUP(T12,ตั้งค่า!$AD$7:$AE$10,2,FALSE))","v":""},{"$f":"IF(V12=\"\",\"\",VLOOKUP(V12,ตั้งค่า!$AD$7:$AE$10,2,FALSE))","v":""},{"$f":"IF(X12=\"\",\"\",VLOOKUP(X12,ตั้งค่า!$AD$7:$AE$10,2,FALSE))","v":""},{"$f":"IF(Z12=\"\",\"\",VLOOKUP(Z12,ตั้งค่า!$AD$7:$AE$10,2,FALSE))","v":""},{"$f":"IF(AB12=\"\",\"\",VLOOKUP(AB12,ตั้งค่า!$AD$7:$AE$10,2,FALSE))","v":""},{"$f":"IF(AD12=\"\",\"\",VLOOKUP(AD12,ตั้งค่า!$AD$7:$AE$10,2,FALSE))","v":""},{"$f":"IF(AF12=\"\",\"\",VLOOKUP(AF12,ตั้งค่า!$AD$7:$AE$10,2,FALSE))","v":""},{"$f":"IF(AH12=\"\",\"\",VLOOKUP(AH12,ตั้งค่า!$AD$7:$AE$10,2,FALSE))","v":""},{"$f":"IF(AJ12=\"\",\"\",VLOOKUP(AJ12,ตั้งค่า!$AD$7:$AE$10,2,FALSE))","v":""},"",{"$f":"IF(E12=\"\",\"\",VLOOKUP(E12,ตั้งค่า!$AD$7:$AE$10,2,FALSE))","v":""},{"$f":"IF(G12=\"\",\"\",VLOOKUP(G12,ตั้งค่า!$AD$7:$AE$10,2,FALSE))","v":""},{"$f":"IF(I12=\"\",\"\",VLOOKUP(I12,ตั้งค่า!$AD$7:$AE$10,2,FALSE))","v":""},{"$f":"IF(K12=\"\",\"\",VLOOKUP(K12,ตั้งค่า!$AD$7:$AE$10,2,FALSE))","v":""},{"$f":"IF(M12=\"\",\"\",VLOOKUP(M12,ตั้งค่า!$AD$7:$AE$10,2,FALSE))","v":""},{"$f":"IF(O12=\"\",\"\",VLOOKUP(O12,ตั้งค่า!$AD$7:$AE$10,2,FALSE))","v":""},{"$f":"IF(Q12=\"\",\"\",VLOOKUP(Q12,ตั้งค่า!$AD$7:$AE$10,2,FALSE))","v":""},{"$f":"IF(S12=\"\",\"\",VLOOKUP(S12,ตั้งค่า!$AD$7:$AE$10,2,FALSE))","v":""},{"$f":"IF(U12=\"\",\"\",VLOOKUP(U12,ตั้งค่า!$AD$7:$AE$10,2,FALSE))","v":""},{"$f":"IF(W12=\"\",\"\",VLOOKUP(W12,ตั้งค่า!$AD$7:$AE$10,2,FALSE))","v":""},{"$f":"IF(Y12=\"\",\"\",VLOOKUP(Y12,ตั้งค่า!$AD$7:$AE$10,2,FALSE))","v":""},{"$f":"IF(AA12=\"\",\"\",VLOOKUP(AA12,ตั้งค่า!$AD$7:$AE$10,2,FALSE))","v":""},{"$f":"IF(AC12=\"\",\"\",VLOOKUP(AC12,ตั้งค่า!$AD$7:$AE$10,2,FALSE))","v":""},{"$f":"IF(AE12=\"\",\"\",VLOOKUP(AE12,ตั้งค่า!$AD$7:$AE$10,2,FALSE))","v":""},{"$f":"IF(AG12=\"\",\"\",VLOOKUP(AG12,ตั้งค่า!$AD$7:$AE$10,2,FALSE))","v":""},{"$f":"IF(AI12=\"\",\"\",VLOOKUP(AI12,ตั้งค่า!$AD$7:$AE$10,2,FALSE))","v":""},{"$f":"IF(AK12=\"\",\"\",VLOOKUP(AK12,ตั้งค่า!$AD$7:$AE$10,2,FALSE))","v":""},""]
[{"$f":"IF(คีย์คะแนน!A13=\"\",\"\",คีย์คะแนน!A13)","v":0},{"$f":"IF(คีย์คะแนน!B13=\"\",\"\",คีย์คะแนน!B13)","v":0},{"$f":"IF(คีย์คะแนน!C13=\"\",\"\",คีย์คะแนน!C13)","v":""},null,null,null,null,null,null,null,null,null,null,null,null,null,null,null,null,null,null,null,null,null,null,null,null,null,null,null,null,null,null,null,null,null,null,"","","","",{"$f":"รายชื่อนักเรียน!F11","v":0},{"$f":"IF(D13=\"\",\"\",VLOOKUP(D13,ตั้งค่า!$AD$7:$AE$10,2,FALSE))","v":""},{"$f":"IF(F13=\"\",\"\",VLOOKUP(F13,ตั้งค่า!$AD$7:$AE$10,2,FALSE))","v":""},{"$f":"IF(H13=\"\",\"\",VLOOKUP(H13,ตั้งค่า!$AD$7:$AE$10,2,FALSE))","v":""},{"$f":"IF(J13=\"\",\"\",VLOOKUP(J13,ตั้งค่า!$AD$7:$AE$10,2,FALSE))","v":""},{"$f":"IF(L13=\"\",\"\",VLOOKUP(L13,ตั้งค่า!$AD$7:$AE$10,2,FALSE))","v":""},{"$f":"IF(N13=\"\",\"\",VLOOKUP(N13,ตั้งค่า!$AD$7:$AE$10,2,FALSE))","v":""},{"$f":"IF(P13=\"\",\"\",VLOOKUP(P13,ตั้งค่า!$AD$7:$AE$10,2,FALSE))","v":""},{"$f":"IF(R13=\"\",\"\",VLOOKUP(R13,ตั้งค่า!$AD$7:$AE$10,2,FALSE))","v":""},{"$f":"IF(T13=\"\",\"\",VLOOKUP(T13,ตั้งค่า!$AD$7:$AE$10,2,FALSE))","v":""},{"$f":"IF(V13=\"\",\"\",VLOOKUP(V13,ตั้งค่า!$AD$7:$AE$10,2,FALSE))","v":""},{"$f":"IF(X13=\"\",\"\",VLOOKUP(X13,ตั้งค่า!$AD$7:$AE$10,2,FALSE))","v":""},{"$f":"IF(Z13=\"\",\"\",VLOOKUP(Z13,ตั้งค่า!$AD$7:$AE$10,2,FALSE))","v":""},{"$f":"IF(AB13=\"\",\"\",VLOOKUP(AB13,ตั้งค่า!$AD$7:$AE$10,2,FALSE))","v":""},{"$f":"IF(AD13=\"\",\"\",VLOOKUP(AD13,ตั้งค่า!$AD$7:$AE$10,2,FALSE))","v":""},{"$f":"IF(AF13=\"\",\"\",VLOOKUP(AF13,ตั้งค่า!$AD$7:$AE$10,2,FALSE))","v":""},{"$f":"IF(AH13=\"\",\"\",VLOOKUP(AH13,ตั้งค่า!$AD$7:$AE$10,2,FALSE))","v":""},{"$f":"IF(AJ13=\"\",\"\",VLOOKUP(AJ13,ตั้งค่า!$AD$7:$AE$10,2,FALSE))","v":""},"",{"$f":"IF(E13=\"\",\"\",VLOOKUP(E13,ตั้งค่า!$AD$7:$AE$10,2,FALSE))","v":""},{"$f":"IF(G13=\"\",\"\",VLOOKUP(G13,ตั้งค่า!$AD$7:$AE$10,2,FALSE))","v":""},{"$f":"IF(I13=\"\",\"\",VLOOKUP(I13,ตั้งค่า!$AD$7:$AE$10,2,FALSE))","v":""},{"$f":"IF(K13=\"\",\"\",VLOOKUP(K13,ตั้งค่า!$AD$7:$AE$10,2,FALSE))","v":""},{"$f":"IF(M13=\"\",\"\",VLOOKUP(M13,ตั้งค่า!$AD$7:$AE$10,2,FALSE))","v":""},{"$f":"IF(O13=\"\",\"\",VLOOKUP(O13,ตั้งค่า!$AD$7:$AE$10,2,FALSE))","v":""},{"$f":"IF(Q13=\"\",\"\",VLOOKUP(Q13,ตั้งค่า!$AD$7:$AE$10,2,FALSE))","v":""},{"$f":"IF(S13=\"\",\"\",VLOOKUP(S13,ตั้งค่า!$AD$7:$AE$10,2,FALSE))","v":""},{"$f":"IF(U13=\"\",\"\",VLOOKUP(U13,ตั้งค่า!$AD$7:$AE$10,2,FALSE))","v":""},{"$f":"IF(W13=\"\",\"\",VLOOKUP(W13,ตั้งค่า!$AD$7:$AE$10,2,FALSE))","v":""},{"$f":"IF(Y13=\"\",\"\",VLOOKUP(Y13,ตั้งค่า!$AD$7:$AE$10,2,FALSE))","v":""},{"$f":"IF(AA13=\"\",\"\",VLOOKUP(AA13,ตั้งค่า!$AD$7:$AE$10,2,FALSE))","v":""},{"$f":"IF(AC13=\"\",\"\",VLOOKUP(AC13,ตั้งค่า!$AD$7:$AE$10,2,FALSE))","v":""},{"$f":"IF(AE13=\"\",\"\",VLOOKUP(AE13,ตั้งค่า!$AD$7:$AE$10,2,FALSE))","v":""},{"$f":"IF(AG13=\"\",\"\",VLOOKUP(AG13,ตั้งค่า!$AD$7:$AE$10,2,FALSE))","v":""},{"$f":"IF(AI13=\"\",\"\",VLOOKUP(AI13,ตั้งค่า!$AD$7:$AE$10,2,FALSE))","v":""},{"$f":"IF(AK13=\"\",\"\",VLOOKUP(AK13,ตั้งค่า!$AD$7:$AE$10,2,FALSE))","v":""},""]
[{"$f":"IF(คีย์คะแนน!A14=\"\",\"\",คีย์คะแนน!A14)","v":0},{"$f":"IF(คีย์คะแนน!B14=\"\",\"\",คีย์คะแนน!B14)","v":0},{"$f":"IF(คีย์คะแนน!C14=\"\",\"\",คีย์คะแนน!C14)","v":""},null,null,null,null,null,null,null,null,null,null,null,null,null,null,null,null,null,null,null,null,null,null,null,null,null,null,null,null,null,null,null,null,null,null,"","","","",{"$f":"รายชื่อนักเรียน!F12","v":0},{"$f":"IF(D14=\"\",\"\",VLOOKUP(D14,ตั้งค่า!$AD$7:$AE$10,2,FALSE))","v":""},{"$f":"IF(F14=\"\",\"\",VLOOKUP(F14,ตั้งค่า!$AD$7:$AE$10,2,FALSE))","v":""},{"$f":"IF(H14=\"\",\"\",VLOOKUP(H14,ตั้งค่า!$AD$7:$AE$10,2,FALSE))","v":""},{"$f":"IF(J14=\"\",\"\",VLOOKUP(J14,ตั้งค่า!$AD$7:$AE$10,2,FALSE))","v":""},{"$f":"IF(L14=\"\",\"\",VLOOKUP(L14,ตั้งค่า!$AD$7:$AE$10,2,FALSE))","v":""},{"$f":"IF(N14=\"\",\"\",VLOOKUP(N14,ตั้งค่า!$AD$7:$AE$10,2,FALSE))","v":""},{"$f":"IF(P14=\"\",\"\",VLOOKUP(P14,ตั้งค่า!$AD$7:$AE$10,2,FALSE))","v":""},{"$f":"IF(R14=\"\",\"\",VLOOKUP(R14,ตั้งค่า!$AD$7:$AE$10,2,FALSE))","v":""},{"$f":"IF(T14=\"\",\"\",VLOOKUP(T14,ตั้งค่า!$AD$7:$AE$10,2,FALSE))","v":""},{"$f":"IF(V14=\"\",\"\",VLOOKUP(V14,ตั้งค่า!$AD$7:$AE$10,2,FALSE))","v":""},{"$f":"IF(X14=\"\",\"\",VLOOKUP(X14,ตั้งค่า!$AD$7:$AE$10,2,FALSE))","v":""},{"$f":"IF(Z14=\"\",\"\",VLOOKUP(Z14,ตั้งค่า!$AD$7:$AE$10,2,FALSE))","v":""},{"$f":"IF(AB14=\"\",\"\",VLOOKUP(AB14,ตั้งค่า!$AD$7:$AE$10,2,FALSE))","v":""},{"$f":"IF(AD14=\"\",\"\",VLOOKUP(AD14,ตั้งค่า!$AD$7:$AE$10,2,FALSE))","v":""},{"$f":"IF(AF14=\"\",\"\",VLOOKUP(AF14,ตั้งค่า!$AD$7:$AE$10,2,FALSE))","v":""},{"$f":"IF(AH14=\"\",\"\",VLOOKUP(AH14,ตั้งค่า!$AD$7:$AE$10,2,FALSE))","v":""},{"$f":"IF(AJ14=\"\",\"\",VLOOKUP(AJ14,ตั้งค่า!$AD$7:$AE$10,2,FALSE))","v":""},"",{"$f":"IF(E14=\"\",\"\",VLOOKUP(E14,ตั้งค่า!$AD$7:$AE$10,2,FALSE))","v":""},{"$f":"IF(G14=\"\",\"\",VLOOKUP(G14,ตั้งค่า!$AD$7:$AE$10,2,FALSE))","v":""},{"$f":"IF(I14=\"\",\"\",VLOOKUP(I14,ตั้งค่า!$AD$7:$AE$10,2,FALSE))","v":""},{"$f":"IF(K14=\"\",\"\",VLOOKUP(K14,ตั้งค่า!$AD$7:$AE$10,2,FALSE))","v":""},{"$f":"IF(M14=\"\",\"\",VLOOKUP(M14,ตั้งค่า!$AD$7:$AE$10,2,FALSE))","v":""},{"$f":"IF(O14=\"\",\"\",VLOOKUP(O14,ตั้งค่า!$AD$7:$AE$10,2,FALSE))","v":""},{"$f":"IF(Q14=\"\",\"\",VLOOKUP(Q14,ตั้งค่า!$AD$7:$AE$10,2,FALSE))","v":""},{"$f":"IF(S14=\"\",\"\",VLOOKUP(S14,ตั้งค่า!$AD$7:$AE$10,2,FALSE))","v":""},{"$f":"IF(U14=\"\",\"\",VLOOKUP(U14,ตั้งค่า!$AD$7:$AE$10,2,FALSE))","v":""},{"$f":"IF(W14=\"\",\"\",VLOOKUP(W14,ตั้งค่า!$AD$7:$AE$10,2,FALSE))","v":""},{"$f":"IF(Y14=\"\",\"\",VLOOKUP(Y14,ตั้งค่า!$AD$7:$AE$10,2,FALSE))","v":""},{"$f":"IF(AA14=\"\",\"\",VLOOKUP(AA14,ตั้งค่า!$AD$7:$AE$10,2,FALSE))","v":""},{"$f":"IF(AC14=\"\",\"\",VLOOKUP(AC14,ตั้งค่า!$AD$7:$AE$10,2,FALSE))","v":""},{"$f":"IF(AE14=\"\",\"\",VLOOKUP(AE14,ตั้งค่า!$AD$7:$AE$10,2,FALSE))","v":""},{"$f":"IF(AG14=\"\",\"\",VLOOKUP(AG14,ตั้งค่า!$AD$7:$AE$10,2,FALSE))","v":""},{"$f":"IF(AI14=\"\",\"\",VLOOKUP(AI14,ตั้งค่า!$AD$7:$AE$10,2,FALSE))","v":""},{"$f":"IF(AK14=\"\",\"\",VLOOKUP(AK14,ตั้งค่า!$AD$7:$AE$10,2,FALSE))","v":""},""]
[{"$f":"IF(คีย์คะแนน!A15=\"\",\"\",คีย์คะแนน!A15)","v":0},{"$f":"IF(คีย์คะแนน!B15=\"\",\"\",คีย์คะแนน!B15)","v":0},{"$f":"IF(คีย์คะแนน!C15=\"\",\"\",คีย์คะแนน!C15)","v":""},null,null,null,null,null,null,null,null,null,null,null,null,null,null,null,null,null,null,null,null,null,null,null,null,null,null,null,null,null,null,null,null,null,null,"","","","",{"$f":"รายชื่อนักเรียน!F13","v":0},{"$f":"IF(D15=\"\",\"\",VLOOKUP(D15,ตั้งค่า!$AD$7:$AE$10,2,FALSE))","v":""},{"$f":"IF(F15=\"\",\"\",VLOOKUP(F15,ตั้งค่า!$AD$7:$AE$10,2,FALSE))","v":""},{"$f":"IF(H15=\"\",\"\",VLOOKUP(H15,ตั้งค่า!$AD$7:$AE$10,2,FALSE))","v":""},{"$f":"IF(J15=\"\",\"\",VLOOKUP(J15,ตั้งค่า!$AD$7:$AE$10,2,FALSE))","v":""},{"$f":"IF(L15=\"\",\"\",VLOOKUP(L15,ตั้งค่า!$AD$7:$AE$10,2,FALSE))","v":""},{"$f":"IF(N15=\"\",\"\",VLOOKUP(N15,ตั้งค่า!$AD$7:$AE$10,2,FALSE))","v":""},{"$f":"IF(P15=\"\",\"\",VLOOKUP(P15,ตั้งค่า!$AD$7:$AE$10,2,FALSE))","v":""},{"$f":"IF(R15=\"\",\"\",VLOOKUP(R15,ตั้งค่า!$AD$7:$AE$10,2,FALSE))","v":""},{"$f":"IF(T15=\"\",\"\",VLOOKUP(T15,ตั้งค่า!$AD$7:$AE$10,2,FALSE))","v":""},{"$f":"IF(V15=\"\",\"\",VLOOKUP(V15,ตั้งค่า!$AD$7:$AE$10,2,FALSE))","v":""},{"$f":"IF(X15=\"\",\"\",VLOOKUP(X15,ตั้งค่า!$AD$7:$AE$10,2,FALSE))","v":""},{"$f":"IF(Z15=\"\",\"\",VLOOKUP(Z15,ตั้งค่า!$AD$7:$AE$10,2,FALSE))","v":""},{"$f":"IF(AB15=\"\",\"\",VLOOKUP(AB15,ตั้งค่า!$AD$7:$AE$10,2,FALSE))","v":""},{"$f":"IF(AD15=\"\",\"\",VLOOKUP(AD15,ตั้งค่า!$AD$7:$AE$10,2,FALSE))","v":""},{"$f":"IF(AF15=\"\",\"\",VLOOKUP(AF15,ตั้งค่า!$AD$7:$AE$10,2,FALSE))","v":""},{"$f":"IF(AH15=\"\",\"\",VLOOKUP(AH15,ตั้งค่า!$AD$7:$AE$10,2,FALSE))","v":""},{"$f":"IF(AJ15=\"\",\"\",VLOOKUP(AJ15,ตั้งค่า!$AD$7:$AE$10,2,FALSE))","v":""},"",{"$f":"IF(E15=\"\",\"\",VLOOKUP(E15,ตั้งค่า!$AD$7:$AE$10,2,FALSE))","v":""},{"$f":"IF(G15=\"\",\"\",VLOOKUP(G15,ตั้งค่า!$AD$7:$AE$10,2,FALSE))","v":""},{"$f":"IF(I15=\"\",\"\",VLOOKUP(I15,ตั้งค่า!$AD$7:$AE$10,2,FALSE))","v":""},{"$f":"IF(K15=\"\",\"\",VLOOKUP(K15,ตั้งค่า!$AD$7:$AE$10,2,FALSE))","v":""},{"$f":"IF(M15=\"\",\"\",VLOOKUP(M15,ตั้งค่า!$AD$7:$AE$10,2,FALSE))","v":""},{"$f":"IF(O15=\"\",\"\",VLOOKUP(O15,ตั้งค่า!$AD$7:$AE$10,2,FALSE))","v":""},{"$f":"IF(Q15=\"\",\"\",VLOOKUP(Q15,ตั้งค่า!$AD$7:$AE$10,2,FALSE))","v":""},{"$f":"IF(S15=\"\",\"\",VLOOKUP(S15,ตั้งค่า!$AD$7:$AE$10,2,FALSE))","v":""},{"$f":"IF(U15=\"\",\"\",VLOOKUP(U15,ตั้งค่า!$AD$7:$AE$10,2,FALSE))","v":""},{"$f":"IF(W15=\"\",\"\",VLOOKUP(W15,ตั้งค่า!$AD$7:$AE$10,2,FALSE))","v":""},{"$f":"IF(Y15=\"\",\"\",VLOOKUP(Y15,ตั้งค่า!$AD$7:$AE$10,2,FALSE))","v":""},{"$f":"IF(AA15=\"\",\"\",VLOOKUP(AA15,ตั้งค่า!$AD$7:$AE$10,2,FALSE))","v":""},{"$f":"IF(AC15=\"\",\"\",VLOOKUP(AC15,ตั้งค่า!$AD$7:$AE$10,2,FALSE))","v":""},{"$f":"IF(AE15=\"\",\"\",VLOOKUP(AE15,ตั้งค่า!$AD$7:$AE$10,2,FALSE))","v":""},{"$f":"IF(AG15=\"\",\"\",VLOOKUP(AG15,ตั้งค่า!$AD$7:$AE$10,2,FALSE))","v":""},{"$f":"IF(AI15=\"\",\"\",VLOOKUP(AI15,ตั้งค่า!$AD$7:$AE$10,2,FALSE))","v":""},{"$f":"IF(AK15=\"\",\"\",VLOOKUP(AK15,ตั้งค่า!$AD$7:$AE$10,2,FALSE))","v":""},""]
[{"$f":"IF(คีย์คะแนน!A16=\"\",\"\",คีย์คะแนน!A16)","v":0},{"$f":"IF(คีย์คะแนน!B16=\"\",\"\",คีย์คะแนน!B16)","v":0},{"$f":"IF(คีย์คะแนน!C16=\"\",\"\",คีย์คะแนน!C16)","v":""},null,null,null,null,null,null,null,null,null,null,null,null,null,null,null,null,null,null,null,null,null,null,null,null,null,null,null,null,null,null,null,null,null,null,"","","","",{"$f":"รายชื่อนักเรียน!F14","v":0},{"$f":"IF(D16=\"\",\"\",VLOOKUP(D16,ตั้งค่า!$AD$7:$AE$10,2,FALSE))","v":""},{"$f":"IF(F16=\"\",\"\",VLOOKUP(F16,ตั้งค่า!$AD$7:$AE$10,2,FALSE))","v":""},{"$f":"IF(H16=\"\",\"\",VLOOKUP(H16,ตั้งค่า!$AD$7:$AE$10,2,FALSE))","v":""},{"$f":"IF(J16=\"\",\"\",VLOOKUP(J16,ตั้งค่า!$AD$7:$AE$10,2,FALSE))","v":""},{"$f":"IF(L16=\"\",\"\",VLOOKUP(L16,ตั้งค่า!$AD$7:$AE$10,2,FALSE))","v":""},{"$f":"IF(N16=\"\",\"\",VLOOKUP(N16,ตั้งค่า!$AD$7:$AE$10,2,FALSE))","v":""},{"$f":"IF(P16=\"\",\"\",VLOOKUP(P16,ตั้งค่า!$AD$7:$AE$10,2,FALSE))","v":""},{"$f":"IF(R16=\"\",\"\",VLOOKUP(R16,ตั้งค่า!$AD$7:$AE$10,2,FALSE))","v":""},{"$f":"IF(T16=\"\",\"\",VLOOKUP(T16,ตั้งค่า!$AD$7:$AE$10,2,FALSE))","v":""},{"$f":"IF(V16=\"\",\"\",VLOOKUP(V16,ตั้งค่า!$AD$7:$AE$10,2,FALSE))","v":""},{"$f":"IF(X16=\"\",\"\",VLOOKUP(X16,ตั้งค่า!$AD$7:$AE$10,2,FALSE))","v":""},{"$f":"IF(Z16=\"\",\"\",VLOOKUP(Z16,ตั้งค่า!$AD$7:$AE$10,2,FALSE))","v":""},{"$f":"IF(AB16=\"\",\"\",VLOOKUP(AB16,ตั้งค่า!$AD$7:$AE$10,2,FALSE))","v":""},{"$f":"IF(AD16=\"\",\"\",VLOOKUP(AD16,ตั้งค่า!$AD$7:$AE$10,2,FALSE))","v":""},{"$f":"IF(AF16=\"\",\"\",VLOOKUP(AF16,ตั้งค่า!$AD$7:$AE$10,2,FALSE))","v":""},{"$f":"IF(AH16=\"\",\"\",VLOOKUP(AH16,ตั้งค่า!$AD$7:$AE$10,2,FALSE))","v":""},{"$f":"IF(AJ16=\"\",\"\",VLOOKUP(AJ16,ตั้งค่า!$AD$7:$AE$10,2,FALSE))","v":""},"",{"$f":"IF(E16=\"\",\"\",VLOOKUP(E16,ตั้งค่า!$AD$7:$AE$10,2,FALSE))","v":""},{"$f":"IF(G16=\"\",\"\",VLOOKUP(G16,ตั้งค่า!$AD$7:$AE$10,2,FALSE))","v":""},{"$f":"IF(I16=\"\",\"\",VLOOKUP(I16,ตั้งค่า!$AD$7:$AE$10,2,FALSE))","v":""},{"$f":"IF(K16=\"\",\"\",VLOOKUP(K16,ตั้งค่า!$AD$7:$AE$10,2,FALSE))","v":""},{"$f":"IF(M16=\"\",\"\",VLOOKUP(M16,ตั้งค่า!$AD$7:$AE$10,2,FALSE))","v":""},{"$f":"IF(O16=\"\",\"\",VLOOKUP(O16,ตั้งค่า!$AD$7:$AE$10,2,FALSE))","v":""},{"$f":"IF(Q16=\"\",\"\",VLOOKUP(Q16,ตั้งค่า!$AD$7:$AE$10,2,FALSE))","v":""},{"$f":"IF(S16=\"\",\"\",VLOOKUP(S16,ตั้งค่า!$AD$7:$AE$10,2,FALSE))","v":""},{"$f":"IF(U16=\"\",\"\",VLOOKUP(U16,ตั้งค่า!$AD$7:$AE$10,2,FALSE))","v":""},{"$f":"IF(W16=\"\",\"\",VLOOKUP(W16,ตั้งค่า!$AD$7:$AE$10,2,FALSE))","v":""},{"$f":"IF(Y16=\"\",\"\",VLOOKUP(Y16,ตั้งค่า!$AD$7:$AE$10,2,FALSE))","v":""},{"$f":"IF(AA16=\"\",\"\",VLOOKUP(AA16,ตั้งค่า!$AD$7:$AE$10,2,FALSE))","v":""},{"$f":"IF(AC16=\"\",\"\",VLOOKUP(AC16,ตั้งค่า!$AD$7:$AE$10,2,FALSE))","v":""},{"$f":"IF(AE16=\"\",\"\",VLOOKUP(AE16,ตั้งค่า!$AD$7:$AE$10,2,FALSE))","v":""},{"$f":"IF(AG16=\"\",\"\",VLOOKUP(AG16,ตั้งค่า!$AD$7:$AE$10,2,FALSE))","v":""},{"$f":"IF(AI16=\"\",\"\",VLOOKUP(AI16,ตั้งค่า!$AD$7:$AE$10,2,FALSE))","v":""},{"$f":"IF(AK16=\"\",\"\",VLOOKUP(AK16,ตั้งค่า!$AD$7:$AE$10,2,FALSE))","v":""},""]
[{"$f":"IF(คีย์คะแนน!A17=\"\",\"\",คีย์คะแนน!A17)","v":0},{"$f":"IF(คีย์คะแนน!B17=\"\",\"\",คีย์คะแนน!B17)","v":0},{"$f":"IF(คีย์คะแนน!C17=\"\",\"\",คีย์คะแนน!C17)","v":""},null,null,null,null,null,null,null,null,null,null,null,null,null,null,null,null,null,null,null,null,null,null,null,null,null,null,null,null,null,null,null,null,null,null,"","","","",{"$f":"รายชื่อนักเรียน!F15","v":0},{"$f":"IF(D17=\"\",\"\",VLOOKUP(D17,ตั้งค่า!$AD$7:$AE$10,2,FALSE))","v":""},{"$f":"IF(F17=\"\",\"\",VLOOKUP(F17,ตั้งค่า!$AD$7:$AE$10,2,FALSE))","v":""},{"$f":"IF(H17=\"\",\"\",VLOOKUP(H17,ตั้งค่า!$AD$7:$AE$10,2,FALSE))","v":""},{"$f":"IF(J17=\"\",\"\",VLOOKUP(J17,ตั้งค่า!$AD$7:$AE$10,2,FALSE))","v":""},{"$f":"IF(L17=\"\",\"\",VLOOKUP(L17,ตั้งค่า!$AD$7:$AE$10,2,FALSE))","v":""},{"$f":"IF(N17=\"\",\"\",VLOOKUP(N17,ตั้งค่า!$AD$7:$AE$10,2,FALSE))","v":""},{"$f":"IF(P17=\"\",\"\",VLOOKUP(P17,ตั้งค่า!$AD$7:$AE$10,2,FALSE))","v":""},{"$f":"IF(R17=\"\",\"\",VLOOKUP(R17,ตั้งค่า!$AD$7:$AE$10,2,FALSE))","v":""},{"$f":"IF(T17=\"\",\"\",VLOOKUP(T17,ตั้งค่า!$AD$7:$AE$10,2,FALSE))","v":""},{"$f":"IF(V17=\"\",\"\",VLOOKUP(V17,ตั้งค่า!$AD$7:$AE$10,2,FALSE))","v":""},{"$f":"IF(X17=\"\",\"\",VLOOKUP(X17,ตั้งค่า!$AD$7:$AE$10,2,FALSE))","v":""},{"$f":"IF(Z17=\"\",\"\",VLOOKUP(Z17,ตั้งค่า!$AD$7:$AE$10,2,FALSE))","v":""},{"$f":"IF(AB17=\"\",\"\",VLOOKUP(AB17,ตั้งค่า!$AD$7:$AE$10,2,FALSE))","v":""},{"$f":"IF(AD17=\"\",\"\",VLOOKUP(AD17,ตั้งค่า!$AD$7:$AE$10,2,FALSE))","v":""},{"$f":"IF(AF17=\"\",\"\",VLOOKUP(AF17,ตั้งค่า!$AD$7:$AE$10,2,FALSE))","v":""},{"$f":"IF(AH17=\"\",\"\",VLOOKUP(AH17,ตั้งค่า!$AD$7:$AE$10,2,FALSE))","v":""},{"$f":"IF(AJ17=\"\",\"\",VLOOKUP(AJ17,ตั้งค่า!$AD$7:$AE$10,2,FALSE))","v":""},"",{"$f":"IF(E17=\"\",\"\",VLOOKUP(E17,ตั้งค่า!$AD$7:$AE$10,2,FALSE))","v":""},{"$f":"IF(G17=\"\",\"\",VLOOKUP(G17,ตั้งค่า!$AD$7:$AE$10,2,FALSE))","v":""},{"$f":"IF(I17=\"\",\"\",VLOOKUP(I17,ตั้งค่า!$AD$7:$AE$10,2,FALSE))","v":""},{"$f":"IF(K17=\"\",\"\",VLOOKUP(K17,ตั้งค่า!$AD$7:$AE$10,2,FALSE))","v":""},{"$f":"IF(M17=\"\",\"\",VLOOKUP(M17,ตั้งค่า!$AD$7:$AE$10,2,FALSE))","v":""},{"$f":"IF(O17=\"\",\"\",VLOOKUP(O17,ตั้งค่า!$AD$7:$AE$10,2,FALSE))","v":""},{"$f":"IF(Q17=\"\",\"\",VLOOKUP(Q17,ตั้งค่า!$AD$7:$AE$10,2,FALSE))","v":""},{"$f":"IF(S17=\"\",\"\",VLOOKUP(S17,ตั้งค่า!$AD$7:$AE$10,2,FALSE))","v":""},{"$f":"IF(U17=\"\",\"\",VLOOKUP(U17,ตั้งค่า!$AD$7:$AE$10,2,FALSE))","v":""},{"$f":"IF(W17=\"\",\"\",VLOOKUP(W17,ตั้งค่า!$AD$7:$AE$10,2,FALSE))","v":""},{"$f":"IF(Y17=\"\",\"\",VLOOKUP(Y17,ตั้งค่า!$AD$7:$AE$10,2,FALSE))","v":""},{"$f":"IF(AA17=\"\",\"\",VLOOKUP(AA17,ตั้งค่า!$AD$7:$AE$10,2,FALSE))","v":""},{"$f":"IF(AC17=\"\",\"\",VLOOKUP(AC17,ตั้งค่า!$AD$7:$AE$10,2,FALSE))","v":""},{"$f":"IF(AE17=\"\",\"\",VLOOKUP(AE17,ตั้งค่า!$AD$7:$AE$10,2,FALSE))","v":""},{"$f":"IF(AG17=\"\",\"\",VLOOKUP(AG17,ตั้งค่า!$AD$7:$AE$10,2,FALSE))","v":""},{"$f":"IF(AI17=\"\",\"\",VLOOKUP(AI17,ตั้งค่า!$AD$7:$AE$10,2,FALSE))","v":""},{"$f":"IF(AK17=\"\",\"\",VLOOKUP(AK17,ตั้งค่า!$AD$7:$AE$10,2,FALSE))","v":""},""]
[{"$f":"IF(คีย์คะแนน!A18=\"\",\"\",คีย์คะแนน!A18)","v":0},{"$f":"IF(คีย์คะแนน!B18=\"\",\"\",คีย์คะแนน!B18)","v":0},{"$f":"IF(คีย์คะแนน!C18=\"\",\"\",คีย์คะแนน!C18)","v":""},null,null,null,null,null,null,null,null,null,null,null,null,null,null,null,null,null,null,null,null,null,null,null,null,null,null,null,null,null,null,null,null,null,null,"","","","",{"$f":"รายชื่อนักเรียน!F16","v":0},{"$f":"IF(D18=\"\",\"\",VLOOKUP(D18,ตั้งค่า!$AD$7:$AE$10,2,FALSE))","v":""},{"$f":"IF(F18=\"\",\"\",VLOOKUP(F18,ตั้งค่า!$AD$7:$AE$10,2,FALSE))","v":""},{"$f":"IF(H18=\"\",\"\",VLOOKUP(H18,ตั้งค่า!$AD$7:$AE$10,2,FALSE))","v":""},{"$f":"IF(J18=\"\",\"\",VLOOKUP(J18,ตั้งค่า!$AD$7:$AE$10,2,FALSE))","v":""},{"$f":"IF(L18=\"\",\"\",VLOOKUP(L18,ตั้งค่า!$AD$7:$AE$10,2,FALSE))","v":""},{"$f":"IF(N18=\"\",\"\",VLOOKUP(N18,ตั้งค่า!$AD$7:$AE$10,2,FALSE))","v":""},{"$f":"IF(P18=\"\",\"\",VLOOKUP(P18,ตั้งค่า!$AD$7:$AE$10,2,FALSE))","v":""},{"$f":"IF(R18=\"\",\"\",VLOOKUP(R18,ตั้งค่า!$AD$7:$AE$10,2,FALSE))","v":""},{"$f":"IF(T18=\"\",\"\",VLOOKUP(T18,ตั้งค่า!$AD$7:$AE$10,2,FALSE))","v":""},{"$f":"IF(V18=\"\",\"\",VLOOKUP(V18,ตั้งค่า!$AD$7:$AE$10,2,FALSE))","v":""},{"$f":"IF(X18=\"\",\"\",VLOOKUP(X18,ตั้งค่า!$AD$7:$AE$10,2,FALSE))","v":""},{"$f":"IF(Z18=\"\",\"\",VLOOKUP(Z18,ตั้งค่า!$AD$7:$AE$10,2,FALSE))","v":""},{"$f":"IF(AB18=\"\",\"\",VLOOKUP(AB18,ตั้งค่า!$AD$7:$AE$10,2,FALSE))","v":""},{"$f":"IF(AD18=\"\",\"\",VLOOKUP(AD18,ตั้งค่า!$AD$7:$AE$10,2,FALSE))","v":""},{"$f":"IF(AF18=\"\",\"\",VLOOKUP(AF18,ตั้งค่า!$AD$7:$AE$10,2,FALSE))","v":""},{"$f":"IF(AH18=\"\",\"\",VLOOKUP(AH18,ตั้งค่า!$AD$7:$AE$10,2,FALSE))","v":""},{"$f":"IF(AJ18=\"\",\"\",VLOOKUP(AJ18,ตั้งค่า!$AD$7:$AE$10,2,FALSE))","v":""},"",{"$f":"IF(E18=\"\",\"\",VLOOKUP(E18,ตั้งค่า!$AD$7:$AE$10,2,FALSE))","v":""},{"$f":"IF(G18=\"\",\"\",VLOOKUP(G18,ตั้งค่า!$AD$7:$AE$10,2,FALSE))","v":""},{"$f":"IF(I18=\"\",\"\",VLOOKUP(I18,ตั้งค่า!$AD$7:$AE$10,2,FALSE))","v":""},{"$f":"IF(K18=\"\",\"\",VLOOKUP(K18,ตั้งค่า!$AD$7:$AE$10,2,FALSE))","v":""},{"$f":"IF(M18=\"\",\"\",VLOOKUP(M18,ตั้งค่า!$AD$7:$AE$10,2,FALSE))","v":""},{"$f":"IF(O18=\"\",\"\",VLOOKUP(O18,ตั้งค่า!$AD$7:$AE$10,2,FALSE))","v":""},{"$f":"IF(Q18=\"\",\"\",VLOOKUP(Q18,ตั้งค่า!$AD$7:$AE$10,2,FALSE))","v":""},{"$f":"IF(S18=\"\",\"\",VLOOKUP(S18,ตั้งค่า!$AD$7:$AE$10,2,FALSE))","v":""},{"$f":"IF(U18=\"\",\"\",VLOOKUP(U18,ตั้งค่า!$AD$7:$AE$10,2,FALSE))","v":""},{"$f":"IF(W18=\"\",\"\",VLOOKUP(W18,ตั้งค่า!$AD$7:$AE$10,2,FALSE))","v":""},{"$f":"IF(Y18=\"\",\"\",VLOOKUP(Y18,ตั้งค่า!$AD$7:$AE$10,2,FALSE))","v":""},{"$f":"IF(AA18=\"\",\"\",VLOOKUP(AA18,ตั้งค่า!$AD$7:$AE$10,2,FALSE))","v":""},{"$f":"IF(AC18=\"\",\"\",VLOOKUP(AC18,ตั้งค่า!$AD$7:$AE$10,2,FALSE))","v":""},{"$f":"IF(AE18=\"\",\"\",VLOOKUP(AE18,ตั้งค่า!$AD$7:$AE$10,2,FALSE))","v":""},{"$f":"IF(AG18=\"\",\"\",VLOOKUP(AG18,ตั้งค่า!$AD$7:$AE$10,2,FALSE))","v":""},{"$f":"IF(AI18=\"\",\"\",VLOOKUP(AI18,ตั้งค่า!$AD$7:$AE$10,2,FALSE))","v":""},{"$f":"IF(AK18=\"\",\"\",VLOOKUP(AK18,ตั้งค่า!$AD$7:$AE$10,2,FALSE))","v":""},""]
[{"$f":"IF(คีย์คะแนน!A19=\"\",\"\",คีย์คะแนน!A19)","v":0},{"$f":"IF(คีย์คะแนน!B19=\"\",\"\",คีย์คะแนน!B19)","v":0},{"$f":"IF(คีย์คะแนน!C19=\"\",\"\",คีย์คะแนน!C19)","v":""},null,null,null,null,null,null,null,null,null,null,null,null,null,null,null,null,null,null,null,null,null,null,null,null,null,null,null,null,null,null,null,null,null,null,"","","","",{"$f":"รายชื่อนักเรียน!F17","v":0},{"$f":"IF(D19=\"\",\"\",VLOOKUP(D19,ตั้งค่า!$AD$7:$AE$10,2,FALSE))","v":""},{"$f":"IF(F19=\"\",\"\",VLOOKUP(F19,ตั้งค่า!$AD$7:$AE$10,2,FALSE))","v":""},{"$f":"IF(H19=\"\",\"\",VLOOKUP(H19,ตั้งค่า!$AD$7:$AE$10,2,FALSE))","v":""},{"$f":"IF(J19=\"\",\"\",VLOOKUP(J19,ตั้งค่า!$AD$7:$AE$10,2,FALSE))","v":""},{"$f":"IF(L19=\"\",\"\",VLOOKUP(L19,ตั้งค่า!$AD$7:$AE$10,2,FALSE))","v":""},{"$f":"IF(N19=\"\",\"\",VLOOKUP(N19,ตั้งค่า!$AD$7:$AE$10,2,FALSE))","v":""},{"$f":"IF(P19=\"\",\"\",VLOOKUP(P19,ตั้งค่า!$AD$7:$AE$10,2,FALSE))","v":""},{"$f":"IF(R19=\"\",\"\",VLOOKUP(R19,ตั้งค่า!$AD$7:$AE$10,2,FALSE))","v":""},{"$f":"IF(T19=\"\",\"\",VLOOKUP(T19,ตั้งค่า!$AD$7:$AE$10,2,FALSE))","v":""},{"$f":"IF(V19=\"\",\"\",VLOOKUP(V19,ตั้งค่า!$AD$7:$AE$10,2,FALSE))","v":""},{"$f":"IF(X19=\"\",\"\",VLOOKUP(X19,ตั้งค่า!$AD$7:$AE$10,2,FALSE))","v":""},{"$f":"IF(Z19=\"\",\"\",VLOOKUP(Z19,ตั้งค่า!$AD$7:$AE$10,2,FALSE))","v":""},{"$f":"IF(AB19=\"\",\"\",VLOOKUP(AB19,ตั้งค่า!$AD$7:$AE$10,2,FALSE))","v":""},{"$f":"IF(AD19=\"\",\"\",VLOOKUP(AD19,ตั้งค่า!$AD$7:$AE$10,2,FALSE))","v":""},{"$f":"IF(AF19=\"\",\"\",VLOOKUP(AF19,ตั้งค่า!$AD$7:$AE$10,2,FALSE))","v":""},{"$f":"IF(AH19=\"\",\"\",VLOOKUP(AH19,ตั้งค่า!$AD$7:$AE$10,2,FALSE))","v":""},{"$f":"IF(AJ19=\"\",\"\",VLOOKUP(AJ19,ตั้งค่า!$AD$7:$AE$10,2,FALSE))","v":""},"",{"$f":"IF(E19=\"\",\"\",VLOOKUP(E19,ตั้งค่า!$AD$7:$AE$10,2,FALSE))","v":""},{"$f":"IF(G19=\"\",\"\",VLOOKUP(G19,ตั้งค่า!$AD$7:$AE$10,2,FALSE))","v":""},{"$f":"IF(I19=\"\",\"\",VLOOKUP(I19,ตั้งค่า!$AD$7:$AE$10,2,FALSE))","v":""},{"$f":"IF(K19=\"\",\"\",VLOOKUP(K19,ตั้งค่า!$AD$7:$AE$10,2,FALSE))","v":""},{"$f":"IF(M19=\"\",\"\",VLOOKUP(M19,ตั้งค่า!$AD$7:$AE$10,2,FALSE))","v":""},{"$f":"IF(O19=\"\",\"\",VLOOKUP(O19,ตั้งค่า!$AD$7:$AE$10,2,FALSE))","v":""},{"$f":"IF(Q19=\"\",\"\",VLOOKUP(Q19,ตั้งค่า!$AD$7:$AE$10,2,FALSE))","v":""},{"$f":"IF(S19=\"\",\"\",VLOOKUP(S19,ตั้งค่า!$AD$7:$AE$10,2,FALSE))","v":""},{"$f":"IF(U19=\"\",\"\",VLOOKUP(U19,ตั้งค่า!$AD$7:$AE$10,2,FALSE))","v":""},{"$f":"IF(W19=\"\",\"\",VLOOKUP(W19,ตั้งค่า!$AD$7:$AE$10,2,FALSE))","v":""},{"$f":"IF(Y19=\"\",\"\",VLOOKUP(Y19,ตั้งค่า!$AD$7:$AE$10,2,FALSE))","v":""},{"$f":"IF(AA19=\"\",\"\",VLOOKUP(AA19,ตั้งค่า!$AD$7:$AE$10,2,FALSE))","v":""},{"$f":"IF(AC19=\"\",\"\",VLOOKUP(AC19,ตั้งค่า!$AD$7:$AE$10,2,FALSE))","v":""},{"$f":"IF(AE19=\"\",\"\",VLOOKUP(AE19,ตั้งค่า!$AD$7:$AE$10,2,FALSE))","v":""},{"$f":"IF(AG19=\"\",\"\",VLOOKUP(AG19,ตั้งค่า!$AD$7:$AE$10,2,FALSE))","v":""},{"$f":"IF(AI19=\"\",\"\",VLOOKUP(AI19,ตั้งค่า!$AD$7:$AE$10,2,FALSE))","v":""},{"$f":"IF(AK19=\"\",\"\",VLOOKUP(AK19,ตั้งค่า!$AD$7:$AE$10,2,FALSE))","v":""},""]
[{"$f":"IF(คีย์คะแนน!A20=\"\",\"\",คีย์คะแนน!A20)","v":0},{"$f":"IF(คีย์คะแนน!B20=\"\",\"\",คีย์คะแนน!B20)","v":0},{"$f":"IF(คีย์คะแนน!C20=\"\",\"\",คีย์คะแนน!C20)","v":""},null,null,null,null,null,null,null,null,null,null,null,null,null,null,null,null,null,null,null,null,null,null,null,null,null,null,null,null,null,null,null,null,null,null,"","","","",{"$f":"รายชื่อนักเรียน!F18","v":0},{"$f":"IF(D20=\"\",\"\",VLOOKUP(D20,ตั้งค่า!$AD$7:$AE$10,2,FALSE))","v":""},{"$f":"IF(F20=\"\",\"\",VLOOKUP(F20,ตั้งค่า!$AD$7:$AE$10,2,FALSE))","v":""},{"$f":"IF(H20=\"\",\"\",VLOOKUP(H20,ตั้งค่า!$AD$7:$AE$10,2,FALSE))","v":""},{"$f":"IF(J20=\"\",\"\",VLOOKUP(J20,ตั้งค่า!$AD$7:$AE$10,2,FALSE))","v":""},{"$f":"IF(L20=\"\",\"\",VLOOKUP(L20,ตั้งค่า!$AD$7:$AE$10,2,FALSE))","v":""},{"$f":"IF(N20=\"\",\"\",VLOOKUP(N20,ตั้งค่า!$AD$7:$AE$10,2,FALSE))","v":""},{"$f":"IF(P20=\"\",\"\",VLOOKUP(P20,ตั้งค่า!$AD$7:$AE$10,2,FALSE))","v":""},{"$f":"IF(R20=\"\",\"\",VLOOKUP(R20,ตั้งค่า!$AD$7:$AE$10,2,FALSE))","v":""},{"$f":"IF(T20=\"\",\"\",VLOOKUP(T20,ตั้งค่า!$AD$7:$AE$10,2,FALSE))","v":""},{"$f":"IF(V20=\"\",\"\",VLOOKUP(V20,ตั้งค่า!$AD$7:$AE$10,2,FALSE))","v":""},{"$f":"IF(X20=\"\",\"\",VLOOKUP(X20,ตั้งค่า!$AD$7:$AE$10,2,FALSE))","v":""},{"$f":"IF(Z20=\"\",\"\",VLOOKUP(Z20,ตั้งค่า!$AD$7:$AE$10,2,FALSE))","v":""},{"$f":"IF(AB20=\"\",\"\",VLOOKUP(AB20,ตั้งค่า!$AD$7:$AE$10,2,FALSE))","v":""},{"$f":"IF(AD20=\"\",\"\",VLOOKUP(AD20,ตั้งค่า!$AD$7:$AE$10,2,FALSE))","v":""},{"$f":"IF(AF20=\"\",\"\",VLOOKUP(AF20,ตั้งค่า!$AD$7:$AE$10,2,FALSE))","v":""},{"$f":"IF(AH20=\"\",\"\",VLOOKUP(AH20,ตั้งค่า!$AD$7:$AE$10,2,FALSE))","v":""},{"$f":"IF(AJ20=\"\",\"\",VLOOKUP(AJ20,ตั้งค่า!$AD$7:$AE$10,2,FALSE))","v":""},"",{"$f":"IF(E20=\"\",\"\",VLOOKUP(E20,ตั้งค่า!$AD$7:$AE$10,2,FALSE))","v":""},{"$f":"IF(G20=\"\",\"\",VLOOKUP(G20,ตั้งค่า!$AD$7:$AE$10,2,FALSE))","v":""},{"$f":"IF(I20=\"\",\"\",VLOOKUP(I20,ตั้งค่า!$AD$7:$AE$10,2,FALSE))","v":""},{"$f":"IF(K20=\"\",\"\",VLOOKUP(K20,ตั้งค่า!$AD$7:$AE$10,2,FALSE))","v":""},{"$f":"IF(M20=\"\",\"\",VLOOKUP(M20,ตั้งค่า!$AD$7:$AE$10,2,FALSE))","v":""},{"$f":"IF(O20=\"\",\"\",VLOOKUP(O20,ตั้งค่า!$AD$7:$AE$10,2,FALSE))","v":""},{"$f":"IF(Q20=\"\",\"\",VLOOKUP(Q20,ตั้งค่า!$AD$7:$AE$10,2,FALSE))","v":""},{"$f":"IF(S20=\"\",\"\",VLOOKUP(S20,ตั้งค่า!$AD$7:$AE$10,2,FALSE))","v":""},{"$f":"IF(U20=\"\",\"\",VLOOKUP(U20,ตั้งค่า!$AD$7:$AE$10,2,FALSE))","v":""},{"$f":"IF(W20=\"\",\"\",VLOOKUP(W20,ตั้งค่า!$AD$7:$AE$10,2,FALSE))","v":""},{"$f":"IF(Y20=\"\",\"\",VLOOKUP(Y20,ตั้งค่า!$AD$7:$AE$10,2,FALSE))","v":""},{"$f":"IF(AA20=\"\",\"\",VLOOKUP(AA20,ตั้งค่า!$AD$7:$AE$10,2,FALSE))","v":""},{"$f":"IF(AC20=\"\",\"\",VLOOKUP(AC20,ตั้งค่า!$AD$7:$AE$10,2,FALSE))","v":""},{"$f":"IF(AE20=\"\",\"\",VLOOKUP(AE20,ตั้งค่า!$AD$7:$AE$10,2,FALSE))","v":""},{"$f":"IF(AG20=\"\",\"\",VLOOKUP(AG20,ตั้งค่า!$AD$7:$AE$10,2,FALSE))","v":""},{"$f":"IF(AI20=\"\",\"\",VLOOKUP(AI20,ตั้งค่า!$AD$7:$AE$10,2,FALSE))","v":""},{"$f":"IF(AK20=\"\",\"\",VLOOKUP(AK20,ตั้งค่า!$AD$7:$AE$10,2,FALSE))","v":""},""]
[{"$f":"IF(คีย์คะแนน!A21=\"\",\"\",คีย์คะแนน!A21)","v":0},{"$f":"IF(คีย์คะแนน!B21=\"\",\"\",คีย์คะแนน!B21)","v":0},{"$f":"IF(คีย์คะแนน!C21=\"\",\"\",คีย์คะแนน!C21)","v":""},null,null,null,null,null,null,null,null,null,null,null,null,null,null,null,null,null,null,null,null,null,null,null,null,null,null,null,null,null,null,null,null,null,null,"","","","",{"$f":"รายชื่อนักเรียน!F19","v":0},{"$f":"IF(D21=\"\",\"\",VLOOKUP(D21,ตั้งค่า!$AD$7:$AE$10,2,FALSE))","v":""},{"$f":"IF(F21=\"\",\"\",VLOOKUP(F21,ตั้งค่า!$AD$7:$AE$10,2,FALSE))","v":""},{"$f":"IF(H21=\"\",\"\",VLOOKUP(H21,ตั้งค่า!$AD$7:$AE$10,2,FALSE))","v":""},{"$f":"IF(J21=\"\",\"\",VLOOKUP(J21,ตั้งค่า!$AD$7:$AE$10,2,FALSE))","v":""},{"$f":"IF(L21=\"\",\"\",VLOOKUP(L21,ตั้งค่า!$AD$7:$AE$10,2,FALSE))","v":""},{"$f":"IF(N21=\"\",\"\",VLOOKUP(N21,ตั้งค่า!$AD$7:$AE$10,2,FALSE))","v":""},{"$f":"IF(P21=\"\",\"\",VLOOKUP(P21,ตั้งค่า!$AD$7:$AE$10,2,FALSE))","v":""},{"$f":"IF(R21=\"\",\"\",VLOOKUP(R21,ตั้งค่า!$AD$7:$AE$10,2,FALSE))","v":""},{"$f":"IF(T21=\"\",\"\",VLOOKUP(T21,ตั้งค่า!$AD$7:$AE$10,2,FALSE))","v":""},{"$f":"IF(V21=\"\",\"\",VLOOKUP(V21,ตั้งค่า!$AD$7:$AE$10,2,FALSE))","v":""},{"$f":"IF(X21=\"\",\"\",VLOOKUP(X21,ตั้งค่า!$AD$7:$AE$10,2,FALSE))","v":""},{"$f":"IF(Z21=\"\",\"\",VLOOKUP(Z21,ตั้งค่า!$AD$7:$AE$10,2,FALSE))","v":""},{"$f":"IF(AB21=\"\",\"\",VLOOKUP(AB21,ตั้งค่า!$AD$7:$AE$10,2,FALSE))","v":""},{"$f":"IF(AD21=\"\",\"\",VLOOKUP(AD21,ตั้งค่า!$AD$7:$AE$10,2,FALSE))","v":""},{"$f":"IF(AF21=\"\",\"\",VLOOKUP(AF21,ตั้งค่า!$AD$7:$AE$10,2,FALSE))","v":""},{"$f":"IF(AH21=\"\",\"\",VLOOKUP(AH21,ตั้งค่า!$AD$7:$AE$10,2,FALSE))","v":""},{"$f":"IF(AJ21=\"\",\"\",VLOOKUP(AJ21,ตั้งค่า!$AD$7:$AE$10,2,FALSE))","v":""},"",{"$f":"IF(E21=\"\",\"\",VLOOKUP(E21,ตั้งค่า!$AD$7:$AE$10,2,FALSE))","v":""},{"$f":"IF(G21=\"\",\"\",VLOOKUP(G21,ตั้งค่า!$AD$7:$AE$10,2,FALSE))","v":""},{"$f":"IF(I21=\"\",\"\",VLOOKUP(I21,ตั้งค่า!$AD$7:$AE$10,2,FALSE))","v":""},{"$f":"IF(K21=\"\",\"\",VLOOKUP(K21,ตั้งค่า!$AD$7:$AE$10,2,FALSE))","v":""},{"$f":"IF(M21=\"\",\"\",VLOOKUP(M21,ตั้งค่า!$AD$7:$AE$10,2,FALSE))","v":""},{"$f":"IF(O21=\"\",\"\",VLOOKUP(O21,ตั้งค่า!$AD$7:$AE$10,2,FALSE))","v":""},{"$f":"IF(Q21=\"\",\"\",VLOOKUP(Q21,ตั้งค่า!$AD$7:$AE$10,2,FALSE))","v":""},{"$f":"IF(S21=\"\",\"\",VLOOKUP(S21,ตั้งค่า!$AD$7:$AE$10,2,FALSE))","v":""},{"$f":"IF(U21=\"\",\"\",VLOOKUP(U21,ตั้งค่า!$AD$7:$AE$10,2,FALSE))","v":""},{"$f":"IF(W21=\"\",\"\",VLOOKUP(W21,ตั้งค่า!$AD$7:$AE$10,2,FALSE))","v":""},{"$f":"IF(Y21=\"\",\"\",VLOOKUP(Y21,ตั้งค่า!$AD$7:$AE$10,2,FALSE))","v":""},{"$f":"IF(AA21=\"\",\"\",VLOOKUP(AA21,ตั้งค่า!$AD$7:$AE$10,2,FALSE))","v":""},{"$f":"IF(AC21=\"\",\"\",VLOOKUP(AC21,ตั้งค่า!$AD$7:$AE$10,2,FALSE))","v":""},{"$f":"IF(AE21=\"\",\"\",VLOOKUP(AE21,ตั้งค่า!$AD$7:$AE$10,2,FALSE))","v":""},{"$f":"IF(AG21=\"\",\"\",VLOOKUP(AG21,ตั้งค่า!$AD$7:$AE$10,2,FALSE))","v":""},{"$f":"IF(AI21=\"\",\"\",VLOOKUP(AI21,ตั้งค่า!$AD$7:$AE$10,2,FALSE))","v":""},{"$f":"IF(AK21=\"\",\"\",VLOOKUP(AK21,ตั้งค่า!$AD$7:$AE$10,2,FALSE))","v":""},""]
[{"$f":"IF(คีย์คะแนน!A22=\"\",\"\",คีย์คะแนน!A22)","v":0},{"$f":"IF(คีย์คะแนน!B22=\"\",\"\",คีย์คะแนน!B22)","v":0},{"$f":"IF(คีย์คะแนน!C22=\"\",\"\",คีย์คะแนน!C22)","v":""},null,null,null,null,null,null,null,null,null,null,null,null,null,null,null,null,null,null,null,null,null,null,null,null,null,null,null,null,null,null,null,null,null,null,"","","","",{"$f":"รายชื่อนักเรียน!F20","v":0},{"$f":"IF(D22=\"\",\"\",VLOOKUP(D22,ตั้งค่า!$AD$7:$AE$10,2,FALSE))","v":""},{"$f":"IF(F22=\"\",\"\",VLOOKUP(F22,ตั้งค่า!$AD$7:$AE$10,2,FALSE))","v":""},{"$f":"IF(H22=\"\",\"\",VLOOKUP(H22,ตั้งค่า!$AD$7:$AE$10,2,FALSE))","v":""},{"$f":"IF(J22=\"\",\"\",VLOOKUP(J22,ตั้งค่า!$AD$7:$AE$10,2,FALSE))","v":""},{"$f":"IF(L22=\"\",\"\",VLOOKUP(L22,ตั้งค่า!$AD$7:$AE$10,2,FALSE))","v":""},{"$f":"IF(N22=\"\",\"\",VLOOKUP(N22,ตั้งค่า!$AD$7:$AE$10,2,FALSE))","v":""},{"$f":"IF(P22=\"\",\"\",VLOOKUP(P22,ตั้งค่า!$AD$7:$AE$10,2,FALSE))","v":""},{"$f":"IF(R22=\"\",\"\",VLOOKUP(R22,ตั้งค่า!$AD$7:$AE$10,2,FALSE))","v":""},{"$f":"IF(T22=\"\",\"\",VLOOKUP(T22,ตั้งค่า!$AD$7:$AE$10,2,FALSE))","v":""},{"$f":"IF(V22=\"\",\"\",VLOOKUP(V22,ตั้งค่า!$AD$7:$AE$10,2,FALSE))","v":""},{"$f":"IF(X22=\"\",\"\",VLOOKUP(X22,ตั้งค่า!$AD$7:$AE$10,2,FALSE))","v":""},{"$f":"IF(Z22=\"\",\"\",VLOOKUP(Z22,ตั้งค่า!$AD$7:$AE$10,2,FALSE))","v":""},{"$f":"IF(AB22=\"\",\"\",VLOOKUP(AB22,ตั้งค่า!$AD$7:$AE$10,2,FALSE))","v":""},{"$f":"IF(AD22=\"\",\"\",VLOOKUP(AD22,ตั้งค่า!$AD$7:$AE$10,2,FALSE))","v":""},{"$f":"IF(AF22=\"\",\"\",VLOOKUP(AF22,ตั้งค่า!$AD$7:$AE$10,2,FALSE))","v":""},{"$f":"IF(AH22=\"\",\"\",VLOOKUP(AH22,ตั้งค่า!$AD$7:$AE$10,2,FALSE))","v":""},{"$f":"IF(AJ22=\"\",\"\",VLOOKUP(AJ22,ตั้งค่า!$AD$7:$AE$10,2,FALSE))","v":""},"",{"$f":"IF(E22=\"\",\"\",VLOOKUP(E22,ตั้งค่า!$AD$7:$AE$10,2,FALSE))","v":""},{"$f":"IF(G22=\"\",\"\",VLOOKUP(G22,ตั้งค่า!$AD$7:$AE$10,2,FALSE))","v":""},{"$f":"IF(I22=\"\",\"\",VLOOKUP(I22,ตั้งค่า!$AD$7:$AE$10,2,FALSE))","v":""},{"$f":"IF(K22=\"\",\"\",VLOOKUP(K22,ตั้งค่า!$AD$7:$AE$10,2,FALSE))","v":""},{"$f":"IF(M22=\"\",\"\",VLOOKUP(M22,ตั้งค่า!$AD$7:$AE$10,2,FALSE))","v":""},{"$f":"IF(O22=\"\",\"\",VLOOKUP(O22,ตั้งค่า!$AD$7:$AE$10,2,FALSE))","v":""},{"$f":"IF(Q22=\"\",\"\",VLOOKUP(Q22,ตั้งค่า!$AD$7:$AE$10,2,FALSE))","v":""},{"$f":"IF(S22=\"\",\"\",VLOOKUP(S22,ตั้งค่า!$AD$7:$AE$10,2,FALSE))","v":""},{"$f":"IF(U22=\"\",\"\",VLOOKUP(U22,ตั้งค่า!$AD$7:$AE$10,2,FALSE))","v":""},{"$f":"IF(W22=\"\",\"\",VLOOKUP(W22,ตั้งค่า!$AD$7:$AE$10,2,FALSE))","v":""},{"$f":"IF(Y22=\"\",\"\",VLOOKUP(Y22,ตั้งค่า!$AD$7:$AE$10,2,FALSE))","v":""},{"$f":"IF(AA22=\"\",\"\",VLOOKUP(AA22,ตั้งค่า!$AD$7:$AE$10,2,FALSE))","v":""},{"$f":"IF(AC22=\"\",\"\",VLOOKUP(AC22,ตั้งค่า!$AD$7:$AE$10,2,FALSE))","v":""},{"$f":"IF(AE22=\"\",\"\",VLOOKUP(AE22,ตั้งค่า!$AD$7:$AE$10,2,FALSE))","v":""},{"$f":"IF(AG22=\"\",\"\",VLOOKUP(AG22,ตั้งค่า!$AD$7:$AE$10,2,FALSE))","v":""},{"$f":"IF(AI22=\"\",\"\",VLOOKUP(AI22,ตั้งค่า!$AD$7:$AE$10,2,FALSE))","v":""},{"$f":"IF(AK22=\"\",\"\",VLOOKUP(AK22,ตั้งค่า!$AD$7:$AE$10,2,FALSE))","v":""},""]
[{"$f":"IF(คีย์คะแนน!A23=\"\",\"\",คีย์คะแนน!A23)","v":0},{"$f":"IF(คีย์คะแนน!B23=\"\",\"\",คีย์คะแนน!B23)","v":0},{"$f":"IF(คีย์คะแนน!C23=\"\",\"\",คีย์คะแนน!C23)","v":""},null,null,null,null,null,null,null,null,null,null,null,null,null,null,null,null,null,null,null,null,null,null,null,null,null,null,null,null,null,null,null,null,null,null,"","","","",{"$f":"รายชื่อนักเรียน!F21","v":0},{"$f":"IF(D23=\"\",\"\",VLOOKUP(D23,ตั้งค่า!$AD$7:$AE$10,2,FALSE))","v":""},{"$f":"IF(F23=\"\",\"\",VLOOKUP(F23,ตั้งค่า!$AD$7:$AE$10,2,FALSE))","v":""},{"$f":"IF(H23=\"\",\"\",VLOOKUP(H23,ตั้งค่า!$AD$7:$AE$10,2,FALSE))","v":""},{"$f":"IF(J23=\"\",\"\",VLOOKUP(J23,ตั้งค่า!$AD$7:$AE$10,2,FALSE))","v":""},{"$f":"IF(L23=\"\",\"\",VLOOKUP(L23,ตั้งค่า!$AD$7:$AE$10,2,FALSE))","v":""},{"$f":"IF(N23=\"\",\"\",VLOOKUP(N23,ตั้งค่า!$AD$7:$AE$10,2,FALSE))","v":""},{"$f":"IF(P23=\"\",\"\",VLOOKUP(P23,ตั้งค่า!$AD$7:$AE$10,2,FALSE))","v":""},{"$f":"IF(R23=\"\",\"\",VLOOKUP(R23,ตั้งค่า!$AD$7:$AE$10,2,FALSE))","v":""},{"$f":"IF(T23=\"\",\"\",VLOOKUP(T23,ตั้งค่า!$AD$7:$AE$10,2,FALSE))","v":""},{"$f":"IF(V23=\"\",\"\",VLOOKUP(V23,ตั้งค่า!$AD$7:$AE$10,2,FALSE))","v":""},{"$f":"IF(X23=\"\",\"\",VLOOKUP(X23,ตั้งค่า!$AD$7:$AE$10,2,FALSE))","v":""},{"$f":"IF(Z23=\"\",\"\",VLOOKUP(Z23,ตั้งค่า!$AD$7:$AE$10,2,FALSE))","v":""},{"$f":"IF(AB23=\"\",\"\",VLOOKUP(AB23,ตั้งค่า!$AD$7:$AE$10,2,FALSE))","v":""},{"$f":"IF(AD23=\"\",\"\",VLOOKUP(AD23,ตั้งค่า!$AD$7:$AE$10,2,FALSE))","v":""},{"$f":"IF(AF23=\"\",\"\",VLOOKUP(AF23,ตั้งค่า!$AD$7:$AE$10,2,FALSE))","v":""},{"$f":"IF(AH23=\"\",\"\",VLOOKUP(AH23,ตั้งค่า!$AD$7:$AE$10,2,FALSE))","v":""},{"$f":"IF(AJ23=\"\",\"\",VLOOKUP(AJ23,ตั้งค่า!$AD$7:$AE$10,2,FALSE))","v":""},"",{"$f":"IF(E23=\"\",\"\",VLOOKUP(E23,ตั้งค่า!$AD$7:$AE$10,2,FALSE))","v":""},{"$f":"IF(G23=\"\",\"\",VLOOKUP(G23,ตั้งค่า!$AD$7:$AE$10,2,FALSE))","v":""},{"$f":"IF(I23=\"\",\"\",VLOOKUP(I23,ตั้งค่า!$AD$7:$AE$10,2,FALSE))","v":""},{"$f":"IF(K23=\"\",\"\",VLOOKUP(K23,ตั้งค่า!$AD$7:$AE$10,2,FALSE))","v":""},{"$f":"IF(M23=\"\",\"\",VLOOKUP(M23,ตั้งค่า!$AD$7:$AE$10,2,FALSE))","v":""},{"$f":"IF(O23=\"\",\"\",VLOOKUP(O23,ตั้งค่า!$AD$7:$AE$10,2,FALSE))","v":""},{"$f":"IF(Q23=\"\",\"\",VLOOKUP(Q23,ตั้งค่า!$AD$7:$AE$10,2,FALSE))","v":""},{"$f":"IF(S23=\"\",\"\",VLOOKUP(S23,ตั้งค่า!$AD$7:$AE$10,2,FALSE))","v":""},{"$f":"IF(U23=\"\",\"\",VLOOKUP(U23,ตั้งค่า!$AD$7:$AE$10,2,FALSE))","v":""},{"$f":"IF(W23=\"\",\"\",VLOOKUP(W23,ตั้งค่า!$AD$7:$AE$10,2,FALSE))","v":""},{"$f":"IF(Y23=\"\",\"\",VLOOKUP(Y23,ตั้งค่า!$AD$7:$AE$10,2,FALSE))","v":""},{"$f":"IF(AA23=\"\",\"\",VLOOKUP(AA23,ตั้งค่า!$AD$7:$AE$10,2,FALSE))","v":""},{"$f":"IF(AC23=\"\",\"\",VLOOKUP(AC23,ตั้งค่า!$AD$7:$AE$10,2,FALSE))","v":""},{"$f":"IF(AE23=\"\",\"\",VLOOKUP(AE23,ตั้งค่า!$AD$7:$AE$10,2,FALSE))","v":""},{"$f":"IF(AG23=\"\",\"\",VLOOKUP(AG23,ตั้งค่า!$AD$7:$AE$10,2,FALSE))","v":""},{"$f":"IF(AI23=\"\",\"\",VLOOKUP(AI23,ตั้งค่า!$AD$7:$AE$10,2,FALSE))","v":""},{"$f":"IF(AK23=\"\",\"\",VLOOKUP(AK23,ตั้งค่า!$AD$7:$AE$10,2,FALSE))","v":""},""]
[{"$f":"IF(คีย์คะแนน!A24=\"\",\"\",คีย์คะแนน!A24)","v":0},{"$f":"IF(คีย์คะแนน!B24=\"\",\"\",คีย์คะแนน!B24)","v":0},{"$f":"IF(คีย์คะแนน!C24=\"\",\"\",คีย์คะแนน!C24)","v":""},null,null,null,null,null,null,null,null,null,null,null,null,null,null,null,null,null,null,null,null,null,null,null,null,null,null,null,null,null,null,null,null,null,null,"","","","",{"$f":"รายชื่อนักเรียน!F22","v":0},{"$f":"IF(D24=\"\",\"\",VLOOKUP(D24,ตั้งค่า!$AD$7:$AE$10,2,FALSE))","v":""},{"$f":"IF(F24=\"\",\"\",VLOOKUP(F24,ตั้งค่า!$AD$7:$AE$10,2,FALSE))","v":""},{"$f":"IF(H24=\"\",\"\",VLOOKUP(H24,ตั้งค่า!$AD$7:$AE$10,2,FALSE))","v":""},{"$f":"IF(J24=\"\",\"\",VLOOKUP(J24,ตั้งค่า!$AD$7:$AE$10,2,FALSE))","v":""},{"$f":"IF(L24=\"\",\"\",VLOOKUP(L24,ตั้งค่า!$AD$7:$AE$10,2,FALSE))","v":""},{"$f":"IF(N24=\"\",\"\",VLOOKUP(N24,ตั้งค่า!$AD$7:$AE$10,2,FALSE))","v":""},{"$f":"IF(P24=\"\",\"\",VLOOKUP(P24,ตั้งค่า!$AD$7:$AE$10,2,FALSE))","v":""},{"$f":"IF(R24=\"\",\"\",VLOOKUP(R24,ตั้งค่า!$AD$7:$AE$10,2,FALSE))","v":""},{"$f":"IF(T24=\"\",\"\",VLOOKUP(T24,ตั้งค่า!$AD$7:$AE$10,2,FALSE))","v":""},{"$f":"IF(V24=\"\",\"\",VLOOKUP(V24,ตั้งค่า!$AD$7:$AE$10,2,FALSE))","v":""},{"$f":"IF(X24=\"\",\"\",VLOOKUP(X24,ตั้งค่า!$AD$7:$AE$10,2,FALSE))","v":""},{"$f":"IF(Z24=\"\",\"\",VLOOKUP(Z24,ตั้งค่า!$AD$7:$AE$10,2,FALSE))","v":""},{"$f":"IF(AB24=\"\",\"\",VLOOKUP(AB24,ตั้งค่า!$AD$7:$AE$10,2,FALSE))","v":""},{"$f":"IF(AD24=\"\",\"\",VLOOKUP(AD24,ตั้งค่า!$AD$7:$AE$10,2,FALSE))","v":""},{"$f":"IF(AF24=\"\",\"\",VLOOKUP(AF24,ตั้งค่า!$AD$7:$AE$10,2,FALSE))","v":""},{"$f":"IF(AH24=\"\",\"\",VLOOKUP(AH24,ตั้งค่า!$AD$7:$AE$10,2,FALSE))","v":""},{"$f":"IF(AJ24=\"\",\"\",VLOOKUP(AJ24,ตั้งค่า!$AD$7:$AE$10,2,FALSE))","v":""},"",{"$f":"IF(E24=\"\",\"\",VLOOKUP(E24,ตั้งค่า!$AD$7:$AE$10,2,FALSE))","v":""},{"$f":"IF(G24=\"\",\"\",VLOOKUP(G24,ตั้งค่า!$AD$7:$AE$10,2,FALSE))","v":""},{"$f":"IF(I24=\"\",\"\",VLOOKUP(I24,ตั้งค่า!$AD$7:$AE$10,2,FALSE))","v":""},{"$f":"IF(K24=\"\",\"\",VLOOKUP(K24,ตั้งค่า!$AD$7:$AE$10,2,FALSE))","v":""},{"$f":"IF(M24=\"\",\"\",VLOOKUP(M24,ตั้งค่า!$AD$7:$AE$10,2,FALSE))","v":""},{"$f":"IF(O24=\"\",\"\",VLOOKUP(O24,ตั้งค่า!$AD$7:$AE$10,2,FALSE))","v":""},{"$f":"IF(Q24=\"\",\"\",VLOOKUP(Q24,ตั้งค่า!$AD$7:$AE$10,2,FALSE))","v":""},{"$f":"IF(S24=\"\",\"\",VLOOKUP(S24,ตั้งค่า!$AD$7:$AE$10,2,FALSE))","v":""},{"$f":"IF(U24=\"\",\"\",VLOOKUP(U24,ตั้งค่า!$AD$7:$AE$10,2,FALSE))","v":""},{"$f":"IF(W24=\"\",\"\",VLOOKUP(W24,ตั้งค่า!$AD$7:$AE$10,2,FALSE))","v":""},{"$f":"IF(Y24=\"\",\"\",VLOOKUP(Y24,ตั้งค่า!$AD$7:$AE$10,2,FALSE))","v":""},{"$f":"IF(AA24=\"\",\"\",VLOOKUP(AA24,ตั้งค่า!$AD$7:$AE$10,2,FALSE))","v":""},{"$f":"IF(AC24=\"\",\"\",VLOOKUP(AC24,ตั้งค่า!$AD$7:$AE$10,2,FALSE))","v":""},{"$f":"IF(AE24=\"\",\"\",VLOOKUP(AE24,ตั้งค่า!$AD$7:$AE$10,2,FALSE))","v":""},{"$f":"IF(AG24=\"\",\"\",VLOOKUP(AG24,ตั้งค่า!$AD$7:$AE$10,2,FALSE))","v":""},{"$f":"IF(AI24=\"\",\"\",VLOOKUP(AI24,ตั้งค่า!$AD$7:$AE$10,2,FALSE))","v":""},{"$f":"IF(AK24=\"\",\"\",VLOOKUP(AK24,ตั้งค่า!$AD$7:$AE$10,2,FALSE))","v":""},""]
[{"$f":"IF(คีย์คะแนน!A25=\"\",\"\",คีย์คะแนน!A25)","v":0},{"$f":"IF(คีย์คะแนน!B25=\"\",\"\",คีย์คะแนน!B25)","v":0},{"$f":"IF(คีย์คะแนน!C25=\"\",\"\",คีย์คะแนน!C25)","v":""},null,null,null,null,null,null,null,null,null,null,null,null,null,null,null,null,null,null,null,null,null,null,null,null,null,null,null,null,null,null,null,null,null,null,"","","","",{"$f":"รายชื่อนักเรียน!F23","v":0},{"$f":"IF(D25=\"\",\"\",VLOOKUP(D25,ตั้งค่า!$AD$7:$AE$10,2,FALSE))","v":""},{"$f":"IF(F25=\"\",\"\",VLOOKUP(F25,ตั้งค่า!$AD$7:$AE$10,2,FALSE))","v":""},{"$f":"IF(H25=\"\",\"\",VLOOKUP(H25,ตั้งค่า!$AD$7:$AE$10,2,FALSE))","v":""},{"$f":"IF(J25=\"\",\"\",VLOOKUP(J25,ตั้งค่า!$AD$7:$AE$10,2,FALSE))","v":""},{"$f":"IF(L25=\"\",\"\",VLOOKUP(L25,ตั้งค่า!$AD$7:$AE$10,2,FALSE))","v":""},{"$f":"IF(N25=\"\",\"\",VLOOKUP(N25,ตั้งค่า!$AD$7:$AE$10,2,FALSE))","v":""},{"$f":"IF(P25=\"\",\"\",VLOOKUP(P25,ตั้งค่า!$AD$7:$AE$10,2,FALSE))","v":""},{"$f":"IF(R25=\"\",\"\",VLOOKUP(R25,ตั้งค่า!$AD$7:$AE$10,2,FALSE))","v":""},{"$f":"IF(T25=\"\",\"\",VLOOKUP(T25,ตั้งค่า!$AD$7:$AE$10,2,FALSE))","v":""},{"$f":"IF(V25=\"\",\"\",VLOOKUP(V25,ตั้งค่า!$AD$7:$AE$10,2,FALSE))","v":""},{"$f":"IF(X25=\"\",\"\",VLOOKUP(X25,ตั้งค่า!$AD$7:$AE$10,2,FALSE))","v":""},{"$f":"IF(Z25=\"\",\"\",VLOOKUP(Z25,ตั้งค่า!$AD$7:$AE$10,2,FALSE))","v":""},{"$f":"IF(AB25=\"\",\"\",VLOOKUP(AB25,ตั้งค่า!$AD$7:$AE$10,2,FALSE))","v":""},{"$f":"IF(AD25=\"\",\"\",VLOOKUP(AD25,ตั้งค่า!$AD$7:$AE$10,2,FALSE))","v":""},{"$f":"IF(AF25=\"\",\"\",VLOOKUP(AF25,ตั้งค่า!$AD$7:$AE$10,2,FALSE))","v":""},{"$f":"IF(AH25=\"\",\"\",VLOOKUP(AH25,ตั้งค่า!$AD$7:$AE$10,2,FALSE))","v":""},{"$f":"IF(AJ25=\"\",\"\",VLOOKUP(AJ25,ตั้งค่า!$AD$7:$AE$10,2,FALSE))","v":""},"",{"$f":"IF(E25=\"\",\"\",VLOOKUP(E25,ตั้งค่า!$AD$7:$AE$10,2,FALSE))","v":""},{"$f":"IF(G25=\"\",\"\",VLOOKUP(G25,ตั้งค่า!$AD$7:$AE$10,2,FALSE))","v":""},{"$f":"IF(I25=\"\",\"\",VLOOKUP(I25,ตั้งค่า!$AD$7:$AE$10,2,FALSE))","v":""},{"$f":"IF(K25=\"\",\"\",VLOOKUP(K25,ตั้งค่า!$AD$7:$AE$10,2,FALSE))","v":""},{"$f":"IF(M25=\"\",\"\",VLOOKUP(M25,ตั้งค่า!$AD$7:$AE$10,2,FALSE))","v":""},{"$f":"IF(O25=\"\",\"\",VLOOKUP(O25,ตั้งค่า!$AD$7:$AE$10,2,FALSE))","v":""},{"$f":"IF(Q25=\"\",\"\",VLOOKUP(Q25,ตั้งค่า!$AD$7:$AE$10,2,FALSE))","v":""},{"$f":"IF(S25=\"\",\"\",VLOOKUP(S25,ตั้งค่า!$AD$7:$AE$10,2,FALSE))","v":""},{"$f":"IF(U25=\"\",\"\",VLOOKUP(U25,ตั้งค่า!$AD$7:$AE$10,2,FALSE))","v":""},{"$f":"IF(W25=\"\",\"\",VLOOKUP(W25,ตั้งค่า!$AD$7:$AE$10,2,FALSE))","v":""},{"$f":"IF(Y25=\"\",\"\",VLOOKUP(Y25,ตั้งค่า!$AD$7:$AE$10,2,FALSE))","v":""},{"$f":"IF(AA25=\"\",\"\",VLOOKUP(AA25,ตั้งค่า!$AD$7:$AE$10,2,FALSE))","v":""},{"$f":"IF(AC25=\"\",\"\",VLOOKUP(AC25,ตั้งค่า!$AD$7:$AE$10,2,FALSE))","v":""},{"$f":"IF(AE25=\"\",\"\",VLOOKUP(AE25,ตั้งค่า!$AD$7:$AE$10,2,FALSE))","v":""},{"$f":"IF(AG25=\"\",\"\",VLOOKUP(AG25,ตั้งค่า!$AD$7:$AE$10,2,FALSE))","v":""},{"$f":"IF(AI25=\"\",\"\",VLOOKUP(AI25,ตั้งค่า!$AD$7:$AE$10,2,FALSE))","v":""},{"$f":"IF(AK25=\"\",\"\",VLOOKUP(AK25,ตั้งค่า!$AD$7:$AE$10,2,FALSE))","v":""},""]
[{"$f":"IF(คีย์คะแนน!A26=\"\",\"\",คีย์คะแนน!A26)","v":0},{"$f":"IF(คีย์คะแนน!B26=\"\",\"\",คีย์คะแนน!B26)","v":0},{"$f":"IF(คีย์คะแนน!C26=\"\",\"\",คีย์คะแนน!C26)","v":""},null,null,null,null,null,null,null,null,null,null,null,null,null,null,null,null,null,null,null,null,null,null,null,null,null,null,null,null,null,null,null,null,null,null,"","","","",{"$f":"รายชื่อนักเรียน!F24","v":0},{"$f":"IF(D26=\"\",\"\",VLOOKUP(D26,ตั้งค่า!$AD$7:$AE$10,2,FALSE))","v":""},{"$f":"IF(F26=\"\",\"\",VLOOKUP(F26,ตั้งค่า!$AD$7:$AE$10,2,FALSE))","v":""},{"$f":"IF(H26=\"\",\"\",VLOOKUP(H26,ตั้งค่า!$AD$7:$AE$10,2,FALSE))","v":""},{"$f":"IF(J26=\"\",\"\",VLOOKUP(J26,ตั้งค่า!$AD$7:$AE$10,2,FALSE))","v":""},{"$f":"IF(L26=\"\",\"\",VLOOKUP(L26,ตั้งค่า!$AD$7:$AE$10,2,FALSE))","v":""},{"$f":"IF(N26=\"\",\"\",VLOOKUP(N26,ตั้งค่า!$AD$7:$AE$10,2,FALSE))","v":""},{"$f":"IF(P26=\"\",\"\",VLOOKUP(P26,ตั้งค่า!$AD$7:$AE$10,2,FALSE))","v":""},{"$f":"IF(R26=\"\",\"\",VLOOKUP(R26,ตั้งค่า!$AD$7:$AE$10,2,FALSE))","v":""},{"$f":"IF(T26=\"\",\"\",VLOOKUP(T26,ตั้งค่า!$AD$7:$AE$10,2,FALSE))","v":""},{"$f":"IF(V26=\"\",\"\",VLOOKUP(V26,ตั้งค่า!$AD$7:$AE$10,2,FALSE))","v":""},{"$f":"IF(X26=\"\",\"\",VLOOKUP(X26,ตั้งค่า!$AD$7:$AE$10,2,FALSE))","v":""},{"$f":"IF(Z26=\"\",\"\",VLOOKUP(Z26,ตั้งค่า!$AD$7:$AE$10,2,FALSE))","v":""},{"$f":"IF(AB26=\"\",\"\",VLOOKUP(AB26,ตั้งค่า!$AD$7:$AE$10,2,FALSE))","v":""},{"$f":"IF(AD26=\"\",\"\",VLOOKUP(AD26,ตั้งค่า!$AD$7:$AE$10,2,FALSE))","v":""},{"$f":"IF(AF26=\"\",\"\",VLOOKUP(AF26,ตั้งค่า!$AD$7:$AE$10,2,FALSE))","v":""},{"$f":"IF(AH26=\"\",\"\",VLOOKUP(AH26,ตั้งค่า!$AD$7:$AE$10,2,FALSE))","v":""},{"$f":"IF(AJ26=\"\",\"\",VLOOKUP(AJ26,ตั้งค่า!$AD$7:$AE$10,2,FALSE))","v":""},"",{"$f":"IF(E26=\"\",\"\",VLOOKUP(E26,ตั้งค่า!$AD$7:$AE$10,2,FALSE))","v":""},{"$f":"IF(G26=\"\",\"\",VLOOKUP(G26,ตั้งค่า!$AD$7:$AE$10,2,FALSE))","v":""},{"$f":"IF(I26=\"\",\"\",VLOOKUP(I26,ตั้งค่า!$AD$7:$AE$10,2,FALSE))","v":""},{"$f":"IF(K26=\"\",\"\",VLOOKUP(K26,ตั้งค่า!$AD$7:$AE$10,2,FALSE))","v":""},{"$f":"IF(M26=\"\",\"\",VLOOKUP(M26,ตั้งค่า!$AD$7:$AE$10,2,FALSE))","v":""},{"$f":"IF(O26=\"\",\"\",VLOOKUP(O26,ตั้งค่า!$AD$7:$AE$10,2,FALSE))","v":""},{"$f":"IF(Q26=\"\",\"\",VLOOKUP(Q26,ตั้งค่า!$AD$7:$AE$10,2,FALSE))","v":""},{"$f":"IF(S26=\"\",\"\",VLOOKUP(S26,ตั้งค่า!$AD$7:$AE$10,2,FALSE))","v":""},{"$f":"IF(U26=\"\",\"\",VLOOKUP(U26,ตั้งค่า!$AD$7:$AE$10,2,FALSE))","v":""},{"$f":"IF(W26=\"\",\"\",VLOOKUP(W26,ตั้งค่า!$AD$7:$AE$10,2,FALSE))","v":""},{"$f":"IF(Y26=\"\",\"\",VLOOKUP(Y26,ตั้งค่า!$AD$7:$AE$10,2,FALSE))","v":""},{"$f":"IF(AA26=\"\",\"\",VLOOKUP(AA26,ตั้งค่า!$AD$7:$AE$10,2,FALSE))","v":""},{"$f":"IF(AC26=\"\",\"\",VLOOKUP(AC26,ตั้งค่า!$AD$7:$AE$10,2,FALSE))","v":""},{"$f":"IF(AE26=\"\",\"\",VLOOKUP(AE26,ตั้งค่า!$AD$7:$AE$10,2,FALSE))","v":""},{"$f":"IF(AG26=\"\",\"\",VLOOKUP(AG26,ตั้งค่า!$AD$7:$AE$10,2,FALSE))","v":""},{"$f":"IF(AI26=\"\",\"\",VLOOKUP(AI26,ตั้งค่า!$AD$7:$AE$10,2,FALSE))","v":""},{"$f":"IF(AK26=\"\",\"\",VLOOKUP(AK26,ตั้งค่า!$AD$7:$AE$10,2,FALSE))","v":""},""]
[{"$f":"IF(คีย์คะแนน!A27=\"\",\"\",คีย์คะแนน!A27)","v":0},{"$f":"IF(คีย์คะแนน!B27=\"\",\"\",คีย์คะแนน!B27)","v":0},{"$f":"IF(คีย์คะแนน!C27=\"\",\"\",คีย์คะแนน!C27)","v":""},null,null,null,null,null,null,null,null,null,null,null,null,null,null,null,null,null,null,null,null,null,null,null,null,null,null,null,null,null,null,null,null,null,null,"","","","",{"$f":"รายชื่อนักเรียน!F25","v":0},{"$f":"IF(D27=\"\",\"\",VLOOKUP(D27,ตั้งค่า!$AD$7:$AE$10,2,FALSE))","v":""},{"$f":"IF(F27=\"\",\"\",VLOOKUP(F27,ตั้งค่า!$AD$7:$AE$10,2,FALSE))","v":""},{"$f":"IF(H27=\"\",\"\",VLOOKUP(H27,ตั้งค่า!$AD$7:$AE$10,2,FALSE))","v":""},{"$f":"IF(J27=\"\",\"\",VLOOKUP(J27,ตั้งค่า!$AD$7:$AE$10,2,FALSE))","v":""},{"$f":"IF(L27=\"\",\"\",VLOOKUP(L27,ตั้งค่า!$AD$7:$AE$10,2,FALSE))","v":""},{"$f":"IF(N27=\"\",\"\",VLOOKUP(N27,ตั้งค่า!$AD$7:$AE$10,2,FALSE))","v":""},{"$f":"IF(P27=\"\",\"\",VLOOKUP(P27,ตั้งค่า!$AD$7:$AE$10,2,FALSE))","v":""},{"$f":"IF(R27=\"\",\"\",VLOOKUP(R27,ตั้งค่า!$AD$7:$AE$10,2,FALSE))","v":""},{"$f":"IF(T27=\"\",\"\",VLOOKUP(T27,ตั้งค่า!$AD$7:$AE$10,2,FALSE))","v":""},{"$f":"IF(V27=\"\",\"\",VLOOKUP(V27,ตั้งค่า!$AD$7:$AE$10,2,FALSE))","v":""},{"$f":"IF(X27=\"\",\"\",VLOOKUP(X27,ตั้งค่า!$AD$7:$AE$10,2,FALSE))","v":""},{"$f":"IF(Z27=\"\",\"\",VLOOKUP(Z27,ตั้งค่า!$AD$7:$AE$10,2,FALSE))","v":""},{"$f":"IF(AB27=\"\",\"\",VLOOKUP(AB27,ตั้งค่า!$AD$7:$AE$10,2,FALSE))","v":""},{"$f":"IF(AD27=\"\",\"\",VLOOKUP(AD27,ตั้งค่า!$AD$7:$AE$10,2,FALSE))","v":""},{"$f":"IF(AF27=\"\",\"\",VLOOKUP(AF27,ตั้งค่า!$AD$7:$AE$10,2,FALSE))","v":""},{"$f":"IF(AH27=\"\",\"\",VLOOKUP(AH27,ตั้งค่า!$AD$7:$AE$10,2,FALSE))","v":""},{"$f":"IF(AJ27=\"\",\"\",VLOOKUP(AJ27,ตั้งค่า!$AD$7:$AE$10,2,FALSE))","v":""},"",{"$f":"IF(E27=\"\",\"\",VLOOKUP(E27,ตั้งค่า!$AD$7:$AE$10,2,FALSE))","v":""},{"$f":"IF(G27=\"\",\"\",VLOOKUP(G27,ตั้งค่า!$AD$7:$AE$10,2,FALSE))","v":""},{"$f":"IF(I27=\"\",\"\",VLOOKUP(I27,ตั้งค่า!$AD$7:$AE$10,2,FALSE))","v":""},{"$f":"IF(K27=\"\",\"\",VLOOKUP(K27,ตั้งค่า!$AD$7:$AE$10,2,FALSE))","v":""},{"$f":"IF(M27=\"\",\"\",VLOOKUP(M27,ตั้งค่า!$AD$7:$AE$10,2,FALSE))","v":""},{"$f":"IF(O27=\"\",\"\",VLOOKUP(O27,ตั้งค่า!$AD$7:$AE$10,2,FALSE))","v":""},{"$f":"IF(Q27=\"\",\"\",VLOOKUP(Q27,ตั้งค่า!$AD$7:$AE$10,2,FALSE))","v":""},{"$f":"IF(S27=\"\",\"\",VLOOKUP(S27,ตั้งค่า!$AD$7:$AE$10,2,FALSE))","v":""},{"$f":"IF(U27=\"\",\"\",VLOOKUP(U27,ตั้งค่า!$AD$7:$AE$10,2,FALSE))","v":""},{"$f":"IF(W27=\"\",\"\",VLOOKUP(W27,ตั้งค่า!$AD$7:$AE$10,2,FALSE))","v":""},{"$f":"IF(Y27=\"\",\"\",VLOOKUP(Y27,ตั้งค่า!$AD$7:$AE$10,2,FALSE))","v":""},{"$f":"IF(AA27=\"\",\"\",VLOOKUP(AA27,ตั้งค่า!$AD$7:$AE$10,2,FALSE))","v":""},{"$f":"IF(AC27=\"\",\"\",VLOOKUP(AC27,ตั้งค่า!$AD$7:$AE$10,2,FALSE))","v":""},{"$f":"IF(AE27=\"\",\"\",VLOOKUP(AE27,ตั้งค่า!$AD$7:$AE$10,2,FALSE))","v":""},{"$f":"IF(AG27=\"\",\"\",VLOOKUP(AG27,ตั้งค่า!$AD$7:$AE$10,2,FALSE))","v":""},{"$f":"IF(AI27=\"\",\"\",VLOOKUP(AI27,ตั้งค่า!$AD$7:$AE$10,2,FALSE))","v":""},{"$f":"IF(AK27=\"\",\"\",VLOOKUP(AK27,ตั้งค่า!$AD$7:$AE$10,2,FALSE))","v":""},""]
[{"$f":"IF(คีย์คะแนน!A28=\"\",\"\",คีย์คะแนน!A28)","v":0},{"$f":"IF(คีย์คะแนน!B28=\"\",\"\",คีย์คะแนน!B28)","v":0},{"$f":"IF(คีย์คะแนน!C28=\"\",\"\",คีย์คะแนน!C28)","v":""},null,null,null,null,null,null,null,null,null,null,null,null,null,null,null,null,null,null,null,null,null,null,null,null,null,null,null,null,null,null,null,null,null,null,"","","","",{"$f":"รายชื่อนักเรียน!F26","v":0},{"$f":"IF(D28=\"\",\"\",VLOOKUP(D28,ตั้งค่า!$AD$7:$AE$10,2,FALSE))","v":""},{"$f":"IF(F28=\"\",\"\",VLOOKUP(F28,ตั้งค่า!$AD$7:$AE$10,2,FALSE))","v":""},{"$f":"IF(H28=\"\",\"\",VLOOKUP(H28,ตั้งค่า!$AD$7:$AE$10,2,FALSE))","v":""},{"$f":"IF(J28=\"\",\"\",VLOOKUP(J28,ตั้งค่า!$AD$7:$AE$10,2,FALSE))","v":""},{"$f":"IF(L28=\"\",\"\",VLOOKUP(L28,ตั้งค่า!$AD$7:$AE$10,2,FALSE))","v":""},{"$f":"IF(N28=\"\",\"\",VLOOKUP(N28,ตั้งค่า!$AD$7:$AE$10,2,FALSE))","v":""},{"$f":"IF(P28=\"\",\"\",VLOOKUP(P28,ตั้งค่า!$AD$7:$AE$10,2,FALSE))","v":""},{"$f":"IF(R28=\"\",\"\",VLOOKUP(R28,ตั้งค่า!$AD$7:$AE$10,2,FALSE))","v":""},{"$f":"IF(T28=\"\",\"\",VLOOKUP(T28,ตั้งค่า!$AD$7:$AE$10,2,FALSE))","v":""},{"$f":"IF(V28=\"\",\"\",VLOOKUP(V28,ตั้งค่า!$AD$7:$AE$10,2,FALSE))","v":""},{"$f":"IF(X28=\"\",\"\",VLOOKUP(X28,ตั้งค่า!$AD$7:$AE$10,2,FALSE))","v":""},{"$f":"IF(Z28=\"\",\"\",VLOOKUP(Z28,ตั้งค่า!$AD$7:$AE$10,2,FALSE))","v":""},{"$f":"IF(AB28=\"\",\"\",VLOOKUP(AB28,ตั้งค่า!$AD$7:$AE$10,2,FALSE))","v":""},{"$f":"IF(AD28=\"\",\"\",VLOOKUP(AD28,ตั้งค่า!$AD$7:$AE$10,2,FALSE))","v":""},{"$f":"IF(AF28=\"\",\"\",VLOOKUP(AF28,ตั้งค่า!$AD$7:$AE$10,2,FALSE))","v":""},{"$f":"IF(AH28=\"\",\"\",VLOOKUP(AH28,ตั้งค่า!$AD$7:$AE$10,2,FALSE))","v":""},{"$f":"IF(AJ28=\"\",\"\",VLOOKUP(AJ28,ตั้งค่า!$AD$7:$AE$10,2,FALSE))","v":""},"",{"$f":"IF(E28=\"\",\"\",VLOOKUP(E28,ตั้งค่า!$AD$7:$AE$10,2,FALSE))","v":""},{"$f":"IF(G28=\"\",\"\",VLOOKUP(G28,ตั้งค่า!$AD$7:$AE$10,2,FALSE))","v":""},{"$f":"IF(I28=\"\",\"\",VLOOKUP(I28,ตั้งค่า!$AD$7:$AE$10,2,FALSE))","v":""},{"$f":"IF(K28=\"\",\"\",VLOOKUP(K28,ตั้งค่า!$AD$7:$AE$10,2,FALSE))","v":""},{"$f":"IF(M28=\"\",\"\",VLOOKUP(M28,ตั้งค่า!$AD$7:$AE$10,2,FALSE))","v":""},{"$f":"IF(O28=\"\",\"\",VLOOKUP(O28,ตั้งค่า!$AD$7:$AE$10,2,FALSE))","v":""},{"$f":"IF(Q28=\"\",\"\",VLOOKUP(Q28,ตั้งค่า!$AD$7:$AE$10,2,FALSE))","v":""},{"$f":"IF(S28=\"\",\"\",VLOOKUP(S28,ตั้งค่า!$AD$7:$AE$10,2,FALSE))","v":""},{"$f":"IF(U28=\"\",\"\",VLOOKUP(U28,ตั้งค่า!$AD$7:$AE$10,2,FALSE))","v":""},{"$f":"IF(W28=\"\",\"\",VLOOKUP(W28,ตั้งค่า!$AD$7:$AE$10,2,FALSE))","v":""},{"$f":"IF(Y28=\"\",\"\",VLOOKUP(Y28,ตั้งค่า!$AD$7:$AE$10,2,FALSE))","v":""},{"$f":"IF(AA28=\"\",\"\",VLOOKUP(AA28,ตั้งค่า!$AD$7:$AE$10,2,FALSE))","v":""},{"$f":"IF(AC28=\"\",\"\",VLOOKUP(AC28,ตั้งค่า!$AD$7:$AE$10,2,FALSE))","v":""},{"$f":"IF(AE28=\"\",\"\",VLOOKUP(AE28,ตั้งค่า!$AD$7:$AE$10,2,FALSE))","v":""},{"$f":"IF(AG28=\"\",\"\",VLOOKUP(AG28,ตั้งค่า!$AD$7:$AE$10,2,FALSE))","v":""},{"$f":"IF(AI28=\"\",\"\",VLOOKUP(AI28,ตั้งค่า!$AD$7:$AE$10,2,FALSE))","v":""},{"$f":"IF(AK28=\"\",\"\",VLOOKUP(AK28,ตั้งค่า!$AD$7:$AE$10,2,FALSE))","v":""},""]
[{"$f":"IF(คีย์คะแนน!A29=\"\",\"\",คีย์คะแนน!A29)","v":0},{"$f":"IF(คีย์คะแนน!B29=\"\",\"\",คีย์คะแนน!B29)","v":0},{"$f":"IF(คีย์คะแนน!C29=\"\",\"\",คีย์คะแนน!C29)","v":""},null,null,null,null,null,null,null,null,null,null,null,null,null,null,null,null,null,null,null,null,null,null,null,null,null,null,null,null,null,null,null,null,null,null,"","","","",{"$f":"รายชื่อนักเรียน!F27","v":0},{"$f":"IF(D29=\"\",\"\",VLOOKUP(D29,ตั้งค่า!$AD$7:$AE$10,2,FALSE))","v":""},{"$f":"IF(F29=\"\",\"\",VLOOKUP(F29,ตั้งค่า!$AD$7:$AE$10,2,FALSE))","v":""},{"$f":"IF(H29=\"\",\"\",VLOOKUP(H29,ตั้งค่า!$AD$7:$AE$10,2,FALSE))","v":""},{"$f":"IF(J29=\"\",\"\",VLOOKUP(J29,ตั้งค่า!$AD$7:$AE$10,2,FALSE))","v":""},{"$f":"IF(L29=\"\",\"\",VLOOKUP(L29,ตั้งค่า!$AD$7:$AE$10,2,FALSE))","v":""},{"$f":"IF(N29=\"\",\"\",VLOOKUP(N29,ตั้งค่า!$AD$7:$AE$10,2,FALSE))","v":""},{"$f":"IF(P29=\"\",\"\",VLOOKUP(P29,ตั้งค่า!$AD$7:$AE$10,2,FALSE))","v":""},{"$f":"IF(R29=\"\",\"\",VLOOKUP(R29,ตั้งค่า!$AD$7:$AE$10,2,FALSE))","v":""},{"$f":"IF(T29=\"\",\"\",VLOOKUP(T29,ตั้งค่า!$AD$7:$AE$10,2,FALSE))","v":""},{"$f":"IF(V29=\"\",\"\",VLOOKUP(V29,ตั้งค่า!$AD$7:$AE$10,2,FALSE))","v":""},{"$f":"IF(X29=\"\",\"\",VLOOKUP(X29,ตั้งค่า!$AD$7:$AE$10,2,FALSE))","v":""},{"$f":"IF(Z29=\"\",\"\",VLOOKUP(Z29,ตั้งค่า!$AD$7:$AE$10,2,FALSE))","v":""},{"$f":"IF(AB29=\"\",\"\",VLOOKUP(AB29,ตั้งค่า!$AD$7:$AE$10,2,FALSE))","v":""},{"$f":"IF(AD29=\"\",\"\",VLOOKUP(AD29,ตั้งค่า!$AD$7:$AE$10,2,FALSE))","v":""},{"$f":"IF(AF29=\"\",\"\",VLOOKUP(AF29,ตั้งค่า!$AD$7:$AE$10,2,FALSE))","v":""},{"$f":"IF(AH29=\"\",\"\",VLOOKUP(AH29,ตั้งค่า!$AD$7:$AE$10,2,FALSE))","v":""},{"$f":"IF(AJ29=\"\",\"\",VLOOKUP(AJ29,ตั้งค่า!$AD$7:$AE$10,2,FALSE))","v":""},"",{"$f":"IF(E29=\"\",\"\",VLOOKUP(E29,ตั้งค่า!$AD$7:$AE$10,2,FALSE))","v":""},{"$f":"IF(G29=\"\",\"\",VLOOKUP(G29,ตั้งค่า!$AD$7:$AE$10,2,FALSE))","v":""},{"$f":"IF(I29=\"\",\"\",VLOOKUP(I29,ตั้งค่า!$AD$7:$AE$10,2,FALSE))","v":""},{"$f":"IF(K29=\"\",\"\",VLOOKUP(K29,ตั้งค่า!$AD$7:$AE$10,2,FALSE))","v":""},{"$f":"IF(M29=\"\",\"\",VLOOKUP(M29,ตั้งค่า!$AD$7:$AE$10,2,FALSE))","v":""},{"$f":"IF(O29=\"\",\"\",VLOOKUP(O29,ตั้งค่า!$AD$7:$AE$10,2,FALSE))","v":""},{"$f":"IF(Q29=\"\",\"\",VLOOKUP(Q29,ตั้งค่า!$AD$7:$AE$10,2,FALSE))","v":""},{"$f":"IF(S29=\"\",\"\",VLOOKUP(S29,ตั้งค่า!$AD$7:$AE$10,2,FALSE))","v":""},{"$f":"IF(U29=\"\",\"\",VLOOKUP(U29,ตั้งค่า!$AD$7:$AE$10,2,FALSE))","v":""},{"$f":"IF(W29=\"\",\"\",VLOOKUP(W29,ตั้งค่า!$AD$7:$AE$10,2,FALSE))","v":""},{"$f":"IF(Y29=\"\",\"\",VLOOKUP(Y29,ตั้งค่า!$AD$7:$AE$10,2,FALSE))","v":""},{"$f":"IF(AA29=\"\",\"\",VLOOKUP(AA29,ตั้งค่า!$AD$7:$AE$10,2,FALSE))","v":""},{"$f":"IF(AC29=\"\",\"\",VLOOKUP(AC29,ตั้งค่า!$AD$7:$AE$10,2,FALSE))","v":""},{"$f":"IF(AE29=\"\",\"\",VLOOKUP(AE29,ตั้งค่า!$AD$7:$AE$10,2,FALSE))","v":""},{"$f":"IF(AG29=\"\",\"\",VLOOKUP(AG29,ตั้งค่า!$AD$7:$AE$10,2,FALSE))","v":""},{"$f":"IF(AI29=\"\",\"\",VLOOKUP(AI29,ตั้งค่า!$AD$7:$AE$10,2,FALSE))","v":""},{"$f":"IF(AK29=\"\",\"\",VLOOKUP(AK29,ตั้งค่า!$AD$7:$AE$10,2,FALSE))","v":""},""]
[{"$f":"IF(คีย์คะแนน!A30=\"\",\"\",คีย์คะแนน!A30)","v":0},{"$f":"IF(คีย์คะแนน!B30=\"\",\"\",คีย์คะแนน!B30)","v":0},{"$f":"IF(คีย์คะแนน!C30=\"\",\"\",คีย์คะแนน!C30)","v":""},null,null,null,null,null,null,null,null,null,null,null,null,null,null,null,null,null,null,null,null,null,null,null,null,null,null,null,null,null,null,null,null,null,null,"","","","",{"$f":"รายชื่อนักเรียน!F28","v":0},{"$f":"IF(D30=\"\",\"\",VLOOKUP(D30,ตั้งค่า!$AD$7:$AE$10,2,FALSE))","v":""},{"$f":"IF(F30=\"\",\"\",VLOOKUP(F30,ตั้งค่า!$AD$7:$AE$10,2,FALSE))","v":""},{"$f":"IF(H30=\"\",\"\",VLOOKUP(H30,ตั้งค่า!$AD$7:$AE$10,2,FALSE))","v":""},{"$f":"IF(J30=\"\",\"\",VLOOKUP(J30,ตั้งค่า!$AD$7:$AE$10,2,FALSE))","v":""},{"$f":"IF(L30=\"\",\"\",VLOOKUP(L30,ตั้งค่า!$AD$7:$AE$10,2,FALSE))","v":""},{"$f":"IF(N30=\"\",\"\",VLOOKUP(N30,ตั้งค่า!$AD$7:$AE$10,2,FALSE))","v":""},{"$f":"IF(P30=\"\",\"\",VLOOKUP(P30,ตั้งค่า!$AD$7:$AE$10,2,FALSE))","v":""},{"$f":"IF(R30=\"\",\"\",VLOOKUP(R30,ตั้งค่า!$AD$7:$AE$10,2,FALSE))","v":""},{"$f":"IF(T30=\"\",\"\",VLOOKUP(T30,ตั้งค่า!$AD$7:$AE$10,2,FALSE))","v":""},{"$f":"IF(V30=\"\",\"\",VLOOKUP(V30,ตั้งค่า!$AD$7:$AE$10,2,FALSE))","v":""},{"$f":"IF(X30=\"\",\"\",VLOOKUP(X30,ตั้งค่า!$AD$7:$AE$10,2,FALSE))","v":""},{"$f":"IF(Z30=\"\",\"\",VLOOKUP(Z30,ตั้งค่า!$AD$7:$AE$10,2,FALSE))","v":""},{"$f":"IF(AB30=\"\",\"\",VLOOKUP(AB30,ตั้งค่า!$AD$7:$AE$10,2,FALSE))","v":""},{"$f":"IF(AD30=\"\",\"\",VLOOKUP(AD30,ตั้งค่า!$AD$7:$AE$10,2,FALSE))","v":""},{"$f":"IF(AF30=\"\",\"\",VLOOKUP(AF30,ตั้งค่า!$AD$7:$AE$10,2,FALSE))","v":""},{"$f":"IF(AH30=\"\",\"\",VLOOKUP(AH30,ตั้งค่า!$AD$7:$AE$10,2,FALSE))","v":""},{"$f":"IF(AJ30=\"\",\"\",VLOOKUP(AJ30,ตั้งค่า!$AD$7:$AE$10,2,FALSE))","v":""},"",{"$f":"IF(E30=\"\",\"\",VLOOKUP(E30,ตั้งค่า!$AD$7:$AE$10,2,FALSE))","v":""},{"$f":"IF(G30=\"\",\"\",VLOOKUP(G30,ตั้งค่า!$AD$7:$AE$10,2,FALSE))","v":""},{"$f":"IF(I30=\"\",\"\",VLOOKUP(I30,ตั้งค่า!$AD$7:$AE$10,2,FALSE))","v":""},{"$f":"IF(K30=\"\",\"\",VLOOKUP(K30,ตั้งค่า!$AD$7:$AE$10,2,FALSE))","v":""},{"$f":"IF(M30=\"\",\"\",VLOOKUP(M30,ตั้งค่า!$AD$7:$AE$10,2,FALSE))","v":""},{"$f":"IF(O30=\"\",\"\",VLOOKUP(O30,ตั้งค่า!$AD$7:$AE$10,2,FALSE))","v":""},{"$f":"IF(Q30=\"\",\"\",VLOOKUP(Q30,ตั้งค่า!$AD$7:$AE$10,2,FALSE))","v":""},{"$f":"IF(S30=\"\",\"\",VLOOKUP(S30,ตั้งค่า!$AD$7:$AE$10,2,FALSE))","v":""},{"$f":"IF(U30=\"\",\"\",VLOOKUP(U30,ตั้งค่า!$AD$7:$AE$10,2,FALSE))","v":""},{"$f":"IF(W30=\"\",\"\",VLOOKUP(W30,ตั้งค่า!$AD$7:$AE$10,2,FALSE))","v":""},{"$f":"IF(Y30=\"\",\"\",VLOOKUP(Y30,ตั้งค่า!$AD$7:$AE$10,2,FALSE))","v":""},{"$f":"IF(AA30=\"\",\"\",VLOOKUP(AA30,ตั้งค่า!$AD$7:$AE$10,2,FALSE))","v":""},{"$f":"IF(AC30=\"\",\"\",VLOOKUP(AC30,ตั้งค่า!$AD$7:$AE$10,2,FALSE))","v":""},{"$f":"IF(AE30=\"\",\"\",VLOOKUP(AE30,ตั้งค่า!$AD$7:$AE$10,2,FALSE))","v":""},{"$f":"IF(AG30=\"\",\"\",VLOOKUP(AG30,ตั้งค่า!$AD$7:$AE$10,2,FALSE))","v":""},{"$f":"IF(AI30=\"\",\"\",VLOOKUP(AI30,ตั้งค่า!$AD$7:$AE$10,2,FALSE))","v":""},{"$f":"IF(AK30=\"\",\"\",VLOOKUP(AK30,ตั้งค่า!$AD$7:$AE$10,2,FALSE))","v":""},""]
[{"$f":"IF(คีย์คะแนน!A31=\"\",\"\",คีย์คะแนน!A31)","v":0},{"$f":"IF(คีย์คะแนน!B31=\"\",\"\",คีย์คะแนน!B31)","v":0},{"$f":"IF(คีย์คะแนน!C31=\"\",\"\",คีย์คะแนน!C31)","v":""},null,null,null,null,null,null,null,null,null,null,null,null,null,null,null,null,null,null,null,null,null,null,null,null,null,null,null,null,null,null,null,null,null,null,"","","","",{"$f":"รายชื่อนักเรียน!F29","v":0},{"$f":"IF(D31=\"\",\"\",VLOOKUP(D31,ตั้งค่า!$AD$7:$AE$10,2,FALSE))","v":""},{"$f":"IF(F31=\"\",\"\",VLOOKUP(F31,ตั้งค่า!$AD$7:$AE$10,2,FALSE))","v":""},{"$f":"IF(H31=\"\",\"\",VLOOKUP(H31,ตั้งค่า!$AD$7:$AE$10,2,FALSE))","v":""},{"$f":"IF(J31=\"\",\"\",VLOOKUP(J31,ตั้งค่า!$AD$7:$AE$10,2,FALSE))","v":""},{"$f":"IF(L31=\"\",\"\",VLOOKUP(L31,ตั้งค่า!$AD$7:$AE$10,2,FALSE))","v":""},{"$f":"IF(N31=\"\",\"\",VLOOKUP(N31,ตั้งค่า!$AD$7:$AE$10,2,FALSE))","v":""},{"$f":"IF(P31=\"\",\"\",VLOOKUP(P31,ตั้งค่า!$AD$7:$AE$10,2,FALSE))","v":""},{"$f":"IF(R31=\"\",\"\",VLOOKUP(R31,ตั้งค่า!$AD$7:$AE$10,2,FALSE))","v":""},{"$f":"IF(T31=\"\",\"\",VLOOKUP(T31,ตั้งค่า!$AD$7:$AE$10,2,FALSE))","v":""},{"$f":"IF(V31=\"\",\"\",VLOOKUP(V31,ตั้งค่า!$AD$7:$AE$10,2,FALSE))","v":""},{"$f":"IF(X31=\"\",\"\",VLOOKUP(X31,ตั้งค่า!$AD$7:$AE$10,2,FALSE))","v":""},{"$f":"IF(Z31=\"\",\"\",VLOOKUP(Z31,ตั้งค่า!$AD$7:$AE$10,2,FALSE))","v":""},{"$f":"IF(AB31=\"\",\"\",VLOOKUP(AB31,ตั้งค่า!$AD$7:$AE$10,2,FALSE))","v":""},{"$f":"IF(AD31=\"\",\"\",VLOOKUP(AD31,ตั้งค่า!$AD$7:$AE$10,2,FALSE))","v":""},{"$f":"IF(AF31=\"\",\"\",VLOOKUP(AF31,ตั้งค่า!$AD$7:$AE$10,2,FALSE))","v":""},{"$f":"IF(AH31=\"\",\"\",VLOOKUP(AH31,ตั้งค่า!$AD$7:$AE$10,2,FALSE))","v":""},{"$f":"IF(AJ31=\"\",\"\",VLOOKUP(AJ31,ตั้งค่า!$AD$7:$AE$10,2,FALSE))","v":""},"",{"$f":"IF(E31=\"\",\"\",VLOOKUP(E31,ตั้งค่า!$AD$7:$AE$10,2,FALSE))","v":""},{"$f":"IF(G31=\"\",\"\",VLOOKUP(G31,ตั้งค่า!$AD$7:$AE$10,2,FALSE))","v":""},{"$f":"IF(I31=\"\",\"\",VLOOKUP(I31,ตั้งค่า!$AD$7:$AE$10,2,FALSE))","v":""},{"$f":"IF(K31=\"\",\"\",VLOOKUP(K31,ตั้งค่า!$AD$7:$AE$10,2,FALSE))","v":""},{"$f":"IF(M31=\"\",\"\",VLOOKUP(M31,ตั้งค่า!$AD$7:$AE$10,2,FALSE))","v":""},{"$f":"IF(O31=\"\",\"\",VLOOKUP(O31,ตั้งค่า!$AD$7:$AE$10,2,FALSE))","v":""},{"$f":"IF(Q31=\"\",\"\",VLOOKUP(Q31,ตั้งค่า!$AD$7:$AE$10,2,FALSE))","v":""},{"$f":"IF(S31=\"\",\"\",VLOOKUP(S31,ตั้งค่า!$AD$7:$AE$10,2,FALSE))","v":""},{"$f":"IF(U31=\"\",\"\",VLOOKUP(U31,ตั้งค่า!$AD$7:$AE$10,2,FALSE))","v":""},{"$f":"IF(W31=\"\",\"\",VLOOKUP(W31,ตั้งค่า!$AD$7:$AE$10,2,FALSE))","v":""},{"$f":"IF(Y31=\"\",\"\",VLOOKUP(Y31,ตั้งค่า!$AD$7:$AE$10,2,FALSE))","v":""},{"$f":"IF(AA31=\"\",\"\",VLOOKUP(AA31,ตั้งค่า!$AD$7:$AE$10,2,FALSE))","v":""},{"$f":"IF(AC31=\"\",\"\",VLOOKUP(AC31,ตั้งค่า!$AD$7:$AE$10,2,FALSE))","v":""},{"$f":"IF(AE31=\"\",\"\",VLOOKUP(AE31,ตั้งค่า!$AD$7:$AE$10,2,FALSE))","v":""},{"$f":"IF(AG31=\"\",\"\",VLOOKUP(AG31,ตั้งค่า!$AD$7:$AE$10,2,FALSE))","v":""},{"$f":"IF(AI31=\"\",\"\",VLOOKUP(AI31,ตั้งค่า!$AD$7:$AE$10,2,FALSE))","v":""},{"$f":"IF(AK31=\"\",\"\",VLOOKUP(AK31,ตั้งค่า!$AD$7:$AE$10,2,FALSE))","v":""},""]
[{"$f":"IF(คีย์คะแนน!A32=\"\",\"\",คีย์คะแนน!A32)","v":0},{"$f":"IF(คีย์คะแนน!B32=\"\",\"\",คีย์คะแนน!B32)","v":0},{"$f":"IF(คีย์คะแนน!C32=\"\",\"\",คีย์คะแนน!C32)","v":""},null,null,null,null,null,null,null,null,null,null,null,null,null,null,null,null,null,null,null,null,null,null,null,null,null,null,null,null,null,null,null,null,null,null,"","","","",{"$f":"รายชื่อนักเรียน!F30","v":0},{"$f":"IF(D32=\"\",\"\",VLOOKUP(D32,ตั้งค่า!$AD$7:$AE$10,2,FALSE))","v":""},{"$f":"IF(F32=\"\",\"\",VLOOKUP(F32,ตั้งค่า!$AD$7:$AE$10,2,FALSE))","v":""},{"$f":"IF(H32=\"\",\"\",VLOOKUP(H32,ตั้งค่า!$AD$7:$AE$10,2,FALSE))","v":""},{"$f":"IF(J32=\"\",\"\",VLOOKUP(J32,ตั้งค่า!$AD$7:$AE$10,2,FALSE))","v":""},{"$f":"IF(L32=\"\",\"\",VLOOKUP(L32,ตั้งค่า!$AD$7:$AE$10,2,FALSE))","v":""},{"$f":"IF(N32=\"\",\"\",VLOOKUP(N32,ตั้งค่า!$AD$7:$AE$10,2,FALSE))","v":""},{"$f":"IF(P32=\"\",\"\",VLOOKUP(P32,ตั้งค่า!$AD$7:$AE$10,2,FALSE))","v":""},{"$f":"IF(R32=\"\",\"\",VLOOKUP(R32,ตั้งค่า!$AD$7:$AE$10,2,FALSE))","v":""},{"$f":"IF(T32=\"\",\"\",VLOOKUP(T32,ตั้งค่า!$AD$7:$AE$10,2,FALSE))","v":""},{"$f":"IF(V32=\"\",\"\",VLOOKUP(V32,ตั้งค่า!$AD$7:$AE$10,2,FALSE))","v":""},{"$f":"IF(X32=\"\",\"\",VLOOKUP(X32,ตั้งค่า!$AD$7:$AE$10,2,FALSE))","v":""},{"$f":"IF(Z32=\"\",\"\",VLOOKUP(Z32,ตั้งค่า!$AD$7:$AE$10,2,FALSE))","v":""},{"$f":"IF(AB32=\"\",\"\",VLOOKUP(AB32,ตั้งค่า!$AD$7:$AE$10,2,FALSE))","v":""},{"$f":"IF(AD32=\"\",\"\",VLOOKUP(AD32,ตั้งค่า!$AD$7:$AE$10,2,FALSE))","v":""},{"$f":"IF(AF32=\"\",\"\",VLOOKUP(AF32,ตั้งค่า!$AD$7:$AE$10,2,FALSE))","v":""},{"$f":"IF(AH32=\"\",\"\",VLOOKUP(AH32,ตั้งค่า!$AD$7:$AE$10,2,FALSE))","v":""},{"$f":"IF(AJ32=\"\",\"\",VLOOKUP(AJ32,ตั้งค่า!$AD$7:$AE$10,2,FALSE))","v":""},"",{"$f":"IF(E32=\"\",\"\",VLOOKUP(E32,ตั้งค่า!$AD$7:$AE$10,2,FALSE))","v":""},{"$f":"IF(G32=\"\",\"\",VLOOKUP(G32,ตั้งค่า!$AD$7:$AE$10,2,FALSE))","v":""},{"$f":"IF(I32=\"\",\"\",VLOOKUP(I32,ตั้งค่า!$AD$7:$AE$10,2,FALSE))","v":""},{"$f":"IF(K32=\"\",\"\",VLOOKUP(K32,ตั้งค่า!$AD$7:$AE$10,2,FALSE))","v":""},{"$f":"IF(M32=\"\",\"\",VLOOKUP(M32,ตั้งค่า!$AD$7:$AE$10,2,FALSE))","v":""},{"$f":"IF(O32=\"\",\"\",VLOOKUP(O32,ตั้งค่า!$AD$7:$AE$10,2,FALSE))","v":""},{"$f":"IF(Q32=\"\",\"\",VLOOKUP(Q32,ตั้งค่า!$AD$7:$AE$10,2,FALSE))","v":""},{"$f":"IF(S32=\"\",\"\",VLOOKUP(S32,ตั้งค่า!$AD$7:$AE$10,2,FALSE))","v":""},{"$f":"IF(U32=\"\",\"\",VLOOKUP(U32,ตั้งค่า!$AD$7:$AE$10,2,FALSE))","v":""},{"$f":"IF(W32=\"\",\"\",VLOOKUP(W32,ตั้งค่า!$AD$7:$AE$10,2,FALSE))","v":""},{"$f":"IF(Y32=\"\",\"\",VLOOKUP(Y32,ตั้งค่า!$AD$7:$AE$10,2,FALSE))","v":""},{"$f":"IF(AA32=\"\",\"\",VLOOKUP(AA32,ตั้งค่า!$AD$7:$AE$10,2,FALSE))","v":""},{"$f":"IF(AC32=\"\",\"\",VLOOKUP(AC32,ตั้งค่า!$AD$7:$AE$10,2,FALSE))","v":""},{"$f":"IF(AE32=\"\",\"\",VLOOKUP(AE32,ตั้งค่า!$AD$7:$AE$10,2,FALSE))","v":""},{"$f":"IF(AG32=\"\",\"\",VLOOKUP(AG32,ตั้งค่า!$AD$7:$AE$10,2,FALSE))","v":""},{"$f":"IF(AI32=\"\",\"\",VLOOKUP(AI32,ตั้งค่า!$AD$7:$AE$10,2,FALSE))","v":""},{"$f":"IF(AK32=\"\",\"\",VLOOKUP(AK32,ตั้งค่า!$AD$7:$AE$10,2,FALSE))","v":""},""]
[{"$f":"IF(คีย์คะแนน!A33=\"\",\"\",คีย์คะแนน!A33)","v":0},{"$f":"IF(คีย์คะแนน!B33=\"\",\"\",คีย์คะแนน!B33)","v":0},{"$f":"IF(คีย์คะแนน!C33=\"\",\"\",คีย์คะแนน!C33)","v":""},null,null,null,null,null,null,null,null,null,null,null,null,null,null,null,null,null,null,null,null,null,null,null,null,null,null,null,null,null,null,null,null,null,null,"","","","",{"$f":"รายชื่อนักเรียน!F31","v":0},{"$f":"IF(D33=\"\",\"\",VLOOKUP(D33,ตั้งค่า!$AD$7:$AE$10,2,FALSE))","v":""},{"$f":"IF(F33=\"\",\"\",VLOOKUP(F33,ตั้งค่า!$AD$7:$AE$10,2,FALSE))","v":""},{"$f":"IF(H33=\"\",\"\",VLOOKUP(H33,ตั้งค่า!$AD$7:$AE$10,2,FALSE))","v":""},{"$f":"IF(J33=\"\",\"\",VLOOKUP(J33,ตั้งค่า!$AD$7:$AE$10,2,FALSE))","v":""},{"$f":"IF(L33=\"\",\"\",VLOOKUP(L33,ตั้งค่า!$AD$7:$AE$10,2,FALSE))","v":""},{"$f":"IF(N33=\"\",\"\",VLOOKUP(N33,ตั้งค่า!$AD$7:$AE$10,2,FALSE))","v":""},{"$f":"IF(P33=\"\",\"\",VLOOKUP(P33,ตั้งค่า!$AD$7:$AE$10,2,FALSE))","v":""},{"$f":"IF(R33=\"\",\"\",VLOOKUP(R33,ตั้งค่า!$AD$7:$AE$10,2,FALSE))","v":""},{"$f":"IF(T33=\"\",\"\",VLOOKUP(T33,ตั้งค่า!$AD$7:$AE$10,2,FALSE))","v":""},{"$f":"IF(V33=\"\",\"\",VLOOKUP(V33,ตั้งค่า!$AD$7:$AE$10,2,FALSE))","v":""},{"$f":"IF(X33=\"\",\"\",VLOOKUP(X33,ตั้งค่า!$AD$7:$AE$10,2,FALSE))","v":""},{"$f":"IF(Z33=\"\",\"\",VLOOKUP(Z33,ตั้งค่า!$AD$7:$AE$10,2,FALSE))","v":""},{"$f":"IF(AB33=\"\",\"\",VLOOKUP(AB33,ตั้งค่า!$AD$7:$AE$10,2,FALSE))","v":""},{"$f":"IF(AD33=\"\",\"\",VLOOKUP(AD33,ตั้งค่า!$AD$7:$AE$10,2,FALSE))","v":""},{"$f":"IF(AF33=\"\",\"\",VLOOKUP(AF33,ตั้งค่า!$AD$7:$AE$10,2,FALSE))","v":""},{"$f":"IF(AH33=\"\",\"\",VLOOKUP(AH33,ตั้งค่า!$AD$7:$AE$10,2,FALSE))","v":""},{"$f":"IF(AJ33=\"\",\"\",VLOOKUP(AJ33,ตั้งค่า!$AD$7:$AE$10,2,FALSE))","v":""},"",{"$f":"IF(E33=\"\",\"\",VLOOKUP(E33,ตั้งค่า!$AD$7:$AE$10,2,FALSE))","v":""},{"$f":"IF(G33=\"\",\"\",VLOOKUP(G33,ตั้งค่า!$AD$7:$AE$10,2,FALSE))","v":""},{"$f":"IF(I33=\"\",\"\",VLOOKUP(I33,ตั้งค่า!$AD$7:$AE$10,2,FALSE))","v":""},{"$f":"IF(K33=\"\",\"\",VLOOKUP(K33,ตั้งค่า!$AD$7:$AE$10,2,FALSE))","v":""},{"$f":"IF(M33=\"\",\"\",VLOOKUP(M33,ตั้งค่า!$AD$7:$AE$10,2,FALSE))","v":""},{"$f":"IF(O33=\"\",\"\",VLOOKUP(O33,ตั้งค่า!$AD$7:$AE$10,2,FALSE))","v":""},{"$f":"IF(Q33=\"\",\"\",VLOOKUP(Q33,ตั้งค่า!$AD$7:$AE$10,2,FALSE))","v":""},{"$f":"IF(S33=\"\",\"\",VLOOKUP(S33,ตั้งค่า!$AD$7:$AE$10,2,FALSE))","v":""},{"$f":"IF(U33=\"\",\"\",VLOOKUP(U33,ตั้งค่า!$AD$7:$AE$10,2,FALSE))","v":""},{"$f":"IF(W33=\"\",\"\",VLOOKUP(W33,ตั้งค่า!$AD$7:$AE$10,2,FALSE))","v":""},{"$f":"IF(Y33=\"\",\"\",VLOOKUP(Y33,ตั้งค่า!$AD$7:$AE$10,2,FALSE))","v":""},{"$f":"IF(AA33=\"\",\"\",VLOOKUP(AA33,ตั้งค่า!$AD$7:$AE$10,2,FALSE))","v":""},{"$f":"IF(AC33=\"\",\"\",VLOOKUP(AC33,ตั้งค่า!$AD$7:$AE$10,2,FALSE))","v":""},{"$f":"IF(AE33=\"\",\"\",VLOOKUP(AE33,ตั้งค่า!$AD$7:$AE$10,2,FALSE))","v":""},{"$f":"IF(AG33=\"\",\"\",VLOOKUP(AG33,ตั้งค่า!$AD$7:$AE$10,2,FALSE))","v":""},{"$f":"IF(AI33=\"\",\"\",VLOOKUP(AI33,ตั้งค่า!$AD$7:$AE$10,2,FALSE))","v":""},{"$f":"IF(AK33=\"\",\"\",VLOOKUP(AK33,ตั้งค่า!$AD$7:$AE$10,2,FALSE))","v":""},""]
[{"$f":"IF(คีย์คะแนน!A34=\"\",\"\",คีย์คะแนน!A34)","v":0},{"$f":"IF(คีย์คะแนน!B34=\"\",\"\",คีย์คะแนน!B34)","v":0},{"$f":"IF(คีย์คะแนน!C34=\"\",\"\",คีย์คะแนน!C34)","v":""},null,null,null,null,null,null,null,null,null,null,null,null,null,null,null,null,null,null,null,null,null,null,null,null,null,null,null,null,null,null,null,null,null,null,"","","","",{"$f":"รายชื่อนักเรียน!F32","v":0},{"$f":"IF(D34=\"\",\"\",VLOOKUP(D34,ตั้งค่า!$AD$7:$AE$10,2,FALSE))","v":""},{"$f":"IF(F34=\"\",\"\",VLOOKUP(F34,ตั้งค่า!$AD$7:$AE$10,2,FALSE))","v":""},{"$f":"IF(H34=\"\",\"\",VLOOKUP(H34,ตั้งค่า!$AD$7:$AE$10,2,FALSE))","v":""},{"$f":"IF(J34=\"\",\"\",VLOOKUP(J34,ตั้งค่า!$AD$7:$AE$10,2,FALSE))","v":""},{"$f":"IF(L34=\"\",\"\",VLOOKUP(L34,ตั้งค่า!$AD$7:$AE$10,2,FALSE))","v":""},{"$f":"IF(N34=\"\",\"\",VLOOKUP(N34,ตั้งค่า!$AD$7:$AE$10,2,FALSE))","v":""},{"$f":"IF(P34=\"\",\"\",VLOOKUP(P34,ตั้งค่า!$AD$7:$AE$10,2,FALSE))","v":""},{"$f":"IF(R34=\"\",\"\",VLOOKUP(R34,ตั้งค่า!$AD$7:$AE$10,2,FALSE))","v":""},{"$f":"IF(T34=\"\",\"\",VLOOKUP(T34,ตั้งค่า!$AD$7:$AE$10,2,FALSE))","v":""},{"$f":"IF(V34=\"\",\"\",VLOOKUP(V34,ตั้งค่า!$AD$7:$AE$10,2,FALSE))","v":""},{"$f":"IF(X34=\"\",\"\",VLOOKUP(X34,ตั้งค่า!$AD$7:$AE$10,2,FALSE))","v":""},{"$f":"IF(Z34=\"\",\"\",VLOOKUP(Z34,ตั้งค่า!$AD$7:$AE$10,2,FALSE))","v":""},{"$f":"IF(AB34=\"\",\"\",VLOOKUP(AB34,ตั้งค่า!$AD$7:$AE$10,2,FALSE))","v":""},{"$f":"IF(AD34=\"\",\"\",VLOOKUP(AD34,ตั้งค่า!$AD$7:$AE$10,2,FALSE))","v":""},{"$f":"IF(AF34=\"\",\"\",VLOOKUP(AF34,ตั้งค่า!$AD$7:$AE$10,2,FALSE))","v":""},{"$f":"IF(AH34=\"\",\"\",VLOOKUP(AH34,ตั้งค่า!$AD$7:$AE$10,2,FALSE))","v":""},{"$f":"IF(AJ34=\"\",\"\",VLOOKUP(AJ34,ตั้งค่า!$AD$7:$AE$10,2,FALSE))","v":""},"",{"$f":"IF(E34=\"\",\"\",VLOOKUP(E34,ตั้งค่า!$AD$7:$AE$10,2,FALSE))","v":""},{"$f":"IF(G34=\"\",\"\",VLOOKUP(G34,ตั้งค่า!$AD$7:$AE$10,2,FALSE))","v":""},{"$f":"IF(I34=\"\",\"\",VLOOKUP(I34,ตั้งค่า!$AD$7:$AE$10,2,FALSE))","v":""},{"$f":"IF(K34=\"\",\"\",VLOOKUP(K34,ตั้งค่า!$AD$7:$AE$10,2,FALSE))","v":""},{"$f":"IF(M34=\"\",\"\",VLOOKUP(M34,ตั้งค่า!$AD$7:$AE$10,2,FALSE))","v":""},{"$f":"IF(O34=\"\",\"\",VLOOKUP(O34,ตั้งค่า!$AD$7:$AE$10,2,FALSE))","v":""},{"$f":"IF(Q34=\"\",\"\",VLOOKUP(Q34,ตั้งค่า!$AD$7:$AE$10,2,FALSE))","v":""},{"$f":"IF(S34=\"\",\"\",VLOOKUP(S34,ตั้งค่า!$AD$7:$AE$10,2,FALSE))","v":""},{"$f":"IF(U34=\"\",\"\",VLOOKUP(U34,ตั้งค่า!$AD$7:$AE$10,2,FALSE))","v":""},{"$f":"IF(W34=\"\",\"\",VLOOKUP(W34,ตั้งค่า!$AD$7:$AE$10,2,FALSE))","v":""},{"$f":"IF(Y34=\"\",\"\",VLOOKUP(Y34,ตั้งค่า!$AD$7:$AE$10,2,FALSE))","v":""},{"$f":"IF(AA34=\"\",\"\",VLOOKUP(AA34,ตั้งค่า!$AD$7:$AE$10,2,FALSE))","v":""},{"$f":"IF(AC34=\"\",\"\",VLOOKUP(AC34,ตั้งค่า!$AD$7:$AE$10,2,FALSE))","v":""},{"$f":"IF(AE34=\"\",\"\",VLOOKUP(AE34,ตั้งค่า!$AD$7:$AE$10,2,FALSE))","v":""},{"$f":"IF(AG34=\"\",\"\",VLOOKUP(AG34,ตั้งค่า!$AD$7:$AE$10,2,FALSE))","v":""},{"$f":"IF(AI34=\"\",\"\",VLOOKUP(AI34,ตั้งค่า!$AD$7:$AE$10,2,FALSE))","v":""},{"$f":"IF(AK34=\"\",\"\",VLOOKUP(AK34,ตั้งค่า!$AD$7:$AE$10,2,FALSE))","v":""},""]
[{"$f":"IF(คีย์คะแนน!A35=\"\",\"\",คีย์คะแนน!A35)","v":0},{"$f":"IF(คีย์คะแนน!B35=\"\",\"\",คีย์คะแนน!B35)","v":0},{"$f":"IF(คีย์คะแนน!C35=\"\",\"\",คีย์คะแนน!C35)","v":""},null,null,null,null,null,null,null,null,null,null,null,null,null,null,null,null,null,null,null,null,null,null,null,null,null,null,null,null,null,null,null,null,null,null,"","","","",{"$f":"รายชื่อนักเรียน!F33","v":0},{"$f":"IF(D35=\"\",\"\",VLOOKUP(D35,ตั้งค่า!$AD$7:$AE$10,2,FALSE))","v":""},{"$f":"IF(F35=\"\",\"\",VLOOKUP(F35,ตั้งค่า!$AD$7:$AE$10,2,FALSE))","v":""},{"$f":"IF(H35=\"\",\"\",VLOOKUP(H35,ตั้งค่า!$AD$7:$AE$10,2,FALSE))","v":""},{"$f":"IF(J35=\"\",\"\",VLOOKUP(J35,ตั้งค่า!$AD$7:$AE$10,2,FALSE))","v":""},{"$f":"IF(L35=\"\",\"\",VLOOKUP(L35,ตั้งค่า!$AD$7:$AE$10,2,FALSE))","v":""},{"$f":"IF(N35=\"\",\"\",VLOOKUP(N35,ตั้งค่า!$AD$7:$AE$10,2,FALSE))","v":""},{"$f":"IF(P35=\"\",\"\",VLOOKUP(P35,ตั้งค่า!$AD$7:$AE$10,2,FALSE))","v":""},{"$f":"IF(R35=\"\",\"\",VLOOKUP(R35,ตั้งค่า!$AD$7:$AE$10,2,FALSE))","v":""},{"$f":"IF(T35=\"\",\"\",VLOOKUP(T35,ตั้งค่า!$AD$7:$AE$10,2,FALSE))","v":""},{"$f":"IF(V35=\"\",\"\",VLOOKUP(V35,ตั้งค่า!$AD$7:$AE$10,2,FALSE))","v":""},{"$f":"IF(X35=\"\",\"\",VLOOKUP(X35,ตั้งค่า!$AD$7:$AE$10,2,FALSE))","v":""},{"$f":"IF(Z35=\"\",\"\",VLOOKUP(Z35,ตั้งค่า!$AD$7:$AE$10,2,FALSE))","v":""},{"$f":"IF(AB35=\"\",\"\",VLOOKUP(AB35,ตั้งค่า!$AD$7:$AE$10,2,FALSE))","v":""},{"$f":"IF(AD35=\"\",\"\",VLOOKUP(AD35,ตั้งค่า!$AD$7:$AE$10,2,FALSE))","v":""},{"$f":"IF(AF35=\"\",\"\",VLOOKUP(AF35,ตั้งค่า!$AD$7:$AE$10,2,FALSE))","v":""},{"$f":"IF(AH35=\"\",\"\",VLOOKUP(AH35,ตั้งค่า!$AD$7:$AE$10,2,FALSE))","v":""},{"$f":"IF(AJ35=\"\",\"\",VLOOKUP(AJ35,ตั้งค่า!$AD$7:$AE$10,2,FALSE))","v":""},"",{"$f":"IF(E35=\"\",\"\",VLOOKUP(E35,ตั้งค่า!$AD$7:$AE$10,2,FALSE))","v":""},{"$f":"IF(G35=\"\",\"\",VLOOKUP(G35,ตั้งค่า!$AD$7:$AE$10,2,FALSE))","v":""},{"$f":"IF(I35=\"\",\"\",VLOOKUP(I35,ตั้งค่า!$AD$7:$AE$10,2,FALSE))","v":""},{"$f":"IF(K35=\"\",\"\",VLOOKUP(K35,ตั้งค่า!$AD$7:$AE$10,2,FALSE))","v":""},{"$f":"IF(M35=\"\",\"\",VLOOKUP(M35,ตั้งค่า!$AD$7:$AE$10,2,FALSE))","v":""},{"$f":"IF(O35=\"\",\"\",VLOOKUP(O35,ตั้งค่า!$AD$7:$AE$10,2,FALSE))","v":""},{"$f":"IF(Q35=\"\",\"\",VLOOKUP(Q35,ตั้งค่า!$AD$7:$AE$10,2,FALSE))","v":""},{"$f":"IF(S35=\"\",\"\",VLOOKUP(S35,ตั้งค่า!$AD$7:$AE$10,2,FALSE))","v":""},{"$f":"IF(U35=\"\",\"\",VLOOKUP(U35,ตั้งค่า!$AD$7:$AE$10,2,FALSE))","v":""},{"$f":"IF(W35=\"\",\"\",VLOOKUP(W35,ตั้งค่า!$AD$7:$AE$10,2,FALSE))","v":""},{"$f":"IF(Y35=\"\",\"\",VLOOKUP(Y35,ตั้งค่า!$AD$7:$AE$10,2,FALSE))","v":""},{"$f":"IF(AA35=\"\",\"\",VLOOKUP(AA35,ตั้งค่า!$AD$7:$AE$10,2,FALSE))","v":""},{"$f":"IF(AC35=\"\",\"\",VLOOKUP(AC35,ตั้งค่า!$AD$7:$AE$10,2,FALSE))","v":""},{"$f":"IF(AE35=\"\",\"\",VLOOKUP(AE35,ตั้งค่า!$AD$7:$AE$10,2,FALSE))","v":""},{"$f":"IF(AG35=\"\",\"\",VLOOKUP(AG35,ตั้งค่า!$AD$7:$AE$10,2,FALSE))","v":""},{"$f":"IF(AI35=\"\",\"\",VLOOKUP(AI35,ตั้งค่า!$AD$7:$AE$10,2,FALSE))","v":""},{"$f":"IF(AK35=\"\",\"\",VLOOKUP(AK35,ตั้งค่า!$AD$7:$AE$10,2,FALSE))","v":""},""]
[{"$f":"IF(คีย์คะแนน!A36=\"\",\"\",คีย์คะแนน!A36)","v":0},{"$f":"IF(คีย์คะแนน!B36=\"\",\"\",คีย์คะแนน!B36)","v":0},{"$f":"IF(คีย์คะแนน!C36=\"\",\"\",คีย์คะแนน!C36)","v":""},null,null,null,null,null,null,null,null,null,null,null,null,null,null,null,null,null,null,null,null,null,null,null,null,null,null,null,null,null,null,null,null,null,null,"","","","",{"$f":"รายชื่อนักเรียน!F34","v":0},{"$f":"IF(D36=\"\",\"\",VLOOKUP(D36,ตั้งค่า!$AD$7:$AE$10,2,FALSE))","v":""},{"$f":"IF(F36=\"\",\"\",VLOOKUP(F36,ตั้งค่า!$AD$7:$AE$10,2,FALSE))","v":""},{"$f":"IF(H36=\"\",\"\",VLOOKUP(H36,ตั้งค่า!$AD$7:$AE$10,2,FALSE))","v":""},{"$f":"IF(J36=\"\",\"\",VLOOKUP(J36,ตั้งค่า!$AD$7:$AE$10,2,FALSE))","v":""},{"$f":"IF(L36=\"\",\"\",VLOOKUP(L36,ตั้งค่า!$AD$7:$AE$10,2,FALSE))","v":""},{"$f":"IF(N36=\"\",\"\",VLOOKUP(N36,ตั้งค่า!$AD$7:$AE$10,2,FALSE))","v":""},{"$f":"IF(P36=\"\",\"\",VLOOKUP(P36,ตั้งค่า!$AD$7:$AE$10,2,FALSE))","v":""},{"$f":"IF(R36=\"\",\"\",VLOOKUP(R36,ตั้งค่า!$AD$7:$AE$10,2,FALSE))","v":""},{"$f":"IF(T36=\"\",\"\",VLOOKUP(T36,ตั้งค่า!$AD$7:$AE$10,2,FALSE))","v":""},{"$f":"IF(V36=\"\",\"\",VLOOKUP(V36,ตั้งค่า!$AD$7:$AE$10,2,FALSE))","v":""},{"$f":"IF(X36=\"\",\"\",VLOOKUP(X36,ตั้งค่า!$AD$7:$AE$10,2,FALSE))","v":""},{"$f":"IF(Z36=\"\",\"\",VLOOKUP(Z36,ตั้งค่า!$AD$7:$AE$10,2,FALSE))","v":""},{"$f":"IF(AB36=\"\",\"\",VLOOKUP(AB36,ตั้งค่า!$AD$7:$AE$10,2,FALSE))","v":""},{"$f":"IF(AD36=\"\",\"\",VLOOKUP(AD36,ตั้งค่า!$AD$7:$AE$10,2,FALSE))","v":""},{"$f":"IF(AF36=\"\",\"\",VLOOKUP(AF36,ตั้งค่า!$AD$7:$AE$10,2,FALSE))","v":""},{"$f":"IF(AH36=\"\",\"\",VLOOKUP(AH36,ตั้งค่า!$AD$7:$AE$10,2,FALSE))","v":""},{"$f":"IF(AJ36=\"\",\"\",VLOOKUP(AJ36,ตั้งค่า!$AD$7:$AE$10,2,FALSE))","v":""},"",{"$f":"IF(E36=\"\",\"\",VLOOKUP(E36,ตั้งค่า!$AD$7:$AE$10,2,FALSE))","v":""},{"$f":"IF(G36=\"\",\"\",VLOOKUP(G36,ตั้งค่า!$AD$7:$AE$10,2,FALSE))","v":""},{"$f":"IF(I36=\"\",\"\",VLOOKUP(I36,ตั้งค่า!$AD$7:$AE$10,2,FALSE))","v":""},{"$f":"IF(K36=\"\",\"\",VLOOKUP(K36,ตั้งค่า!$AD$7:$AE$10,2,FALSE))","v":""},{"$f":"IF(M36=\"\",\"\",VLOOKUP(M36,ตั้งค่า!$AD$7:$AE$10,2,FALSE))","v":""},{"$f":"IF(O36=\"\",\"\",VLOOKUP(O36,ตั้งค่า!$AD$7:$AE$10,2,FALSE))","v":""},{"$f":"IF(Q36=\"\",\"\",VLOOKUP(Q36,ตั้งค่า!$AD$7:$AE$10,2,FALSE))","v":""},{"$f":"IF(S36=\"\",\"\",VLOOKUP(S36,ตั้งค่า!$AD$7:$AE$10,2,FALSE))","v":""},{"$f":"IF(U36=\"\",\"\",VLOOKUP(U36,ตั้งค่า!$AD$7:$AE$10,2,FALSE))","v":""},{"$f":"IF(W36=\"\",\"\",VLOOKUP(W36,ตั้งค่า!$AD$7:$AE$10,2,FALSE))","v":""},{"$f":"IF(Y36=\"\",\"\",VLOOKUP(Y36,ตั้งค่า!$AD$7:$AE$10,2,FALSE))","v":""},{"$f":"IF(AA36=\"\",\"\",VLOOKUP(AA36,ตั้งค่า!$AD$7:$AE$10,2,FALSE))","v":""},{"$f":"IF(AC36=\"\",\"\",VLOOKUP(AC36,ตั้งค่า!$AD$7:$AE$10,2,FALSE))","v":""},{"$f":"IF(AE36=\"\",\"\",VLOOKUP(AE36,ตั้งค่า!$AD$7:$AE$10,2,FALSE))","v":""},{"$f":"IF(AG36=\"\",\"\",VLOOKUP(AG36,ตั้งค่า!$AD$7:$AE$10,2,FALSE))","v":""},{"$f":"IF(AI36=\"\",\"\",VLOOKUP(AI36,ตั้งค่า!$AD$7:$AE$10,2,FALSE))","v":""},{"$f":"IF(AK36=\"\",\"\",VLOOKUP(AK36,ตั้งค่า!$AD$7:$AE$10,2,FALSE))","v":""},""]
[{"$f":"IF(คีย์คะแนน!A37=\"\",\"\",คีย์คะแนน!A37)","v":0},{"$f":"IF(คีย์คะแนน!B37=\"\",\"\",คีย์คะแนน!B37)","v":0},{"$f":"IF(คีย์คะแนน!C37=\"\",\"\",คีย์คะแนน!C37)","v":""},null,null,null,null,null,null,null,null,null,null,null,null,null,null,null,null,null,null,null,null,null,null,null,null,null,null,null,null,null,null,null,null,null,null,"","","","",{"$f":"รายชื่อนักเรียน!F35","v":0},{"$f":"IF(D37=\"\",\"\",VLOOKUP(D37,ตั้งค่า!$AD$7:$AE$10,2,FALSE))","v":""},{"$f":"IF(F37=\"\",\"\",VLOOKUP(F37,ตั้งค่า!$AD$7:$AE$10,2,FALSE))","v":""},{"$f":"IF(H37=\"\",\"\",VLOOKUP(H37,ตั้งค่า!$AD$7:$AE$10,2,FALSE))","v":""},{"$f":"IF(J37=\"\",\"\",VLOOKUP(J37,ตั้งค่า!$AD$7:$AE$10,2,FALSE))","v":""},{"$f":"IF(L37=\"\",\"\",VLOOKUP(L37,ตั้งค่า!$AD$7:$AE$10,2,FALSE))","v":""},{"$f":"IF(N37=\"\",\"\",VLOOKUP(N37,ตั้งค่า!$AD$7:$AE$10,2,FALSE))","v":""},{"$f":"IF(P37=\"\",\"\",VLOOKUP(P37,ตั้งค่า!$AD$7:$AE$10,2,FALSE))","v":""},{"$f":"IF(R37=\"\",\"\",VLOOKUP(R37,ตั้งค่า!$AD$7:$AE$10,2,FALSE))","v":""},{"$f":"IF(T37=\"\",\"\",VLOOKUP(T37,ตั้งค่า!$AD$7:$AE$10,2,FALSE))","v":""},{"$f":"IF(V37=\"\",\"\",VLOOKUP(V37,ตั้งค่า!$AD$7:$AE$10,2,FALSE))","v":""},{"$f":"IF(X37=\"\",\"\",VLOOKUP(X37,ตั้งค่า!$AD$7:$AE$10,2,FALSE))","v":""},{"$f":"IF(Z37=\"\",\"\",VLOOKUP(Z37,ตั้งค่า!$AD$7:$AE$10,2,FALSE))","v":""},{"$f":"IF(AB37=\"\",\"\",VLOOKUP(AB37,ตั้งค่า!$AD$7:$AE$10,2,FALSE))","v":""},{"$f":"IF(AD37=\"\",\"\",VLOOKUP(AD37,ตั้งค่า!$AD$7:$AE$10,2,FALSE))","v":""},{"$f":"IF(AF37=\"\",\"\",VLOOKUP(AF37,ตั้งค่า!$AD$7:$AE$10,2,FALSE))","v":""},{"$f":"IF(AH37=\"\",\"\",VLOOKUP(AH37,ตั้งค่า!$AD$7:$AE$10,2,FALSE))","v":""},{"$f":"IF(AJ37=\"\",\"\",VLOOKUP(AJ37,ตั้งค่า!$AD$7:$AE$10,2,FALSE))","v":""},"",{"$f":"IF(E37=\"\",\"\",VLOOKUP(E37,ตั้งค่า!$AD$7:$AE$10,2,FALSE))","v":""},{"$f":"IF(G37=\"\",\"\",VLOOKUP(G37,ตั้งค่า!$AD$7:$AE$10,2,FALSE))","v":""},{"$f":"IF(I37=\"\",\"\",VLOOKUP(I37,ตั้งค่า!$AD$7:$AE$10,2,FALSE))","v":""},{"$f":"IF(K37=\"\",\"\",VLOOKUP(K37,ตั้งค่า!$AD$7:$AE$10,2,FALSE))","v":""},{"$f":"IF(M37=\"\",\"\",VLOOKUP(M37,ตั้งค่า!$AD$7:$AE$10,2,FALSE))","v":""},{"$f":"IF(O37=\"\",\"\",VLOOKUP(O37,ตั้งค่า!$AD$7:$AE$10,2,FALSE))","v":""},{"$f":"IF(Q37=\"\",\"\",VLOOKUP(Q37,ตั้งค่า!$AD$7:$AE$10,2,FALSE))","v":""},{"$f":"IF(S37=\"\",\"\",VLOOKUP(S37,ตั้งค่า!$AD$7:$AE$10,2,FALSE))","v":""},{"$f":"IF(U37=\"\",\"\",VLOOKUP(U37,ตั้งค่า!$AD$7:$AE$10,2,FALSE))","v":""},{"$f":"IF(W37=\"\",\"\",VLOOKUP(W37,ตั้งค่า!$AD$7:$AE$10,2,FALSE))","v":""},{"$f":"IF(Y37=\"\",\"\",VLOOKUP(Y37,ตั้งค่า!$AD$7:$AE$10,2,FALSE))","v":""},{"$f":"IF(AA37=\"\",\"\",VLOOKUP(AA37,ตั้งค่า!$AD$7:$AE$10,2,FALSE))","v":""},{"$f":"IF(AC37=\"\",\"\",VLOOKUP(AC37,ตั้งค่า!$AD$7:$AE$10,2,FALSE))","v":""},{"$f":"IF(AE37=\"\",\"\",VLOOKUP(AE37,ตั้งค่า!$AD$7:$AE$10,2,FALSE))","v":""},{"$f":"IF(AG37=\"\",\"\",VLOOKUP(AG37,ตั้งค่า!$AD$7:$AE$10,2,FALSE))","v":""},{"$f":"IF(AI37=\"\",\"\",VLOOKUP(AI37,ตั้งค่า!$AD$7:$AE$10,2,FALSE))","v":""},{"$f":"IF(AK37=\"\",\"\",VLOOKUP(AK37,ตั้งค่า!$AD$7:$AE$10,2,FALSE))","v":""},""]
[{"$f":"IF(คีย์คะแนน!A38=\"\",\"\",คีย์คะแนน!A38)","v":0},{"$f":"IF(คีย์คะแนน!B38=\"\",\"\",คีย์คะแนน!B38)","v":0},{"$f":"IF(คีย์คะแนน!C38=\"\",\"\",คีย์คะแนน!C38)","v":""},null,null,null,null,null,null,null,null,null,null,null,null,null,null,null,null,null,null,null,null,null,null,null,null,null,null,null,null,null,null,null,null,null,null,"","","","",{"$f":"รายชื่อนักเรียน!F36","v":0},{"$f":"IF(D38=\"\",\"\",VLOOKUP(D38,ตั้งค่า!$AD$7:$AE$10,2,FALSE))","v":""},{"$f":"IF(F38=\"\",\"\",VLOOKUP(F38,ตั้งค่า!$AD$7:$AE$10,2,FALSE))","v":""},{"$f":"IF(H38=\"\",\"\",VLOOKUP(H38,ตั้งค่า!$AD$7:$AE$10,2,FALSE))","v":""},{"$f":"IF(J38=\"\",\"\",VLOOKUP(J38,ตั้งค่า!$AD$7:$AE$10,2,FALSE))","v":""},{"$f":"IF(L38=\"\",\"\",VLOOKUP(L38,ตั้งค่า!$AD$7:$AE$10,2,FALSE))","v":""},{"$f":"IF(N38=\"\",\"\",VLOOKUP(N38,ตั้งค่า!$AD$7:$AE$10,2,FALSE))","v":""},{"$f":"IF(P38=\"\",\"\",VLOOKUP(P38,ตั้งค่า!$AD$7:$AE$10,2,FALSE))","v":""},{"$f":"IF(R38=\"\",\"\",VLOOKUP(R38,ตั้งค่า!$AD$7:$AE$10,2,FALSE))","v":""},{"$f":"IF(T38=\"\",\"\",VLOOKUP(T38,ตั้งค่า!$AD$7:$AE$10,2,FALSE))","v":""},{"$f":"IF(V38=\"\",\"\",VLOOKUP(V38,ตั้งค่า!$AD$7:$AE$10,2,FALSE))","v":""},{"$f":"IF(X38=\"\",\"\",VLOOKUP(X38,ตั้งค่า!$AD$7:$AE$10,2,FALSE))","v":""},{"$f":"IF(Z38=\"\",\"\",VLOOKUP(Z38,ตั้งค่า!$AD$7:$AE$10,2,FALSE))","v":""},{"$f":"IF(AB38=\"\",\"\",VLOOKUP(AB38,ตั้งค่า!$AD$7:$AE$10,2,FALSE))","v":""},{"$f":"IF(AD38=\"\",\"\",VLOOKUP(AD38,ตั้งค่า!$AD$7:$AE$10,2,FALSE))","v":""},{"$f":"IF(AF38=\"\",\"\",VLOOKUP(AF38,ตั้งค่า!$AD$7:$AE$10,2,FALSE))","v":""},{"$f":"IF(AH38=\"\",\"\",VLOOKUP(AH38,ตั้งค่า!$AD$7:$AE$10,2,FALSE))","v":""},{"$f":"IF(AJ38=\"\",\"\",VLOOKUP(AJ38,ตั้งค่า!$AD$7:$AE$10,2,FALSE))","v":""},"",{"$f":"IF(E38=\"\",\"\",VLOOKUP(E38,ตั้งค่า!$AD$7:$AE$10,2,FALSE))","v":""},{"$f":"IF(G38=\"\",\"\",VLOOKUP(G38,ตั้งค่า!$AD$7:$AE$10,2,FALSE))","v":""},{"$f":"IF(I38=\"\",\"\",VLOOKUP(I38,ตั้งค่า!$AD$7:$AE$10,2,FALSE))","v":""},{"$f":"IF(K38=\"\",\"\",VLOOKUP(K38,ตั้งค่า!$AD$7:$AE$10,2,FALSE))","v":""},{"$f":"IF(M38=\"\",\"\",VLOOKUP(M38,ตั้งค่า!$AD$7:$AE$10,2,FALSE))","v":""},{"$f":"IF(O38=\"\",\"\",VLOOKUP(O38,ตั้งค่า!$AD$7:$AE$10,2,FALSE))","v":""},{"$f":"IF(Q38=\"\",\"\",VLOOKUP(Q38,ตั้งค่า!$AD$7:$AE$10,2,FALSE))","v":""},{"$f":"IF(S38=\"\",\"\",VLOOKUP(S38,ตั้งค่า!$AD$7:$AE$10,2,FALSE))","v":""},{"$f":"IF(U38=\"\",\"\",VLOOKUP(U38,ตั้งค่า!$AD$7:$AE$10,2,FALSE))","v":""},{"$f":"IF(W38=\"\",\"\",VLOOKUP(W38,ตั้งค่า!$AD$7:$AE$10,2,FALSE))","v":""},{"$f":"IF(Y38=\"\",\"\",VLOOKUP(Y38,ตั้งค่า!$AD$7:$AE$10,2,FALSE))","v":""},{"$f":"IF(AA38=\"\",\"\",VLOOKUP(AA38,ตั้งค่า!$AD$7:$AE$10,2,FALSE))","v":""},{"$f":"IF(AC38=\"\",\"\",VLOOKUP(AC38,ตั้งค่า!$AD$7:$AE$10,2,FALSE))","v":""},{"$f":"IF(AE38=\"\",\"\",VLOOKUP(AE38,ตั้งค่า!$AD$7:$AE$10,2,FALSE))","v":""},{"$f":"IF(AG38=\"\",\"\",VLOOKUP(AG38,ตั้งค่า!$AD$7:$AE$10,2,FALSE))","v":""},{"$f":"IF(AI38=\"\",\"\",VLOOKUP(AI38,ตั้งค่า!$AD$7:$AE$10,2,FALSE))","v":""},{"$f":"IF(AK38=\"\",\"\",VLOOKUP(AK38,ตั้งค่า!$AD$7:$AE$10,2,FALSE))","v":""},""]
[{"$f":"IF(คีย์คะแนน!A39=\"\",\"\",คีย์คะแนน!A39)","v":0},{"$f":"IF(คีย์คะแนน!B39=\"\",\"\",คีย์คะแนน!B39)","v":0},{"$f":"IF(คีย์คะแนน!C39=\"\",\"\",คีย์คะแนน!C39)","v":""},null,null,null,null,null,null,null,null,null,null,null,null,null,null,null,null,null,null,null,null,null,null,null,null,null,null,null,null,null,null,null,null,null,null,"","","","",{"$f":"รายชื่อนักเรียน!F37","v":0},{"$f":"IF(D39=\"\",\"\",VLOOKUP(D39,ตั้งค่า!$AD$7:$AE$10,2,FALSE))","v":""},{"$f":"IF(F39=\"\",\"\",VLOOKUP(F39,ตั้งค่า!$AD$7:$AE$10,2,FALSE))","v":""},{"$f":"IF(H39=\"\",\"\",VLOOKUP(H39,ตั้งค่า!$AD$7:$AE$10,2,FALSE))","v":""},{"$f":"IF(J39=\"\",\"\",VLOOKUP(J39,ตั้งค่า!$AD$7:$AE$10,2,FALSE))","v":""},{"$f":"IF(L39=\"\",\"\",VLOOKUP(L39,ตั้งค่า!$AD$7:$AE$10,2,FALSE))","v":""},{"$f":"IF(N39=\"\",\"\",VLOOKUP(N39,ตั้งค่า!$AD$7:$AE$10,2,FALSE))","v":""},{"$f":"IF(P39=\"\",\"\",VLOOKUP(P39,ตั้งค่า!$AD$7:$AE$10,2,FALSE))","v":""},{"$f":"IF(R39=\"\",\"\",VLOOKUP(R39,ตั้งค่า!$AD$7:$AE$10,2,FALSE))","v":""},{"$f":"IF(T39=\"\",\"\",VLOOKUP(T39,ตั้งค่า!$AD$7:$AE$10,2,FALSE))","v":""},{"$f":"IF(V39=\"\",\"\",VLOOKUP(V39,ตั้งค่า!$AD$7:$AE$10,2,FALSE))","v":""},{"$f":"IF(X39=\"\",\"\",VLOOKUP(X39,ตั้งค่า!$AD$7:$AE$10,2,FALSE))","v":""},{"$f":"IF(Z39=\"\",\"\",VLOOKUP(Z39,ตั้งค่า!$AD$7:$AE$10,2,FALSE))","v":""},{"$f":"IF(AB39=\"\",\"\",VLOOKUP(AB39,ตั้งค่า!$AD$7:$AE$10,2,FALSE))","v":""},{"$f":"IF(AD39=\"\",\"\",VLOOKUP(AD39,ตั้งค่า!$AD$7:$AE$10,2,FALSE))","v":""},{"$f":"IF(AF39=\"\",\"\",VLOOKUP(AF39,ตั้งค่า!$AD$7:$AE$10,2,FALSE))","v":""},{"$f":"IF(AH39=\"\",\"\",VLOOKUP(AH39,ตั้งค่า!$AD$7:$AE$10,2,FALSE))","v":""},{"$f":"IF(AJ39=\"\",\"\",VLOOKUP(AJ39,ตั้งค่า!$AD$7:$AE$10,2,FALSE))","v":""},"",{"$f":"IF(E39=\"\",\"\",VLOOKUP(E39,ตั้งค่า!$AD$7:$AE$10,2,FALSE))","v":""},{"$f":"IF(G39=\"\",\"\",VLOOKUP(G39,ตั้งค่า!$AD$7:$AE$10,2,FALSE))","v":""},{"$f":"IF(I39=\"\",\"\",VLOOKUP(I39,ตั้งค่า!$AD$7:$AE$10,2,FALSE))","v":""},{"$f":"IF(K39=\"\",\"\",VLOOKUP(K39,ตั้งค่า!$AD$7:$AE$10,2,FALSE))","v":""},{"$f":"IF(M39=\"\",\"\",VLOOKUP(M39,ตั้งค่า!$AD$7:$AE$10,2,FALSE))","v":""},{"$f":"IF(O39=\"\",\"\",VLOOKUP(O39,ตั้งค่า!$AD$7:$AE$10,2,FALSE))","v":""},{"$f":"IF(Q39=\"\",\"\",VLOOKUP(Q39,ตั้งค่า!$AD$7:$AE$10,2,FALSE))","v":""},{"$f":"IF(S39=\"\",\"\",VLOOKUP(S39,ตั้งค่า!$AD$7:$AE$10,2,FALSE))","v":""},{"$f":"IF(U39=\"\",\"\",VLOOKUP(U39,ตั้งค่า!$AD$7:$AE$10,2,FALSE))","v":""},{"$f":"IF(W39=\"\",\"\",VLOOKUP(W39,ตั้งค่า!$AD$7:$AE$10,2,FALSE))","v":""},{"$f":"IF(Y39=\"\",\"\",VLOOKUP(Y39,ตั้งค่า!$AD$7:$AE$10,2,FALSE))","v":""},{"$f":"IF(AA39=\"\",\"\",VLOOKUP(AA39,ตั้งค่า!$AD$7:$AE$10,2,FALSE))","v":""},{"$f":"IF(AC39=\"\",\"\",VLOOKUP(AC39,ตั้งค่า!$AD$7:$AE$10,2,FALSE))","v":""},{"$f":"IF(AE39=\"\",\"\",VLOOKUP(AE39,ตั้งค่า!$AD$7:$AE$10,2,FALSE))","v":""},{"$f":"IF(AG39=\"\",\"\",VLOOKUP(AG39,ตั้งค่า!$AD$7:$AE$10,2,FALSE))","v":""},{"$f":"IF(AI39=\"\",\"\",VLOOKUP(AI39,ตั้งค่า!$AD$7:$AE$10,2,FALSE))","v":""},{"$f":"IF(AK39=\"\",\"\",VLOOKUP(AK39,ตั้งค่า!$AD$7:$AE$10,2,FALSE))","v":""},""]
[{"$f":"IF(คีย์คะแนน!A40=\"\",\"\",คีย์คะแนน!A40)","v":0},{"$f":"IF(คีย์คะแนน!B40=\"\",\"\",คีย์คะแนน!B40)","v":0},{"$f":"IF(คีย์คะแนน!C40=\"\",\"\",คีย์คะแนน!C40)","v":""},null,null,null,null,null,null,null,null,null,null,null,null,null,null,null,null,null,null,null,null,null,null,null,null,null,null,null,null,null,null,null,null,null,null,"","","","",{"$f":"รายชื่อนักเรียน!F38","v":0},{"$f":"IF(D40=\"\",\"\",VLOOKUP(D40,ตั้งค่า!$AD$7:$AE$10,2,FALSE))","v":""},{"$f":"IF(F40=\"\",\"\",VLOOKUP(F40,ตั้งค่า!$AD$7:$AE$10,2,FALSE))","v":""},{"$f":"IF(H40=\"\",\"\",VLOOKUP(H40,ตั้งค่า!$AD$7:$AE$10,2,FALSE))","v":""},{"$f":"IF(J40=\"\",\"\",VLOOKUP(J40,ตั้งค่า!$AD$7:$AE$10,2,FALSE))","v":""},{"$f":"IF(L40=\"\",\"\",VLOOKUP(L40,ตั้งค่า!$AD$7:$AE$10,2,FALSE))","v":""},{"$f":"IF(N40=\"\",\"\",VLOOKUP(N40,ตั้งค่า!$AD$7:$AE$10,2,FALSE))","v":""},{"$f":"IF(P40=\"\",\"\",VLOOKUP(P40,ตั้งค่า!$AD$7:$AE$10,2,FALSE))","v":""},{"$f":"IF(R40=\"\",\"\",VLOOKUP(R40,ตั้งค่า!$AD$7:$AE$10,2,FALSE))","v":""},{"$f":"IF(T40=\"\",\"\",VLOOKUP(T40,ตั้งค่า!$AD$7:$AE$10,2,FALSE))","v":""},{"$f":"IF(V40=\"\",\"\",VLOOKUP(V40,ตั้งค่า!$AD$7:$AE$10,2,FALSE))","v":""},{"$f":"IF(X40=\"\",\"\",VLOOKUP(X40,ตั้งค่า!$AD$7:$AE$10,2,FALSE))","v":""},{"$f":"IF(Z40=\"\",\"\",VLOOKUP(Z40,ตั้งค่า!$AD$7:$AE$10,2,FALSE))","v":""},{"$f":"IF(AB40=\"\",\"\",VLOOKUP(AB40,ตั้งค่า!$AD$7:$AE$10,2,FALSE))","v":""},{"$f":"IF(AD40=\"\",\"\",VLOOKUP(AD40,ตั้งค่า!$AD$7:$AE$10,2,FALSE))","v":""},{"$f":"IF(AF40=\"\",\"\",VLOOKUP(AF40,ตั้งค่า!$AD$7:$AE$10,2,FALSE))","v":""},{"$f":"IF(AH40=\"\",\"\",VLOOKUP(AH40,ตั้งค่า!$AD$7:$AE$10,2,FALSE))","v":""},{"$f":"IF(AJ40=\"\",\"\",VLOOKUP(AJ40,ตั้งค่า!$AD$7:$AE$10,2,FALSE))","v":""},"",{"$f":"IF(E40=\"\",\"\",VLOOKUP(E40,ตั้งค่า!$AD$7:$AE$10,2,FALSE))","v":""},{"$f":"IF(G40=\"\",\"\",VLOOKUP(G40,ตั้งค่า!$AD$7:$AE$10,2,FALSE))","v":""},{"$f":"IF(I40=\"\",\"\",VLOOKUP(I40,ตั้งค่า!$AD$7:$AE$10,2,FALSE))","v":""},{"$f":"IF(K40=\"\",\"\",VLOOKUP(K40,ตั้งค่า!$AD$7:$AE$10,2,FALSE))","v":""},{"$f":"IF(M40=\"\",\"\",VLOOKUP(M40,ตั้งค่า!$AD$7:$AE$10,2,FALSE))","v":""},{"$f":"IF(O40=\"\",\"\",VLOOKUP(O40,ตั้งค่า!$AD$7:$AE$10,2,FALSE))","v":""},{"$f":"IF(Q40=\"\",\"\",VLOOKUP(Q40,ตั้งค่า!$AD$7:$AE$10,2,FALSE))","v":""},{"$f":"IF(S40=\"\",\"\",VLOOKUP(S40,ตั้งค่า!$AD$7:$AE$10,2,FALSE))","v":""},{"$f":"IF(U40=\"\",\"\",VLOOKUP(U40,ตั้งค่า!$AD$7:$AE$10,2,FALSE))","v":""},{"$f":"IF(W40=\"\",\"\",VLOOKUP(W40,ตั้งค่า!$AD$7:$AE$10,2,FALSE))","v":""},{"$f":"IF(Y40=\"\",\"\",VLOOKUP(Y40,ตั้งค่า!$AD$7:$AE$10,2,FALSE))","v":""},{"$f":"IF(AA40=\"\",\"\",VLOOKUP(AA40,ตั้งค่า!$AD$7:$AE$10,2,FALSE))","v":""},{"$f":"IF(AC40=\"\",\"\",VLOOKUP(AC40,ตั้งค่า!$AD$7:$AE$10,2,FALSE))","v":""},{"$f":"IF(AE40=\"\",\"\",VLOOKUP(AE40,ตั้งค่า!$AD$7:$AE$10,2,FALSE))","v":""},{"$f":"IF(AG40=\"\",\"\",VLOOKUP(AG40,ตั้งค่า!$AD$7:$AE$10,2,FALSE))","v":""},{"$f":"IF(AI40=\"\",\"\",VLOOKUP(AI40,ตั้งค่า!$AD$7:$AE$10,2,FALSE))","v":""},{"$f":"IF(AK40=\"\",\"\",VLOOKUP(AK40,ตั้งค่า!$AD$7:$AE$10,2,FALSE))","v":""},""]
[{"$f":"IF(คีย์คะแนน!A41=\"\",\"\",คีย์คะแนน!A41)","v":0},{"$f":"IF(คีย์คะแนน!B41=\"\",\"\",คีย์คะแนน!B41)","v":0},{"$f":"IF(คีย์คะแนน!C41=\"\",\"\",คีย์คะแนน!C41)","v":""},null,null,null,null,null,null,null,null,null,null,null,null,null,null,null,null,null,null,null,null,null,null,null,null,null,null,null,null,null,null,null,null,null,null,"","","","",{"$f":"รายชื่อนักเรียน!F39","v":0},{"$f":"IF(D41=\"\",\"\",VLOOKUP(D41,ตั้งค่า!$AD$7:$AE$10,2,FALSE))","v":""},{"$f":"IF(F41=\"\",\"\",VLOOKUP(F41,ตั้งค่า!$AD$7:$AE$10,2,FALSE))","v":""},{"$f":"IF(H41=\"\",\"\",VLOOKUP(H41,ตั้งค่า!$AD$7:$AE$10,2,FALSE))","v":""},{"$f":"IF(J41=\"\",\"\",VLOOKUP(J41,ตั้งค่า!$AD$7:$AE$10,2,FALSE))","v":""},{"$f":"IF(L41=\"\",\"\",VLOOKUP(L41,ตั้งค่า!$AD$7:$AE$10,2,FALSE))","v":""},{"$f":"IF(N41=\"\",\"\",VLOOKUP(N41,ตั้งค่า!$AD$7:$AE$10,2,FALSE))","v":""},{"$f":"IF(P41=\"\",\"\",VLOOKUP(P41,ตั้งค่า!$AD$7:$AE$10,2,FALSE))","v":""},{"$f":"IF(R41=\"\",\"\",VLOOKUP(R41,ตั้งค่า!$AD$7:$AE$10,2,FALSE))","v":""},{"$f":"IF(T41=\"\",\"\",VLOOKUP(T41,ตั้งค่า!$AD$7:$AE$10,2,FALSE))","v":""},{"$f":"IF(V41=\"\",\"\",VLOOKUP(V41,ตั้งค่า!$AD$7:$AE$10,2,FALSE))","v":""},{"$f":"IF(X41=\"\",\"\",VLOOKUP(X41,ตั้งค่า!$AD$7:$AE$10,2,FALSE))","v":""},{"$f":"IF(Z41=\"\",\"\",VLOOKUP(Z41,ตั้งค่า!$AD$7:$AE$10,2,FALSE))","v":""},{"$f":"IF(AB41=\"\",\"\",VLOOKUP(AB41,ตั้งค่า!$AD$7:$AE$10,2,FALSE))","v":""},{"$f":"IF(AD41=\"\",\"\",VLOOKUP(AD41,ตั้งค่า!$AD$7:$AE$10,2,FALSE))","v":""},{"$f":"IF(AF41=\"\",\"\",VLOOKUP(AF41,ตั้งค่า!$AD$7:$AE$10,2,FALSE))","v":""},{"$f":"IF(AH41=\"\",\"\",VLOOKUP(AH41,ตั้งค่า!$AD$7:$AE$10,2,FALSE))","v":""},{"$f":"IF(AJ41=\"\",\"\",VLOOKUP(AJ41,ตั้งค่า!$AD$7:$AE$10,2,FALSE))","v":""},"",{"$f":"IF(E41=\"\",\"\",VLOOKUP(E41,ตั้งค่า!$AD$7:$AE$10,2,FALSE))","v":""},{"$f":"IF(G41=\"\",\"\",VLOOKUP(G41,ตั้งค่า!$AD$7:$AE$10,2,FALSE))","v":""},{"$f":"IF(I41=\"\",\"\",VLOOKUP(I41,ตั้งค่า!$AD$7:$AE$10,2,FALSE))","v":""},{"$f":"IF(K41=\"\",\"\",VLOOKUP(K41,ตั้งค่า!$AD$7:$AE$10,2,FALSE))","v":""},{"$f":"IF(M41=\"\",\"\",VLOOKUP(M41,ตั้งค่า!$AD$7:$AE$10,2,FALSE))","v":""},{"$f":"IF(O41=\"\",\"\",VLOOKUP(O41,ตั้งค่า!$AD$7:$AE$10,2,FALSE))","v":""},{"$f":"IF(Q41=\"\",\"\",VLOOKUP(Q41,ตั้งค่า!$AD$7:$AE$10,2,FALSE))","v":""},{"$f":"IF(S41=\"\",\"\",VLOOKUP(S41,ตั้งค่า!$AD$7:$AE$10,2,FALSE))","v":""},{"$f":"IF(U41=\"\",\"\",VLOOKUP(U41,ตั้งค่า!$AD$7:$AE$10,2,FALSE))","v":""},{"$f":"IF(W41=\"\",\"\",VLOOKUP(W41,ตั้งค่า!$AD$7:$AE$10,2,FALSE))","v":""},{"$f":"IF(Y41=\"\",\"\",VLOOKUP(Y41,ตั้งค่า!$AD$7:$AE$10,2,FALSE))","v":""},{"$f":"IF(AA41=\"\",\"\",VLOOKUP(AA41,ตั้งค่า!$AD$7:$AE$10,2,FALSE))","v":""},{"$f":"IF(AC41=\"\",\"\",VLOOKUP(AC41,ตั้งค่า!$AD$7:$AE$10,2,FALSE))","v":""},{"$f":"IF(AE41=\"\",\"\",VLOOKUP(AE41,ตั้งค่า!$AD$7:$AE$10,2,FALSE))","v":""},{"$f":"IF(AG41=\"\",\"\",VLOOKUP(AG41,ตั้งค่า!$AD$7:$AE$10,2,FALSE))","v":""},{"$f":"IF(AI41=\"\",\"\",VLOOKUP(AI41,ตั้งค่า!$AD$7:$AE$10,2,FALSE))","v":""},{"$f":"IF(AK41=\"\",\"\",VLOOKUP(AK41,ตั้งค่า!$AD$7:$AE$10,2,FALSE))","v":""},""]
[{"$f":"IF(คีย์คะแนน!A42=\"\",\"\",คีย์คะแนน!A42)","v":0},{"$f":"IF(คีย์คะแนน!B42=\"\",\"\",คีย์คะแนน!B42)","v":0},{"$f":"IF(คีย์คะแนน!C42=\"\",\"\",คีย์คะแนน!C42)","v":""},null,null,null,null,null,null,null,null,null,null,null,null,null,null,null,null,null,null,null,null,null,null,null,null,null,null,null,null,null,null,null,null,null,null,"","","","",{"$f":"รายชื่อนักเรียน!F40","v":0},{"$f":"IF(D42=\"\",\"\",VLOOKUP(D42,ตั้งค่า!$AD$7:$AE$10,2,FALSE))","v":""},{"$f":"IF(F42=\"\",\"\",VLOOKUP(F42,ตั้งค่า!$AD$7:$AE$10,2,FALSE))","v":""},{"$f":"IF(H42=\"\",\"\",VLOOKUP(H42,ตั้งค่า!$AD$7:$AE$10,2,FALSE))","v":""},{"$f":"IF(J42=\"\",\"\",VLOOKUP(J42,ตั้งค่า!$AD$7:$AE$10,2,FALSE))","v":""},{"$f":"IF(L42=\"\",\"\",VLOOKUP(L42,ตั้งค่า!$AD$7:$AE$10,2,FALSE))","v":""},{"$f":"IF(N42=\"\",\"\",VLOOKUP(N42,ตั้งค่า!$AD$7:$AE$10,2,FALSE))","v":""},{"$f":"IF(P42=\"\",\"\",VLOOKUP(P42,ตั้งค่า!$AD$7:$AE$10,2,FALSE))","v":""},{"$f":"IF(R42=\"\",\"\",VLOOKUP(R42,ตั้งค่า!$AD$7:$AE$10,2,FALSE))","v":""},{"$f":"IF(T42=\"\",\"\",VLOOKUP(T42,ตั้งค่า!$AD$7:$AE$10,2,FALSE))","v":""},{"$f":"IF(V42=\"\",\"\",VLOOKUP(V42,ตั้งค่า!$AD$7:$AE$10,2,FALSE))","v":""},{"$f":"IF(X42=\"\",\"\",VLOOKUP(X42,ตั้งค่า!$AD$7:$AE$10,2,FALSE))","v":""},{"$f":"IF(Z42=\"\",\"\",VLOOKUP(Z42,ตั้งค่า!$AD$7:$AE$10,2,FALSE))","v":""},{"$f":"IF(AB42=\"\",\"\",VLOOKUP(AB42,ตั้งค่า!$AD$7:$AE$10,2,FALSE))","v":""},{"$f":"IF(AD42=\"\",\"\",VLOOKUP(AD42,ตั้งค่า!$AD$7:$AE$10,2,FALSE))","v":""},{"$f":"IF(AF42=\"\",\"\",VLOOKUP(AF42,ตั้งค่า!$AD$7:$AE$10,2,FALSE))","v":""},{"$f":"IF(AH42=\"\",\"\",VLOOKUP(AH42,ตั้งค่า!$AD$7:$AE$10,2,FALSE))","v":""},{"$f":"IF(AJ42=\"\",\"\",VLOOKUP(AJ42,ตั้งค่า!$AD$7:$AE$10,2,FALSE))","v":""},"",{"$f":"IF(E42=\"\",\"\",VLOOKUP(E42,ตั้งค่า!$AD$7:$AE$10,2,FALSE))","v":""},{"$f":"IF(G42=\"\",\"\",VLOOKUP(G42,ตั้งค่า!$AD$7:$AE$10,2,FALSE))","v":""},{"$f":"IF(I42=\"\",\"\",VLOOKUP(I42,ตั้งค่า!$AD$7:$AE$10,2,FALSE))","v":""},{"$f":"IF(K42=\"\",\"\",VLOOKUP(K42,ตั้งค่า!$AD$7:$AE$10,2,FALSE))","v":""},{"$f":"IF(M42=\"\",\"\",VLOOKUP(M42,ตั้งค่า!$AD$7:$AE$10,2,FALSE))","v":""},{"$f":"IF(O42=\"\",\"\",VLOOKUP(O42,ตั้งค่า!$AD$7:$AE$10,2,FALSE))","v":""},{"$f":"IF(Q42=\"\",\"\",VLOOKUP(Q42,ตั้งค่า!$AD$7:$AE$10,2,FALSE))","v":""},{"$f":"IF(S42=\"\",\"\",VLOOKUP(S42,ตั้งค่า!$AD$7:$AE$10,2,FALSE))","v":""},{"$f":"IF(U42=\"\",\"\",VLOOKUP(U42,ตั้งค่า!$AD$7:$AE$10,2,FALSE))","v":""},{"$f":"IF(W42=\"\",\"\",VLOOKUP(W42,ตั้งค่า!$AD$7:$AE$10,2,FALSE))","v":""},{"$f":"IF(Y42=\"\",\"\",VLOOKUP(Y42,ตั้งค่า!$AD$7:$AE$10,2,FALSE))","v":""},{"$f":"IF(AA42=\"\",\"\",VLOOKUP(AA42,ตั้งค่า!$AD$7:$AE$10,2,FALSE))","v":""},{"$f":"IF(AC42=\"\",\"\",VLOOKUP(AC42,ตั้งค่า!$AD$7:$AE$10,2,FALSE))","v":""},{"$f":"IF(AE42=\"\",\"\",VLOOKUP(AE42,ตั้งค่า!$AD$7:$AE$10,2,FALSE))","v":""},{"$f":"IF(AG42=\"\",\"\",VLOOKUP(AG42,ตั้งค่า!$AD$7:$AE$10,2,FALSE))","v":""},{"$f":"IF(AI42=\"\",\"\",VLOOKUP(AI42,ตั้งค่า!$AD$7:$AE$10,2,FALSE))","v":""},{"$f":"IF(AK42=\"\",\"\",VLOOKUP(AK42,ตั้งค่า!$AD$7:$AE$10,2,FALSE))","v":""},""]
[{"$f":"IF(คีย์คะแนน!A43=\"\",\"\",คีย์คะแนน!A43)","v":0},{"$f":"IF(คีย์คะแนน!B43=\"\",\"\",คีย์คะแนน!B43)","v":0},{"$f":"IF(คีย์คะแนน!C43=\"\",\"\",คีย์คะแนน!C43)","v":""},null,null,null,null,null,null,null,null,null,null,null,null,null,null,null,null,null,null,null,null,null,null,null,null,null,null,null,null,null,null,null,null,null,null,"","","","",{"$f":"รายชื่อนักเรียน!F41","v":0},{"$f":"IF(D43=\"\",\"\",VLOOKUP(D43,ตั้งค่า!$AD$7:$AE$10,2,FALSE))","v":""},{"$f":"IF(F43=\"\",\"\",VLOOKUP(F43,ตั้งค่า!$AD$7:$AE$10,2,FALSE))","v":""},{"$f":"IF(H43=\"\",\"\",VLOOKUP(H43,ตั้งค่า!$AD$7:$AE$10,2,FALSE))","v":""},{"$f":"IF(J43=\"\",\"\",VLOOKUP(J43,ตั้งค่า!$AD$7:$AE$10,2,FALSE))","v":""},{"$f":"IF(L43=\"\",\"\",VLOOKUP(L43,ตั้งค่า!$AD$7:$AE$10,2,FALSE))","v":""},{"$f":"IF(N43=\"\",\"\",VLOOKUP(N43,ตั้งค่า!$AD$7:$AE$10,2,FALSE))","v":""},{"$f":"IF(P43=\"\",\"\",VLOOKUP(P43,ตั้งค่า!$AD$7:$AE$10,2,FALSE))","v":""},{"$f":"IF(R43=\"\",\"\",VLOOKUP(R43,ตั้งค่า!$AD$7:$AE$10,2,FALSE))","v":""},{"$f":"IF(T43=\"\",\"\",VLOOKUP(T43,ตั้งค่า!$AD$7:$AE$10,2,FALSE))","v":""},{"$f":"IF(V43=\"\",\"\",VLOOKUP(V43,ตั้งค่า!$AD$7:$AE$10,2,FALSE))","v":""},{"$f":"IF(X43=\"\",\"\",VLOOKUP(X43,ตั้งค่า!$AD$7:$AE$10,2,FALSE))","v":""},{"$f":"IF(Z43=\"\",\"\",VLOOKUP(Z43,ตั้งค่า!$AD$7:$AE$10,2,FALSE))","v":""},{"$f":"IF(AB43=\"\",\"\",VLOOKUP(AB43,ตั้งค่า!$AD$7:$AE$10,2,FALSE))","v":""},{"$f":"IF(AD43=\"\",\"\",VLOOKUP(AD43,ตั้งค่า!$AD$7:$AE$10,2,FALSE))","v":""},{"$f":"IF(AF43=\"\",\"\",VLOOKUP(AF43,ตั้งค่า!$AD$7:$AE$10,2,FALSE))","v":""},{"$f":"IF(AH43=\"\",\"\",VLOOKUP(AH43,ตั้งค่า!$AD$7:$AE$10,2,FALSE))","v":""},{"$f":"IF(AJ43=\"\",\"\",VLOOKUP(AJ43,ตั้งค่า!$AD$7:$AE$10,2,FALSE))","v":""},"",{"$f":"IF(E43=\"\",\"\",VLOOKUP(E43,ตั้งค่า!$AD$7:$AE$10,2,FALSE))","v":""},{"$f":"IF(G43=\"\",\"\",VLOOKUP(G43,ตั้งค่า!$AD$7:$AE$10,2,FALSE))","v":""},{"$f":"IF(I43=\"\",\"\",VLOOKUP(I43,ตั้งค่า!$AD$7:$AE$10,2,FALSE))","v":""},{"$f":"IF(K43=\"\",\"\",VLOOKUP(K43,ตั้งค่า!$AD$7:$AE$10,2,FALSE))","v":""},{"$f":"IF(M43=\"\",\"\",VLOOKUP(M43,ตั้งค่า!$AD$7:$AE$10,2,FALSE))","v":""},{"$f":"IF(O43=\"\",\"\",VLOOKUP(O43,ตั้งค่า!$AD$7:$AE$10,2,FALSE))","v":""},{"$f":"IF(Q43=\"\",\"\",VLOOKUP(Q43,ตั้งค่า!$AD$7:$AE$10,2,FALSE))","v":""},{"$f":"IF(S43=\"\",\"\",VLOOKUP(S43,ตั้งค่า!$AD$7:$AE$10,2,FALSE))","v":""},{"$f":"IF(U43=\"\",\"\",VLOOKUP(U43,ตั้งค่า!$AD$7:$AE$10,2,FALSE))","v":""},{"$f":"IF(W43=\"\",\"\",VLOOKUP(W43,ตั้งค่า!$AD$7:$AE$10,2,FALSE))","v":""},{"$f":"IF(Y43=\"\",\"\",VLOOKUP(Y43,ตั้งค่า!$AD$7:$AE$10,2,FALSE))","v":""},{"$f":"IF(AA43=\"\",\"\",VLOOKUP(AA43,ตั้งค่า!$AD$7:$AE$10,2,FALSE))","v":""},{"$f":"IF(AC43=\"\",\"\",VLOOKUP(AC43,ตั้งค่า!$AD$7:$AE$10,2,FALSE))","v":""},{"$f":"IF(AE43=\"\",\"\",VLOOKUP(AE43,ตั้งค่า!$AD$7:$AE$10,2,FALSE))","v":""},{"$f":"IF(AG43=\"\",\"\",VLOOKUP(AG43,ตั้งค่า!$AD$7:$AE$10,2,FALSE))","v":""},{"$f":"IF(AI43=\"\",\"\",VLOOKUP(AI43,ตั้งค่า!$AD$7:$AE$10,2,FALSE))","v":""},{"$f":"IF(AK43=\"\",\"\",VLOOKUP(AK43,ตั้งค่า!$AD$7:$AE$10,2,FALSE))","v":""},""]
[{"$f":"IF(คีย์คะแนน!A44=\"\",\"\",คีย์คะแนน!A44)","v":0},{"$f":"IF(คีย์คะแนน!B44=\"\",\"\",คีย์คะแนน!B44)","v":0},{"$f":"IF(คีย์คะแนน!C44=\"\",\"\",คีย์คะแนน!C44)","v":""},null,null,null,null,null,null,null,null,null,null,null,null,null,null,null,null,null,null,null,null,null,null,null,null,null,null,null,null,null,null,null,null,null,null,"","","","",{"$f":"รายชื่อนักเรียน!F42","v":0},{"$f":"IF(D44=\"\",\"\",VLOOKUP(D44,ตั้งค่า!$AD$7:$AE$10,2,FALSE))","v":""},{"$f":"IF(F44=\"\",\"\",VLOOKUP(F44,ตั้งค่า!$AD$7:$AE$10,2,FALSE))","v":""},{"$f":"IF(H44=\"\",\"\",VLOOKUP(H44,ตั้งค่า!$AD$7:$AE$10,2,FALSE))","v":""},{"$f":"IF(J44=\"\",\"\",VLOOKUP(J44,ตั้งค่า!$AD$7:$AE$10,2,FALSE))","v":""},{"$f":"IF(L44=\"\",\"\",VLOOKUP(L44,ตั้งค่า!$AD$7:$AE$10,2,FALSE))","v":""},{"$f":"IF(N44=\"\",\"\",VLOOKUP(N44,ตั้งค่า!$AD$7:$AE$10,2,FALSE))","v":""},{"$f":"IF(P44=\"\",\"\",VLOOKUP(P44,ตั้งค่า!$AD$7:$AE$10,2,FALSE))","v":""},{"$f":"IF(R44=\"\",\"\",VLOOKUP(R44,ตั้งค่า!$AD$7:$AE$10,2,FALSE))","v":""},{"$f":"IF(T44=\"\",\"\",VLOOKUP(T44,ตั้งค่า!$AD$7:$AE$10,2,FALSE))","v":""},{"$f":"IF(V44=\"\",\"\",VLOOKUP(V44,ตั้งค่า!$AD$7:$AE$10,2,FALSE))","v":""},{"$f":"IF(X44=\"\",\"\",VLOOKUP(X44,ตั้งค่า!$AD$7:$AE$10,2,FALSE))","v":""},{"$f":"IF(Z44=\"\",\"\",VLOOKUP(Z44,ตั้งค่า!$AD$7:$AE$10,2,FALSE))","v":""},{"$f":"IF(AB44=\"\",\"\",VLOOKUP(AB44,ตั้งค่า!$AD$7:$AE$10,2,FALSE))","v":""},{"$f":"IF(AD44=\"\",\"\",VLOOKUP(AD44,ตั้งค่า!$AD$7:$AE$10,2,FALSE))","v":""},{"$f":"IF(AF44=\"\",\"\",VLOOKUP(AF44,ตั้งค่า!$AD$7:$AE$10,2,FALSE))","v":""},{"$f":"IF(AH44=\"\",\"\",VLOOKUP(AH44,ตั้งค่า!$AD$7:$AE$10,2,FALSE))","v":""},{"$f":"IF(AJ44=\"\",\"\",VLOOKUP(AJ44,ตั้งค่า!$AD$7:$AE$10,2,FALSE))","v":""},"",{"$f":"IF(E44=\"\",\"\",VLOOKUP(E44,ตั้งค่า!$AD$7:$AE$10,2,FALSE))","v":""},{"$f":"IF(G44=\"\",\"\",VLOOKUP(G44,ตั้งค่า!$AD$7:$AE$10,2,FALSE))","v":""},{"$f":"IF(I44=\"\",\"\",VLOOKUP(I44,ตั้งค่า!$AD$7:$AE$10,2,FALSE))","v":""},{"$f":"IF(K44=\"\",\"\",VLOOKUP(K44,ตั้งค่า!$AD$7:$AE$10,2,FALSE))","v":""},{"$f":"IF(M44=\"\",\"\",VLOOKUP(M44,ตั้งค่า!$AD$7:$AE$10,2,FALSE))","v":""},{"$f":"IF(O44=\"\",\"\",VLOOKUP(O44,ตั้งค่า!$AD$7:$AE$10,2,FALSE))","v":""},{"$f":"IF(Q44=\"\",\"\",VLOOKUP(Q44,ตั้งค่า!$AD$7:$AE$10,2,FALSE))","v":""},{"$f":"IF(S44=\"\",\"\",VLOOKUP(S44,ตั้งค่า!$AD$7:$AE$10,2,FALSE))","v":""},{"$f":"IF(U44=\"\",\"\",VLOOKUP(U44,ตั้งค่า!$AD$7:$AE$10,2,FALSE))","v":""},{"$f":"IF(W44=\"\",\"\",VLOOKUP(W44,ตั้งค่า!$AD$7:$AE$10,2,FALSE))","v":""},{"$f":"IF(Y44=\"\",\"\",VLOOKUP(Y44,ตั้งค่า!$AD$7:$AE$10,2,FALSE))","v":""},{"$f":"IF(AA44=\"\",\"\",VLOOKUP(AA44,ตั้งค่า!$AD$7:$AE$10,2,FALSE))","v":""},{"$f":"IF(AC44=\"\",\"\",VLOOKUP(AC44,ตั้งค่า!$AD$7:$AE$10,2,FALSE))","v":""},{"$f":"IF(AE44=\"\",\"\",VLOOKUP(AE44,ตั้งค่า!$AD$7:$AE$10,2,FALSE))","v":""},{"$f":"IF(AG44=\"\",\"\",VLOOKUP(AG44,ตั้งค่า!$AD$7:$AE$10,2,FALSE))","v":""},{"$f":"IF(AI44=\"\",\"\",VLOOKUP(AI44,ตั้งค่า!$AD$7:$AE$10,2,FALSE))","v":""},{"$f":"IF(AK44=\"\",\"\",VLOOKUP(AK44,ตั้งค่า!$AD$7:$AE$10,2,FALSE))","v":""},""]
[{"$f":"IF(คีย์คะแนน!A45=\"\",\"\",คีย์คะแนน!A45)","v":0},{"$f":"IF(คีย์คะแนน!B45=\"\",\"\",คีย์คะแนน!B45)","v":0},{"$f":"IF(คีย์คะแนน!C45=\"\",\"\",คีย์คะแนน!C45)","v":""},null,null,null,null,null,null,null,null,null,null,null,null,null,null,null,null,null,null,null,null,null,null,null,null,null,null,null,null,null,null,null,null,null,null,"","","","",{"$f":"รายชื่อนักเรียน!F43","v":0},{"$f":"IF(D45=\"\",\"\",VLOOKUP(D45,ตั้งค่า!$AD$7:$AE$10,2,FALSE))","v":""},{"$f":"IF(F45=\"\",\"\",VLOOKUP(F45,ตั้งค่า!$AD$7:$AE$10,2,FALSE))","v":""},{"$f":"IF(H45=\"\",\"\",VLOOKUP(H45,ตั้งค่า!$AD$7:$AE$10,2,FALSE))","v":""},{"$f":"IF(J45=\"\",\"\",VLOOKUP(J45,ตั้งค่า!$AD$7:$AE$10,2,FALSE))","v":""},{"$f":"IF(L45=\"\",\"\",VLOOKUP(L45,ตั้งค่า!$AD$7:$AE$10,2,FALSE))","v":""},{"$f":"IF(N45=\"\",\"\",VLOOKUP(N45,ตั้งค่า!$AD$7:$AE$10,2,FALSE))","v":""},{"$f":"IF(P45=\"\",\"\",VLOOKUP(P45,ตั้งค่า!$AD$7:$AE$10,2,FALSE))","v":""},{"$f":"IF(R45=\"\",\"\",VLOOKUP(R45,ตั้งค่า!$AD$7:$AE$10,2,FALSE))","v":""},{"$f":"IF(T45=\"\",\"\",VLOOKUP(T45,ตั้งค่า!$AD$7:$AE$10,2,FALSE))","v":""},{"$f":"IF(V45=\"\",\"\",VLOOKUP(V45,ตั้งค่า!$AD$7:$AE$10,2,FALSE))","v":""},{"$f":"IF(X45=\"\",\"\",VLOOKUP(X45,ตั้งค่า!$AD$7:$AE$10,2,FALSE))","v":""},{"$f":"IF(Z45=\"\",\"\",VLOOKUP(Z45,ตั้งค่า!$AD$7:$AE$10,2,FALSE))","v":""},{"$f":"IF(AB45=\"\",\"\",VLOOKUP(AB45,ตั้งค่า!$AD$7:$AE$10,2,FALSE))","v":""},{"$f":"IF(AD45=\"\",\"\",VLOOKUP(AD45,ตั้งค่า!$AD$7:$AE$10,2,FALSE))","v":""},{"$f":"IF(AF45=\"\",\"\",VLOOKUP(AF45,ตั้งค่า!$AD$7:$AE$10,2,FALSE))","v":""},{"$f":"IF(AH45=\"\",\"\",VLOOKUP(AH45,ตั้งค่า!$AD$7:$AE$10,2,FALSE))","v":""},{"$f":"IF(AJ45=\"\",\"\",VLOOKUP(AJ45,ตั้งค่า!$AD$7:$AE$10,2,FALSE))","v":""},"",{"$f":"IF(E45=\"\",\"\",VLOOKUP(E45,ตั้งค่า!$AD$7:$AE$10,2,FALSE))","v":""},{"$f":"IF(G45=\"\",\"\",VLOOKUP(G45,ตั้งค่า!$AD$7:$AE$10,2,FALSE))","v":""},{"$f":"IF(I45=\"\",\"\",VLOOKUP(I45,ตั้งค่า!$AD$7:$AE$10,2,FALSE))","v":""},{"$f":"IF(K45=\"\",\"\",VLOOKUP(K45,ตั้งค่า!$AD$7:$AE$10,2,FALSE))","v":""},{"$f":"IF(M45=\"\",\"\",VLOOKUP(M45,ตั้งค่า!$AD$7:$AE$10,2,FALSE))","v":""},{"$f":"IF(O45=\"\",\"\",VLOOKUP(O45,ตั้งค่า!$AD$7:$AE$10,2,FALSE))","v":""},{"$f":"IF(Q45=\"\",\"\",VLOOKUP(Q45,ตั้งค่า!$AD$7:$AE$10,2,FALSE))","v":""},{"$f":"IF(S45=\"\",\"\",VLOOKUP(S45,ตั้งค่า!$AD$7:$AE$10,2,FALSE))","v":""},{"$f":"IF(U45=\"\",\"\",VLOOKUP(U45,ตั้งค่า!$AD$7:$AE$10,2,FALSE))","v":""},{"$f":"IF(W45=\"\",\"\",VLOOKUP(W45,ตั้งค่า!$AD$7:$AE$10,2,FALSE))","v":""},{"$f":"IF(Y45=\"\",\"\",VLOOKUP(Y45,ตั้งค่า!$AD$7:$AE$10,2,FALSE))","v":""},{"$f":"IF(AA45=\"\",\"\",VLOOKUP(AA45,ตั้งค่า!$AD$7:$AE$10,2,FALSE))","v":""},{"$f":"IF(AC45=\"\",\"\",VLOOKUP(AC45,ตั้งค่า!$AD$7:$AE$10,2,FALSE))","v":""},{"$f":"IF(AE45=\"\",\"\",VLOOKUP(AE45,ตั้งค่า!$AD$7:$AE$10,2,FALSE))","v":""},{"$f":"IF(AG45=\"\",\"\",VLOOKUP(AG45,ตั้งค่า!$AD$7:$AE$10,2,FALSE))","v":""},{"$f":"IF(AI45=\"\",\"\",VLOOKUP(AI45,ตั้งค่า!$AD$7:$AE$10,2,FALSE))","v":""},{"$f":"IF(AK45=\"\",\"\",VLOOKUP(AK45,ตั้งค่า!$AD$7:$AE$10,2,FALSE))","v":""},""]
[{"$f":"IF(คีย์คะแนน!A46=\"\",\"\",คีย์คะแนน!A46)","v":0},{"$f":"IF(คีย์คะแนน!B46=\"\",\"\",คีย์คะแนน!B46)","v":0},{"$f":"IF(คีย์คะแนน!C46=\"\",\"\",คีย์คะแนน!C46)","v":""},null,null,null,null,null,null,null,null,null,null,null,null,null,null,null,null,null,null,null,null,null,null,null,null,null,null,null,null,null,null,null,null,null,null,"","","","",{"$f":"รายชื่อนักเรียน!F44","v":0},{"$f":"IF(D46=\"\",\"\",VLOOKUP(D46,ตั้งค่า!$AD$7:$AE$10,2,FALSE))","v":""},{"$f":"IF(F46=\"\",\"\",VLOOKUP(F46,ตั้งค่า!$AD$7:$AE$10,2,FALSE))","v":""},{"$f":"IF(H46=\"\",\"\",VLOOKUP(H46,ตั้งค่า!$AD$7:$AE$10,2,FALSE))","v":""},{"$f":"IF(J46=\"\",\"\",VLOOKUP(J46,ตั้งค่า!$AD$7:$AE$10,2,FALSE))","v":""},{"$f":"IF(L46=\"\",\"\",VLOOKUP(L46,ตั้งค่า!$AD$7:$AE$10,2,FALSE))","v":""},{"$f":"IF(N46=\"\",\"\",VLOOKUP(N46,ตั้งค่า!$AD$7:$AE$10,2,FALSE))","v":""},{"$f":"IF(P46=\"\",\"\",VLOOKUP(P46,ตั้งค่า!$AD$7:$AE$10,2,FALSE))","v":""},{"$f":"IF(R46=\"\",\"\",VLOOKUP(R46,ตั้งค่า!$AD$7:$AE$10,2,FALSE))","v":""},{"$f":"IF(T46=\"\",\"\",VLOOKUP(T46,ตั้งค่า!$AD$7:$AE$10,2,FALSE))","v":""},{"$f":"IF(V46=\"\",\"\",VLOOKUP(V46,ตั้งค่า!$AD$7:$AE$10,2,FALSE))","v":""},{"$f":"IF(X46=\"\",\"\",VLOOKUP(X46,ตั้งค่า!$AD$7:$AE$10,2,FALSE))","v":""},{"$f":"IF(Z46=\"\",\"\",VLOOKUP(Z46,ตั้งค่า!$AD$7:$AE$10,2,FALSE))","v":""},{"$f":"IF(AB46=\"\",\"\",VLOOKUP(AB46,ตั้งค่า!$AD$7:$AE$10,2,FALSE))","v":""},{"$f":"IF(AD46=\"\",\"\",VLOOKUP(AD46,ตั้งค่า!$AD$7:$AE$10,2,FALSE))","v":""},{"$f":"IF(AF46=\"\",\"\",VLOOKUP(AF46,ตั้งค่า!$AD$7:$AE$10,2,FALSE))","v":""},{"$f":"IF(AH46=\"\",\"\",VLOOKUP(AH46,ตั้งค่า!$AD$7:$AE$10,2,FALSE))","v":""},{"$f":"IF(AJ46=\"\",\"\",VLOOKUP(AJ46,ตั้งค่า!$AD$7:$AE$10,2,FALSE))","v":""},"",{"$f":"IF(E46=\"\",\"\",VLOOKUP(E46,ตั้งค่า!$AD$7:$AE$10,2,FALSE))","v":""},{"$f":"IF(G46=\"\",\"\",VLOOKUP(G46,ตั้งค่า!$AD$7:$AE$10,2,FALSE))","v":""},{"$f":"IF(I46=\"\",\"\",VLOOKUP(I46,ตั้งค่า!$AD$7:$AE$10,2,FALSE))","v":""},{"$f":"IF(K46=\"\",\"\",VLOOKUP(K46,ตั้งค่า!$AD$7:$AE$10,2,FALSE))","v":""},{"$f":"IF(M46=\"\",\"\",VLOOKUP(M46,ตั้งค่า!$AD$7:$AE$10,2,FALSE))","v":""},{"$f":"IF(O46=\"\",\"\",VLOOKUP(O46,ตั้งค่า!$AD$7:$AE$10,2,FALSE))","v":""},{"$f":"IF(Q46=\"\",\"\",VLOOKUP(Q46,ตั้งค่า!$AD$7:$AE$10,2,FALSE))","v":""},{"$f":"IF(S46=\"\",\"\",VLOOKUP(S46,ตั้งค่า!$AD$7:$AE$10,2,FALSE))","v":""},{"$f":"IF(U46=\"\",\"\",VLOOKUP(U46,ตั้งค่า!$AD$7:$AE$10,2,FALSE))","v":""},{"$f":"IF(W46=\"\",\"\",VLOOKUP(W46,ตั้งค่า!$AD$7:$AE$10,2,FALSE))","v":""},{"$f":"IF(Y46=\"\",\"\",VLOOKUP(Y46,ตั้งค่า!$AD$7:$AE$10,2,FALSE))","v":""},{"$f":"IF(AA46=\"\",\"\",VLOOKUP(AA46,ตั้งค่า!$AD$7:$AE$10,2,FALSE))","v":""},{"$f":"IF(AC46=\"\",\"\",VLOOKUP(AC46,ตั้งค่า!$AD$7:$AE$10,2,FALSE))","v":""},{"$f":"IF(AE46=\"\",\"\",VLOOKUP(AE46,ตั้งค่า!$AD$7:$AE$10,2,FALSE))","v":""},{"$f":"IF(AG46=\"\",\"\",VLOOKUP(AG46,ตั้งค่า!$AD$7:$AE$10,2,FALSE))","v":""},{"$f":"IF(AI46=\"\",\"\",VLOOKUP(AI46,ตั้งค่า!$AD$7:$AE$10,2,FALSE))","v":""},{"$f":"IF(AK46=\"\",\"\",VLOOKUP(AK46,ตั้งค่า!$AD$7:$AE$10,2,FALSE))","v":""},""]
[{"$f":"IF(คีย์คะแนน!A47=\"\",\"\",คีย์คะแนน!A47)","v":0},{"$f":"IF(คีย์คะแนน!B47=\"\",\"\",คีย์คะแนน!B47)","v":0},{"$f":"IF(คีย์คะแนน!C47=\"\",\"\",คีย์คะแนน!C47)","v":""},null,null,null,null,null,null,null,null,null,null,null,null,null,null,null,null,null,null,null,null,null,null,null,null,null,null,null,null,null,null,null,null,null,null,"","","","",{"$f":"รายชื่อนักเรียน!F45","v":0},{"$f":"IF(D47=\"\",\"\",VLOOKUP(D47,ตั้งค่า!$AD$7:$AE$10,2,FALSE))","v":""},{"$f":"IF(F47=\"\",\"\",VLOOKUP(F47,ตั้งค่า!$AD$7:$AE$10,2,FALSE))","v":""},{"$f":"IF(H47=\"\",\"\",VLOOKUP(H47,ตั้งค่า!$AD$7:$AE$10,2,FALSE))","v":""},{"$f":"IF(J47=\"\",\"\",VLOOKUP(J47,ตั้งค่า!$AD$7:$AE$10,2,FALSE))","v":""},{"$f":"IF(L47=\"\",\"\",VLOOKUP(L47,ตั้งค่า!$AD$7:$AE$10,2,FALSE))","v":""},{"$f":"IF(N47=\"\",\"\",VLOOKUP(N47,ตั้งค่า!$AD$7:$AE$10,2,FALSE))","v":""},{"$f":"IF(P47=\"\",\"\",VLOOKUP(P47,ตั้งค่า!$AD$7:$AE$10,2,FALSE))","v":""},{"$f":"IF(R47=\"\",\"\",VLOOKUP(R47,ตั้งค่า!$AD$7:$AE$10,2,FALSE))","v":""},{"$f":"IF(T47=\"\",\"\",VLOOKUP(T47,ตั้งค่า!$AD$7:$AE$10,2,FALSE))","v":""},{"$f":"IF(V47=\"\",\"\",VLOOKUP(V47,ตั้งค่า!$AD$7:$AE$10,2,FALSE))","v":""},{"$f":"IF(X47=\"\",\"\",VLOOKUP(X47,ตั้งค่า!$AD$7:$AE$10,2,FALSE))","v":""},{"$f":"IF(Z47=\"\",\"\",VLOOKUP(Z47,ตั้งค่า!$AD$7:$AE$10,2,FALSE))","v":""},{"$f":"IF(AB47=\"\",\"\",VLOOKUP(AB47,ตั้งค่า!$AD$7:$AE$10,2,FALSE))","v":""},{"$f":"IF(AD47=\"\",\"\",VLOOKUP(AD47,ตั้งค่า!$AD$7:$AE$10,2,FALSE))","v":""},{"$f":"IF(AF47=\"\",\"\",VLOOKUP(AF47,ตั้งค่า!$AD$7:$AE$10,2,FALSE))","v":""},{"$f":"IF(AH47=\"\",\"\",VLOOKUP(AH47,ตั้งค่า!$AD$7:$AE$10,2,FALSE))","v":""},{"$f":"IF(AJ47=\"\",\"\",VLOOKUP(AJ47,ตั้งค่า!$AD$7:$AE$10,2,FALSE))","v":""},"",{"$f":"IF(E47=\"\",\"\",VLOOKUP(E47,ตั้งค่า!$AD$7:$AE$10,2,FALSE))","v":""},{"$f":"IF(G47=\"\",\"\",VLOOKUP(G47,ตั้งค่า!$AD$7:$AE$10,2,FALSE))","v":""},{"$f":"IF(I47=\"\",\"\",VLOOKUP(I47,ตั้งค่า!$AD$7:$AE$10,2,FALSE))","v":""},{"$f":"IF(K47=\"\",\"\",VLOOKUP(K47,ตั้งค่า!$AD$7:$AE$10,2,FALSE))","v":""},{"$f":"IF(M47=\"\",\"\",VLOOKUP(M47,ตั้งค่า!$AD$7:$AE$10,2,FALSE))","v":""},{"$f":"IF(O47=\"\",\"\",VLOOKUP(O47,ตั้งค่า!$AD$7:$AE$10,2,FALSE))","v":""},{"$f":"IF(Q47=\"\",\"\",VLOOKUP(Q47,ตั้งค่า!$AD$7:$AE$10,2,FALSE))","v":""},{"$f":"IF(S47=\"\",\"\",VLOOKUP(S47,ตั้งค่า!$AD$7:$AE$10,2,FALSE))","v":""},{"$f":"IF(U47=\"\",\"\",VLOOKUP(U47,ตั้งค่า!$AD$7:$AE$10,2,FALSE))","v":""},{"$f":"IF(W47=\"\",\"\",VLOOKUP(W47,ตั้งค่า!$AD$7:$AE$10,2,FALSE))","v":""},{"$f":"IF(Y47=\"\",\"\",VLOOKUP(Y47,ตั้งค่า!$AD$7:$AE$10,2,FALSE))","v":""},{"$f":"IF(AA47=\"\",\"\",VLOOKUP(AA47,ตั้งค่า!$AD$7:$AE$10,2,FALSE))","v":""},{"$f":"IF(AC47=\"\",\"\",VLOOKUP(AC47,ตั้งค่า!$AD$7:$AE$10,2,FALSE))","v":""},{"$f":"IF(AE47=\"\",\"\",VLOOKUP(AE47,ตั้งค่า!$AD$7:$AE$10,2,FALSE))","v":""},{"$f":"IF(AG47=\"\",\"\",VLOOKUP(AG47,ตั้งค่า!$AD$7:$AE$10,2,FALSE))","v":""},{"$f":"IF(AI47=\"\",\"\",VLOOKUP(AI47,ตั้งค่า!$AD$7:$AE$10,2,FALSE))","v":""},{"$f":"IF(AK47=\"\",\"\",VLOOKUP(AK47,ตั้งค่า!$AD$7:$AE$10,2,FALSE))","v":""},""]
[{"$f":"IF(คีย์คะแนน!A48=\"\",\"\",คีย์คะแนน!A48)","v":0},{"$f":"IF(คีย์คะแนน!B48=\"\",\"\",คีย์คะแนน!B48)","v":0},{"$f":"IF(คีย์คะแนน!C48=\"\",\"\",คีย์คะแนน!C48)","v":""},null,null,null,null,null,null,null,null,null,null,null,null,null,null,null,null,null,null,null,null,null,null,null,null,null,null,null,null,null,null,null,null,null,null,"","","","",{"$f":"รายชื่อนักเรียน!F46","v":0},{"$f":"IF(D48=\"\",\"\",VLOOKUP(D48,ตั้งค่า!$AD$7:$AE$10,2,FALSE))","v":""},{"$f":"IF(F48=\"\",\"\",VLOOKUP(F48,ตั้งค่า!$AD$7:$AE$10,2,FALSE))","v":""},{"$f":"IF(H48=\"\",\"\",VLOOKUP(H48,ตั้งค่า!$AD$7:$AE$10,2,FALSE))","v":""},{"$f":"IF(J48=\"\",\"\",VLOOKUP(J48,ตั้งค่า!$AD$7:$AE$10,2,FALSE))","v":""},{"$f":"IF(L48=\"\",\"\",VLOOKUP(L48,ตั้งค่า!$AD$7:$AE$10,2,FALSE))","v":""},{"$f":"IF(N48=\"\",\"\",VLOOKUP(N48,ตั้งค่า!$AD$7:$AE$10,2,FALSE))","v":""},{"$f":"IF(P48=\"\",\"\",VLOOKUP(P48,ตั้งค่า!$AD$7:$AE$10,2,FALSE))","v":""},{"$f":"IF(R48=\"\",\"\",VLOOKUP(R48,ตั้งค่า!$AD$7:$AE$10,2,FALSE))","v":""},{"$f":"IF(T48=\"\",\"\",VLOOKUP(T48,ตั้งค่า!$AD$7:$AE$10,2,FALSE))","v":""},{"$f":"IF(V48=\"\",\"\",VLOOKUP(V48,ตั้งค่า!$AD$7:$AE$10,2,FALSE))","v":""},{"$f":"IF(X48=\"\",\"\",VLOOKUP(X48,ตั้งค่า!$AD$7:$AE$10,2,FALSE))","v":""},{"$f":"IF(Z48=\"\",\"\",VLOOKUP(Z48,ตั้งค่า!$AD$7:$AE$10,2,FALSE))","v":""},{"$f":"IF(AB48=\"\",\"\",VLOOKUP(AB48,ตั้งค่า!$AD$7:$AE$10,2,FALSE))","v":""},{"$f":"IF(AD48=\"\",\"\",VLOOKUP(AD48,ตั้งค่า!$AD$7:$AE$10,2,FALSE))","v":""},{"$f":"IF(AF48=\"\",\"\",VLOOKUP(AF48,ตั้งค่า!$AD$7:$AE$10,2,FALSE))","v":""},{"$f":"IF(AH48=\"\",\"\",VLOOKUP(AH48,ตั้งค่า!$AD$7:$AE$10,2,FALSE))","v":""},{"$f":"IF(AJ48=\"\",\"\",VLOOKUP(AJ48,ตั้งค่า!$AD$7:$AE$10,2,FALSE))","v":""},"",{"$f":"IF(E48=\"\",\"\",VLOOKUP(E48,ตั้งค่า!$AD$7:$AE$10,2,FALSE))","v":""},{"$f":"IF(G48=\"\",\"\",VLOOKUP(G48,ตั้งค่า!$AD$7:$AE$10,2,FALSE))","v":""},{"$f":"IF(I48=\"\",\"\",VLOOKUP(I48,ตั้งค่า!$AD$7:$AE$10,2,FALSE))","v":""},{"$f":"IF(K48=\"\",\"\",VLOOKUP(K48,ตั้งค่า!$AD$7:$AE$10,2,FALSE))","v":""},{"$f":"IF(M48=\"\",\"\",VLOOKUP(M48,ตั้งค่า!$AD$7:$AE$10,2,FALSE))","v":""},{"$f":"IF(O48=\"\",\"\",VLOOKUP(O48,ตั้งค่า!$AD$7:$AE$10,2,FALSE))","v":""},{"$f":"IF(Q48=\"\",\"\",VLOOKUP(Q48,ตั้งค่า!$AD$7:$AE$10,2,FALSE))","v":""},{"$f":"IF(S48=\"\",\"\",VLOOKUP(S48,ตั้งค่า!$AD$7:$AE$10,2,FALSE))","v":""},{"$f":"IF(U48=\"\",\"\",VLOOKUP(U48,ตั้งค่า!$AD$7:$AE$10,2,FALSE))","v":""},{"$f":"IF(W48=\"\",\"\",VLOOKUP(W48,ตั้งค่า!$AD$7:$AE$10,2,FALSE))","v":""},{"$f":"IF(Y48=\"\",\"\",VLOOKUP(Y48,ตั้งค่า!$AD$7:$AE$10,2,FALSE))","v":""},{"$f":"IF(AA48=\"\",\"\",VLOOKUP(AA48,ตั้งค่า!$AD$7:$AE$10,2,FALSE))","v":""},{"$f":"IF(AC48=\"\",\"\",VLOOKUP(AC48,ตั้งค่า!$AD$7:$AE$10,2,FALSE))","v":""},{"$f":"IF(AE48=\"\",\"\",VLOOKUP(AE48,ตั้งค่า!$AD$7:$AE$10,2,FALSE))","v":""},{"$f":"IF(AG48=\"\",\"\",VLOOKUP(AG48,ตั้งค่า!$AD$7:$AE$10,2,FALSE))","v":""},{"$f":"IF(AI48=\"\",\"\",VLOOKUP(AI48,ตั้งค่า!$AD$7:$AE$10,2,FALSE))","v":""},{"$f":"IF(AK48=\"\",\"\",VLOOKUP(AK48,ตั้งค่า!$AD$7:$AE$10,2,FALSE))","v":""},""]
[{"$f":"IF(คีย์คะแนน!A49=\"\",\"\",คีย์คะแนน!A49)","v":0},{"$f":"IF(คีย์คะแนน!B49=\"\",\"\",คีย์คะแนน!B49)","v":0},{"$f":"IF(คีย์คะแนน!C49=\"\",\"\",คีย์คะแนน!C49)","v":""},null,null,null,null,null,null,null,null,null,null,null,null,null,null,null,null,null,null,null,null,null,null,null,null,null,null,null,null,null,null,null,null,null,null,"","","","",{"$f":"รายชื่อนักเรียน!F47","v":0},{"$f":"IF(D49=\"\",\"\",VLOOKUP(D49,ตั้งค่า!$AD$7:$AE$10,2,FALSE))","v":""},{"$f":"IF(F49=\"\",\"\",VLOOKUP(F49,ตั้งค่า!$AD$7:$AE$10,2,FALSE))","v":""},{"$f":"IF(H49=\"\",\"\",VLOOKUP(H49,ตั้งค่า!$AD$7:$AE$10,2,FALSE))","v":""},{"$f":"IF(J49=\"\",\"\",VLOOKUP(J49,ตั้งค่า!$AD$7:$AE$10,2,FALSE))","v":""},{"$f":"IF(L49=\"\",\"\",VLOOKUP(L49,ตั้งค่า!$AD$7:$AE$10,2,FALSE))","v":""},{"$f":"IF(N49=\"\",\"\",VLOOKUP(N49,ตั้งค่า!$AD$7:$AE$10,2,FALSE))","v":""},{"$f":"IF(P49=\"\",\"\",VLOOKUP(P49,ตั้งค่า!$AD$7:$AE$10,2,FALSE))","v":""},{"$f":"IF(R49=\"\",\"\",VLOOKUP(R49,ตั้งค่า!$AD$7:$AE$10,2,FALSE))","v":""},{"$f":"IF(T49=\"\",\"\",VLOOKUP(T49,ตั้งค่า!$AD$7:$AE$10,2,FALSE))","v":""},{"$f":"IF(V49=\"\",\"\",VLOOKUP(V49,ตั้งค่า!$AD$7:$AE$10,2,FALSE))","v":""},{"$f":"IF(X49=\"\",\"\",VLOOKUP(X49,ตั้งค่า!$AD$7:$AE$10,2,FALSE))","v":""},{"$f":"IF(Z49=\"\",\"\",VLOOKUP(Z49,ตั้งค่า!$AD$7:$AE$10,2,FALSE))","v":""},{"$f":"IF(AB49=\"\",\"\",VLOOKUP(AB49,ตั้งค่า!$AD$7:$AE$10,2,FALSE))","v":""},{"$f":"IF(AD49=\"\",\"\",VLOOKUP(AD49,ตั้งค่า!$AD$7:$AE$10,2,FALSE))","v":""},{"$f":"IF(AF49=\"\",\"\",VLOOKUP(AF49,ตั้งค่า!$AD$7:$AE$10,2,FALSE))","v":""},{"$f":"IF(AH49=\"\",\"\",VLOOKUP(AH49,ตั้งค่า!$AD$7:$AE$10,2,FALSE))","v":""},{"$f":"IF(AJ49=\"\",\"\",VLOOKUP(AJ49,ตั้งค่า!$AD$7:$AE$10,2,FALSE))","v":""},"",{"$f":"IF(E49=\"\",\"\",VLOOKUP(E49,ตั้งค่า!$AD$7:$AE$10,2,FALSE))","v":""},{"$f":"IF(G49=\"\",\"\",VLOOKUP(G49,ตั้งค่า!$AD$7:$AE$10,2,FALSE))","v":""},{"$f":"IF(I49=\"\",\"\",VLOOKUP(I49,ตั้งค่า!$AD$7:$AE$10,2,FALSE))","v":""},{"$f":"IF(K49=\"\",\"\",VLOOKUP(K49,ตั้งค่า!$AD$7:$AE$10,2,FALSE))","v":""},{"$f":"IF(M49=\"\",\"\",VLOOKUP(M49,ตั้งค่า!$AD$7:$AE$10,2,FALSE))","v":""},{"$f":"IF(O49=\"\",\"\",VLOOKUP(O49,ตั้งค่า!$AD$7:$AE$10,2,FALSE))","v":""},{"$f":"IF(Q49=\"\",\"\",VLOOKUP(Q49,ตั้งค่า!$AD$7:$AE$10,2,FALSE))","v":""},{"$f":"IF(S49=\"\",\"\",VLOOKUP(S49,ตั้งค่า!$AD$7:$AE$10,2,FALSE))","v":""},{"$f":"IF(U49=\"\",\"\",VLOOKUP(U49,ตั้งค่า!$AD$7:$AE$10,2,FALSE))","v":""},{"$f":"IF(W49=\"\",\"\",VLOOKUP(W49,ตั้งค่า!$AD$7:$AE$10,2,FALSE))","v":""},{"$f":"IF(Y49=\"\",\"\",VLOOKUP(Y49,ตั้งค่า!$AD$7:$AE$10,2,FALSE))","v":""},{"$f":"IF(AA49=\"\",\"\",VLOOKUP(AA49,ตั้งค่า!$AD$7:$AE$10,2,FALSE))","v":""},{"$f":"IF(AC49=\"\",\"\",VLOOKUP(AC49,ตั้งค่า!$AD$7:$AE$10,2,FALSE))","v":""},{"$f":"IF(AE49=\"\",\"\",VLOOKUP(AE49,ตั้งค่า!$AD$7:$AE$10,2,FALSE))","v":""},{"$f":"IF(AG49=\"\",\"\",VLOOKUP(AG49,ตั้งค่า!$AD$7:$AE$10,2,FALSE))","v":""},{"$f":"IF(AI49=\"\",\"\",VLOOKUP(AI49,ตั้งค่า!$AD$7:$AE$10,2,FALSE))","v":""},{"$f":"IF(AK49=\"\",\"\",VLOOKUP(AK49,ตั้งค่า!$AD$7:$AE$10,2,FALSE))","v":""},""]
[{"$f":"IF(คีย์คะแนน!A50=\"\",\"\",คีย์คะแนน!A50)","v":0},{"$f":"IF(คีย์คะแนน!B50=\"\",\"\",คีย์คะแนน!B50)","v":0},{"$f":"IF(คีย์คะแนน!C50=\"\",\"\",คีย์คะแนน!C50)","v":""},null,null,null,null,null,null,null,null,null,null,null,null,null,null,null,null,null,null,null,null,null,null,null,null,null,null,null,null,null,null,null,null,null,null,"","","","",{"$f":"รายชื่อนักเรียน!F48","v":0},{"$f":"IF(D50=\"\",\"\",VLOOKUP(D50,ตั้งค่า!$AD$7:$AE$10,2,FALSE))","v":""},{"$f":"IF(F50=\"\",\"\",VLOOKUP(F50,ตั้งค่า!$AD$7:$AE$10,2,FALSE))","v":""},{"$f":"IF(H50=\"\",\"\",VLOOKUP(H50,ตั้งค่า!$AD$7:$AE$10,2,FALSE))","v":""},{"$f":"IF(J50=\"\",\"\",VLOOKUP(J50,ตั้งค่า!$AD$7:$AE$10,2,FALSE))","v":""},{"$f":"IF(L50=\"\",\"\",VLOOKUP(L50,ตั้งค่า!$AD$7:$AE$10,2,FALSE))","v":""},{"$f":"IF(N50=\"\",\"\",VLOOKUP(N50,ตั้งค่า!$AD$7:$AE$10,2,FALSE))","v":""},{"$f":"IF(P50=\"\",\"\",VLOOKUP(P50,ตั้งค่า!$AD$7:$AE$10,2,FALSE))","v":""},{"$f":"IF(R50=\"\",\"\",VLOOKUP(R50,ตั้งค่า!$AD$7:$AE$10,2,FALSE))","v":""},{"$f":"IF(T50=\"\",\"\",VLOOKUP(T50,ตั้งค่า!$AD$7:$AE$10,2,FALSE))","v":""},{"$f":"IF(V50=\"\",\"\",VLOOKUP(V50,ตั้งค่า!$AD$7:$AE$10,2,FALSE))","v":""},{"$f":"IF(X50=\"\",\"\",VLOOKUP(X50,ตั้งค่า!$AD$7:$AE$10,2,FALSE))","v":""},{"$f":"IF(Z50=\"\",\"\",VLOOKUP(Z50,ตั้งค่า!$AD$7:$AE$10,2,FALSE))","v":""},{"$f":"IF(AB50=\"\",\"\",VLOOKUP(AB50,ตั้งค่า!$AD$7:$AE$10,2,FALSE))","v":""},{"$f":"IF(AD50=\"\",\"\",VLOOKUP(AD50,ตั้งค่า!$AD$7:$AE$10,2,FALSE))","v":""},{"$f":"IF(AF50=\"\",\"\",VLOOKUP(AF50,ตั้งค่า!$AD$7:$AE$10,2,FALSE))","v":""},{"$f":"IF(AH50=\"\",\"\",VLOOKUP(AH50,ตั้งค่า!$AD$7:$AE$10,2,FALSE))","v":""},{"$f":"IF(AJ50=\"\",\"\",VLOOKUP(AJ50,ตั้งค่า!$AD$7:$AE$10,2,FALSE))","v":""},"",{"$f":"IF(E50=\"\",\"\",VLOOKUP(E50,ตั้งค่า!$AD$7:$AE$10,2,FALSE))","v":""},{"$f":"IF(G50=\"\",\"\",VLOOKUP(G50,ตั้งค่า!$AD$7:$AE$10,2,FALSE))","v":""},{"$f":"IF(I50=\"\",\"\",VLOOKUP(I50,ตั้งค่า!$AD$7:$AE$10,2,FALSE))","v":""},{"$f":"IF(K50=\"\",\"\",VLOOKUP(K50,ตั้งค่า!$AD$7:$AE$10,2,FALSE))","v":""},{"$f":"IF(M50=\"\",\"\",VLOOKUP(M50,ตั้งค่า!$AD$7:$AE$10,2,FALSE))","v":""},{"$f":"IF(O50=\"\",\"\",VLOOKUP(O50,ตั้งค่า!$AD$7:$AE$10,2,FALSE))","v":""},{"$f":"IF(Q50=\"\",\"\",VLOOKUP(Q50,ตั้งค่า!$AD$7:$AE$10,2,FALSE))","v":""},{"$f":"IF(S50=\"\",\"\",VLOOKUP(S50,ตั้งค่า!$AD$7:$AE$10,2,FALSE))","v":""},{"$f":"IF(U50=\"\",\"\",VLOOKUP(U50,ตั้งค่า!$AD$7:$AE$10,2,FALSE))","v":""},{"$f":"IF(W50=\"\",\"\",VLOOKUP(W50,ตั้งค่า!$AD$7:$AE$10,2,FALSE))","v":""},{"$f":"IF(Y50=\"\",\"\",VLOOKUP(Y50,ตั้งค่า!$AD$7:$AE$10,2,FALSE))","v":""},{"$f":"IF(AA50=\"\",\"\",VLOOKUP(AA50,ตั้งค่า!$AD$7:$AE$10,2,FALSE))","v":""},{"$f":"IF(AC50=\"\",\"\",VLOOKUP(AC50,ตั้งค่า!$AD$7:$AE$10,2,FALSE))","v":""},{"$f":"IF(AE50=\"\",\"\",VLOOKUP(AE50,ตั้งค่า!$AD$7:$AE$10,2,FALSE))","v":""},{"$f":"IF(AG50=\"\",\"\",VLOOKUP(AG50,ตั้งค่า!$AD$7:$AE$10,2,FALSE))","v":""},{"$f":"IF(AI50=\"\",\"\",VLOOKUP(AI50,ตั้งค่า!$AD$7:$AE$10,2,FALSE))","v":""},{"$f":"IF(AK50=\"\",\"\",VLOOKUP(AK50,ตั้งค่า!$AD$7:$AE$10,2,FALSE))","v":""},""]
[{"$f":"IF(คีย์คะแนน!A51=\"\",\"\",คีย์คะแนน!A51)","v":0},{"$f":"IF(คีย์คะแนน!B51=\"\",\"\",คีย์คะแนน!B51)","v":0},{"$f":"IF(คีย์คะแนน!C51=\"\",\"\",คีย์คะแนน!C51)","v":""},null,null,null,null,null,null,null,null,null,null,null,null,null,null,null,null,null,null,null,null,null,null,null,null,null,null,null,null,null,null,null,null,null,null,"","","","",{"$f":"รายชื่อนักเรียน!F49","v":0},{"$f":"IF(D51=\"\",\"\",VLOOKUP(D51,ตั้งค่า!$AD$7:$AE$10,2,FALSE))","v":""},{"$f":"IF(F51=\"\",\"\",VLOOKUP(F51,ตั้งค่า!$AD$7:$AE$10,2,FALSE))","v":""},{"$f":"IF(H51=\"\",\"\",VLOOKUP(H51,ตั้งค่า!$AD$7:$AE$10,2,FALSE))","v":""},{"$f":"IF(J51=\"\",\"\",VLOOKUP(J51,ตั้งค่า!$AD$7:$AE$10,2,FALSE))","v":""},{"$f":"IF(L51=\"\",\"\",VLOOKUP(L51,ตั้งค่า!$AD$7:$AE$10,2,FALSE))","v":""},{"$f":"IF(N51=\"\",\"\",VLOOKUP(N51,ตั้งค่า!$AD$7:$AE$10,2,FALSE))","v":""},{"$f":"IF(P51=\"\",\"\",VLOOKUP(P51,ตั้งค่า!$AD$7:$AE$10,2,FALSE))","v":""},{"$f":"IF(R51=\"\",\"\",VLOOKUP(R51,ตั้งค่า!$AD$7:$AE$10,2,FALSE))","v":""},{"$f":"IF(T51=\"\",\"\",VLOOKUP(T51,ตั้งค่า!$AD$7:$AE$10,2,FALSE))","v":""},{"$f":"IF(V51=\"\",\"\",VLOOKUP(V51,ตั้งค่า!$AD$7:$AE$10,2,FALSE))","v":""},{"$f":"IF(X51=\"\",\"\",VLOOKUP(X51,ตั้งค่า!$AD$7:$AE$10,2,FALSE))","v":""},{"$f":"IF(Z51=\"\",\"\",VLOOKUP(Z51,ตั้งค่า!$AD$7:$AE$10,2,FALSE))","v":""},{"$f":"IF(AB51=\"\",\"\",VLOOKUP(AB51,ตั้งค่า!$AD$7:$AE$10,2,FALSE))","v":""},{"$f":"IF(AD51=\"\",\"\",VLOOKUP(AD51,ตั้งค่า!$AD$7:$AE$10,2,FALSE))","v":""},{"$f":"IF(AF51=\"\",\"\",VLOOKUP(AF51,ตั้งค่า!$AD$7:$AE$10,2,FALSE))","v":""},{"$f":"IF(AH51=\"\",\"\",VLOOKUP(AH51,ตั้งค่า!$AD$7:$AE$10,2,FALSE))","v":""},{"$f":"IF(AJ51=\"\",\"\",VLOOKUP(AJ51,ตั้งค่า!$AD$7:$AE$10,2,FALSE))","v":""},"",{"$f":"IF(E51=\"\",\"\",VLOOKUP(E51,ตั้งค่า!$AD$7:$AE$10,2,FALSE))","v":""},{"$f":"IF(G51=\"\",\"\",VLOOKUP(G51,ตั้งค่า!$AD$7:$AE$10,2,FALSE))","v":""},{"$f":"IF(I51=\"\",\"\",VLOOKUP(I51,ตั้งค่า!$AD$7:$AE$10,2,FALSE))","v":""},{"$f":"IF(K51=\"\",\"\",VLOOKUP(K51,ตั้งค่า!$AD$7:$AE$10,2,FALSE))","v":""},{"$f":"IF(M51=\"\",\"\",VLOOKUP(M51,ตั้งค่า!$AD$7:$AE$10,2,FALSE))","v":""},{"$f":"IF(O51=\"\",\"\",VLOOKUP(O51,ตั้งค่า!$AD$7:$AE$10,2,FALSE))","v":""},{"$f":"IF(Q51=\"\",\"\",VLOOKUP(Q51,ตั้งค่า!$AD$7:$AE$10,2,FALSE))","v":""},{"$f":"IF(S51=\"\",\"\",VLOOKUP(S51,ตั้งค่า!$AD$7:$AE$10,2,FALSE))","v":""},{"$f":"IF(U51=\"\",\"\",VLOOKUP(U51,ตั้งค่า!$AD$7:$AE$10,2,FALSE))","v":""},{"$f":"IF(W51=\"\",\"\",VLOOKUP(W51,ตั้งค่า!$AD$7:$AE$10,2,FALSE))","v":""},{"$f":"IF(Y51=\"\",\"\",VLOOKUP(Y51,ตั้งค่า!$AD$7:$AE$10,2,FALSE))","v":""},{"$f":"IF(AA51=\"\",\"\",VLOOKUP(AA51,ตั้งค่า!$AD$7:$AE$10,2,FALSE))","v":""},{"$f":"IF(AC51=\"\",\"\",VLOOKUP(AC51,ตั้งค่า!$AD$7:$AE$10,2,FALSE))","v":""},{"$f":"IF(AE51=\"\",\"\",VLOOKUP(AE51,ตั้งค่า!$AD$7:$AE$10,2,FALSE))","v":""},{"$f":"IF(AG51=\"\",\"\",VLOOKUP(AG51,ตั้งค่า!$AD$7:$AE$10,2,FALSE))","v":""},{"$f":"IF(AI51=\"\",\"\",VLOOKUP(AI51,ตั้งค่า!$AD$7:$AE$10,2,FALSE))","v":""},{"$f":"IF(AK51=\"\",\"\",VLOOKUP(AK51,ตั้งค่า!$AD$7:$AE$10,2,FALSE))","v":""},""]
[{"$f":"IF(คีย์คะแนน!A52=\"\",\"\",คีย์คะแนน!A52)","v":0},{"$f":"IF(คีย์คะแนน!B52=\"\",\"\",คีย์คะแนน!B52)","v":0},{"$f":"IF(คีย์คะแนน!C52=\"\",\"\",คีย์คะแนน!C52)","v":""},null,null,null,null,null,null,null,null,null,null,null,null,null,null,null,null,null,null,null,null,null,null,null,null,null,null,null,null,null,null,null,null,null,null,"","","","",{"$f":"รายชื่อนักเรียน!F50","v":0},{"$f":"IF(D52=\"\",\"\",VLOOKUP(D52,ตั้งค่า!$AD$7:$AE$10,2,FALSE))","v":""},{"$f":"IF(F52=\"\",\"\",VLOOKUP(F52,ตั้งค่า!$AD$7:$AE$10,2,FALSE))","v":""},{"$f":"IF(H52=\"\",\"\",VLOOKUP(H52,ตั้งค่า!$AD$7:$AE$10,2,FALSE))","v":""},{"$f":"IF(J52=\"\",\"\",VLOOKUP(J52,ตั้งค่า!$AD$7:$AE$10,2,FALSE))","v":""},{"$f":"IF(L52=\"\",\"\",VLOOKUP(L52,ตั้งค่า!$AD$7:$AE$10,2,FALSE))","v":""},{"$f":"IF(N52=\"\",\"\",VLOOKUP(N52,ตั้งค่า!$AD$7:$AE$10,2,FALSE))","v":""},{"$f":"IF(P52=\"\",\"\",VLOOKUP(P52,ตั้งค่า!$AD$7:$AE$10,2,FALSE))","v":""},{"$f":"IF(R52=\"\",\"\",VLOOKUP(R52,ตั้งค่า!$AD$7:$AE$10,2,FALSE))","v":""},{"$f":"IF(T52=\"\",\"\",VLOOKUP(T52,ตั้งค่า!$AD$7:$AE$10,2,FALSE))","v":""},{"$f":"IF(V52=\"\",\"\",VLOOKUP(V52,ตั้งค่า!$AD$7:$AE$10,2,FALSE))","v":""},{"$f":"IF(X52=\"\",\"\",VLOOKUP(X52,ตั้งค่า!$AD$7:$AE$10,2,FALSE))","v":""},{"$f":"IF(Z52=\"\",\"\",VLOOKUP(Z52,ตั้งค่า!$AD$7:$AE$10,2,FALSE))","v":""},{"$f":"IF(AB52=\"\",\"\",VLOOKUP(AB52,ตั้งค่า!$AD$7:$AE$10,2,FALSE))","v":""},{"$f":"IF(AD52=\"\",\"\",VLOOKUP(AD52,ตั้งค่า!$AD$7:$AE$10,2,FALSE))","v":""},{"$f":"IF(AF52=\"\",\"\",VLOOKUP(AF52,ตั้งค่า!$AD$7:$AE$10,2,FALSE))","v":""},{"$f":"IF(AH52=\"\",\"\",VLOOKUP(AH52,ตั้งค่า!$AD$7:$AE$10,2,FALSE))","v":""},{"$f":"IF(AJ52=\"\",\"\",VLOOKUP(AJ52,ตั้งค่า!$AD$7:$AE$10,2,FALSE))","v":""},"",{"$f":"IF(E52=\"\",\"\",VLOOKUP(E52,ตั้งค่า!$AD$7:$AE$10,2,FALSE))","v":""},{"$f":"IF(G52=\"\",\"\",VLOOKUP(G52,ตั้งค่า!$AD$7:$AE$10,2,FALSE))","v":""},{"$f":"IF(I52=\"\",\"\",VLOOKUP(I52,ตั้งค่า!$AD$7:$AE$10,2,FALSE))","v":""},{"$f":"IF(K52=\"\",\"\",VLOOKUP(K52,ตั้งค่า!$AD$7:$AE$10,2,FALSE))","v":""},{"$f":"IF(M52=\"\",\"\",VLOOKUP(M52,ตั้งค่า!$AD$7:$AE$10,2,FALSE))","v":""},{"$f":"IF(O52=\"\",\"\",VLOOKUP(O52,ตั้งค่า!$AD$7:$AE$10,2,FALSE))","v":""},{"$f":"IF(Q52=\"\",\"\",VLOOKUP(Q52,ตั้งค่า!$AD$7:$AE$10,2,FALSE))","v":""},{"$f":"IF(S52=\"\",\"\",VLOOKUP(S52,ตั้งค่า!$AD$7:$AE$10,2,FALSE))","v":""},{"$f":"IF(U52=\"\",\"\",VLOOKUP(U52,ตั้งค่า!$AD$7:$AE$10,2,FALSE))","v":""},{"$f":"IF(W52=\"\",\"\",VLOOKUP(W52,ตั้งค่า!$AD$7:$AE$10,2,FALSE))","v":""},{"$f":"IF(Y52=\"\",\"\",VLOOKUP(Y52,ตั้งค่า!$AD$7:$AE$10,2,FALSE))","v":""},{"$f":"IF(AA52=\"\",\"\",VLOOKUP(AA52,ตั้งค่า!$AD$7:$AE$10,2,FALSE))","v":""},{"$f":"IF(AC52=\"\",\"\",VLOOKUP(AC52,ตั้งค่า!$AD$7:$AE$10,2,FALSE))","v":""},{"$f":"IF(AE52=\"\",\"\",VLOOKUP(AE52,ตั้งค่า!$AD$7:$AE$10,2,FALSE))","v":""},{"$f":"IF(AG52=\"\",\"\",VLOOKUP(AG52,ตั้งค่า!$AD$7:$AE$10,2,FALSE))","v":""},{"$f":"IF(AI52=\"\",\"\",VLOOKUP(AI52,ตั้งค่า!$AD$7:$AE$10,2,FALSE))","v":""},{"$f":"IF(AK52=\"\",\"\",VLOOKUP(AK52,ตั้งค่า!$AD$7:$AE$10,2,FALSE))","v":""},""]
[]
[1,2,3,4,null,4,null,4,null,4,null,4,null,4,null,4,null,4,null,4,null,4,null,4,null,4,null,18,null,20,null,21,null,21,null,22,null,64,65,64,65]

{"sheet":"ความคิดเห็นครูประจำชั้น","index":6,"n_rows":54,"n_cols":8,"rows_kept":54,"cut":false,"hidden":false,"merged":[[2,0,6,0],[2,1,6,1],[2,2,6,2],[4,6,6,6],[2,3,3,6],[5,3,6,3],[5,4,6,4],[5,5,6,5]]}
[]
[]
["เลขที่","เลขประจำตัวนักเรียน","ชื่อ-สกุล","พิมพ์ความคิดเห็นของครูประจำชั้น",null,null,null,"ย้าย"]
[]
[null,null,null,"รับผิดชอบงานดีมาก  สนใจต่อการเรียนดี","ความประพฤติเรียบร้อย  อุปนิสัยร่าเริง  มีน้ำใจ","มีมนุษยสัมพันธ์ดี  สุขภาพร่างกายแข็งแรง","หมายเหตุ"]
[null,null,null,"ความคิดเห็น 1","ความคิดเห็น 2","ความคิดเห็น 3"]
[]
[{"$f":"IF(คีย์คะแนน!A8=\"\",\"\",คีย์คะแนน!A8)","v":0},{"$f":"IF(คีย์คะแนน!B8=\"\",\"\",คีย์คะแนน!B8)","v":0},{"$f":"IF(คีย์คะแนน!C8=\"\",\"\",คีย์คะแนน!C8)","v":""},null,null,null,{"$f":"รายชื่อนักเรียน!F6","v":0}]
[{"$f":"IF(คีย์คะแนน!A9=\"\",\"\",คีย์คะแนน!A9)","v":0},{"$f":"IF(คีย์คะแนน!B9=\"\",\"\",คีย์คะแนน!B9)","v":0},{"$f":"IF(คีย์คะแนน!C9=\"\",\"\",คีย์คะแนน!C9)","v":""},null,null,null,{"$f":"รายชื่อนักเรียน!F7","v":0}]
[{"$f":"IF(คีย์คะแนน!A10=\"\",\"\",คีย์คะแนน!A10)","v":0},{"$f":"IF(คีย์คะแนน!B10=\"\",\"\",คีย์คะแนน!B10)","v":0},{"$f":"IF(คีย์คะแนน!C10=\"\",\"\",คีย์คะแนน!C10)","v":""},null,null,null,{"$f":"รายชื่อนักเรียน!F8","v":0}]
[{"$f":"IF(คีย์คะแนน!A11=\"\",\"\",คีย์คะแนน!A11)","v":0},{"$f":"IF(คีย์คะแนน!B11=\"\",\"\",คีย์คะแนน!B11)","v":0},{"$f":"IF(คีย์คะแนน!C11=\"\",\"\",คีย์คะแนน!C11)","v":""},null,null,null,{"$f":"รายชื่อนักเรียน!F9","v":0}]
[{"$f":"IF(คีย์คะแนน!A12=\"\",\"\",คีย์คะแนน!A12)","v":0},{"$f":"IF(คีย์คะแนน!B12=\"\",\"\",คีย์คะแนน!B12)","v":0},{"$f":"IF(คีย์คะแนน!C12=\"\",\"\",คีย์คะแนน!C12)","v":""},null,null,null,{"$f":"รายชื่อนักเรียน!F10","v":0}]
[{"$f":"IF(คีย์คะแนน!A13=\"\",\"\",คีย์คะแนน!A13)","v":0},{"$f":"IF(คีย์คะแนน!B13=\"\",\"\",คีย์คะแนน!B13)","v":0},{"$f":"IF(คีย์คะแนน!C13=\"\",\"\",คีย์คะแนน!C13)","v":""},null,null,null,{"$f":"รายชื่อนักเรียน!F11","v":0}]
[{"$f":"IF(คีย์คะแนน!A14=\"\",\"\",คีย์คะแนน!A14)","v":0},{"$f":"IF(คีย์คะแนน!B14=\"\",\"\",คีย์คะแนน!B14)","v":0},{"$f":"IF(คีย์คะแนน!C14=\"\",\"\",คีย์คะแนน!C14)","v":""},null,null,null,{"$f":"รายชื่อนักเรียน!F12","v":0}]
[{"$f":"IF(คีย์คะแนน!A15=\"\",\"\",คีย์คะแนน!A15)","v":0},{"$f":"IF(คีย์คะแนน!B15=\"\",\"\",คีย์คะแนน!B15)","v":0},{"$f":"IF(คีย์คะแนน!C15=\"\",\"\",คีย์คะแนน!C15)","v":""},null,null,null,{"$f":"รายชื่อนักเรียน!F13","v":0}]
[{"$f":"IF(คีย์คะแนน!A16=\"\",\"\",คีย์คะแนน!A16)","v":0},{"$f":"IF(คีย์คะแนน!B16=\"\",\"\",คีย์คะแนน!B16)","v":0},{"$f":"IF(คีย์คะแนน!C16=\"\",\"\",คีย์คะแนน!C16)","v":""},null,null,null,{"$f":"รายชื่อนักเรียน!F14","v":0}]
[{"$f":"IF(คีย์คะแนน!A17=\"\",\"\",คีย์คะแนน!A17)","v":0},{"$f":"IF(คีย์คะแนน!B17=\"\",\"\",คีย์คะแนน!B17)","v":0},{"$f":"IF(คีย์คะแนน!C17=\"\",\"\",คีย์คะแนน!C17)","v":""},null,null,null,{"$f":"รายชื่อนักเรียน!F15","v":0}]
[{"$f":"IF(คีย์คะแนน!A18=\"\",\"\",คีย์คะแนน!A18)","v":0},{"$f":"IF(คีย์คะแนน!B18=\"\",\"\",คีย์คะแนน!B18)","v":0},{"$f":"IF(คีย์คะแนน!C18=\"\",\"\",คีย์คะแนน!C18)","v":""},null,null,null,{"$f":"รายชื่อนักเรียน!F16","v":0}]
[{"$f":"IF(คีย์คะแนน!A19=\"\",\"\",คีย์คะแนน!A19)","v":0},{"$f":"IF(คีย์คะแนน!B19=\"\",\"\",คีย์คะแนน!B19)","v":0},{"$f":"IF(คีย์คะแนน!C19=\"\",\"\",คีย์คะแนน!C19)","v":""},null,null,null,{"$f":"รายชื่อนักเรียน!F17","v":0}]
[{"$f":"IF(คีย์คะแนน!A20=\"\",\"\",คีย์คะแนน!A20)","v":0},{"$f":"IF(คีย์คะแนน!B20=\"\",\"\",คีย์คะแนน!B20)","v":0},{"$f":"IF(คีย์คะแนน!C20=\"\",\"\",คีย์คะแนน!C20)","v":""},null,null,null,{"$f":"รายชื่อนักเรียน!F18","v":0}]
[{"$f":"IF(คีย์คะแนน!A21=\"\",\"\",คีย์คะแนน!A21)","v":0},{"$f":"IF(คีย์คะแนน!B21=\"\",\"\",คีย์คะแนน!B21)","v":0},{"$f":"IF(คีย์คะแนน!C21=\"\",\"\",คีย์คะแนน!C21)","v":""},null,null,null,{"$f":"รายชื่อนักเรียน!F19","v":0}]
[{"$f":"IF(คีย์คะแนน!A22=\"\",\"\",คีย์คะแนน!A22)","v":0},{"$f":"IF(คีย์คะแนน!B22=\"\",\"\",คีย์คะแนน!B22)","v":0},{"$f":"IF(คีย์คะแนน!C22=\"\",\"\",คีย์คะแนน!C22)","v":""},null,null,null,{"$f":"รายชื่อนักเรียน!F20","v":0}]
[{"$f":"IF(คีย์คะแนน!A23=\"\",\"\",คีย์คะแนน!A23)","v":0},{"$f":"IF(คีย์คะแนน!B23=\"\",\"\",คีย์คะแนน!B23)","v":0},{"$f":"IF(คีย์คะแนน!C23=\"\",\"\",คีย์คะแนน!C23)","v":""},null,null,null,{"$f":"รายชื่อนักเรียน!F21","v":0}]
[{"$f":"IF(คีย์คะแนน!A24=\"\",\"\",คีย์คะแนน!A24)","v":0},{"$f":"IF(คีย์คะแนน!B24=\"\",\"\",คีย์คะแนน!B24)","v":0},{"$f":"IF(คีย์คะแนน!C24=\"\",\"\",คีย์คะแนน!C24)","v":""},null,null,null,{"$f":"รายชื่อนักเรียน!F22","v":0}]
[{"$f":"IF(คีย์คะแนน!A25=\"\",\"\",คีย์คะแนน!A25)","v":0},{"$f":"IF(คีย์คะแนน!B25=\"\",\"\",คีย์คะแนน!B25)","v":0},{"$f":"IF(คีย์คะแนน!C25=\"\",\"\",คีย์คะแนน!C25)","v":""},null,null,null,{"$f":"รายชื่อนักเรียน!F23","v":0}]
[{"$f":"IF(คีย์คะแนน!A26=\"\",\"\",คีย์คะแนน!A26)","v":0},{"$f":"IF(คีย์คะแนน!B26=\"\",\"\",คีย์คะแนน!B26)","v":0},{"$f":"IF(คีย์คะแนน!C26=\"\",\"\",คีย์คะแนน!C26)","v":""},null,null,null,{"$f":"รายชื่อนักเรียน!F24","v":0}]
[{"$f":"IF(คีย์คะแนน!A27=\"\",\"\",คีย์คะแนน!A27)","v":0},{"$f":"IF(คีย์คะแนน!B27=\"\",\"\",คีย์คะแนน!B27)","v":0},{"$f":"IF(คีย์คะแนน!C27=\"\",\"\",คีย์คะแนน!C27)","v":""},null,null,null,{"$f":"รายชื่อนักเรียน!F25","v":0}]
[{"$f":"IF(คีย์คะแนน!A28=\"\",\"\",คีย์คะแนน!A28)","v":0},{"$f":"IF(คีย์คะแนน!B28=\"\",\"\",คีย์คะแนน!B28)","v":0},{"$f":"IF(คีย์คะแนน!C28=\"\",\"\",คีย์คะแนน!C28)","v":""},null,null,null,{"$f":"รายชื่อนักเรียน!F26","v":0}]
[{"$f":"IF(คีย์คะแนน!A29=\"\",\"\",คีย์คะแนน!A29)","v":0},{"$f":"IF(คีย์คะแนน!B29=\"\",\"\",คีย์คะแนน!B29)","v":0},{"$f":"IF(คีย์คะแนน!C29=\"\",\"\",คีย์คะแนน!C29)","v":""},null,null,null,{"$f":"รายชื่อนักเรียน!F27","v":0}]
[{"$f":"IF(คีย์คะแนน!A30=\"\",\"\",คีย์คะแนน!A30)","v":0},{"$f":"IF(คีย์คะแนน!B30=\"\",\"\",คีย์คะแนน!B30)","v":0},{"$f":"IF(คีย์คะแนน!C30=\"\",\"\",คีย์คะแนน!C30)","v":""},null,null,null,{"$f":"รายชื่อนักเรียน!F28","v":0}]
[{"$f":"IF(คีย์คะแนน!A31=\"\",\"\",คีย์คะแนน!A31)","v":0},{"$f":"IF(คีย์คะแนน!B31=\"\",\"\",คีย์คะแนน!B31)","v":0},{"$f":"IF(คีย์คะแนน!C31=\"\",\"\",คีย์คะแนน!C31)","v":""},null,null,null,{"$f":"รายชื่อนักเรียน!F29","v":0}]
[{"$f":"IF(คีย์คะแนน!A32=\"\",\"\",คีย์คะแนน!A32)","v":0},{"$f":"IF(คีย์คะแนน!B32=\"\",\"\",คีย์คะแนน!B32)","v":0},{"$f":"IF(คีย์คะแนน!C32=\"\",\"\",คีย์คะแนน!C32)","v":""},null,null,null,{"$f":"รายชื่อนักเรียน!F30","v":0}]
[{"$f":"IF(คีย์คะแนน!A33=\"\",\"\",คีย์คะแนน!A33)","v":0},{"$f":"IF(คีย์คะแนน!B33=\"\",\"\",คีย์คะแนน!B33)","v":0},{"$f":"IF(คีย์คะแนน!C33=\"\",\"\",คีย์คะแนน!C33)","v":""},null,null,null,{"$f":"รายชื่อนักเรียน!F31","v":0}]
[{"$f":"IF(คีย์คะแนน!A34=\"\",\"\",คีย์คะแนน!A34)","v":0},{"$f":"IF(คีย์คะแนน!B34=\"\",\"\",คีย์คะแนน!B34)","v":0},{"$f":"IF(คีย์คะแนน!C34=\"\",\"\",คีย์คะแนน!C34)","v":""},null,null,null,{"$f":"รายชื่อนักเรียน!F32","v":0}]
[{"$f":"IF(คีย์คะแนน!A35=\"\",\"\",คีย์คะแนน!A35)","v":0},{"$f":"IF(คีย์คะแนน!B35=\"\",\"\",คีย์คะแนน!B35)","v":0},{"$f":"IF(คีย์คะแนน!C35=\"\",\"\",คีย์คะแนน!C35)","v":""},null,null,null,{"$f":"รายชื่อนักเรียน!F33","v":0}]
[{"$f":"IF(คีย์คะแนน!A36=\"\",\"\",คีย์คะแนน!A36)","v":0},{"$f":"IF(คีย์คะแนน!B36=\"\",\"\",คีย์คะแนน!B36)","v":0},{"$f":"IF(คีย์คะแนน!C36=\"\",\"\",คีย์คะแนน!C36)","v":""},null,null,null,{"$f":"รายชื่อนักเรียน!F34","v":0}]
[{"$f":"IF(คีย์คะแนน!A37=\"\",\"\",คีย์คะแนน!A37)","v":0},{"$f":"IF(คีย์คะแนน!B37=\"\",\"\",คีย์คะแนน!B37)","v":0},{"$f":"IF(คีย์คะแนน!C37=\"\",\"\",คีย์คะแนน!C37)","v":""},null,null,null,{"$f":"รายชื่อนักเรียน!F35","v":0}]
[{"$f":"IF(คีย์คะแนน!A38=\"\",\"\",คีย์คะแนน!A38)","v":0},{"$f":"IF(คีย์คะแนน!B38=\"\",\"\",คีย์คะแนน!B38)","v":0},{"$f":"IF(คีย์คะแนน!C38=\"\",\"\",คีย์คะแนน!C38)","v":""},null,null,null,{"$f":"รายชื่อนักเรียน!F36","v":0}]
[{"$f":"IF(คีย์คะแนน!A39=\"\",\"\",คีย์คะแนน!A39)","v":0},{"$f":"IF(คีย์คะแนน!B39=\"\",\"\",คีย์คะแนน!B39)","v":0},{"$f":"IF(คีย์คะแนน!C39=\"\",\"\",คีย์คะแนน!C39)","v":""},null,null,null,{"$f":"รายชื่อนักเรียน!F37","v":0}]
[{"$f":"IF(คีย์คะแนน!A40=\"\",\"\",คีย์คะแนน!A40)","v":0},{"$f":"IF(คีย์คะแนน!B40=\"\",\"\",คีย์คะแนน!B40)","v":0},{"$f":"IF(คีย์คะแนน!C40=\"\",\"\",คีย์คะแนน!C40)","v":""},null,null,null,{"$f":"รายชื่อนักเรียน!F38","v":0}]
[{"$f":"IF(คีย์คะแนน!A41=\"\",\"\",คีย์คะแนน!A41)","v":0},{"$f":"IF(คีย์คะแนน!B41=\"\",\"\",คีย์คะแนน!B41)","v":0},{"$f":"IF(คีย์คะแนน!C41=\"\",\"\",คีย์คะแนน!C41)","v":""},null,null,null,{"$f":"รายชื่อนักเรียน!F39","v":0}]
[{"$f":"IF(คีย์คะแนน!A42=\"\",\"\",คีย์คะแนน!A42)","v":0},{"$f":"IF(คีย์คะแนน!B42=\"\",\"\",คีย์คะแนน!B42)","v":0},{"$f":"IF(คีย์คะแนน!C42=\"\",\"\",คีย์คะแนน!C42)","v":""},null,null,null,{"$f":"รายชื่อนักเรียน!F40","v":0}]
[{"$f":"IF(คีย์คะแนน!A43=\"\",\"\",คีย์คะแนน!A43)","v":0},{"$f":"IF(คีย์คะแนน!B43=\"\",\"\",คีย์คะแนน!B43)","v":0},{"$f":"IF(คีย์คะแนน!C43=\"\",\"\",คีย์คะแนน!C43)","v":""},null,null,null,{"$f":"รายชื่อนักเรียน!F41","v":0}]
[{"$f":"IF(คีย์คะแนน!A44=\"\",\"\",คีย์คะแนน!A44)","v":0},{"$f":"IF(คีย์คะแนน!B44=\"\",\"\",คีย์คะแนน!B44)","v":0},{"$f":"IF(คีย์คะแนน!C44=\"\",\"\",คีย์คะแนน!C44)","v":""},null,null,null,{"$f":"รายชื่อนักเรียน!F42","v":0}]
[{"$f":"IF(คีย์คะแนน!A45=\"\",\"\",คีย์คะแนน!A45)","v":0},{"$f":"IF(คีย์คะแนน!B45=\"\",\"\",คีย์คะแนน!B45)","v":0},{"$f":"IF(คีย์คะแนน!C45=\"\",\"\",คีย์คะแนน!C45)","v":""},null,null,null,{"$f":"รายชื่อนักเรียน!F43","v":0}]
[{"$f":"IF(คีย์คะแนน!A46=\"\",\"\",คีย์คะแนน!A46)","v":0},{"$f":"IF(คีย์คะแนน!B46=\"\",\"\",คีย์คะแนน!B46)","v":0},{"$f":"IF(คีย์คะแนน!C46=\"\",\"\",คีย์คะแนน!C46)","v":""},null,null,null,{"$f":"รายชื่อนักเรียน!F44","v":0}]
[{"$f":"IF(คีย์คะแนน!A47=\"\",\"\",คีย์คะแนน!A47)","v":0},{"$f":"IF(คีย์คะแนน!B47=\"\",\"\",คีย์คะแนน!B47)","v":0},{"$f":"IF(คีย์คะแนน!C47=\"\",\"\",คีย์คะแนน!C47)","v":""},null,null,null,{"$f":"รายชื่อนักเรียน!F45","v":0}]
[{"$f":"IF(คีย์คะแนน!A48=\"\",\"\",คีย์คะแนน!A48)","v":0},{"$f":"IF(คีย์คะแนน!B48=\"\",\"\",คีย์คะแนน!B48)","v":0},{"$f":"IF(คีย์คะแนน!C48=\"\",\"\",คีย์คะแนน!C48)","v":""},null,null,null,{"$f":"รายชื่อนักเรียน!F46","v":0}]
[{"$f":"IF(คีย์คะแนน!A49=\"\",\"\",คีย์คะแนน!A49)","v":0},{"$f":"IF(คีย์คะแนน!B49=\"\",\"\",คีย์คะแนน!B49)","v":0},{"$f":"IF(คีย์คะแนน!C49=\"\",\"\",คีย์คะแนน!C49)","v":""},null,null,null,{"$f":"รายชื่อนักเรียน!F47","v":0}]
[{"$f":"IF(คีย์คะแนน!A50=\"\",\"\",คีย์คะแนน!A50)","v":0},{"$f":"IF(คีย์คะแนน!B50=\"\",\"\",คีย์คะแนน!B50)","v":0},{"$f":"IF(คีย์คะแนน!C50=\"\",\"\",คีย์คะแนน!C50)","v":""},null,null,null,{"$f":"รายชื่อนักเรียน!F48","v":0}]
[{"$f":"IF(คีย์คะแนน!A51=\"\",\"\",คีย์คะแนน!A51)","v":0},{"$f":"IF(คีย์คะแนน!B51=\"\",\"\",คีย์คะแนน!B51)","v":0},{"$f":"IF(คีย์คะแนน!C51=\"\",\"\",คีย์คะแนน!C51)","v":""},null,null,null,{"$f":"รายชื่อนักเรียน!F49","v":0}]
[{"$f":"IF(คีย์คะแนน!A52=\"\",\"\",คีย์คะแนน!A52)","v":0},{"$f":"IF(คีย์คะแนน!B52=\"\",\"\",คีย์คะแนน!B52)","v":0},{"$f":"IF(คีย์คะแนน!C52=\"\",\"\",คีย์คะแนน!C52)","v":""},null,null,null,{"$f":"รายชื่อนักเรียน!F50","v":0}]
[]
[1,2,3,4,5,6]

{"sheet":"ปพ.6 T1 (50คะแนน)","index":7,"n_rows":40,"n_cols":24,"rows_kept":40,"cut":false,"hidden":false,"merged":[[2,2,2,16],[39,8,39,11],[10,11,10,12],[10,13,10,14],[10,15,10,16],[11,11,11,12],[11,13,11,14],[14,11,14,12],[14,13,14,14],[14,15,14,16],[11,15,11,16],[39,12,39,17],[28,1,28,16],[29,1,29,6],[29,7,29,11],[29,12,29,16],[30,1,30,6],[30,7,30,11],[30,12,30,16],[25,11,25,12],[22,2,22,3],[21,2,21,3],[20,2,20,3],[19,2,19,3],[10,2,10,3],[1,2,1,16],[1,19,1,22],[15,11,15,12],[15,13,15,14],[15,15,15,16],[13,11,13,12],[13,13,13,14],[13,15,13,16],[2,19,2,21],[12,11,12,12],[12,13,12,14],[12,15,12,16],[2,22,2,23],[6,3,6,4],[6,5,6,8],[6,9,6,10],[6,11,6,12],[6,15,6,16],[7,19,7,23],[8,19,8,23],[5,4,5,6],[5,13,5,14],[9,11,9,12],[9,13,9,14],[4,19,5,22],[4,23,5,23],[24,15,24,16],[21,15,21,16],[22,11,22,12],[22,13,22,14],[22,15,22,16],[23,11,23,12],[23,13,23,14],[23,15,23,16],[19,15,19,16],[20,11,20,12],[20,13,20,14],[20,15,20,16],[19,13,19,14],[21,11,21,12],[9,15,9,16],[15,19,15,23],[21,13,21,14],[16,15,16,16],[7,15,8,16],[37,7,37,11],[38,7,38,11],[31,1,31,8],[3,3,3,7],[3,8,3,13],[36,8,36,11],[24,11,24,12],[24,13,24,14],[17,11,17,12],[16,11,16,12],[16,13,16,14],[6,13,6,14],[38,12,38,17],[37,12,37,17],[37,1,37,6],[38,1,38,6],[19,11,19,12],[17,13,17,14],[17,15,17,16],[18,11,18,12],[18,13,18,14],[18,15,18,16],[7,1,8,1],[7,13,8,14],[32,1,32,9],[33,1,33,9],[34,1,34,9],[31,11,31,14],[25,13,25,14],[25,15,25,16],[7,11,8,12],[24,4,24,9],[7,2,8,3],[9,4,9,9],[10,4,10,9],[7,4,8,9],[11,4,11,9],[26,1,26,10],[26,13,26,14],[26,11,26,12],[26,15,26,16],[9,2,9,3],[25,2,25,3],[24,2,24,3],[23,2,23,3],[11,2,11,3],[12,2,12,3],[13,2,13,3],[14,2,14,3],[15,2,15,3],[16,2,16,3],[17,2,17,3],[18,2,18,3],[21,4,21,9],[22,4,22,9],[23,4,23,9],[25,4,25,9],[20,4,20,9],[7,10,8,10],[12,4,12,9],[13,4,13,9],[14,4,14,9],[15,4,15,9],[16,4,16,9],[17,4,17,9],[18,4,18,9],[19,4,19,9]]}
[null,null,null,null,null,null,null,null,null,null,null,null,null,null,null,null,null,{"$f":"IFERROR(IF(VLOOKUP($X$2,คีย์คะแนน!$A$8:$FI$52,165,FALSE)=\"\",\"\",VLOOKUP($X$2,คีย์คะแนน!$A$8:$FI$52,165,FALSE)),\"\")","v":""}]
[null,null,"แบบรายงานผลการพัฒนาคุณภาพผู้เรียนรายบุคคล (ปพ.6)",null,null,null,null,null,null,null,null,null,null,null,null,null,null,null,null,"เลือกเลขที่นักเรียนที่ต้องการพิมพ์",null,null,null,1]
[null,null,{"$f":"\"โรงเรียน\"&ตั้งค่า!D9&\"  \"&ตั้งค่า!D8","v":"โรงเรียนบ้านหัวคลอง  สำนักงานเขตพื้นที่การศึกษาประถมศึกษานราธิวาส เขต 2"}]
[null,null,null,"เรียน    ผู้ปกครองของ",null,null,null,null,{"$f":"IFERROR(IF(VLOOKUP($X$2,คีย์คะแนน!$A$8:$DK$52,3,FALSE)=\"\",\"\",VLOOKUP($X$2,คีย์คะแนน!$A$8:$DK$52,3,FALSE)),\"\")","v":""}]
[null,null,null,null,null,{"$f":"\"ทางโรงเรียน  ขอแจ้งผลการเรียนของ\"","v":"ทางโรงเรียน  ขอแจ้งผลการเรียนของ"},null,null,null,null,null,{"$f":"I4","v":""},null,null,null,null,null,null,null,"ปพ.6 ภาคเรียนที่ ",null,null,null,1]
[null,null,"เลขประจำตัว",null,{"$f":"IFERROR(IF(VLOOKUP($X$2,คีย์คะแนน!$A$8:$DK$52,2,FALSE)=\"\",\"\",VLOOKUP($X$2,คีย์คะแนน!$A$8:$DK$52,2,FALSE)),\"\")","v":""},null,null,"ชั้น",{"$f":"ตั้งค่า!D10","v":0},null,null,"ภาคเรียนที่ 1",null,"ปีการศึกษา",null,{"$f":"ตั้งค่า!D7","v":0}]
[]
[null,"ที่","รหัสวิชา",null,"รายชื่อวิชา",null,null,null,null,null,"ประเภทรายวิชา","คะแนนเต็ม",null,"ได้คะแนน",null,"หมายเหตุ",null,null,null,"ห้ามแก้ไขข้อมูลหน้านี้เด็ดขาด"]
[null,null,null,null,null,null,null,null,null,null,null,null,null,null,null,null,null,null,null,"อาจทำให้การประมวลผลของโปรแกรมผิดพลาด"]
[null,{"$f":"IF(C11=\"\",\"\",1)","v":""},{"$f":"IF(ลงหลักสูตร!$B3=\"\",\"\",ลงหลักสูตร!$B3)","v":""},null,{"$f":"IF(ลงหลักสูตร!$C3=\"\",\"\",ลงหลักสูตร!$C3)","v":""},null,null,null,null,null,{"$f":"IF(ลงหลักสูตร!$E3=\"\",\"\",ลงหลักสูตร!$E3)","v":""},{"$f":"IF(ลงหลักสูตร!$C3=\"\",\"\",\"50\")","v":""},null,{"$f":"IF($P10=\"ร\",\"\",IF($P10=\"มส\",\"\",IF(L10=\"\",\"\",IF(I4=\"\",\"\",(VLOOKUP($X$2,คีย์คะแนน!$A$8:$EV$52,4,FALSE))))))","v":""}]
[null,{"$f":"IF(C11=\"\",\"\",B10+1)","v":""},{"$f":"IF(ลงหลักสูตร!$B4=\"\",\"\",ลงหลักสูตร!$B4)","v":""},null,{"$f":"IF(ลงหลักสูตร!$C4=\"\",\"\",ลงหลักสูตร!$C4)","v":""},null,null,null,null,null,{"$f":"IF(ลงหลักสูตร!$E4=\"\",\"\",ลงหลักสูตร!$E4)","v":""},{"$f":"IF(ลงหลักสูตร!$C4=\"\",\"\",\"50\")","v":""},null,{"$f":"IF($P11=\"ร\",\"\",IF($P11=\"มส\",\"\",IF(L11=\"\",\"\",IF(I4=\"\",\"\",(VLOOKUP($X$2,คีย์คะแนน!$A$8:$EV$52,8,FALSE))))))","v":""}]
[null,{"$f":"IF(C12=\"\",\"\",B11+1)","v":""},{"$f":"IF(ลงหลักสูตร!$B5=\"\",\"\",ลงหลักสูตร!$B5)","v":""},null,{"$f":"IF(ลงหลักสูตร!$C5=\"\",\"\",ลงหลักสูตร!$C5)","v":""},null,null,null,null,null,{"$f":"IF(ลงหลักสูตร!$E5=\"\",\"\",ลงหลักสูตร!$E5)","v":""},{"$f":"IF(ลงหลักสูตร!$C5=\"\",\"\",\"50\")","v":""},null,{"$f":"IF($P12=\"ร\",\"\",IF($P12=\"มส\",\"\",IF(L12=\"\",\"\",IF(I4=\"\",\"\",(VLOOKUP($X$2,คีย์คะแนน!$A$8:$EV$52,12,FALSE))))))","v":""}]
[null,"",{"$f":"IF(ลงหลักสูตร!$B6=\"\",\"\",ลงหลักสูตร!$B6)","v":""},null,{"$f":"IF(ลงหลักสูตร!$C6=\"\",\"\",ลงหลักสูตร!$C6)","v":""},null,null,null,null,null,{"$f":"IF(ลงหลักสูตร!$E6=\"\",\"\",ลงหลักสูตร!$E6)","v":""},{"$f":"IF(ลงหลักสูตร!$C6=\"\",\"\",\"50\")","v":""},null,{"$f":"IF($P13=\"ร\",\"\",IF($P13=\"มส\",\"\",IF(L13=\"\",\"\",IF(I4=\"\",\"\",(VLOOKUP($X$2,คีย์คะแนน!$A$8:$EV$52,16,FALSE))))))","v":""}]
[null,"",{"$f":"IF(ลงหลักสูตร!$B7=\"\",\"\",ลงหลักสูตร!$B7)","v":""},null,{"$f":"IF(ลงหลักสูตร!$C7=\"\",\"\",ลงหลักสูตร!$C7)","v":""},null,null,null,null,null,{"$f":"IF(ลงหลักสูตร!$E7=\"\",\"\",ลงหลักสูตร!$E7)","v":""},{"$f":"IF(ลงหลักสูตร!$C7=\"\",\"\",\"50\")","v":""},null,{"$f":"IF($P14=\"ร\",\"\",IF($P14=\"มส\",\"\",IF(L14=\"\",\"\",IF(I4=\"\",\"\",(VLOOKUP($X$2,คีย์คะแนน!$A$8:$EV$52,20,FALSE))))))","v":""}]
[null,"",{"$f":"IF(ลงหลักสูตร!$B8=\"\",\"\",ลงหลักสูตร!$B8)","v":""},null,{"$f":"IF(ลงหลักสูตร!$C8=\"\",\"\",ลงหลักสูตร!$C8)","v":""},null,null,null,null,null,{"$f":"IF(ลงหลักสูตร!$E8=\"\",\"\",ลงหลักสูตร!$E8)","v":""},{"$f":"IF(ลงหลักสูตร!$C8=\"\",\"\",\"50\")","v":""},null,{"$f":"IF($P15=\"ร\",\"\",IF($P15=\"มส\",\"\",IF(L15=\"\",\"\",IF(I4=\"\",\"\",(VLOOKUP($X$2,คีย์คะแนน!$A$8:$EV$52,24,FALSE))))))","v":""}]
[null,"",{"$f":"IF(ลงหลักสูตร!$B9=\"\",\"\",ลงหลักสูตร!$B9)","v":""},null,{"$f":"IF(ลงหลักสูตร!$C9=\"\",\"\",ลงหลักสูตร!$C9)","v":""},null,null,null,null,null,{"$f":"IF(ลงหลักสูตร!$E9=\"\",\"\",ลงหลักสูตร!$E9)","v":""},{"$f":"IF(ลงหลักสูตร!$C9=\"\",\"\",\"50\")","v":""},null,{"$f":"IF($P16=\"ร\",\"\",IF($P16=\"มส\",\"\",IF(L16=\"\",\"\",IF(I4=\"\",\"\",(VLOOKUP($X$2,คีย์คะแนน!$A$8:$EV$52,28,FALSE))))))","v":""},null,null,null,null,null,"สำหรับเตรียมไฟล์สำหรับแสกน QR CODE เท่านั้น"]
[null,"",{"$f":"IF(ลงหลักสูตร!$B10=\"\",\"\",ลงหลักสูตร!$B10)","v":""},null,{"$f":"IF(ลงหลักสูตร!$C10=\"\",\"\",ลงหลักสูตร!$C10)","v":""},null,null,null,null,null,{"$f":"IF(ลงหลักสูตร!$E10=\"\",\"\",ลงหลักสูตร!$E10)","v":""},{"$f":"IF(ลงหลักสูตร!$C10=\"\",\"\",\"50\")","v":""},null,{"$f":"IF($P17=\"ร\",\"\",IF($P17=\"มส\",\"\",IF(L17=\"\",\"\",IF(I4=\"\",\"\",(VLOOKUP($X$2,คีย์คะแนน!$A$8:$EV$52,32,FALSE))))))","v":""}]
[null,"",{"$f":"IF(ลงหลักสูตร!$B11=\"\",\"\",ลงหลักสูตร!$B11)","v":""},null,{"$f":"IF(ลงหลักสูตร!$C11=\"\",\"\",ลงหลักสูตร!$C11)","v":""},null,null,null,null,null,{"$f":"IF(ลงหลักสูตร!$E11=\"\",\"\",ลงหลักสูตร!$E11)","v":""},{"$f":"IF(ลงหลักสูตร!$C11=\"\",\"\",\"50\")","v":""},null,{"$f":"IF($P18=\"ร\",\"\",IF($P18=\"มส\",\"\",IF(L18=\"\",\"\",IF(I4=\"\",\"\",(VLOOKUP($X$2,คีย์คะแนน!$A$8:$EV$52,36,FALSE))))))","v":""}]
[null,"",{"$f":"IF(ลงหลักสูตร!$B12=\"\",\"\",ลงหลักสูตร!$B12)","v":""},null,{"$f":"IF(ลงหลักสูตร!$C12=\"\",\"\",ลงหลักสูตร!$C12)","v":""},null,null,null,null,null,{"$f":"IF(ลงหลักสูตร!$E12=\"\",\"\",ลงหลักสูตร!$E12)","v":""},{"$f":"IF(ลงหลักสูตร!$C12=\"\",\"\",\"50\")","v":""},null,{"$f":"IF($P19=\"ร\",\"\",IF($P19=\"มส\",\"\",IF(L19=\"\",\"\",IF(I4=\"\",\"\",(VLOOKUP($X$2,คีย์คะแนน!$A$8:$EV$52,40,FALSE))))))","v":""}]
[null,"",{"$f":"IF(ลงหลักสูตร!$B13=\"\",\"\",ลงหลักสูตร!$B13)","v":""},null,{"$f":"IF(ลงหลักสูตร!$C13=\"\",\"\",ลงหลักสูตร!$C13)","v":""},null,null,null,null,null,{"$f":"IF(ลงหลักสูตร!$E13=\"\",\"\",ลงหลักสูตร!$E13)","v":""},{"$f":"IF(ลงหลักสูตร!$C13=\"\",\"\",\"50\")","v":""},null,{"$f":"IF($P20=\"ร\",\"\",IF($P20=\"มส\",\"\",IF(L20=\"\",\"\",IF(I4=\"\",\"\",(VLOOKUP($X$2,คีย์คะแนน!$A$8:$EV$52,44,FALSE))))))","v":""}]
[null,{"$f":"IF(C21=\"\",\"\",B20+1)","v":""},{"$f":"IF(ลงหลักสูตร!$B14=\"\",\"\",ลงหลักสูตร!$B14)","v":""},null,{"$f":"IF(ลงหลักสูตร!$C14=\"\",\"\",ลงหลักสูตร!$C14)","v":""},null,null,null,null,null,{"$f":"IF(ลงหลักสูตร!$E14=\"\",\"\",ลงหลักสูตร!$E14)","v":""},{"$f":"IF(ลงหลักสูตร!$C14=\"\",\"\",\"50\")","v":""},null,{"$f":"IF($P21=\"ร\",\"\",IF($P21=\"มส\",\"\",IF(L21=\"\",\"\",IF(I4=\"\",\"\",(VLOOKUP($X$2,คีย์คะแนน!$A$8:$EV$52,48,FALSE))))))","v":""}]
[null,{"$f":"IF(C22=\"\",\"\",B21+1)","v":""},{"$f":"IF(ลงหลักสูตร!$B15=\"\",\"\",ลงหลักสูตร!$B15)","v":""},null,{"$f":"IF(ลงหลักสูตร!$C15=\"\",\"\",ลงหลักสูตร!$C15)","v":""},null,null,null,null,null,{"$f":"IF(ลงหลักสูตร!$E15=\"\",\"\",ลงหลักสูตร!$E15)","v":""},{"$f":"IF(ลงหลักสูตร!$C15=\"\",\"\",\"50\")","v":""},null,{"$f":"IF($P22=\"ร\",\"\",IF($P22=\"มส\",\"\",IF(L22=\"\",\"\",IF(I4=\"\",\"\",(VLOOKUP($X$2,คีย์คะแนน!$A$8:$EV$52,52,FALSE))))))","v":""}]
[null,"",{"$f":"IF(ลงหลักสูตร!$B16=\"\",\"\",ลงหลักสูตร!$B16)","v":""},null,{"$f":"IF(ลงหลักสูตร!$C16=\"\",\"\",ลงหลักสูตร!$C16)","v":""},null,null,null,null,null,{"$f":"IF(ลงหลักสูตร!$E16=\"\",\"\",ลงหลักสูตร!$E16)","v":""},{"$f":"IF(ลงหลักสูตร!$C16=\"\",\"\",\"50\")","v":""},null,{"$f":"IF($P23=\"ร\",\"\",IF($P23=\"มส\",\"\",IF(L23=\"\",\"\",IF(I4=\"\",\"\",(VLOOKUP($X$2,คีย์คะแนน!$A$8:$EV$52,56,FALSE))))))","v":""}]
[null,"",{"$f":"IF(ลงหลักสูตร!$B17=\"\",\"\",ลงหลักสูตร!$B17)","v":""},null,{"$f":"IF(ลงหลักสูตร!$C17=\"\",\"\",ลงหลักสูตร!$C17)","v":""},null,null,null,null,null,{"$f":"IF(ลงหลักสูตร!$E17=\"\",\"\",ลงหลักสูตร!$E17)","v":""},{"$f":"IF(ลงหลักสูตร!$C17=\"\",\"\",\"50\")","v":""},null,{"$f":"IF($P24=\"ร\",\"\",IF($P24=\"มส\",\"\",IF(L24=\"\",\"\",IF(I4=\"\",\"\",(VLOOKUP($X$2,คีย์คะแนน!$A$8:$EV$52,60,FALSE))))))","v":""}]
[null,{"$f":"IF(C25=\"\",\"\",B24+1)","v":""},{"$f":"IF(ลงหลักสูตร!$B18=\"\",\"\",ลงหลักสูตร!$B18)","v":""},null,{"$f":"IF(ลงหลักสูตร!$C18=\"\",\"\",ลงหลักสูตร!$C18)","v":""},null,null,null,null,null,{"$f":"IF(ลงหลักสูตร!$E18=\"\",\"\",ลงหลักสูตร!$E18)","v":""},{"$f":"IF(ลงหลักสูตร!$C18=\"\",\"\",\"50\")","v":""},null,{"$f":"IF($P25=\"ร\",\"\",IF($P25=\"มส\",\"\",IF(L25=\"\",\"\",IF(I4=\"\",\"\",(VLOOKUP($X$2,คีย์คะแนน!$A$8:$EV$52,64,FALSE))))))","v":""}]
[null,{"$f":"IF(C26=\"\",\"\",B25+1)","v":""},{"$f":"IF(ลงหลักสูตร!$B19=\"\",\"\",ลงหลักสูตร!$B19)","v":""},null,{"$f":"IF(ลงหลักสูตร!$C19=\"\",\"\",ลงหลักสูตร!$C19)","v":""},null,null,null,null,null,{"$f":"IF(ลงหลักสูตร!$E19=\"\",\"\",ลงหลักสูตร!$E19)","v":""},{"$f":"IF(ลงหลักสูตร!$C19=\"\",\"\",\"50\")","v":""},null,{"$f":"IF($P26=\"ร\",\"\",IF($P26=\"มส\",\"\",IF(L26=\"\",\"\",IF(I4=\"\",\"\",(VLOOKUP($X$2,คีย์คะแนน!$A$8:$EV$52,68,FALSE))))))","v":""}]
[null,"ได้คะแนนรวมทุกวิชา  ",null,null,null,null,null,null,null,null,null,{"$f":"IFERROR(IF(VLOOKUP($X$2,คีย์คะแนน!$A$8:$EV$52,151,FALSE)=\"\",\"\",VLOOKUP($X$2,คีย์คะแนน!$A$8:$EV$52,151,FALSE)),\"\")","v":""},null,"ได้ลำดับที่ ",null,{"$f":"IFERROR(IF(VLOOKUP($X$2,คีย์คะแนน!$A$8:$EV$52,152,FALSE)=\"\",\"\",VLOOKUP($X$2,คีย์คะแนน!$A$8:$EV$52,152,FALSE)),\"\")","v":""}]
[]
[null,"สรุปผลการประเมินด้านต่างๆ"]
[null,"คุณลักษณะอันพึงประสงค์",null,null,null,null,null,"การอ่าน คิดวิเคราะห์ และเขียน",null,null,null,null,"กิจกรรมพัฒนาผู้เรียน"]
[null,{"$f":"IFERROR(IF(VLOOKUP($X$2,คีย์คะแนน!$A$8:$DK$52,72,FALSE)=\"\",\"\",VLOOKUP($X$2,คีย์คะแนน!$A$8:$DK$52,72,FALSE)),\"\")","v":""},null,null,null,null,null,{"$f":"IFERROR(IF(VLOOKUP($X$2,คีย์คะแนน!$A$8:$DK$52,73,FALSE)=\"\",\"\",VLOOKUP($X$2,คีย์คะแนน!$A$8:$DK$52,73,FALSE)),\"\")","v":""},null,null,null,null,{"$f":"IFERROR(IF(VLOOKUP($X$2,คีย์คะแนน!$A$8:$DK$52,74,FALSE)=\"\",\"\",VLOOKUP($X$2,คีย์คะแนน!$A$8:$DK$52,74,FALSE)),\"\")","v":""}]
[null,"ความคิดเห็นของครูประจำชั้น",null,null,null,null,null,null,null,null,null,"ความคิดเห็นของผู้ปกครอง"]
[null,{"$f":"IFERROR(IF(VLOOKUP($X$2,ความคิดเห็นครูประจำชั้น!$A$8:$F$52,4,FALSE)=\"\",\"\",VLOOKUP($X$2,ความคิดเห็นครูประจำชั้น!$A$8:$F$52,4,FALSE)),\"\")","v":""}]
[null,{"$f":"IFERROR(IF(VLOOKUP($X$2,ความคิดเห็นครูประจำชั้น!$A$8:$F$52,5,FALSE)=\"\",\"\",VLOOKUP($X$2,ความคิดเห็นครูประจำชั้น!$A$8:$F$52,5,FALSE)),\"\")","v":""}]
[null,{"$f":"IFERROR(IF(VLOOKUP($X$2,ความคิดเห็นครูประจำชั้น!$A$8:$F$52,6,FALSE)=\"\",\"\",VLOOKUP($X$2,ความคิดเห็นครูประจำชั้น!$A$8:$F$52,6,FALSE)),\"\")","v":""},null,null,null,null,null,null,null,null,null,null,"(ลงชื่อ).....................................................ผู้ปกครอง"]
[]
[null,"ลงชื่อ",null,null,null,null,null,"ลงชื่อ",null,null,null,null,"ลงชื่อ"]
[null,{"$f":"IF(ตั้งค่า!D11=\"\",\"\",\"( \" & ตั้งค่า!D11& \" )\")","v":""},null,null,null,null,null,{"$f":"IF(ตั้งค่า!D12=\"\",\"\",\"( \" & ตั้งค่า!D12& \" )\")","v":""},null,null,null,null,{"$f":"IF(ตั้งค่า!D14=\"\",\"\",\"( \" & ตั้งค่า!D14 & \" )\")","v":""}]
[null,"ครูประจำชั้นคนที่ 1",null,null,null,null,null,"ครูประจำชั้นคนที่ 2",null,null,null,null,{"$f":"CONCATENATE(ตั้งค่า!C14,ตั้งค่า!D9)","v":"ผู้อำนวยการโรงเรียนบ้านหัวคลอง"}]
[null,null,null,null,null,null,null,null,null,null,null,null,{"$f":"ตั้งค่า!D15","v":"00:00:00"}]

{"sheet":"ปพ.6 T1 (100 คะแนน)","index":8,"n_rows":40,"n_cols":24,"rows_kept":40,"cut":false,"hidden":false,"merged":[[7,19,7,23],[9,11,9,12],[9,13,9,14],[9,15,9,16],[7,2,8,3],[9,2,9,3],[7,4,8,9],[9,4,9,9],[15,19,15,23],[8,19,8,23],[11,11,11,12],[11,13,11,14],[11,15,11,16],[12,11,12,12],[12,13,12,14],[12,15,12,16],[13,11,13,12],[13,13,13,14],[13,15,13,16],[11,2,11,3],[12,2,12,3],[13,2,13,3],[14,2,14,3],[15,2,15,3],[1,2,1,16],[1,19,1,22],[2,19,2,21],[2,22,2,23],[3,3,3,7],[3,8,3,13],[4,19,5,22],[4,23,5,23],[5,4,5,6],[5,13,5,14],[2,2,2,16],[6,3,6,4],[6,5,6,8],[6,9,6,10],[6,11,6,12],[6,13,6,14],[10,11,10,12],[10,13,10,14],[10,15,10,16],[6,15,6,16],[8,11,8,12],[7,11,7,12],[10,2,10,3],[16,11,16,12],[16,13,16,14],[16,15,16,16],[17,11,17,12],[17,13,17,14],[17,15,17,16],[14,11,14,12],[14,13,14,14],[14,15,14,16],[15,11,15,12],[15,13,15,14],[15,15,15,16],[18,11,18,12],[18,13,18,14],[18,15,18,16],[19,11,19,12],[19,13,19,14],[19,15,19,16],[19,2,19,3],[18,4,18,9],[19,4,19,9],[20,11,20,12],[20,13,20,14],[20,15,20,16],[21,11,21,12],[21,13,21,14],[21,15,21,16],[20,2,20,3],[21,2,21,3],[20,4,20,9],[21,4,21,9],[22,11,22,12],[22,13,22,14],[22,15,22,16],[23,11,23,12],[23,13,23,14],[23,15,23,16],[22,2,22,3],[23,2,23,3],[22,4,22,9],[23,4,23,9],[24,13,24,14],[24,15,24,16],[30,1,30,6],[30,7,30,11],[30,12,30,16],[31,1,31,8],[26,1,26,10],[26,11,26,12],[26,13,26,14],[26,15,26,16],[24,2,24,3],[25,2,25,3],[24,4,24,9],[25,4,25,9],[7,1,8,1],[7,13,8,14],[7,15,8,16],[38,1,38,6],[38,7,38,11],[39,8,39,11],[36,8,36,11],[37,1,37,6],[37,7,37,11],[38,12,38,17],[37,12,37,17],[39,12,39,17],[33,1,33,9],[34,1,34,9],[25,11,25,12],[25,13,25,14],[25,15,25,16],[28,1,28,16],[29,1,29,6],[29,7,29,11],[29,12,29,16],[32,1,32,9],[31,11,31,14],[24,11,24,12],[16,2,16,3],[17,2,17,3],[18,2,18,3],[10,4,10,9],[7,10,8,10],[11,4,11,9],[12,4,12,9],[13,4,13,9],[14,4,14,9],[15,4,15,9],[16,4,16,9],[17,4,17,9]]}
[null,null,null,null,null,null,null,null,null,null,null,null,null,null,null,null,null,{"$f":"IFERROR(IF(VLOOKUP($X$2,คีย์คะแนน!$A$8:$FI$52,165,FALSE)=\"\",\"\",VLOOKUP($X$2,คีย์คะแนน!$A$8:$FI$52,165,FALSE)),\"\")","v":""}]
[null,null,"แบบรายงานผลการพัฒนาคุณภาพผู้เรียนรายบุคคล (ปพ.6)",null,null,null,null,null,null,null,null,null,null,null,null,null,null,null,null,"เลือกเลขที่นักเรียนที่ต้องการพิมพ์",null,null,null,1]
[null,null,{"$f":"\"โรงเรียน\"&ตั้งค่า!D9&\"  \"&ตั้งค่า!D8","v":"โรงเรียนบ้านหัวคลอง  สำนักงานเขตพื้นที่การศึกษาประถมศึกษานราธิวาส เขต 2"}]
[null,null,null,"เรียน    ผู้ปกครองของ",null,null,null,null,{"$f":"IFERROR(IF(VLOOKUP($X$2,คีย์คะแนน!$A$8:$DK$52,3,FALSE)=\"\",\"\",VLOOKUP($X$2,คีย์คะแนน!$A$8:$DK$52,3,FALSE)),\"\")","v":""}]
[null,null,null,null,null,{"$f":"\"ทางโรงเรียน  ขอแจ้งผลการเรียนของ\"","v":"ทางโรงเรียน  ขอแจ้งผลการเรียนของ"},null,null,null,null,null,{"$f":"I4","v":""},null,null,null,null,null,null,null,"ปพ.6 ภาคเรียนที่ ",null,null,null,1]
[null,null,"เลขประจำตัว",null,{"$f":"IFERROR(IF(VLOOKUP($X$2,คีย์คะแนน!$A$8:$DK$52,2,FALSE)=\"\",\"\",VLOOKUP($X$2,คีย์คะแนน!$A$8:$DK$52,2,FALSE)),\"\")","v":""},null,null,"ชั้น",{"$f":"ตั้งค่า!D10","v":0},null,null,"ภาคเรียนที่ 1",null,"ปีการศึกษา",null,{"$f":"ตั้งค่า!D7","v":0}]
[]
[null,"ที่","รหัสวิชา",null,"รายชื่อวิชา",null,null,null,null,null,"ประเภทรายวิชา","คะแนนเต็ม 100",null,"ผลการเรียน",null,"หมายเหตุ",null,null,null,"ห้ามแก้ไขข้อมูลหน้านี้เด็ดขาด"]
[null,null,null,null,null,null,null,null,null,null,null,"ได้คะแนน",null,null,null,null,null,null,null,"อาจทำให้การประมวลผลของโปรแกรมผิดพลาด"]
[null,{"$f":"IF(C11=\"\",\"\",1)","v":""},{"$f":"IF(ลงหลักสูตร!$B3=\"\",\"\",ลงหลักสูตร!$B3)","v":""},null,{"$f":"IF(ลงหลักสูตร!$C3=\"\",\"\",ลงหลักสูตร!$C3)","v":""},null,null,null,null,null,{"$f":"IF(ลงหลักสูตร!$E3=\"\",\"\",ลงหลักสูตร!$E3)","v":""},{"$f":"IFERROR(IF(VLOOKUP($X$2,คีย์คะแนน!$A$8:$DK$52,4,FALSE)=\"\",\"\",VLOOKUP($X$2,คีย์คะแนน!$A$8:$DK$52,4,FALSE))*2,\"\")","v":""},null,{"$f":"IF($L10=\"\",\"\",IF($L10>=80,4,IF($L10>=75,3.5,IF($L10>=70,3,IF($L10>=65,2.5,IF($L10>=60,2,IF($L10>=55,1.5,IF($L10>=50,1,0))))))))","v":""}]
[null,{"$f":"IF(C11=\"\",\"\",B10+1)","v":""},{"$f":"IF(ลงหลักสูตร!$B4=\"\",\"\",ลงหลักสูตร!$B4)","v":""},null,{"$f":"IF(ลงหลักสูตร!$C4=\"\",\"\",ลงหลักสูตร!$C4)","v":""},null,null,null,null,null,{"$f":"IF(ลงหลักสูตร!$E4=\"\",\"\",ลงหลักสูตร!$E4)","v":""},{"$f":"IFERROR(IF(VLOOKUP($X$2,คีย์คะแนน!$A$8:$DK$52,8,FALSE)=\"\",\"\",VLOOKUP($X$2,คีย์คะแนน!$A$8:$DK$52,8,FALSE))*2,\"\")","v":""},null,{"$f":"IF($L11=\"\",\"\",IF($L11>=80,4,IF($L11>=75,3.5,IF($L11>=70,3,IF($L11>=65,2.5,IF($L11>=60,2,IF($L11>=55,1.5,IF($L11>=50,1,0))))))))","v":""}]
[null,{"$f":"IF(C12=\"\",\"\",B11+1)","v":""},{"$f":"IF(ลงหลักสูตร!$B5=\"\",\"\",ลงหลักสูตร!$B5)","v":""},null,{"$f":"IF(ลงหลักสูตร!$C5=\"\",\"\",ลงหลักสูตร!$C5)","v":""},null,null,null,null,null,{"$f":"IF(ลงหลักสูตร!$E5=\"\",\"\",ลงหลักสูตร!$E5)","v":""},{"$f":"IFERROR(IF(VLOOKUP($X$2,คีย์คะแนน!$A$8:$DK$52,12,FALSE)=\"\",\"\",VLOOKUP($X$2,คีย์คะแนน!$A$8:$DK$52,12,FALSE))*2,\"\")","v":""},null,""]
[null,"",{"$f":"IF(ลงหลักสูตร!$B6=\"\",\"\",ลงหลักสูตร!$B6)","v":""},null,{"$f":"IF(ลงหลักสูตร!$C6=\"\",\"\",ลงหลักสูตร!$C6)","v":""},null,null,null,null,null,{"$f":"IF(ลงหลักสูตร!$E6=\"\",\"\",ลงหลักสูตร!$E6)","v":""},{"$f":"IFERROR(IF(VLOOKUP($X$2,คีย์คะแนน!$A$8:$DK$52,16,FALSE)=\"\",\"\",VLOOKUP($X$2,คีย์คะแนน!$A$8:$DK$52,16,FALSE))*2,\"\")","v":""},null,""]
[null,"",{"$f":"IF(ลงหลักสูตร!$B7=\"\",\"\",ลงหลักสูตร!$B7)","v":""},null,{"$f":"IF(ลงหลักสูตร!$C7=\"\",\"\",ลงหลักสูตร!$C7)","v":""},null,null,null,null,null,{"$f":"IF(ลงหลักสูตร!$E7=\"\",\"\",ลงหลักสูตร!$E7)","v":""},{"$f":"IFERROR(IF(VLOOKUP($X$2,คีย์คะแนน!$A$8:$DK$52,20,FALSE)=\"\",\"\",VLOOKUP($X$2,คีย์คะแนน!$A$8:$DK$52,20,FALSE))*2,\"\")","v":""},null,""]
[null,"",{"$f":"IF(ลงหลักสูตร!$B8=\"\",\"\",ลงหลักสูตร!$B8)","v":""},null,{"$f":"IF(ลงหลักสูตร!$C8=\"\",\"\",ลงหลักสูตร!$C8)","v":""},null,null,null,null,null,{"$f":"IF(ลงหลักสูตร!$E8=\"\",\"\",ลงหลักสูตร!$E8)","v":""},{"$f":"IFERROR(IF(VLOOKUP($X$2,คีย์คะแนน!$A$8:$DK$52,24,FALSE)=\"\",\"\",VLOOKUP($X$2,คีย์คะแนน!$A$8:$DK$52,24,FALSE))*2,\"\")","v":""},null,""]
[null,"",{"$f":"IF(ลงหลักสูตร!$B9=\"\",\"\",ลงหลักสูตร!$B9)","v":""},null,{"$f":"IF(ลงหลักสูตร!$C9=\"\",\"\",ลงหลักสูตร!$C9)","v":""},null,null,null,null,null,{"$f":"IF(ลงหลักสูตร!$E9=\"\",\"\",ลงหลักสูตร!$E9)","v":""},{"$f":"IFERROR(IF(VLOOKUP($X$2,คีย์คะแนน!$A$8:$DK$52,28,FALSE)=\"\",\"\",VLOOKUP($X$2,คีย์คะแนน!$A$8:$DK$52,28,FALSE))*2,\"\")","v":""},null,"",null,null,null,null,null,"สำหรับเตรียมไฟล์สำหรับแสกน QR CODE เท่านั้น"]
[null,"",{"$f":"IF(ลงหลักสูตร!$B10=\"\",\"\",ลงหลักสูตร!$B10)","v":""},null,{"$f":"IF(ลงหลักสูตร!$C10=\"\",\"\",ลงหลักสูตร!$C10)","v":""},null,null,null,null,null,{"$f":"IF(ลงหลักสูตร!$E10=\"\",\"\",ลงหลักสูตร!$E10)","v":""},{"$f":"IFERROR(IF(VLOOKUP($X$2,คีย์คะแนน!$A$8:$DK$52,32,FALSE)=\"\",\"\",VLOOKUP($X$2,คีย์คะแนน!$A$8:$DK$52,32,FALSE))*2,\"\")","v":""},null,""]
[null,"",{"$f":"IF(ลงหลักสูตร!$B11=\"\",\"\",ลงหลักสูตร!$B11)","v":""},null,{"$f":"IF(ลงหลักสูตร!$C11=\"\",\"\",ลงหลักสูตร!$C11)","v":""},null,null,null,null,null,{"$f":"IF(ลงหลักสูตร!$E11=\"\",\"\",ลงหลักสูตร!$E11)","v":""},{"$f":"IFERROR(IF(VLOOKUP($X$2,คีย์คะแนน!$A$8:$DK$52,36,FALSE)=\"\",\"\",VLOOKUP($X$2,คีย์คะแนน!$A$8:$DK$52,36,FALSE))*2,\"\")","v":""},null,""]
[null,"",{"$f":"IF(ลงหลักสูตร!$B12=\"\",\"\",ลงหลักสูตร!$B12)","v":""},null,{"$f":"IF(ลงหลักสูตร!$C12=\"\",\"\",ลงหลักสูตร!$C12)","v":""},null,null,null,null,null,{"$f":"IF(ลงหลักสูตร!$E12=\"\",\"\",ลงหลักสูตร!$E12)","v":""},{"$f":"IFERROR(IF(VLOOKUP($X$2,คีย์คะแนน!$A$8:$DK$52,40,FALSE)=\"\",\"\",VLOOKUP($X$2,คีย์คะแนน!$A$8:$DK$52,40,FALSE))*2,\"\")","v":""},null,{"$f":"IF($L19=\"\",\"\",IF($L19>=80,4,IF($L19>=75,3.5,IF($L19>=70,3,IF($L19>=65,2.5,IF($L19>=60,2,IF($L19>=55,1.5,IF($L19>=50,1,0))))))))","v":""}]
[null,"",{"$f":"IF(ลงหลักสูตร!$B13=\"\",\"\",ลงหลักสูตร!$B13)","v":""},null,{"$f":"IF(ลงหลักสูตร!$C13=\"\",\"\",ลงหลักสูตร!$C13)","v":""},null,null,null,null,null,{"$f":"IF(ลงหลักสูตร!$E13=\"\",\"\",ลงหลักสูตร!$E13)","v":""},{"$f":"IFERROR(IF(VLOOKUP($X$2,คีย์คะแนน!$A$8:$DK$52,44,FALSE)=\"\",\"\",VLOOKUP($X$2,คีย์คะแนน!$A$8:$DK$52,44,FALSE))*2,\"\")","v":""},null,{"$f":"IF($L20=\"\",\"\",IF($L20>=80,4,IF($L20>=75,3.5,IF($L20>=70,3,IF($L20>=65,2.5,IF($L20>=60,2,IF($L20>=55,1.5,IF($L20>=50,1,0))))))))","v":""}]
[null,{"$f":"IF(C21=\"\",\"\",B20+1)","v":""},{"$f":"IF(ลงหลักสูตร!$B14=\"\",\"\",ลงหลักสูตร!$B14)","v":""},null,{"$f":"IF(ลงหลักสูตร!$C14=\"\",\"\",ลงหลักสูตร!$C14)","v":""},null,null,null,null,null,{"$f":"IF(ลงหลักสูตร!$E14=\"\",\"\",ลงหลักสูตร!$E14)","v":""},{"$f":"IFERROR(IF(VLOOKUP($X$2,คีย์คะแนน!$A$8:$DK$52,48,FALSE)=\"\",\"\",VLOOKUP($X$2,คีย์คะแนน!$A$8:$DK$52,48,FALSE))*2,\"\")","v":""},null,{"$f":"IF($L21=\"\",\"\",IF($L21>=80,4,IF($L21>=75,3.5,IF($L21>=70,3,IF($L21>=65,2.5,IF($L21>=60,2,IF($L21>=55,1.5,IF($L21>=50,1,0))))))))","v":""}]
[null,{"$f":"IF(C22=\"\",\"\",B21+1)","v":""},{"$f":"IF(ลงหลักสูตร!$B15=\"\",\"\",ลงหลักสูตร!$B15)","v":""},null,{"$f":"IF(ลงหลักสูตร!$C15=\"\",\"\",ลงหลักสูตร!$C15)","v":""},null,null,null,null,null,{"$f":"IF(ลงหลักสูตร!$E15=\"\",\"\",ลงหลักสูตร!$E15)","v":""},{"$f":"IFERROR(IF(VLOOKUP($X$2,คีย์คะแนน!$A$8:$DK$52,52,FALSE)=\"\",\"\",VLOOKUP($X$2,คีย์คะแนน!$A$8:$DK$52,52,FALSE))*2,\"\")","v":""},null,{"$f":"IF($L22=\"\",\"\",IF($L22>=80,4,IF($L22>=75,3.5,IF($L22>=70,3,IF($L22>=65,2.5,IF($L22>=60,2,IF($L22>=55,1.5,IF($L22>=50,1,0))))))))","v":""}]
[null,"",{"$f":"IF(ลงหลักสูตร!$B16=\"\",\"\",ลงหลักสูตร!$B16)","v":""},null,{"$f":"IF(ลงหลักสูตร!$C16=\"\",\"\",ลงหลักสูตร!$C16)","v":""},null,null,null,null,null,{"$f":"IF(ลงหลักสูตร!$E16=\"\",\"\",ลงหลักสูตร!$E16)","v":""},{"$f":"IFERROR(IF(VLOOKUP($X$2,คีย์คะแนน!$A$8:$DK$52,56,FALSE)=\"\",\"\",VLOOKUP($X$2,คีย์คะแนน!$A$8:$DK$52,56,FALSE))*2,\"\")","v":""},null,""]
[null,"",{"$f":"IF(ลงหลักสูตร!$B17=\"\",\"\",ลงหลักสูตร!$B17)","v":""},null,{"$f":"IF(ลงหลักสูตร!$C17=\"\",\"\",ลงหลักสูตร!$C17)","v":""},null,null,null,null,null,{"$f":"IF(ลงหลักสูตร!$E17=\"\",\"\",ลงหลักสูตร!$E17)","v":""},{"$f":"IFERROR(IF(VLOOKUP($X$2,คีย์คะแนน!$A$8:$DK$52,60,FALSE)=\"\",\"\",VLOOKUP($X$2,คีย์คะแนน!$A$8:$DK$52,60,FALSE))*2,\"\")","v":""},null,""]
[null,"",{"$f":"IF(ลงหลักสูตร!$B18=\"\",\"\",ลงหลักสูตร!$B18)","v":""},null,{"$f":"IF(ลงหลักสูตร!$C18=\"\",\"\",ลงหลักสูตร!$C18)","v":""},null,null,null,null,null,{"$f":"IF(ลงหลักสูตร!$E18=\"\",\"\",ลงหลักสูตร!$E18)","v":""},{"$f":"IFERROR(IF(VLOOKUP($X$2,คีย์คะแนน!$A$8:$DK$52,64,FALSE)=\"\",\"\",VLOOKUP($X$2,คีย์คะแนน!$A$8:$DK$52,64,FALSE))*2,\"\")","v":""},null,""]
[null,{"$f":"IF(C26=\"\",\"\",B25+1)","v":""},{"$f":"IF(ลงหลักสูตร!$B19=\"\",\"\",ลงหลักสูตร!$B19)","v":""},null,{"$f":"IF(ลงหลักสูตร!$C19=\"\",\"\",ลงหลักสูตร!$C19)","v":""},null,null,null,null,null,{"$f":"IF(ลงหลักสูตร!$E19=\"\",\"\",ลงหลักสูตร!$E19)","v":""},{"$f":"IFERROR(IF(VLOOKUP($X$2,คีย์คะแนน!$A$8:$DK$52,68,FALSE)=\"\",\"\",VLOOKUP($X$2,คีย์คะแนน!$A$8:$DK$52,68,FALSE))*2,\"\")","v":""},null,""]
[null,"ผลการเรียนเฉลี่ย  ",null,null,null,null,null,null,null,null,null,{"$f":"IFERROR(IF(VLOOKUP($X$2,คีย์คะแนน!$A$8:$FI$52,159,FALSE)=\"\",\"\",VLOOKUP($X$2,คีย์คะแนน!$A$8:$FI$52,159,FALSE)),\"\")","v":""},null,"ได้ลำดับที่ ",null,{"$f":"IFERROR(IF(VLOOKUP($X$2,คีย์คะแนน!$A$8:$FI$52,164,FALSE)=\"\",\"\",VLOOKUP($X$2,คีย์คะแนน!$A$8:$FI$52,164,FALSE)),\"\")","v":""}]
[]
[null,"สรุปผลการประเมินด้านต่างๆ"]
[null,"คุณลักษณะอันพึงประสงค์",null,null,null,null,null,"การอ่าน คิดวิเคราะห์ และเขียน",null,null,null,null,"กิจกรรมพัฒนาผู้เรียน"]
[null,{"$f":"IFERROR(IF(VLOOKUP($X$2,คีย์คะแนน!$A$8:$DK$52,72,FALSE)=\"\",\"\",VLOOKUP($X$2,คีย์คะแนน!$A$8:$DK$52,72,FALSE)),\"\")","v":""},null,null,null,null,null,{"$f":"IFERROR(IF(VLOOKUP($X$2,คีย์คะแนน!$A$8:$DK$52,73,FALSE)=\"\",\"\",VLOOKUP($X$2,คีย์คะแนน!$A$8:$DK$52,73,FALSE)),\"\")","v":""},null,null,null,null,{"$f":"IFERROR(IF(VLOOKUP($X$2,คีย์คะแนน!$A$8:$DK$52,74,FALSE)=\"\",\"\",VLOOKUP($X$2,คีย์คะแนน!$A$8:$DK$52,74,FALSE)),\"\")","v":""}]
[null,"ความคิดเห็นของครูประจำชั้น",null,null,null,null,null,null,null,null,null,"ความคิดเห็นของผู้ปกครอง"]
[null,{"$f":"IFERROR(IF(VLOOKUP($X$2,ความคิดเห็นครูประจำชั้น!$A$8:$F$52,4,FALSE)=\"\",\"\",VLOOKUP($X$2,ความคิดเห็นครูประจำชั้น!$A$8:$F$52,4,FALSE)),\"\")","v":""}]
[null,{"$f":"IFERROR(IF(VLOOKUP($X$2,ความคิดเห็นครูประจำชั้น!$A$8:$F$52,5,FALSE)=\"\",\"\",VLOOKUP($X$2,ความคิดเห็นครูประจำชั้น!$A$8:$F$52,5,FALSE)),\"\")","v":""}]
[null,{"$f":"IFERROR(IF(VLOOKUP($X$2,ความคิดเห็นครูประจำชั้น!$A$8:$F$52,6,FALSE)=\"\",\"\",VLOOKUP($X$2,ความคิดเห็นครูประจำชั้น!$A$8:$F$52,6,FALSE)),\"\")","v":""},null,null,null,null,null,null,null,null,null,null,"(ลงชื่อ)............................................................ผู้ปกครอง"]
[]
[null,"ลงชื่อ",null,null,null,null,null,"ลงชื่อ",null,null,null,null,"ลงชื่อ"]
[null,{"$f":"IF(ตั้งค่า!D11=\"\",\"\",\"( \" & ตั้งค่า!D11& \" )\")","v":""},null,null,null,null,null,{"$f":"IF(ตั้งค่า!D12=\"\",\"\",\"( \" & ตั้งค่า!D12& \" )\")","v":""},null,null,null,null,{"$f":"IF(ตั้งค่า!D14=\"\",\"\",\"( \" & ตั้งค่า!D14 & \" )\")","v":""}]
[null,"ครูประจำชั้นคนที่ 1",null,null,null,null,null,"ครูประจำชั้นคนที่ 2",null,null,null,null,{"$f":"CONCATENATE(ตั้งค่า!C14,ตั้งค่า!D9)","v":"ผู้อำนวยการโรงเรียนบ้านหัวคลอง"}]
[null,null,null,null,null,null,null,null,null,null,null,null,{"$f":"ตั้งค่า!D15","v":"00:00:00"}]

{"sheet":"ปพ.6 ปลายปี","index":9,"n_rows":41,"n_cols":23,"rows_kept":41,"cut":false,"hidden":false,"merged":[[17,2,17,3],[18,2,18,3],[19,2,19,3],[20,2,20,3],[21,2,21,3],[22,2,22,3],[14,4,14,8],[15,4,15,8],[16,4,16,8],[17,4,17,8],[18,4,18,8],[19,4,19,8],[20,4,20,8],[21,4,21,8],[22,4,22,8],[31,1,31,6],[31,7,31,11],[7,10,7,11],[7,12,7,13],[7,9,9,9],[7,2,9,3],[10,2,10,3],[7,4,9,8],[11,2,11,3],[12,2,12,3],[13,2,13,3],[14,2,14,3],[15,2,15,3],[16,2,16,3],[30,12,30,15],[25,12,25,13],[25,10,25,11],[24,10,24,11],[20,10,20,11],[26,2,26,3],[10,4,10,8],[11,4,11,8],[12,4,12,8],[13,4,13,8],[7,14,7,15],[18,10,18,11],[18,12,18,13],[19,12,19,13],[20,12,20,13],[21,12,21,13],[31,12,31,15],[9,10,9,11],[12,10,12,11],[13,10,13,11],[14,10,14,11],[15,10,15,11],[16,10,16,11],[10,10,10,11],[11,10,11,11],[9,12,9,13],[10,12,10,13],[11,12,11,13],[12,12,12,13],[13,12,13,13],[14,12,14,13],[15,12,15,13],[16,12,16,13],[17,12,17,13],[23,18,23,22],[18,18,18,22],[16,18,16,22],[29,1,29,15],[30,1,30,6],[1,18,1,21],[4,18,5,21],[1,2,1,16],[2,2,2,16],[5,13,5,14],[3,3,3,7],[5,6,5,7],[7,18,7,22],[8,18,8,22],[4,22,5,22],[3,8,3,12],[4,11,4,14],[8,12,8,13],[8,14,8,15],[8,10,8,11],[2,18,2,20],[2,21,2,22],[7,1,9,1],[17,10,17,11],[40,8,40,11],[40,12,40,16],[32,1,32,8],[38,1,38,6],[38,7,38,11],[38,12,38,16],[39,1,39,6],[39,7,39,11],[39,12,39,16],[37,8,37,11],[33,1,33,9],[34,1,34,9],[35,1,35,9],[32,11,32,14],[21,10,21,11],[22,10,22,11],[23,10,23,11],[23,12,23,13],[24,12,24,13],[22,12,22,13],[19,10,19,11],[30,7,30,11],[27,1,27,10],[27,11,27,12],[27,13,27,14],[23,2,23,3],[24,2,24,3],[25,2,25,3],[26,10,26,11],[26,12,26,13],[23,4,23,8],[24,4,24,8],[25,4,25,8],[26,4,26,8]]}
[null,null,null,null,null,null,null,null,null,null,null,null,null,null,null,null,{"$f":"IFERROR(IF(VLOOKUP($W$2,คีย์คะแนน!$A$8:$FI$52,165,FALSE)=\"\",\"\",VLOOKUP($W$2,คีย์คะแนน!$A$8:$FI$52,165,FALSE)),\"\")","v":""}]
[null,null,"แบบรายงานผลการพัฒนาคุณภาพผู้เรียนรายบุคคล (ปพ.6)",null,null,null,null,null,null,null,null,null,null,null,null,null,null,null,"เลือกเลขที่นักเรียนที่ต้องการพิมพ์",null,null,null,1]
[null,null,{"$f":"\"โรงเรียน\"&ตั้งค่า!D9&\"  \"&ตั้งค่า!D8","v":"โรงเรียนบ้านหัวคลอง  สำนักงานเขตพื้นที่การศึกษาประถมศึกษานราธิวาส เขต 2"}]
[null,null,null,"เรียน    ผู้ปกครองของ",null,null,null,null,{"$f":"IFERROR(IF(VLOOKUP($W$2,คีย์คะแนน!$A$8:$DK$52,3,FALSE)=\"\",\"\",VLOOKUP($W$2,คีย์คะแนน!$A$8:$DK$52,3,FALSE)),\"\")","v":""}]
[null,null,null,null,null,{"$f":"\"ทางโรงเรียน  ขอแจ้งผลการเรียนของ\"","v":"ทางโรงเรียน  ขอแจ้งผลการเรียนของ"},null,null,null,null,null,{"$f":"I4","v":""},null,null,null,null,null,null,"ปพ.6 ปลายปี"]
[null,null,null,"เลขประจำตัว",null,null,{"$f":"IFERROR(IF(VLOOKUP($W$2,คีย์คะแนน!$A$8:$DK$52,2,FALSE)=\"\",\"\",VLOOKUP($W$2,คีย์คะแนน!$A$8:$DK$52,2,FALSE)),\"\")","v":""},null,null,"ชั้น",{"$f":"ตั้งค่า!D10","v":0},null,null,"ปีการศึกษา",null,{"$f":"ตั้งค่า!D7","v":0}]
[]
[null,"ที่","รหัสวิชา",null,"รายชื่อวิชา",null,null,null,null,"ประเภทรายวิชา","ภาคเรียนที่ 1",null,"ภาคเรียนที่ 2",null,"สรุปผลปลายปี",null,null,null,"ห้ามแก้ไขข้อมูลหน้านี้เด็ดขาด"]
[null,null,null,null,null,null,null,null,null,null,"คะแนนเต็ม 50",null,"คะแนนเต็ม 50",null,"รวม 100 คะแนน",null,null,null,"อาจทำให้การประมวลผลของโปรแกรมผิดพลาด"]
[null,null,null,null,null,null,null,null,null,null,"ได้คะแนน",null,"ได้คะแนน",null,"ได้คะแนน","ผลการเรียน"]
[null,{"$f":"IF(C12=\"\",\"\",1)","v":""},{"$f":"IF(ลงหลักสูตร!$B3=\"\",\"\",ลงหลักสูตร!$B3)","v":""},null,{"$f":"IF(ลงหลักสูตร!$C3=\"\",\"\",ลงหลักสูตร!$C3)","v":""},null,null,null,null,{"$f":"IF(ลงหลักสูตร!$E3=\"\",\"\",ลงหลักสูตร!$E3)","v":""},{"$f":"IFERROR(IF(VLOOKUP($W$2,คีย์คะแนน!$A$8:$DK$52,4,FALSE)=\"\",\"\",VLOOKUP($W$2,คีย์คะแนน!$A$8:$DK$52,4,FALSE)),\"\")","v":""},null,{"$f":"IFERROR(IF(VLOOKUP($W$2,คีย์คะแนน!$A$8:$DK$52,5,FALSE)=\"\",\"\",VLOOKUP($W$2,คีย์คะแนน!$A$8:$DK$52,5,FALSE)),\"\")","v":""},null,{"$f":"IF($E11=\"\",\"\",SUM(K11:N11))","v":""},{"$f":"IF($E11=\"\",\"\",IF($O11>=80,4,IF($O11>=75,3.5,IF($O11>=70,3,IF($O11>=65,2.5,IF($O11>=60,2,IF($O11>=55,1.5,IF($O11>=50,1,0))))))))","v":""}]
[null,{"$f":"IF(C12=\"\",\"\",B11+1)","v":""},{"$f":"IF(ลงหลักสูตร!$B4=\"\",\"\",ลงหลักสูตร!$B4)","v":""},null,{"$f":"IF(ลงหลักสูตร!$C4=\"\",\"\",ลงหลักสูตร!$C4)","v":""},null,null,null,null,{"$f":"IF(ลงหลักสูตร!$E4=\"\",\"\",ลงหลักสูตร!$E4)","v":""},{"$f":"IFERROR(IF(VLOOKUP($W$2,คีย์คะแนน!$A$8:$DK$52,8,FALSE)=\"\",\"\",VLOOKUP($W$2,คีย์คะแนน!$A$8:$DK$52,8,FALSE)),\"\")","v":""},null,{"$f":"IFERROR(IF(VLOOKUP($W$2,คีย์คะแนน!$A$8:$DK$52,9,FALSE)=\"\",\"\",VLOOKUP($W$2,คีย์คะแนน!$A$8:$DK$52,9,FALSE)),\"\")","v":""},null,{"$f":"IF($E12=\"\",\"\",SUM(K12:N12))","v":""},{"$f":"IF($E12=\"\",\"\",IF($O12>=80,4,IF($O12>=75,3.5,IF($O12>=70,3,IF($O12>=65,2.5,IF($O12>=60,2,IF($O12>=55,1.5,IF($O12>=50,1,0))))))))","v":""}]
[null,{"$f":"IF(C13=\"\",\"\",B12+1)","v":""},{"$f":"IF(ลงหลักสูตร!$B5=\"\",\"\",ลงหลักสูตร!$B5)","v":""},null,{"$f":"IF(ลงหลักสูตร!$C5=\"\",\"\",ลงหลักสูตร!$C5)","v":""},null,null,null,null,{"$f":"IF(ลงหลักสูตร!$E5=\"\",\"\",ลงหลักสูตร!$E5)","v":""},{"$f":"IFERROR(IF(VLOOKUP($W$2,คีย์คะแนน!$A$8:$DK$52,12,FALSE)=\"\",\"\",VLOOKUP($W$2,คีย์คะแนน!$A$8:$DK$52,12,FALSE)),\"\")","v":""},null,{"$f":"IFERROR(IF(VLOOKUP($W$2,คีย์คะแนน!$A$8:$DK$52,13,FALSE)=\"\",\"\",VLOOKUP($W$2,คีย์คะแนน!$A$8:$DK$52,13,FALSE)),\"\")","v":""},null,{"$f":"IF($E13=\"\",\"\",SUM(K13:N13))","v":""},{"$f":"IF($E13=\"\",\"\",IF($O13>=80,4,IF($O13>=75,3.5,IF($O13>=70,3,IF($O13>=65,2.5,IF($O13>=60,2,IF($O13>=55,1.5,IF($O13>=50,1,0))))))))","v":""}]
[null,"",{"$f":"IF(ลงหลักสูตร!$B6=\"\",\"\",ลงหลักสูตร!$B6)","v":""},null,{"$f":"IF(ลงหลักสูตร!$C6=\"\",\"\",ลงหลักสูตร!$C6)","v":""},null,null,null,null,{"$f":"IF(ลงหลักสูตร!$E6=\"\",\"\",ลงหลักสูตร!$E6)","v":""},{"$f":"IFERROR(IF(VLOOKUP($W$2,คีย์คะแนน!$A$8:$DK$52,16,FALSE)=\"\",\"\",VLOOKUP($W$2,คีย์คะแนน!$A$8:$DK$52,16,FALSE)),\"\")","v":""},null,{"$f":"IFERROR(IF(VLOOKUP($W$2,คีย์คะแนน!$A$8:$DK$52,17,FALSE)=\"\",\"\",VLOOKUP($W$2,คีย์คะแนน!$A$8:$DK$52,17,FALSE)),\"\")","v":""},null,"",""]
[null,"",{"$f":"IF(ลงหลักสูตร!$B7=\"\",\"\",ลงหลักสูตร!$B7)","v":""},null,{"$f":"IF(ลงหลักสูตร!$C7=\"\",\"\",ลงหลักสูตร!$C7)","v":""},null,null,null,null,{"$f":"IF(ลงหลักสูตร!$E7=\"\",\"\",ลงหลักสูตร!$E7)","v":""},{"$f":"IFERROR(IF(VLOOKUP($W$2,คีย์คะแนน!$A$8:$DK$52,20,FALSE)=\"\",\"\",VLOOKUP($W$2,คีย์คะแนน!$A$8:$DK$52,20,FALSE)),\"\")","v":""},null,{"$f":"IFERROR(IF(VLOOKUP($W$2,คีย์คะแนน!$A$8:$DK$52,21,FALSE)=\"\",\"\",VLOOKUP($W$2,คีย์คะแนน!$A$8:$DK$52,21,FALSE)),\"\")","v":""},null,"",""]
[null,"",{"$f":"IF(ลงหลักสูตร!$B8=\"\",\"\",ลงหลักสูตร!$B8)","v":""},null,{"$f":"IF(ลงหลักสูตร!$C8=\"\",\"\",ลงหลักสูตร!$C8)","v":""},null,null,null,null,{"$f":"IF(ลงหลักสูตร!$E8=\"\",\"\",ลงหลักสูตร!$E8)","v":""},{"$f":"IFERROR(IF(VLOOKUP($W$2,คีย์คะแนน!$A$8:$DK$52,24,FALSE)=\"\",\"\",VLOOKUP($W$2,คีย์คะแนน!$A$8:$DK$52,24,FALSE)),\"\")","v":""},null,{"$f":"IFERROR(IF(VLOOKUP($W$2,คีย์คะแนน!$A$8:$DK$52,25,FALSE)=\"\",\"\",VLOOKUP($W$2,คีย์คะแนน!$A$8:$DK$52,25,FALSE)),\"\")","v":""},null,"",""]
[null,"",{"$f":"IF(ลงหลักสูตร!$B9=\"\",\"\",ลงหลักสูตร!$B9)","v":""},null,{"$f":"IF(ลงหลักสูตร!$C9=\"\",\"\",ลงหลักสูตร!$C9)","v":""},null,null,null,null,{"$f":"IF(ลงหลักสูตร!$E9=\"\",\"\",ลงหลักสูตร!$E9)","v":""},{"$f":"IFERROR(IF(VLOOKUP($W$2,คีย์คะแนน!$A$8:$DK$52,28,FALSE)=\"\",\"\",VLOOKUP($W$2,คีย์คะแนน!$A$8:$DK$52,28,FALSE)),\"\")","v":""},null,{"$f":"IFERROR(IF(VLOOKUP($W$2,คีย์คะแนน!$A$8:$DK$52,29,FALSE)=\"\",\"\",VLOOKUP($W$2,คีย์คะแนน!$A$8:$DK$52,29,FALSE)),\"\")","v":""},null,"","",null,null,"สำหรับเตรียมไฟล์สำหรับแสกน QR CODE เท่านั้น"]
[null,"",{"$f":"IF(ลงหลักสูตร!$B10=\"\",\"\",ลงหลักสูตร!$B10)","v":""},null,{"$f":"IF(ลงหลักสูตร!$C10=\"\",\"\",ลงหลักสูตร!$C10)","v":""},null,null,null,null,{"$f":"IF(ลงหลักสูตร!$E10=\"\",\"\",ลงหลักสูตร!$E10)","v":""},{"$f":"IFERROR(IF(VLOOKUP($W$2,คีย์คะแนน!$A$8:$DK$52,32,FALSE)=\"\",\"\",VLOOKUP($W$2,คีย์คะแนน!$A$8:$DK$52,32,FALSE)),\"\")","v":""},null,{"$f":"IFERROR(IF(VLOOKUP($W$2,คีย์คะแนน!$A$8:$DK$52,33,FALSE)=\"\",\"\",VLOOKUP($W$2,คีย์คะแนน!$A$8:$DK$52,33,FALSE)),\"\")","v":""},null,"",""]
[null,"",{"$f":"IF(ลงหลักสูตร!$B11=\"\",\"\",ลงหลักสูตร!$B11)","v":""},null,{"$f":"IF(ลงหลักสูตร!$C11=\"\",\"\",ลงหลักสูตร!$C11)","v":""},null,null,null,null,{"$f":"IF(ลงหลักสูตร!$E11=\"\",\"\",ลงหลักสูตร!$E11)","v":""},{"$f":"IFERROR(IF(VLOOKUP($W$2,คีย์คะแนน!$A$8:$DK$52,36,FALSE)=\"\",\"\",VLOOKUP($W$2,คีย์คะแนน!$A$8:$DK$52,36,FALSE)),\"\")","v":""},null,{"$f":"IFERROR(IF(VLOOKUP($W$2,คีย์คะแนน!$A$8:$DK$52,37,FALSE)=\"\",\"\",VLOOKUP($W$2,คีย์คะแนน!$A$8:$DK$52,37,FALSE)),\"\")","v":""},null,"",""]
[null,{"$f":"IF(C20=\"\",\"\",B19+1)","v":""},{"$f":"IF(ลงหลักสูตร!$B12=\"\",\"\",ลงหลักสูตร!$B12)","v":""},null,{"$f":"IF(ลงหลักสูตร!$C12=\"\",\"\",ลงหลักสูตร!$C12)","v":""},null,null,null,null,{"$f":"IF(ลงหลักสูตร!$E12=\"\",\"\",ลงหลักสูตร!$E12)","v":""},{"$f":"IFERROR(IF(VLOOKUP($W$2,คีย์คะแนน!$A$8:$DK$52,40,FALSE)=\"\",\"\",VLOOKUP($W$2,คีย์คะแนน!$A$8:$DK$52,40,FALSE)),\"\")","v":""},null,{"$f":"IFERROR(IF(VLOOKUP($W$2,คีย์คะแนน!$A$8:$DK$52,41,FALSE)=\"\",\"\",VLOOKUP($W$2,คีย์คะแนน!$A$8:$DK$52,41,FALSE)),\"\")","v":""},null,"",""]
[null,{"$f":"IF(C21=\"\",\"\",B20+1)","v":""},{"$f":"IF(ลงหลักสูตร!$B13=\"\",\"\",ลงหลักสูตร!$B13)","v":""},null,{"$f":"IF(ลงหลักสูตร!$C13=\"\",\"\",ลงหลักสูตร!$C13)","v":""},null,null,null,null,{"$f":"IF(ลงหลักสูตร!$E13=\"\",\"\",ลงหลักสูตร!$E13)","v":""},{"$f":"IFERROR(IF(VLOOKUP($W$2,คีย์คะแนน!$A$8:$DK$52,44,FALSE)=\"\",\"\",VLOOKUP($W$2,คีย์คะแนน!$A$8:$DK$52,44,FALSE)),\"\")","v":""},null,{"$f":"IFERROR(IF(VLOOKUP($W$2,คีย์คะแนน!$A$8:$DK$52,45,FALSE)=\"\",\"\",VLOOKUP($W$2,คีย์คะแนน!$A$8:$DK$52,45,FALSE)),\"\")","v":""},null,"",""]
[null,{"$f":"IF(C22=\"\",\"\",B21+1)","v":""},{"$f":"IF(ลงหลักสูตร!$B14=\"\",\"\",ลงหลักสูตร!$B14)","v":""},null,{"$f":"IF(ลงหลักสูตร!$C14=\"\",\"\",ลงหลักสูตร!$C14)","v":""},null,null,null,null,{"$f":"IF(ลงหลักสูตร!$E14=\"\",\"\",ลงหลักสูตร!$E14)","v":""},{"$f":"IFERROR(IF(VLOOKUP($W$2,คีย์คะแนน!$A$8:$DK$52,48,FALSE)=\"\",\"\",VLOOKUP($W$2,คีย์คะแนน!$A$8:$DK$52,48,FALSE)),\"\")","v":""},null,{"$f":"IFERROR(IF(VLOOKUP($W$2,คีย์คะแนน!$A$8:$DK$52,49,FALSE)=\"\",\"\",VLOOKUP($W$2,คีย์คะแนน!$A$8:$DK$52,49,FALSE)),\"\")","v":""},null,{"$f":"IF($E22=\"\",\"\",SUM(K22:N22))","v":""},""]
[null,{"$f":"IF(C23=\"\",\"\",B22+1)","v":""},{"$f":"IF(ลงหลักสูตร!$B15=\"\",\"\",ลงหลักสูตร!$B15)","v":""},null,{"$f":"IF(ลงหลักสูตร!$C15=\"\",\"\",ลงหลักสูตร!$C15)","v":""},null,null,null,null,{"$f":"IF(ลงหลักสูตร!$E15=\"\",\"\",ลงหลักสูตร!$E15)","v":""},{"$f":"IFERROR(IF(VLOOKUP($W$2,คีย์คะแนน!$A$8:$DK$52,52,FALSE)=\"\",\"\",VLOOKUP($W$2,คีย์คะแนน!$A$8:$DK$52,52,FALSE)),\"\")","v":""},null,{"$f":"IFERROR(IF(VLOOKUP($W$2,คีย์คะแนน!$A$8:$DK$52,53,FALSE)=\"\",\"\",VLOOKUP($W$2,คีย์คะแนน!$A$8:$DK$52,53,FALSE)),\"\")","v":""},null,{"$f":"IF($E23=\"\",\"\",SUM(K23:N23))","v":""},""]
[null,"",{"$f":"IF(ลงหลักสูตร!$B16=\"\",\"\",ลงหลักสูตร!$B16)","v":""},null,{"$f":"IF(ลงหลักสูตร!$C16=\"\",\"\",ลงหลักสูตร!$C16)","v":""},null,null,null,null,{"$f":"IF(ลงหลักสูตร!$E16=\"\",\"\",ลงหลักสูตร!$E16)","v":""},{"$f":"IFERROR(IF(VLOOKUP($W$2,คีย์คะแนน!$A$8:$DK$52,56,FALSE)=\"\",\"\",VLOOKUP($W$2,คีย์คะแนน!$A$8:$DK$52,56,FALSE)),\"\")","v":""},null,{"$f":"IFERROR(IF(VLOOKUP($W$2,คีย์คะแนน!$A$8:$DK$52,57,FALSE)=\"\",\"\",VLOOKUP($W$2,คีย์คะแนน!$A$8:$DK$52,57,FALSE)),\"\")","v":""},null,"",""]
[null,"",{"$f":"IF(ลงหลักสูตร!$B17=\"\",\"\",ลงหลักสูตร!$B17)","v":""},null,{"$f":"IF(ลงหลักสูตร!$C17=\"\",\"\",ลงหลักสูตร!$C17)","v":""},null,null,null,null,{"$f":"IF(ลงหลักสูตร!$E17=\"\",\"\",ลงหลักสูตร!$E17)","v":""},{"$f":"IFERROR(IF(VLOOKUP($W$2,คีย์คะแนน!$A$8:$DK$52,60,FALSE)=\"\",\"\",VLOOKUP($W$2,คีย์คะแนน!$A$8:$DK$52,60,FALSE)),\"\")","v":""},null,{"$f":"IFERROR(IF(VLOOKUP($W$2,คีย์คะแนน!$A$8:$DK$52,61,FALSE)=\"\",\"\",VLOOKUP($W$2,คีย์คะแนน!$A$8:$DK$52,61,FALSE)),\"\")","v":""},null,"",""]
[null,"",{"$f":"IF(ลงหลักสูตร!$B18=\"\",\"\",ลงหลักสูตร!$B18)","v":""},null,{"$f":"IF(ลงหลักสูตร!$C18=\"\",\"\",ลงหลักสูตร!$C18)","v":""},null,null,null,null,{"$f":"IF(ลงหลักสูตร!$E18=\"\",\"\",ลงหลักสูตร!$E18)","v":""},{"$f":"IFERROR(IF(VLOOKUP($W$2,คีย์คะแนน!$A$8:$DK$52,64,FALSE)=\"\",\"\",VLOOKUP($W$2,คีย์คะแนน!$A$8:$DK$52,64,FALSE)),\"\")","v":""},null,{"$f":"IFERROR(IF(VLOOKUP($W$2,คีย์คะแนน!$A$8:$DK$52,65,FALSE)=\"\",\"\",VLOOKUP($W$2,คีย์คะแนน!$A$8:$DK$52,65,FALSE)),\"\")","v":""},null,"",""]
[null,{"$f":"IF(C27=\"\",\"\",B26+1)","v":""},{"$f":"IF(ลงหลักสูตร!$B19=\"\",\"\",ลงหลักสูตร!$B19)","v":""},null,{"$f":"IF(ลงหลักสูตร!$C19=\"\",\"\",ลงหลักสูตร!$C19)","v":""},null,null,null,null,{"$f":"IF(ลงหลักสูตร!$E19=\"\",\"\",ลงหลักสูตร!$E19)","v":""},{"$f":"IFERROR(IF(VLOOKUP($W$2,คีย์คะแนน!$A$8:$DK$52,68,FALSE)=\"\",\"\",VLOOKUP($W$2,คีย์คะแนน!$A$8:$DK$52,68,FALSE)),\"\")","v":""},null,{"$f":"IFERROR(IF(VLOOKUP($W$2,คีย์คะแนน!$A$8:$DK$52,69,FALSE)=\"\",\"\",VLOOKUP($W$2,คีย์คะแนน!$A$8:$DK$52,69,FALSE)),\"\")","v":""},null,"",""]
[null,"ผลการเรียนเฉลี่ย  ",null,null,null,null,null,null,null,null,null,{"$f":"IFERROR(IF(VLOOKUP($W$2,คีย์คะแนน!$A$8:$FI$52,153,FALSE)=\"\",\"\",VLOOKUP($W$2,คีย์คะแนน!$A$8:$FI$52,153,FALSE)),\"\")","v":""},null,"ได้ลำดับที่ ",null,{"$f":"IFERROR(IF(VLOOKUP($W$2,คีย์คะแนน!$A$8:$FI$52,158,FALSE)=\"\",\"\",VLOOKUP($W$2,คีย์คะแนน!$A$8:$FI$52,158,FALSE)),\"\")","v":""}]
[]
[null,"สรุปผลการประเมินด้านต่างๆ"]
[null,"คุณลักษณะอันพึงประสงค์",null,null,null,null,null,"การอ่าน คิดวิเคราะห์ และเขียน",null,null,null,null,"กิจกรรมพัฒนาผู้เรียน"]
[null,{"$f":"IFERROR(IF(VLOOKUP($W$2,คีย์คะแนน!$A$8:$DK$52,72,FALSE)=\"\",\"\",VLOOKUP($W$2,คีย์คะแนน!$A$8:$DK$52,72,FALSE)),\"\")","v":""},null,null,null,null,null,{"$f":"IFERROR(IF(VLOOKUP($W$2,คีย์คะแนน!$A$8:$DK$52,73,FALSE)=\"\",\"\",VLOOKUP($W$2,คีย์คะแนน!$A$8:$DK$52,73,FALSE)),\"\")","v":""},null,null,null,null,{"$f":"IFERROR(IF(VLOOKUP($W$2,คีย์คะแนน!$A$8:$DK$52,74,FALSE)=\"\",\"\",VLOOKUP($W$2,คีย์คะแนน!$A$8:$DK$52,74,FALSE)),\"\")","v":""}]
[null,"ความคิดเห็นของครูประจำชั้น",null,null,null,null,null,null,null,null,null,"ความคิดเห็นของผู้ปกครอง"]
[null,{"$f":"IFERROR(IF(VLOOKUP($W$2,ความคิดเห็นครูประจำชั้น!$A$8:$F$52,4,FALSE)=\"\",\"\",VLOOKUP($W$2,ความคิดเห็นครูประจำชั้น!$A$8:$F$52,4,FALSE)),\"\")","v":""}]
[null,{"$f":"IFERROR(IF(VLOOKUP($W$2,ความคิดเห็นครูประจำชั้น!$A$8:$F$52,5,FALSE)=\"\",\"\",VLOOKUP($W$2,ความคิดเห็นครูประจำชั้น!$A$8:$F$52,5,FALSE)),\"\")","v":""}]
[null,{"$f":"IFERROR(IF(VLOOKUP($W$2,ความคิดเห็นครูประจำชั้น!$A$8:$F$52,6,FALSE)=\"\",\"\",VLOOKUP($W$2,ความคิดเห็นครูประจำชั้น!$A$8:$F$52,6,FALSE)),\"\")","v":""},null,null,null,null,null,null,null,null,null,null,"(ลงชื่อ)...................................................ผู้ปกครอง"]
[]
[null,"ลงชื่อ",null,null,null,null,null,"ลงชื่อ",null,null,null,null,"ลงชื่อ"]
[null,{"$f":"IF(ตั้งค่า!D11=\"\",\"\",\"( \" & ตั้งค่า!D11& \" )\")","v":""},null,null,null,null,null,{"$f":"IF(ตั้งค่า!D12=\"\",\"\",\"( \" & ตั้งค่า!D12& \" )\")","v":""},null,null,null,null,{"$f":"IF(ตั้งค่า!D14=\"\",\"\",\"( \" & ตั้งค่า!D14 & \" )\")","v":""}]
[null,"ครูประจำชั้นคนที่ 1",null,null,null,null,null,"ครูประจำชั้นคนที่ 2",null,null,null,null,{"$f":"CONCATENATE(ตั้งค่า!C14,ตั้งค่า!D9)","v":"ผู้อำนวยการโรงเรียนบ้านหัวคลอง"}]
[null,null,null,null,null,null,null,null,null,null,null,null,{"$f":"ตั้งค่า!D15","v":"00:00:00"}]

{"sheet":"บันทึกข้อความ","index":10,"n_rows":30,"n_cols":8,"rows_kept":30,"cut":false,"hidden":false,"merged":[[1,1,1,11],[4,2,4,4],[4,6,4,7],[19,5,19,10],[28,6,28,9],[29,5,29,10],[18,3,18,5],[17,3,17,5],[17,7,17,9],[18,7,18,9]]}
[]
[null,"บันทึกข้อความรายงานผลการเรียนของนักเรียน"]
[]
[null,"ส่วนราชการ",null,null,{"$f":"\"โรงเรียน\"&ตั้งค่า!E3&\"\"&ตั้งค่า!D9","v":"โรงเรียนบ้านหัวคลอง"}]
[null,"ที่","พิเศษ/2567",null,null,"วันที่","2024-11-01"]
[null,"เรื่อง",{"$f":"\"รายงานผลการพัฒนาคุณภาพผู้เรียนรายบุคคล ชั้น\"&ตั้งค่า!D10&\"  ปีการศึกษา \"&ตั้งค่า!D7","v":"รายงานผลการพัฒนาคุณภาพผู้เรียนรายบุคคล ชั้น  ปีการศึกษา "}]
[null,{"$f":"\"เรียน  ผู้อำนวยการโรงเรียน\"&ตั้งค่า!D9","v":"เรียน  ผู้อำนวยการโรงเรียนบ้านหัวคลอง"}]
[null,null,null,{"$f":"\"ตามที่ โรงเรียน\"&ตั้งค่า!D9&\"  ได้มอบหมายงานในหน้าที่ให้ข้าพเจ้า  \"&ตั้งค่า!D11","v":"ตามที่ โรงเรียนบ้านหัวคลอง  ได้มอบหมายงานในหน้าที่ให้ข้าพเจ้า  "}]
[null,{"$f":"ตั้งค่า!D12&\"  เป็นครูประจำชั้น\"&ตั้งค่า!D10&\"  ปีการศึกษา \"&ตั้งค่า!D7","v":"  เป็นครูประจำชั้น  ปีการศึกษา "}]
[]
[null,null,null,"บัดนี้ ข้าพเจ้าได้ดำเนินการบันทึกคะแนนจากครูประจำรายวิชาลงในโปรแกรม ปพ.6 และ"]
[null,"ได้จัดพิมพ์แบบรายงานผลการพัฒนาคุณภาพผู้เรียนรายบุคคล  เสร็จสิ้นเรียบร้อยแล้ว นั้น"]
[null,null,null,"ข้าพเจ้าขอรายงานผลการพัฒนาคุณภาพผู้เรียนรายบุคคล  และแนบแบบรายงานมาพร้อมฉบับนี้ด้วยแล้ว"]
[null,null,null,"จึงเรียนมาเพื่อโปรดทราบ"]
[]
[]
[null,null,null,null,null,null,null,"ลงชื่อ"]
[null,null,null,null,null,null,null,{"$f":"\"(\"&ตั้งค่า!D11&\")\"","v":"()"}]
[null,null,null,null,null,null,null,"ครูประจำชั้น"]
[]
[]
[null,null,"ความคิดเห็นของผู้อำนวยการโรงเรียน"]
[]
[]
[]
[]
[]
[null,null,null,null,null,null,"ลงชื่อ"]
[null,null,null,null,null,null,{"$f":"\"(\"&ตั้งค่า!D14&\")\"","v":"()"}]
[null,null,null,null,null,{"$f":"ตั้งค่า!C14&ตั้งค่า!D9","v":"ผู้อำนวยการโรงเรียนบ้านหัวคลอง"}]

{"sheet":"แบบสรุปผลการเรียน","index":11,"n_rows":52,"n_cols":28,"rows_kept":52,"cut":false,"hidden":false,"merged":[[1,27,2,29],[1,24,4,24],[1,25,4,25],[1,15,4,15],[1,16,4,16],[1,17,4,17],[1,19,4,19],[1,22,4,22],[1,23,4,23],[1,18,4,18],[1,20,4,20],[1,21,4,21],[0,0,0,25],[1,0,4,0],[1,1,4,1],[1,2,4,2],[1,3,4,3],[1,4,4,4],[1,5,4,5],[1,6,4,6],[1,7,4,7],[1,8,4,8],[1,9,4,9],[1,10,4,10],[1,11,4,11],[1,12,4,12],[1,13,4,13],[50,0,50,2],[51,0,51,2],[50,20,50,21],[51,20,51,21],[1,14,4,14]]}
[{"$f":"CONCATENATE(\"แบบสรุปผลการเรียนของนักเรียน  ชั้น\",ตั้งค่า!D10&\"  โรงเรียน\",ตั้งค่า!D9&\"  ปีการศึกษา \",ตั้งค่า!D7)","v":"แบบสรุปผลการเรียนของนักเรียน  ชั้น  โรงเรียนบ้านหัวคลอง  ปีการศึกษา "}]
["เลขที่","เลขประจำตัว","ชื่อ -สกุล",{"$f":"คีย์คะแนน!CA6","v":""},{"$f":"คีย์คะแนน!CB6","v":""},{"$f":"คีย์คะแนน!CC6","v":""},{"$f":"คีย์คะแนน!CD6","v":""},{"$f":"คีย์คะแนน!CE6","v":""},{"$f":"คีย์คะแนน!CF6","v":""},{"$f":"คีย์คะแนน!CG6","v":""},{"$f":"คีย์คะแนน!CH6","v":""},{"$f":"คีย์คะแนน!CI6","v":""},{"$f":"คีย์คะแนน!CJ6","v":""},{"$f":"คีย์คะแนน!CK6","v":""},{"$f":"คีย์คะแนน!CL6","v":""},{"$f":"คีย์คะแนน!CM6","v":""},{"$f":"คีย์คะแนน!CN6","v":""},{"$f":"คีย์คะแนน!CO6","v":""},{"$f":"คีย์คะแนน!CP6","v":""},{"$f":"คีย์คะแนน!CQ6","v":""},"รวมคะแนนทุกรายวิชา","เฉลี่ยร้อยละ",{"$f":"คีย์คะแนน!BT5","v":"คุณลักษณะอันพึงประสงค์"},{"$f":"คีย์คะแนน!BU5","v":"การอ่าน คิด วิเคราะห์ฯ"},{"$f":"คีย์คะแนน!BV5","v":"กิจกรรมพัฒนาผู้เรียน"},"หมายเหตุ",null,"ห้ามคียข้อมูลหน้านี้เด็ดขาด"]
[]
[]
[]
[{"$f":"รายชื่อนักเรียน!B6","v":0},{"$f":"คีย์คะแนน!B8","v":0},{"$f":"คีย์คะแนน!C8","v":""},{"$f":"คีย์คะแนน!G8","v":""},{"$f":"คีย์คะแนน!K8","v":""},{"$f":"คีย์คะแนน!O8","v":""},{"$f":"คีย์คะแนน!S8","v":""},{"$f":"คีย์คะแนน!W8","v":""},{"$f":"คีย์คะแนน!AA8","v":""},{"$f":"คีย์คะแนน!AE8","v":""},{"$f":"คีย์คะแนน!AI8","v":""},{"$f":"คีย์คะแนน!AM8","v":""},{"$f":"คีย์คะแนน!AQ8","v":""},{"$f":"คีย์คะแนน!AU8","v":""},{"$f":"คีย์คะแนน!AY8","v":""},{"$f":"คีย์คะแนน!BC8","v":""},{"$f":"คีย์คะแนน!BG8","v":""},{"$f":"คีย์คะแนน!BK8","v":""},{"$f":"คีย์คะแนน!BO8","v":""},{"$f":"คีย์คะแนน!BS8","v":""},{"$f":"คีย์คะแนน!DJ8","v":""},{"$f":"IF(U6=\"\",\" \",(U6*100)/คีย์คะแนน!$DK$2)","v":" "},{"$f":"คีย์คะแนน!BT8","v":""},{"$f":"คีย์คะแนน!BU8","v":""},{"$f":"คีย์คะแนน!BV8","v":0},{"$f":"คีย์คะแนน!BZ8","v":0}]
[{"$f":"รายชื่อนักเรียน!B7","v":0},{"$f":"คีย์คะแนน!B9","v":0},{"$f":"คีย์คะแนน!C9","v":""},{"$f":"คีย์คะแนน!G9","v":""},{"$f":"คีย์คะแนน!K9","v":""},{"$f":"คีย์คะแนน!O9","v":""},{"$f":"คีย์คะแนน!S9","v":""},{"$f":"คีย์คะแนน!W9","v":""},{"$f":"คีย์คะแนน!AA9","v":""},{"$f":"คีย์คะแนน!AE9","v":""},{"$f":"คีย์คะแนน!AI9","v":""},{"$f":"คีย์คะแนน!AM9","v":""},{"$f":"คีย์คะแนน!AQ9","v":""},{"$f":"คีย์คะแนน!AU9","v":""},{"$f":"คีย์คะแนน!AY9","v":""},{"$f":"คีย์คะแนน!BC9","v":""},{"$f":"คีย์คะแนน!BG9","v":""},{"$f":"คีย์คะแนน!BK9","v":""},{"$f":"คีย์คะแนน!BO9","v":""},{"$f":"คีย์คะแนน!BS9","v":""},{"$f":"คีย์คะแนน!DJ9","v":""},{"$f":"IF(U7=\"\",\" \",(U7*100)/คีย์คะแนน!$DK$2)","v":" "},{"$f":"คีย์คะแนน!BT9","v":""},{"$f":"คีย์คะแนน!BU9","v":""},{"$f":"คีย์คะแนน!BV9","v":0},{"$f":"คีย์คะแนน!BZ9","v":0}]
[{"$f":"รายชื่อนักเรียน!B8","v":0},{"$f":"คีย์คะแนน!B10","v":0},{"$f":"คีย์คะแนน!C10","v":""},{"$f":"คีย์คะแนน!G10","v":""},{"$f":"คีย์คะแนน!K10","v":""},{"$f":"คีย์คะแนน!O10","v":""},{"$f":"คีย์คะแนน!S10","v":""},{"$f":"คีย์คะแนน!W10","v":""},{"$f":"คีย์คะแนน!AA10","v":""},{"$f":"คีย์คะแนน!AE10","v":""},{"$f":"คีย์คะแนน!AI10","v":""},{"$f":"คีย์คะแนน!AM10","v":""},{"$f":"คีย์คะแนน!AQ10","v":""},{"$f":"คีย์คะแนน!AU10","v":""},{"$f":"คีย์คะแนน!AY10","v":""},{"$f":"คีย์คะแนน!BC10","v":""},{"$f":"คีย์คะแนน!BG10","v":""},{"$f":"คีย์คะแนน!BK10","v":""},{"$f":"คีย์คะแนน!BO10","v":""},{"$f":"คีย์คะแนน!BS10","v":""},{"$f":"คีย์คะแนน!DJ10","v":""},{"$f":"IF(U8=\"\",\" \",(U8*100)/คีย์คะแนน!$DK$2)","v":" "},{"$f":"คีย์คะแนน!BT10","v":""},{"$f":"คีย์คะแนน!BU10","v":""},{"$f":"คีย์คะแนน!BV10","v":0},{"$f":"คีย์คะแนน!BZ10","v":0}]
[{"$f":"รายชื่อนักเรียน!B9","v":0},{"$f":"คีย์คะแนน!B11","v":0},{"$f":"คีย์คะแนน!C11","v":""},{"$f":"คีย์คะแนน!G11","v":""},{"$f":"คีย์คะแนน!K11","v":""},{"$f":"คีย์คะแนน!O11","v":""},{"$f":"คีย์คะแนน!S11","v":""},{"$f":"คีย์คะแนน!W11","v":""},{"$f":"คีย์คะแนน!AA11","v":""},{"$f":"คีย์คะแนน!AE11","v":""},{"$f":"คีย์คะแนน!AI11","v":""},{"$f":"คีย์คะแนน!AM11","v":""},{"$f":"คีย์คะแนน!AQ11","v":""},{"$f":"คีย์คะแนน!AU11","v":""},{"$f":"คีย์คะแนน!AY11","v":""},{"$f":"คีย์คะแนน!BC11","v":""},{"$f":"คีย์คะแนน!BG11","v":""},{"$f":"คีย์คะแนน!BK11","v":""},{"$f":"คีย์คะแนน!BO11","v":""},{"$f":"คีย์คะแนน!BS11","v":""},{"$f":"คีย์คะแนน!DJ11","v":""},{"$f":"IF(U9=\"\",\" \",(U9*100)/คีย์คะแนน!$DK$2)","v":" "},{"$f":"คีย์คะแนน!BT11","v":""},{"$f":"คีย์คะแนน!BU11","v":""},{"$f":"คีย์คะแนน!BV11","v":0},{"$f":"คีย์คะแนน!BZ11","v":0}]
[{"$f":"รายชื่อนักเรียน!B10","v":0},{"$f":"คีย์คะแนน!B12","v":0},{"$f":"คีย์คะแนน!C12","v":""},{"$f":"คีย์คะแนน!G12","v":""},{"$f":"คีย์คะแนน!K12","v":""},{"$f":"คีย์คะแนน!O12","v":""},{"$f":"คีย์คะแนน!S12","v":""},{"$f":"คีย์คะแนน!W12","v":""},{"$f":"คีย์คะแนน!AA12","v":""},{"$f":"คีย์คะแนน!AE12","v":""},{"$f":"คีย์คะแนน!AI12","v":""},{"$f":"คีย์คะแนน!AM12","v":""},{"$f":"คีย์คะแนน!AQ12","v":""},{"$f":"คีย์คะแนน!AU12","v":""},{"$f":"คีย์คะแนน!AY12","v":""},{"$f":"คีย์คะแนน!BC12","v":""},{"$f":"คีย์คะแนน!BG12","v":""},{"$f":"คีย์คะแนน!BK12","v":""},{"$f":"คีย์คะแนน!BO12","v":""},{"$f":"คีย์คะแนน!BS12","v":""},{"$f":"คีย์คะแนน!DJ12","v":""},{"$f":"IF(U10=\"\",\" \",(U10*100)/คีย์คะแนน!$DK$2)","v":" "},{"$f":"คีย์คะแนน!BT12","v":""},{"$f":"คีย์คะแนน!BU12","v":""},{"$f":"คีย์คะแนน!BV12","v":0},{"$f":"คีย์คะแนน!BZ12","v":0}]
[{"$f":"รายชื่อนักเรียน!B11","v":0},{"$f":"คีย์คะแนน!B13","v":0},{"$f":"คีย์คะแนน!C13","v":""},{"$f":"คีย์คะแนน!G13","v":""},{"$f":"คีย์คะแนน!K13","v":""},{"$f":"คีย์คะแนน!O13","v":""},{"$f":"คีย์คะแนน!S13","v":""},{"$f":"คีย์คะแนน!W13","v":""},{"$f":"คีย์คะแนน!AA13","v":""},{"$f":"คีย์คะแนน!AE13","v":""},{"$f":"คีย์คะแนน!AI13","v":""},{"$f":"คีย์คะแนน!AM13","v":""},{"$f":"คีย์คะแนน!AQ13","v":""},{"$f":"คีย์คะแนน!AU13","v":""},{"$f":"คีย์คะแนน!AY13","v":""},{"$f":"คีย์คะแนน!BC13","v":""},{"$f":"คีย์คะแนน!BG13","v":""},{"$f":"คีย์คะแนน!BK13","v":""},{"$f":"คีย์คะแนน!BO13","v":""},{"$f":"คีย์คะแนน!BS13","v":""},{"$f":"คีย์คะแนน!DJ13","v":""},{"$f":"IF(U11=\"\",\" \",(U11*100)/คีย์คะแนน!$DK$2)","v":" "},{"$f":"คีย์คะแนน!BT13","v":""},{"$f":"คีย์คะแนน!BU13","v":""},{"$f":"คีย์คะแนน!BV13","v":0},{"$f":"คีย์คะแนน!BZ13","v":0}]
[{"$f":"รายชื่อนักเรียน!B12","v":0},{"$f":"คีย์คะแนน!B14","v":0},{"$f":"คีย์คะแนน!C14","v":""},{"$f":"คีย์คะแนน!G14","v":""},{"$f":"คีย์คะแนน!K14","v":""},{"$f":"คีย์คะแนน!O14","v":""},{"$f":"คีย์คะแนน!S14","v":""},{"$f":"คีย์คะแนน!W14","v":""},{"$f":"คีย์คะแนน!AA14","v":""},{"$f":"คีย์คะแนน!AE14","v":""},{"$f":"คีย์คะแนน!AI14","v":""},{"$f":"คีย์คะแนน!AM14","v":""},{"$f":"คีย์คะแนน!AQ14","v":""},{"$f":"คีย์คะแนน!AU14","v":""},{"$f":"คีย์คะแนน!AY14","v":""},{"$f":"คีย์คะแนน!BC14","v":""},{"$f":"คีย์คะแนน!BG14","v":""},{"$f":"คีย์คะแนน!BK14","v":""},{"$f":"คีย์คะแนน!BO14","v":""},{"$f":"คีย์คะแนน!BS14","v":""},{"$f":"คีย์คะแนน!DJ14","v":""},{"$f":"IF(U12=\"\",\" \",(U12*100)/คีย์คะแนน!$DK$2)","v":" "},{"$f":"คีย์คะแนน!BT14","v":""},{"$f":"คีย์คะแนน!BU14","v":""},{"$f":"คีย์คะแนน!BV14","v":0},{"$f":"คีย์คะแนน!BZ14","v":0}]
[{"$f":"รายชื่อนักเรียน!B13","v":0},{"$f":"คีย์คะแนน!B15","v":0},{"$f":"คีย์คะแนน!C15","v":""},{"$f":"คีย์คะแนน!G15","v":""},{"$f":"คีย์คะแนน!K15","v":""},{"$f":"คีย์คะแนน!O15","v":""},{"$f":"คีย์คะแนน!S15","v":""},{"$f":"คีย์คะแนน!W15","v":""},{"$f":"คีย์คะแนน!AA15","v":""},{"$f":"คีย์คะแนน!AE15","v":""},{"$f":"คีย์คะแนน!AI15","v":""},{"$f":"คีย์คะแนน!AM15","v":""},{"$f":"คีย์คะแนน!AQ15","v":""},{"$f":"คีย์คะแนน!AU15","v":""},{"$f":"คีย์คะแนน!AY15","v":""},{"$f":"คีย์คะแนน!BC15","v":""},{"$f":"คีย์คะแนน!BG15","v":""},{"$f":"คีย์คะแนน!BK15","v":""},{"$f":"คีย์คะแนน!BO15","v":""},{"$f":"คีย์คะแนน!BS15","v":""},{"$f":"คีย์คะแนน!DJ15","v":""},{"$f":"IF(U13=\"\",\" \",(U13*100)/คีย์คะแนน!$DK$2)","v":" "},{"$f":"คีย์คะแนน!BT15","v":""},{"$f":"คีย์คะแนน!BU15","v":""},{"$f":"คีย์คะแนน!BV15","v":0},{"$f":"คีย์คะแนน!BZ15","v":0}]
[{"$f":"รายชื่อนักเรียน!B14","v":0},{"$f":"คีย์คะแนน!B16","v":0},{"$f":"คีย์คะแนน!C16","v":""},{"$f":"คีย์คะแนน!G16","v":""},{"$f":"คีย์คะแนน!K16","v":""},{"$f":"คีย์คะแนน!O16","v":""},{"$f":"คีย์คะแนน!S16","v":""},{"$f":"คีย์คะแนน!W16","v":""},{"$f":"คีย์คะแนน!AA16","v":""},{"$f":"คีย์คะแนน!AE16","v":""},{"$f":"คีย์คะแนน!AI16","v":""},{"$f":"คีย์คะแนน!AM16","v":""},{"$f":"คีย์คะแนน!AQ16","v":""},{"$f":"คีย์คะแนน!AU16","v":""},{"$f":"คีย์คะแนน!AY16","v":""},{"$f":"คีย์คะแนน!BC16","v":""},{"$f":"คีย์คะแนน!BG16","v":""},{"$f":"คีย์คะแนน!BK16","v":""},{"$f":"คีย์คะแนน!BO16","v":""},{"$f":"คีย์คะแนน!BS16","v":""},{"$f":"คีย์คะแนน!DJ16","v":""},{"$f":"IF(U14=\"\",\" \",(U14*100)/คีย์คะแนน!$DK$2)","v":" "},{"$f":"คีย์คะแนน!BT16","v":""},{"$f":"คีย์คะแนน!BU16","v":""},{"$f":"คีย์คะแนน!BV16","v":0},{"$f":"คีย์คะแนน!BZ16","v":0}]
[{"$f":"รายชื่อนักเรียน!B15","v":0},{"$f":"คีย์คะแนน!B17","v":0},{"$f":"คีย์คะแนน!C17","v":""},{"$f":"คีย์คะแนน!G17","v":""},{"$f":"คีย์คะแนน!K17","v":""},{"$f":"คีย์คะแนน!O17","v":""},{"$f":"คีย์คะแนน!S17","v":""},{"$f":"คีย์คะแนน!W17","v":""},{"$f":"คีย์คะแนน!AA17","v":""},{"$f":"คีย์คะแนน!AE17","v":""},{"$f":"คีย์คะแนน!AI17","v":""},{"$f":"คีย์คะแนน!AM17","v":""},{"$f":"คีย์คะแนน!AQ17","v":""},{"$f":"คีย์คะแนน!AU17","v":""},{"$f":"คีย์คะแนน!AY17","v":""},{"$f":"คีย์คะแนน!BC17","v":""},{"$f":"คีย์คะแนน!BG17","v":""},{"$f":"คีย์คะแนน!BK17","v":""},{"$f":"คีย์คะแนน!BO17","v":""},{"$f":"คีย์คะแนน!BS17","v":""},{"$f":"คีย์คะแนน!DJ17","v":""},{"$f":"IF(U15=\"\",\" \",(U15*100)/คีย์คะแนน!$DK$2)","v":" "},{"$f":"คีย์คะแนน!BT17","v":""},{"$f":"คีย์คะแนน!BU17","v":""},{"$f":"คีย์คะแนน!BV17","v":0},{"$f":"คีย์คะแนน!BZ17","v":0}]
[{"$f":"รายชื่อนักเรียน!B16","v":0},{"$f":"คีย์คะแนน!B18","v":0},{"$f":"คีย์คะแนน!C18","v":""},{"$f":"คีย์คะแนน!G18","v":""},{"$f":"คีย์คะแนน!K18","v":""},{"$f":"คีย์คะแนน!O18","v":""},{"$f":"คีย์คะแนน!S18","v":""},{"$f":"คีย์คะแนน!W18","v":""},{"$f":"คีย์คะแนน!AA18","v":""},{"$f":"คีย์คะแนน!AE18","v":""},{"$f":"คีย์คะแนน!AI18","v":""},{"$f":"คีย์คะแนน!AM18","v":""},{"$f":"คีย์คะแนน!AQ18","v":""},{"$f":"คีย์คะแนน!AU18","v":""},{"$f":"คีย์คะแนน!AY18","v":""},{"$f":"คีย์คะแนน!BC18","v":""},{"$f":"คีย์คะแนน!BG18","v":""},{"$f":"คีย์คะแนน!BK18","v":""},{"$f":"คีย์คะแนน!BO18","v":""},{"$f":"คีย์คะแนน!BS18","v":""},{"$f":"คีย์คะแนน!DJ18","v":""},{"$f":"IF(U16=\"\",\" \",(U16*100)/คีย์คะแนน!$DK$2)","v":" "},{"$f":"คีย์คะแนน!BT18","v":""},{"$f":"คีย์คะแนน!BU18","v":""},{"$f":"คีย์คะแนน!BV18","v":0},{"$f":"คีย์คะแนน!BZ18","v":0}]
[{"$f":"รายชื่อนักเรียน!B17","v":0},{"$f":"คีย์คะแนน!B19","v":0},{"$f":"คีย์คะแนน!C19","v":""},{"$f":"คีย์คะแนน!G19","v":""},{"$f":"คีย์คะแนน!K19","v":""},{"$f":"คีย์คะแนน!O19","v":""},{"$f":"คีย์คะแนน!S19","v":""},{"$f":"คีย์คะแนน!W19","v":""},{"$f":"คีย์คะแนน!AA19","v":""},{"$f":"คีย์คะแนน!AE19","v":""},{"$f":"คีย์คะแนน!AI19","v":""},{"$f":"คีย์คะแนน!AM19","v":""},{"$f":"คีย์คะแนน!AQ19","v":""},{"$f":"คีย์คะแนน!AU19","v":""},{"$f":"คีย์คะแนน!AY19","v":""},{"$f":"คีย์คะแนน!BC19","v":""},{"$f":"คีย์คะแนน!BG19","v":""},{"$f":"คีย์คะแนน!BK19","v":""},{"$f":"คีย์คะแนน!BO19","v":""},{"$f":"คีย์คะแนน!BS19","v":""},{"$f":"คีย์คะแนน!DJ19","v":""},{"$f":"IF(U17=\"\",\" \",(U17*100)/คีย์คะแนน!$DK$2)","v":" "},{"$f":"คีย์คะแนน!BT19","v":""},{"$f":"คีย์คะแนน!BU19","v":""},{"$f":"คีย์คะแนน!BV19","v":0},{"$f":"คีย์คะแนน!BZ19","v":0}]
[{"$f":"รายชื่อนักเรียน!B18","v":0},{"$f":"คีย์คะแนน!B20","v":0},{"$f":"คีย์คะแนน!C20","v":""},{"$f":"คีย์คะแนน!G20","v":""},{"$f":"คีย์คะแนน!K20","v":""},{"$f":"คีย์คะแนน!O20","v":""},{"$f":"คีย์คะแนน!S20","v":""},{"$f":"คีย์คะแนน!W20","v":""},{"$f":"คีย์คะแนน!AA20","v":""},{"$f":"คีย์คะแนน!AE20","v":""},{"$f":"คีย์คะแนน!AI20","v":""},{"$f":"คีย์คะแนน!AM20","v":""},{"$f":"คีย์คะแนน!AQ20","v":""},{"$f":"คีย์คะแนน!AU20","v":""},{"$f":"คีย์คะแนน!AY20","v":""},{"$f":"คีย์คะแนน!BC20","v":""},{"$f":"คีย์คะแนน!BG20","v":""},{"$f":"คีย์คะแนน!BK20","v":""},{"$f":"คีย์คะแนน!BO20","v":""},{"$f":"คีย์คะแนน!BS20","v":""},{"$f":"คีย์คะแนน!DJ20","v":""},{"$f":"IF(U18=\"\",\" \",(U18*100)/คีย์คะแนน!$DK$2)","v":" "},{"$f":"คีย์คะแนน!BT20","v":""},{"$f":"คีย์คะแนน!BU20","v":""},{"$f":"คีย์คะแนน!BV20","v":0},{"$f":"คีย์คะแนน!BZ20","v":0}]
[{"$f":"รายชื่อนักเรียน!B19","v":0},{"$f":"คีย์คะแนน!B21","v":0},{"$f":"คีย์คะแนน!C21","v":""},{"$f":"คีย์คะแนน!G21","v":""},{"$f":"คีย์คะแนน!K21","v":""},{"$f":"คีย์คะแนน!O21","v":""},{"$f":"คีย์คะแนน!S21","v":""},{"$f":"คีย์คะแนน!W21","v":""},{"$f":"คีย์คะแนน!AA21","v":""},{"$f":"คีย์คะแนน!AE21","v":""},{"$f":"คีย์คะแนน!AI21","v":""},{"$f":"คีย์คะแนน!AM21","v":""},{"$f":"คีย์คะแนน!AQ21","v":""},{"$f":"คีย์คะแนน!AU21","v":""},{"$f":"คีย์คะแนน!AY21","v":""},{"$f":"คีย์คะแนน!BC21","v":""},{"$f":"คีย์คะแนน!BG21","v":""},{"$f":"คีย์คะแนน!BK21","v":""},{"$f":"คีย์คะแนน!BO21","v":""},{"$f":"คีย์คะแนน!BS21","v":""},{"$f":"คีย์คะแนน!DJ21","v":""},{"$f":"IF(U19=\"\",\" \",(U19*100)/คีย์คะแนน!$DK$2)","v":" "},{"$f":"คีย์คะแนน!BT21","v":""},{"$f":"คีย์คะแนน!BU21","v":""},{"$f":"คีย์คะแนน!BV21","v":0},{"$f":"คีย์คะแนน!BZ21","v":0}]
[{"$f":"รายชื่อนักเรียน!B20","v":0},{"$f":"คีย์คะแนน!B22","v":0},{"$f":"คีย์คะแนน!C22","v":""},{"$f":"คีย์คะแนน!G22","v":""},{"$f":"คีย์คะแนน!K22","v":""},{"$f":"คีย์คะแนน!O22","v":""},{"$f":"คีย์คะแนน!S22","v":""},{"$f":"คีย์คะแนน!W22","v":""},{"$f":"คีย์คะแนน!AA22","v":""},{"$f":"คีย์คะแนน!AE22","v":""},{"$f":"คีย์คะแนน!AI22","v":""},{"$f":"คีย์คะแนน!AM22","v":""},{"$f":"คีย์คะแนน!AQ22","v":""},{"$f":"คีย์คะแนน!AU22","v":""},{"$f":"คีย์คะแนน!AY22","v":""},{"$f":"คีย์คะแนน!BC22","v":""},{"$f":"คีย์คะแนน!BG22","v":""},{"$f":"คีย์คะแนน!BK22","v":""},{"$f":"คีย์คะแนน!BO22","v":""},{"$f":"คีย์คะแนน!BS22","v":""},{"$f":"คีย์คะแนน!DJ22","v":""},{"$f":"IF(U20=\"\",\" \",(U20*100)/คีย์คะแนน!$DK$2)","v":" "},{"$f":"คีย์คะแนน!BT22","v":""},{"$f":"คีย์คะแนน!BU22","v":""},{"$f":"คีย์คะแนน!BV22","v":0},{"$f":"คีย์คะแนน!BZ22","v":0}]
[{"$f":"รายชื่อนักเรียน!B21","v":0},{"$f":"คีย์คะแนน!B23","v":0},{"$f":"คีย์คะแนน!C23","v":""},{"$f":"คีย์คะแนน!G23","v":""},{"$f":"คีย์คะแนน!K23","v":""},{"$f":"คีย์คะแนน!O23","v":""},{"$f":"คีย์คะแนน!S23","v":""},{"$f":"คีย์คะแนน!W23","v":""},{"$f":"คีย์คะแนน!AA23","v":""},{"$f":"คีย์คะแนน!AE23","v":""},{"$f":"คีย์คะแนน!AI23","v":""},{"$f":"คีย์คะแนน!AM23","v":""},{"$f":"คีย์คะแนน!AQ23","v":""},{"$f":"คีย์คะแนน!AU23","v":""},{"$f":"คีย์คะแนน!AY23","v":""},{"$f":"คีย์คะแนน!BC23","v":""},{"$f":"คีย์คะแนน!BG23","v":""},{"$f":"คีย์คะแนน!BK23","v":""},{"$f":"คีย์คะแนน!BO23","v":""},{"$f":"คีย์คะแนน!BS23","v":""},{"$f":"คีย์คะแนน!DJ23","v":""},{"$f":"IF(U21=\"\",\" \",(U21*100)/คีย์คะแนน!$DK$2)","v":" "},{"$f":"คีย์คะแนน!BT23","v":""},{"$f":"คีย์คะแนน!BU23","v":""},{"$f":"คีย์คะแนน!BV23","v":0},{"$f":"คีย์คะแนน!BZ23","v":0}]
[{"$f":"รายชื่อนักเรียน!B22","v":0},{"$f":"คีย์คะแนน!B24","v":0},{"$f":"คีย์คะแนน!C24","v":""},{"$f":"คีย์คะแนน!G24","v":""},{"$f":"คีย์คะแนน!K24","v":""},{"$f":"คีย์คะแนน!O24","v":""},{"$f":"คีย์คะแนน!S24","v":""},{"$f":"คีย์คะแนน!W24","v":""},{"$f":"คีย์คะแนน!AA24","v":""},{"$f":"คีย์คะแนน!AE24","v":""},{"$f":"คีย์คะแนน!AI24","v":""},{"$f":"คีย์คะแนน!AM24","v":""},{"$f":"คีย์คะแนน!AQ24","v":""},{"$f":"คีย์คะแนน!AU24","v":""},{"$f":"คีย์คะแนน!AY24","v":""},{"$f":"คีย์คะแนน!BC24","v":""},{"$f":"คีย์คะแนน!BG24","v":""},{"$f":"คีย์คะแนน!BK24","v":""},{"$f":"คีย์คะแนน!BO24","v":""},{"$f":"คีย์คะแนน!BS24","v":""},{"$f":"คีย์คะแนน!DJ24","v":""},{"$f":"IF(U22=\"\",\" \",(U22*100)/คีย์คะแนน!$DK$2)","v":" "},{"$f":"คีย์คะแนน!BT24","v":""},{"$f":"คีย์คะแนน!BU24","v":""},{"$f":"คีย์คะแนน!BV24","v":0},{"$f":"คีย์คะแนน!BZ24","v":0}]
[{"$f":"รายชื่อนักเรียน!B23","v":0},{"$f":"คีย์คะแนน!B25","v":0},{"$f":"คีย์คะแนน!C25","v":""},{"$f":"คีย์คะแนน!G25","v":""},{"$f":"คีย์คะแนน!K25","v":""},{"$f":"คีย์คะแนน!O25","v":""},{"$f":"คีย์คะแนน!S25","v":""},{"$f":"คีย์คะแนน!W25","v":""},{"$f":"คีย์คะแนน!AA25","v":""},{"$f":"คีย์คะแนน!AE25","v":""},{"$f":"คีย์คะแนน!AI25","v":""},{"$f":"คีย์คะแนน!AM25","v":""},{"$f":"คีย์คะแนน!AQ25","v":""},{"$f":"คีย์คะแนน!AU25","v":""},{"$f":"คีย์คะแนน!AY25","v":""},{"$f":"คีย์คะแนน!BC25","v":""},{"$f":"คีย์คะแนน!BG25","v":""},{"$f":"คีย์คะแนน!BK25","v":""},{"$f":"คีย์คะแนน!BO25","v":""},{"$f":"คีย์คะแนน!BS25","v":""},{"$f":"คีย์คะแนน!DJ25","v":""},{"$f":"IF(U23=\"\",\" \",(U23*100)/คีย์คะแนน!$DK$2)","v":" "},{"$f":"คีย์คะแนน!BT25","v":""},{"$f":"คีย์คะแนน!BU25","v":""},{"$f":"คีย์คะแนน!BV25","v":0},{"$f":"คีย์คะแนน!BZ25","v":0}]
[{"$f":"รายชื่อนักเรียน!B24","v":0},{"$f":"คีย์คะแนน!B26","v":0},{"$f":"คีย์คะแนน!C26","v":""},{"$f":"คีย์คะแนน!G26","v":""},{"$f":"คีย์คะแนน!K26","v":""},{"$f":"คีย์คะแนน!O26","v":""},{"$f":"คีย์คะแนน!S26","v":""},{"$f":"คีย์คะแนน!W26","v":""},{"$f":"คีย์คะแนน!AA26","v":""},{"$f":"คีย์คะแนน!AE26","v":""},{"$f":"คีย์คะแนน!AI26","v":""},{"$f":"คีย์คะแนน!AM26","v":""},{"$f":"คีย์คะแนน!AQ26","v":""},{"$f":"คีย์คะแนน!AU26","v":""},{"$f":"คีย์คะแนน!AY26","v":""},{"$f":"คีย์คะแนน!BC26","v":""},{"$f":"คีย์คะแนน!BG26","v":""},{"$f":"คีย์คะแนน!BK26","v":""},{"$f":"คีย์คะแนน!BO26","v":""},{"$f":"คีย์คะแนน!BS26","v":""},{"$f":"คีย์คะแนน!DJ26","v":""},{"$f":"IF(U24=\"\",\" \",(U24*100)/คีย์คะแนน!$DK$2)","v":" "},{"$f":"คีย์คะแนน!BT26","v":""},{"$f":"คีย์คะแนน!BU26","v":""},{"$f":"คีย์คะแนน!BV26","v":0},{"$f":"คีย์คะแนน!BZ26","v":0}]
[{"$f":"รายชื่อนักเรียน!B25","v":0},{"$f":"คีย์คะแนน!B27","v":0},{"$f":"คีย์คะแนน!C27","v":""},{"$f":"คีย์คะแนน!G27","v":""},{"$f":"คีย์คะแนน!K27","v":""},{"$f":"คีย์คะแนน!O27","v":""},{"$f":"คีย์คะแนน!S27","v":""},{"$f":"คีย์คะแนน!W27","v":""},{"$f":"คีย์คะแนน!AA27","v":""},{"$f":"คีย์คะแนน!AE27","v":""},{"$f":"คีย์คะแนน!AI27","v":""},{"$f":"คีย์คะแนน!AM27","v":""},{"$f":"คีย์คะแนน!AQ27","v":""},{"$f":"คีย์คะแนน!AU27","v":""},{"$f":"คีย์คะแนน!AY27","v":""},{"$f":"คีย์คะแนน!BC27","v":""},{"$f":"คีย์คะแนน!BG27","v":""},{"$f":"คีย์คะแนน!BK27","v":""},{"$f":"คีย์คะแนน!BO27","v":""},{"$f":"คีย์คะแนน!BS27","v":""},{"$f":"คีย์คะแนน!DJ27","v":""},{"$f":"IF(U25=\"\",\" \",(U25*100)/คีย์คะแนน!$DK$2)","v":" "},{"$f":"คีย์คะแนน!BT27","v":""},{"$f":"คีย์คะแนน!BU27","v":""},{"$f":"คีย์คะแนน!BV27","v":0},{"$f":"คีย์คะแนน!BZ27","v":0}]
[{"$f":"รายชื่อนักเรียน!B26","v":0},{"$f":"คีย์คะแนน!B28","v":0},{"$f":"คีย์คะแนน!C28","v":""},{"$f":"คีย์คะแนน!G28","v":""},{"$f":"คีย์คะแนน!K28","v":""},{"$f":"คีย์คะแนน!O28","v":""},{"$f":"คีย์คะแนน!S28","v":""},{"$f":"คีย์คะแนน!W28","v":""},{"$f":"คีย์คะแนน!AA28","v":""},{"$f":"คีย์คะแนน!AE28","v":""},{"$f":"คีย์คะแนน!AI28","v":""},{"$f":"คีย์คะแนน!AM28","v":""},{"$f":"คีย์คะแนน!AQ28","v":""},{"$f":"คีย์คะแนน!AU28","v":""},{"$f":"คีย์คะแนน!AY28","v":""},{"$f":"คีย์คะแนน!BC28","v":""},{"$f":"คีย์คะแนน!BG28","v":""},{"$f":"คีย์คะแนน!BK28","v":""},{"$f":"คีย์คะแนน!BO28","v":""},{"$f":"คีย์คะแนน!BS28","v":""},{"$f":"คีย์คะแนน!DJ28","v":""},{"$f":"IF(U26=\"\",\" \",(U26*100)/คีย์คะแนน!$DK$2)","v":" "},{"$f":"คีย์คะแนน!BT28","v":""},{"$f":"คีย์คะแนน!BU28","v":""},{"$f":"คีย์คะแนน!BV28","v":0},{"$f":"คีย์คะแนน!BZ28","v":0}]
[{"$f":"รายชื่อนักเรียน!B27","v":0},{"$f":"คีย์คะแนน!B29","v":0},{"$f":"คีย์คะแนน!C29","v":""},{"$f":"คีย์คะแนน!G29","v":""},{"$f":"คีย์คะแนน!K29","v":""},{"$f":"คีย์คะแนน!O29","v":""},{"$f":"คีย์คะแนน!S29","v":""},{"$f":"คีย์คะแนน!W29","v":""},{"$f":"คีย์คะแนน!AA29","v":""},{"$f":"คีย์คะแนน!AE29","v":""},{"$f":"คีย์คะแนน!AI29","v":""},{"$f":"คีย์คะแนน!AM29","v":""},{"$f":"คีย์คะแนน!AQ29","v":""},{"$f":"คีย์คะแนน!AU29","v":""},{"$f":"คีย์คะแนน!AY29","v":""},{"$f":"คีย์คะแนน!BC29","v":""},{"$f":"คีย์คะแนน!BG29","v":""},{"$f":"คีย์คะแนน!BK29","v":""},{"$f":"คีย์คะแนน!BO29","v":""},{"$f":"คีย์คะแนน!BS29","v":""},{"$f":"คีย์คะแนน!DJ29","v":""},{"$f":"IF(U27=\"\",\" \",(U27*100)/คีย์คะแนน!$DK$2)","v":" "},{"$f":"คีย์คะแนน!BT29","v":""},{"$f":"คีย์คะแนน!BU29","v":""},{"$f":"คีย์คะแนน!BV29","v":0},{"$f":"คีย์คะแนน!BZ29","v":0}]
[{"$f":"รายชื่อนักเรียน!B28","v":0},{"$f":"คีย์คะแนน!B30","v":0},{"$f":"คีย์คะแนน!C30","v":""},{"$f":"คีย์คะแนน!G30","v":""},{"$f":"คีย์คะแนน!K30","v":""},{"$f":"คีย์คะแนน!O30","v":""},{"$f":"คีย์คะแนน!S30","v":""},{"$f":"คีย์คะแนน!W30","v":""},{"$f":"คีย์คะแนน!AA30","v":""},{"$f":"คีย์คะแนน!AE30","v":""},{"$f":"คีย์คะแนน!AI30","v":""},{"$f":"คีย์คะแนน!AM30","v":""},{"$f":"คีย์คะแนน!AQ30","v":""},{"$f":"คีย์คะแนน!AU30","v":""},{"$f":"คีย์คะแนน!AY30","v":""},{"$f":"คีย์คะแนน!BC30","v":""},{"$f":"คีย์คะแนน!BG30","v":""},{"$f":"คีย์คะแนน!BK30","v":""},{"$f":"คีย์คะแนน!BO30","v":""},{"$f":"คีย์คะแนน!BS30","v":""},{"$f":"คีย์คะแนน!DJ30","v":""},{"$f":"IF(U28=\"\",\" \",(U28*100)/คีย์คะแนน!$DK$2)","v":" "},{"$f":"คีย์คะแนน!BT30","v":""},{"$f":"คีย์คะแนน!BU30","v":""},{"$f":"คีย์คะแนน!BV30","v":0},{"$f":"คีย์คะแนน!BZ30","v":0}]
[{"$f":"รายชื่อนักเรียน!B29","v":0},{"$f":"คีย์คะแนน!B31","v":0},{"$f":"คีย์คะแนน!C31","v":""},{"$f":"คีย์คะแนน!G31","v":""},{"$f":"คีย์คะแนน!K31","v":""},{"$f":"คีย์คะแนน!O31","v":""},{"$f":"คีย์คะแนน!S31","v":""},{"$f":"คีย์คะแนน!W31","v":""},{"$f":"คีย์คะแนน!AA31","v":""},{"$f":"คีย์คะแนน!AE31","v":""},{"$f":"คีย์คะแนน!AI31","v":""},{"$f":"คีย์คะแนน!AM31","v":""},{"$f":"คีย์คะแนน!AQ31","v":""},{"$f":"คีย์คะแนน!AU31","v":""},{"$f":"คีย์คะแนน!AY31","v":""},{"$f":"คีย์คะแนน!BC31","v":""},{"$f":"คีย์คะแนน!BG31","v":""},{"$f":"คีย์คะแนน!BK31","v":""},{"$f":"คีย์คะแนน!BO31","v":""},{"$f":"คีย์คะแนน!BS31","v":""},{"$f":"คีย์คะแนน!DJ31","v":""},{"$f":"IF(U29=\"\",\" \",(U29*100)/คีย์คะแนน!$DK$2)","v":" "},{"$f":"คีย์คะแนน!BT31","v":""},{"$f":"คีย์คะแนน!BU31","v":""},{"$f":"คีย์คะแนน!BV31","v":0},{"$f":"คีย์คะแนน!BZ31","v":0}]
[{"$f":"รายชื่อนักเรียน!B30","v":0},{"$f":"คีย์คะแนน!B32","v":0},{"$f":"คีย์คะแนน!C32","v":""},{"$f":"คีย์คะแนน!G32","v":""},{"$f":"คีย์คะแนน!K32","v":""},{"$f":"คีย์คะแนน!O32","v":""},{"$f":"คีย์คะแนน!S32","v":""},{"$f":"คีย์คะแนน!W32","v":""},{"$f":"คีย์คะแนน!AA32","v":""},{"$f":"คีย์คะแนน!AE32","v":""},{"$f":"คีย์คะแนน!AI32","v":""},{"$f":"คีย์คะแนน!AM32","v":""},{"$f":"คีย์คะแนน!AQ32","v":""},{"$f":"คีย์คะแนน!AU32","v":""},{"$f":"คีย์คะแนน!AY32","v":""},{"$f":"คีย์คะแนน!BC32","v":""},{"$f":"คีย์คะแนน!BG32","v":""},{"$f":"คีย์คะแนน!BK32","v":""},{"$f":"คีย์คะแนน!BO32","v":""},{"$f":"คีย์คะแนน!BS32","v":""},{"$f":"คีย์คะแนน!DJ32","v":""},{"$f":"IF(U30=\"\",\" \",(U30*100)/คีย์คะแนน!$DK$2)","v":" "},{"$f":"คีย์คะแนน!BT32","v":""},{"$f":"คีย์คะแนน!BU32","v":""},{"$f":"คีย์คะแนน!BV32","v":0},{"$f":"คีย์คะแนน!BZ32","v":0}]
[{"$f":"รายชื่อนักเรียน!B31","v":0},{"$f":"คีย์คะแนน!B33","v":0},{"$f":"คีย์คะแนน!C33","v":""},{"$f":"คีย์คะแนน!G33","v":""},{"$f":"คีย์คะแนน!K33","v":""},{"$f":"คีย์คะแนน!O33","v":""},{"$f":"คีย์คะแนน!S33","v":""},{"$f":"คีย์คะแนน!W33","v":""},{"$f":"คีย์คะแนน!AA33","v":""},{"$f":"คีย์คะแนน!AE33","v":""},{"$f":"คีย์คะแนน!AI33","v":""},{"$f":"คีย์คะแนน!AM33","v":""},{"$f":"คีย์คะแนน!AQ33","v":""},{"$f":"คีย์คะแนน!AU33","v":""},{"$f":"คีย์คะแนน!AY33","v":""},{"$f":"คีย์คะแนน!BC33","v":""},{"$f":"คีย์คะแนน!BG33","v":""},{"$f":"คีย์คะแนน!BK33","v":""},{"$f":"คีย์คะแนน!BO33","v":""},{"$f":"คีย์คะแนน!BS33","v":""},{"$f":"คีย์คะแนน!DJ33","v":""},{"$f":"IF(U31=\"\",\" \",(U31*100)/คีย์คะแนน!$DK$2)","v":" "},{"$f":"คีย์คะแนน!BT33","v":""},{"$f":"คีย์คะแนน!BU33","v":""},{"$f":"คีย์คะแนน!BV33","v":0},{"$f":"คีย์คะแนน!BZ33","v":0}]
[{"$f":"รายชื่อนักเรียน!B32","v":0},{"$f":"คีย์คะแนน!B34","v":0},{"$f":"คีย์คะแนน!C34","v":""},{"$f":"คีย์คะแนน!G34","v":""},{"$f":"คีย์คะแนน!K34","v":""},{"$f":"คีย์คะแนน!O34","v":""},{"$f":"คีย์คะแนน!S34","v":""},{"$f":"คีย์คะแนน!W34","v":""},{"$f":"คีย์คะแนน!AA34","v":""},{"$f":"คีย์คะแนน!AE34","v":""},{"$f":"คีย์คะแนน!AI34","v":""},{"$f":"คีย์คะแนน!AM34","v":""},{"$f":"คีย์คะแนน!AQ34","v":""},{"$f":"คีย์คะแนน!AU34","v":""},{"$f":"คีย์คะแนน!AY34","v":""},{"$f":"คีย์คะแนน!BC34","v":""},{"$f":"คีย์คะแนน!BG34","v":""},{"$f":"คีย์คะแนน!BK34","v":""},{"$f":"คีย์คะแนน!BO34","v":""},{"$f":"คีย์คะแนน!BS34","v":""},{"$f":"คีย์คะแนน!DJ34","v":""},{"$f":"IF(U32=\"\",\" \",(U32*100)/คีย์คะแนน!$DK$2)","v":" "},{"$f":"คีย์คะแนน!BT34","v":""},{"$f":"คีย์คะแนน!BU34","v":""},{"$f":"คีย์คะแนน!BV34","v":0},{"$f":"คีย์คะแนน!BZ34","v":0}]
[{"$f":"รายชื่อนักเรียน!B33","v":0},{"$f":"คีย์คะแนน!B35","v":0},{"$f":"คีย์คะแนน!C35","v":""},{"$f":"คีย์คะแนน!G35","v":""},{"$f":"คีย์คะแนน!K35","v":""},{"$f":"คีย์คะแนน!O35","v":""},{"$f":"คีย์คะแนน!S35","v":""},{"$f":"คีย์คะแนน!W35","v":""},{"$f":"คีย์คะแนน!AA35","v":""},{"$f":"คีย์คะแนน!AE35","v":""},{"$f":"คีย์คะแนน!AI35","v":""},{"$f":"คีย์คะแนน!AM35","v":""},{"$f":"คีย์คะแนน!AQ35","v":""},{"$f":"คีย์คะแนน!AU35","v":""},{"$f":"คีย์คะแนน!AY35","v":""},{"$f":"คีย์คะแนน!BC35","v":""},{"$f":"คีย์คะแนน!BG35","v":""},{"$f":"คีย์คะแนน!BK35","v":""},{"$f":"คีย์คะแนน!BO35","v":""},{"$f":"คีย์คะแนน!BS35","v":""},{"$f":"คีย์คะแนน!DJ35","v":""},{"$f":"IF(U33=\"\",\" \",(U33*100)/คีย์คะแนน!$DK$2)","v":" "},{"$f":"คีย์คะแนน!BT35","v":""},{"$f":"คีย์คะแนน!BU35","v":""},{"$f":"คีย์คะแนน!BV35","v":0},{"$f":"คีย์คะแนน!BZ35","v":0}]
[{"$f":"รายชื่อนักเรียน!B34","v":0},{"$f":"คีย์คะแนน!B36","v":0},{"$f":"คีย์คะแนน!C36","v":""},{"$f":"คีย์คะแนน!G36","v":""},{"$f":"คีย์คะแนน!K36","v":""},{"$f":"คีย์คะแนน!O36","v":""},{"$f":"คีย์คะแนน!S36","v":""},{"$f":"คีย์คะแนน!W36","v":""},{"$f":"คีย์คะแนน!AA36","v":""},{"$f":"คีย์คะแนน!AE36","v":""},{"$f":"คีย์คะแนน!AI36","v":""},{"$f":"คีย์คะแนน!AM36","v":""},{"$f":"คีย์คะแนน!AQ36","v":""},{"$f":"คีย์คะแนน!AU36","v":""},{"$f":"คีย์คะแนน!AY36","v":""},{"$f":"คีย์คะแนน!BC36","v":""},{"$f":"คีย์คะแนน!BG36","v":""},{"$f":"คีย์คะแนน!BK36","v":""},{"$f":"คีย์คะแนน!BO36","v":""},{"$f":"คีย์คะแนน!BS36","v":""},{"$f":"คีย์คะแนน!DJ36","v":""},{"$f":"IF(U34=\"\",\" \",(U34*100)/คีย์คะแนน!$DK$2)","v":" "},{"$f":"คีย์คะแนน!BT36","v":""},{"$f":"คีย์คะแนน!BU36","v":""},{"$f":"คีย์คะแนน!BV36","v":0},{"$f":"คีย์คะแนน!BZ36","v":0}]
[{"$f":"รายชื่อนักเรียน!B35","v":0},{"$f":"คีย์คะแนน!B37","v":0},{"$f":"คีย์คะแนน!C37","v":""},{"$f":"คีย์คะแนน!G37","v":""},{"$f":"คีย์คะแนน!K37","v":""},{"$f":"คีย์คะแนน!O37","v":""},{"$f":"คีย์คะแนน!S37","v":""},{"$f":"คีย์คะแนน!W37","v":""},{"$f":"คีย์คะแนน!AA37","v":""},{"$f":"คีย์คะแนน!AE37","v":""},{"$f":"คีย์คะแนน!AI37","v":""},{"$f":"คีย์คะแนน!AM37","v":""},{"$f":"คีย์คะแนน!AQ37","v":""},{"$f":"คีย์คะแนน!AU37","v":""},{"$f":"คีย์คะแนน!AY37","v":""},{"$f":"คีย์คะแนน!BC37","v":""},{"$f":"คีย์คะแนน!BG37","v":""},{"$f":"คีย์คะแนน!BK37","v":""},{"$f":"คีย์คะแนน!BO37","v":""},{"$f":"คีย์คะแนน!BS37","v":""},{"$f":"คีย์คะแนน!DJ37","v":""},{"$f":"IF(U35=\"\",\" \",(U35*100)/คีย์คะแนน!$DK$2)","v":" "},{"$f":"คีย์คะแนน!BT37","v":""},{"$f":"คีย์คะแนน!BU37","v":""},{"$f":"คีย์คะแนน!BV37","v":0},{"$f":"คีย์คะแนน!BZ37","v":0}]
[{"$f":"รายชื่อนักเรียน!B36","v":0},{"$f":"คีย์คะแนน!B38","v":0},{"$f":"คีย์คะแนน!C38","v":""},{"$f":"คีย์คะแนน!G38","v":""},{"$f":"คีย์คะแนน!K38","v":""},{"$f":"คีย์คะแนน!O38","v":""},{"$f":"คีย์คะแนน!S38","v":""},{"$f":"คีย์คะแนน!W38","v":""},{"$f":"คีย์คะแนน!AA38","v":""},{"$f":"คีย์คะแนน!AE38","v":""},{"$f":"คีย์คะแนน!AI38","v":""},{"$f":"คีย์คะแนน!AM38","v":""},{"$f":"คีย์คะแนน!AQ38","v":""},{"$f":"คีย์คะแนน!AU38","v":""},{"$f":"คีย์คะแนน!AY38","v":""},{"$f":"คีย์คะแนน!BC38","v":""},{"$f":"คีย์คะแนน!BG38","v":""},{"$f":"คีย์คะแนน!BK38","v":""},{"$f":"คีย์คะแนน!BO38","v":""},{"$f":"คีย์คะแนน!BS38","v":""},{"$f":"คีย์คะแนน!DJ38","v":""},{"$f":"IF(U36=\"\",\" \",(U36*100)/คีย์คะแนน!$DK$2)","v":" "},{"$f":"คีย์คะแนน!BT38","v":""},{"$f":"คีย์คะแนน!BU38","v":""},{"$f":"คีย์คะแนน!BV38","v":0},{"$f":"คีย์คะแนน!BZ38","v":0}]
[{"$f":"รายชื่อนักเรียน!B37","v":0},{"$f":"คีย์คะแนน!B39","v":0},{"$f":"คีย์คะแนน!C39","v":""},{"$f":"คีย์คะแนน!G39","v":""},{"$f":"คีย์คะแนน!K39","v":""},{"$f":"คีย์คะแนน!O39","v":""},{"$f":"คีย์คะแนน!S39","v":""},{"$f":"คีย์คะแนน!W39","v":""},{"$f":"คีย์คะแนน!AA39","v":""},{"$f":"คีย์คะแนน!AE39","v":""},{"$f":"คีย์คะแนน!AI39","v":""},{"$f":"คีย์คะแนน!AM39","v":""},{"$f":"คีย์คะแนน!AQ39","v":""},{"$f":"คีย์คะแนน!AU39","v":""},{"$f":"คีย์คะแนน!AY39","v":""},{"$f":"คีย์คะแนน!BC39","v":""},{"$f":"คีย์คะแนน!BG39","v":""},{"$f":"คีย์คะแนน!BK39","v":""},{"$f":"คีย์คะแนน!BO39","v":""},{"$f":"คีย์คะแนน!BS39","v":""},{"$f":"คีย์คะแนน!DJ39","v":""},{"$f":"IF(U37=\"\",\" \",(U37*100)/คีย์คะแนน!$DK$2)","v":" "},{"$f":"คีย์คะแนน!BT39","v":""},{"$f":"คีย์คะแนน!BU39","v":""},{"$f":"คีย์คะแนน!BV39","v":0},{"$f":"คีย์คะแนน!BZ39","v":0}]
[{"$f":"รายชื่อนักเรียน!B38","v":0},{"$f":"คีย์คะแนน!B40","v":0},{"$f":"คีย์คะแนน!C40","v":""},{"$f":"คีย์คะแนน!G40","v":""},{"$f":"คีย์คะแนน!K40","v":""},{"$f":"คีย์คะแนน!O40","v":""},{"$f":"คีย์คะแนน!S40","v":""},{"$f":"คีย์คะแนน!W40","v":""},{"$f":"คีย์คะแนน!AA40","v":""},{"$f":"คีย์คะแนน!AE40","v":""},{"$f":"คีย์คะแนน!AI40","v":""},{"$f":"คีย์คะแนน!AM40","v":""},{"$f":"คีย์คะแนน!AQ40","v":""},{"$f":"คีย์คะแนน!AU40","v":""},{"$f":"คีย์คะแนน!AY40","v":""},{"$f":"คีย์คะแนน!BC40","v":""},{"$f":"คีย์คะแนน!BG40","v":""},{"$f":"คีย์คะแนน!BK40","v":""},{"$f":"คีย์คะแนน!BO40","v":""},{"$f":"คีย์คะแนน!BS40","v":""},{"$f":"คีย์คะแนน!DJ40","v":""},{"$f":"IF(U38=\"\",\" \",(U38*100)/คีย์คะแนน!$DK$2)","v":" "},{"$f":"คีย์คะแนน!BT40","v":""},{"$f":"คีย์คะแนน!BU40","v":""},{"$f":"คีย์คะแนน!BV40","v":0},{"$f":"คีย์คะแนน!BZ40","v":0}]
[{"$f":"รายชื่อนักเรียน!B39","v":0},{"$f":"คีย์คะแนน!B41","v":0},{"$f":"คีย์คะแนน!C41","v":""},{"$f":"คีย์คะแนน!G41","v":""},{"$f":"คีย์คะแนน!K41","v":""},{"$f":"คีย์คะแนน!O41","v":""},{"$f":"คีย์คะแนน!S41","v":""},{"$f":"คีย์คะแนน!W41","v":""},{"$f":"คีย์คะแนน!AA41","v":""},{"$f":"คีย์คะแนน!AE41","v":""},{"$f":"คีย์คะแนน!AI41","v":""},{"$f":"คีย์คะแนน!AM41","v":""},{"$f":"คีย์คะแนน!AQ41","v":""},{"$f":"คีย์คะแนน!AU41","v":""},{"$f":"คีย์คะแนน!AY41","v":""},{"$f":"คีย์คะแนน!BC41","v":""},{"$f":"คีย์คะแนน!BG41","v":""},{"$f":"คีย์คะแนน!BK41","v":""},{"$f":"คีย์คะแนน!BO41","v":""},{"$f":"คีย์คะแนน!BS41","v":""},{"$f":"คีย์คะแนน!DJ41","v":""},{"$f":"IF(U39=\"\",\" \",(U39*100)/คีย์คะแนน!$DK$2)","v":" "},{"$f":"คีย์คะแนน!BT41","v":""},{"$f":"คีย์คะแนน!BU41","v":""},{"$f":"คีย์คะแนน!BV41","v":0},{"$f":"คีย์คะแนน!BZ41","v":0}]
[{"$f":"รายชื่อนักเรียน!B40","v":0},{"$f":"คีย์คะแนน!B42","v":0},{"$f":"คีย์คะแนน!C42","v":""},{"$f":"คีย์คะแนน!G42","v":""},{"$f":"คีย์คะแนน!K42","v":""},{"$f":"คีย์คะแนน!O42","v":""},{"$f":"คีย์คะแนน!S42","v":""},{"$f":"คีย์คะแนน!W42","v":""},{"$f":"คีย์คะแนน!AA42","v":""},{"$f":"คีย์คะแนน!AE42","v":""},{"$f":"คีย์คะแนน!AI42","v":""},{"$f":"คีย์คะแนน!AM42","v":""},{"$f":"คีย์คะแนน!AQ42","v":""},{"$f":"คีย์คะแนน!AU42","v":""},{"$f":"คีย์คะแนน!AY42","v":""},{"$f":"คีย์คะแนน!BC42","v":""},{"$f":"คีย์คะแนน!BG42","v":""},{"$f":"คีย์คะแนน!BK42","v":""},{"$f":"คีย์คะแนน!BO42","v":""},{"$f":"คีย์คะแนน!BS42","v":""},{"$f":"คีย์คะแนน!DJ42","v":""},{"$f":"IF(U40=\"\",\" \",(U40*100)/คีย์คะแนน!$DK$2)","v":" "},{"$f":"คีย์คะแนน!BT42","v":""},{"$f":"คีย์คะแนน!BU42","v":""},{"$f":"คีย์คะแนน!BV42","v":0},{"$f":"คีย์คะแนน!BZ42","v":0}]
[{"$f":"รายชื่อนักเรียน!B41","v":0},{"$f":"คีย์คะแนน!B43","v":0},{"$f":"คีย์คะแนน!C43","v":""},{"$f":"คีย์คะแนน!G43","v":""},{"$f":"คีย์คะแนน!K43","v":""},{"$f":"คีย์คะแนน!O43","v":""},{"$f":"คีย์คะแนน!S43","v":""},{"$f":"คีย์คะแนน!W43","v":""},{"$f":"คีย์คะแนน!AA43","v":""},{"$f":"คีย์คะแนน!AE43","v":""},{"$f":"คีย์คะแนน!AI43","v":""},{"$f":"คีย์คะแนน!AM43","v":""},{"$f":"คีย์คะแนน!AQ43","v":""},{"$f":"คีย์คะแนน!AU43","v":""},{"$f":"คีย์คะแนน!AY43","v":""},{"$f":"คีย์คะแนน!BC43","v":""},{"$f":"คีย์คะแนน!BG43","v":""},{"$f":"คีย์คะแนน!BK43","v":""},{"$f":"คีย์คะแนน!BO43","v":""},{"$f":"คีย์คะแนน!BS43","v":""},{"$f":"คีย์คะแนน!DJ43","v":""},{"$f":"IF(U41=\"\",\" \",(U41*100)/คีย์คะแนน!$DK$2)","v":" "},{"$f":"คีย์คะแนน!BT43","v":""},{"$f":"คีย์คะแนน!BU43","v":""},{"$f":"คีย์คะแนน!BV43","v":0},{"$f":"คีย์คะแนน!BZ43","v":0}]
[{"$f":"รายชื่อนักเรียน!B42","v":0},{"$f":"คีย์คะแนน!B44","v":0},{"$f":"คีย์คะแนน!C44","v":""},{"$f":"คีย์คะแนน!G44","v":""},{"$f":"คีย์คะแนน!K44","v":""},{"$f":"คีย์คะแนน!O44","v":""},{"$f":"คีย์คะแนน!S44","v":""},{"$f":"คีย์คะแนน!W44","v":""},{"$f":"คีย์คะแนน!AA44","v":""},{"$f":"คีย์คะแนน!AE44","v":""},{"$f":"คีย์คะแนน!AI44","v":""},{"$f":"คีย์คะแนน!AM44","v":""},{"$f":"คีย์คะแนน!AQ44","v":""},{"$f":"คีย์คะแนน!AU44","v":""},{"$f":"คีย์คะแนน!AY44","v":""},{"$f":"คีย์คะแนน!BC44","v":""},{"$f":"คีย์คะแนน!BG44","v":""},{"$f":"คีย์คะแนน!BK44","v":""},{"$f":"คีย์คะแนน!BO44","v":""},{"$f":"คีย์คะแนน!BS44","v":""},{"$f":"คีย์คะแนน!DJ44","v":""},{"$f":"IF(U42=\"\",\" \",(U42*100)/คีย์คะแนน!$DK$2)","v":" "},{"$f":"คีย์คะแนน!BT44","v":""},{"$f":"คีย์คะแนน!BU44","v":""},{"$f":"คีย์คะแนน!BV44","v":0},{"$f":"คีย์คะแนน!BZ44","v":0}]
[{"$f":"รายชื่อนักเรียน!B43","v":0},{"$f":"คีย์คะแนน!B45","v":0},{"$f":"คีย์คะแนน!C45","v":""},{"$f":"คีย์คะแนน!G45","v":""},{"$f":"คีย์คะแนน!K45","v":""},{"$f":"คีย์คะแนน!O45","v":""},{"$f":"คีย์คะแนน!S45","v":""},{"$f":"คีย์คะแนน!W45","v":""},{"$f":"คีย์คะแนน!AA45","v":""},{"$f":"คีย์คะแนน!AE45","v":""},{"$f":"คีย์คะแนน!AI45","v":""},{"$f":"คีย์คะแนน!AM45","v":""},{"$f":"คีย์คะแนน!AQ45","v":""},{"$f":"คีย์คะแนน!AU45","v":""},{"$f":"คีย์คะแนน!AY45","v":""},{"$f":"คีย์คะแนน!BC45","v":""},{"$f":"คีย์คะแนน!BG45","v":""},{"$f":"คีย์คะแนน!BK45","v":""},{"$f":"คีย์คะแนน!BO45","v":""},{"$f":"คีย์คะแนน!BS45","v":""},{"$f":"คีย์คะแนน!DJ45","v":""},{"$f":"IF(U43=\"\",\" \",(U43*100)/คีย์คะแนน!$DK$2)","v":" "},{"$f":"คีย์คะแนน!BT45","v":""},{"$f":"คีย์คะแนน!BU45","v":""},{"$f":"คีย์คะแนน!BV45","v":0},{"$f":"คีย์คะแนน!BZ45","v":0}]
[{"$f":"รายชื่อนักเรียน!B44","v":0},{"$f":"คีย์คะแนน!B46","v":0},{"$f":"คีย์คะแนน!C46","v":""},{"$f":"คีย์คะแนน!G46","v":""},{"$f":"คีย์คะแนน!K46","v":""},{"$f":"คีย์คะแนน!O46","v":""},{"$f":"คีย์คะแนน!S46","v":""},{"$f":"คีย์คะแนน!W46","v":""},{"$f":"คีย์คะแนน!AA46","v":""},{"$f":"คีย์คะแนน!AE46","v":""},{"$f":"คีย์คะแนน!AI46","v":""},{"$f":"คีย์คะแนน!AM46","v":""},{"$f":"คีย์คะแนน!AQ46","v":""},{"$f":"คีย์คะแนน!AU46","v":""},{"$f":"คีย์คะแนน!AY46","v":""},{"$f":"คีย์คะแนน!BC46","v":""},{"$f":"คีย์คะแนน!BG46","v":""},{"$f":"คีย์คะแนน!BK46","v":""},{"$f":"คีย์คะแนน!BO46","v":""},{"$f":"คีย์คะแนน!BS46","v":""},{"$f":"คีย์คะแนน!DJ46","v":""},{"$f":"IF(U44=\"\",\" \",(U44*100)/คีย์คะแนน!$DK$2)","v":" "},{"$f":"คีย์คะแนน!BT46","v":""},{"$f":"คีย์คะแนน!BU46","v":""},{"$f":"คีย์คะแนน!BV46","v":0},{"$f":"คีย์คะแนน!BZ46","v":0}]
[{"$f":"รายชื่อนักเรียน!B45","v":0},{"$f":"คีย์คะแนน!B47","v":0},{"$f":"คีย์คะแนน!C47","v":""},{"$f":"คีย์คะแนน!G47","v":""},{"$f":"คีย์คะแนน!K47","v":""},{"$f":"คีย์คะแนน!O47","v":""},{"$f":"คีย์คะแนน!S47","v":""},{"$f":"คีย์คะแนน!W47","v":""},{"$f":"คีย์คะแนน!AA47","v":""},{"$f":"คีย์คะแนน!AE47","v":""},{"$f":"คีย์คะแนน!AI47","v":""},{"$f":"คีย์คะแนน!AM47","v":""},{"$f":"คีย์คะแนน!AQ47","v":""},{"$f":"คีย์คะแนน!AU47","v":""},{"$f":"คีย์คะแนน!AY47","v":""},{"$f":"คีย์คะแนน!BC47","v":""},{"$f":"คีย์คะแนน!BG47","v":""},{"$f":"คีย์คะแนน!BK47","v":""},{"$f":"คีย์คะแนน!BO47","v":""},{"$f":"คีย์คะแนน!BS47","v":""},{"$f":"คีย์คะแนน!DJ47","v":""},{"$f":"IF(U45=\"\",\" \",(U45*100)/คีย์คะแนน!$DK$2)","v":" "},{"$f":"คีย์คะแนน!BT47","v":""},{"$f":"คีย์คะแนน!BU47","v":""},{"$f":"คีย์คะแนน!BV47","v":0},{"$f":"คีย์คะแนน!BZ47","v":0}]
[{"$f":"รายชื่อนักเรียน!B46","v":0},{"$f":"คีย์คะแนน!B48","v":0},{"$f":"คีย์คะแนน!C48","v":""},{"$f":"คีย์คะแนน!G48","v":""},{"$f":"คีย์คะแนน!K48","v":""},{"$f":"คีย์คะแนน!O48","v":""},{"$f":"คีย์คะแนน!S48","v":""},{"$f":"คีย์คะแนน!W48","v":""},{"$f":"คีย์คะแนน!AA48","v":""},{"$f":"คีย์คะแนน!AE48","v":""},{"$f":"คีย์คะแนน!AI48","v":""},{"$f":"คีย์คะแนน!AM48","v":""},{"$f":"คีย์คะแนน!AQ48","v":""},{"$f":"คีย์คะแนน!AU48","v":""},{"$f":"คีย์คะแนน!AY48","v":""},{"$f":"คีย์คะแนน!BC48","v":""},{"$f":"คีย์คะแนน!BG48","v":""},{"$f":"คีย์คะแนน!BK48","v":""},{"$f":"คีย์คะแนน!BO48","v":""},{"$f":"คีย์คะแนน!BS48","v":""},{"$f":"คีย์คะแนน!DJ48","v":""},{"$f":"IF(U46=\"\",\" \",(U46*100)/คีย์คะแนน!$DK$2)","v":" "},{"$f":"คีย์คะแนน!BT48","v":""},{"$f":"คีย์คะแนน!BU48","v":""},{"$f":"คีย์คะแนน!BV48","v":0},{"$f":"คีย์คะแนน!BZ48","v":0}]
[{"$f":"รายชื่อนักเรียน!B47","v":0},{"$f":"คีย์คะแนน!B49","v":0},{"$f":"คีย์คะแนน!C49","v":""},{"$f":"คีย์คะแนน!G49","v":""},{"$f":"คีย์คะแนน!K49","v":""},{"$f":"คีย์คะแนน!O49","v":""},{"$f":"คีย์คะแนน!S49","v":""},{"$f":"คีย์คะแนน!W49","v":""},{"$f":"คีย์คะแนน!AA49","v":""},{"$f":"คีย์คะแนน!AE49","v":""},{"$f":"คีย์คะแนน!AI49","v":""},{"$f":"คีย์คะแนน!AM49","v":""},{"$f":"คีย์คะแนน!AQ49","v":""},{"$f":"คีย์คะแนน!AU49","v":""},{"$f":"คีย์คะแนน!AY49","v":""},{"$f":"คีย์คะแนน!BC49","v":""},{"$f":"คีย์คะแนน!BG49","v":""},{"$f":"คีย์คะแนน!BK49","v":""},{"$f":"คีย์คะแนน!BO49","v":""},{"$f":"คีย์คะแนน!BS49","v":""},{"$f":"คีย์คะแนน!DJ49","v":""},{"$f":"IF(U47=\"\",\" \",(U47*100)/คีย์คะแนน!$DK$2)","v":" "},{"$f":"คีย์คะแนน!BT49","v":""},{"$f":"คีย์คะแนน!BU49","v":""},{"$f":"คีย์คะแนน!BV49","v":0},{"$f":"คีย์คะแนน!BZ49","v":0}]
[{"$f":"รายชื่อนักเรียน!B48","v":0},{"$f":"คีย์คะแนน!B50","v":0},{"$f":"คีย์คะแนน!C50","v":""},{"$f":"คีย์คะแนน!G50","v":""},{"$f":"คีย์คะแนน!K50","v":""},{"$f":"คีย์คะแนน!O50","v":""},{"$f":"คีย์คะแนน!S50","v":""},{"$f":"คีย์คะแนน!W50","v":""},{"$f":"คีย์คะแนน!AA50","v":""},{"$f":"คีย์คะแนน!AE50","v":""},{"$f":"คีย์คะแนน!AI50","v":""},{"$f":"คีย์คะแนน!AM50","v":""},{"$f":"คีย์คะแนน!AQ50","v":""},{"$f":"คีย์คะแนน!AU50","v":""},{"$f":"คีย์คะแนน!AY50","v":""},{"$f":"คีย์คะแนน!BC50","v":""},{"$f":"คีย์คะแนน!BG50","v":""},{"$f":"คีย์คะแนน!BK50","v":""},{"$f":"คีย์คะแนน!BO50","v":""},{"$f":"คีย์คะแนน!BS50","v":""},{"$f":"คีย์คะแนน!DJ50","v":""},{"$f":"IF(U48=\"\",\" \",(U48*100)/คีย์คะแนน!$DK$2)","v":" "},{"$f":"คีย์คะแนน!BT50","v":""},{"$f":"คีย์คะแนน!BU50","v":""},{"$f":"คีย์คะแนน!BV50","v":0},{"$f":"คีย์คะแนน!BZ50","v":0}]
[{"$f":"รายชื่อนักเรียน!B49","v":0},{"$f":"คีย์คะแนน!B51","v":0},{"$f":"คีย์คะแนน!C51","v":""},{"$f":"คีย์คะแนน!G51","v":""},{"$f":"คีย์คะแนน!K51","v":""},{"$f":"คีย์คะแนน!O51","v":""},{"$f":"คีย์คะแนน!S51","v":""},{"$f":"คีย์คะแนน!W51","v":""},{"$f":"คีย์คะแนน!AA51","v":""},{"$f":"คีย์คะแนน!AE51","v":""},{"$f":"คีย์คะแนน!AI51","v":""},{"$f":"คีย์คะแนน!AM51","v":""},{"$f":"คีย์คะแนน!AQ51","v":""},{"$f":"คีย์คะแนน!AU51","v":""},{"$f":"คีย์คะแนน!AY51","v":""},{"$f":"คีย์คะแนน!BC51","v":""},{"$f":"คีย์คะแนน!BG51","v":""},{"$f":"คีย์คะแนน!BK51","v":""},{"$f":"คีย์คะแนน!BO51","v":""},{"$f":"คีย์คะแนน!BS51","v":""},{"$f":"คีย์คะแนน!DJ51","v":""},{"$f":"IF(U49=\"\",\" \",(U49*100)/คีย์คะแนน!$DK$2)","v":" "},{"$f":"คีย์คะแนน!BT51","v":""},{"$f":"คีย์คะแนน!BU51","v":""},{"$f":"คีย์คะแนน!BV51","v":0},{"$f":"คีย์คะแนน!BZ51","v":0}]
[{"$f":"รายชื่อนักเรียน!B50","v":0},{"$f":"คีย์คะแนน!B52","v":0},{"$f":"คีย์คะแนน!C52","v":""},{"$f":"คีย์คะแนน!G52","v":""},{"$f":"คีย์คะแนน!K52","v":""},{"$f":"คีย์คะแนน!O52","v":""},{"$f":"คีย์คะแนน!S52","v":""},{"$f":"คีย์คะแนน!W52","v":""},{"$f":"คีย์คะแนน!AA52","v":""},{"$f":"คีย์คะแนน!AE52","v":""},{"$f":"คีย์คะแนน!AI52","v":""},{"$f":"คีย์คะแนน!AM52","v":""},{"$f":"คีย์คะแนน!AQ52","v":""},{"$f":"คีย์คะแนน!AU52","v":""},{"$f":"คีย์คะแนน!AY52","v":""},{"$f":"คีย์คะแนน!BC52","v":""},{"$f":"คีย์คะแนน!BG52","v":""},{"$f":"คีย์คะแนน!BK52","v":""},{"$f":"คีย์คะแนน!BO52","v":""},{"$f":"คีย์คะแนน!BS52","v":""},{"$f":"คีย์คะแนน!DJ52","v":""},{"$f":"IF(U50=\"\",\" \",(U50*100)/คีย์คะแนน!$DK$2)","v":" "},{"$f":"คีย์คะแนน!BT52","v":""},{"$f":"คีย์คะแนน!BU52","v":""},{"$f":"คีย์คะแนน!BV52","v":0},{"$f":"คีย์คะแนน!BZ52","v":0}]
["รวมคะแนนนักเรียนทั้งหมด",null,null,{"$f":"คีย์คะแนน!F53","v":0},{"$f":"คีย์คะแนน!J53","v":0},{"$f":"คีย์คะแนน!N53","v":0},{"$f":"คีย์คะแนน!R53","v":0},{"$f":"คีย์คะแนน!V53","v":0},{"$f":"คีย์คะแนน!Z53","v":0},{"$f":"คีย์คะแนน!AD53","v":0},{"$f":"คีย์คะแนน!AH53","v":0},{"$f":"คีย์คะแนน!AL53","v":0},{"$f":"คีย์คะแนน!AP53","v":0},{"$f":"คีย์คะแนน!AT53","v":0},{"$f":"คีย์คะแนน!AX53","v":0},{"$f":"คีย์คะแนน!BB53","v":0},{"$f":"คีย์คะแนน!BF53","v":0},{"$f":"คีย์คะแนน!BJ53","v":0},{"$f":"คีย์คะแนน!BN53","v":0},{"$f":"คีย์คะแนน!BR53","v":0},{"$f":"SUM(D51:T51)","v":0}]
["เฉลี่ยร้อยละ",null,null,{"$f":"IF(D51=0,\" \",(D51*100)/คีย์คะแนน!$E53)","v":" "},{"$f":"IF(E51=0,\" \",(E51*100)/คีย์คะแนน!$E53)","v":" "},{"$f":"IF(F51=0,\" \",(F51*100)/คีย์คะแนน!$E53)","v":" "},{"$f":"IF(G51=0,\" \",(G51*100)/คีย์คะแนน!$E53)","v":" "},{"$f":"IF(H51=0,\" \",(H51*100)/คีย์คะแนน!$E53)","v":" "},{"$f":"IF(I51=0,\" \",(I51*100)/คีย์คะแนน!$E53)","v":" "},{"$f":"IF(J51=0,\" \",(J51*100)/คีย์คะแนน!$E53)","v":" "},{"$f":"IF(K51=0,\" \",(K51*100)/คีย์คะแนน!$E53)","v":" "},{"$f":"IF(L51=0,\" \",(L51*100)/คีย์คะแนน!$E53)","v":" "},{"$f":"IF(M51=0,\" \",(M51*100)/คีย์คะแนน!$E53)","v":" "},{"$f":"IF(N51=0,\" \",(N51*100)/คีย์คะแนน!$E53)","v":" "},{"$f":"IF(O51=0,\" \",(O51*100)/คีย์คะแนน!$E53)","v":" "},{"$f":"IF(P51=0,\" \",(P51*100)/คีย์คะแนน!$E53)","v":" "},{"$f":"IF(Q51=0,\" \",(Q51*100)/คีย์คะแนน!$E53)","v":" "},{"$f":"IF(R51=0,\" \",(R51*100)/คีย์คะแนน!$E53)","v":" "},{"$f":"IF(S51=0,\" \",(S51*100)/คีย์คะแนน!$E53)","v":" "},{"$f":"IF(T51=0,\" \",(T51*100)/คีย์คะแนน!$E53)","v":" "},{"$f":"(U51*100)/คีย์คะแนน!DK1","v":{"$error":"#DIV/0!"}}]

{"sheet":"แบบรายงาน SAR","index":12,"n_rows":30,"n_cols":16,"rows_kept":30,"cut":false,"hidden":false,"merged":[[27,3,28,6],[27,7,28,10],[29,3,29,6],[29,7,29,10],[24,1,24,12],[25,1,25,12],[26,1,28,1],[26,2,28,2],[26,3,26,10],[26,11,28,11],[26,12,28,12],[22,3,22,4],[22,5,22,6],[22,7,22,8],[22,9,22,10],[16,1,16,12],[19,9,19,10],[21,3,21,4],[21,5,21,6],[21,7,21,8],[21,9,21,10],[17,1,17,12],[18,1,20,1],[18,11,20,11],[18,12,20,12],[18,2,20,2],[20,3,20,4],[20,5,20,6],[20,7,20,8],[20,9,20,10],[18,3,18,10],[19,3,19,4],[19,5,19,6],[19,7,19,8],[3,15,4,17],[0,1,0,12],[1,1,1,12],[3,11,5,11],[3,12,5,12],[3,2,3,10],[4,2,5,2],[4,3,4,10],[3,1,5,1]]}
[null,{"$f":"CONCATENATE(\"แบบรายงาน SAR  ปีการศึกษา \",ตั้งค่า!D7)","v":"แบบรายงาน SAR  ปีการศึกษา "}]
[null,{"$f":"CONCATENATE(\"โรงเรียน\",ตั้งค่า!D9)&\"   \"&CONCATENATE(\"ชั้น\",ตั้งค่า!D10)","v":"โรงเรียนบ้านหัวคลอง   ชั้น"}]
[]
[null,"กลุ่มสาระการเรียนรู้","สรุปผลสัมฤทธิ์ทางการเรียน",null,null,null,null,null,null,null,null,"จำนวนนักเรียนที่ได้ระดับ 3 ขึ้นไป","ร้อยละนักเรียนที่ได้ระดับ 3 ขึ้นไป",null,null,"ห้ามคียข้อมูลหน้านี้เด็ดขาด"]
[null,null,"จำนวนที่เข้าสอบ","จำนวนนักเรียนที่มีผลการเรียนรู้"]
[null,null,null,0,1,1.5,2,2.5,3,3.5,4]
[null," 1.  ภาษาไทย",{"$f":"รายชื่อนักเรียน!$L$1","v":0},{"$f":"COUNTIF(แบบสรุปผลการเรียน!D$6:D$50,0)","v":0},{"$f":"COUNTIF(แบบสรุปผลการเรียน!D$6:D$50,1)","v":0},{"$f":"COUNTIF(แบบสรุปผลการเรียน!D$6:D$50,1.5)","v":0},{"$f":"COUNTIF(แบบสรุปผลการเรียน!D$6:D$50,2)","v":0},{"$f":"COUNTIF(แบบสรุปผลการเรียน!D$6:D$50,2.5)","v":0},{"$f":"COUNTIF(แบบสรุปผลการเรียน!D$6:D$50,3)","v":0},{"$f":"COUNTIF(แบบสรุปผลการเรียน!D$6:D$50,3.5)","v":0},{"$f":"COUNTIF(แบบสรุปผลการเรียน!D$6:D$50,4)","v":0},{"$f":"SUM(I7:K7)","v":0},{"$f":"IF(ISERROR(L7*100/C7),0,(L7*100/C7))","v":0}]
[null," 2.  คณิตศาสตร์",{"$f":"รายชื่อนักเรียน!$L$1","v":0},{"$f":"COUNTIF(แบบสรุปผลการเรียน!E$6:E$50,0)","v":0},{"$f":"COUNTIF(แบบสรุปผลการเรียน!E$6:E$50,1)","v":0},{"$f":"COUNTIF(แบบสรุปผลการเรียน!E$6:E$50,1.5)","v":0},{"$f":"COUNTIF(แบบสรุปผลการเรียน!E$6:E$50,2)","v":0},{"$f":"COUNTIF(แบบสรุปผลการเรียน!E$6:E$50,2.5)","v":0},{"$f":"COUNTIF(แบบสรุปผลการเรียน!E$6:E$50,3)","v":0},{"$f":"COUNTIF(แบบสรุปผลการเรียน!E$6:E$50,3.5)","v":0},{"$f":"COUNTIF(แบบสรุปผลการเรียน!E$6:E$50,4)","v":0},{"$f":"SUM(I8:K8)","v":0},{"$f":"IF(ISERROR(L8*100/C8),0,(L8*100/C8))","v":0}]
[null," 3. วิทยาศาสตร์และเทคโนโลยี",{"$f":"รายชื่อนักเรียน!$L$1","v":0},{"$f":"COUNTIF(แบบสรุปผลการเรียน!F$6:F$50,0)","v":0},{"$f":"COUNTIF(แบบสรุปผลการเรียน!F$6:F$50,1)","v":0},{"$f":"COUNTIF(แบบสรุปผลการเรียน!F$6:F$50,1.5)","v":0},{"$f":"COUNTIF(แบบสรุปผลการเรียน!F$6:F$50,2)","v":0},{"$f":"COUNTIF(แบบสรุปผลการเรียน!F$6:F$50,2.5)","v":0},{"$f":"COUNTIF(แบบสรุปผลการเรียน!F$6:F$50,3)","v":0},{"$f":"COUNTIF(แบบสรุปผลการเรียน!F$6:F$50,3.5)","v":0},{"$f":"COUNTIF(แบบสรุปผลการเรียน!F$6:F$50,4)","v":0},0,0]
[null,"  4.1 สังคมศึกษา ศาสนาและวัฒนธรรม",{"$f":"รายชื่อนักเรียน!$L$1","v":0},{"$f":"COUNTIF(แบบสรุปผลการเรียน!G$6:G$50,0)","v":0},{"$f":"COUNTIF(แบบสรุปผลการเรียน!G$6:G$50,1)","v":0},{"$f":"COUNTIF(แบบสรุปผลการเรียน!G$6:G$50,1.5)","v":0},{"$f":"COUNTIF(แบบสรุปผลการเรียน!G$6:G$50,2)","v":0},{"$f":"COUNTIF(แบบสรุปผลการเรียน!G$6:G$50,2.5)","v":0},{"$f":"COUNTIF(แบบสรุปผลการเรียน!G$6:G$50,3)","v":0},{"$f":"COUNTIF(แบบสรุปผลการเรียน!G$6:G$50,3.5)","v":0},{"$f":"COUNTIF(แบบสรุปผลการเรียน!G$6:G$50,4)","v":0},0,0]
[null," 4.2 ประวัติศาสตร์",{"$f":"รายชื่อนักเรียน!$L$1","v":0},{"$f":"COUNTIF(แบบสรุปผลการเรียน!H$6:H$50,0)","v":0},{"$f":"COUNTIF(แบบสรุปผลการเรียน!H$6:H$50,1)","v":0},{"$f":"COUNTIF(แบบสรุปผลการเรียน!H$6:H$50,1.5)","v":0},{"$f":"COUNTIF(แบบสรุปผลการเรียน!H$6:H$50,2)","v":0},{"$f":"COUNTIF(แบบสรุปผลการเรียน!H$6:H$50,2.5)","v":0},{"$f":"COUNTIF(แบบสรุปผลการเรียน!H$6:H$50,3)","v":0},{"$f":"COUNTIF(แบบสรุปผลการเรียน!H$6:H$50,3.5)","v":0},{"$f":"COUNTIF(แบบสรุปผลการเรียน!H$6:H$50,4)","v":0},0,0]
[null,"  5. สุขศึกษาและพลศึกษา",{"$f":"รายชื่อนักเรียน!$L$1","v":0},{"$f":"COUNTIF(แบบสรุปผลการเรียน!I$6:I$50,0)","v":0},{"$f":"COUNTIF(แบบสรุปผลการเรียน!I$6:I$50,1)","v":0},{"$f":"COUNTIF(แบบสรุปผลการเรียน!I$6:I$50,1.5)","v":0},{"$f":"COUNTIF(แบบสรุปผลการเรียน!I$6:I$50,2)","v":0},{"$f":"COUNTIF(แบบสรุปผลการเรียน!I$6:I$50,2.5)","v":0},{"$f":"COUNTIF(แบบสรุปผลการเรียน!I$6:I$50,3)","v":0},{"$f":"COUNTIF(แบบสรุปผลการเรียน!I$6:I$50,3.5)","v":0},{"$f":"COUNTIF(แบบสรุปผลการเรียน!I$6:I$50,4)","v":0},0,0]
[null,"  6. ศิลปะ",{"$f":"รายชื่อนักเรียน!$L$1","v":0},{"$f":"COUNTIF(แบบสรุปผลการเรียน!J$6:J$50,0)","v":0},{"$f":"COUNTIF(แบบสรุปผลการเรียน!J$6:J$50,1)","v":0},{"$f":"COUNTIF(แบบสรุปผลการเรียน!J$6:J$50,1.5)","v":0},{"$f":"COUNTIF(แบบสรุปผลการเรียน!J$6:J$50,2)","v":0},{"$f":"COUNTIF(แบบสรุปผลการเรียน!J$6:J$50,2.5)","v":0},{"$f":"COUNTIF(แบบสรุปผลการเรียน!J$6:J$50,3)","v":0},{"$f":"COUNTIF(แบบสรุปผลการเรียน!J$6:J$50,3.5)","v":0},{"$f":"COUNTIF(แบบสรุปผลการเรียน!J$6:J$50,4)","v":0},0,0]
[null,"  7. การงานอาชีพ",{"$f":"รายชื่อนักเรียน!$L$1","v":0},{"$f":"COUNTIF(แบบสรุปผลการเรียน!K$6:K$50,0)","v":0},{"$f":"COUNTIF(แบบสรุปผลการเรียน!K$6:K$50,1)","v":0},{"$f":"COUNTIF(แบบสรุปผลการเรียน!K$6:K$50,1.5)","v":0},{"$f":"COUNTIF(แบบสรุปผลการเรียน!K$6:K$50,2)","v":0},{"$f":"COUNTIF(แบบสรุปผลการเรียน!K$6:K$50,2.5)","v":0},{"$f":"COUNTIF(แบบสรุปผลการเรียน!K$6:K$50,3)","v":0},{"$f":"COUNTIF(แบบสรุปผลการเรียน!K$6:K$50,3.5)","v":0},{"$f":"COUNTIF(แบบสรุปผลการเรียน!K$6:K$50,4)","v":0},0,0]
[null,"  8. ภาษาอังกฤษ",{"$f":"รายชื่อนักเรียน!$L$1","v":0},{"$f":"COUNTIF(แบบสรุปผลการเรียน!L$6:L$50,0)","v":0},{"$f":"COUNTIF(แบบสรุปผลการเรียน!L$6:L$50,1)","v":0},{"$f":"COUNTIF(แบบสรุปผลการเรียน!L$6:L$50,1.5)","v":0},{"$f":"COUNTIF(แบบสรุปผลการเรียน!L$6:L$50,2)","v":0},{"$f":"COUNTIF(แบบสรุปผลการเรียน!L$6:L$50,2.5)","v":0},{"$f":"COUNTIF(แบบสรุปผลการเรียน!L$6:L$50,3)","v":0},{"$f":"COUNTIF(แบบสรุปผลการเรียน!L$6:L$50,3.5)","v":0},{"$f":"COUNTIF(แบบสรุปผลการเรียน!L$6:L$50,4)","v":0},0,0]
[]
[null,{"$f":"CONCATENATE(\"รายงานสรุปผลการประเมินคุณลักษณะอันพึงประสงค์และการอ่าน คิดวิเคราะห์ และเขียน\")","v":"รายงานสรุปผลการประเมินคุณลักษณะอันพึงประสงค์และการอ่าน คิดวิเคราะห์ และเขียน"}]
[null,{"$f":"CONCATENATE(\"ชั้น\",ตั้งค่า!D10)&\"   \"&CONCATENATE(\"ปีการศึกษา\",ตั้งค่า!D7)","v":"ชั้น   ปีการศึกษา"}]
[null,"ผลการประเมิน","จำนวนนักเรียนทั้งหมด","จำนวนนักเรียนตามระดับคุณภาพ",null,null,null,null,null,null,null,"จำนวนนักเรียนที่ได้ระดับดีขึ้นไป","ร้อยละนักเรียนที่ได้ระดับดีขึ้นไป"]
[null,null,null,"ไม่ผ่าน",null,"ผ่าน",null,"ดี",null,"ดีเยี่ยม"]
[null,null,null,"(0)",null,"(1)",null,"(2)",null,"(3)"]
[null," 1. คุณลักษณะอันพึงประสงค์",{"$f":"รายชื่อนักเรียน!$L$1","v":0},{"$f":"COUNTIF(แบบสรุปผลการเรียน!W$6:W$50,\"ไม่ผ่าน\")","v":0},null,{"$f":"COUNTIF(แบบสรุปผลการเรียน!W$6:W$50,\"ผ่าน\")","v":0},null,{"$f":"COUNTIF(แบบสรุปผลการเรียน!W$6:W$50,\"ดี\")","v":0},null,{"$f":"COUNTIF(แบบสรุปผลการเรียน!W$6:W$50,\"ดีเยี่ยม\")","v":0},null,{"$f":"SUM(H22:K22)","v":0},{"$f":"IF(ISERROR(L22*100/C22),0,(L22*100/C22))","v":0}]
[null," 2. การอ่าน คิดวิเคราะห์ และเขียน",{"$f":"รายชื่อนักเรียน!$L$1","v":0},{"$f":"COUNTIF(แบบสรุปผลการเรียน!X$6:X$50,\"ไม่ผ่าน\")","v":0},null,{"$f":"COUNTIF(แบบสรุปผลการเรียน!X$6:X$50,\"ผ่าน\")","v":0},null,{"$f":"COUNTIF(แบบสรุปผลการเรียน!X$6:X$50,\"ดี\")","v":0},null,{"$f":"COUNTIF(แบบสรุปผลการเรียน!X$6:X$50,\"ดีเยี่ยม\")","v":0},null,{"$f":"SUM(H23:K23)","v":0},{"$f":"IF(ISERROR(L23*100/C23),0,(L23*100/C23))","v":0}]
[]
[null,{"$f":"CONCATENATE(\"รายงานสรุปผลการประเมินกิจกรรมพัฒนาผู้เรียน\")","v":"รายงานสรุปผลการประเมินกิจกรรมพัฒนาผู้เรียน"}]
[null,{"$f":"CONCATENATE(\"ชั้น\",ตั้งค่า!D10)&\"   \"&CONCATENATE(\"ปีการศึกษา\",ตั้งค่า!D7)","v":"ชั้น   ปีการศึกษา"}]
[null,"ผลการประเมิน","จำนวนนักเรียนทั้งหมด","จำนวนนักเรียนตามระดับคุณภาพ",null,null,null,null,null,null,null,"จำนวนนักเรียนที่ได้ระดับผ่าน","ร้อยละนักเรียนที่ได้ระดับผ่าน"]
[null,null,null,"ไม่ผ่าน",null,null,null,"ผ่าน"]
[]
[null," กิจกรรมพัฒนาผู้เรียน",{"$f":"รายชื่อนักเรียน!$L$1","v":0},{"$f":"COUNTIF(แบบสรุปผลการเรียน!Y$6:Y$50,\"ไม่ผ่าน\")","v":0},null,null,null,{"$f":"COUNTIF(แบบสรุปผลการเรียน!Y$6:Y$50,\"ผ่าน\")","v":0},null,null,null,{"$f":"SUM(H30:K30)","v":0},{"$f":"IF(ISERROR(L30*100/C30),0,(L30*100/C30))","v":0}]