{"text_format":"1","workbook":"xlsx","n_sheets":32,"sheets":["ตั้งค่า","กรอกตัวชี้วัด","ตัวชี้วัดระหว่างทาง","ปกหน้า","รายชื่อนักเรียน","บันทึกเวลาเรียนT1","บันทึกเวลาเรียนT2","สรุปเวลาเรียน","ประเมิน ตชว.ระหว่างทาง","ประเมิน ตชว.ปลายทางT1","ประเมิน ตชว.ปลายทางT2","คุณลักษณะ","อ่านคิดวิเคราะห์","ประเมินสมรรถนะ","ปกหลัง","บันทึกข้อความ","รายงานคะแนนระหว่างปี","รายงานคะแนนปลายปี","แผนภูมิ","ตชว.ไทย","ตชว.คณิต","ตชว.วิทย์","ตชว.สังคม","ตชว.ประวัติ","ตชว.สุขศึกษา","ตชว.ศิลปะ","ตชว.การงาน","ตชว.อังกฤษ","ตชว.อัล-กุรอาน","ตชว.หน้าที่พลเมือง","ตชว.ต้านทุจริต","ตชว.อิสลามศึกษา"],"not_rendered":{"charts":3,"images":32,"macros":1,"external_links":0,"defined_names":38,"comments":0,"pivot_tables":0},"unopened":[],"bounds":{"document_bytes":16777216,"sheet_cells":100000,"rows_first":2000,"rows_last":500,"rows_between":2000,"halvings":0,"cell_chars":16384,"cell_head_chars":4096},"cells_cut":0,"cells_raw":0,"read":"whole","date_system":"1900"}

{"sheet":"ตั้งค่า","index":0,"n_rows":40,"n_cols":34,"rows_kept":40,"cut":false,"hidden":false,"merged":[[1,19,11,19],[7,1,7,7],[14,2,14,5],[7,8,7,15],[1,20,14,20],[16,2,16,5],[14,9,14,14],[17,9,17,14],[1,18,9,18],[0,0,6,8],[35,10,35,13],[27,10,27,13],[28,10,28,13],[29,10,29,13],[30,10,30,13],[30,2,30,5],[31,2,31,5],[32,2,32,5],[29,2,29,5],[34,10,34,13],[33,2,33,3],[28,2,28,5],[27,2,27,5],[17,2,17,5],[18,2,18,5],[24,2,24,5],[20,3,20,4],[19,2,19,5],[21,3,21,4],[22,2,22,3],[22,4,22,5],[25,2,25,5],[26,2,26,5],[26,10,26,13],[23,1,23,2],[13,9,13,14],[12,9,12,14],[0,15,6,15],[18,9,18,14],[15,9,15,14],[19,9,19,14],[20,9,20,14],[8,1,8,14],[10,2,10,3],[15,2,15,5],[16,9,16,14],[11,2,11,5],[12,2,12,5],[13,2,13,5]]}
[]
[null,null,null,null,null,null,null,null,null,null,null,null,null,null,null,null,null,null,"อัพเดทล่าสุด - พฤษภาคม 2567","ออกแบบและพัฒนาโดย KRU WANG","โปรแกรม ปพ.5 ประถม - เวอร์ชั่น 10 NEW"]
[]
[]
[]
[]
[]
[null,"ตั้งค่าโปรแกรม",null,null,null,null,null,null,"NEW สามารถเชื่อมโยงกับโปรแกรม ปพ.6 เวอร์ชั่น 7"]
[null,"คำเตือน ! >> อย่าลืมเปิดใช้งานแมโคร ก่อนคีย์ข้อมูลทุกครั้ง <<"]
[]
[null,"ปีการศึกษา ",null,null,null,null,null,null,null,null,null,null,null,null,null,null,null,null,null,null,null,null,null,null,null,null,null,null,0,0,"-",49,"ต่ำกว่าเกณฑ์","0"]
[null,"โรงเรียน ","บ้านหัวคลอง",null,null,null,null,null,null,null,null,null,null,null,null,null,null,null,null,null,null,null,null,null,null,null,null,null,50,50,"-",54,"ผ่านเกณฑ์ขั้นต่ำ","1"]
[null,"ตำบล ","เจ๊ะเห",null,null,null,null,null,null,null,null,null,null,null,null,null,null,null,null,null,null,null,null,null,null,null,null,null,55,55,"-",59,"พอใช้","1.5"]
[null,"อำเภอ ","ตากใบ",null,null,null,null,null,null,"โปรแกรมนี้รองรับ MS Excel เวอร์ชั่น 2021 ขึ้นไป",null,null,null,null,null,null,0,100,null,null,null,null,null,null,null,null,null,null,60,60,"-",64,"ปานกลาง","2"]
[null,"จังหวัด ","นราธิวาส",null,null,null,null,null,null,"รองรับคอมพิวเตอร์ตั้งค่าเป็น Thailand เท่านั้น",null,null,null,null,null,null,10,90,null,null,null,null,null,null,null,null,null,null,65,65,"-",69,"ค่อนข้างดี","2.5"]
[null,"สังกัด ","สำนักงานเขตพื้นที่การศึกษาประถมศึกษานราธิวาส เขต 2",null,null,null,null,null,null,"ไม่แนะนำใช้โปรแกรมนี้กับ Macbook หรือ Ipad",null,null,null,null,null,null,20,80,null,null,null,null,null,null,null,null,null,null,70,70,"-",74,"ดี","3"]
[null,"ระดับชั้น ",null,null,null,null,null,null,null,null,null,null,null,null,null,null,30,70,null,null,null,null,null,null,null,null,null,null,75,75,"-",79,"ดีมาก","3.5"]
[null,"ชื่อรายวิชา",null,null,null,null,null,null,null,"คำแนะนำ",null,null,null,null,null,null,40,60,null,null,null,null,null,null,null,null,null,null,80,80,"-",100,"ดีเยี่ยม","4"]
[null,"รหัสวิชา ",null,null,null,null,null,null,null,"ควรทำสำเนาจากไฟล์ต้นฉบับ (ห้ามคีย์ในโปรแกรมต้นฉบับ)",null,null,null,null,null,null,50,50]
[null,"กลุ่มสาระการเรียนรู้ ",null,null,null,null,null,null,null,"แล้วตั้งชื่อไฟล์ใหม่ เพื่อใช้บันทึกข้อมูลเป็นรายวิชา",null,null,null,null,null,null,60,40,null,null,null,null,null,null,null,null,null,null,null,0,"-",49,"ไม่ผ่าน",0]
[null,"เวลาเรียนตลอดปี ",null,"ชั่วโมง",null,"1 ชั่วโมง",null,null,null,"  ให้สอดคล้องกับวิชา ปีและระดับชั้นที่สอน ",null,null,null,null,null,null,70,30,null,null,null,null,null,null,null,null,null,null,null,50,"-",64,"ผ่าน","1"]
[null,"น้ำหนักวิชา ",{"$f":"C21/40","v":0},"หน่วยกิต",null,{"$f":"IF(F21=\"1 ชั่วโมง\",(C21),((C21*60/50)))","v":0},null,null,null,null,"เช่น ","*** ปพ.5 ไทย ป.1-67",null,null,null,null,80,20,null,null,null,null,null,null,null,null,null,null,null,65,"-",79,"ดี",2]
[null,"ประเภท ","รายวิชาพื้นฐาน",null,{"$f":"\"จำนวน \" & ROUNDDOWN((F22/2)/20,0) & \" คาบ/สัปดาห์\"","v":"จำนวน 0 คาบ/สัปดาห์"},null,null,null,null,null,null,"*** ปพ.5 คณิต ป.4-68",null,null,null,null,90,10,null,null,null,null,null,null,null,null,null,null,null,80,"-",100,"ดีเยี่ยม",3]
[null,"สัดส่วนคะแนนระหว่างเรียน ",null,null,": คะแนนปลายภาค ",{"$f":"VLOOKUP(D24,Q14:R24,2,TRUE)","v":100},null,null,null,null,null,null,null,null,null,null,100,0]
[null,"ครูผู้สอน ",null,null,null,null,null,null,null,null,null,null,null,null,null,null,null,null,null,null,null,null,null,null,null,null,null,null,null,0,"-",49,"ปรับปรุง",0]
[null,"ตำแหน่ง ",null,null,null,null,null,null,null,null,null,null,null,null,null,null,null,null,null,null,null,null,null,null,null,null,null,null,null,50,"-",64,"พอใช้","1"]
[null,"ครูประจำชั้นคนที่ 1 ",null,null,null,null,null,null,null,null,null,null,null,null,null,null,null,null,null,null,null,null,null,null,null,null,null,null,null,65,"-",79,"ดี",2]
[null,"ครูประจำชั้นคนที่ 2 ",null,null,null,null,null,null,null,null,null,null,null,null,null,null,null,null,null,null,null,null,null,null,null,null,null,null,null,80,"-",100,"ดีเยี่ยม",3]
[null,"หัวหน้ากลุ่มสาระ "]
[null,"หัวหน้างานวัดและประเมินผล "]
[null,"หัวหน้าฝ่ายบริหารงานวิชาการ "]
[null,"ผู้อำนวยการโรงเรียน"]
[null,"รองผู้อำนวยการโรงเรียน "]
[null,"วันที่ (อนุมัติผล) ",null,null,"วันอนุมัติตรงกับวัน",{"$f":"TEXT(C34,\"dddd\")","v":"เสาร์"}]
[]
[]
[null,null,null,null,null,null,null,null,null,null,null,null,null,null,null,null,null,null,null,null,null,null,null,null,null,null,null,null,60]
[null,null,null,null,null,null,null,null,null,null,null,null,null,null,null,null,null,null,null,null,null,null,null,null,null,null,null,null,65]
[null,null,null,null,null,null,null,null,null,null,null,null,null,null,null,null,null,null,null,null,null,null,null,null,null,null,null,null,70]
[null,null,null,null,null,null,null,null,null,null,null,null,null,null,null,null,null,null,null,null,null,null,null,null,null,null,null,null,75]

{"sheet":"กรอกตัวชี้วัด","index":1,"n_rows":4,"n_cols":10,"rows_kept":4,"cut":false,"hidden":false,"merged":[[42,4,42,8],[15,4,15,8],[25,4,25,8],[26,4,26,8],[27,4,27,8],[29,4,29,8],[30,4,30,8],[33,4,33,8],[34,4,34,8],[39,4,39,8],[37,4,37,8],[38,4,38,8],[20,4,20,8],[22,4,22,8],[23,4,23,8],[17,4,17,8],[41,4,41,8],[2,4,2,8],[9,4,9,8],[10,4,10,8],[3,1,3,8],[40,4,40,8],[31,4,31,8],[32,4,32,8],[18,4,18,8],[35,4,35,8],[21,4,21,8],[36,4,36,8],[28,4,28,8],[14,4,14,8],[19,4,19,8],[8,4,8,8],[24,1,24,8],[4,4,4,8],[5,4,5,8],[6,4,6,8],[1,9,2,9],[1,1,1,8],[7,4,7,8],[13,4,13,8],[11,4,11,8],[12,4,12,8],[16,4,16,8]]}
[]
[null,{"$f":"\"ตัวชี้วัดรายวิชา\"&ตั้งค่า!C18&\"  ชั้น\"&ตั้งค่า!C17","v":"ตัวชี้วัดรายวิชา  ชั้น"},null,null,null,null,null,null,null,"ภาคเรียนที่"]
[null,"ข้อที่","มาตรฐาน","ชั้น/ข้อที่","เรื่อง"]
[null,"ตัวชี้วัดระหว่างทาง"]

{"sheet":"ตัวชี้วัดระหว่างทาง","index":2,"n_rows":4,"n_cols":10,"rows_kept":4,"cut":false,"hidden":false,"merged":[[1,1,1,8],[1,9,2,9],[2,4,2,8],[17,4,17,8],[7,4,7,8],[8,4,8,8],[9,4,9,8],[10,4,10,8],[11,4,11,8],[12,4,12,8],[13,4,13,8],[14,4,14,8],[15,4,15,8],[16,4,16,8],[3,1,3,8],[4,4,4,8],[21,4,21,8],[22,4,22,8],[25,4,25,8],[18,4,18,8],[19,4,19,8],[20,4,20,8],[35,4,35,8],[26,4,26,8],[27,4,27,8],[23,4,23,8],[24,4,24,8],[28,4,28,8],[5,4,5,8],[6,4,6,8],[29,4,29,8],[43,4,43,8],[42,4,42,8],[40,4,40,8],[41,4,41,8],[36,4,36,8],[37,4,37,8],[38,4,38,8],[39,4,39,8],[30,4,30,8],[31,4,31,8],[32,4,32,8],[33,4,33,8],[34,4,34,8]]}
[]
[null,{"$f":"\"ตัวชี้วัดระหว่างทาง วิชา\"&ตั้งค่า!C18&\"  ชั้น\"&ตั้งค่า!C17","v":"ตัวชี้วัดระหว่างทาง วิชา  ชั้น"},null,null,null,null,null,null,null,"ภาคเรียนที่"]
[null,"ข้อที่","มาตรฐาน","ชั้น/ข้อที่","เรื่อง"]
[null,"ตัวชี้วัดระหว่างทาง"]

{"sheet":"ปกหน้า","index":3,"n_rows":43,"n_cols":16,"rows_kept":43,"cut":false,"hidden":false,"merged":[[3,15,3,23],[0,12,0,13],[2,15,2,23],[12,7,12,8],[1,12,1,13],[4,1,4,12],[6,3,6,6],[6,8,6,11],[7,3,7,5],[7,8,7,11],[8,1,8,12],[9,4,9,5],[9,7,9,9],[11,3,11,4],[11,6,11,9],[10,6,10,9],[16,7,16,9],[13,2,13,3],[13,4,13,5],[15,3,15,4],[15,5,15,10],[16,3,16,6],[16,10,16,13],[24,3,24,6],[24,7,24,11],[25,10,25,11],[26,10,26,11],[27,10,27,11],[17,1,17,12],[18,2,20,2],[18,3,18,10],[18,11,20,11],[19,3,19,10],[32,1,32,3],[36,8,36,13],[31,1,31,3],[35,8,35,13],[31,8,31,13],[32,8,32,13],[31,4,31,7],[32,4,32,7],[42,5,42,8],[38,4,38,5],[35,1,35,3],[36,1,36,3],[35,4,35,7],[36,4,36,7],[39,5,39,8],[40,5,40,8],[41,1,41,12]]}
[null,null,null,null,null,null,null,null,null,null,null,null,"ปพ.5"]
[]
[null,null,null,null,null,null,null,null,null,null,null,null,null,null,null,"ห้ามแก้ไขข้อมูลในหน้านี้เด็ดขาด"]
[null,null,null,null,null,null,null,null,null,null,null,null,null,null,null,"หากต้องการแก้ไขข้อมูล ให้ไปที่ชีทตั้งค่า"]
[null,"แบบบันทึกผลการพัฒนาคุณภาพผู้เรียน"]
[]
[null,null,"โรงเรียน",{"$f":"ตั้งค่า!C12","v":"บ้านหัวคลอง"},null,null,null,"ตำบล",{"$f":"ตั้งค่า!C13","v":"เจ๊ะเห"}]
[null,null,"อำเภอ",{"$f":"ตั้งค่า!C14","v":"ตากใบ"},null,null,null,"จังหวัด",{"$f":"ตั้งค่า!C15","v":"นราธิวาส"}]
[null,{"$f":"\"สังกัด\"&ตั้งค่า!C16","v":"สังกัดสำนักงานเขตพื้นที่การศึกษาประถมศึกษานราธิวาส เขต 2"}]
[null,null,null,"ปีการศึกษา",{"$f":"\" \" & ตั้งค่า!C11 & \" \"","v":"  "},null,"ชั้น",{"$f":"\" \" & ตั้งค่า!C17 & \" \"","v":"  "}]
[null,null,null,null,null,"กลุ่มสาระการเรียนรู้",{"$f":"\" \" & ตั้งค่า!C20 & \" \"","v":"  "}]
[null,null,"รหัสวิชา",{"$f":"\" \" & ตั้งค่า!C19 & \" \"","v":"  "},null,"รายวิชา",{"$f":"\" \" & ตั้งค่า!C18 & \" \"","v":"  "},null,null,null,"ประเภท",{"$f":"ตั้งค่า!C23","v":"รายวิชาพื้นฐาน"}]
[null,null,null,null,"เวลาเรียนทั้งหมด",{"$f":"\" \" & ตั้งค่า!C21 & \" \"","v":"  "},"ชั่วโมง","น้ำหนักวิชา",null,{"$f":"ตั้งค่า!C22","v":0},"หน่วยกิต"]
[]
[]
[null,null,null,"ครูผู้สอน ",null,{"$f":"\" \" & ตั้งค่า!C25 & \" \"","v":"  "}]
[null,null,"ครูประจำชั้นคนที่ 1",{"$f":"\" \" & ตั้งค่า!C27 & \" \"","v":"  "},null,null,null,"ครูประจำชั้นคนที่ 2",null,null,{"$f":"\" \" & ตั้งค่า!C28 & \" \"","v":"  "}]
[]
[null,null,"จำนวนนักเรียนทั้งหมด","สรุปผลการเรียน",null,null,null,null,null,null,null,"คะแนนเฉลี่ยรายวิชา"]
[null,null,null,"จำนวนนักเรียนที่ได้ระดับผลการเรียน"]
[null,null,null,4,3.5,3,2.5,2,1.5,1,0]
[null,null,{"$f":"รายชื่อนักเรียน!L4","v":0},{"$f":"รายงานคะแนนปลายปี!F59","v":0},{"$f":"รายงานคะแนนปลายปี!G59","v":0},{"$f":"รายงานคะแนนปลายปี!I59","v":0},{"$f":"รายงานคะแนนปลายปี!J59","v":0},{"$f":"รายงานคะแนนปลายปี!K59","v":0},{"$f":"รายงานคะแนนปลายปี!L59","v":0},{"$f":"รายงานคะแนนปลายปี!M59","v":0},{"$f":"รายงานคะแนนปลายปี!N59","v":0},{"$f":"รายงานคะแนนปลายปี!K54","v":""}]
[null,null,"ร้อยละ",{"$f":"รายงานคะแนนปลายปี!F60","v":""},{"$f":"รายงานคะแนนปลายปี!G60","v":""},{"$f":"รายงานคะแนนปลายปี!I60","v":""},{"$f":"รายงานคะแนนปลายปี!J60","v":""},{"$f":"รายงานคะแนนปลายปี!K60","v":""},{"$f":"รายงานคะแนนปลายปี!L60","v":""},{"$f":"รายงานคะแนนปลายปี!M60","v":""},{"$f":"รายงานคะแนนปลายปี!N60","v":""},"คะแนน"]
[]
[null,null,"สรุปผล","สรุปผลการประเมิน\nคุณลักษณะอันพึงประสงค์",null,null,null,"สรุปผลการประเมิน\nการอ่าน คิดวิเคราะห์และเขียน"]
[null,null,"ผลประเมิน","ดีเยี่ยม","ดี","ผ่าน","ไม่ผ่าน","ดีเยี่ยม","ดี","ผ่าน","ไม่ผ่าน"]
[null,null,"จำนวน",{"$f":"รายงานคะแนนปลายปี!E63","v":0},{"$f":"รายงานคะแนนปลายปี!F63","v":0},{"$f":"รายงานคะแนนปลายปี!G63","v":0},{"$f":"รายงานคะแนนปลายปี!H63","v":0},{"$f":"รายงานคะแนนปลายปี!L63","v":0},{"$f":"รายงานคะแนนปลายปี!M63","v":0},{"$f":"รายงานคะแนนปลายปี!N63","v":0},{"$f":"รายงานคะแนนปลายปี!O63","v":0}]
[null,null,"ร้อยละ",{"$f":"รายงานคะแนนปลายปี!E64","v":""},{"$f":"รายงานคะแนนปลายปี!F64","v":""},{"$f":"รายงานคะแนนปลายปี!G64","v":""},{"$f":"รายงานคะแนนปลายปี!H64","v":""},{"$f":"รายงานคะแนนปลายปี!L64","v":""},{"$f":"รายงานคะแนนปลายปี!M64","v":""},{"$f":"รายงานคะแนนปลายปี!N64","v":""},{"$f":"รายงานคะแนนปลายปี!O64","v":""}]
[]
[null," การอนุมัติผลการเรียน"]
[null,null,null,null,"ลงชื่อ",null,null,null,null,"ลงชื่อ"]
[null,null,null,null,{"$f":"\"( \" & ตั้งค่า!C25 & \" )\"","v":"(  )"},null,null,null,{"$f":"\"( \" & ตั้งค่า!C29 & \" )\"","v":"(  )"}]
[null,null,null,null,"ครูผู้สอน",null,null,null,{"$f":"\"หัวหน้ากลุ่มสาระ\" & ตั้งค่า!C20","v":"หัวหน้ากลุ่มสาระ"}]
[]
[null,"ลงชื่อ",null,null,"ลงชื่อ",null,null,null,null,"ลงชื่อ"]
[null,{"$f":"\"( \" & ตั้งค่า!C30 & \" )\"","v":"(  )"},null,null,{"$f":"\"( \" & ตั้งค่า!C31 & \" )\"","v":"(  )"},null,null,null,{"$f":"\"( \" & ตั้งค่า!C33 & \" )\"","v":"(  )"}]
[null,"หัวหน้างานวัดและประเมินผล",null,null,"หัวหน้าฝ่ายบริหารงานวิชาการ",null,null,null,{"$f":"\"รองผู้อำนวยการโรงเรียน\" & ตั้งค่า!C12","v":"รองผู้อำนวยการโรงเรียนบ้านหัวคลอง"}]
[]
[null,"เรียนเสนอเพื่อพิจารณา",null,null,null,null," อนุมัติ  ","          ไม่อนุมัติ"]
[null,null,null,null,"ลงชื่อ"]
[null,null,null,null,null,{"$f":"\"( \" & ตั้งค่า!C32 & \" )\"","v":"(  )"}]
[null,{"$f":"CONCATENATE(ตั้งค่า!B32,ตั้งค่า!C12)","v":"ผู้อำนวยการโรงเรียนบ้านหัวคลอง"}]
[null,null,null,null,null,{"$f":"ตั้งค่า!C34","v":"00:00:00"},null,null,null,null,"         "]

{"sheet":"รายชื่อนักเรียน","index":4,"n_rows":10,"n_cols":19,"rows_kept":10,"cut":false,"hidden":false,"merged":[[4,11,4,12],[4,15,4,17],[0,6,0,10],[1,1,1,5],[2,1,4,1],[2,2,4,2],[2,3,4,3],[2,4,4,4],[2,5,4,5],[2,6,4,6],[2,8,2,10],[3,8,3,10],[1,8,1,11],[5,15,5,17],[6,15,6,17],[7,15,7,17],[8,15,8,17],[9,15,9,17]]}
[]
[null,{"$f":"\"รายชื่อนักเรียนโรงเรียน\"&ตั้งค่า!C12&\"  ชั้น\"&ตั้งค่า!C17","v":"รายชื่อนักเรียนโรงเรียนบ้านหัวคลอง  ชั้น"},null,null,null,null,null,null,"ห้ามปรับ แก้ไข ตารางเด็ดขาด"]
[null,"เลขที่","เลขประจำตัว","เลขประจำตัวประชาชน","ชื่อ - สกุล","หมายเหตุ"]
[null,null,null,null,null,null,null,null,null,null,null,{"$f":"S10","v":0}]
[null,null,null,null,null,null,null,null,null,null,null,"ออก",null,null,null,"จำนวนนักเรียน เมื่อต้นปีการศึกษา",null,null,{"$f":"IF(COUNTA(รายชื่อนักเรียน!$E$6:$E$50),COUNTA(รายชื่อนักเรียน!$E$6:$E$50),\"0\")","v":"0"}]
[null,null,null,null,null,null,null,null,null,null,null,null,"ย้าย",null,null,"จำนวนนักเรียน ออกระหว่างปี",null,null,{"$f":"COUNTIF($F$6:$F$50,\"ออก\")","v":0}]
[null,null,null,null,null,null,null,null,null,null,null,null,null,null,null,"จำนวนนักเรียน ย้ายออก",null,null,{"$f":"COUNTIF($F$6:$F$50,\"ย้าย\")","v":0}]
[null,null,null,null,null,null,null,null,null,null,null,null,null,null,null,"จำนวนนักเรียนที่ติด ร",null,null,{"$f":"COUNTIF($F$6:$F$50,\"ร\")","v":0}]
[null,null,null,null,null,null,null,null,null,null,null,null,null,null,null,"จำนวนนักเรียนที่ติด มส",null,null,{"$f":"COUNTIF($F$6:$F$50,\"มส\")","v":0}]
[null,null,null,null,null,null,null,null,null,null,null,null,null,null,null,"จำนวนนักเรียน เมื่อสิ้นปีการศึกษา",null,null,{"$f":"(S5-S6)-S7","v":0}]

{"sheet":"บันทึกเวลาเรียนT1","index":5,"n_rows":54,"n_cols":202,"rows_kept":54,"cut":false,"hidden":false,"merged":[[50,34,50,35],[50,67,50,68],[50,100,50,101],[50,133,50,134],[50,166,50,167],[52,1,52,2],[52,34,52,35],[52,67,52,68],[52,100,52,101],[52,133,52,134],[52,166,52,167],[51,1,51,2],[50,1,50,2],[48,34,48,35],[48,67,48,68],[48,100,48,101],[48,133,48,134],[48,166,48,167],[49,1,49,2],[49,34,49,35],[49,67,49,68],[49,100,49,101],[49,133,49,134],[49,166,49,167],[48,1,48,2],[46,34,46,35],[46,67,46,68],[46,100,46,101],[46,133,46,134],[46,166,46,167],[47,1,47,2],[47,34,47,35],[47,67,47,68],[47,100,47,101],[47,133,47,134],[47,166,47,167],[46,1,46,2],[1,198,5,198],[29,133,29,134],[30,133,30,134],[31,133,31,134],[32,133,32,134],[33,133,33,134],[34,133,34,134],[35,133,35,134],[36,133,36,134],[29,166,29,167],[30,166,30,167],[31,166,31,167],[32,166,32,167],[33,166,33,167],[34,166,34,167],[35,166,35,167],[36,166,36,167],[1,164,3,164],[6,133,6,134],[7,133,7,134],[8,133,8,134],[9,133,9,134],[10,133,10,134],[1,152,3,152],[29,67,29,68],[30,67,30,68],[31,67,31,68],[32,67,32,68],[33,67,33,68],[34,67,34,68],[35,67,35,68],[36,67,36,68],[29,100,29,101],[30,100,30,101],[31,100,31,101],[32,100,32,101],[33,100,33,101],[34,100,34,101],[35,100,35,101],[36,100,36,101],[45,34,45,35],[41,34,41,35],[42,34,42,35],[43,34,43,35],[44,34,44,35],[29,1,29,2],[30,1,30,2],[31,1,31,2],[32,1,32,2],[33,1,33,2],[34,1,34,2],[35,1,35,2],[36,1,36,2],[29,34,29,35],[30,34,30,35],[31,34,31,35],[32,34,32,35],[33,34,33,35],[34,34,34,35],[35,34,35,35],[36,34,36,35],[37,34,37,35],[38,34,38,35],[39,34,39,35],[40,34,40,35],[23,34,23,35],[24,34,24,35],[25,34,25,35],[26,34,26,35],[27,34,27,35],[20,34,20,35],[21,34,21,35],[22,34,22,35],[13,34,13,35],[14,34,14,35],[15,34,15,35],[16,34,16,35],[17,34,17,35],[28,34,28,35],[12,34,12,35],[1,63,3,63],[18,34,18,35],[19,34,19,35],[8,34,8,35],[9,34,9,35],[10,34,10,35],[11,34,11,35],[1,64,3,64],[1,65,3,65],[6,34,6,35],[7,34,7,35],[1,58,3,58],[1,59,3,59],[1,60,3,60],[1,61,3,61],[1,62,3,62],[1,43,3,43],[1,44,3,44],[1,45,3,45],[1,46,3,46],[1,47,3,47],[1,35,3,35],[1,34,5,34],[1,36,3,36],[1,37,3,37],[1,38,3,38],[1,39,3,39],[1,40,3,40],[1,41,3,41],[1,42,3,42],[1,31,3,31],[1,32,3,32],[0,0,0,32],[1,33,5,33],[0,33,0,65],[1,48,3,48],[1,49,3,49],[1,50,3,50],[1,51,3,51],[1,52,3,52],[1,53,3,53],[1,54,3,54],[1,55,3,55],[1,56,3,56],[1,57,3,57],[1,27,3,27],[1,28,3,28],[1,29,3,29],[1,30,3,30],[1,2,3,2],[1,22,3,22],[1,23,3,23],[1,24,3,24],[1,25,3,25],[1,0,5,0],[1,1,5,1],[1,3,3,3],[1,4,3,4],[1,5,3,5],[1,6,3,6],[1,7,3,7],[16,1,16,2],[6,1,6,2],[7,1,7,2],[8,1,8,2],[9,1,9,2],[10,1,10,2],[11,1,11,2],[12,1,12,2],[13,1,13,2],[14,1,14,2],[15,1,15,2],[28,1,28,2],[17,1,17,2],[18,1,18,2],[19,1,19,2],[20,1,20,2],[21,1,21,2],[22,1,22,2],[23,1,23,2],[24,1,24,2],[25,1,25,2],[26,1,26,2],[27,1,27,2],[37,1,37,2],[38,1,38,2],[39,1,39,2],[40,1,40,2],[41,1,41,2],[42,1,42,2],[43,1,43,2],[44,1,44,2],[45,1,45,2],[1,8,3,8],[1,9,3,9],[1,10,3,10],[1,11,3,11],[1,26,3,26],[1,17,3,17],[1,18,3,18],[1,19,3,19],[1,20,3,20],[1,21,3,21],[1,12,3,12],[1,13,3,13],[1,14,3,14],[1,15,3,15],[1,16,3,16],[16,67,16,68],[17,67,17,68],[18,67,18,68],[19,67,19,68],[1,66,5,66],[1,67,5,67],[1,68,3,68],[6,67,6,68],[7,67,7,68],[8,67,8,68],[9,67,9,68],[10,67,10,68],[45,67,45,68],[1,69,3,69],[37,67,37,68],[38,67,38,68],[39,67,39,68],[40,67,40,68],[41,67,41,68],[42,67,42,68],[43,67,43,68],[44,67,44,68],[20,67,20,68],[21,67,21,68],[22,67,22,68],[23,67,23,68],[24,67,24,68],[25,67,25,68],[26,67,26,68],[27,67,27,68],[28,67,28,68],[11,67,11,68],[12,67,12,68],[13,67,13,68],[14,67,14,68],[15,67,15,68],[1,70,3,70],[1,71,3,71],[1,72,3,72],[1,73,3,73],[1,74,3,74],[1,75,3,75],[1,76,3,76],[1,77,3,77],[1,78,3,78],[1,89,3,89],[1,90,3,90],[1,91,3,91],[1,92,3,92],[1,93,3,93],[1,94,3,94],[1,95,3,95],[1,96,3,96],[1,79,3,79],[1,80,3,80],[1,81,3,81],[1,82,3,82],[1,83,3,83],[1,84,3,84],[1,85,3,85],[1,86,3,86],[1,87,3,87],[1,97,3,97],[1,98,3,98],[0,66,0,98],[51,67,51,68],[0,99,0,131],[1,99,5,99],[1,100,5,100],[1,101,3,101],[1,102,3,102],[1,103,3,103],[1,104,3,104],[1,105,3,105],[1,106,3,106],[1,107,3,107],[1,108,3,108],[1,109,3,109],[1,110,3,110],[1,111,3,111],[1,112,3,112],[1,113,3,113],[1,114,3,114],[1,115,3,115],[1,116,3,116],[1,88,3,88],[1,126,3,126],[1,127,3,127],[1,128,3,128],[1,129,3,129],[1,130,3,130],[1,131,3,131],[6,100,6,101],[7,100,7,101],[8,100,8,101],[1,117,3,117],[1,118,3,118],[1,119,3,119],[1,120,3,120],[1,121,3,121],[1,122,3,122],[1,123,3,123],[1,124,3,124],[1,125,3,125],[9,100,9,101],[10,100,10,101],[11,100,11,101],[12,100,12,101],[13,100,13,101],[14,100,14,101],[15,100,15,101],[16,100,16,101],[17,100,17,101],[18,100,18,101],[19,100,19,101],[20,100,20,101],[21,100,21,101],[22,100,22,101],[23,100,23,101],[24,100,24,101],[25,100,25,101],[26,100,26,101],[44,100,44,101],[45,100,45,101],[27,100,27,101],[28,100,28,101],[37,100,37,101],[38,100,38,101],[39,100,39,101],[40,100,40,101],[41,100,41,101],[42,100,42,101],[43,100,43,101],[0,132,0,164],[1,132,5,132],[1,133,5,133],[1,134,3,134],[1,135,3,135],[1,136,3,136],[1,137,3,137],[1,138,3,138],[1,139,3,139],[1,140,3,140],[1,141,3,141],[1,142,3,142],[1,143,3,143],[1,144,3,144],[1,145,3,145],[1,146,3,146],[1,147,3,147],[1,148,3,148],[1,149,3,149],[1,150,3,150],[1,151,3,151],[1,161,3,161],[1,162,3,162],[1,163,3,163],[1,153,3,153],[1,154,3,154],[1,155,3,155],[1,156,3,156],[1,157,3,157],[1,158,3,158],[1,159,3,159],[1,160,3,160],[11,133,11,134],[12,133,12,134],[13,133,13,134],[14,133,14,134],[15,133,15,134],[16,133,16,134],[17,133,17,134],[18,133,18,134],[19,133,19,134],[20,133,20,134],[21,133,21,134],[22,133,22,134],[23,133,23,134],[24,133,24,134],[25,133,25,134],[26,133,26,134],[27,133,27,134],[28,133,28,134],[37,133,37,134],[38,133,38,134],[39,133,39,134],[40,133,40,134],[41,133,41,134],[42,133,42,134],[43,133,43,134],[44,133,44,134],[45,133,45,134],[0,165,0,197],[1,165,5,165],[1,166,5,166],[1,167,3,167],[1,168,3,168],[1,169,3,169],[1,170,3,170],[1,171,3,171],[1,172,3,172],[1,173,3,173],[1,174,3,174],[1,175,3,175],[1,176,3,176],[1,177,3,177],[1,178,3,178],[1,179,3,179],[1,196,3,196],[1,197,3,197],[1,189,3,189],[1,190,3,190],[1,191,3,191],[1,192,3,192],[1,193,3,193],[1,194,3,194],[1,195,3,195],[6,166,6,167],[7,166,7,167],[8,166,8,167],[9,166,9,167],[10,166,10,167],[11,166,11,167],[12,166,12,167],[1,187,3,187],[1,188,3,188],[1,180,3,180],[1,181,3,181],[1,182,3,182],[1,183,3,183],[1,184,3,184],[1,185,3,185],[1,186,3,186],[13,166,13,167],[14,166,14,167],[15,166,15,167],[16,166,16,167],[17,166,17,167],[18,166,18,167],[19,166,19,167],[20,166,20,167],[21,166,21,167],[39,166,39,167],[40,166,40,167],[41,166,41,167],[42,166,42,167],[43,166,43,167],[44,166,44,167],[45,166,45,167],[51,168,51,197],[22,166,22,167],[23,166,23,167],[24,166,24,167],[25,166,25,167],[26,166,26,167],[27,166,27,167],[28,166,28,167],[37,166,37,167],[38,166,38,167],[52,168,52,197],[51,3,51,32],[52,3,52,32],[51,36,51,65],[52,36,52,65],[51,69,51,98],[52,69,52,98],[51,102,51,131],[52,102,52,131],[51,135,51,164],[52,135,52,164],[51,100,51,101],[51,34,51,35],[51,166,51,167],[51,133,51,134]]}
[{"$f":"\"บันทึกเวลาเรียน วิชา\"&ตั้งค่า!C18&\"  ชั้น\"&ตั้งค่า!C17&\" ภาคเรียนที่ 1 \"&\"ปีการศึกษา \"&ตั้งค่า!C11","v":"บันทึกเวลาเรียน วิชา  ชั้น ภาคเรียนที่ 1 ปีการศึกษา "},null,null,null,null,null,null,null,null,null,null,null,null,null,null,null,null,null,null,null,null,null,null,null,null,null,null,null,null,null,null,null,null,{"$f":"A1","v":"บันทึกเวลาเรียน วิชา  ชั้น ภาคเรียนที่ 1 ปีการศึกษา "},null,null,null,null,null,null,null,null,null,null,null,null,null,null,null,null,null,null,null,null,null,null,null,null,null,null,null,null,null,null,null,null,{"$f":"AH1","v":"บันทึกเวลาเรียน วิชา  ชั้น ภาคเรียนที่ 1 ปีการศึกษา "},null,null,null,null,null,null,null,null,null,null,null,null,null,null,null,null,null,null,null,null,null,null,null,null,null,null,null,null,null,null,null,null,{"$f":"BO1","v":"บันทึกเวลาเรียน วิชา  ชั้น ภาคเรียนที่ 1 ปีการศึกษา "},null,null,null,null,null,null,null,null,null,null,null,null,null,null,null,null,null,null,null,null,null,null,null,null,null,null,null,null,null,null,null,null,{"$f":"CV1","v":"บันทึกเวลาเรียน วิชา  ชั้น ภาคเรียนที่ 1 ปีการศึกษา "},null,null,null,null,null,null,null,null,null,null,null,null,null,null,null,null,null,null,null,null,null,null,null,null,null,null,null,null,null,null,null,null,{"$f":"EC1","v":"บันทึกเวลาเรียน วิชา  ชั้น ภาคเรียนที่ 1 ปีการศึกษา "},null,null,null,null,null,null,null,null,null,null,null,null,null,null,null,null,null,null,null,null,null,null,null,null,null,null,null,null,null,null,null,null,null,"ย"]
["ที่","ชื่อ-สกุล","วัน เดือน ปี","","","","","","","","","","","","","","","","","","","","","","","","","","","","","","","ที่",{"$f":"B2","v":"ชื่อ-สกุล"},{"$f":"C2","v":"วัน เดือน ปี"},null,null,null,null,null,null,null,null,null,null,null,null,null,null,null,null,null,null,null,null,null,null,null,null,null,null,null,null,null,null,"ที่",{"$f":"AI2","v":"ชื่อ-สกุล"},{"$f":"AJ2","v":"วัน เดือน ปี"},null,null,null,null,null,null,null,null,null,null,null,null,null,null,null,null,null,null,null,null,null,null,null,null,null,null,null,null,null,null,"ที่",{"$f":"BP2","v":"ชื่อ-สกุล"},{"$f":"BQ2","v":"วัน เดือน ปี"},null,null,null,null,null,null,null,null,null,null,null,null,null,null,null,null,null,null,null,null,null,null,null,null,null,null,null,null,null,null,"ที่",{"$f":"CW2","v":"ชื่อ-สกุล"},{"$f":"CX2","v":"วัน เดือน ปี"},null,null,null,null,null,null,null,null,null,null,null,null,null,null,null,null,null,null,null,null,null,null,null,null,null,null,null,null,null,null,"ที่",{"$f":"ED2","v":"ชื่อ-สกุล"},{"$f":"EE2","v":"วัน เดือน ปี"},null,null,null,null,null,null,null,null,null,null,null,null,null,null,null,null,null,null,null,null,null,null,null,null,null,null,null,null,null,null,"หมายเหตุ"]
[]
[]
[null,null,"วัน",null,null,null,null,null,null,null,null,null,null,null,null,null,null,null,null,null,null,null,null,null,null,null,null,null,null,null,null,null,null,null,null,{"$f":"C5","v":"วัน"},null,null,null,null,null,null,null,null,null,null,null,null,null,null,null,null,null,null,null,null,null,null,null,null,null,null,null,null,null,null,null,null,{"$f":"AJ5","v":"วัน"},null,null,null,null,null,null,null,null,null,null,null,null,null,null,null,null,null,null,null,null,null,null,null,null,null,null,null,null,null,null,null,null,{"$f":"BQ5","v":"วัน"},null,null,null,null,null,null,null,null,null,null,null,null,null,null,null,null,null,null,null,null,null,null,null,null,null,null,null,null,null,null,null,null,{"$f":"CX5","v":"วัน"},null,null,null,null,null,null,null,null,null,null,null,null,null,null,null,null,null,null,null,null,null,null,null,null,null,null,null,null,null,null,null,null,{"$f":"EE5","v":"วัน"}]
[null,null,"จำนวนคาบ",null,null,null,null,null,null,null,null,null,null,null,null,null,null,null,null,null,null,null,null,null,null,null,null,null,null,null,null,null,null,null,null,{"$f":"C6","v":"จำนวนคาบ"},null,null,null,null,null,null,null,null,null,null,null,null,null,null,null,null,null,null,null,null,null,null,null,null,null,null,null,null,null,null,null,null,{"$f":"AJ6","v":"จำนวนคาบ"},null,null,null,null,null,null,null,null,null,null,null,null,null,null,null,null,null,null,null,null,null,null,null,null,null,null,null,null,null,null,null,null,{"$f":"BQ6","v":"จำนวนคาบ"},null,null,null,null,null,null,null,null,null,null,null,null,null,null,null,null,null,null,null,null,null,null,null,null,null,null,null,null,null,null,null,null,{"$f":"CX6","v":"จำนวนคาบ"},null,null,null,null,null,null,null,null,null,null,null,null,null,null,null,null,null,null,null,null,null,null,null,null,null,null,null,null,null,null,null,null,{"$f":"EE6","v":"จำนวนคาบ"}]
[{"$f":"รายชื่อนักเรียน!B6","v":0},{"$f":"IF(รายชื่อนักเรียน!E6=\"\",\"\",รายชื่อนักเรียน!E6)","v":""},null,null,null,null,null,null,null,null,null,null,null,null,null,null,null,null,null,null,null,null,null,null,null,null,null,null,null,null,null,null,null,{"$f":"A7","v":0},{"$f":"B7","v":""},null,null,null,null,null,null,null,null,null,null,null,null,null,null,null,null,null,null,null,null,null,null,null,null,null,null,null,null,null,null,null,{"$f":"AH7","v":0},{"$f":"AI7","v":""},null,null,null,null,null,null,null,null,null,null,null,null,null,null,null,null,null,null,null,null,null,null,null,null,null,null,null,null,null,null,null,{"$f":"BO7","v":0},{"$f":"BP7","v":""},null,null,null,null,null,null,null,null,null,null,null,null,null,null,null,null,null,null,null,null,null,null,null,null,null,null,null,null,null,null,null,{"$f":"CV7","v":0},{"$f":"CW7","v":""},null,null,null,null,null,null,null,null,null,null,null,null,null,null,null,null,null,null,null,null,null,null,null,null,null,null,null,null,null,null,null,{"$f":"EC7","v":0},{"$f":"ED7","v":""},null,null,null,null,null,null,null,null,null,null,null,null,null,null,null,null,null,null,null,null,null,null,null,null,null,null,null,null,null,null,null,{"$f":"IF(รายชื่อนักเรียน!$F6=\"\",\"\",รายชื่อนักเรียน!$F6)","v":""},null,null,"ย้าย"]
[{"$f":"รายชื่อนักเรียน!B7","v":0},{"$f":"IF(รายชื่อนักเรียน!E7=\"\",\"\",รายชื่อนักเรียน!E7)","v":""},null,null,null,null,null,null,null,null,null,null,null,null,null,null,null,null,null,null,null,null,null,null,null,null,null,null,null,null,null,null,null,{"$f":"A8","v":0},{"$f":"B8","v":""},null,null,null,null,null,null,null,null,null,null,null,null,null,null,null,null,null,null,null,null,null,null,null,null,null,null,null,null,null,null,null,{"$f":"AH8","v":0},{"$f":"AI8","v":""},null,null,null,null,null,null,null,null,null,null,null,null,null,null,null,null,null,null,null,null,null,null,null,null,null,null,null,null,null,null,null,{"$f":"BO8","v":0},{"$f":"BP8","v":""},null,null,null,null,null,null,null,null,null,null,null,null,null,null,null,null,null,null,null,null,null,null,null,null,null,null,null,null,null,null,null,{"$f":"CV8","v":0},{"$f":"CW8","v":""},null,null,null,null,null,null,null,null,null,null,null,null,null,null,null,null,null,null,null,null,null,null,null,null,null,null,null,null,null,null,null,{"$f":"EC8","v":0},{"$f":"ED8","v":""},null,null,null,null,null,null,null,null,null,null,null,null,null,null,null,null,null,null,null,null,null,null,null,null,null,null,null,null,null,null,null,{"$f":"IF(รายชื่อนักเรียน!$F7=\"\",\"\",รายชื่อนักเรียน!$F7)","v":""}]
[{"$f":"รายชื่อนักเรียน!B8","v":0},{"$f":"IF(รายชื่อนักเรียน!E8=\"\",\"\",รายชื่อนักเรียน!E8)","v":""},null,null,null,null,null,null,null,null,null,null,null,null,null,null,null,null,null,null,null,null,null,null,null,null,null,null,null,null,null,null,null,0,{"$f":"B9","v":""},null,null,null,null,null,null,null,null,null,null,null,null,null,null,null,null,null,null,null,null,null,null,null,null,null,null,null,null,null,null,null,0,{"$f":"AI9","v":""},null,null,null,null,null,null,null,null,null,null,null,null,null,null,null,null,null,null,null,null,null,null,null,null,null,null,null,null,null,null,null,0,{"$f":"BP9","v":""},null,null,null,null,null,null,null,null,null,null,null,null,null,null,null,null,null,null,null,null,null,null,null,null,null,null,null,null,null,null,null,0,{"$f":"CW9","v":""},null,null,null,null,null,null,null,null,null,null,null,null,null,null,null,null,null,null,null,null,null,null,null,null,null,null,null,null,null,null,null,0,{"$f":"ED9","v":""},null,null,null,null,null,null,null,null,null,null,null,null,null,null,null,null,null,null,null,null,null,null,null,null,null,null,null,null,null,null,null,{"$f":"IF(รายชื่อนักเรียน!$F8=\"\",\"\",รายชื่อนักเรียน!$F8)","v":""}]
[{"$f":"รายชื่อนักเรียน!B9","v":0},{"$f":"IF(รายชื่อนักเรียน!E9=\"\",\"\",รายชื่อนักเรียน!E9)","v":""},null,null,null,null,null,null,null,null,null,null,null,null,null,null,null,null,null,null,null,null,null,null,null,null,null,null,null,null,null,null,null,0,{"$f":"B10","v":""},null,null,null,null,null,null,null,null,null,null,null,null,null,null,null,null,null,null,null,null,null,null,null,null,null,null,null,null,null,null,null,0,{"$f":"AI10","v":""},null,null,null,null,null,null,null,null,null,null,null,null,null,null,null,null,null,null,null,null,null,null,null,null,null,null,null,null,null,null,null,0,{"$f":"BP10","v":""},null,null,null,null,null,null,null,null,null,null,null,null,null,null,null,null,null,null,null,null,null,null,null,null,null,null,null,null,null,null,null,0,{"$f":"CW10","v":""},null,null,null,null,null,null,null,null,null,null,null,null,null,null,null,null,null,null,null,null,null,null,null,null,null,null,null,null,null,null,null,0,{"$f":"ED10","v":""},null,null,null,null,null,null,null,null,null,null,null,null,null,null,null,null,null,null,null,null,null,null,null,null,null,null,null,null,null,null,null,{"$f":"IF(รายชื่อนักเรียน!$F9=\"\",\"\",รายชื่อนักเรียน!$F9)","v":""}]
[{"$f":"รายชื่อนักเรียน!B10","v":0},{"$f":"IF(รายชื่อนักเรียน!E10=\"\",\"\",รายชื่อนักเรียน!E10)","v":""},null,null,null,null,null,null,null,null,null,null,null,null,null,null,null,null,null,null,null,null,null,null,null,null,null,null,null,null,null,null,null,0,{"$f":"B11","v":""},null,null,null,null,null,null,null,null,null,null,null,null,null,null,null,null,null,null,null,null,null,null,null,null,null,null,null,null,null,null,null,0,{"$f":"AI11","v":""},null,null,null,null,null,null,null,null,null,null,null,null,null,null,null,null,null,null,null,null,null,null,null,null,null,null,null,null,null,null,null,0,"",null,null,null,null,null,null,null,null,null,null,null,null,null,null,null,null,null,null,null,null,null,null,null,null,null,null,null,null,null,null,null,0,"",null,null,null,null,null,null,null,null,null,null,null,null,null,null,null,null,null,null,null,null,null,null,null,null,null,null,null,null,null,null,null,0,"",null,null,null,null,null,null,null,null,null,null,null,null,null,null,null,null,null,null,null,null,null,null,null,null,null,null,null,null,null,null,null,{"$f":"IF(รายชื่อนักเรียน!$F10=\"\",\"\",รายชื่อนักเรียน!$F10)","v":""}]
[{"$f":"รายชื่อนักเรียน!B11","v":0},{"$f":"IF(รายชื่อนักเรียน!E11=\"\",\"\",รายชื่อนักเรียน!E11)","v":""},null,null,null,null,null,null,null,null,null,null,null,null,null,null,null,null,null,null,null,null,null,null,null,null,null,null,null,null,null,null,null,0,"",null,null,null,null,null,null,null,null,null,null,null,null,null,null,null,null,null,null,null,null,null,null,null,null,null,null,null,null,null,null,null,0,"",null,null,null,null,null,null,null,null,null,null,null,null,null,null,null,null,null,null,null,null,null,null,null,null,null,null,null,null,null,null,null,0,"",null,null,null,null,null,null,null,null,null,null,null,null,null,null,null,null,null,null,null,null,null,null,null,null,null,null,null,null,null,null,null,0,"",null,null,null,null,null,null,null,null,null,null,null,null,null,null,null,null,null,null,null,null,null,null,null,null,null,null,null,null,null,null,null,0,"",null,null,null,null,null,null,null,null,null,null,null,null,null,null,null,null,null,null,null,null,null,null,null,null,null,null,null,null,null,null,null,{"$f":"IF(รายชื่อนักเรียน!$F11=\"\",\"\",รายชื่อนักเรียน!$F11)","v":""}]
[{"$f":"รายชื่อนักเรียน!B12","v":0},{"$f":"IF(รายชื่อนักเรียน!E12=\"\",\"\",รายชื่อนักเรียน!E12)","v":""},null,null,null,null,null,null,null,null,null,null,null,null,null,null,null,null,null,null,null,null,null,null,null,null,null,null,null,null,null,null,null,0,"",null,null,null,null,null,null,null,null,null,null,null,null,null,null,null,null,null,null,null,null,null,null,null,null,null,null,null,null,null,null,null,0,"",null,null,null,null,null,null,null,null,null,null,null,null,null,null,null,null,null,null,null,null,null,null,null,null,null,null,null,null,null,null,null,0,"",null,null,null,null,null,null,null,null,null,null,null,null,null,null,null,null,null,null,null,null,null,null,null,null,null,null,null,null,null,null,null,0,"",null,null,null,null,null,null,null,null,null,null,null,null,null,null,null,null,null,null,null,null,null,null,null,null,null,null,null,null,null,null,null,0,"",null,null,null,null,null,null,null,null,null,null,null,null,null,null,null,null,null,null,null,null,null,null,null,null,null,null,null,null,null,null,null,{"$f":"IF(รายชื่อนักเรียน!$F12=\"\",\"\",รายชื่อนักเรียน!$F12)","v":""}]
[{"$f":"รายชื่อนักเรียน!B13","v":0},{"$f":"IF(รายชื่อนักเรียน!E13=\"\",\"\",รายชื่อนักเรียน!E13)","v":""},null,null,null,null,null,null,null,null,null,null,null,null,null,null,null,null,null,null,null,null,null,null,null,null,null,null,null,null,null,null,null,0,"",null,null,null,null,null,null,null,null,null,null,null,null,null,null,null,null,null,null,null,null,null,null,null,null,null,null,null,null,null,null,null,0,"",null,null,null,null,null,null,null,null,null,null,null,null,null,null,null,null,null,null,null,null,null,null,null,null,null,null,null,null,null,null,null,0,"",null,null,null,null,null,null,null,null,null,null,null,null,null,null,null,null,null,null,null,null,null,null,null,null,null,null,null,null,null,null,null,0,"",null,null,null,null,null,null,null,null,null,null,null,null,null,null,null,null,null,null,null,null,null,null,null,null,null,null,null,null,null,null,null,0,"",null,null,null,null,null,null,null,null,null,null,null,null,null,null,null,null,null,null,null,null,null,null,null,null,null,null,null,null,null,null,null,{"$f":"IF(รายชื่อนักเรียน!$F13=\"\",\"\",รายชื่อนักเรียน!$F13)","v":""}]
[{"$f":"รายชื่อนักเรียน!B14","v":0},{"$f":"IF(รายชื่อนักเรียน!E14=\"\",\"\",รายชื่อนักเรียน!E14)","v":""},null,null,null,null,null,null,null,null,null,null,null,null,null,null,null,null,null,null,null,null,null,null,null,null,null,null,null,null,null,null,null,0,"",null,null,null,null,null,null,null,null,null,null,null,null,null,null,null,null,null,null,null,null,null,null,null,null,null,null,null,null,null,null,null,0,"",null,null,null,null,null,null,null,null,null,null,null,null,null,null,null,null,null,null,null,null,null,null,null,null,null,null,null,null,null,null,null,0,"",null,null,null,null,null,null,null,null,null,null,null,null,null,null,null,null,null,null,null,null,null,null,null,null,null,null,null,null,null,null,null,0,"",null,null,null,null,null,null,null,null,null,null,null,null,null,null,null,null,null,null,null,null,null,null,null,null,null,null,null,null,null,null,null,0,"",null,null,null,null,null,null,null,null,null,null,null,null,null,null,null,null,null,null,null,null,null,null,null,null,null,null,null,null,null,null,null,{"$f":"IF(รายชื่อนักเรียน!$F14=\"\",\"\",รายชื่อนักเรียน!$F14)","v":""}]
[{"$f":"รายชื่อนักเรียน!B15","v":0},{"$f":"IF(รายชื่อนักเรียน!E15=\"\",\"\",รายชื่อนักเรียน!E15)","v":""},null,null,null,null,null,null,null,null,null,null,null,null,null,null,null,null,null,null,null,null,null,null,null,null,null,null,null,null,null,null,null,0,"",null,null,null,null,null,null,null,null,null,null,null,null,null,null,null,null,null,null,null,null,null,null,null,null,null,null,null,null,null,null,null,0,"",null,null,null,null,null,null,null,null,null,null,null,null,null,null,null,null,null,null,null,null,null,null,null,null,null,null,null,null,null,null,null,0,"",null,null,null,null,null,null,null,null,null,null,null,null,null,null,null,null,null,null,null,null,null,null,null,null,null,null,null,null,null,null,null,0,"",null,null,null,null,null,null,null,null,null,null,null,null,null,null,null,null,null,null,null,null,null,null,null,null,null,null,null,null,null,null,null,0,"",null,null,null,null,null,null,null,null,null,null,null,null,null,null,null,null,null,null,null,null,null,null,null,null,null,null,null,null,null,null,null,{"$f":"IF(รายชื่อนักเรียน!$F15=\"\",\"\",รายชื่อนักเรียน!$F15)","v":""}]
[{"$f":"รายชื่อนักเรียน!B16","v":0},{"$f":"IF(รายชื่อนักเรียน!E16=\"\",\"\",รายชื่อนักเรียน!E16)","v":""},null,null,null,null,null,null,null,null,null,null,null,null,null,null,null,null,null,null,null,null,null,null,null,null,null,null,null,null,null,null,null,0,"",null,null,null,null,null,null,null,null,null,null,null,null,null,null,null,null,null,null,null,null,null,null,null,null,null,null,null,null,null,null,null,0,"",null,null,null,null,null,null,null,null,null,null,null,null,null,null,null,null,null,null,null,null,null,null,null,null,null,null,null,null,null,null,null,0,"",null,null,null,null,null,null,null,null,null,null,null,null,null,null,null,null,null,null,null,null,null,null,null,null,null,null,null,null,null,null,null,0,"",null,null,null,null,null,null,null,null,null,null,null,null,null,null,null,null,null,null,null,null,null,null,null,null,null,null,null,null,null,null,null,0,"",null,null,null,null,null,null,null,null,null,null,null,null,null,null,null,null,null,null,null,null,null,null,null,null,null,null,null,null,null,null,null,{"$f":"IF(รายชื่อนักเรียน!$F16=\"\",\"\",รายชื่อนักเรียน!$F16)","v":""}]
[{"$f":"รายชื่อนักเรียน!B17","v":0},{"$f":"IF(รายชื่อนักเรียน!E17=\"\",\"\",รายชื่อนักเรียน!E17)","v":""},null,null,null,null,null,null,null,null,null,null,null,null,null,null,null,null,null,null,null,null,null,null,null,null,null,null,null,null,null,null,null,0,"",null,null,null,null,null,null,null,null,null,null,null,null,null,null,null,null,null,null,null,null,null,null,null,null,null,null,null,null,null,null,null,0,"",null,null,null,null,null,null,null,null,null,null,null,null,null,null,null,null,null,null,null,null,null,null,null,null,null,null,null,null,null,null,null,0,"",null,null,null,null,null,null,null,null,null,null,null,null,null,null,null,null,null,null,null,null,null,null,null,null,null,null,null,null,null,null,null,0,"",null,null,null,null,null,null,null,null,null,null,null,null,null,null,null,null,null,null,null,null,null,null,null,null,null,null,null,null,null,null,null,0,"",null,null,null,null,null,null,null,null,null,null,null,null,null,null,null,null,null,null,null,null,null,null,null,null,null,null,null,null,null,null,null,{"$f":"IF(รายชื่อนักเรียน!$F17=\"\",\"\",รายชื่อนักเรียน!$F17)","v":""}]
[{"$f":"รายชื่อนักเรียน!B18","v":0},{"$f":"IF(รายชื่อนักเรียน!E18=\"\",\"\",รายชื่อนักเรียน!E18)","v":""},null,null,null,null,null,null,null,null,null,null,null,null,null,null,null,null,null,null,null,null,null,null,null,null,null,null,null,null,null,null,null,0,"",null,null,null,null,null,null,null,null,null,null,null,null,null,null,null,null,null,null,null,null,null,null,null,null,null,null,null,null,null,null,null,0,"",null,null,null,null,null,null,null,null,null,null,null,null,null,null,null,null,null,null,null,null,null,null,null,null,null,null,null,null,null,null,null,0,"",null,null,null,null,null,null,null,null,null,null,null,null,null,null,null,null,null,null,null,null,null,null,null,null,null,null,null,null,null,null,null,0,"",null,null,null,null,null,null,null,null,null,null,null,null,null,null,null,null,null,null,null,null,null,null,null,null,null,null,null,null,null,null,null,0,"",null,null,null,null,null,null,null,null,null,null,null,null,null,null,null,null,null,null,null,null,null,null,null,null,null,null,null,null,null,null,null,{"$f":"IF(รายชื่อนักเรียน!$F18=\"\",\"\",รายชื่อนักเรียน!$F18)","v":""}]
[{"$f":"รายชื่อนักเรียน!B19","v":0},{"$f":"IF(รายชื่อนักเรียน!E19=\"\",\"\",รายชื่อนักเรียน!E19)","v":""},null,null,null,null,null,null,null,null,null,null,null,null,null,null,null,null,null,null,null,null,null,null,null,null,null,null,null,null,null,null,null,0,"",null,null,null,null,null,null,null,null,null,null,null,null,null,null,null,null,null,null,null,null,null,null,null,null,null,null,null,null,null,null,null,0,"",null,null,null,null,null,null,null,null,null,null,null,null,null,null,null,null,null,null,null,null,null,null,null,null,null,null,null,null,null,null,null,0,"",null,null,null,null,null,null,null,null,null,null,null,null,null,null,null,null,null,null,null,null,null,null,null,null,null,null,null,null,null,null,null,0,"",null,null,null,null,null,null,null,null,null,null,null,null,null,null,null,null,null,null,null,null,null,null,null,null,null,null,null,null,null,null,null,0,"",null,null,null,null,null,null,null,null,null,null,null,null,null,null,null,null,null,null,null,null,null,null,null,null,null,null,null,null,null,null,null,{"$f":"IF(รายชื่อนักเรียน!$F19=\"\",\"\",รายชื่อนักเรียน!$F19)","v":""}]
[{"$f":"รายชื่อนักเรียน!B20","v":0},{"$f":"IF(รายชื่อนักเรียน!E20=\"\",\"\",รายชื่อนักเรียน!E20)","v":""},null,null,null,null,null,null,null,null,null,null,null,null,null,null,null,null,null,null,null,null,null,null,null,null,null,null,null,null,null,null,null,0,"",null,null,null,null,null,null,null,null,null,null,null,null,null,null,null,null,null,null,null,null,null,null,null,null,null,null,null,null,null,null,null,0,"",null,null,null,null,null,null,null,null,null,null,null,null,null,null,null,null,null,null,null,null,null,null,null,null,null,null,null,null,null,null,null,0,"",null,null,null,null,null,null,null,null,null,null,null,null,null,null,null,null,null,null,null,null,null,null,null,null,null,null,null,null,null,null,null,0,"",null,null,null,null,null,null,null,null,null,null,null,null,null,null,null,null,null,null,null,null,null,null,null,null,null,null,null,null,null,null,null,0,"",null,null,null,null,null,null,null,null,null,null,null,null,null,null,null,null,null,null,null,null,null,null,null,null,null,null,null,null,null,null,null,{"$f":"IF(รายชื่อนักเรียน!$F20=\"\",\"\",รายชื่อนักเรียน!$F20)","v":""}]
[{"$f":"รายชื่อนักเรียน!B21","v":0},{"$f":"IF(รายชื่อนักเรียน!E21=\"\",\"\",รายชื่อนักเรียน!E21)","v":""},null,null,null,null,null,null,null,null,null,null,null,null,null,null,null,null,null,null,null,null,null,null,null,null,null,null,null,null,null,null,null,0,"",null,null,null,null,null,null,null,null,null,null,null,null,null,null,null,null,null,null,null,null,null,null,null,null,null,null,null,null,null,null,null,0,"",null,null,null,null,null,null,null,null,null,null,null,null,null,null,null,null,null,null,null,null,null,null,null,null,null,null,null,null,null,null,null,0,"",null,null,null,null,null,null,null,null,null,null,null,null,null,null,null,null,null,null,null,null,null,null,null,null,null,null,null,null,null,null,null,0,"",null,null,null,null,null,null,null,null,null,null,null,null,null,null,null,null,null,null,null,null,null,null,null,null,null,null,null,null,null,null,null,0,"",null,null,null,null,null,null,null,null,null,null,null,null,null,null,null,null,null,null,null,null,null,null,null,null,null,null,null,null,null,null,null,{"$f":"IF(รายชื่อนักเรียน!$F21=\"\",\"\",รายชื่อนักเรียน!$F21)","v":""}]
[{"$f":"รายชื่อนักเรียน!B22","v":0},{"$f":"IF(รายชื่อนักเรียน!E22=\"\",\"\",รายชื่อนักเรียน!E22)","v":""},null,null,null,null,null,null,null,null,null,null,null,null,null,null,null,null,null,null,null,null,null,null,null,null,null,null,null,null,null,null,null,0,"",null,null,null,null,null,null,null,null,null,null,null,null,null,null,null,null,null,null,null,null,null,null,null,null,null,null,null,null,null,null,null,0,"",null,null,null,null,null,null,null,null,null,null,null,null,null,null,null,null,null,null,null,null,null,null,null,null,null,null,null,null,null,null,null,0,"",null,null,null,null,null,null,null,null,null,null,null,null,null,null,null,null,null,null,null,null,null,null,null,null,null,null,null,null,null,null,null,0,"",null,null,null,null,null,null,null,null,null,null,null,null,null,null,null,null,null,null,null,null,null,null,null,null,null,null,null,null,null,null,null,0,"",null,null,null,null,null,null,null,null,null,null,null,null,null,null,null,null,null,null,null,null,null,null,null,null,null,null,null,null,null,null,null,{"$f":"IF(รายชื่อนักเรียน!$F22=\"\",\"\",รายชื่อนักเรียน!$F22)","v":""}]
[{"$f":"รายชื่อนักเรียน!B23","v":0},{"$f":"IF(รายชื่อนักเรียน!E23=\"\",\"\",รายชื่อนักเรียน!E23)","v":""},null,null,null,null,null,null,null,null,null,null,null,null,null,null,null,null,null,null,null,null,null,null,null,null,null,null,null,null,null,null,null,0,"",null,null,null,null,null,null,null,null,null,null,null,null,null,null,null,null,null,null,null,null,null,null,null,null,null,null,null,null,null,null,null,0,"",null,null,null,null,null,null,null,null,null,null,null,null,null,null,null,null,null,null,null,null,null,null,null,null,null,null,null,null,null,null,null,0,"",null,null,null,null,null,null,null,null,null,null,null,null,null,null,null,null,null,null,null,null,null,null,null,null,null,null,null,null,null,null,null,0,"",null,null,null,null,null,null,null,null,null,null,null,null,null,null,null,null,null,null,null,null,null,null,null,null,null,null,null,null,null,null,null,0,"",null,null,null,null,null,null,null,null,null,null,null,null,null,null,null,null,null,null,null,null,null,null,null,null,null,null,null,null,null,null,null,{"$f":"IF(รายชื่อนักเรียน!$F23=\"\",\"\",รายชื่อนักเรียน!$F23)","v":""}]
[{"$f":"รายชื่อนักเรียน!B24","v":0},{"$f":"IF(รายชื่อนักเรียน!E24=\"\",\"\",รายชื่อนักเรียน!E24)","v":""},null,null,null,null,null,null,null,null,null,null,null,null,null,null,null,null,null,null,null,null,null,null,null,null,null,null,null,null,null,null,null,0,"",null,null,null,null,null,null,null,null,null,null,null,null,null,null,null,null,null,null,null,null,null,null,null,null,null,null,null,null,null,null,null,0,"",null,null,null,null,null,null,null,null,null,null,null,null,null,null,null,null,null,null,null,null,null,null,null,null,null,null,null,null,null,null,null,0,"",null,null,null,null,null,null,null,null,null,null,null,null,null,null,null,null,null,null,null,null,null,null,null,null,null,null,null,null,null,null,null,0,"",null,null,null,null,null,null,null,null,null,null,null,null,null,null,null,null,null,null,null,null,null,null,null,null,null,null,null,null,null,null,null,0,"",null,null,null,null,null,null,null,null,null,null,null,null,null,null,null,null,null,null,null,null,null,null,null,null,null,null,null,null,null,null,null,{"$f":"IF(รายชื่อนักเรียน!$F24=\"\",\"\",รายชื่อนักเรียน!$F24)","v":""}]
[{"$f":"รายชื่อนักเรียน!B25","v":0},{"$f":"IF(รายชื่อนักเรียน!E25=\"\",\"\",รายชื่อนักเรียน!E25)","v":""},null,null,null,null,null,null,null,null,null,null,null,null,null,null,null,null,null,null,null,null,null,null,null,null,null,null,null,null,null,null,null,0,"",null,null,null,null,null,null,null,null,null,null,null,null,null,null,null,null,null,null,null,null,null,null,null,null,null,null,null,null,null,null,null,0,"",null,null,null,null,null,null,null,null,null,null,null,null,null,null,null,null,null,null,null,null,null,null,null,null,null,null,null,null,null,null,null,0,"",null,null,null,null,null,null,null,null,null,null,null,null,null,null,null,null,null,null,null,null,null,null,null,null,null,null,null,null,null,null,null,0,"",null,null,null,null,null,null,null,null,null,null,null,null,null,null,null,null,null,null,null,null,null,null,null,null,null,null,null,null,null,null,null,0,"",null,null,null,null,null,null,null,null,null,null,null,null,null,null,null,null,null,null,null,null,null,null,null,null,null,null,null,null,null,null,null,{"$f":"IF(รายชื่อนักเรียน!$F25=\"\",\"\",รายชื่อนักเรียน!$F25)","v":""}]
[{"$f":"รายชื่อนักเรียน!B26","v":0},{"$f":"IF(รายชื่อนักเรียน!E26=\"\",\"\",รายชื่อนักเรียน!E26)","v":""},null,null,null,null,null,null,null,null,null,null,null,null,null,null,null,null,null,null,null,null,null,null,null,null,null,null,null,null,null,null,null,0,"",null,null,null,null,null,null,null,null,null,null,null,null,null,null,null,null,null,null,null,null,null,null,null,null,null,null,null,null,null,null,null,0,"",null,null,null,null,null,null,null,null,null,null,null,null,null,null,null,null,null,null,null,null,null,null,null,null,null,null,null,null,null,null,null,0,"",null,null,null,null,null,null,null,null,null,null,null,null,null,null,null,null,null,null,null,null,null,null,null,null,null,null,null,null,null,null,null,0,"",null,null,null,null,null,null,null,null,null,null,null,null,null,null,null,null,null,null,null,null,null,null,null,null,null,null,null,null,null,null,null,0,"",null,null,null,null,null,null,null,null,null,null,null,null,null,null,null,null,null,null,null,null,null,null,null,null,null,null,null,null,null,null,null,{"$f":"IF(รายชื่อนักเรียน!$F26=\"\",\"\",รายชื่อนักเรียน!$F26)","v":""}]
[{"$f":"รายชื่อนักเรียน!B27","v":0},{"$f":"IF(รายชื่อนักเรียน!E27=\"\",\"\",รายชื่อนักเรียน!E27)","v":""},null,null,null,null,null,null,null,null,null,null,null,null,null,null,null,null,null,null,null,null,null,null,null,null,null,null,null,null,null,null,null,0,"",null,null,null,null,null,null,null,null,null,null,null,null,null,null,null,null,null,null,null,null,null,null,null,null,null,null,null,null,null,null,null,0,"",null,null,null,null,null,null,null,null,null,null,null,null,null,null,null,null,null,null,null,null,null,null,null,null,null,null,null,null,null,null,null,0,"",null,null,null,null,null,null,null,null,null,null,null,null,null,null,null,null,null,null,null,null,null,null,null,null,null,null,null,null,null,null,null,0,"",null,null,null,null,null,null,null,null,null,null,null,null,null,null,null,null,null,null,null,null,null,null,null,null,null,null,null,null,null,null,null,0,"",null,null,null,null,null,null,null,null,null,null,null,null,null,null,null,null,null,null,null,null,null,null,null,null,null,null,null,null,null,null,null,{"$f":"IF(รายชื่อนักเรียน!$F27=\"\",\"\",รายชื่อนักเรียน!$F27)","v":""}]
[{"$f":"รายชื่อนักเรียน!B28","v":0},{"$f":"IF(รายชื่อนักเรียน!E28=\"\",\"\",รายชื่อนักเรียน!E28)","v":""},null,null,null,null,null,null,null,null,null,null,null,null,null,null,null,null,null,null,null,null,null,null,null,null,null,null,null,null,null,null,null,0,"",null,null,null,null,null,null,null,null,null,null,null,null,null,null,null,null,null,null,null,null,null,null,null,null,null,null,null,null,null,null,null,0,"",null,null,null,null,null,null,null,null,null,null,null,null,null,null,null,null,null,null,null,null,null,null,null,null,null,null,null,null,null,null,null,0,"",null,null,null,null,null,null,null,null,null,null,null,null,null,null,null,null,null,null,null,null,null,null,null,null,null,null,null,null,null,null,null,0,"",null,null,null,null,null,null,null,null,null,null,null,null,null,null,null,null,null,null,null,null,null,null,null,null,null,null,null,null,null,null,null,0,"",null,null,null,null,null,null,null,null,null,null,null,null,null,null,null,null,null,null,null,null,null,null,null,null,null,null,null,null,null,null,null,{"$f":"IF(รายชื่อนักเรียน!$F28=\"\",\"\",รายชื่อนักเรียน!$F28)","v":""}]
[{"$f":"รายชื่อนักเรียน!B29","v":0},{"$f":"IF(รายชื่อนักเรียน!E29=\"\",\"\",รายชื่อนักเรียน!E29)","v":""},null,null,null,null,null,null,null,null,null,null,null,null,null,null,null,null,null,null,null,null,null,null,null,null,null,null,null,null,null,null,null,0,"",null,null,null,null,null,null,null,null,null,null,null,null,null,null,null,null,null,null,null,null,null,null,null,null,null,null,null,null,null,null,null,0,"",null,null,null,null,null,null,null,null,null,null,null,null,null,null,null,null,null,null,null,null,null,null,null,null,null,null,null,null,null,null,null,0,"",null,null,null,null,null,null,null,null,null,null,null,null,null,null,null,null,null,null,null,null,null,null,null,null,null,null,null,null,null,null,null,0,"",null,null,null,null,null,null,null,null,null,null,null,null,null,null,null,null,null,null,null,null,null,null,null,null,null,null,null,null,null,null,null,0,"",null,null,null,null,null,null,null,null,null,null,null,null,null,null,null,null,null,null,null,null,null,null,null,null,null,null,null,null,null,null,null,{"$f":"IF(รายชื่อนักเรียน!$F29=\"\",\"\",รายชื่อนักเรียน!$F29)","v":""}]
[{"$f":"รายชื่อนักเรียน!B30","v":0},{"$f":"IF(รายชื่อนักเรียน!E30=\"\",\"\",รายชื่อนักเรียน!E30)","v":""},null,null,null,null,null,null,null,null,null,null,null,null,null,null,null,null,null,null,null,null,null,null,null,null,null,null,null,null,null,null,null,0,"",null,null,null,null,null,null,null,null,null,null,null,null,null,null,null,null,null,null,null,null,null,null,null,null,null,null,null,null,null,null,null,0,"",null,null,null,null,null,null,null,null,null,null,null,null,null,null,null,null,null,null,null,null,null,null,null,null,null,null,null,null,null,null,null,0,"",null,null,null,null,null,null,null,null,null,null,null,null,null,null,null,null,null,null,null,null,null,null,null,null,null,null,null,null,null,null,null,0,"",null,null,null,null,null,null,null,null,null,null,null,null,null,null,null,null,null,null,null,null,null,null,null,null,null,null,null,null,null,null,null,0,"",null,null,null,null,null,null,null,null,null,null,null,null,null,null,null,null,null,null,null,null,null,null,null,null,null,null,null,null,null,null,null,{"$f":"IF(รายชื่อนักเรียน!$F30=\"\",\"\",รายชื่อนักเรียน!$F30)","v":""}]
[{"$f":"รายชื่อนักเรียน!B31","v":0},{"$f":"IF(รายชื่อนักเรียน!E31=\"\",\"\",รายชื่อนักเรียน!E31)","v":""},null,null,null,null,null,null,null,null,null,null,null,null,null,null,null,null,null,null,null,null,null,null,null,null,null,null,null,null,null,null,null,0,"",null,null,null,null,null,null,null,null,null,null,null,null,null,null,null,null,null,null,null,null,null,null,null,null,null,null,null,null,null,null,null,0,"",null,null,null,null,null,null,null,null,null,null,null,null,null,null,null,null,null,null,null,null,null,null,null,null,null,null,null,null,null,null,null,0,"",null,null,null,null,null,null,null,null,null,null,null,null,null,null,null,null,null,null,null,null,null,null,null,null,null,null,null,null,null,null,null,0,"",null,null,null,null,null,null,null,null,null,null,null,null,null,null,null,null,null,null,null,null,null,null,null,null,null,null,null,null,null,null,null,0,"",null,null,null,null,null,null,null,null,null,null,null,null,null,null,null,null,null,null,null,null,null,null,null,null,null,null,null,null,null,null,null,{"$f":"IF(รายชื่อนักเรียน!$F31=\"\",\"\",รายชื่อนักเรียน!$F31)","v":""}]
[{"$f":"รายชื่อนักเรียน!B32","v":0},{"$f":"IF(รายชื่อนักเรียน!E32=\"\",\"\",รายชื่อนักเรียน!E32)","v":""},null,null,null,null,null,null,null,null,null,null,null,null,null,null,null,null,null,null,null,null,null,null,null,null,null,null,null,null,null,null,null,0,"",null,null,null,null,null,null,null,null,null,null,null,null,null,null,null,null,null,null,null,null,null,null,null,null,null,null,null,null,null,null,null,0,"",null,null,null,null,null,null,null,null,null,null,null,null,null,null,null,null,null,null,null,null,null,null,null,null,null,null,null,null,null,null,null,0,"",null,null,null,null,null,null,null,null,null,null,null,null,null,null,null,null,null,null,null,null,null,null,null,null,null,null,null,null,null,null,null,0,"",null,null,null,null,null,null,null,null,null,null,null,null,null,null,null,null,null,null,null,null,null,null,null,null,null,null,null,null,null,null,null,0,"",null,null,null,null,null,null,null,null,null,null,null,null,null,null,null,null,null,null,null,null,null,null,null,null,null,null,null,null,null,null,null,{"$f":"IF(รายชื่อนักเรียน!$F32=\"\",\"\",รายชื่อนักเรียน!$F32)","v":""}]
[{"$f":"รายชื่อนักเรียน!B33","v":0},{"$f":"IF(รายชื่อนักเรียน!E33=\"\",\"\",รายชื่อนักเรียน!E33)","v":""},null,null,null,null,null,null,null,null,null,null,null,null,null,null,null,null,null,null,null,null,null,null,null,null,null,null,null,null,null,null,null,0,"",null,null,null,null,null,null,null,null,null,null,null,null,null,null,null,null,null,null,null,null,null,null,null,null,null,null,null,null,null,null,null,0,"",null,null,null,null,null,null,null,null,null,null,null,null,null,null,null,null,null,null,null,null,null,null,null,null,null,null,null,null,null,null,null,0,"",null,null,null,null,null,null,null,null,null,null,null,null,null,null,null,null,null,null,null,null,null,null,null,null,null,null,null,null,null,null,null,0,"",null,null,null,null,null,null,null,null,null,null,null,null,null,null,null,null,null,null,null,null,null,null,null,null,null,null,null,null,null,null,null,0,"",null,null,null,null,null,null,null,null,null,null,null,null,null,null,null,null,null,null,null,null,null,null,null,null,null,null,null,null,null,null,null,{"$f":"IF(รายชื่อนักเรียน!$F33=\"\",\"\",รายชื่อนักเรียน!$F33)","v":""}]
[{"$f":"รายชื่อนักเรียน!B34","v":0},{"$f":"IF(รายชื่อนักเรียน!E34=\"\",\"\",รายชื่อนักเรียน!E34)","v":""},null,null,null,null,null,null,null,null,null,null,null,null,null,null,null,null,null,null,null,null,null,null,null,null,null,null,null,null,null,null,null,0,"",null,null,null,null,null,null,null,null,null,null,null,null,null,null,null,null,null,null,null,null,null,null,null,null,null,null,null,null,null,null,null,0,"",null,null,null,null,null,null,null,null,null,null,null,null,null,null,null,null,null,null,null,null,null,null,null,null,null,null,null,null,null,null,null,0,"",null,null,null,null,null,null,null,null,null,null,null,null,null,null,null,null,null,null,null,null,null,null,null,null,null,null,null,null,null,null,null,0,"",null,null,null,null,null,null,null,null,null,null,null,null,null,null,null,null,null,null,null,null,null,null,null,null,null,null,null,null,null,null,null,0,"",null,null,null,null,null,null,null,null,null,null,null,null,null,null,null,null,null,null,null,null,null,null,null,null,null,null,null,null,null,null,null,{"$f":"IF(รายชื่อนักเรียน!$F34=\"\",\"\",รายชื่อนักเรียน!$F34)","v":""}]
[{"$f":"รายชื่อนักเรียน!B35","v":0},{"$f":"IF(รายชื่อนักเรียน!E35=\"\",\"\",รายชื่อนักเรียน!E35)","v":""},null,null,null,null,null,null,null,null,null,null,null,null,null,null,null,null,null,null,null,null,null,null,null,null,null,null,null,null,null,null,null,0,"",null,null,null,null,null,null,null,null,null,null,null,null,null,null,null,null,null,null,null,null,null,null,null,null,null,null,null,null,null,null,null,0,"",null,null,null,null,null,null,null,null,null,null,null,null,null,null,null,null,null,null,null,null,null,null,null,null,null,null,null,null,null,null,null,0,"",null,null,null,null,null,null,null,null,null,null,null,null,null,null,null,null,null,null,null,null,null,null,null,null,null,null,null,null,null,null,null,0,"",null,null,null,null,null,null,null,null,null,null,null,null,null,null,null,null,null,null,null,null,null,null,null,null,null,null,null,null,null,null,null,0,"",null,null,null,null,null,null,null,null,null,null,null,null,null,null,null,null,null,null,null,null,null,null,null,null,null,null,null,null,null,null,null,{"$f":"IF(รายชื่อนักเรียน!$F35=\"\",\"\",รายชื่อนักเรียน!$F35)","v":""}]
[{"$f":"รายชื่อนักเรียน!B36","v":0},{"$f":"IF(รายชื่อนักเรียน!E36=\"\",\"\",รายชื่อนักเรียน!E36)","v":""},null,null,null,null,null,null,null,null,null,null,null,null,null,null,null,null,null,null,null,null,null,null,null,null,null,null,null,null,null,null,null,0,"",null,null,null,null,null,null,null,null,null,null,null,null,null,null,null,null,null,null,null,null,null,null,null,null,null,null,null,null,null,null,null,0,"",null,null,null,null,null,null,null,null,null,null,null,null,null,null,null,null,null,null,null,null,null,null,null,null,null,null,null,null,null,null,null,0,"",null,null,null,null,null,null,null,null,null,null,null,null,null,null,null,null,null,null,null,null,null,null,null,null,null,null,null,null,null,null,null,0,"",null,null,null,null,null,null,null,null,null,null,null,null,null,null,null,null,null,null,null,null,null,null,null,null,null,null,null,null,null,null,null,0,"",null,null,null,null,null,null,null,null,null,null,null,null,null,null,null,null,null,null,null,null,null,null,null,null,null,null,null,null,null,null,null,{"$f":"IF(รายชื่อนักเรียน!$F36=\"\",\"\",รายชื่อนักเรียน!$F36)","v":""}]
[{"$f":"รายชื่อนักเรียน!B37","v":0},{"$f":"IF(รายชื่อนักเรียน!E37=\"\",\"\",รายชื่อนักเรียน!E37)","v":""},null,null,null,null,null,null,null,null,null,null,null,null,null,null,null,null,null,null,null,null,null,null,null,null,null,null,null,null,null,null,null,0,"",null,null,null,null,null,null,null,null,null,null,null,null,null,null,null,null,null,null,null,null,null,null,null,null,null,null,null,null,null,null,null,0,"",null,null,null,null,null,null,null,null,null,null,null,null,null,null,null,null,null,null,null,null,null,null,null,null,null,null,null,null,null,null,null,0,"",null,null,null,null,null,null,null,null,null,null,null,null,null,null,null,null,null,null,null,null,null,null,null,null,null,null,null,null,null,null,null,0,"",null,null,null,null,null,null,null,null,null,null,null,null,null,null,null,null,null,null,null,null,null,null,null,null,null,null,null,null,null,null,null,0,"",null,null,null,null,null,null,null,null,null,null,null,null,null,null,null,null,null,null,null,null,null,null,null,null,null,null,null,null,null,null,null,{"$f":"IF(รายชื่อนักเรียน!$F37=\"\",\"\",รายชื่อนักเรียน!$F37)","v":""}]
[{"$f":"รายชื่อนักเรียน!B38","v":0},{"$f":"IF(รายชื่อนักเรียน!E38=\"\",\"\",รายชื่อนักเรียน!E38)","v":""},null,null,null,null,null,null,null,null,null,null,null,null,null,null,null,null,null,null,null,null,null,null,null,null,null,null,null,null,null,null,null,0,"",null,null,null,null,null,null,null,null,null,null,null,null,null,null,null,null,null,null,null,null,null,null,null,null,null,null,null,null,null,null,null,0,"",null,null,null,null,null,null,null,null,null,null,null,null,null,null,null,null,null,null,null,null,null,null,null,null,null,null,null,null,null,null,null,0,"",null,null,null,null,null,null,null,null,null,null,null,null,null,null,null,null,null,null,null,null,null,null,null,null,null,null,null,null,null,null,null,0,"",null,null,null,null,null,null,null,null,null,null,null,null,null,null,null,null,null,null,null,null,null,null,null,null,null,null,null,null,null,null,null,0,"",null,null,null,null,null,null,null,null,null,null,null,null,null,null,null,null,null,null,null,null,null,null,null,null,null,null,null,null,null,null,null,{"$f":"IF(รายชื่อนักเรียน!$F38=\"\",\"\",รายชื่อนักเรียน!$F38)","v":""}]
[{"$f":"รายชื่อนักเรียน!B39","v":0},{"$f":"IF(รายชื่อนักเรียน!E39=\"\",\"\",รายชื่อนักเรียน!E39)","v":""},null,null,null,null,null,null,null,null,null,null,null,null,null,null,null,null,null,null,null,null,null,null,null,null,null,null,null,null,null,null,null,0,"",null,null,null,null,null,null,null,null,null,null,null,null,null,null,null,null,null,null,null,null,null,null,null,null,null,null,null,null,null,null,null,0,"",null,null,null,null,null,null,null,null,null,null,null,null,null,null,null,null,null,null,null,null,null,null,null,null,null,null,null,null,null,null,null,0,"",null,null,null,null,null,null,null,null,null,null,null,null,null,null,null,null,null,null,null,null,null,null,null,null,null,null,null,null,null,null,null,0,"",null,null,null,null,null,null,null,null,null,null,null,null,null,null,null,null,null,null,null,null,null,null,null,null,null,null,null,null,null,null,null,0,"",null,null,null,null,null,null,null,null,null,null,null,null,null,null,null,null,null,null,null,null,null,null,null,null,null,null,null,null,null,null,null,{"$f":"IF(รายชื่อนักเรียน!$F39=\"\",\"\",รายชื่อนักเรียน!$F39)","v":""}]
[{"$f":"รายชื่อนักเรียน!B40","v":0},{"$f":"IF(รายชื่อนักเรียน!E40=\"\",\"\",รายชื่อนักเรียน!E40)","v":""},null,null,null,null,null,null,null,null,null,null,null,null,null,null,null,null,null,null,null,null,null,null,null,null,null,null,null,null,null,null,null,0,"",null,null,null,null,null,null,null,null,null,null,null,null,null,null,null,null,null,null,null,null,null,null,null,null,null,null,null,null,null,null,null,0,"",null,null,null,null,null,null,null,null,null,null,null,null,null,null,null,null,null,null,null,null,null,null,null,null,null,null,null,null,null,null,null,0,"",null,null,null,null,null,null,null,null,null,null,null,null,null,null,null,null,null,null,null,null,null,null,null,null,null,null,null,null,null,null,null,0,"",null,null,null,null,null,null,null,null,null,null,null,null,null,null,null,null,null,null,null,null,null,null,null,null,null,null,null,null,null,null,null,0,"",null,null,null,null,null,null,null,null,null,null,null,null,null,null,null,null,null,null,null,null,null,null,null,null,null,null,null,null,null,null,null,{"$f":"IF(รายชื่อนักเรียน!$F40=\"\",\"\",รายชื่อนักเรียน!$F40)","v":""}]
[{"$f":"รายชื่อนักเรียน!B41","v":0},{"$f":"IF(รายชื่อนักเรียน!E41=\"\",\"\",รายชื่อนักเรียน!E41)","v":""},null,null,null,null,null,null,null,null,null,null,null,null,null,null,null,null,null,null,null,null,null,null,null,null,null,null,null,null,null,null,null,0,"",null,null,null,null,null,null,null,null,null,null,null,null,null,null,null,null,null,null,null,null,null,null,null,null,null,null,null,null,null,null,null,0,"",null,null,null,null,null,null,null,null,null,null,null,null,null,null,null,null,null,null,null,null,null,null,null,null,null,null,null,null,null,null,null,0,"",null,null,null,null,null,null,null,null,null,null,null,null,null,null,null,null,null,null,null,null,null,null,null,null,null,null,null,null,null,null,null,0,"",null,null,null,null,null,null,null,null,null,null,null,null,null,null,null,null,null,null,null,null,null,null,null,null,null,null,null,null,null,null,null,0,"",null,null,null,null,null,null,null,null,null,null,null,null,null,null,null,null,null,null,null,null,null,null,null,null,null,null,null,null,null,null,null,{"$f":"IF(รายชื่อนักเรียน!$F41=\"\",\"\",รายชื่อนักเรียน!$F41)","v":""}]
[{"$f":"รายชื่อนักเรียน!B42","v":0},{"$f":"IF(รายชื่อนักเรียน!E42=\"\",\"\",รายชื่อนักเรียน!E42)","v":""},null,null,null,null,null,null,null,null,null,null,null,null,null,null,null,null,null,null,null,null,null,null,null,null,null,null,null,null,null,null,null,0,"",null,null,null,null,null,null,null,null,null,null,null,null,null,null,null,null,null,null,null,null,null,null,null,null,null,null,null,null,null,null,null,0,"",null,null,null,null,null,null,null,null,null,null,null,null,null,null,null,null,null,null,null,null,null,null,null,null,null,null,null,null,null,null,null,0,"",null,null,null,null,null,null,null,null,null,null,null,null,null,null,null,null,null,null,null,null,null,null,null,null,null,null,null,null,null,null,null,0,"",null,null,null,null,null,null,null,null,null,null,null,null,null,null,null,null,null,null,null,null,null,null,null,null,null,null,null,null,null,null,null,0,"",null,null,null,null,null,null,null,null,null,null,null,null,null,null,null,null,null,null,null,null,null,null,null,null,null,null,null,null,null,null,null,{"$f":"IF(รายชื่อนักเรียน!$F42=\"\",\"\",รายชื่อนักเรียน!$F42)","v":""}]
[{"$f":"รายชื่อนักเรียน!B43","v":0},{"$f":"IF(รายชื่อนักเรียน!E43=\"\",\"\",รายชื่อนักเรียน!E43)","v":""},null,null,null,null,null,null,null,null,null,null,null,null,null,null,null,null,null,null,null,null,null,null,null,null,null,null,null,null,null,null,null,0,"",null,null,null,null,null,null,null,null,null,null,null,null,null,null,null,null,null,null,null,null,null,null,null,null,null,null,null,null,null,null,null,0,"",null,null,null,null,null,null,null,null,null,null,null,null,null,null,null,null,null,null,null,null,null,null,null,null,null,null,null,null,null,null,null,0,"",null,null,null,null,null,null,null,null,null,null,null,null,null,null,null,null,null,null,null,null,null,null,null,null,null,null,null,null,null,null,null,0,"",null,null,null,null,null,null,null,null,null,null,null,null,null,null,null,null,null,null,null,null,null,null,null,null,null,null,null,null,null,null,null,0,"",null,null,null,null,null,null,null,null,null,null,null,null,null,null,null,null,null,null,null,null,null,null,null,null,null,null,null,null,null,null,null,{"$f":"IF(รายชื่อนักเรียน!$F43=\"\",\"\",รายชื่อนักเรียน!$F43)","v":""}]
[{"$f":"รายชื่อนักเรียน!B44","v":0},{"$f":"IF(รายชื่อนักเรียน!E44=\"\",\"\",รายชื่อนักเรียน!E44)","v":""},null,null,null,null,null,null,null,null,null,null,null,null,null,null,null,null,null,null,null,null,null,null,null,null,null,null,null,null,null,null,null,0,"",null,null,null,null,null,null,null,null,null,null,null,null,null,null,null,null,null,null,null,null,null,null,null,null,null,null,null,null,null,null,null,0,"",null,null,null,null,null,null,null,null,null,null,null,null,null,null,null,null,null,null,null,null,null,null,null,null,null,null,null,null,null,null,null,0,"",null,null,null,null,null,null,null,null,null,null,null,null,null,null,null,null,null,null,null,null,null,null,null,null,null,null,null,null,null,null,null,0,"",null,null,null,null,null,null,null,null,null,null,null,null,null,null,null,null,null,null,null,null,null,null,null,null,null,null,null,null,null,null,null,0,"",null,null,null,null,null,null,null,null,null,null,null,null,null,null,null,null,null,null,null,null,null,null,null,null,null,null,null,null,null,null,null,{"$f":"IF(รายชื่อนักเรียน!$F44=\"\",\"\",รายชื่อนักเรียน!$F44)","v":""}]
[{"$f":"รายชื่อนักเรียน!B45","v":0},{"$f":"IF(รายชื่อนักเรียน!E45=\"\",\"\",รายชื่อนักเรียน!E45)","v":""},null,null,null,null,null,null,null,null,null,null,null,null,null,null,null,null,null,null,null,null,null,null,null,null,null,null,null,null,null,null,null,0,"",null,null,null,null,null,null,null,null,null,null,null,null,null,null,null,null,null,null,null,null,null,null,null,null,null,null,null,null,null,null,null,0,"",null,null,null,null,null,null,null,null,null,null,null,null,null,null,null,null,null,null,null,null,null,null,null,null,null,null,null,null,null,null,null,0,"",null,null,null,null,null,null,null,null,null,null,null,null,null,null,null,null,null,null,null,null,null,null,null,null,null,null,null,null,null,null,null,0,"",null,null,null,null,null,null,null,null,null,null,null,null,null,null,null,null,null,null,null,null,null,null,null,null,null,null,null,null,null,null,null,0,"",null,null,null,null,null,null,null,null,null,null,null,null,null,null,null,null,null,null,null,null,null,null,null,null,null,null,null,null,null,null,null,{"$f":"IF(รายชื่อนักเรียน!$F45=\"\",\"\",รายชื่อนักเรียน!$F45)","v":""}]
[{"$f":"รายชื่อนักเรียน!B46","v":0},{"$f":"IF(รายชื่อนักเรียน!E46=\"\",\"\",รายชื่อนักเรียน!E46)","v":""},null,null,null,null,null,null,null,null,null,null,null,null,null,null,null,null,null,null,null,null,null,null,null,null,null,null,null,null,null,null,null,{"$f":"A47","v":0},{"$f":"B47","v":""},null,null,null,null,null,null,null,null,null,null,null,null,null,null,null,null,null,null,null,null,null,null,null,null,null,null,null,null,null,null,null,{"$f":"AH47","v":0},{"$f":"AI47","v":""},null,null,null,null,null,null,null,null,null,null,null,null,null,null,null,null,null,null,null,null,null,null,null,null,null,null,null,null,null,null,null,{"$f":"BO47","v":0},{"$f":"BP47","v":""},null,null,null,null,null,null,null,null,null,null,null,null,null,null,null,null,null,null,null,null,null,null,null,null,null,null,null,null,null,null,null,{"$f":"CV47","v":0},{"$f":"CW47","v":""},null,null,null,null,null,null,null,null,null,null,null,null,null,null,null,null,null,null,null,null,null,null,null,null,null,null,null,null,null,null,null,{"$f":"EC47","v":0},{"$f":"ED47","v":""},null,null,null,null,null,null,null,null,null,null,null,null,null,null,null,null,null,null,null,null,null,null,null,null,null,null,null,null,null,null,null,{"$f":"IF(รายชื่อนักเรียน!$F46=\"\",\"\",รายชื่อนักเรียน!$F46)","v":""}]
[{"$f":"รายชื่อนักเรียน!B47","v":0},{"$f":"IF(รายชื่อนักเรียน!E47=\"\",\"\",รายชื่อนักเรียน!E47)","v":""},null,null,null,null,null,null,null,null,null,null,null,null,null,null,null,null,null,null,null,null,null,null,null,null,null,null,null,null,null,null,null,0,"",null,null,null,null,null,null,null,null,null,null,null,null,null,null,null,null,null,null,null,null,null,null,null,null,null,null,null,null,null,null,null,0,"",null,null,null,null,null,null,null,null,null,null,null,null,null,null,null,null,null,null,null,null,null,null,null,null,null,null,null,null,null,null,null,0,"",null,null,null,null,null,null,null,null,null,null,null,null,null,null,null,null,null,null,null,null,null,null,null,null,null,null,null,null,null,null,null,0,"",null,null,null,null,null,null,null,null,null,null,null,null,null,null,null,null,null,null,null,null,null,null,null,null,null,null,null,null,null,null,null,0,"",null,null,null,null,null,null,null,null,null,null,null,null,null,null,null,null,null,null,null,null,null,null,null,null,null,null,null,null,null,null,null,{"$f":"IF(รายชื่อนักเรียน!$F47=\"\",\"\",รายชื่อนักเรียน!$F47)","v":""}]
[{"$f":"รายชื่อนักเรียน!B48","v":0},{"$f":"IF(รายชื่อนักเรียน!E48=\"\",\"\",รายชื่อนักเรียน!E48)","v":""},null,null,null,null,null,null,null,null,null,null,null,null,null,null,null,null,null,null,null,null,null,null,null,null,null,null,null,null,null,null,null,0,"",null,null,null,null,null,null,null,null,null,null,null,null,null,null,null,null,null,null,null,null,null,null,null,null,null,null,null,null,null,null,null,0,"",null,null,null,null,null,null,null,null,null,null,null,null,null,null,null,null,null,null,null,null,null,null,null,null,null,null,null,null,null,null,null,0,"",null,null,null,null,null,null,null,null,null,null,null,null,null,null,null,null,null,null,null,null,null,null,null,null,null,null,null,null,null,null,null,0,"",null,null,null,null,null,null,null,null,null,null,null,null,null,null,null,null,null,null,null,null,null,null,null,null,null,null,null,null,null,null,null,0,"",null,null,null,null,null,null,null,null,null,null,null,null,null,null,null,null,null,null,null,null,null,null,null,null,null,null,null,null,null,null,null,{"$f":"IF(รายชื่อนักเรียน!$F48=\"\",\"\",รายชื่อนักเรียน!$F48)","v":""}]
[{"$f":"รายชื่อนักเรียน!B49","v":0},{"$f":"IF(รายชื่อนักเรียน!E49=\"\",\"\",รายชื่อนักเรียน!E49)","v":""},null,null,null,null,null,null,null,null,null,null,null,null,null,null,null,null,null,null,null,null,null,null,null,null,null,null,null,null,null,null,null,0,"",null,null,null,null,null,null,null,null,null,null,null,null,null,null,null,null,null,null,null,null,null,null,null,null,null,null,null,null,null,null,null,0,"",null,null,null,null,null,null,null,null,null,null,null,null,null,null,null,null,null,null,null,null,null,null,null,null,null,null,null,null,null,null,null,0,"",null,null,null,null,null,null,null,null,null,null,null,null,null,null,null,null,null,null,null,null,null,null,null,null,null,null,null,null,null,null,null,0,"",null,null,null,null,null,null,null,null,null,null,null,null,null,null,null,null,null,null,null,null,null,null,null,null,null,null,null,null,null,null,null,0,"",null,null,null,null,null,null,null,null,null,null,null,null,null,null,null,null,null,null,null,null,null,null,null,null,null,null,null,null,null,null,null,{"$f":"IF(รายชื่อนักเรียน!$F49=\"\",\"\",รายชื่อนักเรียน!$F49)","v":""}]
[{"$f":"รายชื่อนักเรียน!B50","v":0},{"$f":"IF(รายชื่อนักเรียน!E50=\"\",\"\",รายชื่อนักเรียน!E50)","v":""},null,null,null,null,null,null,null,null,null,null,null,null,null,null,null,null,null,null,null,null,null,null,null,null,null,null,null,null,null,null,null,0,"",null,null,null,null,null,null,null,null,null,null,null,null,null,null,null,null,null,null,null,null,null,null,null,null,null,null,null,null,null,null,null,0,"",null,null,null,null,null,null,null,null,null,null,null,null,null,null,null,null,null,null,null,null,null,null,null,null,null,null,null,null,null,null,null,0,"",null,null,null,null,null,null,null,null,null,null,null,null,null,null,null,null,null,null,null,null,null,null,null,null,null,null,null,null,null,null,null,0,"",null,null,null,null,null,null,null,null,null,null,null,null,null,null,null,null,null,null,null,null,null,null,null,null,null,null,null,null,null,null,null,0,"",null,null,null,null,null,null,null,null,null,null,null,null,null,null,null,null,null,null,null,null,null,null,null,null,null,null,null,null,null,null,null,{"$f":"IF(รายชื่อนักเรียน!$F50=\"\",\"\",รายชื่อนักเรียน!$F50)","v":""}]
[null,"วันหยุด",null,null,null,null,null,null,null,null,null,null,null,null,null,null,null,null,null,null,null,null,null,null,null,null,null,null,null,null,null,null,null,null,"วันหยุด",null,null,null,null,null,null,null,null,null,null,null,null,null,null,null,null,null,null,null,null,null,null,null,null,null,null,null,null,null,null,null,null,"วันหยุด",null,null,null,null,null,null,null,null,null,null,null,null,null,null,null,null,null,null,null,null,null,null,null,null,null,null,null,null,null,null,null,null,"วันหยุด",null,null,null,null,null,null,null,null,null,null,null,null,null,null,null,null,null,null,null,null,null,null,null,null,null,null,null,null,null,null,null,null,"วันหยุด",null,null,null,null,null,null,null,null,null,null,null,null,null,null,null,null,null,null,null,null,null,null,null,null,null,null,null,null,null,null,null,null,"วันหยุด"]
[]
[null,null,"หมายเหตุ :","ลาป่วย = ป   ,  ลากิจ = ล   ,  ขาดเรียน  =  ข   ,   มาเรียน  =   /",null,null,null,null,null,null,null,null,null,null,null,null,null,null,null,null,null,null,null,null,null,null,null,null,null,null,null,null,null,null,null,"หมายเหตุ :","ลาป่วย = ป   ,  ลากิจ = ล   ,  ขาดเรียน  =  ข   ,   มาเรียน  =   /",null,null,null,null,null,null,null,null,null,null,null,null,null,null,null,null,null,null,null,null,null,null,null,null,null,null,null,null,null,null,null,"หมายเหตุ :","ลาป่วย = ป   ,  ลากิจ = ล   ,  ขาดเรียน  =  ข   ,   มาเรียน  =   /",null,null,null,null,null,null,null,null,null,null,null,null,null,null,null,null,null,null,null,null,null,null,null,null,null,null,null,null,null,null,null,"หมายเหตุ :","ลาป่วย = ป   ,  ลากิจ = ล   ,  ขาดเรียน  =  ข   ,   มาเรียน  =   /",null,null,null,null,null,null,null,null,null,null,null,null,null,null,null,null,null,null,null,null,null,null,null,null,null,null,null,null,null,null,null,"หมายเหตุ :","ลาป่วย = ป   ,  ลากิจ = ล   ,  ขาดเรียน  =  ข   ,   มาเรียน  =   /",null,null,null,null,null,null,null,null,null,null,null,null,null,null,null,null,null,null,null,null,null,null,null,null,null,null,null,null,null,null,null,"หมายเหตุ :","ลาป่วย = ป   ,  ลากิจ = ล   ,  ขาดเรียน  =  ข   ,   มาเรียน  =   /"]

{"sheet":"บันทึกเวลาเรียนT2","index":6,"n_rows":54,"n_cols":202,"rows_kept":54,"cut":false,"hidden":false,"merged":[[50,1,50,2],[50,34,50,35],[50,67,50,68],[50,100,50,101],[50,133,50,134],[50,166,50,167],[48,1,48,2],[48,34,48,35],[48,67,48,68],[48,100,48,101],[48,133,48,134],[48,166,48,167],[49,1,49,2],[49,34,49,35],[49,67,49,68],[49,100,49,101],[49,133,49,134],[49,166,49,167],[43,166,43,167],[44,166,44,167],[37,100,37,101],[38,100,38,101],[39,100,39,101],[40,133,40,134],[41,133,41,134],[42,133,42,134],[43,133,43,134],[44,133,44,134],[40,100,40,101],[41,100,41,101],[42,100,42,101],[43,100,43,101],[44,100,44,101],[1,198,5,198],[51,1,51,2],[51,3,51,32],[51,34,51,35],[51,36,51,65],[51,67,51,68],[51,69,51,98],[51,100,51,101],[51,102,51,131],[51,133,51,134],[51,135,51,164],[51,166,51,167],[51,168,51,197],[37,166,37,167],[38,166,38,167],[39,166,39,167],[40,166,40,167],[41,166,41,167],[42,166,42,167],[40,67,40,68],[41,67,41,68],[42,67,42,68],[43,67,43,68],[44,67,44,68],[52,3,52,32],[52,36,52,65],[52,69,52,98],[52,102,52,131],[52,135,52,164],[52,168,52,197],[45,1,45,2],[45,34,45,35],[45,67,45,68],[45,100,45,101],[45,133,45,134],[45,166,45,167],[46,1,46,2],[46,34,46,35],[46,67,46,68],[46,100,46,101],[46,133,46,134],[46,166,46,167],[47,1,47,2],[47,34,47,35],[47,67,47,68],[47,100,47,101],[47,133,47,134],[47,166,47,167],[36,1,36,2],[36,34,36,35],[36,67,36,68],[36,100,36,101],[36,133,36,134],[36,166,36,167],[37,1,37,2],[38,1,38,2],[39,1,39,2],[37,67,37,68],[38,67,38,68],[39,67,39,68],[37,133,37,134],[38,133,38,134],[39,133,39,134],[40,1,40,2],[41,1,41,2],[42,1,42,2],[43,1,43,2],[44,1,44,2],[37,34,37,35],[38,34,38,35],[39,34,39,35],[40,34,40,35],[41,34,41,35],[42,34,42,35],[43,34,43,35],[44,34,44,35],[35,1,35,2],[35,34,35,35],[35,67,35,68],[35,100,35,101],[35,133,35,134],[35,166,35,167],[34,1,34,2],[34,34,34,35],[34,67,34,68],[34,100,34,101],[34,133,34,134],[34,166,34,167],[33,1,33,2],[33,34,33,35],[33,67,33,68],[33,100,33,101],[33,133,33,134],[33,166,33,167],[32,1,32,2],[32,34,32,35],[32,67,32,68],[32,100,32,101],[32,133,32,134],[32,166,32,167],[31,1,31,2],[31,34,31,35],[31,67,31,68],[31,100,31,101],[31,133,31,134],[31,166,31,167],[30,1,30,2],[30,34,30,35],[30,67,30,68],[30,100,30,101],[30,133,30,134],[30,166,30,167],[29,1,29,2],[29,34,29,35],[29,67,29,68],[29,100,29,101],[29,133,29,134],[29,166,29,167],[28,1,28,2],[28,34,28,35],[28,67,28,68],[28,100,28,101],[28,133,28,134],[28,166,28,167],[27,1,27,2],[27,34,27,35],[27,67,27,68],[27,100,27,101],[27,133,27,134],[27,166,27,167],[26,1,26,2],[26,34,26,35],[26,67,26,68],[26,100,26,101],[26,133,26,134],[26,166,26,167],[25,1,25,2],[25,34,25,35],[25,67,25,68],[25,100,25,101],[25,133,25,134],[25,166,25,167],[24,1,24,2],[24,34,24,35],[24,67,24,68],[24,100,24,101],[24,133,24,134],[24,166,24,167],[23,1,23,2],[23,34,23,35],[23,67,23,68],[23,100,23,101],[23,133,23,134],[23,166,23,167],[22,1,22,2],[22,34,22,35],[22,67,22,68],[22,100,22,101],[22,133,22,134],[22,166,22,167],[21,1,21,2],[21,34,21,35],[21,67,21,68],[21,100,21,101],[21,133,21,134],[21,166,21,167],[20,1,20,2],[20,34,20,35],[20,67,20,68],[20,100,20,101],[20,133,20,134],[20,166,20,167],[19,1,19,2],[19,34,19,35],[19,67,19,68],[19,100,19,101],[19,133,19,134],[19,166,19,167],[18,1,18,2],[18,34,18,35],[18,67,18,68],[18,100,18,101],[18,133,18,134],[18,166,18,167],[17,1,17,2],[17,34,17,35],[17,67,17,68],[17,100,17,101],[17,133,17,134],[17,166,17,167],[16,1,16,2],[16,34,16,35],[16,67,16,68],[16,100,16,101],[16,133,16,134],[16,166,16,167],[15,1,15,2],[15,34,15,35],[15,67,15,68],[15,100,15,101],[15,133,15,134],[15,166,15,167],[14,1,14,2],[14,34,14,35],[14,67,14,68],[14,100,14,101],[14,133,14,134],[14,166,14,167],[13,1,13,2],[13,34,13,35],[13,67,13,68],[13,100,13,101],[13,133,13,134],[13,166,13,167],[12,1,12,2],[12,34,12,35],[12,67,12,68],[12,100,12,101],[12,133,12,134],[12,166,12,167],[11,1,11,2],[11,34,11,35],[11,67,11,68],[11,100,11,101],[11,133,11,134],[11,166,11,167],[10,1,10,2],[10,34,10,35],[10,67,10,68],[10,100,10,101],[10,133,10,134],[10,166,10,167],[9,1,9,2],[9,34,9,35],[9,67,9,68],[9,100,9,101],[9,133,9,134],[9,166,9,167],[8,1,8,2],[8,34,8,35],[8,67,8,68],[8,100,8,101],[8,133,8,134],[8,166,8,167],[7,1,7,2],[7,34,7,35],[7,67,7,68],[7,100,7,101],[7,133,7,134],[7,166,7,167],[6,1,6,2],[6,34,6,35],[6,67,6,68],[6,100,6,101],[6,133,6,134],[6,166,6,167],[1,192,3,192],[1,193,3,193],[1,194,3,194],[1,195,3,195],[1,196,3,196],[1,197,3,197],[1,186,3,186],[1,187,3,187],[1,188,3,188],[1,189,3,189],[1,190,3,190],[1,191,3,191],[1,180,3,180],[1,181,3,181],[1,182,3,182],[1,183,3,183],[1,184,3,184],[1,185,3,185],[1,174,3,174],[1,175,3,175],[1,176,3,176],[1,177,3,177],[1,178,3,178],[1,179,3,179],[1,168,3,168],[1,169,3,169],[1,170,3,170],[1,171,3,171],[1,172,3,172],[1,173,3,173],[1,162,3,162],[1,163,3,163],[1,164,3,164],[1,165,5,165],[1,166,5,166],[1,167,3,167],[1,156,3,156],[1,157,3,157],[1,158,3,158],[1,159,3,159],[1,160,3,160],[1,161,3,161],[1,150,3,150],[1,151,3,151],[1,152,3,152],[1,153,3,153],[1,154,3,154],[1,155,3,155],[1,144,3,144],[1,145,3,145],[1,146,3,146],[1,147,3,147],[1,148,3,148],[1,149,3,149],[1,138,3,138],[1,139,3,139],[1,140,3,140],[1,141,3,141],[1,142,3,142],[1,143,3,143],[1,132,5,132],[1,133,5,133],[1,134,3,134],[1,135,3,135],[1,136,3,136],[1,137,3,137],[1,126,3,126],[1,127,3,127],[1,128,3,128],[1,129,3,129],[1,130,3,130],[1,131,3,131],[1,120,3,120],[1,121,3,121],[1,122,3,122],[1,123,3,123],[1,124,3,124],[1,125,3,125],[1,114,3,114],[1,115,3,115],[1,116,3,116],[1,117,3,117],[1,118,3,118],[1,119,3,119],[1,108,3,108],[1,109,3,109],[1,110,3,110],[1,111,3,111],[1,112,3,112],[1,113,3,113],[1,102,3,102],[1,103,3,103],[1,104,3,104],[1,105,3,105],[1,106,3,106],[1,107,3,107],[1,96,3,96],[1,97,3,97],[1,98,3,98],[1,99,5,99],[1,100,5,100],[1,101,3,101],[1,90,3,90],[1,91,3,91],[1,92,3,92],[1,93,3,93],[1,94,3,94],[1,95,3,95],[1,84,3,84],[1,85,3,85],[1,86,3,86],[1,87,3,87],[1,88,3,88],[1,89,3,89],[1,78,3,78],[1,79,3,79],[1,80,3,80],[1,81,3,81],[1,82,3,82],[1,83,3,83],[1,72,3,72],[1,73,3,73],[1,74,3,74],[1,75,3,75],[1,76,3,76],[1,77,3,77],[1,66,5,66],[1,67,5,67],[1,68,3,68],[1,69,3,69],[1,70,3,70],[1,71,3,71],[1,60,3,60],[1,61,3,61],[1,62,3,62],[1,63,3,63],[1,64,3,64],[1,65,3,65],[1,54,3,54],[1,55,3,55],[1,56,3,56],[1,57,3,57],[1,58,3,58],[1,59,3,59],[1,48,3,48],[1,49,3,49],[1,50,3,50],[1,51,3,51],[1,52,3,52],[1,53,3,53],[1,42,3,42],[1,43,3,43],[1,44,3,44],[1,45,3,45],[1,46,3,46],[1,47,3,47],[1,36,3,36],[1,37,3,37],[1,38,3,38],[1,39,3,39],[1,40,3,40],[1,41,3,41],[1,30,3,30],[1,31,3,31],[1,32,3,32],[1,33,5,33],[1,34,5,34],[1,35,3,35],[1,24,3,24],[1,25,3,25],[1,26,3,26],[1,27,3,27],[1,28,3,28],[1,29,3,29],[1,18,3,18],[1,19,3,19],[1,20,3,20],[1,21,3,21],[1,22,3,22],[1,23,3,23],[0,99,0,131],[0,132,0,164],[0,165,0,197],[1,0,5,0],[1,1,5,1],[1,2,3,2],[1,3,3,3],[1,4,3,4],[1,5,3,5],[0,0,0,32],[0,33,0,65],[0,66,0,98],[1,12,3,12],[1,13,3,13],[1,14,3,14],[1,15,3,15],[1,16,3,16],[1,17,3,17],[1,6,3,6],[1,7,3,7],[1,8,3,8],[1,9,3,9],[1,10,3,10],[1,11,3,11]]}
[{"$f":"\"บันทึกเวลาเรียน วิชา\"&ตั้งค่า!C18&\"  ชั้น\"&ตั้งค่า!C17&\" ภาคเรียนที่ 2 \"&\"ปีการศึกษา \"&ตั้งค่า!C11","v":"บันทึกเวลาเรียน วิชา  ชั้น ภาคเรียนที่ 2 ปีการศึกษา "},null,null,null,null,null,null,null,null,null,null,null,null,null,null,null,null,null,null,null,null,null,null,null,null,null,null,null,null,null,null,null,null,{"$f":"A1","v":"บันทึกเวลาเรียน วิชา  ชั้น ภาคเรียนที่ 2 ปีการศึกษา "},null,null,null,null,null,null,null,null,null,null,null,null,null,null,null,null,null,null,null,null,null,null,null,null,null,null,null,null,null,null,null,null,{"$f":"AH1","v":"บันทึกเวลาเรียน วิชา  ชั้น ภาคเรียนที่ 2 ปีการศึกษา "},null,null,null,null,null,null,null,null,null,null,null,null,null,null,null,null,null,null,null,null,null,null,null,null,null,null,null,null,null,null,null,null,{"$f":"BO1","v":"บันทึกเวลาเรียน วิชา  ชั้น ภาคเรียนที่ 2 ปีการศึกษา "},null,null,null,null,null,null,null,null,null,null,null,null,null,null,null,null,null,null,null,null,null,null,null,null,null,null,null,null,null,null,null,null,{"$f":"CV1","v":"บันทึกเวลาเรียน วิชา  ชั้น ภาคเรียนที่ 2 ปีการศึกษา "},null,null,null,null,null,null,null,null,null,null,null,null,null,null,null,null,null,null,null,null,null,null,null,null,null,null,null,null,null,null,null,null,{"$f":"EC1","v":"บันทึกเวลาเรียน วิชา  ชั้น ภาคเรียนที่ 2 ปีการศึกษา "},null,null,null,null,null,null,null,null,null,null,null,null,null,null,null,null,null,null,null,null,null,null,null,null,null,null,null,null,null,null,null,null,null,"ย"]
["ที่","ชื่อ-สกุล","วัน เดือน ปี","","","","","","","","","","","","","","","","","","","","","","","","","","","","","","","ที่",{"$f":"B2","v":"ชื่อ-สกุล"},{"$f":"C2","v":"วัน เดือน ปี"},null,null,null,null,null,null,null,null,null,null,null,null,null,null,null,null,null,null,null,null,null,null,null,null,null,null,null,null,null,null,"ที่",{"$f":"AI2","v":"ชื่อ-สกุล"},{"$f":"AJ2","v":"วัน เดือน ปี"},null,null,null,null,null,null,null,null,null,null,null,null,null,null,null,null,null,null,null,null,null,null,null,null,null,null,null,null,null,null,"ที่",{"$f":"BP2","v":"ชื่อ-สกุล"},{"$f":"BQ2","v":"วัน เดือน ปี"},null,null,null,null,null,null,null,null,null,null,null,null,null,null,null,null,null,null,null,null,null,null,null,null,null,null,null,null,null,null,"ที่",{"$f":"CW2","v":"ชื่อ-สกุล"},{"$f":"CX2","v":"วัน เดือน ปี"},null,null,null,null,null,null,null,null,null,null,null,null,null,null,null,null,null,null,null,null,null,null,null,null,null,null,null,null,null,null,"ที่",{"$f":"ED2","v":"ชื่อ-สกุล"},{"$f":"EE2","v":"วัน เดือน ปี"},null,null,null,null,null,null,null,null,null,null,null,null,null,null,null,null,null,null,null,null,null,null,null,null,null,null,null,null,null,null,"หมายเหตุ"]
[]
[]
[null,null,"วัน",null,null,null,null,null,null,null,null,null,null,null,null,null,null,null,null,null,null,null,null,null,null,null,null,null,null,null,null,null,null,null,null,{"$f":"C5","v":"วัน"},null,null,null,null,null,null,null,null,null,null,null,null,null,null,null,null,null,null,null,null,null,null,null,null,null,null,null,null,null,null,null,null,{"$f":"AJ5","v":"วัน"},null,null,null,null,null,null,null,null,null,null,null,null,null,null,null,null,null,null,null,null,null,null,null,null,null,null,null,null,null,null,null,null,{"$f":"BQ5","v":"วัน"},null,null,null,null,null,null,null,null,null,null,null,null,null,null,null,null,null,null,null,null,null,null,null,null,null,null,null,null,null,null,null,null,{"$f":"CX5","v":"วัน"},null,null,null,null,null,null,null,null,null,null,null,null,null,null,null,null,null,null,null,null,null,null,null,null,null,null,null,null,null,null,null,null,{"$f":"EE5","v":"วัน"}]
[null,null,"จำนวนคาบ",null,null,null,null,null,null,null,null,null,null,null,null,null,null,null,null,null,null,null,null,null,null,null,null,null,null,null,null,null,null,null,null,{"$f":"C6","v":"จำนวนคาบ"},null,null,null,null,null,null,null,null,null,null,null,null,null,null,null,null,null,null,null,null,null,null,null,null,null,null,null,null,null,null,null,null,{"$f":"AJ6","v":"จำนวนคาบ"},null,null,null,null,null,null,null,null,null,null,null,null,null,null,null,null,null,null,null,null,null,null,null,null,null,null,null,null,null,null,null,null,{"$f":"BQ6","v":"จำนวนคาบ"},null,null,null,null,null,null,null,null,null,null,null,null,null,null,null,null,null,null,null,null,null,null,null,null,null,null,null,null,null,null,null,null,{"$f":"CX6","v":"จำนวนคาบ"},null,null,null,null,null,null,null,null,null,null,null,null,null,null,null,null,null,null,null,null,null,null,null,null,null,null,null,null,null,null,null,null,{"$f":"EE6","v":"จำนวนคาบ"}]
[{"$f":"รายชื่อนักเรียน!B6","v":0},{"$f":"IF(รายชื่อนักเรียน!E6=\"\",\"\",รายชื่อนักเรียน!E6)","v":""},null,null,null,null,null,null,null,null,null,null,null,null,null,null,null,null,null,null,null,null,null,null,null,null,null,null,null,null,null,null,null,{"$f":"A7","v":0},{"$f":"B7","v":""},null,null,null,null,null,null,null,null,null,null,null,null,null,null,null,null,null,null,null,null,null,null,null,null,null,null,null,null,null,null,null,{"$f":"AH7","v":0},{"$f":"AI7","v":""},null,null,null,null,null,null,null,null,null,null,null,null,null,null,null,null,null,null,null,null,null,null,null,null,null,null,null,null,null,null,null,{"$f":"BO7","v":0},{"$f":"BP7","v":""},null,null,null,null,null,null,null,null,null,null,null,null,null,null,null,null,null,null,null,null,null,null,null,null,null,null,null,null,null,null,null,{"$f":"CV7","v":0},{"$f":"CW7","v":""},null,null,null,null,null,null,null,null,null,null,null,null,null,null,null,null,null,null,null,null,null,null,null,null,null,null,null,null,null,null,null,{"$f":"CV7","v":0},{"$f":"ED7","v":""},null,null,null,null,null,null,null,null,null,null,null,null,null,null,null,null,null,null,null,null,null,null,null,null,null,null,null,null,null,null,null,{"$f":"IF(รายชื่อนักเรียน!$F6=\"\",\"\",รายชื่อนักเรียน!$F6)","v":""},null,null,"ย้าย"]
[{"$f":"รายชื่อนักเรียน!B7","v":0},{"$f":"IF(รายชื่อนักเรียน!E7=\"\",\"\",รายชื่อนักเรียน!E7)","v":""},null,null,null,null,null,null,null,null,null,null,null,null,null,null,null,null,null,null,null,null,null,null,null,null,null,null,null,null,null,null,null,{"$f":"A8","v":0},{"$f":"B8","v":""},null,null,null,null,null,null,null,null,null,null,null,null,null,null,null,null,null,null,null,null,null,null,null,null,null,null,null,null,null,null,null,{"$f":"AH8","v":0},{"$f":"AI8","v":""},null,null,null,null,null,null,null,null,null,null,null,null,null,null,null,null,null,null,null,null,null,null,null,null,null,null,null,null,null,null,null,{"$f":"BO8","v":0},{"$f":"BP8","v":""},null,null,null,null,null,null,null,null,null,null,null,null,null,null,null,null,null,null,null,null,null,null,null,null,null,null,null,null,null,null,null,{"$f":"CV8","v":0},{"$f":"CW8","v":""},null,null,null,null,null,null,null,null,null,null,null,null,null,null,null,null,null,null,null,null,null,null,null,null,null,null,null,null,null,null,null,{"$f":"CV8","v":0},{"$f":"ED8","v":""},null,null,null,null,null,null,null,null,null,null,null,null,null,null,null,null,null,null,null,null,null,null,null,null,null,null,null,null,null,null,null,{"$f":"IF(รายชื่อนักเรียน!$F7=\"\",\"\",รายชื่อนักเรียน!$F7)","v":""}]
[{"$f":"รายชื่อนักเรียน!B8","v":0},{"$f":"IF(รายชื่อนักเรียน!E8=\"\",\"\",รายชื่อนักเรียน!E8)","v":""},null,null,null,null,null,null,null,null,null,null,null,null,null,null,null,null,null,null,null,null,null,null,null,null,null,null,null,null,null,null,null,0,{"$f":"B9","v":""},null,null,null,null,null,null,null,null,null,null,null,null,null,null,null,null,null,null,null,null,null,null,null,null,null,null,null,null,null,null,null,0,{"$f":"AI9","v":""},null,null,null,null,null,null,null,null,null,null,null,null,null,null,null,null,null,null,null,null,null,null,null,null,null,null,null,null,null,null,null,0,{"$f":"BP9","v":""},null,null,null,null,null,null,null,null,null,null,null,null,null,null,null,null,null,null,null,null,null,null,null,null,null,null,null,null,null,null,null,0,{"$f":"CW9","v":""},null,null,null,null,null,null,null,null,null,null,null,null,null,null,null,null,null,null,null,null,null,null,null,null,null,null,null,null,null,null,null,0,{"$f":"ED9","v":""},null,null,null,null,null,null,null,null,null,null,null,null,null,null,null,null,null,null,null,null,null,null,null,null,null,null,null,null,null,null,null,{"$f":"IF(รายชื่อนักเรียน!$F8=\"\",\"\",รายชื่อนักเรียน!$F8)","v":""}]
[{"$f":"รายชื่อนักเรียน!B9","v":0},{"$f":"IF(รายชื่อนักเรียน!E9=\"\",\"\",รายชื่อนักเรียน!E9)","v":""},null,null,null,null,null,null,null,null,null,null,null,null,null,null,null,null,null,null,null,null,null,null,null,null,null,null,null,null,null,null,null,0,{"$f":"B10","v":""},null,null,null,null,null,null,null,null,null,null,null,null,null,null,null,null,null,null,null,null,null,null,null,null,null,null,null,null,null,null,null,0,{"$f":"AI10","v":""},null,null,null,null,null,null,null,null,null,null,null,null,null,null,null,null,null,null,null,null,null,null,null,null,null,null,null,null,null,null,null,0,{"$f":"BP10","v":""},null,null,null,null,null,null,null,null,null,null,null,null,null,null,null,null,null,null,null,null,null,null,null,null,null,null,null,null,null,null,null,0,{"$f":"CW10","v":""},null,null,null,null,null,null,null,null,null,null,null,null,null,null,null,null,null,null,null,null,null,null,null,null,null,null,null,null,null,null,null,0,{"$f":"ED10","v":""},null,null,null,null,null,null,null,null,null,null,null,null,null,null,null,null,null,null,null,null,null,null,null,null,null,null,null,null,null,null,null,{"$f":"IF(รายชื่อนักเรียน!$F9=\"\",\"\",รายชื่อนักเรียน!$F9)","v":""}]
[{"$f":"รายชื่อนักเรียน!B10","v":0},{"$f":"IF(รายชื่อนักเรียน!E10=\"\",\"\",รายชื่อนักเรียน!E10)","v":""},null,null,null,null,null,null,null,null,null,null,null,null,null,null,null,null,null,null,null,null,null,null,null,null,null,null,null,null,null,null,null,0,"",null,null,null,null,null,null,null,null,null,null,null,null,null,null,null,null,null,null,null,null,null,null,null,null,null,null,null,null,null,null,null,0,"",null,null,null,null,null,null,null,null,null,null,null,null,null,null,null,null,null,null,null,null,null,null,null,null,null,null,null,null,null,null,null,0,"",null,null,null,null,null,null,null,null,null,null,null,null,null,null,null,null,null,null,null,null,null,null,null,null,null,null,null,null,null,null,null,0,"",null,null,null,null,null,null,null,null,null,null,null,null,null,null,null,null,null,null,null,null,null,null,null,null,null,null,null,null,null,null,null,0,"",null,null,null,null,null,null,null,null,null,null,null,null,null,null,null,null,null,null,null,null,null,null,null,null,null,null,null,null,null,null,null,{"$f":"IF(รายชื่อนักเรียน!$F10=\"\",\"\",รายชื่อนักเรียน!$F10)","v":""}]
[{"$f":"รายชื่อนักเรียน!B11","v":0},{"$f":"IF(รายชื่อนักเรียน!E11=\"\",\"\",รายชื่อนักเรียน!E11)","v":""},null,null,null,null,null,null,null,null,null,null,null,null,null,null,null,null,null,null,null,null,null,null,null,null,null,null,null,null,null,null,null,0,"",null,null,null,null,null,null,null,null,null,null,null,null,null,null,null,null,null,null,null,null,null,null,null,null,null,null,null,null,null,null,null,0,"",null,null,null,null,null,null,null,null,null,null,null,null,null,null,null,null,null,null,null,null,null,null,null,null,null,null,null,null,null,null,null,0,"",null,null,null,null,null,null,null,null,null,null,null,null,null,null,null,null,null,null,null,null,null,null,null,null,null,null,null,null,null,null,null,0,"",null,null,null,null,null,null,null,null,null,null,null,null,null,null,null,null,null,null,null,null,null,null,null,null,null,null,null,null,null,null,null,0,"",null,null,null,null,null,null,null,null,null,null,null,null,null,null,null,null,null,null,null,null,null,null,null,null,null,null,null,null,null,null,null,{"$f":"IF(รายชื่อนักเรียน!$F11=\"\",\"\",รายชื่อนักเรียน!$F11)","v":""}]
[{"$f":"รายชื่อนักเรียน!B12","v":0},{"$f":"IF(รายชื่อนักเรียน!E12=\"\",\"\",รายชื่อนักเรียน!E12)","v":""},null,null,null,null,null,null,null,null,null,null,null,null,null,null,null,null,null,null,null,null,null,null,null,null,null,null,null,null,null,null,null,0,"",null,null,null,null,null,null,null,null,null,null,null,null,null,null,null,null,null,null,null,null,null,null,null,null,null,null,null,null,null,null,null,0,"",null,null,null,null,null,null,null,null,null,null,null,null,null,null,null,null,null,null,null,null,null,null,null,null,null,null,null,null,null,null,null,0,"",null,null,null,null,null,null,null,null,null,null,null,null,null,null,null,null,null,null,null,null,null,null,null,null,null,null,null,null,null,null,null,0,"",null,null,null,null,null,null,null,null,null,null,null,null,null,null,null,null,null,null,null,null,null,null,null,null,null,null,null,null,null,null,null,0,"",null,null,null,null,null,null,null,null,null,null,null,null,null,null,null,null,null,null,null,null,null,null,null,null,null,null,null,null,null,null,null,{"$f":"IF(รายชื่อนักเรียน!$F12=\"\",\"\",รายชื่อนักเรียน!$F12)","v":""}]
[{"$f":"รายชื่อนักเรียน!B13","v":0},{"$f":"IF(รายชื่อนักเรียน!E13=\"\",\"\",รายชื่อนักเรียน!E13)","v":""},null,null,null,null,null,null,null,null,null,null,null,null,null,null,null,null,null,null,null,null,null,null,null,null,null,null,null,null,null,null,null,0,"",null,null,null,null,null,null,null,null,null,null,null,null,null,null,null,null,null,null,null,null,null,null,null,null,null,null,null,null,null,null,null,0,"",null,null,null,null,null,null,null,null,null,null,null,null,null,null,null,null,null,null,null,null,null,null,null,null,null,null,null,null,null,null,null,0,"",null,null,null,null,null,null,null,null,null,null,null,null,null,null,null,null,null,null,null,null,null,null,null,null,null,null,null,null,null,null,null,0,"",null,null,null,null,null,null,null,null,null,null,null,null,null,null,null,null,null,null,null,null,null,null,null,null,null,null,null,null,null,null,null,0,"",null,null,null,null,null,null,null,null,null,null,null,null,null,null,null,null,null,null,null,null,null,null,null,null,null,null,null,null,null,null,null,{"$f":"IF(รายชื่อนักเรียน!$F13=\"\",\"\",รายชื่อนักเรียน!$F13)","v":""}]
[{"$f":"รายชื่อนักเรียน!B14","v":0},{"$f":"IF(รายชื่อนักเรียน!E14=\"\",\"\",รายชื่อนักเรียน!E14)","v":""},null,null,null,null,null,null,null,null,null,null,null,null,null,null,null,null,null,null,null,null,null,null,null,null,null,null,null,null,null,null,null,0,"",null,null,null,null,null,null,null,null,null,null,null,null,null,null,null,null,null,null,null,null,null,null,null,null,null,null,null,null,null,null,null,0,"",null,null,null,null,null,null,null,null,null,null,null,null,null,null,null,null,null,null,null,null,null,null,null,null,null,null,null,null,null,null,null,0,"",null,null,null,null,null,null,null,null,null,null,null,null,null,null,null,null,null,null,null,null,null,null,null,null,null,null,null,null,null,null,null,0,"",null,null,null,null,null,null,null,null,null,null,null,null,null,null,null,null,null,null,null,null,null,null,null,null,null,null,null,null,null,null,null,0,"",null,null,null,null,null,null,null,null,null,null,null,null,null,null,null,null,null,null,null,null,null,null,null,null,null,null,null,null,null,null,null,{"$f":"IF(รายชื่อนักเรียน!$F14=\"\",\"\",รายชื่อนักเรียน!$F14)","v":""}]
[{"$f":"รายชื่อนักเรียน!B15","v":0},{"$f":"IF(รายชื่อนักเรียน!E15=\"\",\"\",รายชื่อนักเรียน!E15)","v":""},null,null,null,null,null,null,null,null,null,null,null,null,null,null,null,null,null,null,null,null,null,null,null,null,null,null,null,null,null,null,null,0,"",null,null,null,null,null,null,null,null,null,null,null,null,null,null,null,null,null,null,null,null,null,null,null,null,null,null,null,null,null,null,null,0,"",null,null,null,null,null,null,null,null,null,null,null,null,null,null,null,null,null,null,null,null,null,null,null,null,null,null,null,null,null,null,null,0,"",null,null,null,null,null,null,null,null,null,null,null,null,null,null,null,null,null,null,null,null,null,null,null,null,null,null,null,null,null,null,null,0,"",null,null,null,null,null,null,null,null,null,null,null,null,null,null,null,null,null,null,null,null,null,null,null,null,null,null,null,null,null,null,null,0,"",null,null,null,null,null,null,null,null,null,null,null,null,null,null,null,null,null,null,null,null,null,null,null,null,null,null,null,null,null,null,null,{"$f":"IF(รายชื่อนักเรียน!$F15=\"\",\"\",รายชื่อนักเรียน!$F15)","v":""}]
[{"$f":"รายชื่อนักเรียน!B16","v":0},{"$f":"IF(รายชื่อนักเรียน!E16=\"\",\"\",รายชื่อนักเรียน!E16)","v":""},null,null,null,null,null,null,null,null,null,null,null,null,null,null,null,null,null,null,null,null,null,null,null,null,null,null,null,null,null,null,null,0,"",null,null,null,null,null,null,null,null,null,null,null,null,null,null,null,null,null,null,null,null,null,null,null,null,null,null,null,null,null,null,null,0,"",null,null,null,null,null,null,null,null,null,null,null,null,null,null,null,null,null,null,null,null,null,null,null,null,null,null,null,null,null,null,null,0,"",null,null,null,null,null,null,null,null,null,null,null,null,null,null,null,null,null,null,null,null,null,null,null,null,null,null,null,null,null,null,null,0,"",null,null,null,null,null,null,null,null,null,null,null,null,null,null,null,null,null,null,null,null,null,null,null,null,null,null,null,null,null,null,null,0,"",null,null,null,null,null,null,null,null,null,null,null,null,null,null,null,null,null,null,null,null,null,null,null,null,null,null,null,null,null,null,null,{"$f":"IF(รายชื่อนักเรียน!$F16=\"\",\"\",รายชื่อนักเรียน!$F16)","v":""}]
[{"$f":"รายชื่อนักเรียน!B17","v":0},{"$f":"IF(รายชื่อนักเรียน!E17=\"\",\"\",รายชื่อนักเรียน!E17)","v":""},null,null,null,null,null,null,null,null,null,null,null,null,null,null,null,null,null,null,null,null,null,null,null,null,null,null,null,null,null,null,null,0,"",null,null,null,null,null,null,null,null,null,null,null,null,null,null,null,null,null,null,null,null,null,null,null,null,null,null,null,null,null,null,null,0,"",null,null,null,null,null,null,null,null,null,null,null,null,null,null,null,null,null,null,null,null,null,null,null,null,null,null,null,null,null,null,null,0,"",null,null,null,null,null,null,null,null,null,null,null,null,null,null,null,null,null,null,null,null,null,null,null,null,null,null,null,null,null,null,null,0,"",null,null,null,null,null,null,null,null,null,null,null,null,null,null,null,null,null,null,null,null,null,null,null,null,null,null,null,null,null,null,null,0,"",null,null,null,null,null,null,null,null,null,null,null,null,null,null,null,null,null,null,null,null,null,null,null,null,null,null,null,null,null,null,null,{"$f":"IF(รายชื่อนักเรียน!$F17=\"\",\"\",รายชื่อนักเรียน!$F17)","v":""}]
[{"$f":"รายชื่อนักเรียน!B18","v":0},{"$f":"IF(รายชื่อนักเรียน!E18=\"\",\"\",รายชื่อนักเรียน!E18)","v":""},null,null,null,null,null,null,null,null,null,null,null,null,null,null,null,null,null,null,null,null,null,null,null,null,null,null,null,null,null,null,null,0,"",null,null,null,null,null,null,null,null,null,null,null,null,null,null,null,null,null,null,null,null,null,null,null,null,null,null,null,null,null,null,null,0,"",null,null,null,null,null,null,null,null,null,null,null,null,null,null,null,null,null,null,null,null,null,null,null,null,null,null,null,null,null,null,null,0,"",null,null,null,null,null,null,null,null,null,null,null,null,null,null,null,null,null,null,null,null,null,null,null,null,null,null,null,null,null,null,null,0,"",null,null,null,null,null,null,null,null,null,null,null,null,null,null,null,null,null,null,null,null,null,null,null,null,null,null,null,null,null,null,null,0,"",null,null,null,null,null,null,null,null,null,null,null,null,null,null,null,null,null,null,null,null,null,null,null,null,null,null,null,null,null,null,null,{"$f":"IF(รายชื่อนักเรียน!$F18=\"\",\"\",รายชื่อนักเรียน!$F18)","v":""}]
[{"$f":"รายชื่อนักเรียน!B19","v":0},{"$f":"IF(รายชื่อนักเรียน!E19=\"\",\"\",รายชื่อนักเรียน!E19)","v":""},null,null,null,null,null,null,null,null,null,null,null,null,null,null,null,null,null,null,null,null,null,null,null,null,null,null,null,null,null,null,null,0,"",null,null,null,null,null,null,null,null,null,null,null,null,null,null,null,null,null,null,null,null,null,null,null,null,null,null,null,null,null,null,null,0,"",null,null,null,null,null,null,null,null,null,null,null,null,null,null,null,null,null,null,null,null,null,null,null,null,null,null,null,null,null,null,null,0,"",null,null,null,null,null,null,null,null,null,null,null,null,null,null,null,null,null,null,null,null,null,null,null,null,null,null,null,null,null,null,null,0,"",null,null,null,null,null,null,null,null,null,null,null,null,null,null,null,null,null,null,null,null,null,null,null,null,null,null,null,null,null,null,null,0,"",null,null,null,null,null,null,null,null,null,null,null,null,null,null,null,null,null,null,null,null,null,null,null,null,null,null,null,null,null,null,null,{"$f":"IF(รายชื่อนักเรียน!$F19=\"\",\"\",รายชื่อนักเรียน!$F19)","v":""}]
[{"$f":"รายชื่อนักเรียน!B20","v":0},{"$f":"IF(รายชื่อนักเรียน!E20=\"\",\"\",รายชื่อนักเรียน!E20)","v":""},null,null,null,null,null,null,null,null,null,null,null,null,null,null,null,null,null,null,null,null,null,null,null,null,null,null,null,null,null,null,null,0,"",null,null,null,null,null,null,null,null,null,null,null,null,null,null,null,null,null,null,null,null,null,null,null,null,null,null,null,null,null,null,null,0,"",null,null,null,null,null,null,null,null,null,null,null,null,null,null,null,null,null,null,null,null,null,null,null,null,null,null,null,null,null,null,null,0,"",null,null,null,null,null,null,null,null,null,null,null,null,null,null,null,null,null,null,null,null,null,null,null,null,null,null,null,null,null,null,null,0,"",null,null,null,null,null,null,null,null,null,null,null,null,null,null,null,null,null,null,null,null,null,null,null,null,null,null,null,null,null,null,null,0,"",null,null,null,null,null,null,null,null,null,null,null,null,null,null,null,null,null,null,null,null,null,null,null,null,null,null,null,null,null,null,null,{"$f":"IF(รายชื่อนักเรียน!$F20=\"\",\"\",รายชื่อนักเรียน!$F20)","v":""}]
[{"$f":"รายชื่อนักเรียน!B21","v":0},{"$f":"IF(รายชื่อนักเรียน!E21=\"\",\"\",รายชื่อนักเรียน!E21)","v":""},null,null,null,null,null,null,null,null,null,null,null,null,null,null,null,null,null,null,null,null,null,null,null,null,null,null,null,null,null,null,null,0,"",null,null,null,null,null,null,null,null,null,null,null,null,null,null,null,null,null,null,null,null,null,null,null,null,null,null,null,null,null,null,null,0,"",null,null,null,null,null,null,null,null,null,null,null,null,null,null,null,null,null,null,null,null,null,null,null,null,null,null,null,null,null,null,null,0,"",null,null,null,null,null,null,null,null,null,null,null,null,null,null,null,null,null,null,null,null,null,null,null,null,null,null,null,null,null,null,null,0,"",null,null,null,null,null,null,null,null,null,null,null,null,null,null,null,null,null,null,null,null,null,null,null,null,null,null,null,null,null,null,null,0,"",null,null,null,null,null,null,null,null,null,null,null,null,null,null,null,null,null,null,null,null,null,null,null,null,null,null,null,null,null,null,null,{"$f":"IF(รายชื่อนักเรียน!$F21=\"\",\"\",รายชื่อนักเรียน!$F21)","v":""}]
[{"$f":"รายชื่อนักเรียน!B22","v":0},{"$f":"IF(รายชื่อนักเรียน!E22=\"\",\"\",รายชื่อนักเรียน!E22)","v":""},null,null,null,null,null,null,null,null,null,null,null,null,null,null,null,null,null,null,null,null,null,null,null,null,null,null,null,null,null,null,null,0,"",null,null,null,null,null,null,null,null,null,null,null,null,null,null,null,null,null,null,null,null,null,null,null,null,null,null,null,null,null,null,null,0,"",null,null,null,null,null,null,null,null,null,null,null,null,null,null,null,null,null,null,null,null,null,null,null,null,null,null,null,null,null,null,null,0,"",null,null,null,null,null,null,null,null,null,null,null,null,null,null,null,null,null,null,null,null,null,null,null,null,null,null,null,null,null,null,null,0,"",null,null,null,null,null,null,null,null,null,null,null,null,null,null,null,null,null,null,null,null,null,null,null,null,null,null,null,null,null,null,null,0,"",null,null,null,null,null,null,null,null,null,null,null,null,null,null,null,null,null,null,null,null,null,null,null,null,null,null,null,null,null,null,null,{"$f":"IF(รายชื่อนักเรียน!$F22=\"\",\"\",รายชื่อนักเรียน!$F22)","v":""}]
[{"$f":"รายชื่อนักเรียน!B23","v":0},{"$f":"IF(รายชื่อนักเรียน!E23=\"\",\"\",รายชื่อนักเรียน!E23)","v":""},null,null,null,null,null,null,null,null,null,null,null,null,null,null,null,null,null,null,null,null,null,null,null,null,null,null,null,null,null,null,null,0,"",null,null,null,null,null,null,null,null,null,null,null,null,null,null,null,null,null,null,null,null,null,null,null,null,null,null,null,null,null,null,null,0,"",null,null,null,null,null,null,null,null,null,null,null,null,null,null,null,null,null,null,null,null,null,null,null,null,null,null,null,null,null,null,null,0,"",null,null,null,null,null,null,null,null,null,null,null,null,null,null,null,null,null,null,null,null,null,null,null,null,null,null,null,null,null,null,null,0,"",null,null,null,null,null,null,null,null,null,null,null,null,null,null,null,null,null,null,null,null,null,null,null,null,null,null,null,null,null,null,null,0,"",null,null,null,null,null,null,null,null,null,null,null,null,null,null,null,null,null,null,null,null,null,null,null,null,null,null,null,null,null,null,null,{"$f":"IF(รายชื่อนักเรียน!$F23=\"\",\"\",รายชื่อนักเรียน!$F23)","v":""}]
[{"$f":"รายชื่อนักเรียน!B24","v":0},{"$f":"IF(รายชื่อนักเรียน!E24=\"\",\"\",รายชื่อนักเรียน!E24)","v":""},null,null,null,null,null,null,null,null,null,null,null,null,null,null,null,null,null,null,null,null,null,null,null,null,null,null,null,null,null,null,null,0,"",null,null,null,null,null,null,null,null,null,null,null,null,null,null,null,null,null,null,null,null,null,null,null,null,null,null,null,null,null,null,null,0,"",null,null,null,null,null,null,null,null,null,null,null,null,null,null,null,null,null,null,null,null,null,null,null,null,null,null,null,null,null,null,null,0,"",null,null,null,null,null,null,null,null,null,null,null,null,null,null,null,null,null,null,null,null,null,null,null,null,null,null,null,null,null,null,null,0,"",null,null,null,null,null,null,null,null,null,null,null,null,null,null,null,null,null,null,null,null,null,null,null,null,null,null,null,null,null,null,null,0,"",null,null,null,null,null,null,null,null,null,null,null,null,null,null,null,null,null,null,null,null,null,null,null,null,null,null,null,null,null,null,null,{"$f":"IF(รายชื่อนักเรียน!$F24=\"\",\"\",รายชื่อนักเรียน!$F24)","v":""}]
[{"$f":"รายชื่อนักเรียน!B25","v":0},{"$f":"IF(รายชื่อนักเรียน!E25=\"\",\"\",รายชื่อนักเรียน!E25)","v":""},null,null,null,null,null,null,null,null,null,null,null,null,null,null,null,null,null,null,null,null,null,null,null,null,null,null,null,null,null,null,null,0,"",null,null,null,null,null,null,null,null,null,null,null,null,null,null,null,null,null,null,null,null,null,null,null,null,null,null,null,null,null,null,null,0,"",null,null,null,null,null,null,null,null,null,null,null,null,null,null,null,null,null,null,null,null,null,null,null,null,null,null,null,null,null,null,null,0,"",null,null,null,null,null,null,null,null,null,null,null,null,null,null,null,null,null,null,null,null,null,null,null,null,null,null,null,null,null,null,null,0,"",null,null,null,null,null,null,null,null,null,null,null,null,null,null,null,null,null,null,null,null,null,null,null,null,null,null,null,null,null,null,null,0,"",null,null,null,null,null,null,null,null,null,null,null,null,null,null,null,null,null,null,null,null,null,null,null,null,null,null,null,null,null,null,null,{"$f":"IF(รายชื่อนักเรียน!$F25=\"\",\"\",รายชื่อนักเรียน!$F25)","v":""}]
[{"$f":"รายชื่อนักเรียน!B26","v":0},{"$f":"IF(รายชื่อนักเรียน!E26=\"\",\"\",รายชื่อนักเรียน!E26)","v":""},null,null,null,null,null,null,null,null,null,null,null,null,null,null,null,null,null,null,null,null,null,null,null,null,null,null,null,null,null,null,null,0,"",null,null,null,null,null,null,null,null,null,null,null,null,null,null,null,null,null,null,null,null,null,null,null,null,null,null,null,null,null,null,null,0,"",null,null,null,null,null,null,null,null,null,null,null,null,null,null,null,null,null,null,null,null,null,null,null,null,null,null,null,null,null,null,null,0,"",null,null,null,null,null,null,null,null,null,null,null,null,null,null,null,null,null,null,null,null,null,null,null,null,null,null,null,null,null,null,null,0,"",null,null,null,null,null,null,null,null,null,null,null,null,null,null,null,null,null,null,null,null,null,null,null,null,null,null,null,null,null,null,null,0,"",null,null,null,null,null,null,null,null,null,null,null,null,null,null,null,null,null,null,null,null,null,null,null,null,null,null,null,null,null,null,null,{"$f":"IF(รายชื่อนักเรียน!$F26=\"\",\"\",รายชื่อนักเรียน!$F26)","v":""}]
[{"$f":"รายชื่อนักเรียน!B27","v":0},{"$f":"IF(รายชื่อนักเรียน!E27=\"\",\"\",รายชื่อนักเรียน!E27)","v":""},null,null,null,null,null,null,null,null,null,null,null,null,null,null,null,null,null,null,null,null,null,null,null,null,null,null,null,null,null,null,null,0,"",null,null,null,null,null,null,null,null,null,null,null,null,null,null,null,null,null,null,null,null,null,null,null,null,null,null,null,null,null,null,null,0,"",null,null,null,null,null,null,null,null,null,null,null,null,null,null,null,null,null,null,null,null,null,null,null,null,null,null,null,null,null,null,null,0,"",null,null,null,null,null,null,null,null,null,null,null,null,null,null,null,null,null,null,null,null,null,null,null,null,null,null,null,null,null,null,null,0,"",null,null,null,null,null,null,null,null,null,null,null,null,null,null,null,null,null,null,null,null,null,null,null,null,null,null,null,null,null,null,null,0,"",null,null,null,null,null,null,null,null,null,null,null,null,null,null,null,null,null,null,null,null,null,null,null,null,null,null,null,null,null,null,null,{"$f":"IF(รายชื่อนักเรียน!$F27=\"\",\"\",รายชื่อนักเรียน!$F27)","v":""}]
[{"$f":"รายชื่อนักเรียน!B28","v":0},{"$f":"IF(รายชื่อนักเรียน!E28=\"\",\"\",รายชื่อนักเรียน!E28)","v":""},null,null,null,null,null,null,null,null,null,null,null,null,null,null,null,null,null,null,null,null,null,null,null,null,null,null,null,null,null,null,null,0,"",null,null,null,null,null,null,null,null,null,null,null,null,null,null,null,null,null,null,null,null,null,null,null,null,null,null,null,null,null,null,null,0,"",null,null,null,null,null,null,null,null,null,null,null,null,null,null,null,null,null,null,null,null,null,null,null,null,null,null,null,null,null,null,null,0,"",null,null,null,null,null,null,null,null,null,null,null,null,null,null,null,null,null,null,null,null,null,null,null,null,null,null,null,null,null,null,null,0,"",null,null,null,null,null,null,null,null,null,null,null,null,null,null,null,null,null,null,null,null,null,null,null,null,null,null,null,null,null,null,null,0,"",null,null,null,null,null,null,null,null,null,null,null,null,null,null,null,null,null,null,null,null,null,null,null,null,null,null,null,null,null,null,null,{"$f":"IF(รายชื่อนักเรียน!$F28=\"\",\"\",รายชื่อนักเรียน!$F28)","v":""}]
[{"$f":"รายชื่อนักเรียน!B29","v":0},{"$f":"IF(รายชื่อนักเรียน!E29=\"\",\"\",รายชื่อนักเรียน!E29)","v":""},null,null,null,null,null,null,null,null,null,null,null,null,null,null,null,null,null,null,null,null,null,null,null,null,null,null,null,null,null,null,null,0,"",null,null,null,null,null,null,null,null,null,null,null,null,null,null,null,null,null,null,null,null,null,null,null,null,null,null,null,null,null,null,null,0,"",null,null,null,null,null,null,null,null,null,null,null,null,null,null,null,null,null,null,null,null,null,null,null,null,null,null,null,null,null,null,null,0,"",null,null,null,null,null,null,null,null,null,null,null,null,null,null,null,null,null,null,null,null,null,null,null,null,null,null,null,null,null,null,null,0,"",null,null,null,null,null,null,null,null,null,null,null,null,null,null,null,null,null,null,null,null,null,null,null,null,null,null,null,null,null,null,null,0,"",null,null,null,null,null,null,null,null,null,null,null,null,null,null,null,null,null,null,null,null,null,null,null,null,null,null,null,null,null,null,null,{"$f":"IF(รายชื่อนักเรียน!$F29=\"\",\"\",รายชื่อนักเรียน!$F29)","v":""}]
[{"$f":"รายชื่อนักเรียน!B30","v":0},{"$f":"IF(รายชื่อนักเรียน!E30=\"\",\"\",รายชื่อนักเรียน!E30)","v":""},null,null,null,null,null,null,null,null,null,null,null,null,null,null,null,null,null,null,null,null,null,null,null,null,null,null,null,null,null,null,null,0,"",null,null,null,null,null,null,null,null,null,null,null,null,null,null,null,null,null,null,null,null,null,null,null,null,null,null,null,null,null,null,null,0,"",null,null,null,null,null,null,null,null,null,null,null,null,null,null,null,null,null,null,null,null,null,null,null,null,null,null,null,null,null,null,null,0,"",null,null,null,null,null,null,null,null,null,null,null,null,null,null,null,null,null,null,null,null,null,null,null,null,null,null,null,null,null,null,null,0,"",null,null,null,null,null,null,null,null,null,null,null,null,null,null,null,null,null,null,null,null,null,null,null,null,null,null,null,null,null,null,null,0,"",null,null,null,null,null,null,null,null,null,null,null,null,null,null,null,null,null,null,null,null,null,null,null,null,null,null,null,null,null,null,null,{"$f":"IF(รายชื่อนักเรียน!$F30=\"\",\"\",รายชื่อนักเรียน!$F30)","v":""}]
[{"$f":"รายชื่อนักเรียน!B31","v":0},{"$f":"IF(รายชื่อนักเรียน!E31=\"\",\"\",รายชื่อนักเรียน!E31)","v":""},null,null,null,null,null,null,null,null,null,null,null,null,null,null,null,null,null,null,null,null,null,null,null,null,null,null,null,null,null,null,null,0,"",null,null,null,null,null,null,null,null,null,null,null,null,null,null,null,null,null,null,null,null,null,null,null,null,null,null,null,null,null,null,null,0,"",null,null,null,null,null,null,null,null,null,null,null,null,null,null,null,null,null,null,null,null,null,null,null,null,null,null,null,null,null,null,null,0,"",null,null,null,null,null,null,null,null,null,null,null,null,null,null,null,null,null,null,null,null,null,null,null,null,null,null,null,null,null,null,null,0,"",null,null,null,null,null,null,null,null,null,null,null,null,null,null,null,null,null,null,null,null,null,null,null,null,null,null,null,null,null,null,null,0,"",null,null,null,null,null,null,null,null,null,null,null,null,null,null,null,null,null,null,null,null,null,null,null,null,null,null,null,null,null,null,null,{"$f":"IF(รายชื่อนักเรียน!$F31=\"\",\"\",รายชื่อนักเรียน!$F31)","v":""}]
[{"$f":"รายชื่อนักเรียน!B32","v":0},{"$f":"IF(รายชื่อนักเรียน!E32=\"\",\"\",รายชื่อนักเรียน!E32)","v":""},null,null,null,null,null,null,null,null,null,null,null,null,null,null,null,null,null,null,null,null,null,null,null,null,null,null,null,null,null,null,null,0,"",null,null,null,null,null,null,null,null,null,null,null,null,null,null,null,null,null,null,null,null,null,null,null,null,null,null,null,null,null,null,null,0,"",null,null,null,null,null,null,null,null,null,null,null,null,null,null,null,null,null,null,null,null,null,null,null,null,null,null,null,null,null,null,null,0,"",null,null,null,null,null,null,null,null,null,null,null,null,null,null,null,null,null,null,null,null,null,null,null,null,null,null,null,null,null,null,null,0,"",null,null,null,null,null,null,null,null,null,null,null,null,null,null,null,null,null,null,null,null,null,null,null,null,null,null,null,null,null,null,null,0,"",null,null,null,null,null,null,null,null,null,null,null,null,null,null,null,null,null,null,null,null,null,null,null,null,null,null,null,null,null,null,null,{"$f":"IF(รายชื่อนักเรียน!$F32=\"\",\"\",รายชื่อนักเรียน!$F32)","v":""}]
[{"$f":"รายชื่อนักเรียน!B33","v":0},{"$f":"IF(รายชื่อนักเรียน!E33=\"\",\"\",รายชื่อนักเรียน!E33)","v":""},null,null,null,null,null,null,null,null,null,null,null,null,null,null,null,null,null,null,null,null,null,null,null,null,null,null,null,null,null,null,null,0,"",null,null,null,null,null,null,null,null,null,null,null,null,null,null,null,null,null,null,null,null,null,null,null,null,null,null,null,null,null,null,null,0,"",null,null,null,null,null,null,null,null,null,null,null,null,null,null,null,null,null,null,null,null,null,null,null,null,null,null,null,null,null,null,null,0,"",null,null,null,null,null,null,null,null,null,null,null,null,null,null,null,null,null,null,null,null,null,null,null,null,null,null,null,null,null,null,null,0,"",null,null,null,null,null,null,null,null,null,null,null,null,null,null,null,null,null,null,null,null,null,null,null,null,null,null,null,null,null,null,null,0,"",null,null,null,null,null,null,null,null,null,null,null,null,null,null,null,null,null,null,null,null,null,null,null,null,null,null,null,null,null,null,null,{"$f":"IF(รายชื่อนักเรียน!$F33=\"\",\"\",รายชื่อนักเรียน!$F33)","v":""}]
[{"$f":"รายชื่อนักเรียน!B34","v":0},{"$f":"IF(รายชื่อนักเรียน!E34=\"\",\"\",รายชื่อนักเรียน!E34)","v":""},null,null,null,null,null,null,null,null,null,null,null,null,null,null,null,null,null,null,null,null,null,null,null,null,null,null,null,null,null,null,null,0,"",null,null,null,null,null,null,null,null,null,null,null,null,null,null,null,null,null,null,null,null,null,null,null,null,null,null,null,null,null,null,null,0,"",null,null,null,null,null,null,null,null,null,null,null,null,null,null,null,null,null,null,null,null,null,null,null,null,null,null,null,null,null,null,null,0,"",null,null,null,null,null,null,null,null,null,null,null,null,null,null,null,null,null,null,null,null,null,null,null,null,null,null,null,null,null,null,null,0,"",null,null,null,null,null,null,null,null,null,null,null,null,null,null,null,null,null,null,null,null,null,null,null,null,null,null,null,null,null,null,null,0,"",null,null,null,null,null,null,null,null,null,null,null,null,null,null,null,null,null,null,null,null,null,null,null,null,null,null,null,null,null,null,null,{"$f":"IF(รายชื่อนักเรียน!$F34=\"\",\"\",รายชื่อนักเรียน!$F34)","v":""}]
[{"$f":"รายชื่อนักเรียน!B35","v":0},{"$f":"IF(รายชื่อนักเรียน!E35=\"\",\"\",รายชื่อนักเรียน!E35)","v":""},null,null,null,null,null,null,null,null,null,null,null,null,null,null,null,null,null,null,null,null,null,null,null,null,null,null,null,null,null,null,null,0,"",null,null,null,null,null,null,null,null,null,null,null,null,null,null,null,null,null,null,null,null,null,null,null,null,null,null,null,null,null,null,null,0,"",null,null,null,null,null,null,null,null,null,null,null,null,null,null,null,null,null,null,null,null,null,null,null,null,null,null,null,null,null,null,null,0,"",null,null,null,null,null,null,null,null,null,null,null,null,null,null,null,null,null,null,null,null,null,null,null,null,null,null,null,null,null,null,null,0,"",null,null,null,null,null,null,null,null,null,null,null,null,null,null,null,null,null,null,null,null,null,null,null,null,null,null,null,null,null,null,null,0,"",null,null,null,null,null,null,null,null,null,null,null,null,null,null,null,null,null,null,null,null,null,null,null,null,null,null,null,null,null,null,null,{"$f":"IF(รายชื่อนักเรียน!$F35=\"\",\"\",รายชื่อนักเรียน!$F35)","v":""}]
[{"$f":"รายชื่อนักเรียน!B36","v":0},{"$f":"IF(รายชื่อนักเรียน!E36=\"\",\"\",รายชื่อนักเรียน!E36)","v":""},null,null,null,null,null,null,null,null,null,null,null,null,null,null,null,null,null,null,null,null,null,null,null,null,null,null,null,null,null,null,null,0,"",null,null,null,null,null,null,null,null,null,null,null,null,null,null,null,null,null,null,null,null,null,null,null,null,null,null,null,null,null,null,null,0,"",null,null,null,null,null,null,null,null,null,null,null,null,null,null,null,null,null,null,null,null,null,null,null,null,null,null,null,null,null,null,null,0,"",null,null,null,null,null,null,null,null,null,null,null,null,null,null,null,null,null,null,null,null,null,null,null,null,null,null,null,null,null,null,null,0,"",null,null,null,null,null,null,null,null,null,null,null,null,null,null,null,null,null,null,null,null,null,null,null,null,null,null,null,null,null,null,null,0,"",null,null,null,null,null,null,null,null,null,null,null,null,null,null,null,null,null,null,null,null,null,null,null,null,null,null,null,null,null,null,null,{"$f":"IF(รายชื่อนักเรียน!$F36=\"\",\"\",รายชื่อนักเรียน!$F36)","v":""}]
[{"$f":"รายชื่อนักเรียน!B37","v":0},{"$f":"IF(รายชื่อนักเรียน!E37=\"\",\"\",รายชื่อนักเรียน!E37)","v":""},null,null,null,null,null,null,null,null,null,null,null,null,null,null,null,null,null,null,null,null,null,null,null,null,null,null,null,null,null,null,null,0,"",null,null,null,null,null,null,null,null,null,null,null,null,null,null,null,null,null,null,null,null,null,null,null,null,null,null,null,null,null,null,null,0,"",null,null,null,null,null,null,null,null,null,null,null,null,null,null,null,null,null,null,null,null,null,null,null,null,null,null,null,null,null,null,null,0,"",null,null,null,null,null,null,null,null,null,null,null,null,null,null,null,null,null,null,null,null,null,null,null,null,null,null,null,null,null,null,null,0,"",null,null,null,null,null,null,null,null,null,null,null,null,null,null,null,null,null,null,null,null,null,null,null,null,null,null,null,null,null,null,null,0,"",null,null,null,null,null,null,null,null,null,null,null,null,null,null,null,null,null,null,null,null,null,null,null,null,null,null,null,null,null,null,null,{"$f":"IF(รายชื่อนักเรียน!$F37=\"\",\"\",รายชื่อนักเรียน!$F37)","v":""}]
[{"$f":"รายชื่อนักเรียน!B38","v":0},{"$f":"IF(รายชื่อนักเรียน!E38=\"\",\"\",รายชื่อนักเรียน!E38)","v":""},null,null,null,null,null,null,null,null,null,null,null,null,null,null,null,null,null,null,null,null,null,null,null,null,null,null,null,null,null,null,null,0,"",null,null,null,null,null,null,null,null,null,null,null,null,null,null,null,null,null,null,null,null,null,null,null,null,null,null,null,null,null,null,null,0,"",null,null,null,null,null,null,null,null,null,null,null,null,null,null,null,null,null,null,null,null,null,null,null,null,null,null,null,null,null,null,null,0,"",null,null,null,null,null,null,null,null,null,null,null,null,null,null,null,null,null,null,null,null,null,null,null,null,null,null,null,null,null,null,null,0,"",null,null,null,null,null,null,null,null,null,null,null,null,null,null,null,null,null,null,null,null,null,null,null,null,null,null,null,null,null,null,null,0,"",null,null,null,null,null,null,null,null,null,null,null,null,null,null,null,null,null,null,null,null,null,null,null,null,null,null,null,null,null,null,null,{"$f":"IF(รายชื่อนักเรียน!$F38=\"\",\"\",รายชื่อนักเรียน!$F38)","v":""}]
[{"$f":"รายชื่อนักเรียน!B39","v":0},{"$f":"IF(รายชื่อนักเรียน!E39=\"\",\"\",รายชื่อนักเรียน!E39)","v":""},null,null,null,null,null,null,null,null,null,null,null,null,null,null,null,null,null,null,null,null,null,null,null,null,null,null,null,null,null,null,null,0,"",null,null,null,null,null,null,null,null,null,null,null,null,null,null,null,null,null,null,null,null,null,null,null,null,null,null,null,null,null,null,null,0,"",null,null,null,null,null,null,null,null,null,null,null,null,null,null,null,null,null,null,null,null,null,null,null,null,null,null,null,null,null,null,null,0,"",null,null,null,null,null,null,null,null,null,null,null,null,null,null,null,null,null,null,null,null,null,null,null,null,null,null,null,null,null,null,null,0,"",null,null,null,null,null,null,null,null,null,null,null,null,null,null,null,null,null,null,null,null,null,null,null,null,null,null,null,null,null,null,null,0,"",null,null,null,null,null,null,null,null,null,null,null,null,null,null,null,null,null,null,null,null,null,null,null,null,null,null,null,null,null,null,null,{"$f":"IF(รายชื่อนักเรียน!$F39=\"\",\"\",รายชื่อนักเรียน!$F39)","v":""}]
[{"$f":"รายชื่อนักเรียน!B40","v":0},{"$f":"IF(รายชื่อนักเรียน!E40=\"\",\"\",รายชื่อนักเรียน!E40)","v":""},null,null,null,null,null,null,null,null,null,null,null,null,null,null,null,null,null,null,null,null,null,null,null,null,null,null,null,null,null,null,null,0,"",null,null,null,null,null,null,null,null,null,null,null,null,null,null,null,null,null,null,null,null,null,null,null,null,null,null,null,null,null,null,null,0,"",null,null,null,null,null,null,null,null,null,null,null,null,null,null,null,null,null,null,null,null,null,null,null,null,null,null,null,null,null,null,null,0,"",null,null,null,null,null,null,null,null,null,null,null,null,null,null,null,null,null,null,null,null,null,null,null,null,null,null,null,null,null,null,null,0,"",null,null,null,null,null,null,null,null,null,null,null,null,null,null,null,null,null,null,null,null,null,null,null,null,null,null,null,null,null,null,null,0,"",null,null,null,null,null,null,null,null,null,null,null,null,null,null,null,null,null,null,null,null,null,null,null,null,null,null,null,null,null,null,null,{"$f":"IF(รายชื่อนักเรียน!$F40=\"\",\"\",รายชื่อนักเรียน!$F40)","v":""}]
[{"$f":"รายชื่อนักเรียน!B41","v":0},{"$f":"IF(รายชื่อนักเรียน!E41=\"\",\"\",รายชื่อนักเรียน!E41)","v":""},null,null,null,null,null,null,null,null,null,null,null,null,null,null,null,null,null,null,null,null,null,null,null,null,null,null,null,null,null,null,null,0,"",null,null,null,null,null,null,null,null,null,null,null,null,null,null,null,null,null,null,null,null,null,null,null,null,null,null,null,null,null,null,null,0,"",null,null,null,null,null,null,null,null,null,null,null,null,null,null,null,null,null,null,null,null,null,null,null,null,null,null,null,null,null,null,null,0,"",null,null,null,null,null,null,null,null,null,null,null,null,null,null,null,null,null,null,null,null,null,null,null,null,null,null,null,null,null,null,null,0,"",null,null,null,null,null,null,null,null,null,null,null,null,null,null,null,null,null,null,null,null,null,null,null,null,null,null,null,null,null,null,null,0,"",null,null,null,null,null,null,null,null,null,null,null,null,null,null,null,null,null,null,null,null,null,null,null,null,null,null,null,null,null,null,null,{"$f":"IF(รายชื่อนักเรียน!$F41=\"\",\"\",รายชื่อนักเรียน!$F41)","v":""}]
[{"$f":"รายชื่อนักเรียน!B42","v":0},{"$f":"IF(รายชื่อนักเรียน!E42=\"\",\"\",รายชื่อนักเรียน!E42)","v":""},null,null,null,null,null,null,null,null,null,null,null,null,null,null,null,null,null,null,null,null,null,null,null,null,null,null,null,null,null,null,null,0,"",null,null,null,null,null,null,null,null,null,null,null,null,null,null,null,null,null,null,null,null,null,null,null,null,null,null,null,null,null,null,null,0,"",null,null,null,null,null,null,null,null,null,null,null,null,null,null,null,null,null,null,null,null,null,null,null,null,null,null,null,null,null,null,null,0,"",null,null,null,null,null,null,null,null,null,null,null,null,null,null,null,null,null,null,null,null,null,null,null,null,null,null,null,null,null,null,null,0,"",null,null,null,null,null,null,null,null,null,null,null,null,null,null,null,null,null,null,null,null,null,null,null,null,null,null,null,null,null,null,null,0,"",null,null,null,null,null,null,null,null,null,null,null,null,null,null,null,null,null,null,null,null,null,null,null,null,null,null,null,null,null,null,null,{"$f":"IF(รายชื่อนักเรียน!$F42=\"\",\"\",รายชื่อนักเรียน!$F42)","v":""}]
[{"$f":"รายชื่อนักเรียน!B43","v":0},{"$f":"IF(รายชื่อนักเรียน!E43=\"\",\"\",รายชื่อนักเรียน!E43)","v":""},null,null,null,null,null,null,null,null,null,null,null,null,null,null,null,null,null,null,null,null,null,null,null,null,null,null,null,null,null,null,null,0,"",null,null,null,null,null,null,null,null,null,null,null,null,null,null,null,null,null,null,null,null,null,null,null,null,null,null,null,null,null,null,null,0,"",null,null,null,null,null,null,null,null,null,null,null,null,null,null,null,null,null,null,null,null,null,null,null,null,null,null,null,null,null,null,null,0,"",null,null,null,null,null,null,null,null,null,null,null,null,null,null,null,null,null,null,null,null,null,null,null,null,null,null,null,null,null,null,null,0,"",null,null,null,null,null,null,null,null,null,null,null,null,null,null,null,null,null,null,null,null,null,null,null,null,null,null,null,null,null,null,null,0,"",null,null,null,null,null,null,null,null,null,null,null,null,null,null,null,null,null,null,null,null,null,null,null,null,null,null,null,null,null,null,null,{"$f":"IF(รายชื่อนักเรียน!$F43=\"\",\"\",รายชื่อนักเรียน!$F43)","v":""}]
[{"$f":"รายชื่อนักเรียน!B44","v":0},{"$f":"IF(รายชื่อนักเรียน!E44=\"\",\"\",รายชื่อนักเรียน!E44)","v":""},null,null,null,null,null,null,null,null,null,null,null,null,null,null,null,null,null,null,null,null,null,null,null,null,null,null,null,null,null,null,null,0,"",null,null,null,null,null,null,null,null,null,null,null,null,null,null,null,null,null,null,null,null,null,null,null,null,null,null,null,null,null,null,null,0,"",null,null,null,null,null,null,null,null,null,null,null,null,null,null,null,null,null,null,null,null,null,null,null,null,null,null,null,null,null,null,null,0,"",null,null,null,null,null,null,null,null,null,null,null,null,null,null,null,null,null,null,null,null,null,null,null,null,null,null,null,null,null,null,null,0,"",null,null,null,null,null,null,null,null,null,null,null,null,null,null,null,null,null,null,null,null,null,null,null,null,null,null,null,null,null,null,null,0,"",null,null,null,null,null,null,null,null,null,null,null,null,null,null,null,null,null,null,null,null,null,null,null,null,null,null,null,null,null,null,null,{"$f":"IF(รายชื่อนักเรียน!$F44=\"\",\"\",รายชื่อนักเรียน!$F44)","v":""}]
[{"$f":"รายชื่อนักเรียน!B45","v":0},{"$f":"IF(รายชื่อนักเรียน!E45=\"\",\"\",รายชื่อนักเรียน!E45)","v":""},null,null,null,null,null,null,null,null,null,null,null,null,null,null,null,null,null,null,null,null,null,null,null,null,null,null,null,null,null,null,null,0,"",null,null,null,null,null,null,null,null,null,null,null,null,null,null,null,null,null,null,null,null,null,null,null,null,null,null,null,null,null,null,null,0,"",null,null,null,null,null,null,null,null,null,null,null,null,null,null,null,null,null,null,null,null,null,null,null,null,null,null,null,null,null,null,null,0,"",null,null,null,null,null,null,null,null,null,null,null,null,null,null,null,null,null,null,null,null,null,null,null,null,null,null,null,null,null,null,null,0,"",null,null,null,null,null,null,null,null,null,null,null,null,null,null,null,null,null,null,null,null,null,null,null,null,null,null,null,null,null,null,null,0,{"$f":"ED46","v":""},null,null,null,null,null,null,null,null,null,null,null,null,null,null,null,null,null,null,null,null,null,null,null,null,null,null,null,null,null,null,null,{"$f":"IF(รายชื่อนักเรียน!$F45=\"\",\"\",รายชื่อนักเรียน!$F45)","v":""}]
[{"$f":"รายชื่อนักเรียน!B46","v":0},{"$f":"IF(รายชื่อนักเรียน!E46=\"\",\"\",รายชื่อนักเรียน!E46)","v":""},null,null,null,null,null,null,null,null,null,null,null,null,null,null,null,null,null,null,null,null,null,null,null,null,null,null,null,null,null,null,null,{"$f":"A47","v":0},{"$f":"B47","v":""},null,null,null,null,null,null,null,null,null,null,null,null,null,null,null,null,null,null,null,null,null,null,null,null,null,null,null,null,null,null,null,{"$f":"AH47","v":0},{"$f":"AI47","v":""},null,null,null,null,null,null,null,null,null,null,null,null,null,null,null,null,null,null,null,null,null,null,null,null,null,null,null,null,null,null,null,{"$f":"BO47","v":0},{"$f":"BP47","v":""},null,null,null,null,null,null,null,null,null,null,null,null,null,null,null,null,null,null,null,null,null,null,null,null,null,null,null,null,null,null,null,{"$f":"CV47","v":0},{"$f":"CW47","v":""},null,null,null,null,null,null,null,null,null,null,null,null,null,null,null,null,null,null,null,null,null,null,null,null,null,null,null,null,null,null,null,0,"",null,null,null,null,null,null,null,null,null,null,null,null,null,null,null,null,null,null,null,null,null,null,null,null,null,null,null,null,null,null,null,{"$f":"IF(รายชื่อนักเรียน!$F46=\"\",\"\",รายชื่อนักเรียน!$F46)","v":""}]
[{"$f":"รายชื่อนักเรียน!B47","v":0},{"$f":"IF(รายชื่อนักเรียน!E47=\"\",\"\",รายชื่อนักเรียน!E47)","v":""},null,null,null,null,null,null,null,null,null,null,null,null,null,null,null,null,null,null,null,null,null,null,null,null,null,null,null,null,null,null,null,0,"",null,null,null,null,null,null,null,null,null,null,null,null,null,null,null,null,null,null,null,null,null,null,null,null,null,null,null,null,null,null,null,0,"",null,null,null,null,null,null,null,null,null,null,null,null,null,null,null,null,null,null,null,null,null,null,null,null,null,null,null,null,null,null,null,0,"",null,null,null,null,null,null,null,null,null,null,null,null,null,null,null,null,null,null,null,null,null,null,null,null,null,null,null,null,null,null,null,0,"",null,null,null,null,null,null,null,null,null,null,null,null,null,null,null,null,null,null,null,null,null,null,null,null,null,null,null,null,null,null,null,0,"",null,null,null,null,null,null,null,null,null,null,null,null,null,null,null,null,null,null,null,null,null,null,null,null,null,null,null,null,null,null,null,{"$f":"IF(รายชื่อนักเรียน!$F47=\"\",\"\",รายชื่อนักเรียน!$F47)","v":""}]
[{"$f":"รายชื่อนักเรียน!B48","v":0},{"$f":"IF(รายชื่อนักเรียน!E48=\"\",\"\",รายชื่อนักเรียน!E48)","v":""},null,null,null,null,null,null,null,null,null,null,null,null,null,null,null,null,null,null,null,null,null,null,null,null,null,null,null,null,null,null,null,0,"",null,null,null,null,null,null,null,null,null,null,null,null,null,null,null,null,null,null,null,null,null,null,null,null,null,null,null,null,null,null,null,0,"",null,null,null,null,null,null,null,null,null,null,null,null,null,null,null,null,null,null,null,null,null,null,null,null,null,null,null,null,null,null,null,0,"",null,null,null,null,null,null,null,null,null,null,null,null,null,null,null,null,null,null,null,null,null,null,null,null,null,null,null,null,null,null,null,0,"",null,null,null,null,null,null,null,null,null,null,null,null,null,null,null,null,null,null,null,null,null,null,null,null,null,null,null,null,null,null,null,0,"",null,null,null,null,null,null,null,null,null,null,null,null,null,null,null,null,null,null,null,null,null,null,null,null,null,null,null,null,null,null,null,{"$f":"IF(รายชื่อนักเรียน!$F48=\"\",\"\",รายชื่อนักเรียน!$F48)","v":""}]
[{"$f":"รายชื่อนักเรียน!B49","v":0},{"$f":"IF(รายชื่อนักเรียน!E49=\"\",\"\",รายชื่อนักเรียน!E49)","v":""},null,null,null,null,null,null,null,null,null,null,null,null,null,null,null,null,null,null,null,null,null,null,null,null,null,null,null,null,null,null,null,0,"",null,null,null,null,null,null,null,null,null,null,null,null,null,null,null,null,null,null,null,null,null,null,null,null,null,null,null,null,null,null,null,0,"",null,null,null,null,null,null,null,null,null,null,null,null,null,null,null,null,null,null,null,null,null,null,null,null,null,null,null,null,null,null,null,0,"",null,null,null,null,null,null,null,null,null,null,null,null,null,null,null,null,null,null,null,null,null,null,null,null,null,null,null,null,null,null,null,0,"",null,null,null,null,null,null,null,null,null,null,null,null,null,null,null,null,null,null,null,null,null,null,null,null,null,null,null,null,null,null,null,0,"",null,null,null,null,null,null,null,null,null,null,null,null,null,null,null,null,null,null,null,null,null,null,null,null,null,null,null,null,null,null,null,{"$f":"IF(รายชื่อนักเรียน!$F49=\"\",\"\",รายชื่อนักเรียน!$F49)","v":""}]
[{"$f":"รายชื่อนักเรียน!B50","v":0},{"$f":"IF(รายชื่อนักเรียน!E50=\"\",\"\",รายชื่อนักเรียน!E50)","v":""},null,null,null,null,null,null,null,null,null,null,null,null,null,null,null,null,null,null,null,null,null,null,null,null,null,null,null,null,null,null,null,0,"",null,null,null,null,null,null,null,null,null,null,null,null,null,null,null,null,null,null,null,null,null,null,null,null,null,null,null,null,null,null,null,0,"",null,null,null,null,null,null,null,null,null,null,null,null,null,null,null,null,null,null,null,null,null,null,null,null,null,null,null,null,null,null,null,0,"",null,null,null,null,null,null,null,null,null,null,null,null,null,null,null,null,null,null,null,null,null,null,null,null,null,null,null,null,null,null,null,0,"",null,null,null,null,null,null,null,null,null,null,null,null,null,null,null,null,null,null,null,null,null,null,null,null,null,null,null,null,null,null,null,0,"",null,null,null,null,null,null,null,null,null,null,null,null,null,null,null,null,null,null,null,null,null,null,null,null,null,null,null,null,null,null,null,{"$f":"IF(รายชื่อนักเรียน!$F50=\"\",\"\",รายชื่อนักเรียน!$F50)","v":""}]
[null,"วันหยุด",null,null,null,null,null,null,null,null,null,null,null,null,null,null,null,null,null,null,null,null,null,null,null,null,null,null,null,null,null,null,null,null,"วันหยุด",null,null,null,null,null,null,null,null,null,null,null,null,null,null,null,null,null,null,null,null,null,null,null,null,null,null,null,null,null,null,null,null,"วันหยุด",null,null,null,null,null,null,null,null,null,null,null,null,null,null,null,null,null,null,null,null,null,null,null,null,null,null,null,null,null,null,null,null,"วันหยุด",null,null,null,null,null,null,null,null,null,null,null,null,null,null,null,null,null,null,null,null,null,null,null,null,null,null,null,null,null,null,null,null,"วันหยุด",null,null,null,null,null,null,null,null,null,null,null,null,null,null,null,null,null,null,null,null,null,null,null,null,null,null,null,null,null,null,null,null,"วันหยุด"]
[]
[null,null,"หมายเหตุ :","ลาป่วย = ป   ,  ลากิจ = ล   ,  ขาดเรียน  =  ข   ,   มาเรียน  =   /",null,null,null,null,null,null,null,null,null,null,null,null,null,null,null,null,null,null,null,null,null,null,null,null,null,null,null,null,null,null,null,"หมายเหตุ :","ลาป่วย = ป   ,  ลากิจ = ล   ,  ขาดเรียน  =  ข   ,   มาเรียน  =   /",null,null,null,null,null,null,null,null,null,null,null,null,null,null,null,null,null,null,null,null,null,null,null,null,null,null,null,null,null,null,null,"หมายเหตุ :","ลาป่วย = ป   ,  ลากิจ = ล   ,  ขาดเรียน  =  ข   ,   มาเรียน  =   /",null,null,null,null,null,null,null,null,null,null,null,null,null,null,null,null,null,null,null,null,null,null,null,null,null,null,null,null,null,null,null,"หมายเหตุ :","ลาป่วย = ป   ,  ลากิจ = ล   ,  ขาดเรียน  =  ข   ,   มาเรียน  =   /",null,null,null,null,null,null,null,null,null,null,null,null,null,null,null,null,null,null,null,null,null,null,null,null,null,null,null,null,null,null,null,"หมายเหตุ :","ลาป่วย = ป   ,  ลากิจ = ล   ,  ขาดเรียน  =  ข   ,   มาเรียน  =   /",null,null,null,null,null,null,null,null,null,null,null,null,null,null,null,null,null,null,null,null,null,null,null,null,null,null,null,null,null,null,null,"หมายเหตุ :","ลาป่วย = ป   ,  ลากิจ = ล   ,  ขาดเรียน  =  ข   ,   มาเรียน  =   /"]

{"sheet":"สรุปเวลาเรียน","index":7,"n_rows":51,"n_cols":26,"rows_kept":51,"cut":false,"hidden":false,"merged":[[46,1,46,2],[47,1,47,2],[48,1,48,2],[49,1,49,2],[50,1,50,2],[30,1,30,2],[42,1,42,2],[43,1,43,2],[44,1,44,2],[45,1,45,2],[36,1,36,2],[37,1,37,2],[38,1,38,2],[39,1,39,2],[40,1,40,2],[41,1,41,2],[31,1,31,2],[32,1,32,2],[33,1,33,2],[34,1,34,2],[35,1,35,2],[29,1,29,2],[18,1,18,2],[19,1,19,2],[20,1,20,2],[21,1,21,2],[22,1,22,2],[23,1,23,2],[24,1,24,2],[25,1,25,2],[26,1,26,2],[27,1,27,2],[28,1,28,2],[17,1,17,2],[6,1,6,2],[7,1,7,2],[8,1,8,2],[9,1,9,2],[10,1,10,2],[11,1,11,2],[12,1,12,2],[13,1,13,2],[14,1,14,2],[15,1,15,2],[16,1,16,2],[3,12,5,12],[3,13,5,13],[3,14,5,14],[3,15,5,15],[3,16,5,16],[3,7,5,7],[3,8,5,8],[3,9,5,9],[3,10,5,10],[3,11,5,11],[0,0,0,19],[1,0,5,0],[1,1,5,2],[1,3,1,7],[1,8,1,12],[1,13,1,17],[1,18,5,18],[1,19,5,19],[2,3,2,5],[2,8,2,10],[3,17,5,17],[2,13,2,15],[3,3,5,3],[3,4,5,4],[3,5,5,5],[3,6,5,6]]}
[{"$f":"\"สรุปบันทึกเวลาเรียน วิชา\"&ตั้งค่า!C18&\"  ชั้น\"&ตั้งค่า!C17&\" ปีการศึกษา \"&ตั้งค่า!C11","v":"สรุปบันทึกเวลาเรียน วิชา  ชั้น ปีการศึกษา "}]
["ที่","ชื่อ-สกุล",null,"ภาคเรียนที่ 1",null,null,null,null,"ภาคเรียนที่ 2",null,null,null,null,"รวม 1 ปีการศึกษา",null,null,null,null,"ผลการประเมิน","หมายเหตุ"]
[null,null,null,"เวลาเรียน",null,null,0,"ชม.","เวลาเรียน",null,null,0,"ชม.","เวลาเรียน",null,null,{"$f":"G3+L3","v":0},"ชม."]
[null,null,null,"ป่วย","ลา","ขาด","มาเรียน","ร้อยละ","ป่วย","ลา","ขาด","มาเรียน","ร้อยละ","ป่วย","ลา","ขาด","มาเรียน","ร้อยละ"]
[]
[]
[{"$f":"รายชื่อนักเรียน!B6","v":0},{"$f":"IF(รายชื่อนักเรียน!E6=\"\",\"\",รายชื่อนักเรียน!E6)","v":""},null,null,null,null,null,{"$f":"IF(B7=\"\",\"\",(G7/$G$3)*100)","v":""},null,null,null,null,{"$f":"IF(B7=\"\",\"\",(L7/$L$3)*100)","v":""},{"$f":"IF(B7=\"\",\"\",(D7+I7))","v":""},{"$f":"IF(B7=\"\",\"\",E7+J7)","v":""},{"$f":"IF(B7=\"\",\"\",F7+K7)","v":""},{"$f":"IF(B7=\"\",\"\",G7+L7)","v":""},{"$f":"IF(B7=\"\",\"\",(Q7/$Q$3)*100)","v":""},{"$f":"IF(OR(รายชื่อนักเรียน!F6=\"ย้าย\",R7=\"\"),\"\",IF(Q7=\"\",\"\",IF(R7>=80,\"ผ่าน\",\"มส\")))","v":""},{"$f":"IF(รายชื่อนักเรียน!$F6=\"\",\"\",รายชื่อนักเรียน!$F6)","v":""},null,null,null,null,"ย้าย","มส"]
[{"$f":"รายชื่อนักเรียน!B7","v":0},{"$f":"IF(รายชื่อนักเรียน!E7=\"\",\"\",รายชื่อนักเรียน!E7)","v":""},null,null,null,null,null,{"$f":"IF(B8=\"\",\"\",(G8/$G$3)*100)","v":""},null,null,null,null,{"$f":"IF(B8=\"\",\"\",(L8/$L$3)*100)","v":""},{"$f":"IF(B8=\"\",\"\",(D8+I8))","v":""},{"$f":"IF(B8=\"\",\"\",E8+J8)","v":""},{"$f":"IF(B8=\"\",\"\",F8+K8)","v":""},{"$f":"IF(B8=\"\",\"\",G8+L8)","v":""},{"$f":"IF(B8=\"\",\"\",(Q8/$Q$3)*100)","v":""},{"$f":"IF(OR(รายชื่อนักเรียน!F7=\"ย้าย\",R8=\"\"),\"\",IF(Q8=\"\",\"\",IF(R8>=80,\"ผ่าน\",\"มส\")))","v":""},{"$f":"IF(รายชื่อนักเรียน!$F7=\"\",\"\",รายชื่อนักเรียน!$F7)","v":""}]
[{"$f":"รายชื่อนักเรียน!B8","v":0},{"$f":"IF(รายชื่อนักเรียน!E8=\"\",\"\",รายชื่อนักเรียน!E8)","v":""},null,null,null,null,null,"",null,null,null,null,"","","","","","",{"$f":"IF(OR(รายชื่อนักเรียน!F8=\"ย้าย\",R9=\"\"),\"\",IF(Q9=\"\",\"\",IF(R9>=80,\"ผ่าน\",\"มส\")))","v":""},{"$f":"IF(รายชื่อนักเรียน!$F8=\"\",\"\",รายชื่อนักเรียน!$F8)","v":""}]
[{"$f":"รายชื่อนักเรียน!B9","v":0},{"$f":"IF(รายชื่อนักเรียน!E9=\"\",\"\",รายชื่อนักเรียน!E9)","v":""},null,null,null,null,null,"",null,null,null,null,"","","","","","",{"$f":"IF(OR(รายชื่อนักเรียน!F9=\"ย้าย\",R10=\"\"),\"\",IF(Q10=\"\",\"\",IF(R10>=80,\"ผ่าน\",\"มส\")))","v":""},{"$f":"IF(รายชื่อนักเรียน!$F9=\"\",\"\",รายชื่อนักเรียน!$F9)","v":""}]
[{"$f":"รายชื่อนักเรียน!B10","v":0},{"$f":"IF(รายชื่อนักเรียน!E10=\"\",\"\",รายชื่อนักเรียน!E10)","v":""},null,null,null,null,null,"",null,null,null,null,"","","","","","",{"$f":"IF(OR(รายชื่อนักเรียน!F10=\"ย้าย\",R11=\"\"),\"\",IF(Q11=\"\",\"\",IF(R11>=80,\"ผ่าน\",\"มส\")))","v":""},{"$f":"IF(รายชื่อนักเรียน!$F10=\"\",\"\",รายชื่อนักเรียน!$F10)","v":""}]
[{"$f":"รายชื่อนักเรียน!B11","v":0},{"$f":"IF(รายชื่อนักเรียน!E11=\"\",\"\",รายชื่อนักเรียน!E11)","v":""},null,null,null,null,null,"",null,null,null,null,"","","","","","",{"$f":"IF(OR(รายชื่อนักเรียน!F11=\"ย้าย\",R12=\"\"),\"\",IF(Q12=\"\",\"\",IF(R12>=80,\"ผ่าน\",\"มส\")))","v":""},{"$f":"IF(รายชื่อนักเรียน!$F11=\"\",\"\",รายชื่อนักเรียน!$F11)","v":""}]
[{"$f":"รายชื่อนักเรียน!B12","v":0},{"$f":"IF(รายชื่อนักเรียน!E12=\"\",\"\",รายชื่อนักเรียน!E12)","v":""},null,null,null,null,null,"",null,null,null,null,"","","","","","",{"$f":"IF(OR(รายชื่อนักเรียน!F12=\"ย้าย\",R13=\"\"),\"\",IF(Q13=\"\",\"\",IF(R13>=80,\"ผ่าน\",\"มส\")))","v":""},{"$f":"IF(รายชื่อนักเรียน!$F12=\"\",\"\",รายชื่อนักเรียน!$F12)","v":""}]
[{"$f":"รายชื่อนักเรียน!B13","v":0},{"$f":"IF(รายชื่อนักเรียน!E13=\"\",\"\",รายชื่อนักเรียน!E13)","v":""},null,null,null,null,null,"",null,null,null,null,"","","","","","",{"$f":"IF(OR(รายชื่อนักเรียน!F13=\"ย้าย\",R14=\"\"),\"\",IF(Q14=\"\",\"\",IF(R14>=80,\"ผ่าน\",\"มส\")))","v":""},{"$f":"IF(รายชื่อนักเรียน!$F13=\"\",\"\",รายชื่อนักเรียน!$F13)","v":""}]
[{"$f":"รายชื่อนักเรียน!B14","v":0},{"$f":"IF(รายชื่อนักเรียน!E14=\"\",\"\",รายชื่อนักเรียน!E14)","v":""},null,null,null,null,null,"",null,null,null,null,"","","","","","",{"$f":"IF(OR(รายชื่อนักเรียน!F14=\"ย้าย\",R15=\"\"),\"\",IF(Q15=\"\",\"\",IF(R15>=80,\"ผ่าน\",\"มส\")))","v":""},{"$f":"IF(รายชื่อนักเรียน!$F14=\"\",\"\",รายชื่อนักเรียน!$F14)","v":""}]
[{"$f":"รายชื่อนักเรียน!B15","v":0},{"$f":"IF(รายชื่อนักเรียน!E15=\"\",\"\",รายชื่อนักเรียน!E15)","v":""},null,null,null,null,null,"",null,null,null,null,"","","","","","",{"$f":"IF(OR(รายชื่อนักเรียน!F15=\"ย้าย\",R16=\"\"),\"\",IF(Q16=\"\",\"\",IF(R16>=80,\"ผ่าน\",\"มส\")))","v":""},{"$f":"IF(รายชื่อนักเรียน!$F15=\"\",\"\",รายชื่อนักเรียน!$F15)","v":""}]
[{"$f":"รายชื่อนักเรียน!B16","v":0},{"$f":"IF(รายชื่อนักเรียน!E16=\"\",\"\",รายชื่อนักเรียน!E16)","v":""},null,null,null,null,null,"",null,null,null,null,"","","","","","",{"$f":"IF(OR(รายชื่อนักเรียน!F16=\"ย้าย\",R17=\"\"),\"\",IF(Q17=\"\",\"\",IF(R17>=80,\"ผ่าน\",\"มส\")))","v":""},{"$f":"IF(รายชื่อนักเรียน!$F16=\"\",\"\",รายชื่อนักเรียน!$F16)","v":""}]
[{"$f":"รายชื่อนักเรียน!B17","v":0},{"$f":"IF(รายชื่อนักเรียน!E17=\"\",\"\",รายชื่อนักเรียน!E17)","v":""},null,null,null,null,null,"",null,null,null,null,"","","","","","",{"$f":"IF(OR(รายชื่อนักเรียน!F17=\"ย้าย\",R18=\"\"),\"\",IF(Q18=\"\",\"\",IF(R18>=80,\"ผ่าน\",\"มส\")))","v":""},{"$f":"IF(รายชื่อนักเรียน!$F17=\"\",\"\",รายชื่อนักเรียน!$F17)","v":""}]
[{"$f":"รายชื่อนักเรียน!B18","v":0},{"$f":"IF(รายชื่อนักเรียน!E18=\"\",\"\",รายชื่อนักเรียน!E18)","v":""},null,null,null,null,null,"",null,null,null,null,"","","","","","",{"$f":"IF(OR(รายชื่อนักเรียน!F18=\"ย้าย\",R19=\"\"),\"\",IF(Q19=\"\",\"\",IF(R19>=80,\"ผ่าน\",\"มส\")))","v":""},{"$f":"IF(รายชื่อนักเรียน!$F18=\"\",\"\",รายชื่อนักเรียน!$F18)","v":""}]
[{"$f":"รายชื่อนักเรียน!B19","v":0},{"$f":"IF(รายชื่อนักเรียน!E19=\"\",\"\",รายชื่อนักเรียน!E19)","v":""},null,null,null,null,null,"",null,null,null,null,"","","","","","",{"$f":"IF(OR(รายชื่อนักเรียน!F19=\"ย้าย\",R20=\"\"),\"\",IF(Q20=\"\",\"\",IF(R20>=80,\"ผ่าน\",\"มส\")))","v":""},{"$f":"IF(รายชื่อนักเรียน!$F19=\"\",\"\",รายชื่อนักเรียน!$F19)","v":""}]
[{"$f":"รายชื่อนักเรียน!B20","v":0},{"$f":"IF(รายชื่อนักเรียน!E20=\"\",\"\",รายชื่อนักเรียน!E20)","v":""},null,null,null,null,null,"",null,null,null,null,"","","","","","",{"$f":"IF(OR(รายชื่อนักเรียน!F20=\"ย้าย\",R21=\"\"),\"\",IF(Q21=\"\",\"\",IF(R21>=80,\"ผ่าน\",\"มส\")))","v":""},{"$f":"IF(รายชื่อนักเรียน!$F20=\"\",\"\",รายชื่อนักเรียน!$F20)","v":""}]
[{"$f":"รายชื่อนักเรียน!B21","v":0},{"$f":"IF(รายชื่อนักเรียน!E21=\"\",\"\",รายชื่อนักเรียน!E21)","v":""},null,null,null,null,null,"",null,null,null,null,"","","","","","",{"$f":"IF(OR(รายชื่อนักเรียน!F21=\"ย้าย\",R22=\"\"),\"\",IF(Q22=\"\",\"\",IF(R22>=80,\"ผ่าน\",\"มส\")))","v":""},{"$f":"IF(รายชื่อนักเรียน!$F21=\"\",\"\",รายชื่อนักเรียน!$F21)","v":""}]
[{"$f":"รายชื่อนักเรียน!B22","v":0},{"$f":"IF(รายชื่อนักเรียน!E22=\"\",\"\",รายชื่อนักเรียน!E22)","v":""},null,null,null,null,null,"",null,null,null,null,"","","","","","",{"$f":"IF(OR(รายชื่อนักเรียน!F22=\"ย้าย\",R23=\"\"),\"\",IF(Q23=\"\",\"\",IF(R23>=80,\"ผ่าน\",\"มส\")))","v":""},{"$f":"IF(รายชื่อนักเรียน!$F22=\"\",\"\",รายชื่อนักเรียน!$F22)","v":""}]
[{"$f":"รายชื่อนักเรียน!B23","v":0},{"$f":"IF(รายชื่อนักเรียน!E23=\"\",\"\",รายชื่อนักเรียน!E23)","v":""},null,null,null,null,null,"",null,null,null,null,"","","","","","",{"$f":"IF(OR(รายชื่อนักเรียน!F23=\"ย้าย\",R24=\"\"),\"\",IF(Q24=\"\",\"\",IF(R24>=80,\"ผ่าน\",\"มส\")))","v":""},{"$f":"IF(รายชื่อนักเรียน!$F23=\"\",\"\",รายชื่อนักเรียน!$F23)","v":""}]
[{"$f":"รายชื่อนักเรียน!B24","v":0},{"$f":"IF(รายชื่อนักเรียน!E24=\"\",\"\",รายชื่อนักเรียน!E24)","v":""},null,null,null,null,null,"",null,null,null,null,"","","","","","",{"$f":"IF(OR(รายชื่อนักเรียน!F24=\"ย้าย\",R25=\"\"),\"\",IF(Q25=\"\",\"\",IF(R25>=80,\"ผ่าน\",\"มส\")))","v":""},{"$f":"IF(รายชื่อนักเรียน!$F24=\"\",\"\",รายชื่อนักเรียน!$F24)","v":""}]
[{"$f":"รายชื่อนักเรียน!B25","v":0},{"$f":"IF(รายชื่อนักเรียน!E25=\"\",\"\",รายชื่อนักเรียน!E25)","v":""},null,null,null,null,null,"",null,null,null,null,"","","","","","",{"$f":"IF(OR(รายชื่อนักเรียน!F25=\"ย้าย\",R26=\"\"),\"\",IF(Q26=\"\",\"\",IF(R26>=80,\"ผ่าน\",\"มส\")))","v":""},{"$f":"IF(รายชื่อนักเรียน!$F25=\"\",\"\",รายชื่อนักเรียน!$F25)","v":""}]
[{"$f":"รายชื่อนักเรียน!B26","v":0},{"$f":"IF(รายชื่อนักเรียน!E26=\"\",\"\",รายชื่อนักเรียน!E26)","v":""},null,null,null,null,null,"",null,null,null,null,"","","","","","",{"$f":"IF(OR(รายชื่อนักเรียน!F26=\"ย้าย\",R27=\"\"),\"\",IF(Q27=\"\",\"\",IF(R27>=80,\"ผ่าน\",\"มส\")))","v":""},{"$f":"IF(รายชื่อนักเรียน!$F26=\"\",\"\",รายชื่อนักเรียน!$F26)","v":""}]
[{"$f":"รายชื่อนักเรียน!B27","v":0},{"$f":"IF(รายชื่อนักเรียน!E27=\"\",\"\",รายชื่อนักเรียน!E27)","v":""},null,null,null,null,null,"",null,null,null,null,"","","","","","",{"$f":"IF(OR(รายชื่อนักเรียน!F27=\"ย้าย\",R28=\"\"),\"\",IF(Q28=\"\",\"\",IF(R28>=80,\"ผ่าน\",\"มส\")))","v":""},{"$f":"IF(รายชื่อนักเรียน!$F27=\"\",\"\",รายชื่อนักเรียน!$F27)","v":""}]
[{"$f":"รายชื่อนักเรียน!B28","v":0},{"$f":"IF(รายชื่อนักเรียน!E28=\"\",\"\",รายชื่อนักเรียน!E28)","v":""},null,null,null,null,null,"",null,null,null,null,"","","","","","",{"$f":"IF(OR(รายชื่อนักเรียน!F28=\"ย้าย\",R29=\"\"),\"\",IF(Q29=\"\",\"\",IF(R29>=80,\"ผ่าน\",\"มส\")))","v":""},{"$f":"IF(รายชื่อนักเรียน!$F28=\"\",\"\",รายชื่อนักเรียน!$F28)","v":""}]
[{"$f":"รายชื่อนักเรียน!B29","v":0},{"$f":"IF(รายชื่อนักเรียน!E29=\"\",\"\",รายชื่อนักเรียน!E29)","v":""},null,null,null,null,null,"",null,null,null,null,"","","","","","",{"$f":"IF(OR(รายชื่อนักเรียน!F29=\"ย้าย\",R30=\"\"),\"\",IF(Q30=\"\",\"\",IF(R30>=80,\"ผ่าน\",\"มส\")))","v":""},{"$f":"IF(รายชื่อนักเรียน!$F29=\"\",\"\",รายชื่อนักเรียน!$F29)","v":""}]
[{"$f":"รายชื่อนักเรียน!B30","v":0},{"$f":"IF(รายชื่อนักเรียน!E30=\"\",\"\",รายชื่อนักเรียน!E30)","v":""},null,null,null,null,null,"",null,null,null,null,"","","","","","",{"$f":"IF(OR(รายชื่อนักเรียน!F30=\"ย้าย\",R31=\"\"),\"\",IF(Q31=\"\",\"\",IF(R31>=80,\"ผ่าน\",\"มส\")))","v":""},{"$f":"IF(รายชื่อนักเรียน!$F30=\"\",\"\",รายชื่อนักเรียน!$F30)","v":""}]
[{"$f":"รายชื่อนักเรียน!B31","v":0},{"$f":"IF(รายชื่อนักเรียน!E31=\"\",\"\",รายชื่อนักเรียน!E31)","v":""},null,null,null,null,null,"",null,null,null,null,"","","","","","",{"$f":"IF(OR(รายชื่อนักเรียน!F31=\"ย้าย\",R32=\"\"),\"\",IF(Q32=\"\",\"\",IF(R32>=80,\"ผ่าน\",\"มส\")))","v":""},{"$f":"IF(รายชื่อนักเรียน!$F31=\"\",\"\",รายชื่อนักเรียน!$F31)","v":""}]
[{"$f":"รายชื่อนักเรียน!B32","v":0},{"$f":"IF(รายชื่อนักเรียน!E32=\"\",\"\",รายชื่อนักเรียน!E32)","v":""},null,null,null,null,null,"",null,null,null,null,"","","","","","",{"$f":"IF(OR(รายชื่อนักเรียน!F32=\"ย้าย\",R33=\"\"),\"\",IF(Q33=\"\",\"\",IF(R33>=80,\"ผ่าน\",\"มส\")))","v":""},{"$f":"IF(รายชื่อนักเรียน!$F32=\"\",\"\",รายชื่อนักเรียน!$F32)","v":""}]
[{"$f":"รายชื่อนักเรียน!B33","v":0},{"$f":"IF(รายชื่อนักเรียน!E33=\"\",\"\",รายชื่อนักเรียน!E33)","v":""},null,null,null,null,null,"",null,null,null,null,"","","","","","",{"$f":"IF(OR(รายชื่อนักเรียน!F33=\"ย้าย\",R34=\"\"),\"\",IF(Q34=\"\",\"\",IF(R34>=80,\"ผ่าน\",\"มส\")))","v":""},{"$f":"IF(รายชื่อนักเรียน!$F33=\"\",\"\",รายชื่อนักเรียน!$F33)","v":""}]
[{"$f":"รายชื่อนักเรียน!B34","v":0},{"$f":"IF(รายชื่อนักเรียน!E34=\"\",\"\",รายชื่อนักเรียน!E34)","v":""},null,null,null,null,null,"",null,null,null,null,"","","","","","",{"$f":"IF(OR(รายชื่อนักเรียน!F34=\"ย้าย\",R35=\"\"),\"\",IF(Q35=\"\",\"\",IF(R35>=80,\"ผ่าน\",\"มส\")))","v":""},{"$f":"IF(รายชื่อนักเรียน!$F34=\"\",\"\",รายชื่อนักเรียน!$F34)","v":""}]
[{"$f":"รายชื่อนักเรียน!B35","v":0},{"$f":"IF(รายชื่อนักเรียน!E35=\"\",\"\",รายชื่อนักเรียน!E35)","v":""},null,null,null,null,null,"",null,null,null,null,"","","","","","",{"$f":"IF(OR(รายชื่อนักเรียน!F35=\"ย้าย\",R36=\"\"),\"\",IF(Q36=\"\",\"\",IF(R36>=80,\"ผ่าน\",\"มส\")))","v":""},{"$f":"IF(รายชื่อนักเรียน!$F35=\"\",\"\",รายชื่อนักเรียน!$F35)","v":""}]
[{"$f":"รายชื่อนักเรียน!B36","v":0},{"$f":"IF(รายชื่อนักเรียน!E36=\"\",\"\",รายชื่อนักเรียน!E36)","v":""},null,null,null,null,null,"",null,null,null,null,"","","","","","",{"$f":"IF(OR(รายชื่อนักเรียน!F36=\"ย้าย\",R37=\"\"),\"\",IF(Q37=\"\",\"\",IF(R37>=80,\"ผ่าน\",\"มส\")))","v":""},{"$f":"IF(รายชื่อนักเรียน!$F36=\"\",\"\",รายชื่อนักเรียน!$F36)","v":""}]
[{"$f":"รายชื่อนักเรียน!B37","v":0},{"$f":"IF(รายชื่อนักเรียน!E37=\"\",\"\",รายชื่อนักเรียน!E37)","v":""},null,null,null,null,null,"",null,null,null,null,"","","","","","",{"$f":"IF(OR(รายชื่อนักเรียน!F37=\"ย้าย\",R38=\"\"),\"\",IF(Q38=\"\",\"\",IF(R38>=80,\"ผ่าน\",\"มส\")))","v":""},{"$f":"IF(รายชื่อนักเรียน!$F37=\"\",\"\",รายชื่อนักเรียน!$F37)","v":""}]
[{"$f":"รายชื่อนักเรียน!B38","v":0},{"$f":"IF(รายชื่อนักเรียน!E38=\"\",\"\",รายชื่อนักเรียน!E38)","v":""},null,null,null,null,null,"",null,null,null,null,"","","","","","",{"$f":"IF(OR(รายชื่อนักเรียน!F38=\"ย้าย\",R39=\"\"),\"\",IF(Q39=\"\",\"\",IF(R39>=80,\"ผ่าน\",\"มส\")))","v":""},{"$f":"IF(รายชื่อนักเรียน!$F38=\"\",\"\",รายชื่อนักเรียน!$F38)","v":""}]
[{"$f":"รายชื่อนักเรียน!B39","v":0},{"$f":"IF(รายชื่อนักเรียน!E39=\"\",\"\",รายชื่อนักเรียน!E39)","v":""},null,null,null,null,null,"",null,null,null,null,"","","","","","",{"$f":"IF(OR(รายชื่อนักเรียน!F39=\"ย้าย\",R40=\"\"),\"\",IF(Q40=\"\",\"\",IF(R40>=80,\"ผ่าน\",\"มส\")))","v":""},{"$f":"IF(รายชื่อนักเรียน!$F39=\"\",\"\",รายชื่อนักเรียน!$F39)","v":""}]
[{"$f":"รายชื่อนักเรียน!B40","v":0},{"$f":"IF(รายชื่อนักเรียน!E40=\"\",\"\",รายชื่อนักเรียน!E40)","v":""},null,null,null,null,null,"",null,null,null,null,"","","","","","",{"$f":"IF(OR(รายชื่อนักเรียน!F40=\"ย้าย\",R41=\"\"),\"\",IF(Q41=\"\",\"\",IF(R41>=80,\"ผ่าน\",\"มส\")))","v":""},{"$f":"IF(รายชื่อนักเรียน!$F40=\"\",\"\",รายชื่อนักเรียน!$F40)","v":""}]
[{"$f":"รายชื่อนักเรียน!B41","v":0},{"$f":"IF(รายชื่อนักเรียน!E41=\"\",\"\",รายชื่อนักเรียน!E41)","v":""},null,null,null,null,null,"",null,null,null,null,"","","","","","",{"$f":"IF(OR(รายชื่อนักเรียน!F41=\"ย้าย\",R42=\"\"),\"\",IF(Q42=\"\",\"\",IF(R42>=80,\"ผ่าน\",\"มส\")))","v":""},{"$f":"IF(รายชื่อนักเรียน!$F41=\"\",\"\",รายชื่อนักเรียน!$F41)","v":""}]
[{"$f":"รายชื่อนักเรียน!B42","v":0},{"$f":"IF(รายชื่อนักเรียน!E42=\"\",\"\",รายชื่อนักเรียน!E42)","v":""},null,null,null,null,null,"",null,null,null,null,"","","","","","",{"$f":"IF(OR(รายชื่อนักเรียน!F42=\"ย้าย\",R43=\"\"),\"\",IF(Q43=\"\",\"\",IF(R43>=80,\"ผ่าน\",\"มส\")))","v":""},{"$f":"IF(รายชื่อนักเรียน!$F42=\"\",\"\",รายชื่อนักเรียน!$F42)","v":""}]
[{"$f":"รายชื่อนักเรียน!B43","v":0},{"$f":"IF(รายชื่อนักเรียน!E43=\"\",\"\",รายชื่อนักเรียน!E43)","v":""},null,null,null,null,null,"",null,null,null,null,"","","","","","",{"$f":"IF(OR(รายชื่อนักเรียน!F43=\"ย้าย\",R44=\"\"),\"\",IF(Q44=\"\",\"\",IF(R44>=80,\"ผ่าน\",\"มส\")))","v":""},{"$f":"IF(รายชื่อนักเรียน!$F43=\"\",\"\",รายชื่อนักเรียน!$F43)","v":""}]
[{"$f":"รายชื่อนักเรียน!B44","v":0},{"$f":"IF(รายชื่อนักเรียน!E44=\"\",\"\",รายชื่อนักเรียน!E44)","v":""},null,null,null,null,null,"",null,null,null,null,"","","","","","",{"$f":"IF(OR(รายชื่อนักเรียน!F44=\"ย้าย\",R45=\"\"),\"\",IF(Q45=\"\",\"\",IF(R45>=80,\"ผ่าน\",\"มส\")))","v":""},{"$f":"IF(รายชื่อนักเรียน!$F44=\"\",\"\",รายชื่อนักเรียน!$F44)","v":""}]
[{"$f":"รายชื่อนักเรียน!B45","v":0},{"$f":"IF(รายชื่อนักเรียน!E45=\"\",\"\",รายชื่อนักเรียน!E45)","v":""},null,null,null,null,null,"",null,null,null,null,"","","","","","",{"$f":"IF(OR(รายชื่อนักเรียน!F45=\"ย้าย\",R46=\"\"),\"\",IF(Q46=\"\",\"\",IF(R46>=80,\"ผ่าน\",\"มส\")))","v":""},{"$f":"IF(รายชื่อนักเรียน!$F45=\"\",\"\",รายชื่อนักเรียน!$F45)","v":""}]
[{"$f":"รายชื่อนักเรียน!B46","v":0},{"$f":"IF(รายชื่อนักเรียน!E46=\"\",\"\",รายชื่อนักเรียน!E46)","v":""},null,null,null,null,null,{"$f":"IF(B47=\"\",\"\",(G47/$G$3)*100)","v":""},null,null,null,null,{"$f":"IF(B47=\"\",\"\",(L47/$L$3)*100)","v":""},{"$f":"IF(B47=\"\",\"\",(D47+I47))","v":""},{"$f":"IF(B47=\"\",\"\",E47+J47)","v":""},{"$f":"IF(B47=\"\",\"\",F47+K47)","v":""},{"$f":"IF(B47=\"\",\"\",G47+L47)","v":""},{"$f":"IF(B47=\"\",\"\",(Q47/$Q$3)*100)","v":""},{"$f":"IF(OR(รายชื่อนักเรียน!F46=\"ย้าย\",R47=\"\"),\"\",IF(Q47=\"\",\"\",IF(R47>=80,\"ผ่าน\",\"มส\")))","v":""},{"$f":"IF(รายชื่อนักเรียน!$F46=\"\",\"\",รายชื่อนักเรียน!$F46)","v":""}]
[{"$f":"รายชื่อนักเรียน!B47","v":0},{"$f":"IF(รายชื่อนักเรียน!E47=\"\",\"\",รายชื่อนักเรียน!E47)","v":""},null,null,null,null,null,"",null,null,null,null,"","","","","","",{"$f":"IF(OR(รายชื่อนักเรียน!F47=\"ย้าย\",R48=\"\"),\"\",IF(Q48=\"\",\"\",IF(R48>=80,\"ผ่าน\",\"มส\")))","v":""},{"$f":"IF(รายชื่อนักเรียน!$F47=\"\",\"\",รายชื่อนักเรียน!$F47)","v":""}]
[{"$f":"รายชื่อนักเรียน!B48","v":0},{"$f":"IF(รายชื่อนักเรียน!E48=\"\",\"\",รายชื่อนักเรียน!E48)","v":""},null,null,null,null,null,"",null,null,null,null,"","","","","","",{"$f":"IF(OR(รายชื่อนักเรียน!F48=\"ย้าย\",R49=\"\"),\"\",IF(Q49=\"\",\"\",IF(R49>=80,\"ผ่าน\",\"มส\")))","v":""},{"$f":"IF(รายชื่อนักเรียน!$F48=\"\",\"\",รายชื่อนักเรียน!$F48)","v":""}]
[{"$f":"รายชื่อนักเรียน!B49","v":0},{"$f":"IF(รายชื่อนักเรียน!E49=\"\",\"\",รายชื่อนักเรียน!E49)","v":""},null,null,null,null,null,"",null,null,null,null,"","","","","","",{"$f":"IF(OR(รายชื่อนักเรียน!F49=\"ย้าย\",R50=\"\"),\"\",IF(Q50=\"\",\"\",IF(R50>=80,\"ผ่าน\",\"มส\")))","v":""},{"$f":"IF(รายชื่อนักเรียน!$F49=\"\",\"\",รายชื่อนักเรียน!$F49)","v":""}]
[{"$f":"รายชื่อนักเรียน!B50","v":0},{"$f":"IF(รายชื่อนักเรียน!E50=\"\",\"\",รายชื่อนักเรียน!E50)","v":""},null,null,null,null,null,"",null,null,null,null,"","","","","","",{"$f":"IF(OR(รายชื่อนักเรียน!F50=\"ย้าย\",R51=\"\"),\"\",IF(Q51=\"\",\"\",IF(R51>=80,\"ผ่าน\",\"มส\")))","v":""},{"$f":"IF(รายชื่อนักเรียน!$F50=\"\",\"\",รายชื่อนักเรียน!$F50)","v":""}]

{"sheet":"ประเมิน ตชว.ระหว่างทาง","index":8,"n_rows":52,"n_cols":48,"rows_kept":52,"cut":false,"hidden":false,"merged":[[15,1,15,2],[16,1,16,2],[33,1,33,2],[34,1,34,2],[21,1,21,2],[17,1,17,2],[18,1,18,2],[19,1,19,2],[20,1,20,2],[51,1,51,2],[45,1,45,2],[46,1,46,2],[39,1,39,2],[40,1,40,2],[41,1,41,2],[42,1,42,2],[43,1,43,2],[44,1,44,2],[47,1,47,2],[48,1,48,2],[49,1,49,2],[50,1,50,2],[38,1,38,2],[27,1,27,2],[22,1,22,2],[23,1,23,2],[24,1,24,2],[25,1,25,2],[35,1,35,2],[36,1,36,2],[37,1,37,2],[28,1,28,2],[29,1,29,2],[30,1,30,2],[31,1,31,2],[32,1,32,2],[26,1,26,2],[9,1,9,2],[14,1,14,2],[10,1,10,2],[11,1,11,2],[12,1,12,2],[13,1,13,2],[7,52,8,54],[2,0,6,0],[2,1,6,1],[7,1,7,2],[8,1,8,2],[1,1,1,11],[0,19,0,27],[2,46,6,46],[2,45,5,45],[1,35,1,46],[2,43,2,44],[3,43,3,44],[5,43,5,44],[0,3,0,11]]}
[null,{"$f":"COUNTIF(D6:AQ6,\"*\")","v":0},"ข้อ","การประเมินตัวชี้วัดระหว่างทาง"]
[0,{"$f":"\"การประเมินตัวชี้วัดวิชา\"&ตั้งค่า!C18&\"  ชั้น\"&ตั้งค่า!C17","v":"การประเมินตัวชี้วัดวิชา  ชั้น"}]
["ที่","ชื่อ-สกุล","ข้อที่",{"$f":"TRANSPOSE(ตัวชี้วัดระหว่างทาง!B5:B44)","v":0},0,0,0,0,0,0,0,0,0,0,0,0,0,0,0,0,0,0,0,0,0,0,0,0,0,0,0,0,0,0,0,0,0,0,0,0,0,0,0,"จำนวนตัวชี้วัด",null,"คิดเป็นร้อยละ","หมายเหตุ","ย้าย"]
[null,null,"ภาคเรียนที่",{"$f":"TRANSPOSE(กรอกตัวชี้วัด!J4:J43)","v":0},0,0,0,0,0,0,0,0,0,0,0,0,0,0,0,0,0,0,0,0,0,0,0,0,0,0,0,0,0,0,0,0,0,0,0,0,0,0,0,"ทั้งหมด"]
[null,null,"มาตรฐาน",{"$f":"TRANSPOSE(ตัวชี้วัดระหว่างทาง!C5:C44)","v":0},0,0,0,0,0,0,0,0,0,0,0,0,0,0,0,0,0,0,0,0,0,0,0,0,0,0,0,0,0,0,0,0,0,0,0,0,0,0,0,{"$f":"COUNTIF(D6:AQ6,\"*\")","v":0},"ข้อ"]
[null,null,"ตัวชี้วัด",{"$f":"TRANSPOSE(ตัวชี้วัดระหว่างทาง!D5:D44)","v":0},0,0,0,0,0,0,0,0,0,0,0,0,0,0,0,0,0,0,0,0,0,0,0,0,0,0,0,0,0,0,0,0,0,0,0,0,0,0,0,"จำนวนตัวชี้วัด"]
[null,null,"ผลการประเมิน","สรุป","สรุป","สรุป","สรุป","สรุป","สรุป","สรุป","สรุป","สรุป","สรุป","สรุป","สรุป","สรุป","สรุป","สรุป","สรุป","สรุป","สรุป","สรุป","สรุป","สรุป","สรุป","สรุป","สรุป","สรุป","สรุป","สรุป","สรุป","สรุป","สรุป","สรุป","สรุป","สรุป","สรุป","สรุป","สรุป","สรุป","สรุป","สรุป","สรุป","ผ่าน","ไม่ผ่าน","%"]
[{"$f":"รายชื่อนักเรียน!B6","v":0},{"$f":"IF(รายชื่อนักเรียน!E6=\"\",\"\",รายชื่อนักเรียน!E6)","v":""},null,null,null,null,null,null,null,null,null,null,null,null,null,null,null,null,null,null,null,null,null,null,null,null,null,null,null,null,null,null,null,null,null,null,null,null,null,null,null,null,null,{"$f":"IF(B8=\"\",\"\",COUNTIF(D8:AQ8,\"/\"))","v":""},{"$f":"IF(B8=\"\",\"\",COUNTIF(D8:AQ8,\"x\"))","v":""},{"$f":"IF(B8=\"\",\"\",IFERROR((AR8*100)/$AR$5,0))","v":""},{"$f":"รายชื่อนักเรียน!F6","v":0}]
[{"$f":"รายชื่อนักเรียน!B7","v":0},{"$f":"IF(รายชื่อนักเรียน!E7=\"\",\"\",รายชื่อนักเรียน!E7)","v":""},null,null,null,null,null,null,null,null,null,null,null,null,null,null,null,null,null,null,null,null,null,null,null,null,null,null,null,null,null,null,null,null,null,null,null,null,null,null,null,null,null,{"$f":"IF(B9=\"\",\"\",COUNTIF(D9:AQ9,\"/\"))","v":""},{"$f":"IF(B9=\"\",\"\",COUNTIF(D9:AQ9,\"x\"))","v":""}]
[{"$f":"รายชื่อนักเรียน!B8","v":0},{"$f":"IF(รายชื่อนักเรียน!E8=\"\",\"\",รายชื่อนักเรียน!E8)","v":""},null,null,null,null,null,null,null,null,null,null,null,null,null,null,null,null,null,null,null,null,null,null,null,null,null,null,null,null,null,null,null,null,null,null,null,null,null,null,null,null,null,"",""]
[{"$f":"รายชื่อนักเรียน!B9","v":0},{"$f":"IF(รายชื่อนักเรียน!E9=\"\",\"\",รายชื่อนักเรียน!E9)","v":""},null,null,null,null,null,null,null,null,null,null,null,null,null,null,null,null,null,null,null,null,null,null,null,null,null,null,null,null,null,null,null,null,null,null,null,null,null,null,null,null,null,"",""]
[{"$f":"รายชื่อนักเรียน!B10","v":0},{"$f":"IF(รายชื่อนักเรียน!E10=\"\",\"\",รายชื่อนักเรียน!E10)","v":""},null,null,null,null,null,null,null,null,null,null,null,null,null,null,null,null,null,null,null,null,null,null,null,null,null,null,null,null,null,null,null,null,null,null,null,null,null,null,null,null,null,"",""]
[{"$f":"รายชื่อนักเรียน!B11","v":0},{"$f":"IF(รายชื่อนักเรียน!E11=\"\",\"\",รายชื่อนักเรียน!E11)","v":""},null,null,null,null,null,null,null,null,null,null,null,null,null,null,null,null,null,null,null,null,null,null,null,null,null,null,null,null,null,null,null,null,null,null,null,null,null,null,null,null,null,"",""]
[{"$f":"รายชื่อนักเรียน!B12","v":0},{"$f":"IF(รายชื่อนักเรียน!E12=\"\",\"\",รายชื่อนักเรียน!E12)","v":""},null,null,null,null,null,null,null,null,null,null,null,null,null,null,null,null,null,null,null,null,null,null,null,null,null,null,null,null,null,null,null,null,null,null,null,null,null,null,null,null,null,"",""]
[{"$f":"รายชื่อนักเรียน!B13","v":0},{"$f":"IF(รายชื่อนักเรียน!E13=\"\",\"\",รายชื่อนักเรียน!E13)","v":""},null,null,null,null,null,null,null,null,null,null,null,null,null,null,null,null,null,null,null,null,null,null,null,null,null,null,null,null,null,null,null,null,null,null,null,null,null,null,null,null,null,"",""]
[{"$f":"รายชื่อนักเรียน!B14","v":0},{"$f":"IF(รายชื่อนักเรียน!E14=\"\",\"\",รายชื่อนักเรียน!E14)","v":""},null,null,null,null,null,null,null,null,null,null,null,null,null,null,null,null,null,null,null,null,null,null,null,null,null,null,null,null,null,null,null,null,null,null,null,null,null,null,null,null,null,"",""]
[{"$f":"รายชื่อนักเรียน!B15","v":0},{"$f":"IF(รายชื่อนักเรียน!E15=\"\",\"\",รายชื่อนักเรียน!E15)","v":""},null,null,null,null,null,null,null,null,null,null,null,null,null,null,null,null,null,null,null,null,null,null,null,null,null,null,null,null,null,null,null,null,null,null,null,null,null,null,null,null,null,"",""]
[{"$f":"รายชื่อนักเรียน!B16","v":0},{"$f":"IF(รายชื่อนักเรียน!E16=\"\",\"\",รายชื่อนักเรียน!E16)","v":""},null,null,null,null,null,null,null,null,null,null,null,null,null,null,null,null,null,null,null,null,null,null,null,null,null,null,null,null,null,null,null,null,null,null,null,null,null,null,null,null,null,"",""]
[{"$f":"รายชื่อนักเรียน!B17","v":0},{"$f":"IF(รายชื่อนักเรียน!E17=\"\",\"\",รายชื่อนักเรียน!E17)","v":""},null,null,null,null,null,null,null,null,null,null,null,null,null,null,null,null,null,null,null,null,null,null,null,null,null,null,null,null,null,null,null,null,null,null,null,null,null,null,null,null,null,"",""]
[{"$f":"รายชื่อนักเรียน!B18","v":0},{"$f":"IF(รายชื่อนักเรียน!E18=\"\",\"\",รายชื่อนักเรียน!E18)","v":""},null,null,null,null,null,null,null,null,null,null,null,null,null,null,null,null,null,null,null,null,null,null,null,null,null,null,null,null,null,null,null,null,null,null,null,null,null,null,null,null,null,"",""]
[{"$f":"รายชื่อนักเรียน!B19","v":0},{"$f":"IF(รายชื่อนักเรียน!E19=\"\",\"\",รายชื่อนักเรียน!E19)","v":""},null,null,null,null,null,null,null,null,null,null,null,null,null,null,null,null,null,null,null,null,null,null,null,null,null,null,null,null,null,null,null,null,null,null,null,null,null,null,null,null,null,"",""]
[{"$f":"รายชื่อนักเรียน!B20","v":0},{"$f":"IF(รายชื่อนักเรียน!E20=\"\",\"\",รายชื่อนักเรียน!E20)","v":""},null,null,null,null,null,null,null,null,null,null,null,null,null,null,null,null,null,null,null,null,null,null,null,null,null,null,null,null,null,null,null,null,null,null,null,null,null,null,null,null,null,"",""]
[{"$f":"รายชื่อนักเรียน!B21","v":0},{"$f":"IF(รายชื่อนักเรียน!E21=\"\",\"\",รายชื่อนักเรียน!E21)","v":""},null,null,null,null,null,null,null,null,null,null,null,null,null,null,null,null,null,null,null,null,null,null,null,null,null,null,null,null,null,null,null,null,null,null,null,null,null,null,null,null,null,"",""]
[{"$f":"รายชื่อนักเรียน!B22","v":0},{"$f":"IF(รายชื่อนักเรียน!E22=\"\",\"\",รายชื่อนักเรียน!E22)","v":""},null,null,null,null,null,null,null,null,null,null,null,null,null,null,null,null,null,null,null,null,null,null,null,null,null,null,null,null,null,null,null,null,null,null,null,null,null,null,null,null,null,"",""]
[{"$f":"รายชื่อนักเรียน!B23","v":0},{"$f":"IF(รายชื่อนักเรียน!E23=\"\",\"\",รายชื่อนักเรียน!E23)","v":""},null,null,null,null,null,null,null,null,null,null,null,null,null,null,null,null,null,null,null,null,null,null,null,null,null,null,null,null,null,null,null,null,null,null,null,null,null,null,null,null,null,"",""]
[{"$f":"รายชื่อนักเรียน!B24","v":0},{"$f":"IF(รายชื่อนักเรียน!E24=\"\",\"\",รายชื่อนักเรียน!E24)","v":""},null,null,null,null,null,null,null,null,null,null,null,null,null,null,null,null,null,null,null,null,null,null,null,null,null,null,null,null,null,null,null,null,null,null,null,null,null,null,null,null,null,"",""]
[{"$f":"รายชื่อนักเรียน!B25","v":0},{"$f":"IF(รายชื่อนักเรียน!E25=\"\",\"\",รายชื่อนักเรียน!E25)","v":""},null,null,null,null,null,null,null,null,null,null,null,null,null,null,null,null,null,null,null,null,null,null,null,null,null,null,null,null,null,null,null,null,null,null,null,null,null,null,null,null,null,"",""]
[{"$f":"รายชื่อนักเรียน!B26","v":0},{"$f":"IF(รายชื่อนักเรียน!E26=\"\",\"\",รายชื่อนักเรียน!E26)","v":""},null,null,null,null,null,null,null,null,null,null,null,null,null,null,null,null,null,null,null,null,null,null,null,null,null,null,null,null,null,null,null,null,null,null,null,null,null,null,null,null,null,"",""]
[{"$f":"รายชื่อนักเรียน!B27","v":0},{"$f":"IF(รายชื่อนักเรียน!E27=\"\",\"\",รายชื่อนักเรียน!E27)","v":""},null,null,null,null,null,null,null,null,null,null,null,null,null,null,null,null,null,null,null,null,null,null,null,null,null,null,null,null,null,null,null,null,null,null,null,null,null,null,null,null,null,"",""]
[{"$f":"รายชื่อนักเรียน!B28","v":0},{"$f":"IF(รายชื่อนักเรียน!E28=\"\",\"\",รายชื่อนักเรียน!E28)","v":""},null,null,null,null,null,null,null,null,null,null,null,null,null,null,null,null,null,null,null,null,null,null,null,null,null,null,null,null,null,null,null,null,null,null,null,null,null,null,null,null,null,"",""]
[{"$f":"รายชื่อนักเรียน!B29","v":0},{"$f":"IF(รายชื่อนักเรียน!E29=\"\",\"\",รายชื่อนักเรียน!E29)","v":""},null,null,null,null,null,null,null,null,null,null,null,null,null,null,null,null,null,null,null,null,null,null,null,null,null,null,null,null,null,null,null,null,null,null,null,null,null,null,null,null,null,"",""]
[{"$f":"รายชื่อนักเรียน!B30","v":0},{"$f":"IF(รายชื่อนักเรียน!E30=\"\",\"\",รายชื่อนักเรียน!E30)","v":""},null,null,null,null,null,null,null,null,null,null,null,null,null,null,null,null,null,null,null,null,null,null,null,null,null,null,null,null,null,null,null,null,null,null,null,null,null,null,null,null,null,"",""]
[{"$f":"รายชื่อนักเรียน!B31","v":0},{"$f":"IF(รายชื่อนักเรียน!E31=\"\",\"\",รายชื่อนักเรียน!E31)","v":""},null,null,null,null,null,null,null,null,null,null,null,null,null,null,null,null,null,null,null,null,null,null,null,null,null,null,null,null,null,null,null,null,null,null,null,null,null,null,null,null,null,"",""]
[{"$f":"รายชื่อนักเรียน!B32","v":0},{"$f":"IF(รายชื่อนักเรียน!E32=\"\",\"\",รายชื่อนักเรียน!E32)","v":""},null,null,null,null,null,null,null,null,null,null,null,null,null,null,null,null,null,null,null,null,null,null,null,null,null,null,null,null,null,null,null,null,null,null,null,null,null,null,null,null,null,"",""]
[{"$f":"รายชื่อนักเรียน!B33","v":0},{"$f":"IF(รายชื่อนักเรียน!E33=\"\",\"\",รายชื่อนักเรียน!E33)","v":""},null,null,null,null,null,null,null,null,null,null,null,null,null,null,null,null,null,null,null,null,null,null,null,null,null,null,null,null,null,null,null,null,null,null,null,null,null,null,null,null,null,"",""]
[{"$f":"รายชื่อนักเรียน!B34","v":0},{"$f":"IF(รายชื่อนักเรียน!E34=\"\",\"\",รายชื่อนักเรียน!E34)","v":""},null,null,null,null,null,null,null,null,null,null,null,null,null,null,null,null,null,null,null,null,null,null,null,null,null,null,null,null,null,null,null,null,null,null,null,null,null,null,null,null,null,"",""]
[{"$f":"รายชื่อนักเรียน!B35","v":0},{"$f":"IF(รายชื่อนักเรียน!E35=\"\",\"\",รายชื่อนักเรียน!E35)","v":""},null,null,null,null,null,null,null,null,null,null,null,null,null,null,null,null,null,null,null,null,null,null,null,null,null,null,null,null,null,null,null,null,null,null,null,null,null,null,null,null,null,"",""]
[{"$f":"รายชื่อนักเรียน!B36","v":0},{"$f":"IF(รายชื่อนักเรียน!E36=\"\",\"\",รายชื่อนักเรียน!E36)","v":""},null,null,null,null,null,null,null,null,null,null,null,null,null,null,null,null,null,null,null,null,null,null,null,null,null,null,null,null,null,null,null,null,null,null,null,null,null,null,null,null,null,"",""]
[{"$f":"รายชื่อนักเรียน!B37","v":0},{"$f":"IF(รายชื่อนักเรียน!E37=\"\",\"\",รายชื่อนักเรียน!E37)","v":""},null,null,null,null,null,null,null,null,null,null,null,null,null,null,null,null,null,null,null,null,null,null,null,null,null,null,null,null,null,null,null,null,null,null,null,null,null,null,null,null,null,"",""]
[{"$f":"รายชื่อนักเรียน!B38","v":0},{"$f":"IF(รายชื่อนักเรียน!E38=\"\",\"\",รายชื่อนักเรียน!E38)","v":""},null,null,null,null,null,null,null,null,null,null,null,null,null,null,null,null,null,null,null,null,null,null,null,null,null,null,null,null,null,null,null,null,null,null,null,null,null,null,null,null,null,"",""]
[{"$f":"รายชื่อนักเรียน!B39","v":0},{"$f":"IF(รายชื่อนักเรียน!E39=\"\",\"\",รายชื่อนักเรียน!E39)","v":""},null,null,null,null,null,null,null,null,null,null,null,null,null,null,null,null,null,null,null,null,null,null,null,null,null,null,null,null,null,null,null,null,null,null,null,null,null,null,null,null,null,"",""]
[{"$f":"รายชื่อนักเรียน!B40","v":0},{"$f":"IF(รายชื่อนักเรียน!E40=\"\",\"\",รายชื่อนักเรียน!E40)","v":""},null,null,null,null,null,null,null,null,null,null,null,null,null,null,null,null,null,null,null,null,null,null,null,null,null,null,null,null,null,null,null,null,null,null,null,null,null,null,null,null,null,"",""]
[{"$f":"รายชื่อนักเรียน!B41","v":0},{"$f":"IF(รายชื่อนักเรียน!E41=\"\",\"\",รายชื่อนักเรียน!E41)","v":""},null,null,null,null,null,null,null,null,null,null,null,null,null,null,null,null,null,null,null,null,null,null,null,null,null,null,null,null,null,null,null,null,null,null,null,null,null,null,null,null,null,"",""]
[{"$f":"รายชื่อนักเรียน!B42","v":0},{"$f":"IF(รายชื่อนักเรียน!E42=\"\",\"\",รายชื่อนักเรียน!E42)","v":""},null,null,null,null,null,null,null,null,null,null,null,null,null,null,null,null,null,null,null,null,null,null,null,null,null,null,null,null,null,null,null,null,null,null,null,null,null,null,null,null,null,"",""]
[{"$f":"รายชื่อนักเรียน!B43","v":0},{"$f":"IF(รายชื่อนักเรียน!E43=\"\",\"\",รายชื่อนักเรียน!E43)","v":""},null,null,null,null,null,null,null,null,null,null,null,null,null,null,null,null,null,null,null,null,null,null,null,null,null,null,null,null,null,null,null,null,null,null,null,null,null,null,null,null,null,"",""]
[{"$f":"รายชื่อนักเรียน!B44","v":0},{"$f":"IF(รายชื่อนักเรียน!E44=\"\",\"\",รายชื่อนักเรียน!E44)","v":""},null,null,null,null,null,null,null,null,null,null,null,null,null,null,null,null,null,null,null,null,null,null,null,null,null,null,null,null,null,null,null,null,null,null,null,null,null,null,null,null,null,"",""]
[{"$f":"รายชื่อนักเรียน!B45","v":0},{"$f":"IF(รายชื่อนักเรียน!E45=\"\",\"\",รายชื่อนักเรียน!E45)","v":""},null,null,null,null,null,null,null,null,null,null,null,null,null,null,null,null,null,null,null,null,null,null,null,null,null,null,null,null,null,null,null,null,null,null,null,null,null,null,null,null,null,"",""]
[{"$f":"รายชื่อนักเรียน!B46","v":0},{"$f":"IF(รายชื่อนักเรียน!E46=\"\",\"\",รายชื่อนักเรียน!E46)","v":""},null,null,null,null,null,null,null,null,null,null,null,null,null,null,null,null,null,null,null,null,null,null,null,null,null,null,null,null,null,null,null,null,null,null,null,null,null,null,null,null,null,"",""]
[{"$f":"รายชื่อนักเรียน!B47","v":0},{"$f":"IF(รายชื่อนักเรียน!E47=\"\",\"\",รายชื่อนักเรียน!E47)","v":""},null,null,null,null,null,null,null,null,null,null,null,null,null,null,null,null,null,null,null,null,null,null,null,null,null,null,null,null,null,null,null,null,null,null,null,null,null,null,null,null,null,"",""]
[{"$f":"รายชื่อนักเรียน!B48","v":0},{"$f":"IF(รายชื่อนักเรียน!E48=\"\",\"\",รายชื่อนักเรียน!E48)","v":""},null,null,null,null,null,null,null,null,null,null,null,null,null,null,null,null,null,null,null,null,null,null,null,null,null,null,null,null,null,null,null,null,null,null,null,null,null,null,null,null,null,"",""]
[{"$f":"รายชื่อนักเรียน!B49","v":0},{"$f":"IF(รายชื่อนักเรียน!E49=\"\",\"\",รายชื่อนักเรียน!E49)","v":""},null,null,null,null,null,null,null,null,null,null,null,null,null,null,null,null,null,null,null,null,null,null,null,null,null,null,null,null,null,null,null,null,null,null,null,null,null,null,null,null,null,"",""]
[{"$f":"รายชื่อนักเรียน!B50","v":0},{"$f":"IF(รายชื่อนักเรียน!E50=\"\",\"\",รายชื่อนักเรียน!E50)","v":""},null,null,null,null,null,null,null,null,null,null,null,null,null,null,null,null,null,null,null,null,null,null,null,null,null,null,null,null,null,null,null,null,null,null,null,null,null,null,null,null,null,"",""]

{"sheet":"ประเมิน ตชว.ปลายทางT1","index":9,"n_rows":50,"n_cols":25,"rows_kept":50,"cut":false,"hidden":false,"merged":[[45,3,45,4],[46,3,46,4],[47,3,47,4],[48,3,48,4],[49,3,49,4],[43,3,43,4],[44,3,44,4],[42,3,42,4],[31,3,31,4],[32,3,32,4],[33,3,33,4],[34,3,34,4],[35,3,35,4],[36,3,36,4],[37,3,37,4],[38,3,38,4],[39,3,39,4],[40,3,40,4],[41,3,41,4],[30,3,30,4],[19,3,19,4],[20,3,20,4],[21,3,21,4],[22,3,22,4],[23,3,23,4],[24,3,24,4],[25,3,25,4],[26,3,26,4],[27,3,27,4],[28,3,28,4],[29,3,29,4],[18,3,18,4],[7,3,7,4],[8,3,8,4],[9,3,9,4],[10,3,10,4],[11,3,11,4],[12,3,12,4],[13,3,13,4],[14,3,14,4],[15,3,15,4],[16,3,16,4],[17,3,17,4],[1,19,3,19],[1,20,4,20],[2,5,2,14],[1,5,1,14],[1,17,3,17],[1,18,3,18],[1,16,3,16],[1,15,3,15],[0,1,0,4],[6,3,6,4],[1,1,4,1],[1,2,4,2],[1,3,4,3],[5,3,5,4]]}
[null,"ประเมินตัวชี้วัดปลายทาง T1"]
[null,"เลขที่","เลขประจำตัว","ชื่อ - สกุล",null,"การประเมินตัวชี้วัดปลายทาง ภาคเรียนที่ 1",null,null,null,null,null,null,null,null,null,"รวม","สรุป","ปลายภาค","สรุป","รวมคะแนน","หมายเหตุ"]
[null,null,null,null,null,{"$f":"\" รายวิชา \"&ตั้งค่า!C18","v":" รายวิชา "}]
[null,null,null,null,"หน่วยที่"]
[null,null,null,null,"คะแนนเต็ม",null,null,null,null,null,null,null,null,null,null,{"$f":"IF(SUM(F5:O5),SUM(F5:O5),\"\")","v":""},{"$f":"ตั้งค่า!D24/2","v":0},{"$f":"ตั้งค่า!F24","v":100},{"$f":"ตั้งค่า!F24/2","v":50},{"$f":"SUM(Q5,S5)","v":50}]
[null,{"$f":"รายชื่อนักเรียน!B6","v":0},{"$f":"IF(รายชื่อนักเรียน!C6=\"\",\"\",รายชื่อนักเรียน!C6)","v":""},{"$f":"IF(รายชื่อนักเรียน!E6=\"\",\"\",รายชื่อนักเรียน!E6)","v":""},null,null,null,null,null,null,null,null,null,null,null,{"$f":"IF(D6=\"\",\"\",SUM(F6:O6))","v":""},{"$f":"IFERROR(IF(OR(รายชื่อนักเรียน!F6=\"ย้าย\",รายชื่อนักเรียน!F6=\"ออก\",รายชื่อนักเรียน!F6=\"ร\",รายชื่อนักเรียน!F6=\"มส\",P6=\"\"),\"\",IF(P6=\"\",\"\",ROUND(P6/$P$5*$Q$5,0))),\"\")","v":""},null,{"$f":"IF(OR(รายชื่อนักเรียน!F6=\"ย้าย\",รายชื่อนักเรียน!F6=\"ออก\",รายชื่อนักเรียน!F6=\"ร\",รายชื่อนักเรียน!F6=\"มส\",P6=\"\"),\"\",IF(R6=\"\",\"\",ROUND(R6/$R$5*$S$5,0)))","v":""},{"$f":"IF(D6=\"\",\"\",SUM(Q6,S6))","v":""},{"$f":"IF(รายชื่อนักเรียน!$F6=\"\",\"\",รายชื่อนักเรียน!$F6)","v":""},null,null,null,"ย้าย"]
[null,{"$f":"รายชื่อนักเรียน!B7","v":0},{"$f":"IF(รายชื่อนักเรียน!C7=\"\",\"\",รายชื่อนักเรียน!C7)","v":""},{"$f":"IF(รายชื่อนักเรียน!E7=\"\",\"\",รายชื่อนักเรียน!E7)","v":""},null,null,null,null,null,null,null,null,null,null,null,{"$f":"IF(D7=\"\",\"\",SUM(F7:O7))","v":""},{"$f":"IFERROR(IF(OR(รายชื่อนักเรียน!F7=\"ย้าย\",รายชื่อนักเรียน!F7=\"ออก\",รายชื่อนักเรียน!F7=\"ร\",รายชื่อนักเรียน!F7=\"มส\",P7=\"\"),\"\",IF(P7=\"\",\"\",ROUND(P7/$P$5*$Q$5,0))),\"\")","v":""},null,{"$f":"IF(OR(รายชื่อนักเรียน!F7=\"ย้าย\",รายชื่อนักเรียน!F7=\"ออก\",รายชื่อนักเรียน!F7=\"ร\",รายชื่อนักเรียน!F7=\"มส\",P7=\"\"),\"\",IF(R7=\"\",\"\",ROUND(R7/$R$5*$S$5,0)))","v":""},{"$f":"IF(D7=\"\",\"\",SUM(Q7,S7))","v":""},{"$f":"IF(รายชื่อนักเรียน!$F7=\"\",\"\",รายชื่อนักเรียน!$F7)","v":""}]
[null,{"$f":"รายชื่อนักเรียน!B8","v":0},{"$f":"IF(รายชื่อนักเรียน!C8=\"\",\"\",รายชื่อนักเรียน!C8)","v":""},{"$f":"IF(รายชื่อนักเรียน!E8=\"\",\"\",รายชื่อนักเรียน!E8)","v":""},null,null,null,null,null,null,null,null,null,null,null,"",{"$f":"IFERROR(IF(OR(รายชื่อนักเรียน!F8=\"ย้าย\",รายชื่อนักเรียน!F8=\"ออก\",รายชื่อนักเรียน!F8=\"ร\",รายชื่อนักเรียน!F8=\"มส\",P8=\"\"),\"\",IF(P8=\"\",\"\",ROUND(P8/$P$5*$Q$5,0))),\"\")","v":""},null,{"$f":"IF(OR(รายชื่อนักเรียน!F8=\"ย้าย\",รายชื่อนักเรียน!F8=\"ออก\",รายชื่อนักเรียน!F8=\"ร\",รายชื่อนักเรียน!F8=\"มส\",P8=\"\"),\"\",IF(R8=\"\",\"\",ROUND(R8/$R$5*$S$5,0)))","v":""},"",{"$f":"IF(รายชื่อนักเรียน!$F8=\"\",\"\",รายชื่อนักเรียน!$F8)","v":""}]
[null,{"$f":"รายชื่อนักเรียน!B9","v":0},{"$f":"IF(รายชื่อนักเรียน!C9=\"\",\"\",รายชื่อนักเรียน!C9)","v":""},{"$f":"IF(รายชื่อนักเรียน!E9=\"\",\"\",รายชื่อนักเรียน!E9)","v":""},null,null,null,null,null,null,null,null,null,null,null,"",{"$f":"IFERROR(IF(OR(รายชื่อนักเรียน!F9=\"ย้าย\",รายชื่อนักเรียน!F9=\"ออก\",รายชื่อนักเรียน!F9=\"ร\",รายชื่อนักเรียน!F9=\"มส\",P9=\"\"),\"\",IF(P9=\"\",\"\",ROUND(P9/$P$5*$Q$5,0))),\"\")","v":""},null,{"$f":"IF(OR(รายชื่อนักเรียน!F9=\"ย้าย\",รายชื่อนักเรียน!F9=\"ออก\",รายชื่อนักเรียน!F9=\"ร\",รายชื่อนักเรียน!F9=\"มส\",P9=\"\"),\"\",IF(R9=\"\",\"\",ROUND(R9/$R$5*$S$5,0)))","v":""},"",{"$f":"IF(รายชื่อนักเรียน!$F9=\"\",\"\",รายชื่อนักเรียน!$F9)","v":""}]
[null,{"$f":"รายชื่อนักเรียน!B10","v":0},{"$f":"IF(รายชื่อนักเรียน!C10=\"\",\"\",รายชื่อนักเรียน!C10)","v":""},{"$f":"IF(รายชื่อนักเรียน!E10=\"\",\"\",รายชื่อนักเรียน!E10)","v":""},null,null,null,null,null,null,null,null,null,null,null,"",{"$f":"IFERROR(IF(OR(รายชื่อนักเรียน!F10=\"ย้าย\",รายชื่อนักเรียน!F10=\"ออก\",รายชื่อนักเรียน!F10=\"ร\",รายชื่อนักเรียน!F10=\"มส\",P10=\"\"),\"\",IF(P10=\"\",\"\",ROUND(P10/$P$5*$Q$5,0))),\"\")","v":""},null,{"$f":"IF(OR(รายชื่อนักเรียน!F10=\"ย้าย\",รายชื่อนักเรียน!F10=\"ออก\",รายชื่อนักเรียน!F10=\"ร\",รายชื่อนักเรียน!F10=\"มส\",P10=\"\"),\"\",IF(R10=\"\",\"\",ROUND(R10/$R$5*$S$5,0)))","v":""},"",{"$f":"IF(รายชื่อนักเรียน!$F10=\"\",\"\",รายชื่อนักเรียน!$F10)","v":""}]
[null,{"$f":"รายชื่อนักเรียน!B11","v":0},{"$f":"IF(รายชื่อนักเรียน!C11=\"\",\"\",รายชื่อนักเรียน!C11)","v":""},{"$f":"IF(รายชื่อนักเรียน!E11=\"\",\"\",รายชื่อนักเรียน!E11)","v":""},null,null,null,null,null,null,null,null,null,null,null,"",{"$f":"IFERROR(IF(OR(รายชื่อนักเรียน!F11=\"ย้าย\",รายชื่อนักเรียน!F11=\"ออก\",รายชื่อนักเรียน!F11=\"ร\",รายชื่อนักเรียน!F11=\"มส\",P11=\"\"),\"\",IF(P11=\"\",\"\",ROUND(P11/$P$5*$Q$5,0))),\"\")","v":""},null,{"$f":"IF(OR(รายชื่อนักเรียน!F11=\"ย้าย\",รายชื่อนักเรียน!F11=\"ออก\",รายชื่อนักเรียน!F11=\"ร\",รายชื่อนักเรียน!F11=\"มส\",P11=\"\"),\"\",IF(R11=\"\",\"\",ROUND(R11/$R$5*$S$5,0)))","v":""},"",{"$f":"IF(รายชื่อนักเรียน!$F11=\"\",\"\",รายชื่อนักเรียน!$F11)","v":""}]
[null,{"$f":"รายชื่อนักเรียน!B12","v":0},{"$f":"IF(รายชื่อนักเรียน!C12=\"\",\"\",รายชื่อนักเรียน!C12)","v":""},{"$f":"IF(รายชื่อนักเรียน!E12=\"\",\"\",รายชื่อนักเรียน!E12)","v":""},null,null,null,null,null,null,null,null,null,null,null,"",{"$f":"IFERROR(IF(OR(รายชื่อนักเรียน!F12=\"ย้าย\",รายชื่อนักเรียน!F12=\"ออก\",รายชื่อนักเรียน!F12=\"ร\",รายชื่อนักเรียน!F12=\"มส\",P12=\"\"),\"\",IF(P12=\"\",\"\",ROUND(P12/$P$5*$Q$5,0))),\"\")","v":""},null,{"$f":"IF(OR(รายชื่อนักเรียน!F12=\"ย้าย\",รายชื่อนักเรียน!F12=\"ออก\",รายชื่อนักเรียน!F12=\"ร\",รายชื่อนักเรียน!F12=\"มส\",P12=\"\"),\"\",IF(R12=\"\",\"\",ROUND(R12/$R$5*$S$5,0)))","v":""},"",{"$f":"IF(รายชื่อนักเรียน!$F12=\"\",\"\",รายชื่อนักเรียน!$F12)","v":""}]
[null,{"$f":"รายชื่อนักเรียน!B13","v":0},{"$f":"IF(รายชื่อนักเรียน!C13=\"\",\"\",รายชื่อนักเรียน!C13)","v":""},{"$f":"IF(รายชื่อนักเรียน!E13=\"\",\"\",รายชื่อนักเรียน!E13)","v":""},null,null,null,null,null,null,null,null,null,null,null,"",{"$f":"IFERROR(IF(OR(รายชื่อนักเรียน!F13=\"ย้าย\",รายชื่อนักเรียน!F13=\"ออก\",รายชื่อนักเรียน!F13=\"ร\",รายชื่อนักเรียน!F13=\"มส\",P13=\"\"),\"\",IF(P13=\"\",\"\",ROUND(P13/$P$5*$Q$5,0))),\"\")","v":""},null,{"$f":"IF(OR(รายชื่อนักเรียน!F13=\"ย้าย\",รายชื่อนักเรียน!F13=\"ออก\",รายชื่อนักเรียน!F13=\"ร\",รายชื่อนักเรียน!F13=\"มส\",P13=\"\"),\"\",IF(R13=\"\",\"\",ROUND(R13/$R$5*$S$5,0)))","v":""},"",{"$f":"IF(รายชื่อนักเรียน!$F13=\"\",\"\",รายชื่อนักเรียน!$F13)","v":""}]
[null,{"$f":"รายชื่อนักเรียน!B14","v":0},{"$f":"IF(รายชื่อนักเรียน!C14=\"\",\"\",รายชื่อนักเรียน!C14)","v":""},{"$f":"IF(รายชื่อนักเรียน!E14=\"\",\"\",รายชื่อนักเรียน!E14)","v":""},null,null,null,null,null,null,null,null,null,null,null,"",{"$f":"IFERROR(IF(OR(รายชื่อนักเรียน!F14=\"ย้าย\",รายชื่อนักเรียน!F14=\"ออก\",รายชื่อนักเรียน!F14=\"ร\",รายชื่อนักเรียน!F14=\"มส\",P14=\"\"),\"\",IF(P14=\"\",\"\",ROUND(P14/$P$5*$Q$5,0))),\"\")","v":""},null,{"$f":"IF(OR(รายชื่อนักเรียน!F14=\"ย้าย\",รายชื่อนักเรียน!F14=\"ออก\",รายชื่อนักเรียน!F14=\"ร\",รายชื่อนักเรียน!F14=\"มส\",P14=\"\"),\"\",IF(R14=\"\",\"\",ROUND(R14/$R$5*$S$5,0)))","v":""},"",{"$f":"IF(รายชื่อนักเรียน!$F14=\"\",\"\",รายชื่อนักเรียน!$F14)","v":""}]
[null,{"$f":"รายชื่อนักเรียน!B15","v":0},{"$f":"IF(รายชื่อนักเรียน!C15=\"\",\"\",รายชื่อนักเรียน!C15)","v":""},{"$f":"IF(รายชื่อนักเรียน!E15=\"\",\"\",รายชื่อนักเรียน!E15)","v":""},null,null,null,null,null,null,null,null,null,null,null,"",{"$f":"IFERROR(IF(OR(รายชื่อนักเรียน!F15=\"ย้าย\",รายชื่อนักเรียน!F15=\"ออก\",รายชื่อนักเรียน!F15=\"ร\",รายชื่อนักเรียน!F15=\"มส\",P15=\"\"),\"\",IF(P15=\"\",\"\",ROUND(P15/$P$5*$Q$5,0))),\"\")","v":""},null,{"$f":"IF(OR(รายชื่อนักเรียน!F15=\"ย้าย\",รายชื่อนักเรียน!F15=\"ออก\",รายชื่อนักเรียน!F15=\"ร\",รายชื่อนักเรียน!F15=\"มส\",P15=\"\"),\"\",IF(R15=\"\",\"\",ROUND(R15/$R$5*$S$5,0)))","v":""},"",{"$f":"IF(รายชื่อนักเรียน!$F15=\"\",\"\",รายชื่อนักเรียน!$F15)","v":""}]
[null,{"$f":"รายชื่อนักเรียน!B16","v":0},{"$f":"IF(รายชื่อนักเรียน!C16=\"\",\"\",รายชื่อนักเรียน!C16)","v":""},{"$f":"IF(รายชื่อนักเรียน!E16=\"\",\"\",รายชื่อนักเรียน!E16)","v":""},null,null,null,null,null,null,null,null,null,null,null,"",{"$f":"IFERROR(IF(OR(รายชื่อนักเรียน!F16=\"ย้าย\",รายชื่อนักเรียน!F16=\"ออก\",รายชื่อนักเรียน!F16=\"ร\",รายชื่อนักเรียน!F16=\"มส\",P16=\"\"),\"\",IF(P16=\"\",\"\",ROUND(P16/$P$5*$Q$5,0))),\"\")","v":""},null,{"$f":"IF(OR(รายชื่อนักเรียน!F16=\"ย้าย\",รายชื่อนักเรียน!F16=\"ออก\",รายชื่อนักเรียน!F16=\"ร\",รายชื่อนักเรียน!F16=\"มส\",P16=\"\"),\"\",IF(R16=\"\",\"\",ROUND(R16/$R$5*$S$5,0)))","v":""},"",{"$f":"IF(รายชื่อนักเรียน!$F16=\"\",\"\",รายชื่อนักเรียน!$F16)","v":""}]
[null,{"$f":"รายชื่อนักเรียน!B17","v":0},{"$f":"IF(รายชื่อนักเรียน!C17=\"\",\"\",รายชื่อนักเรียน!C17)","v":""},{"$f":"IF(รายชื่อนักเรียน!E17=\"\",\"\",รายชื่อนักเรียน!E17)","v":""},null,null,null,null,null,null,null,null,null,null,null,"",{"$f":"IFERROR(IF(OR(รายชื่อนักเรียน!F17=\"ย้าย\",รายชื่อนักเรียน!F17=\"ออก\",รายชื่อนักเรียน!F17=\"ร\",รายชื่อนักเรียน!F17=\"มส\",P17=\"\"),\"\",IF(P17=\"\",\"\",ROUND(P17/$P$5*$Q$5,0))),\"\")","v":""},null,{"$f":"IF(OR(รายชื่อนักเรียน!F17=\"ย้าย\",รายชื่อนักเรียน!F17=\"ออก\",รายชื่อนักเรียน!F17=\"ร\",รายชื่อนักเรียน!F17=\"มส\",P17=\"\"),\"\",IF(R17=\"\",\"\",ROUND(R17/$R$5*$S$5,0)))","v":""},"",{"$f":"IF(รายชื่อนักเรียน!$F17=\"\",\"\",รายชื่อนักเรียน!$F17)","v":""}]
[null,{"$f":"รายชื่อนักเรียน!B18","v":0},{"$f":"IF(รายชื่อนักเรียน!C18=\"\",\"\",รายชื่อนักเรียน!C18)","v":""},{"$f":"IF(รายชื่อนักเรียน!E18=\"\",\"\",รายชื่อนักเรียน!E18)","v":""},null,null,null,null,null,null,null,null,null,null,null,"",{"$f":"IFERROR(IF(OR(รายชื่อนักเรียน!F18=\"ย้าย\",รายชื่อนักเรียน!F18=\"ออก\",รายชื่อนักเรียน!F18=\"ร\",รายชื่อนักเรียน!F18=\"มส\",P18=\"\"),\"\",IF(P18=\"\",\"\",ROUND(P18/$P$5*$Q$5,0))),\"\")","v":""},null,{"$f":"IF(OR(รายชื่อนักเรียน!F18=\"ย้าย\",รายชื่อนักเรียน!F18=\"ออก\",รายชื่อนักเรียน!F18=\"ร\",รายชื่อนักเรียน!F18=\"มส\",P18=\"\"),\"\",IF(R18=\"\",\"\",ROUND(R18/$R$5*$S$5,0)))","v":""},"",{"$f":"IF(รายชื่อนักเรียน!$F18=\"\",\"\",รายชื่อนักเรียน!$F18)","v":""}]
[null,{"$f":"รายชื่อนักเรียน!B19","v":0},{"$f":"IF(รายชื่อนักเรียน!C19=\"\",\"\",รายชื่อนักเรียน!C19)","v":""},{"$f":"IF(รายชื่อนักเรียน!E19=\"\",\"\",รายชื่อนักเรียน!E19)","v":""},null,null,null,null,null,null,null,null,null,null,null,"",{"$f":"IFERROR(IF(OR(รายชื่อนักเรียน!F19=\"ย้าย\",รายชื่อนักเรียน!F19=\"ออก\",รายชื่อนักเรียน!F19=\"ร\",รายชื่อนักเรียน!F19=\"มส\",P19=\"\"),\"\",IF(P19=\"\",\"\",ROUND(P19/$P$5*$Q$5,0))),\"\")","v":""},null,{"$f":"IF(OR(รายชื่อนักเรียน!F19=\"ย้าย\",รายชื่อนักเรียน!F19=\"ออก\",รายชื่อนักเรียน!F19=\"ร\",รายชื่อนักเรียน!F19=\"มส\",P19=\"\"),\"\",IF(R19=\"\",\"\",ROUND(R19/$R$5*$S$5,0)))","v":""},"",{"$f":"IF(รายชื่อนักเรียน!$F19=\"\",\"\",รายชื่อนักเรียน!$F19)","v":""}]
[null,{"$f":"รายชื่อนักเรียน!B20","v":0},{"$f":"IF(รายชื่อนักเรียน!C20=\"\",\"\",รายชื่อนักเรียน!C20)","v":""},{"$f":"IF(รายชื่อนักเรียน!E20=\"\",\"\",รายชื่อนักเรียน!E20)","v":""},null,null,null,null,null,null,null,null,null,null,null,"",{"$f":"IFERROR(IF(OR(รายชื่อนักเรียน!F20=\"ย้าย\",รายชื่อนักเรียน!F20=\"ออก\",รายชื่อนักเรียน!F20=\"ร\",รายชื่อนักเรียน!F20=\"มส\",P20=\"\"),\"\",IF(P20=\"\",\"\",ROUND(P20/$P$5*$Q$5,0))),\"\")","v":""},null,{"$f":"IF(OR(รายชื่อนักเรียน!F20=\"ย้าย\",รายชื่อนักเรียน!F20=\"ออก\",รายชื่อนักเรียน!F20=\"ร\",รายชื่อนักเรียน!F20=\"มส\",P20=\"\"),\"\",IF(R20=\"\",\"\",ROUND(R20/$R$5*$S$5,0)))","v":""},"",{"$f":"IF(รายชื่อนักเรียน!$F20=\"\",\"\",รายชื่อนักเรียน!$F20)","v":""}]
[null,{"$f":"รายชื่อนักเรียน!B21","v":0},{"$f":"IF(รายชื่อนักเรียน!C21=\"\",\"\",รายชื่อนักเรียน!C21)","v":""},{"$f":"IF(รายชื่อนักเรียน!E21=\"\",\"\",รายชื่อนักเรียน!E21)","v":""},null,null,null,null,null,null,null,null,null,null,null,"",{"$f":"IFERROR(IF(OR(รายชื่อนักเรียน!F21=\"ย้าย\",รายชื่อนักเรียน!F21=\"ออก\",รายชื่อนักเรียน!F21=\"ร\",รายชื่อนักเรียน!F21=\"มส\",P21=\"\"),\"\",IF(P21=\"\",\"\",ROUND(P21/$P$5*$Q$5,0))),\"\")","v":""},null,{"$f":"IF(OR(รายชื่อนักเรียน!F21=\"ย้าย\",รายชื่อนักเรียน!F21=\"ออก\",รายชื่อนักเรียน!F21=\"ร\",รายชื่อนักเรียน!F21=\"มส\",P21=\"\"),\"\",IF(R21=\"\",\"\",ROUND(R21/$R$5*$S$5,0)))","v":""},"",{"$f":"IF(รายชื่อนักเรียน!$F21=\"\",\"\",รายชื่อนักเรียน!$F21)","v":""}]
[null,{"$f":"รายชื่อนักเรียน!B22","v":0},{"$f":"IF(รายชื่อนักเรียน!C22=\"\",\"\",รายชื่อนักเรียน!C22)","v":""},{"$f":"IF(รายชื่อนักเรียน!E22=\"\",\"\",รายชื่อนักเรียน!E22)","v":""},null,null,null,null,null,null,null,null,null,null,null,"",{"$f":"IFERROR(IF(OR(รายชื่อนักเรียน!F22=\"ย้าย\",รายชื่อนักเรียน!F22=\"ออก\",รายชื่อนักเรียน!F22=\"ร\",รายชื่อนักเรียน!F22=\"มส\",P22=\"\"),\"\",IF(P22=\"\",\"\",ROUND(P22/$P$5*$Q$5,0))),\"\")","v":""},null,{"$f":"IF(OR(รายชื่อนักเรียน!F22=\"ย้าย\",รายชื่อนักเรียน!F22=\"ออก\",รายชื่อนักเรียน!F22=\"ร\",รายชื่อนักเรียน!F22=\"มส\",P22=\"\"),\"\",IF(R22=\"\",\"\",ROUND(R22/$R$5*$S$5,0)))","v":""},"",{"$f":"IF(รายชื่อนักเรียน!$F22=\"\",\"\",รายชื่อนักเรียน!$F22)","v":""}]
[null,{"$f":"รายชื่อนักเรียน!B23","v":0},{"$f":"IF(รายชื่อนักเรียน!C23=\"\",\"\",รายชื่อนักเรียน!C23)","v":""},{"$f":"IF(รายชื่อนักเรียน!E23=\"\",\"\",รายชื่อนักเรียน!E23)","v":""},null,null,null,null,null,null,null,null,null,null,null,"",{"$f":"IFERROR(IF(OR(รายชื่อนักเรียน!F23=\"ย้าย\",รายชื่อนักเรียน!F23=\"ออก\",รายชื่อนักเรียน!F23=\"ร\",รายชื่อนักเรียน!F23=\"มส\",P23=\"\"),\"\",IF(P23=\"\",\"\",ROUND(P23/$P$5*$Q$5,0))),\"\")","v":""},null,{"$f":"IF(OR(รายชื่อนักเรียน!F23=\"ย้าย\",รายชื่อนักเรียน!F23=\"ออก\",รายชื่อนักเรียน!F23=\"ร\",รายชื่อนักเรียน!F23=\"มส\",P23=\"\"),\"\",IF(R23=\"\",\"\",ROUND(R23/$R$5*$S$5,0)))","v":""},"",{"$f":"IF(รายชื่อนักเรียน!$F23=\"\",\"\",รายชื่อนักเรียน!$F23)","v":""}]
[null,{"$f":"รายชื่อนักเรียน!B24","v":0},{"$f":"IF(รายชื่อนักเรียน!C24=\"\",\"\",รายชื่อนักเรียน!C24)","v":""},{"$f":"IF(รายชื่อนักเรียน!E24=\"\",\"\",รายชื่อนักเรียน!E24)","v":""},null,null,null,null,null,null,null,null,null,null,null,"",{"$f":"IFERROR(IF(OR(รายชื่อนักเรียน!F24=\"ย้าย\",รายชื่อนักเรียน!F24=\"ออก\",รายชื่อนักเรียน!F24=\"ร\",รายชื่อนักเรียน!F24=\"มส\",P24=\"\"),\"\",IF(P24=\"\",\"\",ROUND(P24/$P$5*$Q$5,0))),\"\")","v":""},null,{"$f":"IF(OR(รายชื่อนักเรียน!F24=\"ย้าย\",รายชื่อนักเรียน!F24=\"ออก\",รายชื่อนักเรียน!F24=\"ร\",รายชื่อนักเรียน!F24=\"มส\",P24=\"\"),\"\",IF(R24=\"\",\"\",ROUND(R24/$R$5*$S$5,0)))","v":""},"",{"$f":"IF(รายชื่อนักเรียน!$F24=\"\",\"\",รายชื่อนักเรียน!$F24)","v":""}]
[null,{"$f":"รายชื่อนักเรียน!B25","v":0},{"$f":"IF(รายชื่อนักเรียน!C25=\"\",\"\",รายชื่อนักเรียน!C25)","v":""},{"$f":"IF(รายชื่อนักเรียน!E25=\"\",\"\",รายชื่อนักเรียน!E25)","v":""},null,null,null,null,null,null,null,null,null,null,null,"",{"$f":"IFERROR(IF(OR(รายชื่อนักเรียน!F25=\"ย้าย\",รายชื่อนักเรียน!F25=\"ออก\",รายชื่อนักเรียน!F25=\"ร\",รายชื่อนักเรียน!F25=\"มส\",P25=\"\"),\"\",IF(P25=\"\",\"\",ROUND(P25/$P$5*$Q$5,0))),\"\")","v":""},null,{"$f":"IF(OR(รายชื่อนักเรียน!F25=\"ย้าย\",รายชื่อนักเรียน!F25=\"ออก\",รายชื่อนักเรียน!F25=\"ร\",รายชื่อนักเรียน!F25=\"มส\",P25=\"\"),\"\",IF(R25=\"\",\"\",ROUND(R25/$R$5*$S$5,0)))","v":""},"",{"$f":"IF(รายชื่อนักเรียน!$F25=\"\",\"\",รายชื่อนักเรียน!$F25)","v":""}]
[null,{"$f":"รายชื่อนักเรียน!B26","v":0},{"$f":"IF(รายชื่อนักเรียน!C26=\"\",\"\",รายชื่อนักเรียน!C26)","v":""},{"$f":"IF(รายชื่อนักเรียน!E26=\"\",\"\",รายชื่อนักเรียน!E26)","v":""},null,null,null,null,null,null,null,null,null,null,null,"",{"$f":"IFERROR(IF(OR(รายชื่อนักเรียน!F26=\"ย้าย\",รายชื่อนักเรียน!F26=\"ออก\",รายชื่อนักเรียน!F26=\"ร\",รายชื่อนักเรียน!F26=\"มส\",P26=\"\"),\"\",IF(P26=\"\",\"\",ROUND(P26/$P$5*$Q$5,0))),\"\")","v":""},null,{"$f":"IF(OR(รายชื่อนักเรียน!F26=\"ย้าย\",รายชื่อนักเรียน!F26=\"ออก\",รายชื่อนักเรียน!F26=\"ร\",รายชื่อนักเรียน!F26=\"มส\",P26=\"\"),\"\",IF(R26=\"\",\"\",ROUND(R26/$R$5*$S$5,0)))","v":""},"",{"$f":"IF(รายชื่อนักเรียน!$F26=\"\",\"\",รายชื่อนักเรียน!$F26)","v":""}]
[null,{"$f":"รายชื่อนักเรียน!B27","v":0},{"$f":"IF(รายชื่อนักเรียน!C27=\"\",\"\",รายชื่อนักเรียน!C27)","v":""},{"$f":"IF(รายชื่อนักเรียน!E27=\"\",\"\",รายชื่อนักเรียน!E27)","v":""},null,null,null,null,null,null,null,null,null,null,null,"",{"$f":"IFERROR(IF(OR(รายชื่อนักเรียน!F27=\"ย้าย\",รายชื่อนักเรียน!F27=\"ออก\",รายชื่อนักเรียน!F27=\"ร\",รายชื่อนักเรียน!F27=\"มส\",P27=\"\"),\"\",IF(P27=\"\",\"\",ROUND(P27/$P$5*$Q$5,0))),\"\")","v":""},null,{"$f":"IF(OR(รายชื่อนักเรียน!F27=\"ย้าย\",รายชื่อนักเรียน!F27=\"ออก\",รายชื่อนักเรียน!F27=\"ร\",รายชื่อนักเรียน!F27=\"มส\",P27=\"\"),\"\",IF(R27=\"\",\"\",ROUND(R27/$R$5*$S$5,0)))","v":""},"",{"$f":"IF(รายชื่อนักเรียน!$F27=\"\",\"\",รายชื่อนักเรียน!$F27)","v":""}]
[null,{"$f":"รายชื่อนักเรียน!B28","v":0},{"$f":"IF(รายชื่อนักเรียน!C28=\"\",\"\",รายชื่อนักเรียน!C28)","v":""},{"$f":"IF(รายชื่อนักเรียน!E28=\"\",\"\",รายชื่อนักเรียน!E28)","v":""},null,null,null,null,null,null,null,null,null,null,null,"",{"$f":"IFERROR(IF(OR(รายชื่อนักเรียน!F28=\"ย้าย\",รายชื่อนักเรียน!F28=\"ออก\",รายชื่อนักเรียน!F28=\"ร\",รายชื่อนักเรียน!F28=\"มส\",P28=\"\"),\"\",IF(P28=\"\",\"\",ROUND(P28/$P$5*$Q$5,0))),\"\")","v":""},null,{"$f":"IF(OR(รายชื่อนักเรียน!F28=\"ย้าย\",รายชื่อนักเรียน!F28=\"ออก\",รายชื่อนักเรียน!F28=\"ร\",รายชื่อนักเรียน!F28=\"มส\",P28=\"\"),\"\",IF(R28=\"\",\"\",ROUND(R28/$R$5*$S$5,0)))","v":""},"",{"$f":"IF(รายชื่อนักเรียน!$F28=\"\",\"\",รายชื่อนักเรียน!$F28)","v":""}]
[null,{"$f":"รายชื่อนักเรียน!B29","v":0},{"$f":"IF(รายชื่อนักเรียน!C29=\"\",\"\",รายชื่อนักเรียน!C29)","v":""},{"$f":"IF(รายชื่อนักเรียน!E29=\"\",\"\",รายชื่อนักเรียน!E29)","v":""},null,null,null,null,null,null,null,null,null,null,null,"",{"$f":"IFERROR(IF(OR(รายชื่อนักเรียน!F29=\"ย้าย\",รายชื่อนักเรียน!F29=\"ออก\",รายชื่อนักเรียน!F29=\"ร\",รายชื่อนักเรียน!F29=\"มส\",P29=\"\"),\"\",IF(P29=\"\",\"\",ROUND(P29/$P$5*$Q$5,0))),\"\")","v":""},null,{"$f":"IF(OR(รายชื่อนักเรียน!F29=\"ย้าย\",รายชื่อนักเรียน!F29=\"ออก\",รายชื่อนักเรียน!F29=\"ร\",รายชื่อนักเรียน!F29=\"มส\",P29=\"\"),\"\",IF(R29=\"\",\"\",ROUND(R29/$R$5*$S$5,0)))","v":""},"",{"$f":"IF(รายชื่อนักเรียน!$F29=\"\",\"\",รายชื่อนักเรียน!$F29)","v":""}]
[null,{"$f":"รายชื่อนักเรียน!B30","v":0},{"$f":"IF(รายชื่อนักเรียน!C30=\"\",\"\",รายชื่อนักเรียน!C30)","v":""},{"$f":"IF(รายชื่อนักเรียน!E30=\"\",\"\",รายชื่อนักเรียน!E30)","v":""},null,null,null,null,null,null,null,null,null,null,null,"",{"$f":"IFERROR(IF(OR(รายชื่อนักเรียน!F30=\"ย้าย\",รายชื่อนักเรียน!F30=\"ออก\",รายชื่อนักเรียน!F30=\"ร\",รายชื่อนักเรียน!F30=\"มส\",P30=\"\"),\"\",IF(P30=\"\",\"\",ROUND(P30/$P$5*$Q$5,0))),\"\")","v":""},null,{"$f":"IF(OR(รายชื่อนักเรียน!F30=\"ย้าย\",รายชื่อนักเรียน!F30=\"ออก\",รายชื่อนักเรียน!F30=\"ร\",รายชื่อนักเรียน!F30=\"มส\",P30=\"\"),\"\",IF(R30=\"\",\"\",ROUND(R30/$R$5*$S$5,0)))","v":""},"",{"$f":"IF(รายชื่อนักเรียน!$F30=\"\",\"\",รายชื่อนักเรียน!$F30)","v":""}]
[null,{"$f":"รายชื่อนักเรียน!B31","v":0},{"$f":"IF(รายชื่อนักเรียน!C31=\"\",\"\",รายชื่อนักเรียน!C31)","v":""},{"$f":"IF(รายชื่อนักเรียน!E31=\"\",\"\",รายชื่อนักเรียน!E31)","v":""},null,null,null,null,null,null,null,null,null,null,null,"",{"$f":"IFERROR(IF(OR(รายชื่อนักเรียน!F31=\"ย้าย\",รายชื่อนักเรียน!F31=\"ออก\",รายชื่อนักเรียน!F31=\"ร\",รายชื่อนักเรียน!F31=\"มส\",P31=\"\"),\"\",IF(P31=\"\",\"\",ROUND(P31/$P$5*$Q$5,0))),\"\")","v":""},null,{"$f":"IF(OR(รายชื่อนักเรียน!F31=\"ย้าย\",รายชื่อนักเรียน!F31=\"ออก\",รายชื่อนักเรียน!F31=\"ร\",รายชื่อนักเรียน!F31=\"มส\",P31=\"\"),\"\",IF(R31=\"\",\"\",ROUND(R31/$R$5*$S$5,0)))","v":""},"",{"$f":"IF(รายชื่อนักเรียน!$F31=\"\",\"\",รายชื่อนักเรียน!$F31)","v":""}]
[null,{"$f":"รายชื่อนักเรียน!B32","v":0},{"$f":"IF(รายชื่อนักเรียน!C32=\"\",\"\",รายชื่อนักเรียน!C32)","v":""},{"$f":"IF(รายชื่อนักเรียน!E32=\"\",\"\",รายชื่อนักเรียน!E32)","v":""},null,null,null,null,null,null,null,null,null,null,null,"",{"$f":"IFERROR(IF(OR(รายชื่อนักเรียน!F32=\"ย้าย\",รายชื่อนักเรียน!F32=\"ออก\",รายชื่อนักเรียน!F32=\"ร\",รายชื่อนักเรียน!F32=\"มส\",P32=\"\"),\"\",IF(P32=\"\",\"\",ROUND(P32/$P$5*$Q$5,0))),\"\")","v":""},null,{"$f":"IF(OR(รายชื่อนักเรียน!F32=\"ย้าย\",รายชื่อนักเรียน!F32=\"ออก\",รายชื่อนักเรียน!F32=\"ร\",รายชื่อนักเรียน!F32=\"มส\",P32=\"\"),\"\",IF(R32=\"\",\"\",ROUND(R32/$R$5*$S$5,0)))","v":""},"",{"$f":"IF(รายชื่อนักเรียน!$F32=\"\",\"\",รายชื่อนักเรียน!$F32)","v":""}]
[null,{"$f":"รายชื่อนักเรียน!B33","v":0},{"$f":"IF(รายชื่อนักเรียน!C33=\"\",\"\",รายชื่อนักเรียน!C33)","v":""},{"$f":"IF(รายชื่อนักเรียน!E33=\"\",\"\",รายชื่อนักเรียน!E33)","v":""},null,null,null,null,null,null,null,null,null,null,null,"",{"$f":"IFERROR(IF(OR(รายชื่อนักเรียน!F33=\"ย้าย\",รายชื่อนักเรียน!F33=\"ออก\",รายชื่อนักเรียน!F33=\"ร\",รายชื่อนักเรียน!F33=\"มส\",P33=\"\"),\"\",IF(P33=\"\",\"\",ROUND(P33/$P$5*$Q$5,0))),\"\")","v":""},null,{"$f":"IF(OR(รายชื่อนักเรียน!F33=\"ย้าย\",รายชื่อนักเรียน!F33=\"ออก\",รายชื่อนักเรียน!F33=\"ร\",รายชื่อนักเรียน!F33=\"มส\",P33=\"\"),\"\",IF(R33=\"\",\"\",ROUND(R33/$R$5*$S$5,0)))","v":""},"",{"$f":"IF(รายชื่อนักเรียน!$F33=\"\",\"\",รายชื่อนักเรียน!$F33)","v":""}]
[null,{"$f":"รายชื่อนักเรียน!B34","v":0},{"$f":"IF(รายชื่อนักเรียน!C34=\"\",\"\",รายชื่อนักเรียน!C34)","v":""},{"$f":"IF(รายชื่อนักเรียน!E34=\"\",\"\",รายชื่อนักเรียน!E34)","v":""},null,null,null,null,null,null,null,null,null,null,null,"",{"$f":"IFERROR(IF(OR(รายชื่อนักเรียน!F34=\"ย้าย\",รายชื่อนักเรียน!F34=\"ออก\",รายชื่อนักเรียน!F34=\"ร\",รายชื่อนักเรียน!F34=\"มส\",P34=\"\"),\"\",IF(P34=\"\",\"\",ROUND(P34/$P$5*$Q$5,0))),\"\")","v":""},null,{"$f":"IF(OR(รายชื่อนักเรียน!F34=\"ย้าย\",รายชื่อนักเรียน!F34=\"ออก\",รายชื่อนักเรียน!F34=\"ร\",รายชื่อนักเรียน!F34=\"มส\",P34=\"\"),\"\",IF(R34=\"\",\"\",ROUND(R34/$R$5*$S$5,0)))","v":""},"",{"$f":"IF(รายชื่อนักเรียน!$F34=\"\",\"\",รายชื่อนักเรียน!$F34)","v":""}]
[null,{"$f":"รายชื่อนักเรียน!B35","v":0},{"$f":"IF(รายชื่อนักเรียน!C35=\"\",\"\",รายชื่อนักเรียน!C35)","v":""},{"$f":"IF(รายชื่อนักเรียน!E35=\"\",\"\",รายชื่อนักเรียน!E35)","v":""},null,null,null,null,null,null,null,null,null,null,null,"",{"$f":"IFERROR(IF(OR(รายชื่อนักเรียน!F35=\"ย้าย\",รายชื่อนักเรียน!F35=\"ออก\",รายชื่อนักเรียน!F35=\"ร\",รายชื่อนักเรียน!F35=\"มส\",P35=\"\"),\"\",IF(P35=\"\",\"\",ROUND(P35/$P$5*$Q$5,0))),\"\")","v":""},null,{"$f":"IF(OR(รายชื่อนักเรียน!F35=\"ย้าย\",รายชื่อนักเรียน!F35=\"ออก\",รายชื่อนักเรียน!F35=\"ร\",รายชื่อนักเรียน!F35=\"มส\",P35=\"\"),\"\",IF(R35=\"\",\"\",ROUND(R35/$R$5*$S$5,0)))","v":""},"",{"$f":"IF(รายชื่อนักเรียน!$F35=\"\",\"\",รายชื่อนักเรียน!$F35)","v":""}]
[null,{"$f":"รายชื่อนักเรียน!B36","v":0},{"$f":"IF(รายชื่อนักเรียน!C36=\"\",\"\",รายชื่อนักเรียน!C36)","v":""},{"$f":"IF(รายชื่อนักเรียน!E36=\"\",\"\",รายชื่อนักเรียน!E36)","v":""},null,null,null,null,null,null,null,null,null,null,null,"",{"$f":"IFERROR(IF(OR(รายชื่อนักเรียน!F36=\"ย้าย\",รายชื่อนักเรียน!F36=\"ออก\",รายชื่อนักเรียน!F36=\"ร\",รายชื่อนักเรียน!F36=\"มส\",P36=\"\"),\"\",IF(P36=\"\",\"\",ROUND(P36/$P$5*$Q$5,0))),\"\")","v":""},null,{"$f":"IF(OR(รายชื่อนักเรียน!F36=\"ย้าย\",รายชื่อนักเรียน!F36=\"ออก\",รายชื่อนักเรียน!F36=\"ร\",รายชื่อนักเรียน!F36=\"มส\",P36=\"\"),\"\",IF(R36=\"\",\"\",ROUND(R36/$R$5*$S$5,0)))","v":""},"",{"$f":"IF(รายชื่อนักเรียน!$F36=\"\",\"\",รายชื่อนักเรียน!$F36)","v":""}]
[null,{"$f":"รายชื่อนักเรียน!B37","v":0},{"$f":"IF(รายชื่อนักเรียน!C37=\"\",\"\",รายชื่อนักเรียน!C37)","v":""},{"$f":"IF(รายชื่อนักเรียน!E37=\"\",\"\",รายชื่อนักเรียน!E37)","v":""},null,null,null,null,null,null,null,null,null,null,null,"",{"$f":"IFERROR(IF(OR(รายชื่อนักเรียน!F37=\"ย้าย\",รายชื่อนักเรียน!F37=\"ออก\",รายชื่อนักเรียน!F37=\"ร\",รายชื่อนักเรียน!F37=\"มส\",P37=\"\"),\"\",IF(P37=\"\",\"\",ROUND(P37/$P$5*$Q$5,0))),\"\")","v":""},null,{"$f":"IF(OR(รายชื่อนักเรียน!F37=\"ย้าย\",รายชื่อนักเรียน!F37=\"ออก\",รายชื่อนักเรียน!F37=\"ร\",รายชื่อนักเรียน!F37=\"มส\",P37=\"\"),\"\",IF(R37=\"\",\"\",ROUND(R37/$R$5*$S$5,0)))","v":""},"",{"$f":"IF(รายชื่อนักเรียน!$F37=\"\",\"\",รายชื่อนักเรียน!$F37)","v":""}]
[null,{"$f":"รายชื่อนักเรียน!B38","v":0},{"$f":"IF(รายชื่อนักเรียน!C38=\"\",\"\",รายชื่อนักเรียน!C38)","v":""},{"$f":"IF(รายชื่อนักเรียน!E38=\"\",\"\",รายชื่อนักเรียน!E38)","v":""},null,null,null,null,null,null,null,null,null,null,null,"",{"$f":"IFERROR(IF(OR(รายชื่อนักเรียน!F38=\"ย้าย\",รายชื่อนักเรียน!F38=\"ออก\",รายชื่อนักเรียน!F38=\"ร\",รายชื่อนักเรียน!F38=\"มส\",P38=\"\"),\"\",IF(P38=\"\",\"\",ROUND(P38/$P$5*$Q$5,0))),\"\")","v":""},null,{"$f":"IF(OR(รายชื่อนักเรียน!F38=\"ย้าย\",รายชื่อนักเรียน!F38=\"ออก\",รายชื่อนักเรียน!F38=\"ร\",รายชื่อนักเรียน!F38=\"มส\",P38=\"\"),\"\",IF(R38=\"\",\"\",ROUND(R38/$R$5*$S$5,0)))","v":""},"",{"$f":"IF(รายชื่อนักเรียน!$F38=\"\",\"\",รายชื่อนักเรียน!$F38)","v":""}]
[null,{"$f":"รายชื่อนักเรียน!B39","v":0},{"$f":"IF(รายชื่อนักเรียน!C39=\"\",\"\",รายชื่อนักเรียน!C39)","v":""},{"$f":"IF(รายชื่อนักเรียน!E39=\"\",\"\",รายชื่อนักเรียน!E39)","v":""},null,null,null,null,null,null,null,null,null,null,null,"",{"$f":"IFERROR(IF(OR(รายชื่อนักเรียน!F39=\"ย้าย\",รายชื่อนักเรียน!F39=\"ออก\",รายชื่อนักเรียน!F39=\"ร\",รายชื่อนักเรียน!F39=\"มส\",P39=\"\"),\"\",IF(P39=\"\",\"\",ROUND(P39/$P$5*$Q$5,0))),\"\")","v":""},null,{"$f":"IF(OR(รายชื่อนักเรียน!F39=\"ย้าย\",รายชื่อนักเรียน!F39=\"ออก\",รายชื่อนักเรียน!F39=\"ร\",รายชื่อนักเรียน!F39=\"มส\",P39=\"\"),\"\",IF(R39=\"\",\"\",ROUND(R39/$R$5*$S$5,0)))","v":""},"",{"$f":"IF(รายชื่อนักเรียน!$F39=\"\",\"\",รายชื่อนักเรียน!$F39)","v":""}]
[null,{"$f":"รายชื่อนักเรียน!B40","v":0},{"$f":"IF(รายชื่อนักเรียน!C40=\"\",\"\",รายชื่อนักเรียน!C40)","v":""},{"$f":"IF(รายชื่อนักเรียน!E40=\"\",\"\",รายชื่อนักเรียน!E40)","v":""},null,null,null,null,null,null,null,null,null,null,null,"",{"$f":"IFERROR(IF(OR(รายชื่อนักเรียน!F40=\"ย้าย\",รายชื่อนักเรียน!F40=\"ออก\",รายชื่อนักเรียน!F40=\"ร\",รายชื่อนักเรียน!F40=\"มส\",P40=\"\"),\"\",IF(P40=\"\",\"\",ROUND(P40/$P$5*$Q$5,0))),\"\")","v":""},null,{"$f":"IF(OR(รายชื่อนักเรียน!F40=\"ย้าย\",รายชื่อนักเรียน!F40=\"ออก\",รายชื่อนักเรียน!F40=\"ร\",รายชื่อนักเรียน!F40=\"มส\",P40=\"\"),\"\",IF(R40=\"\",\"\",ROUND(R40/$R$5*$S$5,0)))","v":""},"",{"$f":"IF(รายชื่อนักเรียน!$F40=\"\",\"\",รายชื่อนักเรียน!$F40)","v":""}]
[null,{"$f":"รายชื่อนักเรียน!B41","v":0},{"$f":"IF(รายชื่อนักเรียน!C41=\"\",\"\",รายชื่อนักเรียน!C41)","v":""},{"$f":"IF(รายชื่อนักเรียน!E41=\"\",\"\",รายชื่อนักเรียน!E41)","v":""},null,null,null,null,null,null,null,null,null,null,null,"",{"$f":"IFERROR(IF(OR(รายชื่อนักเรียน!F41=\"ย้าย\",รายชื่อนักเรียน!F41=\"ออก\",รายชื่อนักเรียน!F41=\"ร\",รายชื่อนักเรียน!F41=\"มส\",P41=\"\"),\"\",IF(P41=\"\",\"\",ROUND(P41/$P$5*$Q$5,0))),\"\")","v":""},null,{"$f":"IF(OR(รายชื่อนักเรียน!F41=\"ย้าย\",รายชื่อนักเรียน!F41=\"ออก\",รายชื่อนักเรียน!F41=\"ร\",รายชื่อนักเรียน!F41=\"มส\",P41=\"\"),\"\",IF(R41=\"\",\"\",ROUND(R41/$R$5*$S$5,0)))","v":""},"",{"$f":"IF(รายชื่อนักเรียน!$F41=\"\",\"\",รายชื่อนักเรียน!$F41)","v":""}]
[null,{"$f":"รายชื่อนักเรียน!B42","v":0},{"$f":"IF(รายชื่อนักเรียน!C42=\"\",\"\",รายชื่อนักเรียน!C42)","v":""},{"$f":"IF(รายชื่อนักเรียน!E42=\"\",\"\",รายชื่อนักเรียน!E42)","v":""},null,null,null,null,null,null,null,null,null,null,null,"",{"$f":"IFERROR(IF(OR(รายชื่อนักเรียน!F42=\"ย้าย\",รายชื่อนักเรียน!F42=\"ออก\",รายชื่อนักเรียน!F42=\"ร\",รายชื่อนักเรียน!F42=\"มส\",P42=\"\"),\"\",IF(P42=\"\",\"\",ROUND(P42/$P$5*$Q$5,0))),\"\")","v":""},null,{"$f":"IF(OR(รายชื่อนักเรียน!F42=\"ย้าย\",รายชื่อนักเรียน!F42=\"ออก\",รายชื่อนักเรียน!F42=\"ร\",รายชื่อนักเรียน!F42=\"มส\",P42=\"\"),\"\",IF(R42=\"\",\"\",ROUND(R42/$R$5*$S$5,0)))","v":""},"",{"$f":"IF(รายชื่อนักเรียน!$F42=\"\",\"\",รายชื่อนักเรียน!$F42)","v":""}]
[null,{"$f":"รายชื่อนักเรียน!B43","v":0},{"$f":"IF(รายชื่อนักเรียน!C43=\"\",\"\",รายชื่อนักเรียน!C43)","v":""},{"$f":"IF(รายชื่อนักเรียน!E43=\"\",\"\",รายชื่อนักเรียน!E43)","v":""},null,null,null,null,null,null,null,null,null,null,null,"",{"$f":"IFERROR(IF(OR(รายชื่อนักเรียน!F43=\"ย้าย\",รายชื่อนักเรียน!F43=\"ออก\",รายชื่อนักเรียน!F43=\"ร\",รายชื่อนักเรียน!F43=\"มส\",P43=\"\"),\"\",IF(P43=\"\",\"\",ROUND(P43/$P$5*$Q$5,0))),\"\")","v":""},null,{"$f":"IF(OR(รายชื่อนักเรียน!F43=\"ย้าย\",รายชื่อนักเรียน!F43=\"ออก\",รายชื่อนักเรียน!F43=\"ร\",รายชื่อนักเรียน!F43=\"มส\",P43=\"\"),\"\",IF(R43=\"\",\"\",ROUND(R43/$R$5*$S$5,0)))","v":""},"",{"$f":"IF(รายชื่อนักเรียน!$F43=\"\",\"\",รายชื่อนักเรียน!$F43)","v":""}]
[null,{"$f":"รายชื่อนักเรียน!B44","v":0},{"$f":"IF(รายชื่อนักเรียน!C44=\"\",\"\",รายชื่อนักเรียน!C44)","v":""},{"$f":"IF(รายชื่อนักเรียน!E44=\"\",\"\",รายชื่อนักเรียน!E44)","v":""},null,null,null,null,null,null,null,null,null,null,null,"",{"$f":"IFERROR(IF(OR(รายชื่อนักเรียน!F44=\"ย้าย\",รายชื่อนักเรียน!F44=\"ออก\",รายชื่อนักเรียน!F44=\"ร\",รายชื่อนักเรียน!F44=\"มส\",P44=\"\"),\"\",IF(P44=\"\",\"\",ROUND(P44/$P$5*$Q$5,0))),\"\")","v":""},null,{"$f":"IF(OR(รายชื่อนักเรียน!F44=\"ย้าย\",รายชื่อนักเรียน!F44=\"ออก\",รายชื่อนักเรียน!F44=\"ร\",รายชื่อนักเรียน!F44=\"มส\",P44=\"\"),\"\",IF(R44=\"\",\"\",ROUND(R44/$R$5*$S$5,0)))","v":""},"",{"$f":"IF(รายชื่อนักเรียน!$F44=\"\",\"\",รายชื่อนักเรียน!$F44)","v":""}]
[null,{"$f":"รายชื่อนักเรียน!B45","v":0},{"$f":"IF(รายชื่อนักเรียน!C45=\"\",\"\",รายชื่อนักเรียน!C45)","v":""},{"$f":"IF(รายชื่อนักเรียน!E45=\"\",\"\",รายชื่อนักเรียน!E45)","v":""},null,null,null,null,null,null,null,null,null,null,null,"",{"$f":"IFERROR(IF(OR(รายชื่อนักเรียน!F45=\"ย้าย\",รายชื่อนักเรียน!F45=\"ออก\",รายชื่อนักเรียน!F45=\"ร\",รายชื่อนักเรียน!F45=\"มส\",P45=\"\"),\"\",IF(P45=\"\",\"\",ROUND(P45/$P$5*$Q$5,0))),\"\")","v":""},null,{"$f":"IF(OR(รายชื่อนักเรียน!F45=\"ย้าย\",รายชื่อนักเรียน!F45=\"ออก\",รายชื่อนักเรียน!F45=\"ร\",รายชื่อนักเรียน!F45=\"มส\",P45=\"\"),\"\",IF(R45=\"\",\"\",ROUND(R45/$R$5*$S$5,0)))","v":""},"",{"$f":"IF(รายชื่อนักเรียน!$F45=\"\",\"\",รายชื่อนักเรียน!$F45)","v":""}]
[null,{"$f":"รายชื่อนักเรียน!B46","v":0},{"$f":"IF(รายชื่อนักเรียน!C46=\"\",\"\",รายชื่อนักเรียน!C46)","v":""},{"$f":"IF(รายชื่อนักเรียน!E46=\"\",\"\",รายชื่อนักเรียน!E46)","v":""},null,null,null,null,null,null,null,null,null,null,null,{"$f":"IF(D46=\"\",\"\",SUM(F46:O46))","v":""},{"$f":"IFERROR(IF(OR(รายชื่อนักเรียน!F46=\"ย้าย\",รายชื่อนักเรียน!F46=\"ออก\",รายชื่อนักเรียน!F46=\"ร\",รายชื่อนักเรียน!F46=\"มส\",P46=\"\"),\"\",IF(P46=\"\",\"\",ROUND(P46/$P$5*$Q$5,0))),\"\")","v":""},null,{"$f":"IF(OR(รายชื่อนักเรียน!F46=\"ย้าย\",รายชื่อนักเรียน!F46=\"ออก\",รายชื่อนักเรียน!F46=\"ร\",รายชื่อนักเรียน!F46=\"มส\",P46=\"\"),\"\",IF(R46=\"\",\"\",ROUND(R46/$R$5*$S$5,0)))","v":""},{"$f":"IF(D46=\"\",\"\",SUM(Q46,S46))","v":""},{"$f":"IF(รายชื่อนักเรียน!$F46=\"\",\"\",รายชื่อนักเรียน!$F46)","v":""}]
[null,{"$f":"รายชื่อนักเรียน!B47","v":0},{"$f":"IF(รายชื่อนักเรียน!C47=\"\",\"\",รายชื่อนักเรียน!C47)","v":""},{"$f":"IF(รายชื่อนักเรียน!E47=\"\",\"\",รายชื่อนักเรียน!E47)","v":""},null,null,null,null,null,null,null,null,null,null,null,"",{"$f":"IFERROR(IF(OR(รายชื่อนักเรียน!F47=\"ย้าย\",รายชื่อนักเรียน!F47=\"ออก\",รายชื่อนักเรียน!F47=\"ร\",รายชื่อนักเรียน!F47=\"มส\",P47=\"\"),\"\",IF(P47=\"\",\"\",ROUND(P47/$P$5*$Q$5,0))),\"\")","v":""},null,{"$f":"IF(OR(รายชื่อนักเรียน!F47=\"ย้าย\",รายชื่อนักเรียน!F47=\"ออก\",รายชื่อนักเรียน!F47=\"ร\",รายชื่อนักเรียน!F47=\"มส\",P47=\"\"),\"\",IF(R47=\"\",\"\",ROUND(R47/$R$5*$S$5,0)))","v":""},"",{"$f":"IF(รายชื่อนักเรียน!$F47=\"\",\"\",รายชื่อนักเรียน!$F47)","v":""}]
[null,{"$f":"รายชื่อนักเรียน!B48","v":0},{"$f":"IF(รายชื่อนักเรียน!C48=\"\",\"\",รายชื่อนักเรียน!C48)","v":""},{"$f":"IF(รายชื่อนักเรียน!E48=\"\",\"\",รายชื่อนักเรียน!E48)","v":""},null,null,null,null,null,null,null,null,null,null,null,"",{"$f":"IFERROR(IF(OR(รายชื่อนักเรียน!F48=\"ย้าย\",รายชื่อนักเรียน!F48=\"ออก\",รายชื่อนักเรียน!F48=\"ร\",รายชื่อนักเรียน!F48=\"มส\",P48=\"\"),\"\",IF(P48=\"\",\"\",ROUND(P48/$P$5*$Q$5,0))),\"\")","v":""},null,{"$f":"IF(OR(รายชื่อนักเรียน!F48=\"ย้าย\",รายชื่อนักเรียน!F48=\"ออก\",รายชื่อนักเรียน!F48=\"ร\",รายชื่อนักเรียน!F48=\"มส\",P48=\"\"),\"\",IF(R48=\"\",\"\",ROUND(R48/$R$5*$S$5,0)))","v":""},"",{"$f":"IF(รายชื่อนักเรียน!$F48=\"\",\"\",รายชื่อนักเรียน!$F48)","v":""}]
[null,{"$f":"รายชื่อนักเรียน!B49","v":0},{"$f":"IF(รายชื่อนักเรียน!C49=\"\",\"\",รายชื่อนักเรียน!C49)","v":""},{"$f":"IF(รายชื่อนักเรียน!E49=\"\",\"\",รายชื่อนักเรียน!E49)","v":""},null,null,null,null,null,null,null,null,null,null,null,"",{"$f":"IFERROR(IF(OR(รายชื่อนักเรียน!F49=\"ย้าย\",รายชื่อนักเรียน!F49=\"ออก\",รายชื่อนักเรียน!F49=\"ร\",รายชื่อนักเรียน!F49=\"มส\",P49=\"\"),\"\",IF(P49=\"\",\"\",ROUND(P49/$P$5*$Q$5,0))),\"\")","v":""},null,{"$f":"IF(OR(รายชื่อนักเรียน!F49=\"ย้าย\",รายชื่อนักเรียน!F49=\"ออก\",รายชื่อนักเรียน!F49=\"ร\",รายชื่อนักเรียน!F49=\"มส\",P49=\"\"),\"\",IF(R49=\"\",\"\",ROUND(R49/$R$5*$S$5,0)))","v":""},"",{"$f":"IF(รายชื่อนักเรียน!$F49=\"\",\"\",รายชื่อนักเรียน!$F49)","v":""}]
[null,{"$f":"รายชื่อนักเรียน!B50","v":0},{"$f":"IF(รายชื่อนักเรียน!C50=\"\",\"\",รายชื่อนักเรียน!C50)","v":""},{"$f":"IF(รายชื่อนักเรียน!E50=\"\",\"\",รายชื่อนักเรียน!E50)","v":""},null,null,null,null,null,null,null,null,null,null,null,"",{"$f":"IFERROR(IF(OR(รายชื่อนักเรียน!F50=\"ย้าย\",รายชื่อนักเรียน!F50=\"ออก\",รายชื่อนักเรียน!F50=\"ร\",รายชื่อนักเรียน!F50=\"มส\",P50=\"\"),\"\",IF(P50=\"\",\"\",ROUND(P50/$P$5*$Q$5,0))),\"\")","v":""},null,{"$f":"IF(OR(รายชื่อนักเรียน!F50=\"ย้าย\",รายชื่อนักเรียน!F50=\"ออก\",รายชื่อนักเรียน!F50=\"ร\",รายชื่อนักเรียน!F50=\"มส\",P50=\"\"),\"\",IF(R50=\"\",\"\",ROUND(R50/$R$5*$S$5,0)))","v":""},"",{"$f":"IF(รายชื่อนักเรียน!$F50=\"\",\"\",รายชื่อนักเรียน!$F50)","v":""}]

{"sheet":"ประเมิน ตชว.ปลายทางT2","index":10,"n_rows":50,"n_cols":28,"rows_kept":50,"cut":false,"hidden":false,"merged":[[45,3,45,4],[46,3,46,4],[47,3,47,4],[48,3,48,4],[49,3,49,4],[44,3,44,4],[43,3,43,4],[32,3,32,4],[33,3,33,4],[34,3,34,4],[35,3,35,4],[36,3,36,4],[37,3,37,4],[38,3,38,4],[39,3,39,4],[40,3,40,4],[41,3,41,4],[42,3,42,4],[31,3,31,4],[20,3,20,4],[21,3,21,4],[22,3,22,4],[23,3,23,4],[24,3,24,4],[25,3,25,4],[26,3,26,4],[27,3,27,4],[28,3,28,4],[29,3,29,4],[30,3,30,4],[1,22,4,22],[5,3,5,4],[6,3,6,4],[19,3,19,4],[8,3,8,4],[9,3,9,4],[10,3,10,4],[11,3,11,4],[12,3,12,4],[13,3,13,4],[14,3,14,4],[15,3,15,4],[16,3,16,4],[17,3,17,4],[18,3,18,4],[7,3,7,4],[0,15,0,21],[1,1,4,1],[1,2,4,2],[1,3,4,3],[1,19,3,19],[1,20,3,20],[1,21,4,21],[0,1,0,4],[2,5,2,14],[1,17,3,17],[1,18,3,18],[1,5,1,14],[1,15,3,15],[1,16,3,16]]}
[null,"ประเมินตัวชี้วัดปลายทาง T2"]
[null,"เลขที่","เลขประจำตัว","ชื่อ - สกุล",null,"การประเมินตัวชี้วัดปลายทาง ภาคเรียนที่ 2",null,null,null,null,null,null,null,null,null,"รวม","สรุป","ปลายภาค","สรุป","รวมคะแนน","รวมปลายปี","ระดับผลการเรียน","หมายเหตุ"]
[null,null,null,null,null,{"$f":"\"รายวิชา \"&ตั้งค่า!C18","v":"รายวิชา "}]
[null,null,null,null,"หน่วยที่"]
[null,null,null,null,"คะแนนเต็ม",null,null,null,null,null,null,null,null,null,null,{"$f":"IF(SUM(F5:O5),SUM(F5:O5),\"\")","v":""},{"$f":"ตั้งค่า!D24/2","v":0},{"$f":"ตั้งค่า!F24","v":100},{"$f":"ตั้งค่า!F24/2","v":50},{"$f":"SUM(Q5,S5)","v":50},{"$f":"SUM('ประเมิน ตชว.ปลายทางT1'!T5,T5)","v":100}]
[null,{"$f":"รายชื่อนักเรียน!B6","v":0},{"$f":"IF(รายชื่อนักเรียน!C6=\"\",\"\",รายชื่อนักเรียน!C6)","v":""},{"$f":"IF(รายชื่อนักเรียน!E6=\"\",\"\",รายชื่อนักเรียน!E6)","v":""},null,null,null,null,null,null,null,null,null,null,null,{"$f":"IF(D6=\"\",\"\",SUM(F6:O6))","v":""},{"$f":"IFERROR(IF(OR(รายชื่อนักเรียน!F6=\"ย้าย\",รายชื่อนักเรียน!F6=\"ออก\",รายชื่อนักเรียน!F6=\"ร\",รายชื่อนักเรียน!F6=\"มส\",P6=\"\"),\"\",IF(P6=\"\",\"\",ROUND(P6/$P$5*$Q$5,0))),\"\")","v":""},null,{"$f":"IF(OR(รายชื่อนักเรียน!F6=\"ย้าย\",รายชื่อนักเรียน!F6=\"ออก\",รายชื่อนักเรียน!F6=\"ร\",รายชื่อนักเรียน!F6=\"มส\",P6=\"\"),\"\",IF(R6=\"\",\"\",ROUND(R6/$R$5*$S$5,0)))","v":""},{"$f":"IF(D6=\"\",\"\",SUM(Q6,S6))","v":""},{"$f":"IF(OR(รายชื่อนักเรียน!F6=\"ย้าย\",T6=\"\"),\"\",'ประเมิน ตชว.ปลายทางT1'!T6+T6)","v":""},{"$f":"IF(OR(รายชื่อนักเรียน!J6=\"ออก\",U6=\"\"),\"\",IF(U6=\"\",\"\",VLOOKUP(U6,ตั้งค่า!$AD$11:$AH$18,5,TRUE)))","v":""},{"$f":"IF(รายชื่อนักเรียน!$F6=\"\",\"\",รายชื่อนักเรียน!$F6)","v":""},null,null,null,null,"ย้าย"]
[null,{"$f":"รายชื่อนักเรียน!B7","v":0},{"$f":"IF(รายชื่อนักเรียน!C7=\"\",\"\",รายชื่อนักเรียน!C7)","v":""},{"$f":"IF(รายชื่อนักเรียน!E7=\"\",\"\",รายชื่อนักเรียน!E7)","v":""},null,null,null,null,null,null,null,null,null,null,null,{"$f":"IF(D7=\"\",\"\",SUM(F7:O7))","v":""},{"$f":"IFERROR(IF(OR(รายชื่อนักเรียน!F7=\"ย้าย\",รายชื่อนักเรียน!F7=\"ออก\",รายชื่อนักเรียน!F7=\"ร\",รายชื่อนักเรียน!F7=\"มส\",P7=\"\"),\"\",IF(P7=\"\",\"\",ROUND(P7/$P$5*$Q$5,0))),\"\")","v":""},null,{"$f":"IF(OR(รายชื่อนักเรียน!F7=\"ย้าย\",รายชื่อนักเรียน!F7=\"ออก\",รายชื่อนักเรียน!F7=\"ร\",รายชื่อนักเรียน!F7=\"มส\",P7=\"\"),\"\",IF(R7=\"\",\"\",ROUND(R7/$R$5*$S$5,0)))","v":""},{"$f":"IF(D7=\"\",\"\",SUM(Q7,S7))","v":""},{"$f":"IF(OR(รายชื่อนักเรียน!F7=\"ย้าย\",T7=\"\"),\"\",'ประเมิน ตชว.ปลายทางT1'!T7+T7)","v":""},{"$f":"IF(OR(รายชื่อนักเรียน!J7=\"ออก\",U7=\"\"),\"\",IF(U7=\"\",\"\",VLOOKUP(U7,ตั้งค่า!$AD$11:$AH$18,5,TRUE)))","v":""},{"$f":"IF(รายชื่อนักเรียน!$F7=\"\",\"\",รายชื่อนักเรียน!$F7)","v":""}]
[null,{"$f":"รายชื่อนักเรียน!B8","v":0},{"$f":"IF(รายชื่อนักเรียน!C8=\"\",\"\",รายชื่อนักเรียน!C8)","v":""},{"$f":"IF(รายชื่อนักเรียน!E8=\"\",\"\",รายชื่อนักเรียน!E8)","v":""},null,null,null,null,null,null,null,null,null,null,null,"",{"$f":"IFERROR(IF(OR(รายชื่อนักเรียน!F8=\"ย้าย\",รายชื่อนักเรียน!F8=\"ออก\",รายชื่อนักเรียน!F8=\"ร\",รายชื่อนักเรียน!F8=\"มส\",P8=\"\"),\"\",IF(P8=\"\",\"\",ROUND(P8/$P$5*$Q$5,0))),\"\")","v":""},null,{"$f":"IF(OR(รายชื่อนักเรียน!F8=\"ย้าย\",รายชื่อนักเรียน!F8=\"ออก\",รายชื่อนักเรียน!F8=\"ร\",รายชื่อนักเรียน!F8=\"มส\",P8=\"\"),\"\",IF(R8=\"\",\"\",ROUND(R8/$R$5*$S$5,0)))","v":""},"",{"$f":"IF(OR(รายชื่อนักเรียน!F8=\"ย้าย\",T8=\"\"),\"\",'ประเมิน ตชว.ปลายทางT1'!T8+T8)","v":""},{"$f":"IF(OR(รายชื่อนักเรียน!J8=\"ออก\",U8=\"\"),\"\",IF(U8=\"\",\"\",VLOOKUP(U8,ตั้งค่า!$AD$11:$AH$18,5,TRUE)))","v":""},{"$f":"IF(รายชื่อนักเรียน!$F8=\"\",\"\",รายชื่อนักเรียน!$F8)","v":""}]
[null,{"$f":"รายชื่อนักเรียน!B9","v":0},{"$f":"IF(รายชื่อนักเรียน!C9=\"\",\"\",รายชื่อนักเรียน!C9)","v":""},{"$f":"IF(รายชื่อนักเรียน!E9=\"\",\"\",รายชื่อนักเรียน!E9)","v":""},null,null,null,null,null,null,null,null,null,null,null,"",{"$f":"IFERROR(IF(OR(รายชื่อนักเรียน!F9=\"ย้าย\",รายชื่อนักเรียน!F9=\"ออก\",รายชื่อนักเรียน!F9=\"ร\",รายชื่อนักเรียน!F9=\"มส\",P9=\"\"),\"\",IF(P9=\"\",\"\",ROUND(P9/$P$5*$Q$5,0))),\"\")","v":""},null,{"$f":"IF(OR(รายชื่อนักเรียน!F9=\"ย้าย\",รายชื่อนักเรียน!F9=\"ออก\",รายชื่อนักเรียน!F9=\"ร\",รายชื่อนักเรียน!F9=\"มส\",P9=\"\"),\"\",IF(R9=\"\",\"\",ROUND(R9/$R$5*$S$5,0)))","v":""},"",{"$f":"IF(OR(รายชื่อนักเรียน!F9=\"ย้าย\",T9=\"\"),\"\",'ประเมิน ตชว.ปลายทางT1'!T9+T9)","v":""},{"$f":"IF(OR(รายชื่อนักเรียน!J9=\"ออก\",U9=\"\"),\"\",IF(U9=\"\",\"\",VLOOKUP(U9,ตั้งค่า!$AD$11:$AH$18,5,TRUE)))","v":""},{"$f":"IF(รายชื่อนักเรียน!$F9=\"\",\"\",รายชื่อนักเรียน!$F9)","v":""}]
[null,{"$f":"รายชื่อนักเรียน!B10","v":0},{"$f":"IF(รายชื่อนักเรียน!C10=\"\",\"\",รายชื่อนักเรียน!C10)","v":""},{"$f":"IF(รายชื่อนักเรียน!E10=\"\",\"\",รายชื่อนักเรียน!E10)","v":""},null,null,null,null,null,null,null,null,null,null,null,"",{"$f":"IFERROR(IF(OR(รายชื่อนักเรียน!F10=\"ย้าย\",รายชื่อนักเรียน!F10=\"ออก\",รายชื่อนักเรียน!F10=\"ร\",รายชื่อนักเรียน!F10=\"มส\",P10=\"\"),\"\",IF(P10=\"\",\"\",ROUND(P10/$P$5*$Q$5,0))),\"\")","v":""},null,{"$f":"IF(OR(รายชื่อนักเรียน!F10=\"ย้าย\",รายชื่อนักเรียน!F10=\"ออก\",รายชื่อนักเรียน!F10=\"ร\",รายชื่อนักเรียน!F10=\"มส\",P10=\"\"),\"\",IF(R10=\"\",\"\",ROUND(R10/$R$5*$S$5,0)))","v":""},"",{"$f":"IF(OR(รายชื่อนักเรียน!F10=\"ย้าย\",T10=\"\"),\"\",'ประเมิน ตชว.ปลายทางT1'!T10+T10)","v":""},{"$f":"IF(OR(รายชื่อนักเรียน!J10=\"ออก\",U10=\"\"),\"\",IF(U10=\"\",\"\",VLOOKUP(U10,ตั้งค่า!$AD$11:$AH$18,5,TRUE)))","v":""},{"$f":"IF(รายชื่อนักเรียน!$F10=\"\",\"\",รายชื่อนักเรียน!$F10)","v":""}]
[null,{"$f":"รายชื่อนักเรียน!B11","v":0},{"$f":"IF(รายชื่อนักเรียน!C11=\"\",\"\",รายชื่อนักเรียน!C11)","v":""},{"$f":"IF(รายชื่อนักเรียน!E11=\"\",\"\",รายชื่อนักเรียน!E11)","v":""},null,null,null,null,null,null,null,null,null,null,null,"",{"$f":"IFERROR(IF(OR(รายชื่อนักเรียน!F11=\"ย้าย\",รายชื่อนักเรียน!F11=\"ออก\",รายชื่อนักเรียน!F11=\"ร\",รายชื่อนักเรียน!F11=\"มส\",P11=\"\"),\"\",IF(P11=\"\",\"\",ROUND(P11/$P$5*$Q$5,0))),\"\")","v":""},null,{"$f":"IF(OR(รายชื่อนักเรียน!F11=\"ย้าย\",รายชื่อนักเรียน!F11=\"ออก\",รายชื่อนักเรียน!F11=\"ร\",รายชื่อนักเรียน!F11=\"มส\",P11=\"\"),\"\",IF(R11=\"\",\"\",ROUND(R11/$R$5*$S$5,0)))","v":""},"",{"$f":"IF(OR(รายชื่อนักเรียน!F11=\"ย้าย\",T11=\"\"),\"\",'ประเมิน ตชว.ปลายทางT1'!T11+T11)","v":""},{"$f":"IF(OR(รายชื่อนักเรียน!J11=\"ออก\",U11=\"\"),\"\",IF(U11=\"\",\"\",VLOOKUP(U11,ตั้งค่า!$AD$11:$AH$18,5,TRUE)))","v":""},{"$f":"IF(รายชื่อนักเรียน!$F11=\"\",\"\",รายชื่อนักเรียน!$F11)","v":""}]
[null,{"$f":"รายชื่อนักเรียน!B12","v":0},{"$f":"IF(รายชื่อนักเรียน!C12=\"\",\"\",รายชื่อนักเรียน!C12)","v":""},{"$f":"IF(รายชื่อนักเรียน!E12=\"\",\"\",รายชื่อนักเรียน!E12)","v":""},null,null,null,null,null,null,null,null,null,null,null,"",{"$f":"IFERROR(IF(OR(รายชื่อนักเรียน!F12=\"ย้าย\",รายชื่อนักเรียน!F12=\"ออก\",รายชื่อนักเรียน!F12=\"ร\",รายชื่อนักเรียน!F12=\"มส\",P12=\"\"),\"\",IF(P12=\"\",\"\",ROUND(P12/$P$5*$Q$5,0))),\"\")","v":""},null,{"$f":"IF(OR(รายชื่อนักเรียน!F12=\"ย้าย\",รายชื่อนักเรียน!F12=\"ออก\",รายชื่อนักเรียน!F12=\"ร\",รายชื่อนักเรียน!F12=\"มส\",P12=\"\"),\"\",IF(R12=\"\",\"\",ROUND(R12/$R$5*$S$5,0)))","v":""},"",{"$f":"IF(OR(รายชื่อนักเรียน!F12=\"ย้าย\",T12=\"\"),\"\",'ประเมิน ตชว.ปลายทางT1'!T12+T12)","v":""},{"$f":"IF(OR(รายชื่อนักเรียน!J12=\"ออก\",U12=\"\"),\"\",IF(U12=\"\",\"\",VLOOKUP(U12,ตั้งค่า!$AD$11:$AH$18,5,TRUE)))","v":""},{"$f":"IF(รายชื่อนักเรียน!$F12=\"\",\"\",รายชื่อนักเรียน!$F12)","v":""}]
[null,{"$f":"รายชื่อนักเรียน!B13","v":0},{"$f":"IF(รายชื่อนักเรียน!C13=\"\",\"\",รายชื่อนักเรียน!C13)","v":""},{"$f":"IF(รายชื่อนักเรียน!E13=\"\",\"\",รายชื่อนักเรียน!E13)","v":""},null,null,null,null,null,null,null,null,null,null,null,"",{"$f":"IFERROR(IF(OR(รายชื่อนักเรียน!F13=\"ย้าย\",รายชื่อนักเรียน!F13=\"ออก\",รายชื่อนักเรียน!F13=\"ร\",รายชื่อนักเรียน!F13=\"มส\",P13=\"\"),\"\",IF(P13=\"\",\"\",ROUND(P13/$P$5*$Q$5,0))),\"\")","v":""},null,{"$f":"IF(OR(รายชื่อนักเรียน!F13=\"ย้าย\",รายชื่อนักเรียน!F13=\"ออก\",รายชื่อนักเรียน!F13=\"ร\",รายชื่อนักเรียน!F13=\"มส\",P13=\"\"),\"\",IF(R13=\"\",\"\",ROUND(R13/$R$5*$S$5,0)))","v":""},"",{"$f":"IF(OR(รายชื่อนักเรียน!F13=\"ย้าย\",T13=\"\"),\"\",'ประเมิน ตชว.ปลายทางT1'!T13+T13)","v":""},{"$f":"IF(OR(รายชื่อนักเรียน!J13=\"ออก\",U13=\"\"),\"\",IF(U13=\"\",\"\",VLOOKUP(U13,ตั้งค่า!$AD$11:$AH$18,5,TRUE)))","v":""},{"$f":"IF(รายชื่อนักเรียน!$F13=\"\",\"\",รายชื่อนักเรียน!$F13)","v":""}]
[null,{"$f":"รายชื่อนักเรียน!B14","v":0},{"$f":"IF(รายชื่อนักเรียน!C14=\"\",\"\",รายชื่อนักเรียน!C14)","v":""},{"$f":"IF(รายชื่อนักเรียน!E14=\"\",\"\",รายชื่อนักเรียน!E14)","v":""},null,null,null,null,null,null,null,null,null,null,null,"",{"$f":"IFERROR(IF(OR(รายชื่อนักเรียน!F14=\"ย้าย\",รายชื่อนักเรียน!F14=\"ออก\",รายชื่อนักเรียน!F14=\"ร\",รายชื่อนักเรียน!F14=\"มส\",P14=\"\"),\"\",IF(P14=\"\",\"\",ROUND(P14/$P$5*$Q$5,0))),\"\")","v":""},null,{"$f":"IF(OR(รายชื่อนักเรียน!F14=\"ย้าย\",รายชื่อนักเรียน!F14=\"ออก\",รายชื่อนักเรียน!F14=\"ร\",รายชื่อนักเรียน!F14=\"มส\",P14=\"\"),\"\",IF(R14=\"\",\"\",ROUND(R14/$R$5*$S$5,0)))","v":""},"",{"$f":"IF(OR(รายชื่อนักเรียน!F14=\"ย้าย\",T14=\"\"),\"\",'ประเมิน ตชว.ปลายทางT1'!T14+T14)","v":""},{"$f":"IF(OR(รายชื่อนักเรียน!J14=\"ออก\",U14=\"\"),\"\",IF(U14=\"\",\"\",VLOOKUP(U14,ตั้งค่า!$AD$11:$AH$18,5,TRUE)))","v":""},{"$f":"IF(รายชื่อนักเรียน!$F14=\"\",\"\",รายชื่อนักเรียน!$F14)","v":""}]
[null,{"$f":"รายชื่อนักเรียน!B15","v":0},{"$f":"IF(รายชื่อนักเรียน!C15=\"\",\"\",รายชื่อนักเรียน!C15)","v":""},{"$f":"IF(รายชื่อนักเรียน!E15=\"\",\"\",รายชื่อนักเรียน!E15)","v":""},null,null,null,null,null,null,null,null,null,null,null,"",{"$f":"IFERROR(IF(OR(รายชื่อนักเรียน!F15=\"ย้าย\",รายชื่อนักเรียน!F15=\"ออก\",รายชื่อนักเรียน!F15=\"ร\",รายชื่อนักเรียน!F15=\"มส\",P15=\"\"),\"\",IF(P15=\"\",\"\",ROUND(P15/$P$5*$Q$5,0))),\"\")","v":""},null,{"$f":"IF(OR(รายชื่อนักเรียน!F15=\"ย้าย\",รายชื่อนักเรียน!F15=\"ออก\",รายชื่อนักเรียน!F15=\"ร\",รายชื่อนักเรียน!F15=\"มส\",P15=\"\"),\"\",IF(R15=\"\",\"\",ROUND(R15/$R$5*$S$5,0)))","v":""},"",{"$f":"IF(OR(รายชื่อนักเรียน!F15=\"ย้าย\",T15=\"\"),\"\",'ประเมิน ตชว.ปลายทางT1'!T15+T15)","v":""},{"$f":"IF(OR(รายชื่อนักเรียน!J15=\"ออก\",U15=\"\"),\"\",IF(U15=\"\",\"\",VLOOKUP(U15,ตั้งค่า!$AD$11:$AH$18,5,TRUE)))","v":""},{"$f":"IF(รายชื่อนักเรียน!$F15=\"\",\"\",รายชื่อนักเรียน!$F15)","v":""}]
[null,{"$f":"รายชื่อนักเรียน!B16","v":0},{"$f":"IF(รายชื่อนักเรียน!C16=\"\",\"\",รายชื่อนักเรียน!C16)","v":""},{"$f":"IF(รายชื่อนักเรียน!E16=\"\",\"\",รายชื่อนักเรียน!E16)","v":""},null,null,null,null,null,null,null,null,null,null,null,"",{"$f":"IFERROR(IF(OR(รายชื่อนักเรียน!F16=\"ย้าย\",รายชื่อนักเรียน!F16=\"ออก\",รายชื่อนักเรียน!F16=\"ร\",รายชื่อนักเรียน!F16=\"มส\",P16=\"\"),\"\",IF(P16=\"\",\"\",ROUND(P16/$P$5*$Q$5,0))),\"\")","v":""},null,{"$f":"IF(OR(รายชื่อนักเรียน!F16=\"ย้าย\",รายชื่อนักเรียน!F16=\"ออก\",รายชื่อนักเรียน!F16=\"ร\",รายชื่อนักเรียน!F16=\"มส\",P16=\"\"),\"\",IF(R16=\"\",\"\",ROUND(R16/$R$5*$S$5,0)))","v":""},"",{"$f":"IF(OR(รายชื่อนักเรียน!F16=\"ย้าย\",T16=\"\"),\"\",'ประเมิน ตชว.ปลายทางT1'!T16+T16)","v":""},{"$f":"IF(OR(รายชื่อนักเรียน!J16=\"ออก\",U16=\"\"),\"\",IF(U16=\"\",\"\",VLOOKUP(U16,ตั้งค่า!$AD$11:$AH$18,5,TRUE)))","v":""},{"$f":"IF(รายชื่อนักเรียน!$F16=\"\",\"\",รายชื่อนักเรียน!$F16)","v":""}]
[null,{"$f":"รายชื่อนักเรียน!B17","v":0},{"$f":"IF(รายชื่อนักเรียน!C17=\"\",\"\",รายชื่อนักเรียน!C17)","v":""},{"$f":"IF(รายชื่อนักเรียน!E17=\"\",\"\",รายชื่อนักเรียน!E17)","v":""},null,null,null,null,null,null,null,null,null,null,null,"",{"$f":"IFERROR(IF(OR(รายชื่อนักเรียน!F17=\"ย้าย\",รายชื่อนักเรียน!F17=\"ออก\",รายชื่อนักเรียน!F17=\"ร\",รายชื่อนักเรียน!F17=\"มส\",P17=\"\"),\"\",IF(P17=\"\",\"\",ROUND(P17/$P$5*$Q$5,0))),\"\")","v":""},null,{"$f":"IF(OR(รายชื่อนักเรียน!F17=\"ย้าย\",รายชื่อนักเรียน!F17=\"ออก\",รายชื่อนักเรียน!F17=\"ร\",รายชื่อนักเรียน!F17=\"มส\",P17=\"\"),\"\",IF(R17=\"\",\"\",ROUND(R17/$R$5*$S$5,0)))","v":""},"",{"$f":"IF(OR(รายชื่อนักเรียน!F17=\"ย้าย\",T17=\"\"),\"\",'ประเมิน ตชว.ปลายทางT1'!T17+T17)","v":""},{"$f":"IF(OR(รายชื่อนักเรียน!J17=\"ออก\",U17=\"\"),\"\",IF(U17=\"\",\"\",VLOOKUP(U17,ตั้งค่า!$AD$11:$AH$18,5,TRUE)))","v":""},{"$f":"IF(รายชื่อนักเรียน!$F17=\"\",\"\",รายชื่อนักเรียน!$F17)","v":""}]
[null,{"$f":"รายชื่อนักเรียน!B18","v":0},{"$f":"IF(รายชื่อนักเรียน!C18=\"\",\"\",รายชื่อนักเรียน!C18)","v":""},{"$f":"IF(รายชื่อนักเรียน!E18=\"\",\"\",รายชื่อนักเรียน!E18)","v":""},null,null,null,null,null,null,null,null,null,null,null,"",{"$f":"IFERROR(IF(OR(รายชื่อนักเรียน!F18=\"ย้าย\",รายชื่อนักเรียน!F18=\"ออก\",รายชื่อนักเรียน!F18=\"ร\",รายชื่อนักเรียน!F18=\"มส\",P18=\"\"),\"\",IF(P18=\"\",\"\",ROUND(P18/$P$5*$Q$5,0))),\"\")","v":""},null,{"$f":"IF(OR(รายชื่อนักเรียน!F18=\"ย้าย\",รายชื่อนักเรียน!F18=\"ออก\",รายชื่อนักเรียน!F18=\"ร\",รายชื่อนักเรียน!F18=\"มส\",P18=\"\"),\"\",IF(R18=\"\",\"\",ROUND(R18/$R$5*$S$5,0)))","v":""},"",{"$f":"IF(OR(รายชื่อนักเรียน!F18=\"ย้าย\",T18=\"\"),\"\",'ประเมิน ตชว.ปลายทางT1'!T18+T18)","v":""},{"$f":"IF(OR(รายชื่อนักเรียน!J18=\"ออก\",U18=\"\"),\"\",IF(U18=\"\",\"\",VLOOKUP(U18,ตั้งค่า!$AD$11:$AH$18,5,TRUE)))","v":""},{"$f":"IF(รายชื่อนักเรียน!$F18=\"\",\"\",รายชื่อนักเรียน!$F18)","v":""}]
[null,{"$f":"รายชื่อนักเรียน!B19","v":0},{"$f":"IF(รายชื่อนักเรียน!C19=\"\",\"\",รายชื่อนักเรียน!C19)","v":""},{"$f":"IF(รายชื่อนักเรียน!E19=\"\",\"\",รายชื่อนักเรียน!E19)","v":""},null,null,null,null,null,null,null,null,null,null,null,"",{"$f":"IFERROR(IF(OR(รายชื่อนักเรียน!F19=\"ย้าย\",รายชื่อนักเรียน!F19=\"ออก\",รายชื่อนักเรียน!F19=\"ร\",รายชื่อนักเรียน!F19=\"มส\",P19=\"\"),\"\",IF(P19=\"\",\"\",ROUND(P19/$P$5*$Q$5,0))),\"\")","v":""},null,{"$f":"IF(OR(รายชื่อนักเรียน!F19=\"ย้าย\",รายชื่อนักเรียน!F19=\"ออก\",รายชื่อนักเรียน!F19=\"ร\",รายชื่อนักเรียน!F19=\"มส\",P19=\"\"),\"\",IF(R19=\"\",\"\",ROUND(R19/$R$5*$S$5,0)))","v":""},"",{"$f":"IF(OR(รายชื่อนักเรียน!F19=\"ย้าย\",T19=\"\"),\"\",'ประเมิน ตชว.ปลายทางT1'!T19+T19)","v":""},{"$f":"IF(OR(รายชื่อนักเรียน!J19=\"ออก\",U19=\"\"),\"\",IF(U19=\"\",\"\",VLOOKUP(U19,ตั้งค่า!$AD$11:$AH$18,5,TRUE)))","v":""},{"$f":"IF(รายชื่อนักเรียน!$F19=\"\",\"\",รายชื่อนักเรียน!$F19)","v":""}]
[null,{"$f":"รายชื่อนักเรียน!B20","v":0},{"$f":"IF(รายชื่อนักเรียน!C20=\"\",\"\",รายชื่อนักเรียน!C20)","v":""},{"$f":"IF(รายชื่อนักเรียน!E20=\"\",\"\",รายชื่อนักเรียน!E20)","v":""},null,null,null,null,null,null,null,null,null,null,null,"",{"$f":"IFERROR(IF(OR(รายชื่อนักเรียน!F20=\"ย้าย\",รายชื่อนักเรียน!F20=\"ออก\",รายชื่อนักเรียน!F20=\"ร\",รายชื่อนักเรียน!F20=\"มส\",P20=\"\"),\"\",IF(P20=\"\",\"\",ROUND(P20/$P$5*$Q$5,0))),\"\")","v":""},null,{"$f":"IF(OR(รายชื่อนักเรียน!F20=\"ย้าย\",รายชื่อนักเรียน!F20=\"ออก\",รายชื่อนักเรียน!F20=\"ร\",รายชื่อนักเรียน!F20=\"มส\",P20=\"\"),\"\",IF(R20=\"\",\"\",ROUND(R20/$R$5*$S$5,0)))","v":""},"",{"$f":"IF(OR(รายชื่อนักเรียน!F20=\"ย้าย\",T20=\"\"),\"\",'ประเมิน ตชว.ปลายทางT1'!T20+T20)","v":""},{"$f":"IF(OR(รายชื่อนักเรียน!J20=\"ออก\",U20=\"\"),\"\",IF(U20=\"\",\"\",VLOOKUP(U20,ตั้งค่า!$AD$11:$AH$18,5,TRUE)))","v":""},{"$f":"IF(รายชื่อนักเรียน!$F20=\"\",\"\",รายชื่อนักเรียน!$F20)","v":""}]
[null,{"$f":"รายชื่อนักเรียน!B21","v":0},{"$f":"IF(รายชื่อนักเรียน!C21=\"\",\"\",รายชื่อนักเรียน!C21)","v":""},{"$f":"IF(รายชื่อนักเรียน!E21=\"\",\"\",รายชื่อนักเรียน!E21)","v":""},null,null,null,null,null,null,null,null,null,null,null,"",{"$f":"IFERROR(IF(OR(รายชื่อนักเรียน!F21=\"ย้าย\",รายชื่อนักเรียน!F21=\"ออก\",รายชื่อนักเรียน!F21=\"ร\",รายชื่อนักเรียน!F21=\"มส\",P21=\"\"),\"\",IF(P21=\"\",\"\",ROUND(P21/$P$5*$Q$5,0))),\"\")","v":""},null,{"$f":"IF(OR(รายชื่อนักเรียน!F21=\"ย้าย\",รายชื่อนักเรียน!F21=\"ออก\",รายชื่อนักเรียน!F21=\"ร\",รายชื่อนักเรียน!F21=\"มส\",P21=\"\"),\"\",IF(R21=\"\",\"\",ROUND(R21/$R$5*$S$5,0)))","v":""},"",{"$f":"IF(OR(รายชื่อนักเรียน!F21=\"ย้าย\",T21=\"\"),\"\",'ประเมิน ตชว.ปลายทางT1'!T21+T21)","v":""},{"$f":"IF(OR(รายชื่อนักเรียน!J21=\"ออก\",U21=\"\"),\"\",IF(U21=\"\",\"\",VLOOKUP(U21,ตั้งค่า!$AD$11:$AH$18,5,TRUE)))","v":""},{"$f":"IF(รายชื่อนักเรียน!$F21=\"\",\"\",รายชื่อนักเรียน!$F21)","v":""}]
[null,{"$f":"รายชื่อนักเรียน!B22","v":0},{"$f":"IF(รายชื่อนักเรียน!C22=\"\",\"\",รายชื่อนักเรียน!C22)","v":""},{"$f":"IF(รายชื่อนักเรียน!E22=\"\",\"\",รายชื่อนักเรียน!E22)","v":""},null,null,null,null,null,null,null,null,null,null,null,"",{"$f":"IFERROR(IF(OR(รายชื่อนักเรียน!F22=\"ย้าย\",รายชื่อนักเรียน!F22=\"ออก\",รายชื่อนักเรียน!F22=\"ร\",รายชื่อนักเรียน!F22=\"มส\",P22=\"\"),\"\",IF(P22=\"\",\"\",ROUND(P22/$P$5*$Q$5,0))),\"\")","v":""},null,{"$f":"IF(OR(รายชื่อนักเรียน!F22=\"ย้าย\",รายชื่อนักเรียน!F22=\"ออก\",รายชื่อนักเรียน!F22=\"ร\",รายชื่อนักเรียน!F22=\"มส\",P22=\"\"),\"\",IF(R22=\"\",\"\",ROUND(R22/$R$5*$S$5,0)))","v":""},"",{"$f":"IF(OR(รายชื่อนักเรียน!F22=\"ย้าย\",T22=\"\"),\"\",'ประเมิน ตชว.ปลายทางT1'!T22+T22)","v":""},{"$f":"IF(OR(รายชื่อนักเรียน!J22=\"ออก\",U22=\"\"),\"\",IF(U22=\"\",\"\",VLOOKUP(U22,ตั้งค่า!$AD$11:$AH$18,5,TRUE)))","v":""},{"$f":"IF(รายชื่อนักเรียน!$F22=\"\",\"\",รายชื่อนักเรียน!$F22)","v":""}]
[null,{"$f":"รายชื่อนักเรียน!B23","v":0},{"$f":"IF(รายชื่อนักเรียน!C23=\"\",\"\",รายชื่อนักเรียน!C23)","v":""},{"$f":"IF(รายชื่อนักเรียน!E23=\"\",\"\",รายชื่อนักเรียน!E23)","v":""},null,null,null,null,null,null,null,null,null,null,null,"",{"$f":"IFERROR(IF(OR(รายชื่อนักเรียน!F23=\"ย้าย\",รายชื่อนักเรียน!F23=\"ออก\",รายชื่อนักเรียน!F23=\"ร\",รายชื่อนักเรียน!F23=\"มส\",P23=\"\"),\"\",IF(P23=\"\",\"\",ROUND(P23/$P$5*$Q$5,0))),\"\")","v":""},null,{"$f":"IF(OR(รายชื่อนักเรียน!F23=\"ย้าย\",รายชื่อนักเรียน!F23=\"ออก\",รายชื่อนักเรียน!F23=\"ร\",รายชื่อนักเรียน!F23=\"มส\",P23=\"\"),\"\",IF(R23=\"\",\"\",ROUND(R23/$R$5*$S$5,0)))","v":""},"",{"$f":"IF(OR(รายชื่อนักเรียน!F23=\"ย้าย\",T23=\"\"),\"\",'ประเมิน ตชว.ปลายทางT1'!T23+T23)","v":""},{"$f":"IF(OR(รายชื่อนักเรียน!J23=\"ออก\",U23=\"\"),\"\",IF(U23=\"\",\"\",VLOOKUP(U23,ตั้งค่า!$AD$11:$AH$18,5,TRUE)))","v":""},{"$f":"IF(รายชื่อนักเรียน!$F23=\"\",\"\",รายชื่อนักเรียน!$F23)","v":""}]
[null,{"$f":"รายชื่อนักเรียน!B24","v":0},{"$f":"IF(รายชื่อนักเรียน!C24=\"\",\"\",รายชื่อนักเรียน!C24)","v":""},{"$f":"IF(รายชื่อนักเรียน!E24=\"\",\"\",รายชื่อนักเรียน!E24)","v":""},null,null,null,null,null,null,null,null,null,null,null,"",{"$f":"IFERROR(IF(OR(รายชื่อนักเรียน!F24=\"ย้าย\",รายชื่อนักเรียน!F24=\"ออก\",รายชื่อนักเรียน!F24=\"ร\",รายชื่อนักเรียน!F24=\"มส\",P24=\"\"),\"\",IF(P24=\"\",\"\",ROUND(P24/$P$5*$Q$5,0))),\"\")","v":""},null,{"$f":"IF(OR(รายชื่อนักเรียน!F24=\"ย้าย\",รายชื่อนักเรียน!F24=\"ออก\",รายชื่อนักเรียน!F24=\"ร\",รายชื่อนักเรียน!F24=\"มส\",P24=\"\"),\"\",IF(R24=\"\",\"\",ROUND(R24/$R$5*$S$5,0)))","v":""},"",{"$f":"IF(OR(รายชื่อนักเรียน!F24=\"ย้าย\",T24=\"\"),\"\",'ประเมิน ตชว.ปลายทางT1'!T24+T24)","v":""},{"$f":"IF(OR(รายชื่อนักเรียน!J24=\"ออก\",U24=\"\"),\"\",IF(U24=\"\",\"\",VLOOKUP(U24,ตั้งค่า!$AD$11:$AH$18,5,TRUE)))","v":""},{"$f":"IF(รายชื่อนักเรียน!$F24=\"\",\"\",รายชื่อนักเรียน!$F24)","v":""}]
[null,{"$f":"รายชื่อนักเรียน!B25","v":0},{"$f":"IF(รายชื่อนักเรียน!C25=\"\",\"\",รายชื่อนักเรียน!C25)","v":""},{"$f":"IF(รายชื่อนักเรียน!E25=\"\",\"\",รายชื่อนักเรียน!E25)","v":""},null,null,null,null,null,null,null,null,null,null,null,"",{"$f":"IFERROR(IF(OR(รายชื่อนักเรียน!F25=\"ย้าย\",รายชื่อนักเรียน!F25=\"ออก\",รายชื่อนักเรียน!F25=\"ร\",รายชื่อนักเรียน!F25=\"มส\",P25=\"\"),\"\",IF(P25=\"\",\"\",ROUND(P25/$P$5*$Q$5,0))),\"\")","v":""},null,{"$f":"IF(OR(รายชื่อนักเรียน!F25=\"ย้าย\",รายชื่อนักเรียน!F25=\"ออก\",รายชื่อนักเรียน!F25=\"ร\",รายชื่อนักเรียน!F25=\"มส\",P25=\"\"),\"\",IF(R25=\"\",\"\",ROUND(R25/$R$5*$S$5,0)))","v":""},"",{"$f":"IF(OR(รายชื่อนักเรียน!F25=\"ย้าย\",T25=\"\"),\"\",'ประเมิน ตชว.ปลายทางT1'!T25+T25)","v":""},{"$f":"IF(OR(รายชื่อนักเรียน!J25=\"ออก\",U25=\"\"),\"\",IF(U25=\"\",\"\",VLOOKUP(U25,ตั้งค่า!$AD$11:$AH$18,5,TRUE)))","v":""},{"$f":"IF(รายชื่อนักเรียน!$F25=\"\",\"\",รายชื่อนักเรียน!$F25)","v":""}]
[null,{"$f":"รายชื่อนักเรียน!B26","v":0},{"$f":"IF(รายชื่อนักเรียน!C26=\"\",\"\",รายชื่อนักเรียน!C26)","v":""},{"$f":"IF(รายชื่อนักเรียน!E26=\"\",\"\",รายชื่อนักเรียน!E26)","v":""},null,null,null,null,null,null,null,null,null,null,null,"",{"$f":"IFERROR(IF(OR(รายชื่อนักเรียน!F26=\"ย้าย\",รายชื่อนักเรียน!F26=\"ออก\",รายชื่อนักเรียน!F26=\"ร\",รายชื่อนักเรียน!F26=\"มส\",P26=\"\"),\"\",IF(P26=\"\",\"\",ROUND(P26/$P$5*$Q$5,0))),\"\")","v":""},null,{"$f":"IF(OR(รายชื่อนักเรียน!F26=\"ย้าย\",รายชื่อนักเรียน!F26=\"ออก\",รายชื่อนักเรียน!F26=\"ร\",รายชื่อนักเรียน!F26=\"มส\",P26=\"\"),\"\",IF(R26=\"\",\"\",ROUND(R26/$R$5*$S$5,0)))","v":""},"",{"$f":"IF(OR(รายชื่อนักเรียน!F26=\"ย้าย\",T26=\"\"),\"\",'ประเมิน ตชว.ปลายทางT1'!T26+T26)","v":""},{"$f":"IF(OR(รายชื่อนักเรียน!J26=\"ออก\",U26=\"\"),\"\",IF(U26=\"\",\"\",VLOOKUP(U26,ตั้งค่า!$AD$11:$AH$18,5,TRUE)))","v":""},{"$f":"IF(รายชื่อนักเรียน!$F26=\"\",\"\",รายชื่อนักเรียน!$F26)","v":""}]
[null,{"$f":"รายชื่อนักเรียน!B27","v":0},{"$f":"IF(รายชื่อนักเรียน!C27=\"\",\"\",รายชื่อนักเรียน!C27)","v":""},{"$f":"IF(รายชื่อนักเรียน!E27=\"\",\"\",รายชื่อนักเรียน!E27)","v":""},null,null,null,null,null,null,null,null,null,null,null,"",{"$f":"IFERROR(IF(OR(รายชื่อนักเรียน!F27=\"ย้าย\",รายชื่อนักเรียน!F27=\"ออก\",รายชื่อนักเรียน!F27=\"ร\",รายชื่อนักเรียน!F27=\"มส\",P27=\"\"),\"\",IF(P27=\"\",\"\",ROUND(P27/$P$5*$Q$5,0))),\"\")","v":""},null,{"$f":"IF(OR(รายชื่อนักเรียน!F27=\"ย้าย\",รายชื่อนักเรียน!F27=\"ออก\",รายชื่อนักเรียน!F27=\"ร\",รายชื่อนักเรียน!F27=\"มส\",P27=\"\"),\"\",IF(R27=\"\",\"\",ROUND(R27/$R$5*$S$5,0)))","v":""},"",{"$f":"IF(OR(รายชื่อนักเรียน!F27=\"ย้าย\",T27=\"\"),\"\",'ประเมิน ตชว.ปลายทางT1'!T27+T27)","v":""},{"$f":"IF(OR(รายชื่อนักเรียน!J27=\"ออก\",U27=\"\"),\"\",IF(U27=\"\",\"\",VLOOKUP(U27,ตั้งค่า!$AD$11:$AH$18,5,TRUE)))","v":""},{"$f":"IF(รายชื่อนักเรียน!$F27=\"\",\"\",รายชื่อนักเรียน!$F27)","v":""}]
[null,{"$f":"รายชื่อนักเรียน!B28","v":0},{"$f":"IF(รายชื่อนักเรียน!C28=\"\",\"\",รายชื่อนักเรียน!C28)","v":""},{"$f":"IF(รายชื่อนักเรียน!E28=\"\",\"\",รายชื่อนักเรียน!E28)","v":""},null,null,null,null,null,null,null,null,null,null,null,"",{"$f":"IFERROR(IF(OR(รายชื่อนักเรียน!F28=\"ย้าย\",รายชื่อนักเรียน!F28=\"ออก\",รายชื่อนักเรียน!F28=\"ร\",รายชื่อนักเรียน!F28=\"มส\",P28=\"\"),\"\",IF(P28=\"\",\"\",ROUND(P28/$P$5*$Q$5,0))),\"\")","v":""},null,{"$f":"IF(OR(รายชื่อนักเรียน!F28=\"ย้าย\",รายชื่อนักเรียน!F28=\"ออก\",รายชื่อนักเรียน!F28=\"ร\",รายชื่อนักเรียน!F28=\"มส\",P28=\"\"),\"\",IF(R28=\"\",\"\",ROUND(R28/$R$5*$S$5,0)))","v":""},"",{"$f":"IF(OR(รายชื่อนักเรียน!F28=\"ย้าย\",T28=\"\"),\"\",'ประเมิน ตชว.ปลายทางT1'!T28+T28)","v":""},{"$f":"IF(OR(รายชื่อนักเรียน!J28=\"ออก\",U28=\"\"),\"\",IF(U28=\"\",\"\",VLOOKUP(U28,ตั้งค่า!$AD$11:$AH$18,5,TRUE)))","v":""},{"$f":"IF(รายชื่อนักเรียน!$F28=\"\",\"\",รายชื่อนักเรียน!$F28)","v":""}]
[null,{"$f":"รายชื่อนักเรียน!B29","v":0},{"$f":"IF(รายชื่อนักเรียน!C29=\"\",\"\",รายชื่อนักเรียน!C29)","v":""},{"$f":"IF(รายชื่อนักเรียน!E29=\"\",\"\",รายชื่อนักเรียน!E29)","v":""},null,null,null,null,null,null,null,null,null,null,null,"",{"$f":"IFERROR(IF(OR(รายชื่อนักเรียน!F29=\"ย้าย\",รายชื่อนักเรียน!F29=\"ออก\",รายชื่อนักเรียน!F29=\"ร\",รายชื่อนักเรียน!F29=\"มส\",P29=\"\"),\"\",IF(P29=\"\",\"\",ROUND(P29/$P$5*$Q$5,0))),\"\")","v":""},null,{"$f":"IF(OR(รายชื่อนักเรียน!F29=\"ย้าย\",รายชื่อนักเรียน!F29=\"ออก\",รายชื่อนักเรียน!F29=\"ร\",รายชื่อนักเรียน!F29=\"มส\",P29=\"\"),\"\",IF(R29=\"\",\"\",ROUND(R29/$R$5*$S$5,0)))","v":""},"",{"$f":"IF(OR(รายชื่อนักเรียน!F29=\"ย้าย\",T29=\"\"),\"\",'ประเมิน ตชว.ปลายทางT1'!T29+T29)","v":""},{"$f":"IF(OR(รายชื่อนักเรียน!J29=\"ออก\",U29=\"\"),\"\",IF(U29=\"\",\"\",VLOOKUP(U29,ตั้งค่า!$AD$11:$AH$18,5,TRUE)))","v":""},{"$f":"IF(รายชื่อนักเรียน!$F29=\"\",\"\",รายชื่อนักเรียน!$F29)","v":""}]
[null,{"$f":"รายชื่อนักเรียน!B30","v":0},{"$f":"IF(รายชื่อนักเรียน!C30=\"\",\"\",รายชื่อนักเรียน!C30)","v":""},{"$f":"IF(รายชื่อนักเรียน!E30=\"\",\"\",รายชื่อนักเรียน!E30)","v":""},null,null,null,null,null,null,null,null,null,null,null,"",{"$f":"IFERROR(IF(OR(รายชื่อนักเรียน!F30=\"ย้าย\",รายชื่อนักเรียน!F30=\"ออก\",รายชื่อนักเรียน!F30=\"ร\",รายชื่อนักเรียน!F30=\"มส\",P30=\"\"),\"\",IF(P30=\"\",\"\",ROUND(P30/$P$5*$Q$5,0))),\"\")","v":""},null,{"$f":"IF(OR(รายชื่อนักเรียน!F30=\"ย้าย\",รายชื่อนักเรียน!F30=\"ออก\",รายชื่อนักเรียน!F30=\"ร\",รายชื่อนักเรียน!F30=\"มส\",P30=\"\"),\"\",IF(R30=\"\",\"\",ROUND(R30/$R$5*$S$5,0)))","v":""},"",{"$f":"IF(OR(รายชื่อนักเรียน!F30=\"ย้าย\",T30=\"\"),\"\",'ประเมิน ตชว.ปลายทางT1'!T30+T30)","v":""},{"$f":"IF(OR(รายชื่อนักเรียน!J30=\"ออก\",U30=\"\"),\"\",IF(U30=\"\",\"\",VLOOKUP(U30,ตั้งค่า!$AD$11:$AH$18,5,TRUE)))","v":""},{"$f":"IF(รายชื่อนักเรียน!$F30=\"\",\"\",รายชื่อนักเรียน!$F30)","v":""}]
[null,{"$f":"รายชื่อนักเรียน!B31","v":0},{"$f":"IF(รายชื่อนักเรียน!C31=\"\",\"\",รายชื่อนักเรียน!C31)","v":""},{"$f":"IF(รายชื่อนักเรียน!E31=\"\",\"\",รายชื่อนักเรียน!E31)","v":""},null,null,null,null,null,null,null,null,null,null,null,"",{"$f":"IFERROR(IF(OR(รายชื่อนักเรียน!F31=\"ย้าย\",รายชื่อนักเรียน!F31=\"ออก\",รายชื่อนักเรียน!F31=\"ร\",รายชื่อนักเรียน!F31=\"มส\",P31=\"\"),\"\",IF(P31=\"\",\"\",ROUND(P31/$P$5*$Q$5,0))),\"\")","v":""},null,{"$f":"IF(OR(รายชื่อนักเรียน!F31=\"ย้าย\",รายชื่อนักเรียน!F31=\"ออก\",รายชื่อนักเรียน!F31=\"ร\",รายชื่อนักเรียน!F31=\"มส\",P31=\"\"),\"\",IF(R31=\"\",\"\",ROUND(R31/$R$5*$S$5,0)))","v":""},"",{"$f":"IF(OR(รายชื่อนักเรียน!F31=\"ย้าย\",T31=\"\"),\"\",'ประเมิน ตชว.ปลายทางT1'!T31+T31)","v":""},{"$f":"IF(OR(รายชื่อนักเรียน!J31=\"ออก\",U31=\"\"),\"\",IF(U31=\"\",\"\",VLOOKUP(U31,ตั้งค่า!$AD$11:$AH$18,5,TRUE)))","v":""},{"$f":"IF(รายชื่อนักเรียน!$F31=\"\",\"\",รายชื่อนักเรียน!$F31)","v":""}]
[null,{"$f":"รายชื่อนักเรียน!B32","v":0},{"$f":"IF(รายชื่อนักเรียน!C32=\"\",\"\",รายชื่อนักเรียน!C32)","v":""},{"$f":"IF(รายชื่อนักเรียน!E32=\"\",\"\",รายชื่อนักเรียน!E32)","v":""},null,null,null,null,null,null,null,null,null,null,null,"",{"$f":"IFERROR(IF(OR(รายชื่อนักเรียน!F32=\"ย้าย\",รายชื่อนักเรียน!F32=\"ออก\",รายชื่อนักเรียน!F32=\"ร\",รายชื่อนักเรียน!F32=\"มส\",P32=\"\"),\"\",IF(P32=\"\",\"\",ROUND(P32/$P$5*$Q$5,0))),\"\")","v":""},null,{"$f":"IF(OR(รายชื่อนักเรียน!F32=\"ย้าย\",รายชื่อนักเรียน!F32=\"ออก\",รายชื่อนักเรียน!F32=\"ร\",รายชื่อนักเรียน!F32=\"มส\",P32=\"\"),\"\",IF(R32=\"\",\"\",ROUND(R32/$R$5*$S$5,0)))","v":""},"",{"$f":"IF(OR(รายชื่อนักเรียน!F32=\"ย้าย\",T32=\"\"),\"\",'ประเมิน ตชว.ปลายทางT1'!T32+T32)","v":""},{"$f":"IF(OR(รายชื่อนักเรียน!J32=\"ออก\",U32=\"\"),\"\",IF(U32=\"\",\"\",VLOOKUP(U32,ตั้งค่า!$AD$11:$AH$18,5,TRUE)))","v":""},{"$f":"IF(รายชื่อนักเรียน!$F32=\"\",\"\",รายชื่อนักเรียน!$F32)","v":""}]
[null,{"$f":"รายชื่อนักเรียน!B33","v":0},{"$f":"IF(รายชื่อนักเรียน!C33=\"\",\"\",รายชื่อนักเรียน!C33)","v":""},{"$f":"IF(รายชื่อนักเรียน!E33=\"\",\"\",รายชื่อนักเรียน!E33)","v":""},null,null,null,null,null,null,null,null,null,null,null,"",{"$f":"IFERROR(IF(OR(รายชื่อนักเรียน!F33=\"ย้าย\",รายชื่อนักเรียน!F33=\"ออก\",รายชื่อนักเรียน!F33=\"ร\",รายชื่อนักเรียน!F33=\"มส\",P33=\"\"),\"\",IF(P33=\"\",\"\",ROUND(P33/$P$5*$Q$5,0))),\"\")","v":""},null,{"$f":"IF(OR(รายชื่อนักเรียน!F33=\"ย้าย\",รายชื่อนักเรียน!F33=\"ออก\",รายชื่อนักเรียน!F33=\"ร\",รายชื่อนักเรียน!F33=\"มส\",P33=\"\"),\"\",IF(R33=\"\",\"\",ROUND(R33/$R$5*$S$5,0)))","v":""},"",{"$f":"IF(OR(รายชื่อนักเรียน!F33=\"ย้าย\",T33=\"\"),\"\",'ประเมิน ตชว.ปลายทางT1'!T33+T33)","v":""},{"$f":"IF(OR(รายชื่อนักเรียน!J33=\"ออก\",U33=\"\"),\"\",IF(U33=\"\",\"\",VLOOKUP(U33,ตั้งค่า!$AD$11:$AH$18,5,TRUE)))","v":""},{"$f":"IF(รายชื่อนักเรียน!$F33=\"\",\"\",รายชื่อนักเรียน!$F33)","v":""}]
[null,{"$f":"รายชื่อนักเรียน!B34","v":0},{"$f":"IF(รายชื่อนักเรียน!C34=\"\",\"\",รายชื่อนักเรียน!C34)","v":""},{"$f":"IF(รายชื่อนักเรียน!E34=\"\",\"\",รายชื่อนักเรียน!E34)","v":""},null,null,null,null,null,null,null,null,null,null,null,"",{"$f":"IFERROR(IF(OR(รายชื่อนักเรียน!F34=\"ย้าย\",รายชื่อนักเรียน!F34=\"ออก\",รายชื่อนักเรียน!F34=\"ร\",รายชื่อนักเรียน!F34=\"มส\",P34=\"\"),\"\",IF(P34=\"\",\"\",ROUND(P34/$P$5*$Q$5,0))),\"\")","v":""},null,{"$f":"IF(OR(รายชื่อนักเรียน!F34=\"ย้าย\",รายชื่อนักเรียน!F34=\"ออก\",รายชื่อนักเรียน!F34=\"ร\",รายชื่อนักเรียน!F34=\"มส\",P34=\"\"),\"\",IF(R34=\"\",\"\",ROUND(R34/$R$5*$S$5,0)))","v":""},"",{"$f":"IF(OR(รายชื่อนักเรียน!F34=\"ย้าย\",T34=\"\"),\"\",'ประเมิน ตชว.ปลายทางT1'!T34+T34)","v":""},{"$f":"IF(OR(รายชื่อนักเรียน!J34=\"ออก\",U34=\"\"),\"\",IF(U34=\"\",\"\",VLOOKUP(U34,ตั้งค่า!$AD$11:$AH$18,5,TRUE)))","v":""},{"$f":"IF(รายชื่อนักเรียน!$F34=\"\",\"\",รายชื่อนักเรียน!$F34)","v":""}]
[null,{"$f":"รายชื่อนักเรียน!B35","v":0},{"$f":"IF(รายชื่อนักเรียน!C35=\"\",\"\",รายชื่อนักเรียน!C35)","v":""},{"$f":"IF(รายชื่อนักเรียน!E35=\"\",\"\",รายชื่อนักเรียน!E35)","v":""},null,null,null,null,null,null,null,null,null,null,null,"",{"$f":"IFERROR(IF(OR(รายชื่อนักเรียน!F35=\"ย้าย\",รายชื่อนักเรียน!F35=\"ออก\",รายชื่อนักเรียน!F35=\"ร\",รายชื่อนักเรียน!F35=\"มส\",P35=\"\"),\"\",IF(P35=\"\",\"\",ROUND(P35/$P$5*$Q$5,0))),\"\")","v":""},null,{"$f":"IF(OR(รายชื่อนักเรียน!F35=\"ย้าย\",รายชื่อนักเรียน!F35=\"ออก\",รายชื่อนักเรียน!F35=\"ร\",รายชื่อนักเรียน!F35=\"มส\",P35=\"\"),\"\",IF(R35=\"\",\"\",ROUND(R35/$R$5*$S$5,0)))","v":""},"",{"$f":"IF(OR(รายชื่อนักเรียน!F35=\"ย้าย\",T35=\"\"),\"\",'ประเมิน ตชว.ปลายทางT1'!T35+T35)","v":""},{"$f":"IF(OR(รายชื่อนักเรียน!J35=\"ออก\",U35=\"\"),\"\",IF(U35=\"\",\"\",VLOOKUP(U35,ตั้งค่า!$AD$11:$AH$18,5,TRUE)))","v":""},{"$f":"IF(รายชื่อนักเรียน!$F35=\"\",\"\",รายชื่อนักเรียน!$F35)","v":""}]
[null,{"$f":"รายชื่อนักเรียน!B36","v":0},{"$f":"IF(รายชื่อนักเรียน!C36=\"\",\"\",รายชื่อนักเรียน!C36)","v":""},{"$f":"IF(รายชื่อนักเรียน!E36=\"\",\"\",รายชื่อนักเรียน!E36)","v":""},null,null,null,null,null,null,null,null,null,null,null,"",{"$f":"IFERROR(IF(OR(รายชื่อนักเรียน!F36=\"ย้าย\",รายชื่อนักเรียน!F36=\"ออก\",รายชื่อนักเรียน!F36=\"ร\",รายชื่อนักเรียน!F36=\"มส\",P36=\"\"),\"\",IF(P36=\"\",\"\",ROUND(P36/$P$5*$Q$5,0))),\"\")","v":""},null,{"$f":"IF(OR(รายชื่อนักเรียน!F36=\"ย้าย\",รายชื่อนักเรียน!F36=\"ออก\",รายชื่อนักเรียน!F36=\"ร\",รายชื่อนักเรียน!F36=\"มส\",P36=\"\"),\"\",IF(R36=\"\",\"\",ROUND(R36/$R$5*$S$5,0)))","v":""},"",{"$f":"IF(OR(รายชื่อนักเรียน!F36=\"ย้าย\",T36=\"\"),\"\",'ประเมิน ตชว.ปลายทางT1'!T36+T36)","v":""},{"$f":"IF(OR(รายชื่อนักเรียน!J36=\"ออก\",U36=\"\"),\"\",IF(U36=\"\",\"\",VLOOKUP(U36,ตั้งค่า!$AD$11:$AH$18,5,TRUE)))","v":""},{"$f":"IF(รายชื่อนักเรียน!$F36=\"\",\"\",รายชื่อนักเรียน!$F36)","v":""}]
[null,{"$f":"รายชื่อนักเรียน!B37","v":0},{"$f":"IF(รายชื่อนักเรียน!C37=\"\",\"\",รายชื่อนักเรียน!C37)","v":""},{"$f":"IF(รายชื่อนักเรียน!E37=\"\",\"\",รายชื่อนักเรียน!E37)","v":""},null,null,null,null,null,null,null,null,null,null,null,"",{"$f":"IFERROR(IF(OR(รายชื่อนักเรียน!F37=\"ย้าย\",รายชื่อนักเรียน!F37=\"ออก\",รายชื่อนักเรียน!F37=\"ร\",รายชื่อนักเรียน!F37=\"มส\",P37=\"\"),\"\",IF(P37=\"\",\"\",ROUND(P37/$P$5*$Q$5,0))),\"\")","v":""},null,{"$f":"IF(OR(รายชื่อนักเรียน!F37=\"ย้าย\",รายชื่อนักเรียน!F37=\"ออก\",รายชื่อนักเรียน!F37=\"ร\",รายชื่อนักเรียน!F37=\"มส\",P37=\"\"),\"\",IF(R37=\"\",\"\",ROUND(R37/$R$5*$S$5,0)))","v":""},"",{"$f":"IF(OR(รายชื่อนักเรียน!F37=\"ย้าย\",T37=\"\"),\"\",'ประเมิน ตชว.ปลายทางT1'!T37+T37)","v":""},{"$f":"IF(OR(รายชื่อนักเรียน!J37=\"ออก\",U37=\"\"),\"\",IF(U37=\"\",\"\",VLOOKUP(U37,ตั้งค่า!$AD$11:$AH$18,5,TRUE)))","v":""},{"$f":"IF(รายชื่อนักเรียน!$F37=\"\",\"\",รายชื่อนักเรียน!$F37)","v":""}]
[null,{"$f":"รายชื่อนักเรียน!B38","v":0},{"$f":"IF(รายชื่อนักเรียน!C38=\"\",\"\",รายชื่อนักเรียน!C38)","v":""},{"$f":"IF(รายชื่อนักเรียน!E38=\"\",\"\",รายชื่อนักเรียน!E38)","v":""},null,null,null,null,null,null,null,null,null,null,null,"",{"$f":"IFERROR(IF(OR(รายชื่อนักเรียน!F38=\"ย้าย\",รายชื่อนักเรียน!F38=\"ออก\",รายชื่อนักเรียน!F38=\"ร\",รายชื่อนักเรียน!F38=\"มส\",P38=\"\"),\"\",IF(P38=\"\",\"\",ROUND(P38/$P$5*$Q$5,0))),\"\")","v":""},null,{"$f":"IF(OR(รายชื่อนักเรียน!F38=\"ย้าย\",รายชื่อนักเรียน!F38=\"ออก\",รายชื่อนักเรียน!F38=\"ร\",รายชื่อนักเรียน!F38=\"มส\",P38=\"\"),\"\",IF(R38=\"\",\"\",ROUND(R38/$R$5*$S$5,0)))","v":""},"",{"$f":"IF(OR(รายชื่อนักเรียน!F38=\"ย้าย\",T38=\"\"),\"\",'ประเมิน ตชว.ปลายทางT1'!T38+T38)","v":""},{"$f":"IF(OR(รายชื่อนักเรียน!J38=\"ออก\",U38=\"\"),\"\",IF(U38=\"\",\"\",VLOOKUP(U38,ตั้งค่า!$AD$11:$AH$18,5,TRUE)))","v":""},{"$f":"IF(รายชื่อนักเรียน!$F38=\"\",\"\",รายชื่อนักเรียน!$F38)","v":""}]
[null,{"$f":"รายชื่อนักเรียน!B39","v":0},{"$f":"IF(รายชื่อนักเรียน!C39=\"\",\"\",รายชื่อนักเรียน!C39)","v":""},{"$f":"IF(รายชื่อนักเรียน!E39=\"\",\"\",รายชื่อนักเรียน!E39)","v":""},null,null,null,null,null,null,null,null,null,null,null,"",{"$f":"IFERROR(IF(OR(รายชื่อนักเรียน!F39=\"ย้าย\",รายชื่อนักเรียน!F39=\"ออก\",รายชื่อนักเรียน!F39=\"ร\",รายชื่อนักเรียน!F39=\"มส\",P39=\"\"),\"\",IF(P39=\"\",\"\",ROUND(P39/$P$5*$Q$5,0))),\"\")","v":""},null,{"$f":"IF(OR(รายชื่อนักเรียน!F39=\"ย้าย\",รายชื่อนักเรียน!F39=\"ออก\",รายชื่อนักเรียน!F39=\"ร\",รายชื่อนักเรียน!F39=\"มส\",P39=\"\"),\"\",IF(R39=\"\",\"\",ROUND(R39/$R$5*$S$5,0)))","v":""},"",{"$f":"IF(OR(รายชื่อนักเรียน!F39=\"ย้าย\",T39=\"\"),\"\",'ประเมิน ตชว.ปลายทางT1'!T39+T39)","v":""},{"$f":"IF(OR(รายชื่อนักเรียน!J39=\"ออก\",U39=\"\"),\"\",IF(U39=\"\",\"\",VLOOKUP(U39,ตั้งค่า!$AD$11:$AH$18,5,TRUE)))","v":""},{"$f":"IF(รายชื่อนักเรียน!$F39=\"\",\"\",รายชื่อนักเรียน!$F39)","v":""}]
[null,{"$f":"รายชื่อนักเรียน!B40","v":0},{"$f":"IF(รายชื่อนักเรียน!C40=\"\",\"\",รายชื่อนักเรียน!C40)","v":""},{"$f":"IF(รายชื่อนักเรียน!E40=\"\",\"\",รายชื่อนักเรียน!E40)","v":""},null,null,null,null,null,null,null,null,null,null,null,"",{"$f":"IFERROR(IF(OR(รายชื่อนักเรียน!F40=\"ย้าย\",รายชื่อนักเรียน!F40=\"ออก\",รายชื่อนักเรียน!F40=\"ร\",รายชื่อนักเรียน!F40=\"มส\",P40=\"\"),\"\",IF(P40=\"\",\"\",ROUND(P40/$P$5*$Q$5,0))),\"\")","v":""},null,{"$f":"IF(OR(รายชื่อนักเรียน!F40=\"ย้าย\",รายชื่อนักเรียน!F40=\"ออก\",รายชื่อนักเรียน!F40=\"ร\",รายชื่อนักเรียน!F40=\"มส\",P40=\"\"),\"\",IF(R40=\"\",\"\",ROUND(R40/$R$5*$S$5,0)))","v":""},"",{"$f":"IF(OR(รายชื่อนักเรียน!F40=\"ย้าย\",T40=\"\"),\"\",'ประเมิน ตชว.ปลายทางT1'!T40+T40)","v":""},{"$f":"IF(OR(รายชื่อนักเรียน!J40=\"ออก\",U40=\"\"),\"\",IF(U40=\"\",\"\",VLOOKUP(U40,ตั้งค่า!$AD$11:$AH$18,5,TRUE)))","v":""},{"$f":"IF(รายชื่อนักเรียน!$F40=\"\",\"\",รายชื่อนักเรียน!$F40)","v":""}]
[null,{"$f":"รายชื่อนักเรียน!B41","v":0},{"$f":"IF(รายชื่อนักเรียน!C41=\"\",\"\",รายชื่อนักเรียน!C41)","v":""},{"$f":"IF(รายชื่อนักเรียน!E41=\"\",\"\",รายชื่อนักเรียน!E41)","v":""},null,null,null,null,null,null,null,null,null,null,null,"",{"$f":"IFERROR(IF(OR(รายชื่อนักเรียน!F41=\"ย้าย\",รายชื่อนักเรียน!F41=\"ออก\",รายชื่อนักเรียน!F41=\"ร\",รายชื่อนักเรียน!F41=\"มส\",P41=\"\"),\"\",IF(P41=\"\",\"\",ROUND(P41/$P$5*$Q$5,0))),\"\")","v":""},null,{"$f":"IF(OR(รายชื่อนักเรียน!F41=\"ย้าย\",รายชื่อนักเรียน!F41=\"ออก\",รายชื่อนักเรียน!F41=\"ร\",รายชื่อนักเรียน!F41=\"มส\",P41=\"\"),\"\",IF(R41=\"\",\"\",ROUND(R41/$R$5*$S$5,0)))","v":""},"",{"$f":"IF(OR(รายชื่อนักเรียน!F41=\"ย้าย\",T41=\"\"),\"\",'ประเมิน ตชว.ปลายทางT1'!T41+T41)","v":""},{"$f":"IF(OR(รายชื่อนักเรียน!J41=\"ออก\",U41=\"\"),\"\",IF(U41=\"\",\"\",VLOOKUP(U41,ตั้งค่า!$AD$11:$AH$18,5,TRUE)))","v":""},{"$f":"IF(รายชื่อนักเรียน!$F41=\"\",\"\",รายชื่อนักเรียน!$F41)","v":""}]
[null,{"$f":"รายชื่อนักเรียน!B42","v":0},{"$f":"IF(รายชื่อนักเรียน!C42=\"\",\"\",รายชื่อนักเรียน!C42)","v":""},{"$f":"IF(รายชื่อนักเรียน!E42=\"\",\"\",รายชื่อนักเรียน!E42)","v":""},null,null,null,null,null,null,null,null,null,null,null,"",{"$f":"IFERROR(IF(OR(รายชื่อนักเรียน!F42=\"ย้าย\",รายชื่อนักเรียน!F42=\"ออก\",รายชื่อนักเรียน!F42=\"ร\",รายชื่อนักเรียน!F42=\"มส\",P42=\"\"),\"\",IF(P42=\"\",\"\",ROUND(P42/$P$5*$Q$5,0))),\"\")","v":""},null,{"$f":"IF(OR(รายชื่อนักเรียน!F42=\"ย้าย\",รายชื่อนักเรียน!F42=\"ออก\",รายชื่อนักเรียน!F42=\"ร\",รายชื่อนักเรียน!F42=\"มส\",P42=\"\"),\"\",IF(R42=\"\",\"\",ROUND(R42/$R$5*$S$5,0)))","v":""},"",{"$f":"IF(OR(รายชื่อนักเรียน!F42=\"ย้าย\",T42=\"\"),\"\",'ประเมิน ตชว.ปลายทางT1'!T42+T42)","v":""},{"$f":"IF(OR(รายชื่อนักเรียน!J42=\"ออก\",U42=\"\"),\"\",IF(U42=\"\",\"\",VLOOKUP(U42,ตั้งค่า!$AD$11:$AH$18,5,TRUE)))","v":""},{"$f":"IF(รายชื่อนักเรียน!$F42=\"\",\"\",รายชื่อนักเรียน!$F42)","v":""}]
[null,{"$f":"รายชื่อนักเรียน!B43","v":0},{"$f":"IF(รายชื่อนักเรียน!C43=\"\",\"\",รายชื่อนักเรียน!C43)","v":""},{"$f":"IF(รายชื่อนักเรียน!E43=\"\",\"\",รายชื่อนักเรียน!E43)","v":""},null,null,null,null,null,null,null,null,null,null,null,"",{"$f":"IFERROR(IF(OR(รายชื่อนักเรียน!F43=\"ย้าย\",รายชื่อนักเรียน!F43=\"ออก\",รายชื่อนักเรียน!F43=\"ร\",รายชื่อนักเรียน!F43=\"มส\",P43=\"\"),\"\",IF(P43=\"\",\"\",ROUND(P43/$P$5*$Q$5,0))),\"\")","v":""},null,{"$f":"IF(OR(รายชื่อนักเรียน!F43=\"ย้าย\",รายชื่อนักเรียน!F43=\"ออก\",รายชื่อนักเรียน!F43=\"ร\",รายชื่อนักเรียน!F43=\"มส\",P43=\"\"),\"\",IF(R43=\"\",\"\",ROUND(R43/$R$5*$S$5,0)))","v":""},"",{"$f":"IF(OR(รายชื่อนักเรียน!F43=\"ย้าย\",T43=\"\"),\"\",'ประเมิน ตชว.ปลายทางT1'!T43+T43)","v":""},{"$f":"IF(OR(รายชื่อนักเรียน!J43=\"ออก\",U43=\"\"),\"\",IF(U43=\"\",\"\",VLOOKUP(U43,ตั้งค่า!$AD$11:$AH$18,5,TRUE)))","v":""},{"$f":"IF(รายชื่อนักเรียน!$F43=\"\",\"\",รายชื่อนักเรียน!$F43)","v":""}]
[null,{"$f":"รายชื่อนักเรียน!B44","v":0},{"$f":"IF(รายชื่อนักเรียน!C44=\"\",\"\",รายชื่อนักเรียน!C44)","v":""},{"$f":"IF(รายชื่อนักเรียน!E44=\"\",\"\",รายชื่อนักเรียน!E44)","v":""},null,null,null,null,null,null,null,null,null,null,null,"",{"$f":"IFERROR(IF(OR(รายชื่อนักเรียน!F44=\"ย้าย\",รายชื่อนักเรียน!F44=\"ออก\",รายชื่อนักเรียน!F44=\"ร\",รายชื่อนักเรียน!F44=\"มส\",P44=\"\"),\"\",IF(P44=\"\",\"\",ROUND(P44/$P$5*$Q$5,0))),\"\")","v":""},null,{"$f":"IF(OR(รายชื่อนักเรียน!F44=\"ย้าย\",รายชื่อนักเรียน!F44=\"ออก\",รายชื่อนักเรียน!F44=\"ร\",รายชื่อนักเรียน!F44=\"มส\",P44=\"\"),\"\",IF(R44=\"\",\"\",ROUND(R44/$R$5*$S$5,0)))","v":""},"",{"$f":"IF(OR(รายชื่อนักเรียน!F44=\"ย้าย\",T44=\"\"),\"\",'ประเมิน ตชว.ปลายทางT1'!T44+T44)","v":""},{"$f":"IF(OR(รายชื่อนักเรียน!J44=\"ออก\",U44=\"\"),\"\",IF(U44=\"\",\"\",VLOOKUP(U44,ตั้งค่า!$AD$11:$AH$18,5,TRUE)))","v":""},{"$f":"IF(รายชื่อนักเรียน!$F44=\"\",\"\",รายชื่อนักเรียน!$F44)","v":""}]
[null,{"$f":"รายชื่อนักเรียน!B45","v":0},{"$f":"IF(รายชื่อนักเรียน!C45=\"\",\"\",รายชื่อนักเรียน!C45)","v":""},{"$f":"IF(รายชื่อนักเรียน!E45=\"\",\"\",รายชื่อนักเรียน!E45)","v":""},null,null,null,null,null,null,null,null,null,null,null,"",{"$f":"IFERROR(IF(OR(รายชื่อนักเรียน!F45=\"ย้าย\",รายชื่อนักเรียน!F45=\"ออก\",รายชื่อนักเรียน!F45=\"ร\",รายชื่อนักเรียน!F45=\"มส\",P45=\"\"),\"\",IF(P45=\"\",\"\",ROUND(P45/$P$5*$Q$5,0))),\"\")","v":""},null,{"$f":"IF(OR(รายชื่อนักเรียน!F45=\"ย้าย\",รายชื่อนักเรียน!F45=\"ออก\",รายชื่อนักเรียน!F45=\"ร\",รายชื่อนักเรียน!F45=\"มส\",P45=\"\"),\"\",IF(R45=\"\",\"\",ROUND(R45/$R$5*$S$5,0)))","v":""},"",{"$f":"IF(OR(รายชื่อนักเรียน!F45=\"ย้าย\",T45=\"\"),\"\",'ประเมิน ตชว.ปลายทางT1'!T45+T45)","v":""},{"$f":"IF(OR(รายชื่อนักเรียน!J45=\"ออก\",U45=\"\"),\"\",IF(U45=\"\",\"\",VLOOKUP(U45,ตั้งค่า!$AD$11:$AH$18,5,TRUE)))","v":""},{"$f":"IF(รายชื่อนักเรียน!$F45=\"\",\"\",รายชื่อนักเรียน!$F45)","v":""}]
[null,{"$f":"รายชื่อนักเรียน!B46","v":0},{"$f":"IF(รายชื่อนักเรียน!C46=\"\",\"\",รายชื่อนักเรียน!C46)","v":""},{"$f":"IF(รายชื่อนักเรียน!E46=\"\",\"\",รายชื่อนักเรียน!E46)","v":""},null,null,null,null,null,null,null,null,null,null,null,{"$f":"IF(D46=\"\",\"\",SUM(F46:O46))","v":""},{"$f":"IFERROR(IF(OR(รายชื่อนักเรียน!F46=\"ย้าย\",รายชื่อนักเรียน!F46=\"ออก\",รายชื่อนักเรียน!F46=\"ร\",รายชื่อนักเรียน!F46=\"มส\",P46=\"\"),\"\",IF(P46=\"\",\"\",ROUND(P46/$P$5*$Q$5,0))),\"\")","v":""},null,{"$f":"IF(OR(รายชื่อนักเรียน!F46=\"ย้าย\",รายชื่อนักเรียน!F46=\"ออก\",รายชื่อนักเรียน!F46=\"ร\",รายชื่อนักเรียน!F46=\"มส\",P46=\"\"),\"\",IF(R46=\"\",\"\",ROUND(R46/$R$5*$S$5,0)))","v":""},{"$f":"IF(D46=\"\",\"\",SUM(Q46,S46))","v":""},{"$f":"IF(OR(รายชื่อนักเรียน!F46=\"ย้าย\",T46=\"\"),\"\",'ประเมิน ตชว.ปลายทางT1'!T46+T46)","v":""},{"$f":"IF(OR(รายชื่อนักเรียน!J46=\"ออก\",U46=\"\"),\"\",IF(U46=\"\",\"\",VLOOKUP(U46,ตั้งค่า!$AD$11:$AH$18,5,TRUE)))","v":""},{"$f":"IF(รายชื่อนักเรียน!$F46=\"\",\"\",รายชื่อนักเรียน!$F46)","v":""}]
[null,{"$f":"รายชื่อนักเรียน!B47","v":0},{"$f":"IF(รายชื่อนักเรียน!C47=\"\",\"\",รายชื่อนักเรียน!C47)","v":""},{"$f":"IF(รายชื่อนักเรียน!E47=\"\",\"\",รายชื่อนักเรียน!E47)","v":""},null,null,null,null,null,null,null,null,null,null,null,"",{"$f":"IFERROR(IF(OR(รายชื่อนักเรียน!F47=\"ย้าย\",รายชื่อนักเรียน!F47=\"ออก\",รายชื่อนักเรียน!F47=\"ร\",รายชื่อนักเรียน!F47=\"มส\",P47=\"\"),\"\",IF(P47=\"\",\"\",ROUND(P47/$P$5*$Q$5,0))),\"\")","v":""},null,{"$f":"IF(OR(รายชื่อนักเรียน!F47=\"ย้าย\",รายชื่อนักเรียน!F47=\"ออก\",รายชื่อนักเรียน!F47=\"ร\",รายชื่อนักเรียน!F47=\"มส\",P47=\"\"),\"\",IF(R47=\"\",\"\",ROUND(R47/$R$5*$S$5,0)))","v":""},"",{"$f":"IF(OR(รายชื่อนักเรียน!F47=\"ย้าย\",T47=\"\"),\"\",'ประเมิน ตชว.ปลายทางT1'!T47+T47)","v":""},{"$f":"IF(OR(รายชื่อนักเรียน!J47=\"ออก\",U47=\"\"),\"\",IF(U47=\"\",\"\",VLOOKUP(U47,ตั้งค่า!$AD$11:$AH$18,5,TRUE)))","v":""},{"$f":"IF(รายชื่อนักเรียน!$F47=\"\",\"\",รายชื่อนักเรียน!$F47)","v":""}]
[null,{"$f":"รายชื่อนักเรียน!B48","v":0},{"$f":"IF(รายชื่อนักเรียน!C48=\"\",\"\",รายชื่อนักเรียน!C48)","v":""},{"$f":"IF(รายชื่อนักเรียน!E48=\"\",\"\",รายชื่อนักเรียน!E48)","v":""},null,null,null,null,null,null,null,null,null,null,null,"",{"$f":"IFERROR(IF(OR(รายชื่อนักเรียน!F48=\"ย้าย\",รายชื่อนักเรียน!F48=\"ออก\",รายชื่อนักเรียน!F48=\"ร\",รายชื่อนักเรียน!F48=\"มส\",P48=\"\"),\"\",IF(P48=\"\",\"\",ROUND(P48/$P$5*$Q$5,0))),\"\")","v":""},null,{"$f":"IF(OR(รายชื่อนักเรียน!F48=\"ย้าย\",รายชื่อนักเรียน!F48=\"ออก\",รายชื่อนักเรียน!F48=\"ร\",รายชื่อนักเรียน!F48=\"มส\",P48=\"\"),\"\",IF(R48=\"\",\"\",ROUND(R48/$R$5*$S$5,0)))","v":""},"",{"$f":"IF(OR(รายชื่อนักเรียน!F48=\"ย้าย\",T48=\"\"),\"\",'ประเมิน ตชว.ปลายทางT1'!T48+T48)","v":""},{"$f":"IF(OR(รายชื่อนักเรียน!J48=\"ออก\",U48=\"\"),\"\",IF(U48=\"\",\"\",VLOOKUP(U48,ตั้งค่า!$AD$11:$AH$18,5,TRUE)))","v":""},{"$f":"IF(รายชื่อนักเรียน!$F48=\"\",\"\",รายชื่อนักเรียน!$F48)","v":""}]
[null,{"$f":"รายชื่อนักเรียน!B49","v":0},{"$f":"IF(รายชื่อนักเรียน!C49=\"\",\"\",รายชื่อนักเรียน!C49)","v":""},{"$f":"IF(รายชื่อนักเรียน!E49=\"\",\"\",รายชื่อนักเรียน!E49)","v":""},null,null,null,null,null,null,null,null,null,null,null,"",{"$f":"IFERROR(IF(OR(รายชื่อนักเรียน!F49=\"ย้าย\",รายชื่อนักเรียน!F49=\"ออก\",รายชื่อนักเรียน!F49=\"ร\",รายชื่อนักเรียน!F49=\"มส\",P49=\"\"),\"\",IF(P49=\"\",\"\",ROUND(P49/$P$5*$Q$5,0))),\"\")","v":""},null,{"$f":"IF(OR(รายชื่อนักเรียน!F49=\"ย้าย\",รายชื่อนักเรียน!F49=\"ออก\",รายชื่อนักเรียน!F49=\"ร\",รายชื่อนักเรียน!F49=\"มส\",P49=\"\"),\"\",IF(R49=\"\",\"\",ROUND(R49/$R$5*$S$5,0)))","v":""},"",{"$f":"IF(OR(รายชื่อนักเรียน!F49=\"ย้าย\",T49=\"\"),\"\",'ประเมิน ตชว.ปลายทางT1'!T49+T49)","v":""},{"$f":"IF(OR(รายชื่อนักเรียน!J49=\"ออก\",U49=\"\"),\"\",IF(U49=\"\",\"\",VLOOKUP(U49,ตั้งค่า!$AD$11:$AH$18,5,TRUE)))","v":""},{"$f":"IF(รายชื่อนักเรียน!$F49=\"\",\"\",รายชื่อนักเรียน!$F49)","v":""}]
[null,{"$f":"รายชื่อนักเรียน!B50","v":0},{"$f":"IF(รายชื่อนักเรียน!C50=\"\",\"\",รายชื่อนักเรียน!C50)","v":""},{"$f":"IF(รายชื่อนักเรียน!E50=\"\",\"\",รายชื่อนักเรียน!E50)","v":""},null,null,null,null,null,null,null,null,null,null,null,"",{"$f":"IFERROR(IF(OR(รายชื่อนักเรียน!F50=\"ย้าย\",รายชื่อนักเรียน!F50=\"ออก\",รายชื่อนักเรียน!F50=\"ร\",รายชื่อนักเรียน!F50=\"มส\",P50=\"\"),\"\",IF(P50=\"\",\"\",ROUND(P50/$P$5*$Q$5,0))),\"\")","v":""},null,{"$f":"IF(OR(รายชื่อนักเรียน!F50=\"ย้าย\",รายชื่อนักเรียน!F50=\"ออก\",รายชื่อนักเรียน!F50=\"ร\",รายชื่อนักเรียน!F50=\"มส\",P50=\"\"),\"\",IF(R50=\"\",\"\",ROUND(R50/$R$5*$S$5,0)))","v":""},"",{"$f":"IF(OR(รายชื่อนักเรียน!F50=\"ย้าย\",T50=\"\"),\"\",'ประเมิน ตชว.ปลายทางT1'!T50+T50)","v":""},{"$f":"IF(OR(รายชื่อนักเรียน!J50=\"ออก\",U50=\"\"),\"\",IF(U50=\"\",\"\",VLOOKUP(U50,ตั้งค่า!$AD$11:$AH$18,5,TRUE)))","v":""},{"$f":"IF(รายชื่อนักเรียน!$F50=\"\",\"\",รายชื่อนักเรียน!$F50)","v":""}]

{"sheet":"คุณลักษณะ","index":11,"n_rows":50,"n_cols":36,"rows_kept":50,"cut":false,"hidden":false,"merged":[[45,3,45,4],[46,3,46,4],[47,3,47,4],[48,3,48,4],[49,3,49,4],[2,26,3,26],[1,1,4,1],[1,2,4,2],[1,3,4,3],[1,5,1,16],[1,17,1,28],[2,4,3,4],[2,5,3,5],[2,6,3,6],[2,7,3,7],[2,8,3,8],[2,9,3,9],[2,10,3,10],[2,11,3,11],[2,12,3,12],[2,21,3,21],[2,22,3,22],[15,3,15,4],[1,32,4,32],[2,13,3,13],[2,15,4,15],[2,16,4,16],[2,25,3,25],[2,27,4,27],[2,28,4,28],[3,29,4,29],[3,30,4,30],[1,29,2,31],[3,31,4,31],[2,17,3,17],[2,18,3,18],[2,19,3,19],[2,20,3,20],[10,3,10,4],[11,3,11,4],[12,3,12,4],[2,14,3,14],[13,3,13,4],[14,3,14,4],[5,3,5,4],[6,3,6,4],[7,3,7,4],[8,3,8,4],[9,3,9,4],[27,3,27,4],[34,3,34,4],[35,3,35,4],[36,3,36,4],[16,3,16,4],[44,3,44,4],[40,3,40,4],[37,3,37,4],[38,3,38,4],[29,3,29,4],[30,3,30,4],[31,3,31,4],[32,3,32,4],[33,3,33,4],[39,3,39,4],[2,23,3,23],[2,24,3,24],[41,3,41,4],[42,3,42,4],[43,3,43,4],[28,3,28,4],[17,3,17,4],[18,3,18,4],[19,3,19,4],[20,3,20,4],[21,3,21,4],[22,3,22,4],[23,3,23,4],[24,3,24,4],[25,3,25,4],[26,3,26,4]]}
[null,"คุณลักษณะอันพึงประสงค์"]
[null,"เลขที่","เลขประจำตัว","ชื่อ - สกุล",null,"ผลการประเมินคุณลักษณะอันพึงประสงค์  ภาคเรียนที่ 1",null,null,null,null,null,null,null,null,null,null,null,"ผลการประเมินคุณลักษณะอันพึงประสงค์  ภาคเรียนที่ 2",null,null,null,null,null,null,null,null,null,null,null,"สรุปการประเมินปลายปี",null,null,"หมายเหตุ"]
[null,null,null,null,"ข้อที่","1. รักชาติ ศาสน์ กษัตริย์","2. ซื่อสัตย์สุจริต","3. มีวินัย","4. ใฝ่เรียนรู้","5. อยู่อย่างพอเพียง","6. มุ่งมั่นในการทำงาน","7. รักความเป็นไทย","8. มีจิตสาธารณะ","รวมคะแนน","คิดเป็นร้อยละ","ผลการประเมิน","   ระดับ    คุณภาพ","1. รักชาติ ศาสน์ กษัตริย์","2. ซื่อสัตย์สุจริต","3. มีวินัย","4. ใฝ่เรียนรู้","5. อยู่อย่างพอเพียง","6. มุ่งมั่นในการทำงาน","7. รักความเป็นไทย","8. มีจิตสาธารณะ","รวม","คิดเป็นร้อยละ","ผลการประเมิน","ระดับคุณภาพ"]
[null,null,null,null,null,null,null,null,null,null,null,null,null,null,null,null,null,null,null,null,null,null,null,null,null,null,null,null,null,"ร้อยละ","ระดับ","คุณภาพ",null,null,null,"คุณลักษณะอันพึงประสงค์"]
[null,null,null,null,"คะแนนเต็ม",3,3,3,3,3,3,3,3,{"$f":"IF(SUM(F5:M5),SUM(F5:M5),\"\")","v":24},100,null,null,3,3,3,3,3,3,3,3,{"$f":"IF(SUM(R5:Y5),SUM(R5:Y5),\"\")","v":24},100]
[null,{"$f":"รายชื่อนักเรียน!B6","v":0},{"$f":"IF(รายชื่อนักเรียน!C6=\"\",\"\",รายชื่อนักเรียน!C6)","v":""},{"$f":"IF(รายชื่อนักเรียน!E6=\"\",\"\",รายชื่อนักเรียน!E6)","v":""},null,null,null,null,null,null,null,null,null,{"$f":"IF(D6=\"\",\"\",SUM(F6:M6))","v":""},{"$f":"IFERROR(IF(OR(รายชื่อนักเรียน!F6=\"ย้าย\",รายชื่อนักเรียน!F6=\"ออก\",รายชื่อนักเรียน!F6=\"ร\",รายชื่อนักเรียน!F6=\"มส\",N6=\"\"),\"\",ROUND(N6/$N$5*$O$5,0)),\"\")","v":""},{"$f":"IF(O6=\"\",\"\",VLOOKUP(O6,ตั้งค่า!$AD$20:$AH$23,5,TRUE))","v":""},{"$f":"IF(O6=\"\",\"\",VLOOKUP(O6,ตั้งค่า!$AD$20:$AH$23,4,TRUE))","v":""},null,null,null,null,null,null,null,null,{"$f":"IF(D6=\"\",\"\",SUM(R6:Y6))","v":""},{"$f":"IFERROR(IF(OR(รายชื่อนักเรียน!F6=\"ย้าย\",รายชื่อนักเรียน!F6=\"ออก\",รายชื่อนักเรียน!F6=\"ร\",รายชื่อนักเรียน!F6=\"มส\",N6=\"\"),\"\",ROUND(Z6/$Z$5*$AA$5,0)),\"\")","v":""},{"$f":"IF(AA6=\"\",\"\",VLOOKUP(AA6,ตั้งค่า!$AD$20:$AH$23,5,TRUE))","v":""},{"$f":"IF(AA6=\"\",\"\",VLOOKUP(AA6,ตั้งค่า!$AD$20:$AH$23,4,TRUE))","v":""},{"$f":"IF(ISERROR((O6+AA6)/2),\"\",(O6+AA6)/2)","v":""},{"$f":"IF(AD6=\"\",\"\",VLOOKUP(AD6,ตั้งค่า!$AD$20:$AH$23,5,TRUE))","v":""},{"$f":"IF(AD6=\"\",\"\",VLOOKUP(AD6,ตั้งค่า!$AD$20:$AH$23,4,TRUE))","v":""},{"$f":"รายชื่อนักเรียน!F6","v":0},"ย้าย",null,"1. รักชาติ ศาสน์ กษัตริย์"]
[null,{"$f":"รายชื่อนักเรียน!B7","v":0},{"$f":"IF(รายชื่อนักเรียน!C7=\"\",\"\",รายชื่อนักเรียน!C7)","v":""},{"$f":"IF(รายชื่อนักเรียน!E7=\"\",\"\",รายชื่อนักเรียน!E7)","v":""},null,null,null,null,null,null,null,null,null,{"$f":"IF(D7=\"\",\"\",SUM(F7:M7))","v":""},{"$f":"IFERROR(IF(OR(รายชื่อนักเรียน!F7=\"ย้าย\",รายชื่อนักเรียน!F7=\"ออก\",รายชื่อนักเรียน!F7=\"ร\",รายชื่อนักเรียน!F7=\"มส\",N7=\"\"),\"\",ROUND(N7/$N$5*$O$5,0)),\"\")","v":""},{"$f":"IF(O7=\"\",\"\",VLOOKUP(O7,ตั้งค่า!$AD$20:$AH$23,5,TRUE))","v":""},{"$f":"IF(O7=\"\",\"\",VLOOKUP(O7,ตั้งค่า!$AD$20:$AH$23,4,TRUE))","v":""},null,null,null,null,null,null,null,null,{"$f":"IF(D7=\"\",\"\",SUM(R7:Y7))","v":""},{"$f":"IFERROR(IF(OR(รายชื่อนักเรียน!F7=\"ย้าย\",รายชื่อนักเรียน!F7=\"ออก\",รายชื่อนักเรียน!F7=\"ร\",รายชื่อนักเรียน!F7=\"มส\",N7=\"\"),\"\",ROUND(Z7/$Z$5*$AA$5,0)),\"\")","v":""},{"$f":"IF(AA7=\"\",\"\",VLOOKUP(AA7,ตั้งค่า!$AD$20:$AH$23,5,TRUE))","v":""},{"$f":"IF(AA7=\"\",\"\",VLOOKUP(AA7,ตั้งค่า!$AD$20:$AH$23,4,TRUE))","v":""},"",{"$f":"IF(AD7=\"\",\"\",VLOOKUP(AD7,ตั้งค่า!$AD$20:$AH$23,5,TRUE))","v":""},{"$f":"IF(AD7=\"\",\"\",VLOOKUP(AD7,ตั้งค่า!$AD$20:$AH$23,4,TRUE))","v":""},{"$f":"รายชื่อนักเรียน!F7","v":0},null,null,"1.1 เป็นพลเมืองดีของชาติ"]
[null,{"$f":"รายชื่อนักเรียน!B8","v":0},{"$f":"IF(รายชื่อนักเรียน!C8=\"\",\"\",รายชื่อนักเรียน!C8)","v":""},{"$f":"IF(รายชื่อนักเรียน!E8=\"\",\"\",รายชื่อนักเรียน!E8)","v":""},null,null,null,null,null,null,null,null,null,"",{"$f":"IFERROR(IF(OR(รายชื่อนักเรียน!F8=\"ย้าย\",รายชื่อนักเรียน!F8=\"ออก\",รายชื่อนักเรียน!F8=\"ร\",รายชื่อนักเรียน!F8=\"มส\",N8=\"\"),\"\",ROUND(N8/$N$5*$O$5,0)),\"\")","v":""},{"$f":"IF(O8=\"\",\"\",VLOOKUP(O8,ตั้งค่า!$AD$20:$AH$23,5,TRUE))","v":""},{"$f":"IF(O8=\"\",\"\",VLOOKUP(O8,ตั้งค่า!$AD$20:$AH$23,4,TRUE))","v":""},null,null,null,null,null,null,null,null,"",{"$f":"IFERROR(IF(OR(รายชื่อนักเรียน!F8=\"ย้าย\",รายชื่อนักเรียน!F8=\"ออก\",รายชื่อนักเรียน!F8=\"ร\",รายชื่อนักเรียน!F8=\"มส\",N8=\"\"),\"\",ROUND(Z8/$Z$5*$AA$5,0)),\"\")","v":""},{"$f":"IF(AA8=\"\",\"\",VLOOKUP(AA8,ตั้งค่า!$AD$20:$AH$23,5,TRUE))","v":""},{"$f":"IF(AA8=\"\",\"\",VLOOKUP(AA8,ตั้งค่า!$AD$20:$AH$23,4,TRUE))","v":""},"",{"$f":"IF(AD8=\"\",\"\",VLOOKUP(AD8,ตั้งค่า!$AD$20:$AH$23,5,TRUE))","v":""},{"$f":"IF(AD8=\"\",\"\",VLOOKUP(AD8,ตั้งค่า!$AD$20:$AH$23,4,TRUE))","v":""},{"$f":"รายชื่อนักเรียน!F8","v":0},null,null,"1.2 ธำรงไว้ซึ่งความเป็นไทย"]
[null,{"$f":"รายชื่อนักเรียน!B9","v":0},{"$f":"IF(รายชื่อนักเรียน!C9=\"\",\"\",รายชื่อนักเรียน!C9)","v":""},{"$f":"IF(รายชื่อนักเรียน!E9=\"\",\"\",รายชื่อนักเรียน!E9)","v":""},null,null,null,null,null,null,null,null,null,"",{"$f":"IFERROR(IF(OR(รายชื่อนักเรียน!F9=\"ย้าย\",รายชื่อนักเรียน!F9=\"ออก\",รายชื่อนักเรียน!F9=\"ร\",รายชื่อนักเรียน!F9=\"มส\",N9=\"\"),\"\",ROUND(N9/$N$5*$O$5,0)),\"\")","v":""},{"$f":"IF(O9=\"\",\"\",VLOOKUP(O9,ตั้งค่า!$AD$20:$AH$23,5,TRUE))","v":""},{"$f":"IF(O9=\"\",\"\",VLOOKUP(O9,ตั้งค่า!$AD$20:$AH$23,4,TRUE))","v":""},null,null,null,null,null,null,null,null,"",{"$f":"IFERROR(IF(OR(รายชื่อนักเรียน!F9=\"ย้าย\",รายชื่อนักเรียน!F9=\"ออก\",รายชื่อนักเรียน!F9=\"ร\",รายชื่อนักเรียน!F9=\"มส\",N9=\"\"),\"\",ROUND(Z9/$Z$5*$AA$5,0)),\"\")","v":""},{"$f":"IF(AA9=\"\",\"\",VLOOKUP(AA9,ตั้งค่า!$AD$20:$AH$23,5,TRUE))","v":""},{"$f":"IF(AA9=\"\",\"\",VLOOKUP(AA9,ตั้งค่า!$AD$20:$AH$23,4,TRUE))","v":""},"",{"$f":"IF(AD9=\"\",\"\",VLOOKUP(AD9,ตั้งค่า!$AD$20:$AH$23,5,TRUE))","v":""},{"$f":"IF(AD9=\"\",\"\",VLOOKUP(AD9,ตั้งค่า!$AD$20:$AH$23,4,TRUE))","v":""},{"$f":"รายชื่อนักเรียน!F9","v":0},null,null,"1.3 ศรัทธา ยึดมั่นและปฏิบัติตนตามหลักของศาสนา"]
[null,{"$f":"รายชื่อนักเรียน!B10","v":0},{"$f":"IF(รายชื่อนักเรียน!C10=\"\",\"\",รายชื่อนักเรียน!C10)","v":""},{"$f":"IF(รายชื่อนักเรียน!E10=\"\",\"\",รายชื่อนักเรียน!E10)","v":""},null,null,null,null,null,null,null,null,null,"",{"$f":"IFERROR(IF(OR(รายชื่อนักเรียน!F10=\"ย้าย\",รายชื่อนักเรียน!F10=\"ออก\",รายชื่อนักเรียน!F10=\"ร\",รายชื่อนักเรียน!F10=\"มส\",N10=\"\"),\"\",ROUND(N10/$N$5*$O$5,0)),\"\")","v":""},{"$f":"IF(O10=\"\",\"\",VLOOKUP(O10,ตั้งค่า!$AD$20:$AH$23,5,TRUE))","v":""},{"$f":"IF(O10=\"\",\"\",VLOOKUP(O10,ตั้งค่า!$AD$20:$AH$23,4,TRUE))","v":""},null,null,null,null,null,null,null,null,"",{"$f":"IFERROR(IF(OR(รายชื่อนักเรียน!F10=\"ย้าย\",รายชื่อนักเรียน!F10=\"ออก\",รายชื่อนักเรียน!F10=\"ร\",รายชื่อนักเรียน!F10=\"มส\",N10=\"\"),\"\",ROUND(Z10/$Z$5*$AA$5,0)),\"\")","v":""},{"$f":"IF(AA10=\"\",\"\",VLOOKUP(AA10,ตั้งค่า!$AD$20:$AH$23,5,TRUE))","v":""},{"$f":"IF(AA10=\"\",\"\",VLOOKUP(AA10,ตั้งค่า!$AD$20:$AH$23,4,TRUE))","v":""},"",{"$f":"IF(AD10=\"\",\"\",VLOOKUP(AD10,ตั้งค่า!$AD$20:$AH$23,5,TRUE))","v":""},{"$f":"IF(AD10=\"\",\"\",VLOOKUP(AD10,ตั้งค่า!$AD$20:$AH$23,4,TRUE))","v":""},{"$f":"รายชื่อนักเรียน!F10","v":0},null,null,"1.4 เคารพเทิดทูนสถาบันพระมหากษัตริย์"]
[null,{"$f":"รายชื่อนักเรียน!B11","v":0},{"$f":"IF(รายชื่อนักเรียน!C11=\"\",\"\",รายชื่อนักเรียน!C11)","v":""},{"$f":"IF(รายชื่อนักเรียน!E11=\"\",\"\",รายชื่อนักเรียน!E11)","v":""},null,null,null,null,null,null,null,null,null,"",{"$f":"IFERROR(IF(OR(รายชื่อนักเรียน!F11=\"ย้าย\",รายชื่อนักเรียน!F11=\"ออก\",รายชื่อนักเรียน!F11=\"ร\",รายชื่อนักเรียน!F11=\"มส\",N11=\"\"),\"\",ROUND(N11/$N$5*$O$5,0)),\"\")","v":""},{"$f":"IF(O11=\"\",\"\",VLOOKUP(O11,ตั้งค่า!$AD$20:$AH$23,5,TRUE))","v":""},{"$f":"IF(O11=\"\",\"\",VLOOKUP(O11,ตั้งค่า!$AD$20:$AH$23,4,TRUE))","v":""},null,null,null,null,null,null,null,null,"",{"$f":"IFERROR(IF(OR(รายชื่อนักเรียน!F11=\"ย้าย\",รายชื่อนักเรียน!F11=\"ออก\",รายชื่อนักเรียน!F11=\"ร\",รายชื่อนักเรียน!F11=\"มส\",N11=\"\"),\"\",ROUND(Z11/$Z$5*$AA$5,0)),\"\")","v":""},{"$f":"IF(AA11=\"\",\"\",VLOOKUP(AA11,ตั้งค่า!$AD$20:$AH$23,5,TRUE))","v":""},{"$f":"IF(AA11=\"\",\"\",VLOOKUP(AA11,ตั้งค่า!$AD$20:$AH$23,4,TRUE))","v":""},"",{"$f":"IF(AD11=\"\",\"\",VLOOKUP(AD11,ตั้งค่า!$AD$20:$AH$23,5,TRUE))","v":""},{"$f":"IF(AD11=\"\",\"\",VLOOKUP(AD11,ตั้งค่า!$AD$20:$AH$23,4,TRUE))","v":""},{"$f":"รายชื่อนักเรียน!F11","v":0},null,null,"2. ซื่อสัตย์สุจริต"]
[null,{"$f":"รายชื่อนักเรียน!B12","v":0},{"$f":"IF(รายชื่อนักเรียน!C12=\"\",\"\",รายชื่อนักเรียน!C12)","v":""},{"$f":"IF(รายชื่อนักเรียน!E12=\"\",\"\",รายชื่อนักเรียน!E12)","v":""},null,null,null,null,null,null,null,null,null,"",{"$f":"IFERROR(IF(OR(รายชื่อนักเรียน!F12=\"ย้าย\",รายชื่อนักเรียน!F12=\"ออก\",รายชื่อนักเรียน!F12=\"ร\",รายชื่อนักเรียน!F12=\"มส\",N12=\"\"),\"\",ROUND(N12/$N$5*$O$5,0)),\"\")","v":""},{"$f":"IF(O12=\"\",\"\",VLOOKUP(O12,ตั้งค่า!$AD$20:$AH$23,5,TRUE))","v":""},{"$f":"IF(O12=\"\",\"\",VLOOKUP(O12,ตั้งค่า!$AD$20:$AH$23,4,TRUE))","v":""},null,null,null,null,null,null,null,null,"",{"$f":"IFERROR(IF(OR(รายชื่อนักเรียน!F12=\"ย้าย\",รายชื่อนักเรียน!F12=\"ออก\",รายชื่อนักเรียน!F12=\"ร\",รายชื่อนักเรียน!F12=\"มส\",N12=\"\"),\"\",ROUND(Z12/$Z$5*$AA$5,0)),\"\")","v":""},{"$f":"IF(AA12=\"\",\"\",VLOOKUP(AA12,ตั้งค่า!$AD$20:$AH$23,5,TRUE))","v":""},{"$f":"IF(AA12=\"\",\"\",VLOOKUP(AA12,ตั้งค่า!$AD$20:$AH$23,4,TRUE))","v":""},"",{"$f":"IF(AD12=\"\",\"\",VLOOKUP(AD12,ตั้งค่า!$AD$20:$AH$23,5,TRUE))","v":""},{"$f":"IF(AD12=\"\",\"\",VLOOKUP(AD12,ตั้งค่า!$AD$20:$AH$23,4,TRUE))","v":""},{"$f":"รายชื่อนักเรียน!F12","v":0},null,null,"2.1 ประพฤติตรงตามความเป็นจริงต่อตนเองทั้งทางกาย วาจา ใจ"]
[null,{"$f":"รายชื่อนักเรียน!B13","v":0},{"$f":"IF(รายชื่อนักเรียน!C13=\"\",\"\",รายชื่อนักเรียน!C13)","v":""},{"$f":"IF(รายชื่อนักเรียน!E13=\"\",\"\",รายชื่อนักเรียน!E13)","v":""},null,null,null,null,null,null,null,null,null,"",{"$f":"IFERROR(IF(OR(รายชื่อนักเรียน!F13=\"ย้าย\",รายชื่อนักเรียน!F13=\"ออก\",รายชื่อนักเรียน!F13=\"ร\",รายชื่อนักเรียน!F13=\"มส\",N13=\"\"),\"\",ROUND(N13/$N$5*$O$5,0)),\"\")","v":""},{"$f":"IF(O13=\"\",\"\",VLOOKUP(O13,ตั้งค่า!$AD$20:$AH$23,5,TRUE))","v":""},{"$f":"IF(O13=\"\",\"\",VLOOKUP(O13,ตั้งค่า!$AD$20:$AH$23,4,TRUE))","v":""},null,null,null,null,null,null,null,null,"",{"$f":"IFERROR(IF(OR(รายชื่อนักเรียน!F13=\"ย้าย\",รายชื่อนักเรียน!F13=\"ออก\",รายชื่อนักเรียน!F13=\"ร\",รายชื่อนักเรียน!F13=\"มส\",N13=\"\"),\"\",ROUND(Z13/$Z$5*$AA$5,0)),\"\")","v":""},{"$f":"IF(AA13=\"\",\"\",VLOOKUP(AA13,ตั้งค่า!$AD$20:$AH$23,5,TRUE))","v":""},{"$f":"IF(AA13=\"\",\"\",VLOOKUP(AA13,ตั้งค่า!$AD$20:$AH$23,4,TRUE))","v":""},"",{"$f":"IF(AD13=\"\",\"\",VLOOKUP(AD13,ตั้งค่า!$AD$20:$AH$23,5,TRUE))","v":""},{"$f":"IF(AD13=\"\",\"\",VLOOKUP(AD13,ตั้งค่า!$AD$20:$AH$23,4,TRUE))","v":""},{"$f":"รายชื่อนักเรียน!F13","v":0},null,null,"2.2 ประพฤติตรงตามความเป็นจริงต่อผู้อื่นทั้งทางกาย วาจา ใจ"]
[null,{"$f":"รายชื่อนักเรียน!B14","v":0},{"$f":"IF(รายชื่อนักเรียน!C14=\"\",\"\",รายชื่อนักเรียน!C14)","v":""},{"$f":"IF(รายชื่อนักเรียน!E14=\"\",\"\",รายชื่อนักเรียน!E14)","v":""},null,null,null,null,null,null,null,null,null,"",{"$f":"IFERROR(IF(OR(รายชื่อนักเรียน!F14=\"ย้าย\",รายชื่อนักเรียน!F14=\"ออก\",รายชื่อนักเรียน!F14=\"ร\",รายชื่อนักเรียน!F14=\"มส\",N14=\"\"),\"\",ROUND(N14/$N$5*$O$5,0)),\"\")","v":""},{"$f":"IF(O14=\"\",\"\",VLOOKUP(O14,ตั้งค่า!$AD$20:$AH$23,5,TRUE))","v":""},{"$f":"IF(O14=\"\",\"\",VLOOKUP(O14,ตั้งค่า!$AD$20:$AH$23,4,TRUE))","v":""},null,null,null,null,null,null,null,null,"",{"$f":"IFERROR(IF(OR(รายชื่อนักเรียน!F14=\"ย้าย\",รายชื่อนักเรียน!F14=\"ออก\",รายชื่อนักเรียน!F14=\"ร\",รายชื่อนักเรียน!F14=\"มส\",N14=\"\"),\"\",ROUND(Z14/$Z$5*$AA$5,0)),\"\")","v":""},{"$f":"IF(AA14=\"\",\"\",VLOOKUP(AA14,ตั้งค่า!$AD$20:$AH$23,5,TRUE))","v":""},{"$f":"IF(AA14=\"\",\"\",VLOOKUP(AA14,ตั้งค่า!$AD$20:$AH$23,4,TRUE))","v":""},"",{"$f":"IF(AD14=\"\",\"\",VLOOKUP(AD14,ตั้งค่า!$AD$20:$AH$23,5,TRUE))","v":""},{"$f":"IF(AD14=\"\",\"\",VLOOKUP(AD14,ตั้งค่า!$AD$20:$AH$23,4,TRUE))","v":""},{"$f":"รายชื่อนักเรียน!F14","v":0},null,null,"3. มีวินัย"]
[null,{"$f":"รายชื่อนักเรียน!B15","v":0},{"$f":"IF(รายชื่อนักเรียน!C15=\"\",\"\",รายชื่อนักเรียน!C15)","v":""},{"$f":"IF(รายชื่อนักเรียน!E15=\"\",\"\",รายชื่อนักเรียน!E15)","v":""},null,null,null,null,null,null,null,null,null,"",{"$f":"IFERROR(IF(OR(รายชื่อนักเรียน!F15=\"ย้าย\",รายชื่อนักเรียน!F15=\"ออก\",รายชื่อนักเรียน!F15=\"ร\",รายชื่อนักเรียน!F15=\"มส\",N15=\"\"),\"\",ROUND(N15/$N$5*$O$5,0)),\"\")","v":""},{"$f":"IF(O15=\"\",\"\",VLOOKUP(O15,ตั้งค่า!$AD$20:$AH$23,5,TRUE))","v":""},{"$f":"IF(O15=\"\",\"\",VLOOKUP(O15,ตั้งค่า!$AD$20:$AH$23,4,TRUE))","v":""},null,null,null,null,null,null,null,null,"",{"$f":"IFERROR(IF(OR(รายชื่อนักเรียน!F15=\"ย้าย\",รายชื่อนักเรียน!F15=\"ออก\",รายชื่อนักเรียน!F15=\"ร\",รายชื่อนักเรียน!F15=\"มส\",N15=\"\"),\"\",ROUND(Z15/$Z$5*$AA$5,0)),\"\")","v":""},{"$f":"IF(AA15=\"\",\"\",VLOOKUP(AA15,ตั้งค่า!$AD$20:$AH$23,5,TRUE))","v":""},{"$f":"IF(AA15=\"\",\"\",VLOOKUP(AA15,ตั้งค่า!$AD$20:$AH$23,4,TRUE))","v":""},"",{"$f":"IF(AD15=\"\",\"\",VLOOKUP(AD15,ตั้งค่า!$AD$20:$AH$23,5,TRUE))","v":""},{"$f":"IF(AD15=\"\",\"\",VLOOKUP(AD15,ตั้งค่า!$AD$20:$AH$23,4,TRUE))","v":""},{"$f":"รายชื่อนักเรียน!F15","v":0},null,null,"3.1 ปฏิบัติตามข้อตกลง กฎเกณฑ์ ระเบียบ ข้อบังคับของครอบครัว โรงเรียน และสังคม"]
[null,{"$f":"รายชื่อนักเรียน!B16","v":0},{"$f":"IF(รายชื่อนักเรียน!C16=\"\",\"\",รายชื่อนักเรียน!C16)","v":""},{"$f":"IF(รายชื่อนักเรียน!E16=\"\",\"\",รายชื่อนักเรียน!E16)","v":""},null,null,null,null,null,null,null,null,null,"",{"$f":"IFERROR(IF(OR(รายชื่อนักเรียน!F16=\"ย้าย\",รายชื่อนักเรียน!F16=\"ออก\",รายชื่อนักเรียน!F16=\"ร\",รายชื่อนักเรียน!F16=\"มส\",N16=\"\"),\"\",ROUND(N16/$N$5*$O$5,0)),\"\")","v":""},{"$f":"IF(O16=\"\",\"\",VLOOKUP(O16,ตั้งค่า!$AD$20:$AH$23,5,TRUE))","v":""},{"$f":"IF(O16=\"\",\"\",VLOOKUP(O16,ตั้งค่า!$AD$20:$AH$23,4,TRUE))","v":""},null,null,null,null,null,null,null,null,"",{"$f":"IFERROR(IF(OR(รายชื่อนักเรียน!F16=\"ย้าย\",รายชื่อนักเรียน!F16=\"ออก\",รายชื่อนักเรียน!F16=\"ร\",รายชื่อนักเรียน!F16=\"มส\",N16=\"\"),\"\",ROUND(Z16/$Z$5*$AA$5,0)),\"\")","v":""},{"$f":"IF(AA16=\"\",\"\",VLOOKUP(AA16,ตั้งค่า!$AD$20:$AH$23,5,TRUE))","v":""},{"$f":"IF(AA16=\"\",\"\",VLOOKUP(AA16,ตั้งค่า!$AD$20:$AH$23,4,TRUE))","v":""},"",{"$f":"IF(AD16=\"\",\"\",VLOOKUP(AD16,ตั้งค่า!$AD$20:$AH$23,5,TRUE))","v":""},{"$f":"IF(AD16=\"\",\"\",VLOOKUP(AD16,ตั้งค่า!$AD$20:$AH$23,4,TRUE))","v":""},{"$f":"รายชื่อนักเรียน!F16","v":0},null,null,"4. ใฝ่เรียนรู้"]
[null,{"$f":"รายชื่อนักเรียน!B17","v":0},{"$f":"IF(รายชื่อนักเรียน!C17=\"\",\"\",รายชื่อนักเรียน!C17)","v":""},{"$f":"IF(รายชื่อนักเรียน!E17=\"\",\"\",รายชื่อนักเรียน!E17)","v":""},null,null,null,null,null,null,null,null,null,"",{"$f":"IFERROR(IF(OR(รายชื่อนักเรียน!F17=\"ย้าย\",รายชื่อนักเรียน!F17=\"ออก\",รายชื่อนักเรียน!F17=\"ร\",รายชื่อนักเรียน!F17=\"มส\",N17=\"\"),\"\",ROUND(N17/$N$5*$O$5,0)),\"\")","v":""},{"$f":"IF(O17=\"\",\"\",VLOOKUP(O17,ตั้งค่า!$AD$20:$AH$23,5,TRUE))","v":""},{"$f":"IF(O17=\"\",\"\",VLOOKUP(O17,ตั้งค่า!$AD$20:$AH$23,4,TRUE))","v":""},null,null,null,null,null,null,null,null,"",{"$f":"IFERROR(IF(OR(รายชื่อนักเรียน!F17=\"ย้าย\",รายชื่อนักเรียน!F17=\"ออก\",รายชื่อนักเรียน!F17=\"ร\",รายชื่อนักเรียน!F17=\"มส\",N17=\"\"),\"\",ROUND(Z17/$Z$5*$AA$5,0)),\"\")","v":""},{"$f":"IF(AA17=\"\",\"\",VLOOKUP(AA17,ตั้งค่า!$AD$20:$AH$23,5,TRUE))","v":""},{"$f":"IF(AA17=\"\",\"\",VLOOKUP(AA17,ตั้งค่า!$AD$20:$AH$23,4,TRUE))","v":""},"",{"$f":"IF(AD17=\"\",\"\",VLOOKUP(AD17,ตั้งค่า!$AD$20:$AH$23,5,TRUE))","v":""},{"$f":"IF(AD17=\"\",\"\",VLOOKUP(AD17,ตั้งค่า!$AD$20:$AH$23,4,TRUE))","v":""},{"$f":"รายชื่อนักเรียน!F17","v":0},null,null,"4.1 ตั้งใจ เพียรพยายามในการเรียนและเข้าร่วมกิจกรรมการเรียนรู้"]
[null,{"$f":"รายชื่อนักเรียน!B18","v":0},{"$f":"IF(รายชื่อนักเรียน!C18=\"\",\"\",รายชื่อนักเรียน!C18)","v":""},{"$f":"IF(รายชื่อนักเรียน!E18=\"\",\"\",รายชื่อนักเรียน!E18)","v":""},null,null,null,null,null,null,null,null,null,"",{"$f":"IFERROR(IF(OR(รายชื่อนักเรียน!F18=\"ย้าย\",รายชื่อนักเรียน!F18=\"ออก\",รายชื่อนักเรียน!F18=\"ร\",รายชื่อนักเรียน!F18=\"มส\",N18=\"\"),\"\",ROUND(N18/$N$5*$O$5,0)),\"\")","v":""},{"$f":"IF(O18=\"\",\"\",VLOOKUP(O18,ตั้งค่า!$AD$20:$AH$23,5,TRUE))","v":""},{"$f":"IF(O18=\"\",\"\",VLOOKUP(O18,ตั้งค่า!$AD$20:$AH$23,4,TRUE))","v":""},null,null,null,null,null,null,null,null,"",{"$f":"IFERROR(IF(OR(รายชื่อนักเรียน!F18=\"ย้าย\",รายชื่อนักเรียน!F18=\"ออก\",รายชื่อนักเรียน!F18=\"ร\",รายชื่อนักเรียน!F18=\"มส\",N18=\"\"),\"\",ROUND(Z18/$Z$5*$AA$5,0)),\"\")","v":""},{"$f":"IF(AA18=\"\",\"\",VLOOKUP(AA18,ตั้งค่า!$AD$20:$AH$23,5,TRUE))","v":""},{"$f":"IF(AA18=\"\",\"\",VLOOKUP(AA18,ตั้งค่า!$AD$20:$AH$23,4,TRUE))","v":""},"",{"$f":"IF(AD18=\"\",\"\",VLOOKUP(AD18,ตั้งค่า!$AD$20:$AH$23,5,TRUE))","v":""},{"$f":"IF(AD18=\"\",\"\",VLOOKUP(AD18,ตั้งค่า!$AD$20:$AH$23,4,TRUE))","v":""},{"$f":"รายชื่อนักเรียน!F18","v":0},null,null,"4.2 แสวงหาความรู้จากทั้งภายในและภายนอกโรงเรียน ด้วยการเลือกใช้สื่ออย่างเหมาะสม สรุปเป็นองค์ความรู้ "]
[null,{"$f":"รายชื่อนักเรียน!B19","v":0},{"$f":"IF(รายชื่อนักเรียน!C19=\"\",\"\",รายชื่อนักเรียน!C19)","v":""},{"$f":"IF(รายชื่อนักเรียน!E19=\"\",\"\",รายชื่อนักเรียน!E19)","v":""},null,null,null,null,null,null,null,null,null,"",{"$f":"IFERROR(IF(OR(รายชื่อนักเรียน!F19=\"ย้าย\",รายชื่อนักเรียน!F19=\"ออก\",รายชื่อนักเรียน!F19=\"ร\",รายชื่อนักเรียน!F19=\"มส\",N19=\"\"),\"\",ROUND(N19/$N$5*$O$5,0)),\"\")","v":""},{"$f":"IF(O19=\"\",\"\",VLOOKUP(O19,ตั้งค่า!$AD$20:$AH$23,5,TRUE))","v":""},{"$f":"IF(O19=\"\",\"\",VLOOKUP(O19,ตั้งค่า!$AD$20:$AH$23,4,TRUE))","v":""},null,null,null,null,null,null,null,null,"",{"$f":"IFERROR(IF(OR(รายชื่อนักเรียน!F19=\"ย้าย\",รายชื่อนักเรียน!F19=\"ออก\",รายชื่อนักเรียน!F19=\"ร\",รายชื่อนักเรียน!F19=\"มส\",N19=\"\"),\"\",ROUND(Z19/$Z$5*$AA$5,0)),\"\")","v":""},{"$f":"IF(AA19=\"\",\"\",VLOOKUP(AA19,ตั้งค่า!$AD$20:$AH$23,5,TRUE))","v":""},{"$f":"IF(AA19=\"\",\"\",VLOOKUP(AA19,ตั้งค่า!$AD$20:$AH$23,4,TRUE))","v":""},"",{"$f":"IF(AD19=\"\",\"\",VLOOKUP(AD19,ตั้งค่า!$AD$20:$AH$23,5,TRUE))","v":""},{"$f":"IF(AD19=\"\",\"\",VLOOKUP(AD19,ตั้งค่า!$AD$20:$AH$23,4,TRUE))","v":""},{"$f":"รายชื่อนักเรียน!F19","v":0},null,null,"และสามารถนำไปใช้ในชีวิตประจำวันได้"]
[null,{"$f":"รายชื่อนักเรียน!B20","v":0},{"$f":"IF(รายชื่อนักเรียน!C20=\"\",\"\",รายชื่อนักเรียน!C20)","v":""},{"$f":"IF(รายชื่อนักเรียน!E20=\"\",\"\",รายชื่อนักเรียน!E20)","v":""},null,null,null,null,null,null,null,null,null,"",{"$f":"IFERROR(IF(OR(รายชื่อนักเรียน!F20=\"ย้าย\",รายชื่อนักเรียน!F20=\"ออก\",รายชื่อนักเรียน!F20=\"ร\",รายชื่อนักเรียน!F20=\"มส\",N20=\"\"),\"\",ROUND(N20/$N$5*$O$5,0)),\"\")","v":""},{"$f":"IF(O20=\"\",\"\",VLOOKUP(O20,ตั้งค่า!$AD$20:$AH$23,5,TRUE))","v":""},{"$f":"IF(O20=\"\",\"\",VLOOKUP(O20,ตั้งค่า!$AD$20:$AH$23,4,TRUE))","v":""},null,null,null,null,null,null,null,null,"",{"$f":"IFERROR(IF(OR(รายชื่อนักเรียน!F20=\"ย้าย\",รายชื่อนักเรียน!F20=\"ออก\",รายชื่อนักเรียน!F20=\"ร\",รายชื่อนักเรียน!F20=\"มส\",N20=\"\"),\"\",ROUND(Z20/$Z$5*$AA$5,0)),\"\")","v":""},{"$f":"IF(AA20=\"\",\"\",VLOOKUP(AA20,ตั้งค่า!$AD$20:$AH$23,5,TRUE))","v":""},{"$f":"IF(AA20=\"\",\"\",VLOOKUP(AA20,ตั้งค่า!$AD$20:$AH$23,4,TRUE))","v":""},"",{"$f":"IF(AD20=\"\",\"\",VLOOKUP(AD20,ตั้งค่า!$AD$20:$AH$23,5,TRUE))","v":""},{"$f":"IF(AD20=\"\",\"\",VLOOKUP(AD20,ตั้งค่า!$AD$20:$AH$23,4,TRUE))","v":""},{"$f":"รายชื่อนักเรียน!F20","v":0},null,null,"5. อยู่อย่างพอเพียง"]
[null,{"$f":"รายชื่อนักเรียน!B21","v":0},{"$f":"IF(รายชื่อนักเรียน!C21=\"\",\"\",รายชื่อนักเรียน!C21)","v":""},{"$f":"IF(รายชื่อนักเรียน!E21=\"\",\"\",รายชื่อนักเรียน!E21)","v":""},null,null,null,null,null,null,null,null,null,"",{"$f":"IFERROR(IF(OR(รายชื่อนักเรียน!F21=\"ย้าย\",รายชื่อนักเรียน!F21=\"ออก\",รายชื่อนักเรียน!F21=\"ร\",รายชื่อนักเรียน!F21=\"มส\",N21=\"\"),\"\",ROUND(N21/$N$5*$O$5,0)),\"\")","v":""},{"$f":"IF(O21=\"\",\"\",VLOOKUP(O21,ตั้งค่า!$AD$20:$AH$23,5,TRUE))","v":""},{"$f":"IF(O21=\"\",\"\",VLOOKUP(O21,ตั้งค่า!$AD$20:$AH$23,4,TRUE))","v":""},null,null,null,null,null,null,null,null,"",{"$f":"IFERROR(IF(OR(รายชื่อนักเรียน!F21=\"ย้าย\",รายชื่อนักเรียน!F21=\"ออก\",รายชื่อนักเรียน!F21=\"ร\",รายชื่อนักเรียน!F21=\"มส\",N21=\"\"),\"\",ROUND(Z21/$Z$5*$AA$5,0)),\"\")","v":""},{"$f":"IF(AA21=\"\",\"\",VLOOKUP(AA21,ตั้งค่า!$AD$20:$AH$23,5,TRUE))","v":""},{"$f":"IF(AA21=\"\",\"\",VLOOKUP(AA21,ตั้งค่า!$AD$20:$AH$23,4,TRUE))","v":""},"",{"$f":"IF(AD21=\"\",\"\",VLOOKUP(AD21,ตั้งค่า!$AD$20:$AH$23,5,TRUE))","v":""},{"$f":"IF(AD21=\"\",\"\",VLOOKUP(AD21,ตั้งค่า!$AD$20:$AH$23,4,TRUE))","v":""},{"$f":"รายชื่อนักเรียน!F21","v":0},null,null,"5.1 ดำเนินชีวิตอย่างพอประมาณ มีเหตุผล รอบคอบมีคุณธรรม"]
[null,{"$f":"รายชื่อนักเรียน!B22","v":0},{"$f":"IF(รายชื่อนักเรียน!C22=\"\",\"\",รายชื่อนักเรียน!C22)","v":""},{"$f":"IF(รายชื่อนักเรียน!E22=\"\",\"\",รายชื่อนักเรียน!E22)","v":""},null,null,null,null,null,null,null,null,null,"",{"$f":"IFERROR(IF(OR(รายชื่อนักเรียน!F22=\"ย้าย\",รายชื่อนักเรียน!F22=\"ออก\",รายชื่อนักเรียน!F22=\"ร\",รายชื่อนักเรียน!F22=\"มส\",N22=\"\"),\"\",ROUND(N22/$N$5*$O$5,0)),\"\")","v":""},{"$f":"IF(O22=\"\",\"\",VLOOKUP(O22,ตั้งค่า!$AD$20:$AH$23,5,TRUE))","v":""},{"$f":"IF(O22=\"\",\"\",VLOOKUP(O22,ตั้งค่า!$AD$20:$AH$23,4,TRUE))","v":""},null,null,null,null,null,null,null,null,"",{"$f":"IFERROR(IF(OR(รายชื่อนักเรียน!F22=\"ย้าย\",รายชื่อนักเรียน!F22=\"ออก\",รายชื่อนักเรียน!F22=\"ร\",รายชื่อนักเรียน!F22=\"มส\",N22=\"\"),\"\",ROUND(Z22/$Z$5*$AA$5,0)),\"\")","v":""},{"$f":"IF(AA22=\"\",\"\",VLOOKUP(AA22,ตั้งค่า!$AD$20:$AH$23,5,TRUE))","v":""},{"$f":"IF(AA22=\"\",\"\",VLOOKUP(AA22,ตั้งค่า!$AD$20:$AH$23,4,TRUE))","v":""},"",{"$f":"IF(AD22=\"\",\"\",VLOOKUP(AD22,ตั้งค่า!$AD$20:$AH$23,5,TRUE))","v":""},{"$f":"IF(AD22=\"\",\"\",VLOOKUP(AD22,ตั้งค่า!$AD$20:$AH$23,4,TRUE))","v":""},{"$f":"รายชื่อนักเรียน!F22","v":0},null,null,"5.2 มีภูมิคุ้มกันในตัวที่ดี ปรับตัวเพื่ออยู่ในสังคมได้อย่างมีความสุข"]
[null,{"$f":"รายชื่อนักเรียน!B23","v":0},{"$f":"IF(รายชื่อนักเรียน!C23=\"\",\"\",รายชื่อนักเรียน!C23)","v":""},{"$f":"IF(รายชื่อนักเรียน!E23=\"\",\"\",รายชื่อนักเรียน!E23)","v":""},null,null,null,null,null,null,null,null,null,"",{"$f":"IFERROR(IF(OR(รายชื่อนักเรียน!F23=\"ย้าย\",รายชื่อนักเรียน!F23=\"ออก\",รายชื่อนักเรียน!F23=\"ร\",รายชื่อนักเรียน!F23=\"มส\",N23=\"\"),\"\",ROUND(N23/$N$5*$O$5,0)),\"\")","v":""},{"$f":"IF(O23=\"\",\"\",VLOOKUP(O23,ตั้งค่า!$AD$20:$AH$23,5,TRUE))","v":""},{"$f":"IF(O23=\"\",\"\",VLOOKUP(O23,ตั้งค่า!$AD$20:$AH$23,4,TRUE))","v":""},null,null,null,null,null,null,null,null,"",{"$f":"IFERROR(IF(OR(รายชื่อนักเรียน!F23=\"ย้าย\",รายชื่อนักเรียน!F23=\"ออก\",รายชื่อนักเรียน!F23=\"ร\",รายชื่อนักเรียน!F23=\"มส\",N23=\"\"),\"\",ROUND(Z23/$Z$5*$AA$5,0)),\"\")","v":""},{"$f":"IF(AA23=\"\",\"\",VLOOKUP(AA23,ตั้งค่า!$AD$20:$AH$23,5,TRUE))","v":""},{"$f":"IF(AA23=\"\",\"\",VLOOKUP(AA23,ตั้งค่า!$AD$20:$AH$23,4,TRUE))","v":""},"",{"$f":"IF(AD23=\"\",\"\",VLOOKUP(AD23,ตั้งค่า!$AD$20:$AH$23,5,TRUE))","v":""},{"$f":"IF(AD23=\"\",\"\",VLOOKUP(AD23,ตั้งค่า!$AD$20:$AH$23,4,TRUE))","v":""},{"$f":"รายชื่อนักเรียน!F23","v":0},null,null,"6. มุ่งมั่นในการทำงาน"]
[null,{"$f":"รายชื่อนักเรียน!B24","v":0},{"$f":"IF(รายชื่อนักเรียน!C24=\"\",\"\",รายชื่อนักเรียน!C24)","v":""},{"$f":"IF(รายชื่อนักเรียน!E24=\"\",\"\",รายชื่อนักเรียน!E24)","v":""},null,null,null,null,null,null,null,null,null,"",{"$f":"IFERROR(IF(OR(รายชื่อนักเรียน!F24=\"ย้าย\",รายชื่อนักเรียน!F24=\"ออก\",รายชื่อนักเรียน!F24=\"ร\",รายชื่อนักเรียน!F24=\"มส\",N24=\"\"),\"\",ROUND(N24/$N$5*$O$5,0)),\"\")","v":""},{"$f":"IF(O24=\"\",\"\",VLOOKUP(O24,ตั้งค่า!$AD$20:$AH$23,5,TRUE))","v":""},{"$f":"IF(O24=\"\",\"\",VLOOKUP(O24,ตั้งค่า!$AD$20:$AH$23,4,TRUE))","v":""},null,null,null,null,null,null,null,null,"",{"$f":"IFERROR(IF(OR(รายชื่อนักเรียน!F24=\"ย้าย\",รายชื่อนักเรียน!F24=\"ออก\",รายชื่อนักเรียน!F24=\"ร\",รายชื่อนักเรียน!F24=\"มส\",N24=\"\"),\"\",ROUND(Z24/$Z$5*$AA$5,0)),\"\")","v":""},{"$f":"IF(AA24=\"\",\"\",VLOOKUP(AA24,ตั้งค่า!$AD$20:$AH$23,5,TRUE))","v":""},{"$f":"IF(AA24=\"\",\"\",VLOOKUP(AA24,ตั้งค่า!$AD$20:$AH$23,4,TRUE))","v":""},"",{"$f":"IF(AD24=\"\",\"\",VLOOKUP(AD24,ตั้งค่า!$AD$20:$AH$23,5,TRUE))","v":""},{"$f":"IF(AD24=\"\",\"\",VLOOKUP(AD24,ตั้งค่า!$AD$20:$AH$23,4,TRUE))","v":""},{"$f":"รายชื่อนักเรียน!F24","v":0},null,null,"6.1 ตั้งใจและรับผิดชอบในหน้าที่การงาน"]
[null,{"$f":"รายชื่อนักเรียน!B25","v":0},{"$f":"IF(รายชื่อนักเรียน!C25=\"\",\"\",รายชื่อนักเรียน!C25)","v":""},{"$f":"IF(รายชื่อนักเรียน!E25=\"\",\"\",รายชื่อนักเรียน!E25)","v":""},null,null,null,null,null,null,null,null,null,"",{"$f":"IFERROR(IF(OR(รายชื่อนักเรียน!F25=\"ย้าย\",รายชื่อนักเรียน!F25=\"ออก\",รายชื่อนักเรียน!F25=\"ร\",รายชื่อนักเรียน!F25=\"มส\",N25=\"\"),\"\",ROUND(N25/$N$5*$O$5,0)),\"\")","v":""},{"$f":"IF(O25=\"\",\"\",VLOOKUP(O25,ตั้งค่า!$AD$20:$AH$23,5,TRUE))","v":""},{"$f":"IF(O25=\"\",\"\",VLOOKUP(O25,ตั้งค่า!$AD$20:$AH$23,4,TRUE))","v":""},null,null,null,null,null,null,null,null,"",{"$f":"IFERROR(IF(OR(รายชื่อนักเรียน!F25=\"ย้าย\",รายชื่อนักเรียน!F25=\"ออก\",รายชื่อนักเรียน!F25=\"ร\",รายชื่อนักเรียน!F25=\"มส\",N25=\"\"),\"\",ROUND(Z25/$Z$5*$AA$5,0)),\"\")","v":""},{"$f":"IF(AA25=\"\",\"\",VLOOKUP(AA25,ตั้งค่า!$AD$20:$AH$23,5,TRUE))","v":""},{"$f":"IF(AA25=\"\",\"\",VLOOKUP(AA25,ตั้งค่า!$AD$20:$AH$23,4,TRUE))","v":""},"",{"$f":"IF(AD25=\"\",\"\",VLOOKUP(AD25,ตั้งค่า!$AD$20:$AH$23,5,TRUE))","v":""},{"$f":"IF(AD25=\"\",\"\",VLOOKUP(AD25,ตั้งค่า!$AD$20:$AH$23,4,TRUE))","v":""},{"$f":"รายชื่อนักเรียน!F25","v":0},null,null,"6.2 ทำงานด้วย ความเพียรพยายาม และอดทนเพื่อให้งานสำเร็จตามเป้าหมาย"]
[null,{"$f":"รายชื่อนักเรียน!B26","v":0},{"$f":"IF(รายชื่อนักเรียน!C26=\"\",\"\",รายชื่อนักเรียน!C26)","v":""},{"$f":"IF(รายชื่อนักเรียน!E26=\"\",\"\",รายชื่อนักเรียน!E26)","v":""},null,null,null,null,null,null,null,null,null,"",{"$f":"IFERROR(IF(OR(รายชื่อนักเรียน!F26=\"ย้าย\",รายชื่อนักเรียน!F26=\"ออก\",รายชื่อนักเรียน!F26=\"ร\",รายชื่อนักเรียน!F26=\"มส\",N26=\"\"),\"\",ROUND(N26/$N$5*$O$5,0)),\"\")","v":""},{"$f":"IF(O26=\"\",\"\",VLOOKUP(O26,ตั้งค่า!$AD$20:$AH$23,5,TRUE))","v":""},{"$f":"IF(O26=\"\",\"\",VLOOKUP(O26,ตั้งค่า!$AD$20:$AH$23,4,TRUE))","v":""},null,null,null,null,null,null,null,null,"",{"$f":"IFERROR(IF(OR(รายชื่อนักเรียน!F26=\"ย้าย\",รายชื่อนักเรียน!F26=\"ออก\",รายชื่อนักเรียน!F26=\"ร\",รายชื่อนักเรียน!F26=\"มส\",N26=\"\"),\"\",ROUND(Z26/$Z$5*$AA$5,0)),\"\")","v":""},{"$f":"IF(AA26=\"\",\"\",VLOOKUP(AA26,ตั้งค่า!$AD$20:$AH$23,5,TRUE))","v":""},{"$f":"IF(AA26=\"\",\"\",VLOOKUP(AA26,ตั้งค่า!$AD$20:$AH$23,4,TRUE))","v":""},"",{"$f":"IF(AD26=\"\",\"\",VLOOKUP(AD26,ตั้งค่า!$AD$20:$AH$23,5,TRUE))","v":""},{"$f":"IF(AD26=\"\",\"\",VLOOKUP(AD26,ตั้งค่า!$AD$20:$AH$23,4,TRUE))","v":""},{"$f":"รายชื่อนักเรียน!F26","v":0},null,null,"7. รักความเป็นไทย"]
[null,{"$f":"รายชื่อนักเรียน!B27","v":0},{"$f":"IF(รายชื่อนักเรียน!C27=\"\",\"\",รายชื่อนักเรียน!C27)","v":""},{"$f":"IF(รายชื่อนักเรียน!E27=\"\",\"\",รายชื่อนักเรียน!E27)","v":""},null,null,null,null,null,null,null,null,null,"",{"$f":"IFERROR(IF(OR(รายชื่อนักเรียน!F27=\"ย้าย\",รายชื่อนักเรียน!F27=\"ออก\",รายชื่อนักเรียน!F27=\"ร\",รายชื่อนักเรียน!F27=\"มส\",N27=\"\"),\"\",ROUND(N27/$N$5*$O$5,0)),\"\")","v":""},{"$f":"IF(O27=\"\",\"\",VLOOKUP(O27,ตั้งค่า!$AD$20:$AH$23,5,TRUE))","v":""},{"$f":"IF(O27=\"\",\"\",VLOOKUP(O27,ตั้งค่า!$AD$20:$AH$23,4,TRUE))","v":""},null,null,null,null,null,null,null,null,"",{"$f":"IFERROR(IF(OR(รายชื่อนักเรียน!F27=\"ย้าย\",รายชื่อนักเรียน!F27=\"ออก\",รายชื่อนักเรียน!F27=\"ร\",รายชื่อนักเรียน!F27=\"มส\",N27=\"\"),\"\",ROUND(Z27/$Z$5*$AA$5,0)),\"\")","v":""},{"$f":"IF(AA27=\"\",\"\",VLOOKUP(AA27,ตั้งค่า!$AD$20:$AH$23,5,TRUE))","v":""},{"$f":"IF(AA27=\"\",\"\",VLOOKUP(AA27,ตั้งค่า!$AD$20:$AH$23,4,TRUE))","v":""},"",{"$f":"IF(AD27=\"\",\"\",VLOOKUP(AD27,ตั้งค่า!$AD$20:$AH$23,5,TRUE))","v":""},{"$f":"IF(AD27=\"\",\"\",VLOOKUP(AD27,ตั้งค่า!$AD$20:$AH$23,4,TRUE))","v":""},{"$f":"รายชื่อนักเรียน!F27","v":0},null,null,"7.1 ภาคภูมิใจในขนบธรรมเนียมประเพณี ศิลปวัฒนธรรมไทยและมีความกตัญญูกตเวที"]
[null,{"$f":"รายชื่อนักเรียน!B28","v":0},{"$f":"IF(รายชื่อนักเรียน!C28=\"\",\"\",รายชื่อนักเรียน!C28)","v":""},{"$f":"IF(รายชื่อนักเรียน!E28=\"\",\"\",รายชื่อนักเรียน!E28)","v":""},null,null,null,null,null,null,null,null,null,"",{"$f":"IFERROR(IF(OR(รายชื่อนักเรียน!F28=\"ย้าย\",รายชื่อนักเรียน!F28=\"ออก\",รายชื่อนักเรียน!F28=\"ร\",รายชื่อนักเรียน!F28=\"มส\",N28=\"\"),\"\",ROUND(N28/$N$5*$O$5,0)),\"\")","v":""},{"$f":"IF(O28=\"\",\"\",VLOOKUP(O28,ตั้งค่า!$AD$20:$AH$23,5,TRUE))","v":""},{"$f":"IF(O28=\"\",\"\",VLOOKUP(O28,ตั้งค่า!$AD$20:$AH$23,4,TRUE))","v":""},null,null,null,null,null,null,null,null,"",{"$f":"IFERROR(IF(OR(รายชื่อนักเรียน!F28=\"ย้าย\",รายชื่อนักเรียน!F28=\"ออก\",รายชื่อนักเรียน!F28=\"ร\",รายชื่อนักเรียน!F28=\"มส\",N28=\"\"),\"\",ROUND(Z28/$Z$5*$AA$5,0)),\"\")","v":""},{"$f":"IF(AA28=\"\",\"\",VLOOKUP(AA28,ตั้งค่า!$AD$20:$AH$23,5,TRUE))","v":""},{"$f":"IF(AA28=\"\",\"\",VLOOKUP(AA28,ตั้งค่า!$AD$20:$AH$23,4,TRUE))","v":""},"",{"$f":"IF(AD28=\"\",\"\",VLOOKUP(AD28,ตั้งค่า!$AD$20:$AH$23,5,TRUE))","v":""},{"$f":"IF(AD28=\"\",\"\",VLOOKUP(AD28,ตั้งค่า!$AD$20:$AH$23,4,TRUE))","v":""},{"$f":"รายชื่อนักเรียน!F28","v":0},null,null,"7.2 เห็นคุณค่าและใช้ภาษาไทยในการสื่อสารได้อย่างถูกต้อง เหมาะสม"]
[null,{"$f":"รายชื่อนักเรียน!B29","v":0},{"$f":"IF(รายชื่อนักเรียน!C29=\"\",\"\",รายชื่อนักเรียน!C29)","v":""},{"$f":"IF(รายชื่อนักเรียน!E29=\"\",\"\",รายชื่อนักเรียน!E29)","v":""},null,null,null,null,null,null,null,null,null,"",{"$f":"IFERROR(IF(OR(รายชื่อนักเรียน!F29=\"ย้าย\",รายชื่อนักเรียน!F29=\"ออก\",รายชื่อนักเรียน!F29=\"ร\",รายชื่อนักเรียน!F29=\"มส\",N29=\"\"),\"\",ROUND(N29/$N$5*$O$5,0)),\"\")","v":""},{"$f":"IF(O29=\"\",\"\",VLOOKUP(O29,ตั้งค่า!$AD$20:$AH$23,5,TRUE))","v":""},{"$f":"IF(O29=\"\",\"\",VLOOKUP(O29,ตั้งค่า!$AD$20:$AH$23,4,TRUE))","v":""},null,null,null,null,null,null,null,null,"",{"$f":"IFERROR(IF(OR(รายชื่อนักเรียน!F29=\"ย้าย\",รายชื่อนักเรียน!F29=\"ออก\",รายชื่อนักเรียน!F29=\"ร\",รายชื่อนักเรียน!F29=\"มส\",N29=\"\"),\"\",ROUND(Z29/$Z$5*$AA$5,0)),\"\")","v":""},{"$f":"IF(AA29=\"\",\"\",VLOOKUP(AA29,ตั้งค่า!$AD$20:$AH$23,5,TRUE))","v":""},{"$f":"IF(AA29=\"\",\"\",VLOOKUP(AA29,ตั้งค่า!$AD$20:$AH$23,4,TRUE))","v":""},"",{"$f":"IF(AD29=\"\",\"\",VLOOKUP(AD29,ตั้งค่า!$AD$20:$AH$23,5,TRUE))","v":""},{"$f":"IF(AD29=\"\",\"\",VLOOKUP(AD29,ตั้งค่า!$AD$20:$AH$23,4,TRUE))","v":""},{"$f":"รายชื่อนักเรียน!F29","v":0},null,null,"7.3 อนุรักษ์ สืบทอดภูมิปัญญาไทย"]
[null,{"$f":"รายชื่อนักเรียน!B30","v":0},{"$f":"IF(รายชื่อนักเรียน!C30=\"\",\"\",รายชื่อนักเรียน!C30)","v":""},{"$f":"IF(รายชื่อนักเรียน!E30=\"\",\"\",รายชื่อนักเรียน!E30)","v":""},null,null,null,null,null,null,null,null,null,"",{"$f":"IFERROR(IF(OR(รายชื่อนักเรียน!F30=\"ย้าย\",รายชื่อนักเรียน!F30=\"ออก\",รายชื่อนักเรียน!F30=\"ร\",รายชื่อนักเรียน!F30=\"มส\",N30=\"\"),\"\",ROUND(N30/$N$5*$O$5,0)),\"\")","v":""},{"$f":"IF(O30=\"\",\"\",VLOOKUP(O30,ตั้งค่า!$AD$20:$AH$23,5,TRUE))","v":""},{"$f":"IF(O30=\"\",\"\",VLOOKUP(O30,ตั้งค่า!$AD$20:$AH$23,4,TRUE))","v":""},null,null,null,null,null,null,null,null,"",{"$f":"IFERROR(IF(OR(รายชื่อนักเรียน!F30=\"ย้าย\",รายชื่อนักเรียน!F30=\"ออก\",รายชื่อนักเรียน!F30=\"ร\",รายชื่อนักเรียน!F30=\"มส\",N30=\"\"),\"\",ROUND(Z30/$Z$5*$AA$5,0)),\"\")","v":""},{"$f":"IF(AA30=\"\",\"\",VLOOKUP(AA30,ตั้งค่า!$AD$20:$AH$23,5,TRUE))","v":""},{"$f":"IF(AA30=\"\",\"\",VLOOKUP(AA30,ตั้งค่า!$AD$20:$AH$23,4,TRUE))","v":""},"",{"$f":"IF(AD30=\"\",\"\",VLOOKUP(AD30,ตั้งค่า!$AD$20:$AH$23,5,TRUE))","v":""},{"$f":"IF(AD30=\"\",\"\",VLOOKUP(AD30,ตั้งค่า!$AD$20:$AH$23,4,TRUE))","v":""},{"$f":"รายชื่อนักเรียน!F30","v":0},null,null,"8.มีจิตสาธารณะ"]
[null,{"$f":"รายชื่อนักเรียน!B31","v":0},{"$f":"IF(รายชื่อนักเรียน!C31=\"\",\"\",รายชื่อนักเรียน!C31)","v":""},{"$f":"IF(รายชื่อนักเรียน!E31=\"\",\"\",รายชื่อนักเรียน!E31)","v":""},null,null,null,null,null,null,null,null,null,"",{"$f":"IFERROR(IF(OR(รายชื่อนักเรียน!F31=\"ย้าย\",รายชื่อนักเรียน!F31=\"ออก\",รายชื่อนักเรียน!F31=\"ร\",รายชื่อนักเรียน!F31=\"มส\",N31=\"\"),\"\",ROUND(N31/$N$5*$O$5,0)),\"\")","v":""},{"$f":"IF(O31=\"\",\"\",VLOOKUP(O31,ตั้งค่า!$AD$20:$AH$23,5,TRUE))","v":""},{"$f":"IF(O31=\"\",\"\",VLOOKUP(O31,ตั้งค่า!$AD$20:$AH$23,4,TRUE))","v":""},null,null,null,null,null,null,null,null,"",{"$f":"IFERROR(IF(OR(รายชื่อนักเรียน!F31=\"ย้าย\",รายชื่อนักเรียน!F31=\"ออก\",รายชื่อนักเรียน!F31=\"ร\",รายชื่อนักเรียน!F31=\"มส\",N31=\"\"),\"\",ROUND(Z31/$Z$5*$AA$5,0)),\"\")","v":""},{"$f":"IF(AA31=\"\",\"\",VLOOKUP(AA31,ตั้งค่า!$AD$20:$AH$23,5,TRUE))","v":""},{"$f":"IF(AA31=\"\",\"\",VLOOKUP(AA31,ตั้งค่า!$AD$20:$AH$23,4,TRUE))","v":""},"",{"$f":"IF(AD31=\"\",\"\",VLOOKUP(AD31,ตั้งค่า!$AD$20:$AH$23,5,TRUE))","v":""},{"$f":"IF(AD31=\"\",\"\",VLOOKUP(AD31,ตั้งค่า!$AD$20:$AH$23,4,TRUE))","v":""},{"$f":"รายชื่อนักเรียน!F31","v":0},null,null,"8.1 ช่วยเหลือผู้อื่นด้วยความเต็มใจโดยไม่หวังผลตอบแทน"]
[null,{"$f":"รายชื่อนักเรียน!B32","v":0},{"$f":"IF(รายชื่อนักเรียน!C32=\"\",\"\",รายชื่อนักเรียน!C32)","v":""},{"$f":"IF(รายชื่อนักเรียน!E32=\"\",\"\",รายชื่อนักเรียน!E32)","v":""},null,null,null,null,null,null,null,null,null,"",{"$f":"IFERROR(IF(OR(รายชื่อนักเรียน!F32=\"ย้าย\",รายชื่อนักเรียน!F32=\"ออก\",รายชื่อนักเรียน!F32=\"ร\",รายชื่อนักเรียน!F32=\"มส\",N32=\"\"),\"\",ROUND(N32/$N$5*$O$5,0)),\"\")","v":""},{"$f":"IF(O32=\"\",\"\",VLOOKUP(O32,ตั้งค่า!$AD$20:$AH$23,5,TRUE))","v":""},{"$f":"IF(O32=\"\",\"\",VLOOKUP(O32,ตั้งค่า!$AD$20:$AH$23,4,TRUE))","v":""},null,null,null,null,null,null,null,null,"",{"$f":"IFERROR(IF(OR(รายชื่อนักเรียน!F32=\"ย้าย\",รายชื่อนักเรียน!F32=\"ออก\",รายชื่อนักเรียน!F32=\"ร\",รายชื่อนักเรียน!F32=\"มส\",N32=\"\"),\"\",ROUND(Z32/$Z$5*$AA$5,0)),\"\")","v":""},{"$f":"IF(AA32=\"\",\"\",VLOOKUP(AA32,ตั้งค่า!$AD$20:$AH$23,5,TRUE))","v":""},{"$f":"IF(AA32=\"\",\"\",VLOOKUP(AA32,ตั้งค่า!$AD$20:$AH$23,4,TRUE))","v":""},"",{"$f":"IF(AD32=\"\",\"\",VLOOKUP(AD32,ตั้งค่า!$AD$20:$AH$23,5,TRUE))","v":""},{"$f":"IF(AD32=\"\",\"\",VLOOKUP(AD32,ตั้งค่า!$AD$20:$AH$23,4,TRUE))","v":""},{"$f":"รายชื่อนักเรียน!F32","v":0},null,null,"8.2 เข้าร่วมกิจกรรมที่เป็นประโยชน์ต่อโรงเรียน ชุมชน และสังคม"]
[null,{"$f":"รายชื่อนักเรียน!B33","v":0},{"$f":"IF(รายชื่อนักเรียน!C33=\"\",\"\",รายชื่อนักเรียน!C33)","v":""},{"$f":"IF(รายชื่อนักเรียน!E33=\"\",\"\",รายชื่อนักเรียน!E33)","v":""},null,null,null,null,null,null,null,null,null,"",{"$f":"IFERROR(IF(OR(รายชื่อนักเรียน!F33=\"ย้าย\",รายชื่อนักเรียน!F33=\"ออก\",รายชื่อนักเรียน!F33=\"ร\",รายชื่อนักเรียน!F33=\"มส\",N33=\"\"),\"\",ROUND(N33/$N$5*$O$5,0)),\"\")","v":""},{"$f":"IF(O33=\"\",\"\",VLOOKUP(O33,ตั้งค่า!$AD$20:$AH$23,5,TRUE))","v":""},{"$f":"IF(O33=\"\",\"\",VLOOKUP(O33,ตั้งค่า!$AD$20:$AH$23,4,TRUE))","v":""},null,null,null,null,null,null,null,null,"",{"$f":"IFERROR(IF(OR(รายชื่อนักเรียน!F33=\"ย้าย\",รายชื่อนักเรียน!F33=\"ออก\",รายชื่อนักเรียน!F33=\"ร\",รายชื่อนักเรียน!F33=\"มส\",N33=\"\"),\"\",ROUND(Z33/$Z$5*$AA$5,0)),\"\")","v":""},{"$f":"IF(AA33=\"\",\"\",VLOOKUP(AA33,ตั้งค่า!$AD$20:$AH$23,5,TRUE))","v":""},{"$f":"IF(AA33=\"\",\"\",VLOOKUP(AA33,ตั้งค่า!$AD$20:$AH$23,4,TRUE))","v":""},"",{"$f":"IF(AD33=\"\",\"\",VLOOKUP(AD33,ตั้งค่า!$AD$20:$AH$23,5,TRUE))","v":""},{"$f":"IF(AD33=\"\",\"\",VLOOKUP(AD33,ตั้งค่า!$AD$20:$AH$23,4,TRUE))","v":""},{"$f":"รายชื่อนักเรียน!F33","v":0}]
[null,{"$f":"รายชื่อนักเรียน!B34","v":0},{"$f":"IF(รายชื่อนักเรียน!C34=\"\",\"\",รายชื่อนักเรียน!C34)","v":""},{"$f":"IF(รายชื่อนักเรียน!E34=\"\",\"\",รายชื่อนักเรียน!E34)","v":""},null,null,null,null,null,null,null,null,null,"",{"$f":"IFERROR(IF(OR(รายชื่อนักเรียน!F34=\"ย้าย\",รายชื่อนักเรียน!F34=\"ออก\",รายชื่อนักเรียน!F34=\"ร\",รายชื่อนักเรียน!F34=\"มส\",N34=\"\"),\"\",ROUND(N34/$N$5*$O$5,0)),\"\")","v":""},{"$f":"IF(O34=\"\",\"\",VLOOKUP(O34,ตั้งค่า!$AD$20:$AH$23,5,TRUE))","v":""},{"$f":"IF(O34=\"\",\"\",VLOOKUP(O34,ตั้งค่า!$AD$20:$AH$23,4,TRUE))","v":""},null,null,null,null,null,null,null,null,"",{"$f":"IFERROR(IF(OR(รายชื่อนักเรียน!F34=\"ย้าย\",รายชื่อนักเรียน!F34=\"ออก\",รายชื่อนักเรียน!F34=\"ร\",รายชื่อนักเรียน!F34=\"มส\",N34=\"\"),\"\",ROUND(Z34/$Z$5*$AA$5,0)),\"\")","v":""},{"$f":"IF(AA34=\"\",\"\",VLOOKUP(AA34,ตั้งค่า!$AD$20:$AH$23,5,TRUE))","v":""},{"$f":"IF(AA34=\"\",\"\",VLOOKUP(AA34,ตั้งค่า!$AD$20:$AH$23,4,TRUE))","v":""},"",{"$f":"IF(AD34=\"\",\"\",VLOOKUP(AD34,ตั้งค่า!$AD$20:$AH$23,5,TRUE))","v":""},{"$f":"IF(AD34=\"\",\"\",VLOOKUP(AD34,ตั้งค่า!$AD$20:$AH$23,4,TRUE))","v":""},{"$f":"รายชื่อนักเรียน!F34","v":0}]
[null,{"$f":"รายชื่อนักเรียน!B35","v":0},{"$f":"IF(รายชื่อนักเรียน!C35=\"\",\"\",รายชื่อนักเรียน!C35)","v":""},{"$f":"IF(รายชื่อนักเรียน!E35=\"\",\"\",รายชื่อนักเรียน!E35)","v":""},null,null,null,null,null,null,null,null,null,"",{"$f":"IFERROR(IF(OR(รายชื่อนักเรียน!F35=\"ย้าย\",รายชื่อนักเรียน!F35=\"ออก\",รายชื่อนักเรียน!F35=\"ร\",รายชื่อนักเรียน!F35=\"มส\",N35=\"\"),\"\",ROUND(N35/$N$5*$O$5,0)),\"\")","v":""},{"$f":"IF(O35=\"\",\"\",VLOOKUP(O35,ตั้งค่า!$AD$20:$AH$23,5,TRUE))","v":""},{"$f":"IF(O35=\"\",\"\",VLOOKUP(O35,ตั้งค่า!$AD$20:$AH$23,4,TRUE))","v":""},null,null,null,null,null,null,null,null,"",{"$f":"IFERROR(IF(OR(รายชื่อนักเรียน!F35=\"ย้าย\",รายชื่อนักเรียน!F35=\"ออก\",รายชื่อนักเรียน!F35=\"ร\",รายชื่อนักเรียน!F35=\"มส\",N35=\"\"),\"\",ROUND(Z35/$Z$5*$AA$5,0)),\"\")","v":""},{"$f":"IF(AA35=\"\",\"\",VLOOKUP(AA35,ตั้งค่า!$AD$20:$AH$23,5,TRUE))","v":""},{"$f":"IF(AA35=\"\",\"\",VLOOKUP(AA35,ตั้งค่า!$AD$20:$AH$23,4,TRUE))","v":""},"",{"$f":"IF(AD35=\"\",\"\",VLOOKUP(AD35,ตั้งค่า!$AD$20:$AH$23,5,TRUE))","v":""},{"$f":"IF(AD35=\"\",\"\",VLOOKUP(AD35,ตั้งค่า!$AD$20:$AH$23,4,TRUE))","v":""},{"$f":"รายชื่อนักเรียน!F35","v":0}]
[null,{"$f":"รายชื่อนักเรียน!B36","v":0},{"$f":"IF(รายชื่อนักเรียน!C36=\"\",\"\",รายชื่อนักเรียน!C36)","v":""},{"$f":"IF(รายชื่อนักเรียน!E36=\"\",\"\",รายชื่อนักเรียน!E36)","v":""},null,null,null,null,null,null,null,null,null,"",{"$f":"IFERROR(IF(OR(รายชื่อนักเรียน!F36=\"ย้าย\",รายชื่อนักเรียน!F36=\"ออก\",รายชื่อนักเรียน!F36=\"ร\",รายชื่อนักเรียน!F36=\"มส\",N36=\"\"),\"\",ROUND(N36/$N$5*$O$5,0)),\"\")","v":""},{"$f":"IF(O36=\"\",\"\",VLOOKUP(O36,ตั้งค่า!$AD$20:$AH$23,5,TRUE))","v":""},{"$f":"IF(O36=\"\",\"\",VLOOKUP(O36,ตั้งค่า!$AD$20:$AH$23,4,TRUE))","v":""},null,null,null,null,null,null,null,null,"",{"$f":"IFERROR(IF(OR(รายชื่อนักเรียน!F36=\"ย้าย\",รายชื่อนักเรียน!F36=\"ออก\",รายชื่อนักเรียน!F36=\"ร\",รายชื่อนักเรียน!F36=\"มส\",N36=\"\"),\"\",ROUND(Z36/$Z$5*$AA$5,0)),\"\")","v":""},{"$f":"IF(AA36=\"\",\"\",VLOOKUP(AA36,ตั้งค่า!$AD$20:$AH$23,5,TRUE))","v":""},{"$f":"IF(AA36=\"\",\"\",VLOOKUP(AA36,ตั้งค่า!$AD$20:$AH$23,4,TRUE))","v":""},"",{"$f":"IF(AD36=\"\",\"\",VLOOKUP(AD36,ตั้งค่า!$AD$20:$AH$23,5,TRUE))","v":""},{"$f":"IF(AD36=\"\",\"\",VLOOKUP(AD36,ตั้งค่า!$AD$20:$AH$23,4,TRUE))","v":""},{"$f":"รายชื่อนักเรียน!F36","v":0}]
[null,{"$f":"รายชื่อนักเรียน!B37","v":0},{"$f":"IF(รายชื่อนักเรียน!C37=\"\",\"\",รายชื่อนักเรียน!C37)","v":""},{"$f":"IF(รายชื่อนักเรียน!E37=\"\",\"\",รายชื่อนักเรียน!E37)","v":""},null,null,null,null,null,null,null,null,null,"",{"$f":"IFERROR(IF(OR(รายชื่อนักเรียน!F37=\"ย้าย\",รายชื่อนักเรียน!F37=\"ออก\",รายชื่อนักเรียน!F37=\"ร\",รายชื่อนักเรียน!F37=\"มส\",N37=\"\"),\"\",ROUND(N37/$N$5*$O$5,0)),\"\")","v":""},{"$f":"IF(O37=\"\",\"\",VLOOKUP(O37,ตั้งค่า!$AD$20:$AH$23,5,TRUE))","v":""},{"$f":"IF(O37=\"\",\"\",VLOOKUP(O37,ตั้งค่า!$AD$20:$AH$23,4,TRUE))","v":""},null,null,null,null,null,null,null,null,"",{"$f":"IFERROR(IF(OR(รายชื่อนักเรียน!F37=\"ย้าย\",รายชื่อนักเรียน!F37=\"ออก\",รายชื่อนักเรียน!F37=\"ร\",รายชื่อนักเรียน!F37=\"มส\",N37=\"\"),\"\",ROUND(Z37/$Z$5*$AA$5,0)),\"\")","v":""},{"$f":"IF(AA37=\"\",\"\",VLOOKUP(AA37,ตั้งค่า!$AD$20:$AH$23,5,TRUE))","v":""},{"$f":"IF(AA37=\"\",\"\",VLOOKUP(AA37,ตั้งค่า!$AD$20:$AH$23,4,TRUE))","v":""},"",{"$f":"IF(AD37=\"\",\"\",VLOOKUP(AD37,ตั้งค่า!$AD$20:$AH$23,5,TRUE))","v":""},{"$f":"IF(AD37=\"\",\"\",VLOOKUP(AD37,ตั้งค่า!$AD$20:$AH$23,4,TRUE))","v":""},{"$f":"รายชื่อนักเรียน!F37","v":0}]
[null,{"$f":"รายชื่อนักเรียน!B38","v":0},{"$f":"IF(รายชื่อนักเรียน!C38=\"\",\"\",รายชื่อนักเรียน!C38)","v":""},{"$f":"IF(รายชื่อนักเรียน!E38=\"\",\"\",รายชื่อนักเรียน!E38)","v":""},null,null,null,null,null,null,null,null,null,"",{"$f":"IFERROR(IF(OR(รายชื่อนักเรียน!F38=\"ย้าย\",รายชื่อนักเรียน!F38=\"ออก\",รายชื่อนักเรียน!F38=\"ร\",รายชื่อนักเรียน!F38=\"มส\",N38=\"\"),\"\",ROUND(N38/$N$5*$O$5,0)),\"\")","v":""},{"$f":"IF(O38=\"\",\"\",VLOOKUP(O38,ตั้งค่า!$AD$20:$AH$23,5,TRUE))","v":""},{"$f":"IF(O38=\"\",\"\",VLOOKUP(O38,ตั้งค่า!$AD$20:$AH$23,4,TRUE))","v":""},null,null,null,null,null,null,null,null,"",{"$f":"IFERROR(IF(OR(รายชื่อนักเรียน!F38=\"ย้าย\",รายชื่อนักเรียน!F38=\"ออก\",รายชื่อนักเรียน!F38=\"ร\",รายชื่อนักเรียน!F38=\"มส\",N38=\"\"),\"\",ROUND(Z38/$Z$5*$AA$5,0)),\"\")","v":""},{"$f":"IF(AA38=\"\",\"\",VLOOKUP(AA38,ตั้งค่า!$AD$20:$AH$23,5,TRUE))","v":""},{"$f":"IF(AA38=\"\",\"\",VLOOKUP(AA38,ตั้งค่า!$AD$20:$AH$23,4,TRUE))","v":""},"",{"$f":"IF(AD38=\"\",\"\",VLOOKUP(AD38,ตั้งค่า!$AD$20:$AH$23,5,TRUE))","v":""},{"$f":"IF(AD38=\"\",\"\",VLOOKUP(AD38,ตั้งค่า!$AD$20:$AH$23,4,TRUE))","v":""},{"$f":"รายชื่อนักเรียน!F38","v":0}]
[null,{"$f":"รายชื่อนักเรียน!B39","v":0},{"$f":"IF(รายชื่อนักเรียน!C39=\"\",\"\",รายชื่อนักเรียน!C39)","v":""},{"$f":"IF(รายชื่อนักเรียน!E39=\"\",\"\",รายชื่อนักเรียน!E39)","v":""},null,null,null,null,null,null,null,null,null,"",{"$f":"IFERROR(IF(OR(รายชื่อนักเรียน!F39=\"ย้าย\",รายชื่อนักเรียน!F39=\"ออก\",รายชื่อนักเรียน!F39=\"ร\",รายชื่อนักเรียน!F39=\"มส\",N39=\"\"),\"\",ROUND(N39/$N$5*$O$5,0)),\"\")","v":""},{"$f":"IF(O39=\"\",\"\",VLOOKUP(O39,ตั้งค่า!$AD$20:$AH$23,5,TRUE))","v":""},{"$f":"IF(O39=\"\",\"\",VLOOKUP(O39,ตั้งค่า!$AD$20:$AH$23,4,TRUE))","v":""},null,null,null,null,null,null,null,null,"",{"$f":"IFERROR(IF(OR(รายชื่อนักเรียน!F39=\"ย้าย\",รายชื่อนักเรียน!F39=\"ออก\",รายชื่อนักเรียน!F39=\"ร\",รายชื่อนักเรียน!F39=\"มส\",N39=\"\"),\"\",ROUND(Z39/$Z$5*$AA$5,0)),\"\")","v":""},{"$f":"IF(AA39=\"\",\"\",VLOOKUP(AA39,ตั้งค่า!$AD$20:$AH$23,5,TRUE))","v":""},{"$f":"IF(AA39=\"\",\"\",VLOOKUP(AA39,ตั้งค่า!$AD$20:$AH$23,4,TRUE))","v":""},"",{"$f":"IF(AD39=\"\",\"\",VLOOKUP(AD39,ตั้งค่า!$AD$20:$AH$23,5,TRUE))","v":""},{"$f":"IF(AD39=\"\",\"\",VLOOKUP(AD39,ตั้งค่า!$AD$20:$AH$23,4,TRUE))","v":""},{"$f":"รายชื่อนักเรียน!F39","v":0}]
[null,{"$f":"รายชื่อนักเรียน!B40","v":0},{"$f":"IF(รายชื่อนักเรียน!C40=\"\",\"\",รายชื่อนักเรียน!C40)","v":""},{"$f":"IF(รายชื่อนักเรียน!E40=\"\",\"\",รายชื่อนักเรียน!E40)","v":""},null,null,null,null,null,null,null,null,null,"",{"$f":"IFERROR(IF(OR(รายชื่อนักเรียน!F40=\"ย้าย\",รายชื่อนักเรียน!F40=\"ออก\",รายชื่อนักเรียน!F40=\"ร\",รายชื่อนักเรียน!F40=\"มส\",N40=\"\"),\"\",ROUND(N40/$N$5*$O$5,0)),\"\")","v":""},{"$f":"IF(O40=\"\",\"\",VLOOKUP(O40,ตั้งค่า!$AD$20:$AH$23,5,TRUE))","v":""},{"$f":"IF(O40=\"\",\"\",VLOOKUP(O40,ตั้งค่า!$AD$20:$AH$23,4,TRUE))","v":""},null,null,null,null,null,null,null,null,"",{"$f":"IFERROR(IF(OR(รายชื่อนักเรียน!F40=\"ย้าย\",รายชื่อนักเรียน!F40=\"ออก\",รายชื่อนักเรียน!F40=\"ร\",รายชื่อนักเรียน!F40=\"มส\",N40=\"\"),\"\",ROUND(Z40/$Z$5*$AA$5,0)),\"\")","v":""},{"$f":"IF(AA40=\"\",\"\",VLOOKUP(AA40,ตั้งค่า!$AD$20:$AH$23,5,TRUE))","v":""},{"$f":"IF(AA40=\"\",\"\",VLOOKUP(AA40,ตั้งค่า!$AD$20:$AH$23,4,TRUE))","v":""},"",{"$f":"IF(AD40=\"\",\"\",VLOOKUP(AD40,ตั้งค่า!$AD$20:$AH$23,5,TRUE))","v":""},{"$f":"IF(AD40=\"\",\"\",VLOOKUP(AD40,ตั้งค่า!$AD$20:$AH$23,4,TRUE))","v":""},{"$f":"รายชื่อนักเรียน!F40","v":0}]
[null,{"$f":"รายชื่อนักเรียน!B41","v":0},{"$f":"IF(รายชื่อนักเรียน!C41=\"\",\"\",รายชื่อนักเรียน!C41)","v":""},{"$f":"IF(รายชื่อนักเรียน!E41=\"\",\"\",รายชื่อนักเรียน!E41)","v":""},null,null,null,null,null,null,null,null,null,"",{"$f":"IFERROR(IF(OR(รายชื่อนักเรียน!F41=\"ย้าย\",รายชื่อนักเรียน!F41=\"ออก\",รายชื่อนักเรียน!F41=\"ร\",รายชื่อนักเรียน!F41=\"มส\",N41=\"\"),\"\",ROUND(N41/$N$5*$O$5,0)),\"\")","v":""},{"$f":"IF(O41=\"\",\"\",VLOOKUP(O41,ตั้งค่า!$AD$20:$AH$23,5,TRUE))","v":""},{"$f":"IF(O41=\"\",\"\",VLOOKUP(O41,ตั้งค่า!$AD$20:$AH$23,4,TRUE))","v":""},null,null,null,null,null,null,null,null,"",{"$f":"IFERROR(IF(OR(รายชื่อนักเรียน!F41=\"ย้าย\",รายชื่อนักเรียน!F41=\"ออก\",รายชื่อนักเรียน!F41=\"ร\",รายชื่อนักเรียน!F41=\"มส\",N41=\"\"),\"\",ROUND(Z41/$Z$5*$AA$5,0)),\"\")","v":""},{"$f":"IF(AA41=\"\",\"\",VLOOKUP(AA41,ตั้งค่า!$AD$20:$AH$23,5,TRUE))","v":""},{"$f":"IF(AA41=\"\",\"\",VLOOKUP(AA41,ตั้งค่า!$AD$20:$AH$23,4,TRUE))","v":""},"",{"$f":"IF(AD41=\"\",\"\",VLOOKUP(AD41,ตั้งค่า!$AD$20:$AH$23,5,TRUE))","v":""},{"$f":"IF(AD41=\"\",\"\",VLOOKUP(AD41,ตั้งค่า!$AD$20:$AH$23,4,TRUE))","v":""},{"$f":"รายชื่อนักเรียน!F41","v":0}]
[null,{"$f":"รายชื่อนักเรียน!B42","v":0},{"$f":"IF(รายชื่อนักเรียน!C42=\"\",\"\",รายชื่อนักเรียน!C42)","v":""},{"$f":"IF(รายชื่อนักเรียน!E42=\"\",\"\",รายชื่อนักเรียน!E42)","v":""},null,null,null,null,null,null,null,null,null,"",{"$f":"IFERROR(IF(OR(รายชื่อนักเรียน!F42=\"ย้าย\",รายชื่อนักเรียน!F42=\"ออก\",รายชื่อนักเรียน!F42=\"ร\",รายชื่อนักเรียน!F42=\"มส\",N42=\"\"),\"\",ROUND(N42/$N$5*$O$5,0)),\"\")","v":""},{"$f":"IF(O42=\"\",\"\",VLOOKUP(O42,ตั้งค่า!$AD$20:$AH$23,5,TRUE))","v":""},{"$f":"IF(O42=\"\",\"\",VLOOKUP(O42,ตั้งค่า!$AD$20:$AH$23,4,TRUE))","v":""},null,null,null,null,null,null,null,null,"",{"$f":"IFERROR(IF(OR(รายชื่อนักเรียน!F42=\"ย้าย\",รายชื่อนักเรียน!F42=\"ออก\",รายชื่อนักเรียน!F42=\"ร\",รายชื่อนักเรียน!F42=\"มส\",N42=\"\"),\"\",ROUND(Z42/$Z$5*$AA$5,0)),\"\")","v":""},{"$f":"IF(AA42=\"\",\"\",VLOOKUP(AA42,ตั้งค่า!$AD$20:$AH$23,5,TRUE))","v":""},{"$f":"IF(AA42=\"\",\"\",VLOOKUP(AA42,ตั้งค่า!$AD$20:$AH$23,4,TRUE))","v":""},"",{"$f":"IF(AD42=\"\",\"\",VLOOKUP(AD42,ตั้งค่า!$AD$20:$AH$23,5,TRUE))","v":""},{"$f":"IF(AD42=\"\",\"\",VLOOKUP(AD42,ตั้งค่า!$AD$20:$AH$23,4,TRUE))","v":""},{"$f":"รายชื่อนักเรียน!F42","v":0}]
[null,{"$f":"รายชื่อนักเรียน!B43","v":0},{"$f":"IF(รายชื่อนักเรียน!C43=\"\",\"\",รายชื่อนักเรียน!C43)","v":""},{"$f":"IF(รายชื่อนักเรียน!E43=\"\",\"\",รายชื่อนักเรียน!E43)","v":""},null,null,null,null,null,null,null,null,null,"",{"$f":"IFERROR(IF(OR(รายชื่อนักเรียน!F43=\"ย้าย\",รายชื่อนักเรียน!F43=\"ออก\",รายชื่อนักเรียน!F43=\"ร\",รายชื่อนักเรียน!F43=\"มส\",N43=\"\"),\"\",ROUND(N43/$N$5*$O$5,0)),\"\")","v":""},{"$f":"IF(O43=\"\",\"\",VLOOKUP(O43,ตั้งค่า!$AD$20:$AH$23,5,TRUE))","v":""},{"$f":"IF(O43=\"\",\"\",VLOOKUP(O43,ตั้งค่า!$AD$20:$AH$23,4,TRUE))","v":""},null,null,null,null,null,null,null,null,"",{"$f":"IFERROR(IF(OR(รายชื่อนักเรียน!F43=\"ย้าย\",รายชื่อนักเรียน!F43=\"ออก\",รายชื่อนักเรียน!F43=\"ร\",รายชื่อนักเรียน!F43=\"มส\",N43=\"\"),\"\",ROUND(Z43/$Z$5*$AA$5,0)),\"\")","v":""},{"$f":"IF(AA43=\"\",\"\",VLOOKUP(AA43,ตั้งค่า!$AD$20:$AH$23,5,TRUE))","v":""},{"$f":"IF(AA43=\"\",\"\",VLOOKUP(AA43,ตั้งค่า!$AD$20:$AH$23,4,TRUE))","v":""},"",{"$f":"IF(AD43=\"\",\"\",VLOOKUP(AD43,ตั้งค่า!$AD$20:$AH$23,5,TRUE))","v":""},{"$f":"IF(AD43=\"\",\"\",VLOOKUP(AD43,ตั้งค่า!$AD$20:$AH$23,4,TRUE))","v":""},{"$f":"รายชื่อนักเรียน!F43","v":0}]
[null,{"$f":"รายชื่อนักเรียน!B44","v":0},{"$f":"IF(รายชื่อนักเรียน!C44=\"\",\"\",รายชื่อนักเรียน!C44)","v":""},{"$f":"IF(รายชื่อนักเรียน!E44=\"\",\"\",รายชื่อนักเรียน!E44)","v":""},null,null,null,null,null,null,null,null,null,"",{"$f":"IFERROR(IF(OR(รายชื่อนักเรียน!F44=\"ย้าย\",รายชื่อนักเรียน!F44=\"ออก\",รายชื่อนักเรียน!F44=\"ร\",รายชื่อนักเรียน!F44=\"มส\",N44=\"\"),\"\",ROUND(N44/$N$5*$O$5,0)),\"\")","v":""},{"$f":"IF(O44=\"\",\"\",VLOOKUP(O44,ตั้งค่า!$AD$20:$AH$23,5,TRUE))","v":""},{"$f":"IF(O44=\"\",\"\",VLOOKUP(O44,ตั้งค่า!$AD$20:$AH$23,4,TRUE))","v":""},null,null,null,null,null,null,null,null,"",{"$f":"IFERROR(IF(OR(รายชื่อนักเรียน!F44=\"ย้าย\",รายชื่อนักเรียน!F44=\"ออก\",รายชื่อนักเรียน!F44=\"ร\",รายชื่อนักเรียน!F44=\"มส\",N44=\"\"),\"\",ROUND(Z44/$Z$5*$AA$5,0)),\"\")","v":""},{"$f":"IF(AA44=\"\",\"\",VLOOKUP(AA44,ตั้งค่า!$AD$20:$AH$23,5,TRUE))","v":""},{"$f":"IF(AA44=\"\",\"\",VLOOKUP(AA44,ตั้งค่า!$AD$20:$AH$23,4,TRUE))","v":""},"",{"$f":"IF(AD44=\"\",\"\",VLOOKUP(AD44,ตั้งค่า!$AD$20:$AH$23,5,TRUE))","v":""},{"$f":"IF(AD44=\"\",\"\",VLOOKUP(AD44,ตั้งค่า!$AD$20:$AH$23,4,TRUE))","v":""},{"$f":"รายชื่อนักเรียน!F44","v":0}]
[null,{"$f":"รายชื่อนักเรียน!B45","v":0},{"$f":"IF(รายชื่อนักเรียน!C45=\"\",\"\",รายชื่อนักเรียน!C45)","v":""},{"$f":"IF(รายชื่อนักเรียน!E45=\"\",\"\",รายชื่อนักเรียน!E45)","v":""},null,null,null,null,null,null,null,null,null,"",{"$f":"IFERROR(IF(OR(รายชื่อนักเรียน!F45=\"ย้าย\",รายชื่อนักเรียน!F45=\"ออก\",รายชื่อนักเรียน!F45=\"ร\",รายชื่อนักเรียน!F45=\"มส\",N45=\"\"),\"\",ROUND(N45/$N$5*$O$5,0)),\"\")","v":""},{"$f":"IF(O45=\"\",\"\",VLOOKUP(O45,ตั้งค่า!$AD$20:$AH$23,5,TRUE))","v":""},{"$f":"IF(O45=\"\",\"\",VLOOKUP(O45,ตั้งค่า!$AD$20:$AH$23,4,TRUE))","v":""},null,null,null,null,null,null,null,null,"",{"$f":"IFERROR(IF(OR(รายชื่อนักเรียน!F45=\"ย้าย\",รายชื่อนักเรียน!F45=\"ออก\",รายชื่อนักเรียน!F45=\"ร\",รายชื่อนักเรียน!F45=\"มส\",N45=\"\"),\"\",ROUND(Z45/$Z$5*$AA$5,0)),\"\")","v":""},{"$f":"IF(AA45=\"\",\"\",VLOOKUP(AA45,ตั้งค่า!$AD$20:$AH$23,5,TRUE))","v":""},{"$f":"IF(AA45=\"\",\"\",VLOOKUP(AA45,ตั้งค่า!$AD$20:$AH$23,4,TRUE))","v":""},"",{"$f":"IF(AD45=\"\",\"\",VLOOKUP(AD45,ตั้งค่า!$AD$20:$AH$23,5,TRUE))","v":""},{"$f":"IF(AD45=\"\",\"\",VLOOKUP(AD45,ตั้งค่า!$AD$20:$AH$23,4,TRUE))","v":""},{"$f":"รายชื่อนักเรียน!F45","v":0}]
[null,{"$f":"รายชื่อนักเรียน!B46","v":0},{"$f":"IF(รายชื่อนักเรียน!C46=\"\",\"\",รายชื่อนักเรียน!C46)","v":""},{"$f":"IF(รายชื่อนักเรียน!E46=\"\",\"\",รายชื่อนักเรียน!E46)","v":""},null,null,null,null,null,null,null,null,null,{"$f":"IF(D46=\"\",\"\",SUM(F46:M46))","v":""},{"$f":"IFERROR(IF(OR(รายชื่อนักเรียน!F46=\"ย้าย\",รายชื่อนักเรียน!F46=\"ออก\",รายชื่อนักเรียน!F46=\"ร\",รายชื่อนักเรียน!F46=\"มส\",N46=\"\"),\"\",ROUND(N46/$N$5*$O$5,0)),\"\")","v":""},{"$f":"IF(O46=\"\",\"\",VLOOKUP(O46,ตั้งค่า!$AD$20:$AH$23,5,TRUE))","v":""},{"$f":"IF(O46=\"\",\"\",VLOOKUP(O46,ตั้งค่า!$AD$20:$AH$23,4,TRUE))","v":""},null,null,null,null,null,null,null,null,{"$f":"IF(D46=\"\",\"\",SUM(R46:Y46))","v":""},{"$f":"IFERROR(IF(OR(รายชื่อนักเรียน!F46=\"ย้าย\",รายชื่อนักเรียน!F46=\"ออก\",รายชื่อนักเรียน!F46=\"ร\",รายชื่อนักเรียน!F46=\"มส\",N46=\"\"),\"\",ROUND(Z46/$Z$5*$AA$5,0)),\"\")","v":""},{"$f":"IF(AA46=\"\",\"\",VLOOKUP(AA46,ตั้งค่า!$AD$20:$AH$23,5,TRUE))","v":""},{"$f":"IF(AA46=\"\",\"\",VLOOKUP(AA46,ตั้งค่า!$AD$20:$AH$23,4,TRUE))","v":""},{"$f":"IF(ISERROR((O46+AA46)/2),\"\",(O46+AA46)/2)","v":""},{"$f":"IF(AD46=\"\",\"\",VLOOKUP(AD46,ตั้งค่า!$AD$20:$AH$23,5,TRUE))","v":""},{"$f":"IF(AD46=\"\",\"\",VLOOKUP(AD46,ตั้งค่า!$AD$20:$AH$23,4,TRUE))","v":""},{"$f":"รายชื่อนักเรียน!F46","v":0}]
[null,{"$f":"รายชื่อนักเรียน!B47","v":0},{"$f":"IF(รายชื่อนักเรียน!C47=\"\",\"\",รายชื่อนักเรียน!C47)","v":""},{"$f":"IF(รายชื่อนักเรียน!E47=\"\",\"\",รายชื่อนักเรียน!E47)","v":""},null,null,null,null,null,null,null,null,null,"",{"$f":"IFERROR(IF(OR(รายชื่อนักเรียน!F47=\"ย้าย\",รายชื่อนักเรียน!F47=\"ออก\",รายชื่อนักเรียน!F47=\"ร\",รายชื่อนักเรียน!F47=\"มส\",N47=\"\"),\"\",ROUND(N47/$N$5*$O$5,0)),\"\")","v":""},{"$f":"IF(O47=\"\",\"\",VLOOKUP(O47,ตั้งค่า!$AD$20:$AH$23,5,TRUE))","v":""},{"$f":"IF(O47=\"\",\"\",VLOOKUP(O47,ตั้งค่า!$AD$20:$AH$23,4,TRUE))","v":""},null,null,null,null,null,null,null,null,"",{"$f":"IFERROR(IF(OR(รายชื่อนักเรียน!F47=\"ย้าย\",รายชื่อนักเรียน!F47=\"ออก\",รายชื่อนักเรียน!F47=\"ร\",รายชื่อนักเรียน!F47=\"มส\",N47=\"\"),\"\",ROUND(Z47/$Z$5*$AA$5,0)),\"\")","v":""},{"$f":"IF(AA47=\"\",\"\",VLOOKUP(AA47,ตั้งค่า!$AD$20:$AH$23,5,TRUE))","v":""},{"$f":"IF(AA47=\"\",\"\",VLOOKUP(AA47,ตั้งค่า!$AD$20:$AH$23,4,TRUE))","v":""},"",{"$f":"IF(AD47=\"\",\"\",VLOOKUP(AD47,ตั้งค่า!$AD$20:$AH$23,5,TRUE))","v":""},{"$f":"IF(AD47=\"\",\"\",VLOOKUP(AD47,ตั้งค่า!$AD$20:$AH$23,4,TRUE))","v":""},{"$f":"รายชื่อนักเรียน!F47","v":0}]
[null,{"$f":"รายชื่อนักเรียน!B48","v":0},{"$f":"IF(รายชื่อนักเรียน!C48=\"\",\"\",รายชื่อนักเรียน!C48)","v":""},{"$f":"IF(รายชื่อนักเรียน!E48=\"\",\"\",รายชื่อนักเรียน!E48)","v":""},null,null,null,null,null,null,null,null,null,"",{"$f":"IFERROR(IF(OR(รายชื่อนักเรียน!F48=\"ย้าย\",รายชื่อนักเรียน!F48=\"ออก\",รายชื่อนักเรียน!F48=\"ร\",รายชื่อนักเรียน!F48=\"มส\",N48=\"\"),\"\",ROUND(N48/$N$5*$O$5,0)),\"\")","v":""},{"$f":"IF(O48=\"\",\"\",VLOOKUP(O48,ตั้งค่า!$AD$20:$AH$23,5,TRUE))","v":""},{"$f":"IF(O48=\"\",\"\",VLOOKUP(O48,ตั้งค่า!$AD$20:$AH$23,4,TRUE))","v":""},null,null,null,null,null,null,null,null,"",{"$f":"IFERROR(IF(OR(รายชื่อนักเรียน!F48=\"ย้าย\",รายชื่อนักเรียน!F48=\"ออก\",รายชื่อนักเรียน!F48=\"ร\",รายชื่อนักเรียน!F48=\"มส\",N48=\"\"),\"\",ROUND(Z48/$Z$5*$AA$5,0)),\"\")","v":""},{"$f":"IF(AA48=\"\",\"\",VLOOKUP(AA48,ตั้งค่า!$AD$20:$AH$23,5,TRUE))","v":""},{"$f":"IF(AA48=\"\",\"\",VLOOKUP(AA48,ตั้งค่า!$AD$20:$AH$23,4,TRUE))","v":""},"",{"$f":"IF(AD48=\"\",\"\",VLOOKUP(AD48,ตั้งค่า!$AD$20:$AH$23,5,TRUE))","v":""},{"$f":"IF(AD48=\"\",\"\",VLOOKUP(AD48,ตั้งค่า!$AD$20:$AH$23,4,TRUE))","v":""},{"$f":"รายชื่อนักเรียน!F48","v":0}]
[null,{"$f":"รายชื่อนักเรียน!B49","v":0},{"$f":"IF(รายชื่อนักเรียน!C49=\"\",\"\",รายชื่อนักเรียน!C49)","v":""},{"$f":"IF(รายชื่อนักเรียน!E49=\"\",\"\",รายชื่อนักเรียน!E49)","v":""},null,null,null,null,null,null,null,null,null,"",{"$f":"IFERROR(IF(OR(รายชื่อนักเรียน!F49=\"ย้าย\",รายชื่อนักเรียน!F49=\"ออก\",รายชื่อนักเรียน!F49=\"ร\",รายชื่อนักเรียน!F49=\"มส\",N49=\"\"),\"\",ROUND(N49/$N$5*$O$5,0)),\"\")","v":""},{"$f":"IF(O49=\"\",\"\",VLOOKUP(O49,ตั้งค่า!$AD$20:$AH$23,5,TRUE))","v":""},{"$f":"IF(O49=\"\",\"\",VLOOKUP(O49,ตั้งค่า!$AD$20:$AH$23,4,TRUE))","v":""},null,null,null,null,null,null,null,null,"",{"$f":"IFERROR(IF(OR(รายชื่อนักเรียน!F49=\"ย้าย\",รายชื่อนักเรียน!F49=\"ออก\",รายชื่อนักเรียน!F49=\"ร\",รายชื่อนักเรียน!F49=\"มส\",N49=\"\"),\"\",ROUND(Z49/$Z$5*$AA$5,0)),\"\")","v":""},{"$f":"IF(AA49=\"\",\"\",VLOOKUP(AA49,ตั้งค่า!$AD$20:$AH$23,5,TRUE))","v":""},{"$f":"IF(AA49=\"\",\"\",VLOOKUP(AA49,ตั้งค่า!$AD$20:$AH$23,4,TRUE))","v":""},"",{"$f":"IF(AD49=\"\",\"\",VLOOKUP(AD49,ตั้งค่า!$AD$20:$AH$23,5,TRUE))","v":""},{"$f":"IF(AD49=\"\",\"\",VLOOKUP(AD49,ตั้งค่า!$AD$20:$AH$23,4,TRUE))","v":""},{"$f":"รายชื่อนักเรียน!F49","v":0}]
[null,{"$f":"รายชื่อนักเรียน!B50","v":0},{"$f":"IF(รายชื่อนักเรียน!C50=\"\",\"\",รายชื่อนักเรียน!C50)","v":""},{"$f":"IF(รายชื่อนักเรียน!E50=\"\",\"\",รายชื่อนักเรียน!E50)","v":""},null,null,null,null,null,null,null,null,null,"",{"$f":"IFERROR(IF(OR(รายชื่อนักเรียน!F50=\"ย้าย\",รายชื่อนักเรียน!F50=\"ออก\",รายชื่อนักเรียน!F50=\"ร\",รายชื่อนักเรียน!F50=\"มส\",N50=\"\"),\"\",ROUND(N50/$N$5*$O$5,0)),\"\")","v":""},{"$f":"IF(O50=\"\",\"\",VLOOKUP(O50,ตั้งค่า!$AD$20:$AH$23,5,TRUE))","v":""},{"$f":"IF(O50=\"\",\"\",VLOOKUP(O50,ตั้งค่า!$AD$20:$AH$23,4,TRUE))","v":""},null,null,null,null,null,null,null,null,"",{"$f":"IFERROR(IF(OR(รายชื่อนักเรียน!F50=\"ย้าย\",รายชื่อนักเรียน!F50=\"ออก\",รายชื่อนักเรียน!F50=\"ร\",รายชื่อนักเรียน!F50=\"มส\",N50=\"\"),\"\",ROUND(Z50/$Z$5*$AA$5,0)),\"\")","v":""},{"$f":"IF(AA50=\"\",\"\",VLOOKUP(AA50,ตั้งค่า!$AD$20:$AH$23,5,TRUE))","v":""},{"$f":"IF(AA50=\"\",\"\",VLOOKUP(AA50,ตั้งค่า!$AD$20:$AH$23,4,TRUE))","v":""},"",{"$f":"IF(AD50=\"\",\"\",VLOOKUP(AD50,ตั้งค่า!$AD$20:$AH$23,5,TRUE))","v":""},{"$f":"IF(AD50=\"\",\"\",VLOOKUP(AD50,ตั้งค่า!$AD$20:$AH$23,4,TRUE))","v":""},{"$f":"รายชื่อนักเรียน!F50","v":0}]

{"sheet":"อ่านคิดวิเคราะห์","index":12,"n_rows":50,"n_cols":31,"rows_kept":50,"cut":false,"hidden":false,"merged":[[45,3,45,4],[46,3,46,4],[47,3,47,4],[48,3,48,4],[49,3,49,4],[1,1,4,1],[1,2,4,2],[1,3,4,3],[1,5,1,14],[1,15,1,23],[2,20,3,20],[2,21,3,21],[2,22,4,22],[2,23,4,23],[1,27,4,27],[2,5,2,6],[2,7,2,8],[2,10,3,10],[2,11,3,11],[2,12,4,12],[2,13,4,13],[2,14,4,14],[2,15,2,16],[2,17,2,18],[1,24,2,26],[24,3,24,4],[13,3,13,4],[3,24,4,24],[3,25,4,25],[3,26,4,26],[5,3,5,4],[6,3,6,4],[7,3,7,4],[8,3,8,4],[9,3,9,4],[10,3,10,4],[11,3,11,4],[12,3,12,4],[19,3,19,4],[20,3,20,4],[21,3,21,4],[22,3,22,4],[23,3,23,4],[14,3,14,4],[15,3,15,4],[16,3,16,4],[17,3,17,4],[18,3,18,4],[33,3,33,4],[34,3,34,4],[35,3,35,4],[36,3,36,4],[25,3,25,4],[0,1,0,8],[44,3,44,4],[38,3,38,4],[39,3,39,4],[40,3,40,4],[41,3,41,4],[42,3,42,4],[43,3,43,4],[37,3,37,4],[26,3,26,4],[27,3,27,4],[28,3,28,4],[29,3,29,4],[30,3,30,4],[31,3,31,4],[32,3,32,4]]}
[null,"อ่าน  คิด  วิเคราะห์และการเขียน",null,null,null,null,null,null,null,null,null,null,null,null,null,null,null,null,null,null,null,null,null,null,null,null,null,null,null,null,"อ่าน  คิด  วิเคราะห์และการเขียน"]
[null,"เลขที่","เลขประจำตัว","ชื่อ - สกุล",null,"ผลการประเมินการอ่าน คิดวิเคราะห์และเขียน ภาคเรียนที่ 1",null,null,null,null,null,null,null,null,null,"ผลการประเมินการอ่าน คิดวิเคราะห์และเขียน ภาคเรียนที่ 2",null,null,null,null,null,null,null,null,"สรุปการประเมินปลายปี",null,null,"หมายเหตุ",null,null,"ชั้นประถมศึกษาปีที่ 1-3"]
[null,null,null,null,null,"การอ่าน",null,"การคิดวิเคราะห์",null,"การเขียน","รวมคะแนน","ร้อยละ","ผลประเมิน","ระดับคุณภาพ","หมายเหตุ","การอ่าน",null,"การคิดวิเคราะห์",null,"การเขียน","รวม","ร้อยละ","ผลประเมิน","ระดับคุณภาพ",null,null,null,null,null,null,"1. สามารถอ่านและหาประสบการณ์จากสื่อที่หลากหลาย"]
[null,null,null,null,"มาตรฐานที่",1,2,3,4,5,null,null,null,null,null,1,2,3,4,5,null,null,null,null,"ร้อยละ","ได้","คุณภาพ",null,null,null,"2. สามารถจับประเด็นสำคัญ ข้อเท็จจริง ความคิดเห็นเรื่องที่อ่าน"]
[null,null,null,null,"คะแนนเต็ม",3,3,3,3,3,{"$f":"IF(SUM(F5:J5),SUM(F5:J5),\"\")","v":15},100,null,null,null,3,3,3,3,3,{"$f":"IF(SUM(P5:T5),SUM(P5:T5),\"\")","v":15},100,null,null,null,null,null,null,null,null,"3. สามารถเปรียบเทียบแง่มุมต่างๆ เช่น ข้อดี ข้อเสีย ประโยชน์ โทษ ความเหมาะสม ไม่เหมาะสม"]
[null,{"$f":"รายชื่อนักเรียน!B6","v":0},{"$f":"IF(รายชื่อนักเรียน!C6=\"\",\"\",รายชื่อนักเรียน!C6)","v":""},{"$f":"IF(รายชื่อนักเรียน!E6=\"\",\"\",รายชื่อนักเรียน!E6)","v":""},null,null,null,null,null,null,{"$f":"IF(D6=\"\",\"\",SUM(F6:J6))","v":""},{"$f":"IFERROR(IF(OR(รายชื่อนักเรียน!F6=\"ย้าย\",รายชื่อนักเรียน!F6=\"ออก\",รายชื่อนักเรียน!F6=\"ร\",รายชื่อนักเรียน!F6=\"มส\",K6=\"\"),\"\",ROUND(K6/$K$5*$L$5,0)),\"\")","v":""},{"$f":"IF(L6=\"\",\"\",VLOOKUP(L6,ตั้งค่า!$AD$20:$AH$23,5,TRUE))","v":""},{"$f":"IF(L6=\"\",\"\",VLOOKUP(L6,ตั้งค่า!$AD$20:$AH$23,4,TRUE))","v":""},{"$f":"รายชื่อนักเรียน!F6","v":0},null,null,null,null,null,{"$f":"IF(D6=\"\",\"\",SUM(P6:T6))","v":""},{"$f":"IFERROR(IF(OR(รายชื่อนักเรียน!F6=\"ย้าย\",รายชื่อนักเรียน!F6=\"ออก\",รายชื่อนักเรียน!F6=\"ร\",รายชื่อนักเรียน!F6=\"มส\",U6=\"\"),\"\",ROUND(U6/$U$5*$L$5,0)),\"\")","v":""},{"$f":"IF(V6=\"\",\"\",VLOOKUP(V6,ตั้งค่า!$AD$20:$AH$23,5,TRUE))","v":""},{"$f":"IF(V6=\"\",\"\",VLOOKUP(V6,ตั้งค่า!$AD$20:$AH$23,4,TRUE))","v":""},{"$f":"IF(ISERROR(L6+V6)/2,\"\",(L6+V6)/2)","v":""},{"$f":"IF(Y6=\"\",\"\",VLOOKUP(Y6,ตั้งค่า!$AD$20:$AH$23,5,TRUE))","v":""},{"$f":"IF(Y6=\"\",\"\",VLOOKUP(Y6,ตั้งค่า!$AD$20:$AH$23,4,TRUE))","v":""},{"$f":"O6","v":0},"ย้าย",null,"4. สามารถแสดงควาวมคิดเห็นต่อเรื่องที่อ่าน โดยมีเหตุผลประกอบ"]
[null,{"$f":"รายชื่อนักเรียน!B7","v":0},{"$f":"IF(รายชื่อนักเรียน!C7=\"\",\"\",รายชื่อนักเรียน!C7)","v":""},{"$f":"IF(รายชื่อนักเรียน!E7=\"\",\"\",รายชื่อนักเรียน!E7)","v":""},null,null,null,null,null,null,{"$f":"IF(D7=\"\",\"\",SUM(F7:J7))","v":""},{"$f":"IFERROR(IF(OR(รายชื่อนักเรียน!F7=\"ย้าย\",รายชื่อนักเรียน!F7=\"ออก\",รายชื่อนักเรียน!F7=\"ร\",รายชื่อนักเรียน!F7=\"มส\",K7=\"\"),\"\",ROUND(K7/$K$5*$L$5,0)),\"\")","v":""},{"$f":"IF(L7=\"\",\"\",VLOOKUP(L7,ตั้งค่า!$AD$20:$AH$23,5,TRUE))","v":""},{"$f":"IF(L7=\"\",\"\",VLOOKUP(L7,ตั้งค่า!$AD$20:$AH$23,4,TRUE))","v":""},{"$f":"รายชื่อนักเรียน!F7","v":0},null,null,null,null,null,{"$f":"IF(D7=\"\",\"\",SUM(P7:T7))","v":""},{"$f":"IFERROR(IF(OR(รายชื่อนักเรียน!F7=\"ย้าย\",รายชื่อนักเรียน!F7=\"ออก\",รายชื่อนักเรียน!F7=\"ร\",รายชื่อนักเรียน!F7=\"มส\",U7=\"\"),\"\",ROUND(U7/$U$5*$L$5,0)),\"\")","v":""},{"$f":"IF(V7=\"\",\"\",VLOOKUP(V7,ตั้งค่า!$AD$20:$AH$23,5,TRUE))","v":""},{"$f":"IF(V7=\"\",\"\",VLOOKUP(V7,ตั้งค่า!$AD$20:$AH$23,4,TRUE))","v":""},"",{"$f":"IF(Y7=\"\",\"\",VLOOKUP(Y7,ตั้งค่า!$AD$20:$AH$23,5,TRUE))","v":""},{"$f":"IF(Y7=\"\",\"\",VLOOKUP(Y7,ตั้งค่า!$AD$20:$AH$23,4,TRUE))","v":""},{"$f":"O7","v":0},null,null,"5. สามารถถ่ายทอดความคิดเห็นความรู้สึกจากเรื่องที่อ่านโดยการเขียน"]
[null,{"$f":"รายชื่อนักเรียน!B8","v":0},{"$f":"IF(รายชื่อนักเรียน!C8=\"\",\"\",รายชื่อนักเรียน!C8)","v":""},{"$f":"IF(รายชื่อนักเรียน!E8=\"\",\"\",รายชื่อนักเรียน!E8)","v":""},null,null,null,null,null,null,"",{"$f":"IFERROR(IF(OR(รายชื่อนักเรียน!F8=\"ย้าย\",รายชื่อนักเรียน!F8=\"ออก\",รายชื่อนักเรียน!F8=\"ร\",รายชื่อนักเรียน!F8=\"มส\",K8=\"\"),\"\",ROUND(K8/$K$5*$L$5,0)),\"\")","v":""},{"$f":"IF(L8=\"\",\"\",VLOOKUP(L8,ตั้งค่า!$AD$20:$AH$23,5,TRUE))","v":""},{"$f":"IF(L8=\"\",\"\",VLOOKUP(L8,ตั้งค่า!$AD$20:$AH$23,4,TRUE))","v":""},{"$f":"รายชื่อนักเรียน!F8","v":0},null,null,null,null,null,"",{"$f":"IFERROR(IF(OR(รายชื่อนักเรียน!F8=\"ย้าย\",รายชื่อนักเรียน!F8=\"ออก\",รายชื่อนักเรียน!F8=\"ร\",รายชื่อนักเรียน!F8=\"มส\",U8=\"\"),\"\",ROUND(U8/$U$5*$L$5,0)),\"\")","v":""},{"$f":"IF(V8=\"\",\"\",VLOOKUP(V8,ตั้งค่า!$AD$20:$AH$23,5,TRUE))","v":""},{"$f":"IF(V8=\"\",\"\",VLOOKUP(V8,ตั้งค่า!$AD$20:$AH$23,4,TRUE))","v":""},"",{"$f":"IF(Y8=\"\",\"\",VLOOKUP(Y8,ตั้งค่า!$AD$20:$AH$23,5,TRUE))","v":""},{"$f":"IF(Y8=\"\",\"\",VLOOKUP(Y8,ตั้งค่า!$AD$20:$AH$23,4,TRUE))","v":""},0]
[null,{"$f":"รายชื่อนักเรียน!B9","v":0},{"$f":"IF(รายชื่อนักเรียน!C9=\"\",\"\",รายชื่อนักเรียน!C9)","v":""},{"$f":"IF(รายชื่อนักเรียน!E9=\"\",\"\",รายชื่อนักเรียน!E9)","v":""},null,null,null,null,null,null,"",{"$f":"IFERROR(IF(OR(รายชื่อนักเรียน!F9=\"ย้าย\",รายชื่อนักเรียน!F9=\"ออก\",รายชื่อนักเรียน!F9=\"ร\",รายชื่อนักเรียน!F9=\"มส\",K9=\"\"),\"\",ROUND(K9/$K$5*$L$5,0)),\"\")","v":""},{"$f":"IF(L9=\"\",\"\",VLOOKUP(L9,ตั้งค่า!$AD$20:$AH$23,5,TRUE))","v":""},{"$f":"IF(L9=\"\",\"\",VLOOKUP(L9,ตั้งค่า!$AD$20:$AH$23,4,TRUE))","v":""},{"$f":"รายชื่อนักเรียน!F9","v":0},null,null,null,null,null,"",{"$f":"IFERROR(IF(OR(รายชื่อนักเรียน!F9=\"ย้าย\",รายชื่อนักเรียน!F9=\"ออก\",รายชื่อนักเรียน!F9=\"ร\",รายชื่อนักเรียน!F9=\"มส\",U9=\"\"),\"\",ROUND(U9/$U$5*$L$5,0)),\"\")","v":""},{"$f":"IF(V9=\"\",\"\",VLOOKUP(V9,ตั้งค่า!$AD$20:$AH$23,5,TRUE))","v":""},{"$f":"IF(V9=\"\",\"\",VLOOKUP(V9,ตั้งค่า!$AD$20:$AH$23,4,TRUE))","v":""},"",{"$f":"IF(Y9=\"\",\"\",VLOOKUP(Y9,ตั้งค่า!$AD$20:$AH$23,5,TRUE))","v":""},{"$f":"IF(Y9=\"\",\"\",VLOOKUP(Y9,ตั้งค่า!$AD$20:$AH$23,4,TRUE))","v":""},0]
[null,{"$f":"รายชื่อนักเรียน!B10","v":0},{"$f":"IF(รายชื่อนักเรียน!C10=\"\",\"\",รายชื่อนักเรียน!C10)","v":""},{"$f":"IF(รายชื่อนักเรียน!E10=\"\",\"\",รายชื่อนักเรียน!E10)","v":""},null,null,null,null,null,null,"",{"$f":"IFERROR(IF(OR(รายชื่อนักเรียน!F10=\"ย้าย\",รายชื่อนักเรียน!F10=\"ออก\",รายชื่อนักเรียน!F10=\"ร\",รายชื่อนักเรียน!F10=\"มส\",K10=\"\"),\"\",ROUND(K10/$K$5*$L$5,0)),\"\")","v":""},{"$f":"IF(L10=\"\",\"\",VLOOKUP(L10,ตั้งค่า!$AD$20:$AH$23,5,TRUE))","v":""},{"$f":"IF(L10=\"\",\"\",VLOOKUP(L10,ตั้งค่า!$AD$20:$AH$23,4,TRUE))","v":""},{"$f":"รายชื่อนักเรียน!F10","v":0},null,null,null,null,null,"",{"$f":"IFERROR(IF(OR(รายชื่อนักเรียน!F10=\"ย้าย\",รายชื่อนักเรียน!F10=\"ออก\",รายชื่อนักเรียน!F10=\"ร\",รายชื่อนักเรียน!F10=\"มส\",U10=\"\"),\"\",ROUND(U10/$U$5*$L$5,0)),\"\")","v":""},{"$f":"IF(V10=\"\",\"\",VLOOKUP(V10,ตั้งค่า!$AD$20:$AH$23,5,TRUE))","v":""},{"$f":"IF(V10=\"\",\"\",VLOOKUP(V10,ตั้งค่า!$AD$20:$AH$23,4,TRUE))","v":""},"",{"$f":"IF(Y10=\"\",\"\",VLOOKUP(Y10,ตั้งค่า!$AD$20:$AH$23,5,TRUE))","v":""},{"$f":"IF(Y10=\"\",\"\",VLOOKUP(Y10,ตั้งค่า!$AD$20:$AH$23,4,TRUE))","v":""},0,null,null,"ชั้นประถมศึกษาปีที่ 4-6"]
[null,{"$f":"รายชื่อนักเรียน!B11","v":0},{"$f":"IF(รายชื่อนักเรียน!C11=\"\",\"\",รายชื่อนักเรียน!C11)","v":""},{"$f":"IF(รายชื่อนักเรียน!E11=\"\",\"\",รายชื่อนักเรียน!E11)","v":""},null,null,null,null,null,null,"",{"$f":"IFERROR(IF(OR(รายชื่อนักเรียน!F11=\"ย้าย\",รายชื่อนักเรียน!F11=\"ออก\",รายชื่อนักเรียน!F11=\"ร\",รายชื่อนักเรียน!F11=\"มส\",K11=\"\"),\"\",ROUND(K11/$K$5*$L$5,0)),\"\")","v":""},{"$f":"IF(L11=\"\",\"\",VLOOKUP(L11,ตั้งค่า!$AD$20:$AH$23,5,TRUE))","v":""},{"$f":"IF(L11=\"\",\"\",VLOOKUP(L11,ตั้งค่า!$AD$20:$AH$23,4,TRUE))","v":""},{"$f":"รายชื่อนักเรียน!F11","v":0},null,null,null,null,null,"",{"$f":"IFERROR(IF(OR(รายชื่อนักเรียน!F11=\"ย้าย\",รายชื่อนักเรียน!F11=\"ออก\",รายชื่อนักเรียน!F11=\"ร\",รายชื่อนักเรียน!F11=\"มส\",U11=\"\"),\"\",ROUND(U11/$U$5*$L$5,0)),\"\")","v":""},{"$f":"IF(V11=\"\",\"\",VLOOKUP(V11,ตั้งค่า!$AD$20:$AH$23,5,TRUE))","v":""},{"$f":"IF(V11=\"\",\"\",VLOOKUP(V11,ตั้งค่า!$AD$20:$AH$23,4,TRUE))","v":""},"",{"$f":"IF(Y11=\"\",\"\",VLOOKUP(Y11,ตั้งค่า!$AD$20:$AH$23,5,TRUE))","v":""},{"$f":"IF(Y11=\"\",\"\",VLOOKUP(Y11,ตั้งค่า!$AD$20:$AH$23,4,TRUE))","v":""},0,null,null,"1. สามารถอ่านเพื่อหาข้อมูลสารสนเทศเสริมประสบการณ์จากสื่อประเภทต่างๆ"]
[null,{"$f":"รายชื่อนักเรียน!B12","v":0},{"$f":"IF(รายชื่อนักเรียน!C12=\"\",\"\",รายชื่อนักเรียน!C12)","v":""},{"$f":"IF(รายชื่อนักเรียน!E12=\"\",\"\",รายชื่อนักเรียน!E12)","v":""},null,null,null,null,null,null,"",{"$f":"IFERROR(IF(OR(รายชื่อนักเรียน!F12=\"ย้าย\",รายชื่อนักเรียน!F12=\"ออก\",รายชื่อนักเรียน!F12=\"ร\",รายชื่อนักเรียน!F12=\"มส\",K12=\"\"),\"\",ROUND(K12/$K$5*$L$5,0)),\"\")","v":""},{"$f":"IF(L12=\"\",\"\",VLOOKUP(L12,ตั้งค่า!$AD$20:$AH$23,5,TRUE))","v":""},{"$f":"IF(L12=\"\",\"\",VLOOKUP(L12,ตั้งค่า!$AD$20:$AH$23,4,TRUE))","v":""},{"$f":"รายชื่อนักเรียน!F12","v":0},null,null,null,null,null,"",{"$f":"IFERROR(IF(OR(รายชื่อนักเรียน!F12=\"ย้าย\",รายชื่อนักเรียน!F12=\"ออก\",รายชื่อนักเรียน!F12=\"ร\",รายชื่อนักเรียน!F12=\"มส\",U12=\"\"),\"\",ROUND(U12/$U$5*$L$5,0)),\"\")","v":""},{"$f":"IF(V12=\"\",\"\",VLOOKUP(V12,ตั้งค่า!$AD$20:$AH$23,5,TRUE))","v":""},{"$f":"IF(V12=\"\",\"\",VLOOKUP(V12,ตั้งค่า!$AD$20:$AH$23,4,TRUE))","v":""},"",{"$f":"IF(Y12=\"\",\"\",VLOOKUP(Y12,ตั้งค่า!$AD$20:$AH$23,5,TRUE))","v":""},{"$f":"IF(Y12=\"\",\"\",VLOOKUP(Y12,ตั้งค่า!$AD$20:$AH$23,4,TRUE))","v":""},0,null,null,"2. สามารถจับประเด็นสำคัญ เปรียบเทียบ เชื่อมโยงความเป็นเหตุเป็นผลจากเรื่องที่อ่าน"]
[null,{"$f":"รายชื่อนักเรียน!B13","v":0},{"$f":"IF(รายชื่อนักเรียน!C13=\"\",\"\",รายชื่อนักเรียน!C13)","v":""},{"$f":"IF(รายชื่อนักเรียน!E13=\"\",\"\",รายชื่อนักเรียน!E13)","v":""},null,null,null,null,null,null,"",{"$f":"IFERROR(IF(OR(รายชื่อนักเรียน!F13=\"ย้าย\",รายชื่อนักเรียน!F13=\"ออก\",รายชื่อนักเรียน!F13=\"ร\",รายชื่อนักเรียน!F13=\"มส\",K13=\"\"),\"\",ROUND(K13/$K$5*$L$5,0)),\"\")","v":""},{"$f":"IF(L13=\"\",\"\",VLOOKUP(L13,ตั้งค่า!$AD$20:$AH$23,5,TRUE))","v":""},{"$f":"IF(L13=\"\",\"\",VLOOKUP(L13,ตั้งค่า!$AD$20:$AH$23,4,TRUE))","v":""},{"$f":"รายชื่อนักเรียน!F13","v":0},null,null,null,null,null,"",{"$f":"IFERROR(IF(OR(รายชื่อนักเรียน!F13=\"ย้าย\",รายชื่อนักเรียน!F13=\"ออก\",รายชื่อนักเรียน!F13=\"ร\",รายชื่อนักเรียน!F13=\"มส\",U13=\"\"),\"\",ROUND(U13/$U$5*$L$5,0)),\"\")","v":""},{"$f":"IF(V13=\"\",\"\",VLOOKUP(V13,ตั้งค่า!$AD$20:$AH$23,5,TRUE))","v":""},{"$f":"IF(V13=\"\",\"\",VLOOKUP(V13,ตั้งค่า!$AD$20:$AH$23,4,TRUE))","v":""},"",{"$f":"IF(Y13=\"\",\"\",VLOOKUP(Y13,ตั้งค่า!$AD$20:$AH$23,5,TRUE))","v":""},{"$f":"IF(Y13=\"\",\"\",VLOOKUP(Y13,ตั้งค่า!$AD$20:$AH$23,4,TRUE))","v":""},0,null,null,"3. สามรถเชื่อมโยงความสัมพันธ์ของเรื่องราว เหตุการณ์ของเรื่องที่อ่าน"]
[null,{"$f":"รายชื่อนักเรียน!B14","v":0},{"$f":"IF(รายชื่อนักเรียน!C14=\"\",\"\",รายชื่อนักเรียน!C14)","v":""},{"$f":"IF(รายชื่อนักเรียน!E14=\"\",\"\",รายชื่อนักเรียน!E14)","v":""},null,null,null,null,null,null,"",{"$f":"IFERROR(IF(OR(รายชื่อนักเรียน!F14=\"ย้าย\",รายชื่อนักเรียน!F14=\"ออก\",รายชื่อนักเรียน!F14=\"ร\",รายชื่อนักเรียน!F14=\"มส\",K14=\"\"),\"\",ROUND(K14/$K$5*$L$5,0)),\"\")","v":""},{"$f":"IF(L14=\"\",\"\",VLOOKUP(L14,ตั้งค่า!$AD$20:$AH$23,5,TRUE))","v":""},{"$f":"IF(L14=\"\",\"\",VLOOKUP(L14,ตั้งค่า!$AD$20:$AH$23,4,TRUE))","v":""},{"$f":"รายชื่อนักเรียน!F14","v":0},null,null,null,null,null,"",{"$f":"IFERROR(IF(OR(รายชื่อนักเรียน!F14=\"ย้าย\",รายชื่อนักเรียน!F14=\"ออก\",รายชื่อนักเรียน!F14=\"ร\",รายชื่อนักเรียน!F14=\"มส\",U14=\"\"),\"\",ROUND(U14/$U$5*$L$5,0)),\"\")","v":""},{"$f":"IF(V14=\"\",\"\",VLOOKUP(V14,ตั้งค่า!$AD$20:$AH$23,5,TRUE))","v":""},{"$f":"IF(V14=\"\",\"\",VLOOKUP(V14,ตั้งค่า!$AD$20:$AH$23,4,TRUE))","v":""},"",{"$f":"IF(Y14=\"\",\"\",VLOOKUP(Y14,ตั้งค่า!$AD$20:$AH$23,5,TRUE))","v":""},{"$f":"IF(Y14=\"\",\"\",VLOOKUP(Y14,ตั้งค่า!$AD$20:$AH$23,4,TRUE))","v":""},0,null,null,"4. สามารถแสดงความคิดเห็นต่อเรื่องที่อ่านโดยมีเหตุผลสนับสนุน"]
[null,{"$f":"รายชื่อนักเรียน!B15","v":0},{"$f":"IF(รายชื่อนักเรียน!C15=\"\",\"\",รายชื่อนักเรียน!C15)","v":""},{"$f":"IF(รายชื่อนักเรียน!E15=\"\",\"\",รายชื่อนักเรียน!E15)","v":""},null,null,null,null,null,null,"",{"$f":"IFERROR(IF(OR(รายชื่อนักเรียน!F15=\"ย้าย\",รายชื่อนักเรียน!F15=\"ออก\",รายชื่อนักเรียน!F15=\"ร\",รายชื่อนักเรียน!F15=\"มส\",K15=\"\"),\"\",ROUND(K15/$K$5*$L$5,0)),\"\")","v":""},{"$f":"IF(L15=\"\",\"\",VLOOKUP(L15,ตั้งค่า!$AD$20:$AH$23,5,TRUE))","v":""},{"$f":"IF(L15=\"\",\"\",VLOOKUP(L15,ตั้งค่า!$AD$20:$AH$23,4,TRUE))","v":""},{"$f":"รายชื่อนักเรียน!F15","v":0},null,null,null,null,null,"",{"$f":"IFERROR(IF(OR(รายชื่อนักเรียน!F15=\"ย้าย\",รายชื่อนักเรียน!F15=\"ออก\",รายชื่อนักเรียน!F15=\"ร\",รายชื่อนักเรียน!F15=\"มส\",U15=\"\"),\"\",ROUND(U15/$U$5*$L$5,0)),\"\")","v":""},{"$f":"IF(V15=\"\",\"\",VLOOKUP(V15,ตั้งค่า!$AD$20:$AH$23,5,TRUE))","v":""},{"$f":"IF(V15=\"\",\"\",VLOOKUP(V15,ตั้งค่า!$AD$20:$AH$23,4,TRUE))","v":""},"",{"$f":"IF(Y15=\"\",\"\",VLOOKUP(Y15,ตั้งค่า!$AD$20:$AH$23,5,TRUE))","v":""},{"$f":"IF(Y15=\"\",\"\",VLOOKUP(Y15,ตั้งค่า!$AD$20:$AH$23,4,TRUE))","v":""},0,null,null,"5 .สามารถถ่ายทอดความเข้าใจ ความคิดเห็น คุณค่าจากเรื่องที่อ่านโดยการเขียน"]
[null,{"$f":"รายชื่อนักเรียน!B16","v":0},{"$f":"IF(รายชื่อนักเรียน!C16=\"\",\"\",รายชื่อนักเรียน!C16)","v":""},{"$f":"IF(รายชื่อนักเรียน!E16=\"\",\"\",รายชื่อนักเรียน!E16)","v":""},null,null,null,null,null,null,"",{"$f":"IFERROR(IF(OR(รายชื่อนักเรียน!F16=\"ย้าย\",รายชื่อนักเรียน!F16=\"ออก\",รายชื่อนักเรียน!F16=\"ร\",รายชื่อนักเรียน!F16=\"มส\",K16=\"\"),\"\",ROUND(K16/$K$5*$L$5,0)),\"\")","v":""},{"$f":"IF(L16=\"\",\"\",VLOOKUP(L16,ตั้งค่า!$AD$20:$AH$23,5,TRUE))","v":""},{"$f":"IF(L16=\"\",\"\",VLOOKUP(L16,ตั้งค่า!$AD$20:$AH$23,4,TRUE))","v":""},{"$f":"รายชื่อนักเรียน!F16","v":0},null,null,null,null,null,"",{"$f":"IFERROR(IF(OR(รายชื่อนักเรียน!F16=\"ย้าย\",รายชื่อนักเรียน!F16=\"ออก\",รายชื่อนักเรียน!F16=\"ร\",รายชื่อนักเรียน!F16=\"มส\",U16=\"\"),\"\",ROUND(U16/$U$5*$L$5,0)),\"\")","v":""},{"$f":"IF(V16=\"\",\"\",VLOOKUP(V16,ตั้งค่า!$AD$20:$AH$23,5,TRUE))","v":""},{"$f":"IF(V16=\"\",\"\",VLOOKUP(V16,ตั้งค่า!$AD$20:$AH$23,4,TRUE))","v":""},"",{"$f":"IF(Y16=\"\",\"\",VLOOKUP(Y16,ตั้งค่า!$AD$20:$AH$23,5,TRUE))","v":""},{"$f":"IF(Y16=\"\",\"\",VLOOKUP(Y16,ตั้งค่า!$AD$20:$AH$23,4,TRUE))","v":""},0]
[null,{"$f":"รายชื่อนักเรียน!B17","v":0},{"$f":"IF(รายชื่อนักเรียน!C17=\"\",\"\",รายชื่อนักเรียน!C17)","v":""},{"$f":"IF(รายชื่อนักเรียน!E17=\"\",\"\",รายชื่อนักเรียน!E17)","v":""},null,null,null,null,null,null,"",{"$f":"IFERROR(IF(OR(รายชื่อนักเรียน!F17=\"ย้าย\",รายชื่อนักเรียน!F17=\"ออก\",รายชื่อนักเรียน!F17=\"ร\",รายชื่อนักเรียน!F17=\"มส\",K17=\"\"),\"\",ROUND(K17/$K$5*$L$5,0)),\"\")","v":""},{"$f":"IF(L17=\"\",\"\",VLOOKUP(L17,ตั้งค่า!$AD$20:$AH$23,5,TRUE))","v":""},{"$f":"IF(L17=\"\",\"\",VLOOKUP(L17,ตั้งค่า!$AD$20:$AH$23,4,TRUE))","v":""},{"$f":"รายชื่อนักเรียน!F17","v":0},null,null,null,null,null,"",{"$f":"IFERROR(IF(OR(รายชื่อนักเรียน!F17=\"ย้าย\",รายชื่อนักเรียน!F17=\"ออก\",รายชื่อนักเรียน!F17=\"ร\",รายชื่อนักเรียน!F17=\"มส\",U17=\"\"),\"\",ROUND(U17/$U$5*$L$5,0)),\"\")","v":""},{"$f":"IF(V17=\"\",\"\",VLOOKUP(V17,ตั้งค่า!$AD$20:$AH$23,5,TRUE))","v":""},{"$f":"IF(V17=\"\",\"\",VLOOKUP(V17,ตั้งค่า!$AD$20:$AH$23,4,TRUE))","v":""},"",{"$f":"IF(Y17=\"\",\"\",VLOOKUP(Y17,ตั้งค่า!$AD$20:$AH$23,5,TRUE))","v":""},{"$f":"IF(Y17=\"\",\"\",VLOOKUP(Y17,ตั้งค่า!$AD$20:$AH$23,4,TRUE))","v":""},0]
[null,{"$f":"รายชื่อนักเรียน!B18","v":0},{"$f":"IF(รายชื่อนักเรียน!C18=\"\",\"\",รายชื่อนักเรียน!C18)","v":""},{"$f":"IF(รายชื่อนักเรียน!E18=\"\",\"\",รายชื่อนักเรียน!E18)","v":""},null,null,null,null,null,null,"",{"$f":"IFERROR(IF(OR(รายชื่อนักเรียน!F18=\"ย้าย\",รายชื่อนักเรียน!F18=\"ออก\",รายชื่อนักเรียน!F18=\"ร\",รายชื่อนักเรียน!F18=\"มส\",K18=\"\"),\"\",ROUND(K18/$K$5*$L$5,0)),\"\")","v":""},{"$f":"IF(L18=\"\",\"\",VLOOKUP(L18,ตั้งค่า!$AD$20:$AH$23,5,TRUE))","v":""},{"$f":"IF(L18=\"\",\"\",VLOOKUP(L18,ตั้งค่า!$AD$20:$AH$23,4,TRUE))","v":""},{"$f":"รายชื่อนักเรียน!F18","v":0},null,null,null,null,null,"",{"$f":"IFERROR(IF(OR(รายชื่อนักเรียน!F18=\"ย้าย\",รายชื่อนักเรียน!F18=\"ออก\",รายชื่อนักเรียน!F18=\"ร\",รายชื่อนักเรียน!F18=\"มส\",U18=\"\"),\"\",ROUND(U18/$U$5*$L$5,0)),\"\")","v":""},{"$f":"IF(V18=\"\",\"\",VLOOKUP(V18,ตั้งค่า!$AD$20:$AH$23,5,TRUE))","v":""},{"$f":"IF(V18=\"\",\"\",VLOOKUP(V18,ตั้งค่า!$AD$20:$AH$23,4,TRUE))","v":""},"",{"$f":"IF(Y18=\"\",\"\",VLOOKUP(Y18,ตั้งค่า!$AD$20:$AH$23,5,TRUE))","v":""},{"$f":"IF(Y18=\"\",\"\",VLOOKUP(Y18,ตั้งค่า!$AD$20:$AH$23,4,TRUE))","v":""},0]
[null,{"$f":"รายชื่อนักเรียน!B19","v":0},{"$f":"IF(รายชื่อนักเรียน!C19=\"\",\"\",รายชื่อนักเรียน!C19)","v":""},{"$f":"IF(รายชื่อนักเรียน!E19=\"\",\"\",รายชื่อนักเรียน!E19)","v":""},null,null,null,null,null,null,"",{"$f":"IFERROR(IF(OR(รายชื่อนักเรียน!F19=\"ย้าย\",รายชื่อนักเรียน!F19=\"ออก\",รายชื่อนักเรียน!F19=\"ร\",รายชื่อนักเรียน!F19=\"มส\",K19=\"\"),\"\",ROUND(K19/$K$5*$L$5,0)),\"\")","v":""},{"$f":"IF(L19=\"\",\"\",VLOOKUP(L19,ตั้งค่า!$AD$20:$AH$23,5,TRUE))","v":""},{"$f":"IF(L19=\"\",\"\",VLOOKUP(L19,ตั้งค่า!$AD$20:$AH$23,4,TRUE))","v":""},{"$f":"รายชื่อนักเรียน!F19","v":0},null,null,null,null,null,"",{"$f":"IFERROR(IF(OR(รายชื่อนักเรียน!F19=\"ย้าย\",รายชื่อนักเรียน!F19=\"ออก\",รายชื่อนักเรียน!F19=\"ร\",รายชื่อนักเรียน!F19=\"มส\",U19=\"\"),\"\",ROUND(U19/$U$5*$L$5,0)),\"\")","v":""},{"$f":"IF(V19=\"\",\"\",VLOOKUP(V19,ตั้งค่า!$AD$20:$AH$23,5,TRUE))","v":""},{"$f":"IF(V19=\"\",\"\",VLOOKUP(V19,ตั้งค่า!$AD$20:$AH$23,4,TRUE))","v":""},"",{"$f":"IF(Y19=\"\",\"\",VLOOKUP(Y19,ตั้งค่า!$AD$20:$AH$23,5,TRUE))","v":""},{"$f":"IF(Y19=\"\",\"\",VLOOKUP(Y19,ตั้งค่า!$AD$20:$AH$23,4,TRUE))","v":""},0]
[null,{"$f":"รายชื่อนักเรียน!B20","v":0},{"$f":"IF(รายชื่อนักเรียน!C20=\"\",\"\",รายชื่อนักเรียน!C20)","v":""},{"$f":"IF(รายชื่อนักเรียน!E20=\"\",\"\",รายชื่อนักเรียน!E20)","v":""},null,null,null,null,null,null,"",{"$f":"IFERROR(IF(OR(รายชื่อนักเรียน!F20=\"ย้าย\",รายชื่อนักเรียน!F20=\"ออก\",รายชื่อนักเรียน!F20=\"ร\",รายชื่อนักเรียน!F20=\"มส\",K20=\"\"),\"\",ROUND(K20/$K$5*$L$5,0)),\"\")","v":""},{"$f":"IF(L20=\"\",\"\",VLOOKUP(L20,ตั้งค่า!$AD$20:$AH$23,5,TRUE))","v":""},{"$f":"IF(L20=\"\",\"\",VLOOKUP(L20,ตั้งค่า!$AD$20:$AH$23,4,TRUE))","v":""},{"$f":"รายชื่อนักเรียน!F20","v":0},null,null,null,null,null,"",{"$f":"IFERROR(IF(OR(รายชื่อนักเรียน!F20=\"ย้าย\",รายชื่อนักเรียน!F20=\"ออก\",รายชื่อนักเรียน!F20=\"ร\",รายชื่อนักเรียน!F20=\"มส\",U20=\"\"),\"\",ROUND(U20/$U$5*$L$5,0)),\"\")","v":""},{"$f":"IF(V20=\"\",\"\",VLOOKUP(V20,ตั้งค่า!$AD$20:$AH$23,5,TRUE))","v":""},{"$f":"IF(V20=\"\",\"\",VLOOKUP(V20,ตั้งค่า!$AD$20:$AH$23,4,TRUE))","v":""},"",{"$f":"IF(Y20=\"\",\"\",VLOOKUP(Y20,ตั้งค่า!$AD$20:$AH$23,5,TRUE))","v":""},{"$f":"IF(Y20=\"\",\"\",VLOOKUP(Y20,ตั้งค่า!$AD$20:$AH$23,4,TRUE))","v":""},0]
[null,{"$f":"รายชื่อนักเรียน!B21","v":0},{"$f":"IF(รายชื่อนักเรียน!C21=\"\",\"\",รายชื่อนักเรียน!C21)","v":""},{"$f":"IF(รายชื่อนักเรียน!E21=\"\",\"\",รายชื่อนักเรียน!E21)","v":""},null,null,null,null,null,null,"",{"$f":"IFERROR(IF(OR(รายชื่อนักเรียน!F21=\"ย้าย\",รายชื่อนักเรียน!F21=\"ออก\",รายชื่อนักเรียน!F21=\"ร\",รายชื่อนักเรียน!F21=\"มส\",K21=\"\"),\"\",ROUND(K21/$K$5*$L$5,0)),\"\")","v":""},{"$f":"IF(L21=\"\",\"\",VLOOKUP(L21,ตั้งค่า!$AD$20:$AH$23,5,TRUE))","v":""},{"$f":"IF(L21=\"\",\"\",VLOOKUP(L21,ตั้งค่า!$AD$20:$AH$23,4,TRUE))","v":""},{"$f":"รายชื่อนักเรียน!F21","v":0},null,null,null,null,null,"",{"$f":"IFERROR(IF(OR(รายชื่อนักเรียน!F21=\"ย้าย\",รายชื่อนักเรียน!F21=\"ออก\",รายชื่อนักเรียน!F21=\"ร\",รายชื่อนักเรียน!F21=\"มส\",U21=\"\"),\"\",ROUND(U21/$U$5*$L$5,0)),\"\")","v":""},{"$f":"IF(V21=\"\",\"\",VLOOKUP(V21,ตั้งค่า!$AD$20:$AH$23,5,TRUE))","v":""},{"$f":"IF(V21=\"\",\"\",VLOOKUP(V21,ตั้งค่า!$AD$20:$AH$23,4,TRUE))","v":""},"",{"$f":"IF(Y21=\"\",\"\",VLOOKUP(Y21,ตั้งค่า!$AD$20:$AH$23,5,TRUE))","v":""},{"$f":"IF(Y21=\"\",\"\",VLOOKUP(Y21,ตั้งค่า!$AD$20:$AH$23,4,TRUE))","v":""},0]
[null,{"$f":"รายชื่อนักเรียน!B22","v":0},{"$f":"IF(รายชื่อนักเรียน!C22=\"\",\"\",รายชื่อนักเรียน!C22)","v":""},{"$f":"IF(รายชื่อนักเรียน!E22=\"\",\"\",รายชื่อนักเรียน!E22)","v":""},null,null,null,null,null,null,"",{"$f":"IFERROR(IF(OR(รายชื่อนักเรียน!F22=\"ย้าย\",รายชื่อนักเรียน!F22=\"ออก\",รายชื่อนักเรียน!F22=\"ร\",รายชื่อนักเรียน!F22=\"มส\",K22=\"\"),\"\",ROUND(K22/$K$5*$L$5,0)),\"\")","v":""},{"$f":"IF(L22=\"\",\"\",VLOOKUP(L22,ตั้งค่า!$AD$20:$AH$23,5,TRUE))","v":""},{"$f":"IF(L22=\"\",\"\",VLOOKUP(L22,ตั้งค่า!$AD$20:$AH$23,4,TRUE))","v":""},{"$f":"รายชื่อนักเรียน!F22","v":0},null,null,null,null,null,"",{"$f":"IFERROR(IF(OR(รายชื่อนักเรียน!F22=\"ย้าย\",รายชื่อนักเรียน!F22=\"ออก\",รายชื่อนักเรียน!F22=\"ร\",รายชื่อนักเรียน!F22=\"มส\",U22=\"\"),\"\",ROUND(U22/$U$5*$L$5,0)),\"\")","v":""},{"$f":"IF(V22=\"\",\"\",VLOOKUP(V22,ตั้งค่า!$AD$20:$AH$23,5,TRUE))","v":""},{"$f":"IF(V22=\"\",\"\",VLOOKUP(V22,ตั้งค่า!$AD$20:$AH$23,4,TRUE))","v":""},"",{"$f":"IF(Y22=\"\",\"\",VLOOKUP(Y22,ตั้งค่า!$AD$20:$AH$23,5,TRUE))","v":""},{"$f":"IF(Y22=\"\",\"\",VLOOKUP(Y22,ตั้งค่า!$AD$20:$AH$23,4,TRUE))","v":""},0]
[null,{"$f":"รายชื่อนักเรียน!B23","v":0},{"$f":"IF(รายชื่อนักเรียน!C23=\"\",\"\",รายชื่อนักเรียน!C23)","v":""},{"$f":"IF(รายชื่อนักเรียน!E23=\"\",\"\",รายชื่อนักเรียน!E23)","v":""},null,null,null,null,null,null,"",{"$f":"IFERROR(IF(OR(รายชื่อนักเรียน!F23=\"ย้าย\",รายชื่อนักเรียน!F23=\"ออก\",รายชื่อนักเรียน!F23=\"ร\",รายชื่อนักเรียน!F23=\"มส\",K23=\"\"),\"\",ROUND(K23/$K$5*$L$5,0)),\"\")","v":""},{"$f":"IF(L23=\"\",\"\",VLOOKUP(L23,ตั้งค่า!$AD$20:$AH$23,5,TRUE))","v":""},{"$f":"IF(L23=\"\",\"\",VLOOKUP(L23,ตั้งค่า!$AD$20:$AH$23,4,TRUE))","v":""},{"$f":"รายชื่อนักเรียน!F23","v":0},null,null,null,null,null,"",{"$f":"IFERROR(IF(OR(รายชื่อนักเรียน!F23=\"ย้าย\",รายชื่อนักเรียน!F23=\"ออก\",รายชื่อนักเรียน!F23=\"ร\",รายชื่อนักเรียน!F23=\"มส\",U23=\"\"),\"\",ROUND(U23/$U$5*$L$5,0)),\"\")","v":""},{"$f":"IF(V23=\"\",\"\",VLOOKUP(V23,ตั้งค่า!$AD$20:$AH$23,5,TRUE))","v":""},{"$f":"IF(V23=\"\",\"\",VLOOKUP(V23,ตั้งค่า!$AD$20:$AH$23,4,TRUE))","v":""},"",{"$f":"IF(Y23=\"\",\"\",VLOOKUP(Y23,ตั้งค่า!$AD$20:$AH$23,5,TRUE))","v":""},{"$f":"IF(Y23=\"\",\"\",VLOOKUP(Y23,ตั้งค่า!$AD$20:$AH$23,4,TRUE))","v":""},0]
[null,{"$f":"รายชื่อนักเรียน!B24","v":0},{"$f":"IF(รายชื่อนักเรียน!C24=\"\",\"\",รายชื่อนักเรียน!C24)","v":""},{"$f":"IF(รายชื่อนักเรียน!E24=\"\",\"\",รายชื่อนักเรียน!E24)","v":""},null,null,null,null,null,null,"",{"$f":"IFERROR(IF(OR(รายชื่อนักเรียน!F24=\"ย้าย\",รายชื่อนักเรียน!F24=\"ออก\",รายชื่อนักเรียน!F24=\"ร\",รายชื่อนักเรียน!F24=\"มส\",K24=\"\"),\"\",ROUND(K24/$K$5*$L$5,0)),\"\")","v":""},{"$f":"IF(L24=\"\",\"\",VLOOKUP(L24,ตั้งค่า!$AD$20:$AH$23,5,TRUE))","v":""},{"$f":"IF(L24=\"\",\"\",VLOOKUP(L24,ตั้งค่า!$AD$20:$AH$23,4,TRUE))","v":""},{"$f":"รายชื่อนักเรียน!F24","v":0},null,null,null,null,null,"",{"$f":"IFERROR(IF(OR(รายชื่อนักเรียน!F24=\"ย้าย\",รายชื่อนักเรียน!F24=\"ออก\",รายชื่อนักเรียน!F24=\"ร\",รายชื่อนักเรียน!F24=\"มส\",U24=\"\"),\"\",ROUND(U24/$U$5*$L$5,0)),\"\")","v":""},{"$f":"IF(V24=\"\",\"\",VLOOKUP(V24,ตั้งค่า!$AD$20:$AH$23,5,TRUE))","v":""},{"$f":"IF(V24=\"\",\"\",VLOOKUP(V24,ตั้งค่า!$AD$20:$AH$23,4,TRUE))","v":""},"",{"$f":"IF(Y24=\"\",\"\",VLOOKUP(Y24,ตั้งค่า!$AD$20:$AH$23,5,TRUE))","v":""},{"$f":"IF(Y24=\"\",\"\",VLOOKUP(Y24,ตั้งค่า!$AD$20:$AH$23,4,TRUE))","v":""},0]
[null,{"$f":"รายชื่อนักเรียน!B25","v":0},{"$f":"IF(รายชื่อนักเรียน!C25=\"\",\"\",รายชื่อนักเรียน!C25)","v":""},{"$f":"IF(รายชื่อนักเรียน!E25=\"\",\"\",รายชื่อนักเรียน!E25)","v":""},null,null,null,null,null,null,"",{"$f":"IFERROR(IF(OR(รายชื่อนักเรียน!F25=\"ย้าย\",รายชื่อนักเรียน!F25=\"ออก\",รายชื่อนักเรียน!F25=\"ร\",รายชื่อนักเรียน!F25=\"มส\",K25=\"\"),\"\",ROUND(K25/$K$5*$L$5,0)),\"\")","v":""},{"$f":"IF(L25=\"\",\"\",VLOOKUP(L25,ตั้งค่า!$AD$20:$AH$23,5,TRUE))","v":""},{"$f":"IF(L25=\"\",\"\",VLOOKUP(L25,ตั้งค่า!$AD$20:$AH$23,4,TRUE))","v":""},{"$f":"รายชื่อนักเรียน!F25","v":0},null,null,null,null,null,"",{"$f":"IFERROR(IF(OR(รายชื่อนักเรียน!F25=\"ย้าย\",รายชื่อนักเรียน!F25=\"ออก\",รายชื่อนักเรียน!F25=\"ร\",รายชื่อนักเรียน!F25=\"มส\",U25=\"\"),\"\",ROUND(U25/$U$5*$L$5,0)),\"\")","v":""},{"$f":"IF(V25=\"\",\"\",VLOOKUP(V25,ตั้งค่า!$AD$20:$AH$23,5,TRUE))","v":""},{"$f":"IF(V25=\"\",\"\",VLOOKUP(V25,ตั้งค่า!$AD$20:$AH$23,4,TRUE))","v":""},"",{"$f":"IF(Y25=\"\",\"\",VLOOKUP(Y25,ตั้งค่า!$AD$20:$AH$23,5,TRUE))","v":""},{"$f":"IF(Y25=\"\",\"\",VLOOKUP(Y25,ตั้งค่า!$AD$20:$AH$23,4,TRUE))","v":""},0]
[null,{"$f":"รายชื่อนักเรียน!B26","v":0},{"$f":"IF(รายชื่อนักเรียน!C26=\"\",\"\",รายชื่อนักเรียน!C26)","v":""},{"$f":"IF(รายชื่อนักเรียน!E26=\"\",\"\",รายชื่อนักเรียน!E26)","v":""},null,null,null,null,null,null,"",{"$f":"IFERROR(IF(OR(รายชื่อนักเรียน!F26=\"ย้าย\",รายชื่อนักเรียน!F26=\"ออก\",รายชื่อนักเรียน!F26=\"ร\",รายชื่อนักเรียน!F26=\"มส\",K26=\"\"),\"\",ROUND(K26/$K$5*$L$5,0)),\"\")","v":""},{"$f":"IF(L26=\"\",\"\",VLOOKUP(L26,ตั้งค่า!$AD$20:$AH$23,5,TRUE))","v":""},{"$f":"IF(L26=\"\",\"\",VLOOKUP(L26,ตั้งค่า!$AD$20:$AH$23,4,TRUE))","v":""},{"$f":"รายชื่อนักเรียน!F26","v":0},null,null,null,null,null,"",{"$f":"IFERROR(IF(OR(รายชื่อนักเรียน!F26=\"ย้าย\",รายชื่อนักเรียน!F26=\"ออก\",รายชื่อนักเรียน!F26=\"ร\",รายชื่อนักเรียน!F26=\"มส\",U26=\"\"),\"\",ROUND(U26/$U$5*$L$5,0)),\"\")","v":""},{"$f":"IF(V26=\"\",\"\",VLOOKUP(V26,ตั้งค่า!$AD$20:$AH$23,5,TRUE))","v":""},{"$f":"IF(V26=\"\",\"\",VLOOKUP(V26,ตั้งค่า!$AD$20:$AH$23,4,TRUE))","v":""},"",{"$f":"IF(Y26=\"\",\"\",VLOOKUP(Y26,ตั้งค่า!$AD$20:$AH$23,5,TRUE))","v":""},{"$f":"IF(Y26=\"\",\"\",VLOOKUP(Y26,ตั้งค่า!$AD$20:$AH$23,4,TRUE))","v":""},0]
[null,{"$f":"รายชื่อนักเรียน!B27","v":0},{"$f":"IF(รายชื่อนักเรียน!C27=\"\",\"\",รายชื่อนักเรียน!C27)","v":""},{"$f":"IF(รายชื่อนักเรียน!E27=\"\",\"\",รายชื่อนักเรียน!E27)","v":""},null,null,null,null,null,null,"",{"$f":"IFERROR(IF(OR(รายชื่อนักเรียน!F27=\"ย้าย\",รายชื่อนักเรียน!F27=\"ออก\",รายชื่อนักเรียน!F27=\"ร\",รายชื่อนักเรียน!F27=\"มส\",K27=\"\"),\"\",ROUND(K27/$K$5*$L$5,0)),\"\")","v":""},{"$f":"IF(L27=\"\",\"\",VLOOKUP(L27,ตั้งค่า!$AD$20:$AH$23,5,TRUE))","v":""},{"$f":"IF(L27=\"\",\"\",VLOOKUP(L27,ตั้งค่า!$AD$20:$AH$23,4,TRUE))","v":""},{"$f":"รายชื่อนักเรียน!F27","v":0},null,null,null,null,null,"",{"$f":"IFERROR(IF(OR(รายชื่อนักเรียน!F27=\"ย้าย\",รายชื่อนักเรียน!F27=\"ออก\",รายชื่อนักเรียน!F27=\"ร\",รายชื่อนักเรียน!F27=\"มส\",U27=\"\"),\"\",ROUND(U27/$U$5*$L$5,0)),\"\")","v":""},{"$f":"IF(V27=\"\",\"\",VLOOKUP(V27,ตั้งค่า!$AD$20:$AH$23,5,TRUE))","v":""},{"$f":"IF(V27=\"\",\"\",VLOOKUP(V27,ตั้งค่า!$AD$20:$AH$23,4,TRUE))","v":""},"",{"$f":"IF(Y27=\"\",\"\",VLOOKUP(Y27,ตั้งค่า!$AD$20:$AH$23,5,TRUE))","v":""},{"$f":"IF(Y27=\"\",\"\",VLOOKUP(Y27,ตั้งค่า!$AD$20:$AH$23,4,TRUE))","v":""},0]
[null,{"$f":"รายชื่อนักเรียน!B28","v":0},{"$f":"IF(รายชื่อนักเรียน!C28=\"\",\"\",รายชื่อนักเรียน!C28)","v":""},{"$f":"IF(รายชื่อนักเรียน!E28=\"\",\"\",รายชื่อนักเรียน!E28)","v":""},null,null,null,null,null,null,"",{"$f":"IFERROR(IF(OR(รายชื่อนักเรียน!F28=\"ย้าย\",รายชื่อนักเรียน!F28=\"ออก\",รายชื่อนักเรียน!F28=\"ร\",รายชื่อนักเรียน!F28=\"มส\",K28=\"\"),\"\",ROUND(K28/$K$5*$L$5,0)),\"\")","v":""},{"$f":"IF(L28=\"\",\"\",VLOOKUP(L28,ตั้งค่า!$AD$20:$AH$23,5,TRUE))","v":""},{"$f":"IF(L28=\"\",\"\",VLOOKUP(L28,ตั้งค่า!$AD$20:$AH$23,4,TRUE))","v":""},{"$f":"รายชื่อนักเรียน!F28","v":0},null,null,null,null,null,"",{"$f":"IFERROR(IF(OR(รายชื่อนักเรียน!F28=\"ย้าย\",รายชื่อนักเรียน!F28=\"ออก\",รายชื่อนักเรียน!F28=\"ร\",รายชื่อนักเรียน!F28=\"มส\",U28=\"\"),\"\",ROUND(U28/$U$5*$L$5,0)),\"\")","v":""},{"$f":"IF(V28=\"\",\"\",VLOOKUP(V28,ตั้งค่า!$AD$20:$AH$23,5,TRUE))","v":""},{"$f":"IF(V28=\"\",\"\",VLOOKUP(V28,ตั้งค่า!$AD$20:$AH$23,4,TRUE))","v":""},"",{"$f":"IF(Y28=\"\",\"\",VLOOKUP(Y28,ตั้งค่า!$AD$20:$AH$23,5,TRUE))","v":""},{"$f":"IF(Y28=\"\",\"\",VLOOKUP(Y28,ตั้งค่า!$AD$20:$AH$23,4,TRUE))","v":""},0]
[null,{"$f":"รายชื่อนักเรียน!B29","v":0},{"$f":"IF(รายชื่อนักเรียน!C29=\"\",\"\",รายชื่อนักเรียน!C29)","v":""},{"$f":"IF(รายชื่อนักเรียน!E29=\"\",\"\",รายชื่อนักเรียน!E29)","v":""},null,null,null,null,null,null,"",{"$f":"IFERROR(IF(OR(รายชื่อนักเรียน!F29=\"ย้าย\",รายชื่อนักเรียน!F29=\"ออก\",รายชื่อนักเรียน!F29=\"ร\",รายชื่อนักเรียน!F29=\"มส\",K29=\"\"),\"\",ROUND(K29/$K$5*$L$5,0)),\"\")","v":""},{"$f":"IF(L29=\"\",\"\",VLOOKUP(L29,ตั้งค่า!$AD$20:$AH$23,5,TRUE))","v":""},{"$f":"IF(L29=\"\",\"\",VLOOKUP(L29,ตั้งค่า!$AD$20:$AH$23,4,TRUE))","v":""},{"$f":"รายชื่อนักเรียน!F29","v":0},null,null,null,null,null,"",{"$f":"IFERROR(IF(OR(รายชื่อนักเรียน!F29=\"ย้าย\",รายชื่อนักเรียน!F29=\"ออก\",รายชื่อนักเรียน!F29=\"ร\",รายชื่อนักเรียน!F29=\"มส\",U29=\"\"),\"\",ROUND(U29/$U$5*$L$5,0)),\"\")","v":""},{"$f":"IF(V29=\"\",\"\",VLOOKUP(V29,ตั้งค่า!$AD$20:$AH$23,5,TRUE))","v":""},{"$f":"IF(V29=\"\",\"\",VLOOKUP(V29,ตั้งค่า!$AD$20:$AH$23,4,TRUE))","v":""},"",{"$f":"IF(Y29=\"\",\"\",VLOOKUP(Y29,ตั้งค่า!$AD$20:$AH$23,5,TRUE))","v":""},{"$f":"IF(Y29=\"\",\"\",VLOOKUP(Y29,ตั้งค่า!$AD$20:$AH$23,4,TRUE))","v":""},0]
[null,{"$f":"รายชื่อนักเรียน!B30","v":0},{"$f":"IF(รายชื่อนักเรียน!C30=\"\",\"\",รายชื่อนักเรียน!C30)","v":""},{"$f":"IF(รายชื่อนักเรียน!E30=\"\",\"\",รายชื่อนักเรียน!E30)","v":""},null,null,null,null,null,null,"",{"$f":"IFERROR(IF(OR(รายชื่อนักเรียน!F30=\"ย้าย\",รายชื่อนักเรียน!F30=\"ออก\",รายชื่อนักเรียน!F30=\"ร\",รายชื่อนักเรียน!F30=\"มส\",K30=\"\"),\"\",ROUND(K30/$K$5*$L$5,0)),\"\")","v":""},{"$f":"IF(L30=\"\",\"\",VLOOKUP(L30,ตั้งค่า!$AD$20:$AH$23,5,TRUE))","v":""},{"$f":"IF(L30=\"\",\"\",VLOOKUP(L30,ตั้งค่า!$AD$20:$AH$23,4,TRUE))","v":""},{"$f":"รายชื่อนักเรียน!F30","v":0},null,null,null,null,null,"",{"$f":"IFERROR(IF(OR(รายชื่อนักเรียน!F30=\"ย้าย\",รายชื่อนักเรียน!F30=\"ออก\",รายชื่อนักเรียน!F30=\"ร\",รายชื่อนักเรียน!F30=\"มส\",U30=\"\"),\"\",ROUND(U30/$U$5*$L$5,0)),\"\")","v":""},{"$f":"IF(V30=\"\",\"\",VLOOKUP(V30,ตั้งค่า!$AD$20:$AH$23,5,TRUE))","v":""},{"$f":"IF(V30=\"\",\"\",VLOOKUP(V30,ตั้งค่า!$AD$20:$AH$23,4,TRUE))","v":""},"",{"$f":"IF(Y30=\"\",\"\",VLOOKUP(Y30,ตั้งค่า!$AD$20:$AH$23,5,TRUE))","v":""},{"$f":"IF(Y30=\"\",\"\",VLOOKUP(Y30,ตั้งค่า!$AD$20:$AH$23,4,TRUE))","v":""},0]
[null,{"$f":"รายชื่อนักเรียน!B31","v":0},{"$f":"IF(รายชื่อนักเรียน!C31=\"\",\"\",รายชื่อนักเรียน!C31)","v":""},{"$f":"IF(รายชื่อนักเรียน!E31=\"\",\"\",รายชื่อนักเรียน!E31)","v":""},null,null,null,null,null,null,"",{"$f":"IFERROR(IF(OR(รายชื่อนักเรียน!F31=\"ย้าย\",รายชื่อนักเรียน!F31=\"ออก\",รายชื่อนักเรียน!F31=\"ร\",รายชื่อนักเรียน!F31=\"มส\",K31=\"\"),\"\",ROUND(K31/$K$5*$L$5,0)),\"\")","v":""},{"$f":"IF(L31=\"\",\"\",VLOOKUP(L31,ตั้งค่า!$AD$20:$AH$23,5,TRUE))","v":""},{"$f":"IF(L31=\"\",\"\",VLOOKUP(L31,ตั้งค่า!$AD$20:$AH$23,4,TRUE))","v":""},{"$f":"รายชื่อนักเรียน!F31","v":0},null,null,null,null,null,"",{"$f":"IFERROR(IF(OR(รายชื่อนักเรียน!F31=\"ย้าย\",รายชื่อนักเรียน!F31=\"ออก\",รายชื่อนักเรียน!F31=\"ร\",รายชื่อนักเรียน!F31=\"มส\",U31=\"\"),\"\",ROUND(U31/$U$5*$L$5,0)),\"\")","v":""},{"$f":"IF(V31=\"\",\"\",VLOOKUP(V31,ตั้งค่า!$AD$20:$AH$23,5,TRUE))","v":""},{"$f":"IF(V31=\"\",\"\",VLOOKUP(V31,ตั้งค่า!$AD$20:$AH$23,4,TRUE))","v":""},"",{"$f":"IF(Y31=\"\",\"\",VLOOKUP(Y31,ตั้งค่า!$AD$20:$AH$23,5,TRUE))","v":""},{"$f":"IF(Y31=\"\",\"\",VLOOKUP(Y31,ตั้งค่า!$AD$20:$AH$23,4,TRUE))","v":""},0]
[null,{"$f":"รายชื่อนักเรียน!B32","v":0},{"$f":"IF(รายชื่อนักเรียน!C32=\"\",\"\",รายชื่อนักเรียน!C32)","v":""},{"$f":"IF(รายชื่อนักเรียน!E32=\"\",\"\",รายชื่อนักเรียน!E32)","v":""},null,null,null,null,null,null,"",{"$f":"IFERROR(IF(OR(รายชื่อนักเรียน!F32=\"ย้าย\",รายชื่อนักเรียน!F32=\"ออก\",รายชื่อนักเรียน!F32=\"ร\",รายชื่อนักเรียน!F32=\"มส\",K32=\"\"),\"\",ROUND(K32/$K$5*$L$5,0)),\"\")","v":""},{"$f":"IF(L32=\"\",\"\",VLOOKUP(L32,ตั้งค่า!$AD$20:$AH$23,5,TRUE))","v":""},{"$f":"IF(L32=\"\",\"\",VLOOKUP(L32,ตั้งค่า!$AD$20:$AH$23,4,TRUE))","v":""},{"$f":"รายชื่อนักเรียน!F32","v":0},null,null,null,null,null,"",{"$f":"IFERROR(IF(OR(รายชื่อนักเรียน!F32=\"ย้าย\",รายชื่อนักเรียน!F32=\"ออก\",รายชื่อนักเรียน!F32=\"ร\",รายชื่อนักเรียน!F32=\"มส\",U32=\"\"),\"\",ROUND(U32/$U$5*$L$5,0)),\"\")","v":""},{"$f":"IF(V32=\"\",\"\",VLOOKUP(V32,ตั้งค่า!$AD$20:$AH$23,5,TRUE))","v":""},{"$f":"IF(V32=\"\",\"\",VLOOKUP(V32,ตั้งค่า!$AD$20:$AH$23,4,TRUE))","v":""},"",{"$f":"IF(Y32=\"\",\"\",VLOOKUP(Y32,ตั้งค่า!$AD$20:$AH$23,5,TRUE))","v":""},{"$f":"IF(Y32=\"\",\"\",VLOOKUP(Y32,ตั้งค่า!$AD$20:$AH$23,4,TRUE))","v":""},0]
[null,{"$f":"รายชื่อนักเรียน!B33","v":0},{"$f":"IF(รายชื่อนักเรียน!C33=\"\",\"\",รายชื่อนักเรียน!C33)","v":""},{"$f":"IF(รายชื่อนักเรียน!E33=\"\",\"\",รายชื่อนักเรียน!E33)","v":""},null,null,null,null,null,null,"",{"$f":"IFERROR(IF(OR(รายชื่อนักเรียน!F33=\"ย้าย\",รายชื่อนักเรียน!F33=\"ออก\",รายชื่อนักเรียน!F33=\"ร\",รายชื่อนักเรียน!F33=\"มส\",K33=\"\"),\"\",ROUND(K33/$K$5*$L$5,0)),\"\")","v":""},{"$f":"IF(L33=\"\",\"\",VLOOKUP(L33,ตั้งค่า!$AD$20:$AH$23,5,TRUE))","v":""},{"$f":"IF(L33=\"\",\"\",VLOOKUP(L33,ตั้งค่า!$AD$20:$AH$23,4,TRUE))","v":""},{"$f":"รายชื่อนักเรียน!F33","v":0},null,null,null,null,null,"",{"$f":"IFERROR(IF(OR(รายชื่อนักเรียน!F33=\"ย้าย\",รายชื่อนักเรียน!F33=\"ออก\",รายชื่อนักเรียน!F33=\"ร\",รายชื่อนักเรียน!F33=\"มส\",U33=\"\"),\"\",ROUND(U33/$U$5*$L$5,0)),\"\")","v":""},{"$f":"IF(V33=\"\",\"\",VLOOKUP(V33,ตั้งค่า!$AD$20:$AH$23,5,TRUE))","v":""},{"$f":"IF(V33=\"\",\"\",VLOOKUP(V33,ตั้งค่า!$AD$20:$AH$23,4,TRUE))","v":""},"",{"$f":"IF(Y33=\"\",\"\",VLOOKUP(Y33,ตั้งค่า!$AD$20:$AH$23,5,TRUE))","v":""},{"$f":"IF(Y33=\"\",\"\",VLOOKUP(Y33,ตั้งค่า!$AD$20:$AH$23,4,TRUE))","v":""},0]
[null,{"$f":"รายชื่อนักเรียน!B34","v":0},{"$f":"IF(รายชื่อนักเรียน!C34=\"\",\"\",รายชื่อนักเรียน!C34)","v":""},{"$f":"IF(รายชื่อนักเรียน!E34=\"\",\"\",รายชื่อนักเรียน!E34)","v":""},null,null,null,null,null,null,"",{"$f":"IFERROR(IF(OR(รายชื่อนักเรียน!F34=\"ย้าย\",รายชื่อนักเรียน!F34=\"ออก\",รายชื่อนักเรียน!F34=\"ร\",รายชื่อนักเรียน!F34=\"มส\",K34=\"\"),\"\",ROUND(K34/$K$5*$L$5,0)),\"\")","v":""},{"$f":"IF(L34=\"\",\"\",VLOOKUP(L34,ตั้งค่า!$AD$20:$AH$23,5,TRUE))","v":""},{"$f":"IF(L34=\"\",\"\",VLOOKUP(L34,ตั้งค่า!$AD$20:$AH$23,4,TRUE))","v":""},{"$f":"รายชื่อนักเรียน!F34","v":0},null,null,null,null,null,"",{"$f":"IFERROR(IF(OR(รายชื่อนักเรียน!F34=\"ย้าย\",รายชื่อนักเรียน!F34=\"ออก\",รายชื่อนักเรียน!F34=\"ร\",รายชื่อนักเรียน!F34=\"มส\",U34=\"\"),\"\",ROUND(U34/$U$5*$L$5,0)),\"\")","v":""},{"$f":"IF(V34=\"\",\"\",VLOOKUP(V34,ตั้งค่า!$AD$20:$AH$23,5,TRUE))","v":""},{"$f":"IF(V34=\"\",\"\",VLOOKUP(V34,ตั้งค่า!$AD$20:$AH$23,4,TRUE))","v":""},"",{"$f":"IF(Y34=\"\",\"\",VLOOKUP(Y34,ตั้งค่า!$AD$20:$AH$23,5,TRUE))","v":""},{"$f":"IF(Y34=\"\",\"\",VLOOKUP(Y34,ตั้งค่า!$AD$20:$AH$23,4,TRUE))","v":""},0]
[null,{"$f":"รายชื่อนักเรียน!B35","v":0},{"$f":"IF(รายชื่อนักเรียน!C35=\"\",\"\",รายชื่อนักเรียน!C35)","v":""},{"$f":"IF(รายชื่อนักเรียน!E35=\"\",\"\",รายชื่อนักเรียน!E35)","v":""},null,null,null,null,null,null,"",{"$f":"IFERROR(IF(OR(รายชื่อนักเรียน!F35=\"ย้าย\",รายชื่อนักเรียน!F35=\"ออก\",รายชื่อนักเรียน!F35=\"ร\",รายชื่อนักเรียน!F35=\"มส\",K35=\"\"),\"\",ROUND(K35/$K$5*$L$5,0)),\"\")","v":""},{"$f":"IF(L35=\"\",\"\",VLOOKUP(L35,ตั้งค่า!$AD$20:$AH$23,5,TRUE))","v":""},{"$f":"IF(L35=\"\",\"\",VLOOKUP(L35,ตั้งค่า!$AD$20:$AH$23,4,TRUE))","v":""},{"$f":"รายชื่อนักเรียน!F35","v":0},null,null,null,null,null,"",{"$f":"IFERROR(IF(OR(รายชื่อนักเรียน!F35=\"ย้าย\",รายชื่อนักเรียน!F35=\"ออก\",รายชื่อนักเรียน!F35=\"ร\",รายชื่อนักเรียน!F35=\"มส\",U35=\"\"),\"\",ROUND(U35/$U$5*$L$5,0)),\"\")","v":""},{"$f":"IF(V35=\"\",\"\",VLOOKUP(V35,ตั้งค่า!$AD$20:$AH$23,5,TRUE))","v":""},{"$f":"IF(V35=\"\",\"\",VLOOKUP(V35,ตั้งค่า!$AD$20:$AH$23,4,TRUE))","v":""},"",{"$f":"IF(Y35=\"\",\"\",VLOOKUP(Y35,ตั้งค่า!$AD$20:$AH$23,5,TRUE))","v":""},{"$f":"IF(Y35=\"\",\"\",VLOOKUP(Y35,ตั้งค่า!$AD$20:$AH$23,4,TRUE))","v":""},0]
[null,{"$f":"รายชื่อนักเรียน!B36","v":0},{"$f":"IF(รายชื่อนักเรียน!C36=\"\",\"\",รายชื่อนักเรียน!C36)","v":""},{"$f":"IF(รายชื่อนักเรียน!E36=\"\",\"\",รายชื่อนักเรียน!E36)","v":""},null,null,null,null,null,null,"",{"$f":"IFERROR(IF(OR(รายชื่อนักเรียน!F36=\"ย้าย\",รายชื่อนักเรียน!F36=\"ออก\",รายชื่อนักเรียน!F36=\"ร\",รายชื่อนักเรียน!F36=\"มส\",K36=\"\"),\"\",ROUND(K36/$K$5*$L$5,0)),\"\")","v":""},{"$f":"IF(L36=\"\",\"\",VLOOKUP(L36,ตั้งค่า!$AD$20:$AH$23,5,TRUE))","v":""},{"$f":"IF(L36=\"\",\"\",VLOOKUP(L36,ตั้งค่า!$AD$20:$AH$23,4,TRUE))","v":""},{"$f":"รายชื่อนักเรียน!F36","v":0},null,null,null,null,null,"",{"$f":"IFERROR(IF(OR(รายชื่อนักเรียน!F36=\"ย้าย\",รายชื่อนักเรียน!F36=\"ออก\",รายชื่อนักเรียน!F36=\"ร\",รายชื่อนักเรียน!F36=\"มส\",U36=\"\"),\"\",ROUND(U36/$U$5*$L$5,0)),\"\")","v":""},{"$f":"IF(V36=\"\",\"\",VLOOKUP(V36,ตั้งค่า!$AD$20:$AH$23,5,TRUE))","v":""},{"$f":"IF(V36=\"\",\"\",VLOOKUP(V36,ตั้งค่า!$AD$20:$AH$23,4,TRUE))","v":""},"",{"$f":"IF(Y36=\"\",\"\",VLOOKUP(Y36,ตั้งค่า!$AD$20:$AH$23,5,TRUE))","v":""},{"$f":"IF(Y36=\"\",\"\",VLOOKUP(Y36,ตั้งค่า!$AD$20:$AH$23,4,TRUE))","v":""},0]
[null,{"$f":"รายชื่อนักเรียน!B37","v":0},{"$f":"IF(รายชื่อนักเรียน!C37=\"\",\"\",รายชื่อนักเรียน!C37)","v":""},{"$f":"IF(รายชื่อนักเรียน!E37=\"\",\"\",รายชื่อนักเรียน!E37)","v":""},null,null,null,null,null,null,"",{"$f":"IFERROR(IF(OR(รายชื่อนักเรียน!F37=\"ย้าย\",รายชื่อนักเรียน!F37=\"ออก\",รายชื่อนักเรียน!F37=\"ร\",รายชื่อนักเรียน!F37=\"มส\",K37=\"\"),\"\",ROUND(K37/$K$5*$L$5,0)),\"\")","v":""},{"$f":"IF(L37=\"\",\"\",VLOOKUP(L37,ตั้งค่า!$AD$20:$AH$23,5,TRUE))","v":""},{"$f":"IF(L37=\"\",\"\",VLOOKUP(L37,ตั้งค่า!$AD$20:$AH$23,4,TRUE))","v":""},{"$f":"รายชื่อนักเรียน!F37","v":0},null,null,null,null,null,"",{"$f":"IFERROR(IF(OR(รายชื่อนักเรียน!F37=\"ย้าย\",รายชื่อนักเรียน!F37=\"ออก\",รายชื่อนักเรียน!F37=\"ร\",รายชื่อนักเรียน!F37=\"มส\",U37=\"\"),\"\",ROUND(U37/$U$5*$L$5,0)),\"\")","v":""},{"$f":"IF(V37=\"\",\"\",VLOOKUP(V37,ตั้งค่า!$AD$20:$AH$23,5,TRUE))","v":""},{"$f":"IF(V37=\"\",\"\",VLOOKUP(V37,ตั้งค่า!$AD$20:$AH$23,4,TRUE))","v":""},"",{"$f":"IF(Y37=\"\",\"\",VLOOKUP(Y37,ตั้งค่า!$AD$20:$AH$23,5,TRUE))","v":""},{"$f":"IF(Y37=\"\",\"\",VLOOKUP(Y37,ตั้งค่า!$AD$20:$AH$23,4,TRUE))","v":""},0]
[null,{"$f":"รายชื่อนักเรียน!B38","v":0},{"$f":"IF(รายชื่อนักเรียน!C38=\"\",\"\",รายชื่อนักเรียน!C38)","v":""},{"$f":"IF(รายชื่อนักเรียน!E38=\"\",\"\",รายชื่อนักเรียน!E38)","v":""},null,null,null,null,null,null,"",{"$f":"IFERROR(IF(OR(รายชื่อนักเรียน!F38=\"ย้าย\",รายชื่อนักเรียน!F38=\"ออก\",รายชื่อนักเรียน!F38=\"ร\",รายชื่อนักเรียน!F38=\"มส\",K38=\"\"),\"\",ROUND(K38/$K$5*$L$5,0)),\"\")","v":""},{"$f":"IF(L38=\"\",\"\",VLOOKUP(L38,ตั้งค่า!$AD$20:$AH$23,5,TRUE))","v":""},{"$f":"IF(L38=\"\",\"\",VLOOKUP(L38,ตั้งค่า!$AD$20:$AH$23,4,TRUE))","v":""},{"$f":"รายชื่อนักเรียน!F38","v":0},null,null,null,null,null,"",{"$f":"IFERROR(IF(OR(รายชื่อนักเรียน!F38=\"ย้าย\",รายชื่อนักเรียน!F38=\"ออก\",รายชื่อนักเรียน!F38=\"ร\",รายชื่อนักเรียน!F38=\"มส\",U38=\"\"),\"\",ROUND(U38/$U$5*$L$5,0)),\"\")","v":""},{"$f":"IF(V38=\"\",\"\",VLOOKUP(V38,ตั้งค่า!$AD$20:$AH$23,5,TRUE))","v":""},{"$f":"IF(V38=\"\",\"\",VLOOKUP(V38,ตั้งค่า!$AD$20:$AH$23,4,TRUE))","v":""},"",{"$f":"IF(Y38=\"\",\"\",VLOOKUP(Y38,ตั้งค่า!$AD$20:$AH$23,5,TRUE))","v":""},{"$f":"IF(Y38=\"\",\"\",VLOOKUP(Y38,ตั้งค่า!$AD$20:$AH$23,4,TRUE))","v":""},0]
[null,{"$f":"รายชื่อนักเรียน!B39","v":0},{"$f":"IF(รายชื่อนักเรียน!C39=\"\",\"\",รายชื่อนักเรียน!C39)","v":""},{"$f":"IF(รายชื่อนักเรียน!E39=\"\",\"\",รายชื่อนักเรียน!E39)","v":""},null,null,null,null,null,null,"",{"$f":"IFERROR(IF(OR(รายชื่อนักเรียน!F39=\"ย้าย\",รายชื่อนักเรียน!F39=\"ออก\",รายชื่อนักเรียน!F39=\"ร\",รายชื่อนักเรียน!F39=\"มส\",K39=\"\"),\"\",ROUND(K39/$K$5*$L$5,0)),\"\")","v":""},{"$f":"IF(L39=\"\",\"\",VLOOKUP(L39,ตั้งค่า!$AD$20:$AH$23,5,TRUE))","v":""},{"$f":"IF(L39=\"\",\"\",VLOOKUP(L39,ตั้งค่า!$AD$20:$AH$23,4,TRUE))","v":""},{"$f":"รายชื่อนักเรียน!F39","v":0},null,null,null,null,null,"",{"$f":"IFERROR(IF(OR(รายชื่อนักเรียน!F39=\"ย้าย\",รายชื่อนักเรียน!F39=\"ออก\",รายชื่อนักเรียน!F39=\"ร\",รายชื่อนักเรียน!F39=\"มส\",U39=\"\"),\"\",ROUND(U39/$U$5*$L$5,0)),\"\")","v":""},{"$f":"IF(V39=\"\",\"\",VLOOKUP(V39,ตั้งค่า!$AD$20:$AH$23,5,TRUE))","v":""},{"$f":"IF(V39=\"\",\"\",VLOOKUP(V39,ตั้งค่า!$AD$20:$AH$23,4,TRUE))","v":""},"",{"$f":"IF(Y39=\"\",\"\",VLOOKUP(Y39,ตั้งค่า!$AD$20:$AH$23,5,TRUE))","v":""},{"$f":"IF(Y39=\"\",\"\",VLOOKUP(Y39,ตั้งค่า!$AD$20:$AH$23,4,TRUE))","v":""},0]
[null,{"$f":"รายชื่อนักเรียน!B40","v":0},{"$f":"IF(รายชื่อนักเรียน!C40=\"\",\"\",รายชื่อนักเรียน!C40)","v":""},{"$f":"IF(รายชื่อนักเรียน!E40=\"\",\"\",รายชื่อนักเรียน!E40)","v":""},null,null,null,null,null,null,"",{"$f":"IFERROR(IF(OR(รายชื่อนักเรียน!F40=\"ย้าย\",รายชื่อนักเรียน!F40=\"ออก\",รายชื่อนักเรียน!F40=\"ร\",รายชื่อนักเรียน!F40=\"มส\",K40=\"\"),\"\",ROUND(K40/$K$5*$L$5,0)),\"\")","v":""},{"$f":"IF(L40=\"\",\"\",VLOOKUP(L40,ตั้งค่า!$AD$20:$AH$23,5,TRUE))","v":""},{"$f":"IF(L40=\"\",\"\",VLOOKUP(L40,ตั้งค่า!$AD$20:$AH$23,4,TRUE))","v":""},{"$f":"รายชื่อนักเรียน!F40","v":0},null,null,null,null,null,"",{"$f":"IFERROR(IF(OR(รายชื่อนักเรียน!F40=\"ย้าย\",รายชื่อนักเรียน!F40=\"ออก\",รายชื่อนักเรียน!F40=\"ร\",รายชื่อนักเรียน!F40=\"มส\",U40=\"\"),\"\",ROUND(U40/$U$5*$L$5,0)),\"\")","v":""},{"$f":"IF(V40=\"\",\"\",VLOOKUP(V40,ตั้งค่า!$AD$20:$AH$23,5,TRUE))","v":""},{"$f":"IF(V40=\"\",\"\",VLOOKUP(V40,ตั้งค่า!$AD$20:$AH$23,4,TRUE))","v":""},"",{"$f":"IF(Y40=\"\",\"\",VLOOKUP(Y40,ตั้งค่า!$AD$20:$AH$23,5,TRUE))","v":""},{"$f":"IF(Y40=\"\",\"\",VLOOKUP(Y40,ตั้งค่า!$AD$20:$AH$23,4,TRUE))","v":""},0]
[null,{"$f":"รายชื่อนักเรียน!B41","v":0},{"$f":"IF(รายชื่อนักเรียน!C41=\"\",\"\",รายชื่อนักเรียน!C41)","v":""},{"$f":"IF(รายชื่อนักเรียน!E41=\"\",\"\",รายชื่อนักเรียน!E41)","v":""},null,null,null,null,null,null,"",{"$f":"IFERROR(IF(OR(รายชื่อนักเรียน!F41=\"ย้าย\",รายชื่อนักเรียน!F41=\"ออก\",รายชื่อนักเรียน!F41=\"ร\",รายชื่อนักเรียน!F41=\"มส\",K41=\"\"),\"\",ROUND(K41/$K$5*$L$5,0)),\"\")","v":""},{"$f":"IF(L41=\"\",\"\",VLOOKUP(L41,ตั้งค่า!$AD$20:$AH$23,5,TRUE))","v":""},{"$f":"IF(L41=\"\",\"\",VLOOKUP(L41,ตั้งค่า!$AD$20:$AH$23,4,TRUE))","v":""},{"$f":"รายชื่อนักเรียน!F41","v":0},null,null,null,null,null,"",{"$f":"IFERROR(IF(OR(รายชื่อนักเรียน!F41=\"ย้าย\",รายชื่อนักเรียน!F41=\"ออก\",รายชื่อนักเรียน!F41=\"ร\",รายชื่อนักเรียน!F41=\"มส\",U41=\"\"),\"\",ROUND(U41/$U$5*$L$5,0)),\"\")","v":""},{"$f":"IF(V41=\"\",\"\",VLOOKUP(V41,ตั้งค่า!$AD$20:$AH$23,5,TRUE))","v":""},{"$f":"IF(V41=\"\",\"\",VLOOKUP(V41,ตั้งค่า!$AD$20:$AH$23,4,TRUE))","v":""},"",{"$f":"IF(Y41=\"\",\"\",VLOOKUP(Y41,ตั้งค่า!$AD$20:$AH$23,5,TRUE))","v":""},{"$f":"IF(Y41=\"\",\"\",VLOOKUP(Y41,ตั้งค่า!$AD$20:$AH$23,4,TRUE))","v":""},0]
[null,{"$f":"รายชื่อนักเรียน!B42","v":0},{"$f":"IF(รายชื่อนักเรียน!C42=\"\",\"\",รายชื่อนักเรียน!C42)","v":""},{"$f":"IF(รายชื่อนักเรียน!E42=\"\",\"\",รายชื่อนักเรียน!E42)","v":""},null,null,null,null,null,null,"",{"$f":"IFERROR(IF(OR(รายชื่อนักเรียน!F42=\"ย้าย\",รายชื่อนักเรียน!F42=\"ออก\",รายชื่อนักเรียน!F42=\"ร\",รายชื่อนักเรียน!F42=\"มส\",K42=\"\"),\"\",ROUND(K42/$K$5*$L$5,0)),\"\")","v":""},{"$f":"IF(L42=\"\",\"\",VLOOKUP(L42,ตั้งค่า!$AD$20:$AH$23,5,TRUE))","v":""},{"$f":"IF(L42=\"\",\"\",VLOOKUP(L42,ตั้งค่า!$AD$20:$AH$23,4,TRUE))","v":""},{"$f":"รายชื่อนักเรียน!F42","v":0},null,null,null,null,null,"",{"$f":"IFERROR(IF(OR(รายชื่อนักเรียน!F42=\"ย้าย\",รายชื่อนักเรียน!F42=\"ออก\",รายชื่อนักเรียน!F42=\"ร\",รายชื่อนักเรียน!F42=\"มส\",U42=\"\"),\"\",ROUND(U42/$U$5*$L$5,0)),\"\")","v":""},{"$f":"IF(V42=\"\",\"\",VLOOKUP(V42,ตั้งค่า!$AD$20:$AH$23,5,TRUE))","v":""},{"$f":"IF(V42=\"\",\"\",VLOOKUP(V42,ตั้งค่า!$AD$20:$AH$23,4,TRUE))","v":""},"",{"$f":"IF(Y42=\"\",\"\",VLOOKUP(Y42,ตั้งค่า!$AD$20:$AH$23,5,TRUE))","v":""},{"$f":"IF(Y42=\"\",\"\",VLOOKUP(Y42,ตั้งค่า!$AD$20:$AH$23,4,TRUE))","v":""},0]
[null,{"$f":"รายชื่อนักเรียน!B43","v":0},{"$f":"IF(รายชื่อนักเรียน!C43=\"\",\"\",รายชื่อนักเรียน!C43)","v":""},{"$f":"IF(รายชื่อนักเรียน!E43=\"\",\"\",รายชื่อนักเรียน!E43)","v":""},null,null,null,null,null,null,"",{"$f":"IFERROR(IF(OR(รายชื่อนักเรียน!F43=\"ย้าย\",รายชื่อนักเรียน!F43=\"ออก\",รายชื่อนักเรียน!F43=\"ร\",รายชื่อนักเรียน!F43=\"มส\",K43=\"\"),\"\",ROUND(K43/$K$5*$L$5,0)),\"\")","v":""},{"$f":"IF(L43=\"\",\"\",VLOOKUP(L43,ตั้งค่า!$AD$20:$AH$23,5,TRUE))","v":""},{"$f":"IF(L43=\"\",\"\",VLOOKUP(L43,ตั้งค่า!$AD$20:$AH$23,4,TRUE))","v":""},{"$f":"รายชื่อนักเรียน!F43","v":0},null,null,null,null,null,"",{"$f":"IFERROR(IF(OR(รายชื่อนักเรียน!F43=\"ย้าย\",รายชื่อนักเรียน!F43=\"ออก\",รายชื่อนักเรียน!F43=\"ร\",รายชื่อนักเรียน!F43=\"มส\",U43=\"\"),\"\",ROUND(U43/$U$5*$L$5,0)),\"\")","v":""},{"$f":"IF(V43=\"\",\"\",VLOOKUP(V43,ตั้งค่า!$AD$20:$AH$23,5,TRUE))","v":""},{"$f":"IF(V43=\"\",\"\",VLOOKUP(V43,ตั้งค่า!$AD$20:$AH$23,4,TRUE))","v":""},"",{"$f":"IF(Y43=\"\",\"\",VLOOKUP(Y43,ตั้งค่า!$AD$20:$AH$23,5,TRUE))","v":""},{"$f":"IF(Y43=\"\",\"\",VLOOKUP(Y43,ตั้งค่า!$AD$20:$AH$23,4,TRUE))","v":""},0]
[null,{"$f":"รายชื่อนักเรียน!B44","v":0},{"$f":"IF(รายชื่อนักเรียน!C44=\"\",\"\",รายชื่อนักเรียน!C44)","v":""},{"$f":"IF(รายชื่อนักเรียน!E44=\"\",\"\",รายชื่อนักเรียน!E44)","v":""},null,null,null,null,null,null,"",{"$f":"IFERROR(IF(OR(รายชื่อนักเรียน!F44=\"ย้าย\",รายชื่อนักเรียน!F44=\"ออก\",รายชื่อนักเรียน!F44=\"ร\",รายชื่อนักเรียน!F44=\"มส\",K44=\"\"),\"\",ROUND(K44/$K$5*$L$5,0)),\"\")","v":""},{"$f":"IF(L44=\"\",\"\",VLOOKUP(L44,ตั้งค่า!$AD$20:$AH$23,5,TRUE))","v":""},{"$f":"IF(L44=\"\",\"\",VLOOKUP(L44,ตั้งค่า!$AD$20:$AH$23,4,TRUE))","v":""},{"$f":"รายชื่อนักเรียน!F44","v":0},null,null,null,null,null,"",{"$f":"IFERROR(IF(OR(รายชื่อนักเรียน!F44=\"ย้าย\",รายชื่อนักเรียน!F44=\"ออก\",รายชื่อนักเรียน!F44=\"ร\",รายชื่อนักเรียน!F44=\"มส\",U44=\"\"),\"\",ROUND(U44/$U$5*$L$5,0)),\"\")","v":""},{"$f":"IF(V44=\"\",\"\",VLOOKUP(V44,ตั้งค่า!$AD$20:$AH$23,5,TRUE))","v":""},{"$f":"IF(V44=\"\",\"\",VLOOKUP(V44,ตั้งค่า!$AD$20:$AH$23,4,TRUE))","v":""},"",{"$f":"IF(Y44=\"\",\"\",VLOOKUP(Y44,ตั้งค่า!$AD$20:$AH$23,5,TRUE))","v":""},{"$f":"IF(Y44=\"\",\"\",VLOOKUP(Y44,ตั้งค่า!$AD$20:$AH$23,4,TRUE))","v":""},0]
[null,{"$f":"รายชื่อนักเรียน!B45","v":0},{"$f":"IF(รายชื่อนักเรียน!C45=\"\",\"\",รายชื่อนักเรียน!C45)","v":""},{"$f":"IF(รายชื่อนักเรียน!E45=\"\",\"\",รายชื่อนักเรียน!E45)","v":""},null,null,null,null,null,null,"",{"$f":"IFERROR(IF(OR(รายชื่อนักเรียน!F45=\"ย้าย\",รายชื่อนักเรียน!F45=\"ออก\",รายชื่อนักเรียน!F45=\"ร\",รายชื่อนักเรียน!F45=\"มส\",K45=\"\"),\"\",ROUND(K45/$K$5*$L$5,0)),\"\")","v":""},{"$f":"IF(L45=\"\",\"\",VLOOKUP(L45,ตั้งค่า!$AD$20:$AH$23,5,TRUE))","v":""},{"$f":"IF(L45=\"\",\"\",VLOOKUP(L45,ตั้งค่า!$AD$20:$AH$23,4,TRUE))","v":""},{"$f":"รายชื่อนักเรียน!F45","v":0},null,null,null,null,null,"",{"$f":"IFERROR(IF(OR(รายชื่อนักเรียน!F45=\"ย้าย\",รายชื่อนักเรียน!F45=\"ออก\",รายชื่อนักเรียน!F45=\"ร\",รายชื่อนักเรียน!F45=\"มส\",U45=\"\"),\"\",ROUND(U45/$U$5*$L$5,0)),\"\")","v":""},{"$f":"IF(V45=\"\",\"\",VLOOKUP(V45,ตั้งค่า!$AD$20:$AH$23,5,TRUE))","v":""},{"$f":"IF(V45=\"\",\"\",VLOOKUP(V45,ตั้งค่า!$AD$20:$AH$23,4,TRUE))","v":""},"",{"$f":"IF(Y45=\"\",\"\",VLOOKUP(Y45,ตั้งค่า!$AD$20:$AH$23,5,TRUE))","v":""},{"$f":"IF(Y45=\"\",\"\",VLOOKUP(Y45,ตั้งค่า!$AD$20:$AH$23,4,TRUE))","v":""},0]
[null,{"$f":"รายชื่อนักเรียน!B46","v":0},{"$f":"IF(รายชื่อนักเรียน!C46=\"\",\"\",รายชื่อนักเรียน!C46)","v":""},{"$f":"IF(รายชื่อนักเรียน!E46=\"\",\"\",รายชื่อนักเรียน!E46)","v":""},null,null,null,null,null,null,{"$f":"IF(D46=\"\",\"\",SUM(F46:J46))","v":""},{"$f":"IFERROR(IF(OR(รายชื่อนักเรียน!F46=\"ย้าย\",รายชื่อนักเรียน!F46=\"ออก\",รายชื่อนักเรียน!F46=\"ร\",รายชื่อนักเรียน!F46=\"มส\",K46=\"\"),\"\",ROUND(K46/$K$5*$L$5,0)),\"\")","v":""},{"$f":"IF(L46=\"\",\"\",VLOOKUP(L46,ตั้งค่า!$AD$20:$AH$23,5,TRUE))","v":""},{"$f":"IF(L46=\"\",\"\",VLOOKUP(L46,ตั้งค่า!$AD$20:$AH$23,4,TRUE))","v":""},{"$f":"รายชื่อนักเรียน!F46","v":0},null,null,null,null,null,{"$f":"IF(D46=\"\",\"\",SUM(P46:T46))","v":""},{"$f":"IFERROR(IF(OR(รายชื่อนักเรียน!F46=\"ย้าย\",รายชื่อนักเรียน!F46=\"ออก\",รายชื่อนักเรียน!F46=\"ร\",รายชื่อนักเรียน!F46=\"มส\",U46=\"\"),\"\",ROUND(U46/$U$5*$L$5,0)),\"\")","v":""},{"$f":"IF(V46=\"\",\"\",VLOOKUP(V46,ตั้งค่า!$AD$20:$AH$23,5,TRUE))","v":""},{"$f":"IF(V46=\"\",\"\",VLOOKUP(V46,ตั้งค่า!$AD$20:$AH$23,4,TRUE))","v":""},{"$f":"IF(ISERROR(L46+V46)/2,\"\",(L46+V46)/2)","v":""},{"$f":"IF(Y46=\"\",\"\",VLOOKUP(Y46,ตั้งค่า!$AD$20:$AH$23,5,TRUE))","v":""},{"$f":"IF(Y46=\"\",\"\",VLOOKUP(Y46,ตั้งค่า!$AD$20:$AH$23,4,TRUE))","v":""},{"$f":"O46","v":0}]
[null,{"$f":"รายชื่อนักเรียน!B47","v":0},{"$f":"IF(รายชื่อนักเรียน!C47=\"\",\"\",รายชื่อนักเรียน!C47)","v":""},{"$f":"IF(รายชื่อนักเรียน!E47=\"\",\"\",รายชื่อนักเรียน!E47)","v":""},null,null,null,null,null,null,"",{"$f":"IFERROR(IF(OR(รายชื่อนักเรียน!F47=\"ย้าย\",รายชื่อนักเรียน!F47=\"ออก\",รายชื่อนักเรียน!F47=\"ร\",รายชื่อนักเรียน!F47=\"มส\",K47=\"\"),\"\",ROUND(K47/$K$5*$L$5,0)),\"\")","v":""},{"$f":"IF(L47=\"\",\"\",VLOOKUP(L47,ตั้งค่า!$AD$20:$AH$23,5,TRUE))","v":""},{"$f":"IF(L47=\"\",\"\",VLOOKUP(L47,ตั้งค่า!$AD$20:$AH$23,4,TRUE))","v":""},{"$f":"รายชื่อนักเรียน!F47","v":0},null,null,null,null,null,"",{"$f":"IFERROR(IF(OR(รายชื่อนักเรียน!F47=\"ย้าย\",รายชื่อนักเรียน!F47=\"ออก\",รายชื่อนักเรียน!F47=\"ร\",รายชื่อนักเรียน!F47=\"มส\",U47=\"\"),\"\",ROUND(U47/$U$5*$L$5,0)),\"\")","v":""},{"$f":"IF(V47=\"\",\"\",VLOOKUP(V47,ตั้งค่า!$AD$20:$AH$23,5,TRUE))","v":""},{"$f":"IF(V47=\"\",\"\",VLOOKUP(V47,ตั้งค่า!$AD$20:$AH$23,4,TRUE))","v":""},"",{"$f":"IF(Y47=\"\",\"\",VLOOKUP(Y47,ตั้งค่า!$AD$20:$AH$23,5,TRUE))","v":""},{"$f":"IF(Y47=\"\",\"\",VLOOKUP(Y47,ตั้งค่า!$AD$20:$AH$23,4,TRUE))","v":""},0]
[null,{"$f":"รายชื่อนักเรียน!B48","v":0},{"$f":"IF(รายชื่อนักเรียน!C48=\"\",\"\",รายชื่อนักเรียน!C48)","v":""},{"$f":"IF(รายชื่อนักเรียน!E48=\"\",\"\",รายชื่อนักเรียน!E48)","v":""},null,null,null,null,null,null,"",{"$f":"IFERROR(IF(OR(รายชื่อนักเรียน!F48=\"ย้าย\",รายชื่อนักเรียน!F48=\"ออก\",รายชื่อนักเรียน!F48=\"ร\",รายชื่อนักเรียน!F48=\"มส\",K48=\"\"),\"\",ROUND(K48/$K$5*$L$5,0)),\"\")","v":""},{"$f":"IF(L48=\"\",\"\",VLOOKUP(L48,ตั้งค่า!$AD$20:$AH$23,5,TRUE))","v":""},{"$f":"IF(L48=\"\",\"\",VLOOKUP(L48,ตั้งค่า!$AD$20:$AH$23,4,TRUE))","v":""},{"$f":"รายชื่อนักเรียน!F48","v":0},null,null,null,null,null,"",{"$f":"IFERROR(IF(OR(รายชื่อนักเรียน!F48=\"ย้าย\",รายชื่อนักเรียน!F48=\"ออก\",รายชื่อนักเรียน!F48=\"ร\",รายชื่อนักเรียน!F48=\"มส\",U48=\"\"),\"\",ROUND(U48/$U$5*$L$5,0)),\"\")","v":""},{"$f":"IF(V48=\"\",\"\",VLOOKUP(V48,ตั้งค่า!$AD$20:$AH$23,5,TRUE))","v":""},{"$f":"IF(V48=\"\",\"\",VLOOKUP(V48,ตั้งค่า!$AD$20:$AH$23,4,TRUE))","v":""},"",{"$f":"IF(Y48=\"\",\"\",VLOOKUP(Y48,ตั้งค่า!$AD$20:$AH$23,5,TRUE))","v":""},{"$f":"IF(Y48=\"\",\"\",VLOOKUP(Y48,ตั้งค่า!$AD$20:$AH$23,4,TRUE))","v":""},0]
[null,{"$f":"รายชื่อนักเรียน!B49","v":0},{"$f":"IF(รายชื่อนักเรียน!C49=\"\",\"\",รายชื่อนักเรียน!C49)","v":""},{"$f":"IF(รายชื่อนักเรียน!E49=\"\",\"\",รายชื่อนักเรียน!E49)","v":""},null,null,null,null,null,null,"",{"$f":"IFERROR(IF(OR(รายชื่อนักเรียน!F49=\"ย้าย\",รายชื่อนักเรียน!F49=\"ออก\",รายชื่อนักเรียน!F49=\"ร\",รายชื่อนักเรียน!F49=\"มส\",K49=\"\"),\"\",ROUND(K49/$K$5*$L$5,0)),\"\")","v":""},{"$f":"IF(L49=\"\",\"\",VLOOKUP(L49,ตั้งค่า!$AD$20:$AH$23,5,TRUE))","v":""},{"$f":"IF(L49=\"\",\"\",VLOOKUP(L49,ตั้งค่า!$AD$20:$AH$23,4,TRUE))","v":""},{"$f":"รายชื่อนักเรียน!F49","v":0},null,null,null,null,null,"",{"$f":"IFERROR(IF(OR(รายชื่อนักเรียน!F49=\"ย้าย\",รายชื่อนักเรียน!F49=\"ออก\",รายชื่อนักเรียน!F49=\"ร\",รายชื่อนักเรียน!F49=\"มส\",U49=\"\"),\"\",ROUND(U49/$U$5*$L$5,0)),\"\")","v":""},{"$f":"IF(V49=\"\",\"\",VLOOKUP(V49,ตั้งค่า!$AD$20:$AH$23,5,TRUE))","v":""},{"$f":"IF(V49=\"\",\"\",VLOOKUP(V49,ตั้งค่า!$AD$20:$AH$23,4,TRUE))","v":""},"",{"$f":"IF(Y49=\"\",\"\",VLOOKUP(Y49,ตั้งค่า!$AD$20:$AH$23,5,TRUE))","v":""},{"$f":"IF(Y49=\"\",\"\",VLOOKUP(Y49,ตั้งค่า!$AD$20:$AH$23,4,TRUE))","v":""},0]
[null,{"$f":"รายชื่อนักเรียน!B50","v":0},{"$f":"IF(รายชื่อนักเรียน!C50=\"\",\"\",รายชื่อนักเรียน!C50)","v":""},{"$f":"IF(รายชื่อนักเรียน!E50=\"\",\"\",รายชื่อนักเรียน!E50)","v":""},null,null,null,null,null,null,"",{"$f":"IFERROR(IF(OR(รายชื่อนักเรียน!F50=\"ย้าย\",รายชื่อนักเรียน!F50=\"ออก\",รายชื่อนักเรียน!F50=\"ร\",รายชื่อนักเรียน!F50=\"มส\",K50=\"\"),\"\",ROUND(K50/$K$5*$L$5,0)),\"\")","v":""},{"$f":"IF(L50=\"\",\"\",VLOOKUP(L50,ตั้งค่า!$AD$20:$AH$23,5,TRUE))","v":""},{"$f":"IF(L50=\"\",\"\",VLOOKUP(L50,ตั้งค่า!$AD$20:$AH$23,4,TRUE))","v":""},{"$f":"รายชื่อนักเรียน!F50","v":0},null,null,null,null,null,"",{"$f":"IFERROR(IF(OR(รายชื่อนักเรียน!F50=\"ย้าย\",รายชื่อนักเรียน!F50=\"ออก\",รายชื่อนักเรียน!F50=\"ร\",รายชื่อนักเรียน!F50=\"มส\",U50=\"\"),\"\",ROUND(U50/$U$5*$L$5,0)),\"\")","v":""},{"$f":"IF(V50=\"\",\"\",VLOOKUP(V50,ตั้งค่า!$AD$20:$AH$23,5,TRUE))","v":""},{"$f":"IF(V50=\"\",\"\",VLOOKUP(V50,ตั้งค่า!$AD$20:$AH$23,4,TRUE))","v":""},"",{"$f":"IF(Y50=\"\",\"\",VLOOKUP(Y50,ตั้งค่า!$AD$20:$AH$23,5,TRUE))","v":""},{"$f":"IF(Y50=\"\",\"\",VLOOKUP(Y50,ตั้งค่า!$AD$20:$AH$23,4,TRUE))","v":""},0]

{"sheet":"ประเมินสมรรถนะ","index":13,"n_rows":50,"n_cols":35,"rows_kept":50,"cut":false,"hidden":false,"merged":[[12,30,12,34],[15,29,15,30],[15,34,15,35],[4,31,4,34],[0,1,0,8],[1,1,4,1],[1,2,4,2],[1,3,4,3],[1,5,1,14],[1,27,4,27],[2,10,3,10],[2,11,3,11],[2,12,4,12],[2,13,4,13],[2,14,4,14],[1,15,1,23],[6,3,6,4],[2,15,3,15],[2,16,3,16],[2,17,3,17],[2,18,3,18],[2,23,4,23],[3,24,4,24],[3,25,4,25],[3,26,4,26],[5,3,5,4],[1,24,2,26],[2,19,3,19],[2,21,3,21],[2,22,4,22],[2,20,3,20],[18,3,18,4],[7,3,7,4],[8,3,8,4],[9,3,9,4],[10,3,10,4],[11,3,11,4],[12,3,12,4],[13,3,13,4],[14,3,14,4],[15,3,15,4],[16,3,16,4],[17,3,17,4],[30,3,30,4],[19,3,19,4],[20,3,20,4],[21,3,21,4],[22,3,22,4],[23,3,23,4],[24,3,24,4],[25,3,25,4],[26,3,26,4],[27,3,27,4],[28,3,28,4],[29,3,29,4],[42,3,42,4],[39,3,39,4],[40,3,40,4],[31,3,31,4],[32,3,32,4],[33,3,33,4],[34,3,34,4],[35,3,35,4],[41,3,41,4],[36,3,36,4],[37,3,37,4],[38,3,38,4],[16,29,16,30],[3,30,3,34],[5,30,5,32],[49,3,49,4],[2,5,3,5],[2,6,3,6],[2,7,3,7],[2,8,3,8],[2,9,3,9],[2,4,3,4],[43,3,43,4],[44,3,44,4],[45,3,45,4],[46,3,46,4],[47,3,47,4],[48,3,48,4]]}
[null,"ประเมินสมรรถนะสำคัญของผู้เรียน"]
[null,"เลขที่","เลขประจำตัว","ชื่อ - สกุล",null,"ผลการประเมินสมรรถนะสำคัญของผู้เรียน ภาคเรียนที่ 1",null,null,null,null,null,null,null,null,null,"ผลการประเมินสมรรถนะสำคัญของผู้เรียน ภาคเรียนที่ 2",null,null,null,null,null,null,null,null,"สรุปผลการประเมิน",null,null,"หมายเหตุ"]
[null,null,null,null,"สมรรถนะสำคัญของผู้เรียน 5 ด้าน"," 1. ความสามารถในการสื่อสาร"," 2. ความสามารถในการคิด"," 3. ความสามารถในการแก้ปัญหา"," 4. ความสามารถในการใช้ทักษะชีวิต"," 5. ความสามารถในการใช้เทคโนโลยี","รวมคะแนน","ร้อยละ","ผลการประเมิน","ระดับคุณภาพ","หมายเหตุ"," 1. ความสามารถในการสื่อสาร"," 2. ความสามารถในการคิด"," 3. ความสามารถในการแก้ปัญหา"," 4. ความสามารถในการใช้ทักษะชีวิต"," 5. ความสามารถในการใช้เทคโนโลยี","รวม","ร้อยละ","ผลการประเมิน","ระดับคุณภาพ"]
[null,null,null,null,null,null,null,null,null,null,null,null,null,null,null,null,null,null,null,null,null,null,null,null,"ร้อยละ","ผลการประเมิน","ระดับคุณภาพ",null,null,null,"เกณฑ์การประเมินสมรรถนะสำคัญของผู้เรียน"]
[null,null,null,null,"คะแนนเต็ม",3,3,3,3,3,{"$f":"IF(SUM(F5:J5),SUM(F5:J5),\"\")","v":15},100,null,null,null,3,3,3,3,3,{"$f":"IF(SUM(P5:T5),SUM(P5:T5),\"\")","v":15},100,null,null,null,null,null,null,null,null,"หมายเหตุ","คะแนนเต็มแต่ละด้านสามารถกำหนดได้อิสระ"]
[null,{"$f":"รายชื่อนักเรียน!B6","v":0},{"$f":"IF(รายชื่อนักเรียน!C6=\"\",\"\",รายชื่อนักเรียน!C6)","v":""},{"$f":"IF(รายชื่อนักเรียน!E6=\"\",\"\",รายชื่อนักเรียน!E6)","v":""},null,null,null,null,null,null,{"$f":"IF(D6=\"\",\"\",SUM(F6:J6))","v":""},{"$f":"IFERROR(IF(OR(รายชื่อนักเรียน!F6=\"ย้าย\",รายชื่อนักเรียน!F6=\"ออก\",รายชื่อนักเรียน!F6=\"ร\",รายชื่อนักเรียน!F6=\"มส\",K6=\"\"),\"\",ROUND(K6/$K$5*$L$5,0)),\"\")","v":""},{"$f":"IF(L6=\"\",\"\",VLOOKUP(L6,ตั้งค่า!$AD$25:$AH$28,5,TRUE))","v":""},{"$f":"IF(L6=\"\",\"\",VLOOKUP(L6,ตั้งค่า!$AD$25:$AH$28,4,TRUE))","v":""},{"$f":"รายชื่อนักเรียน!F6","v":0},null,null,null,null,null,{"$f":"IF(D6=\"\",\"\",SUM(P6:T6))","v":""},{"$f":"IFERROR(IF(OR(รายชื่อนักเรียน!F6=\"ย้าย\",รายชื่อนักเรียน!F6=\"ออก\",รายชื่อนักเรียน!F6=\"ร\",รายชื่อนักเรียน!F6=\"มส\",U6=\"\"),\"\",ROUND(U6/$U$5*$L$5,0)),\"\")","v":""},{"$f":"IF(V6=\"\",\"\",VLOOKUP(V6,ตั้งค่า!$AD$25:$AH$28,5,TRUE))","v":""},{"$f":"IF(V6=\"\",\"\",VLOOKUP(V6,ตั้งค่า!$AD$25:$AH$28,4,TRUE))","v":""},{"$f":"IF(ISERROR(L6+V6)/2,\"\",(L6+V6)/2)","v":""},{"$f":"IF(Y6=\"\",\"\",VLOOKUP(Y6,ตั้งค่า!$AD$25:$AH$28,5,TRUE))","v":""},{"$f":"IF(Y6=\"\",\"\",VLOOKUP(Y6,ตั้งค่า!$AD$25:$AH$28,4,TRUE))","v":""},{"$f":"O6","v":0},"ย้าย",null,"ช่วงคะแนนเป็นร้อยละ",null,null,"ความหมาย","ระดับผลการประเมิน"]
[null,{"$f":"รายชื่อนักเรียน!B7","v":0},{"$f":"IF(รายชื่อนักเรียน!C7=\"\",\"\",รายชื่อนักเรียน!C7)","v":""},{"$f":"IF(รายชื่อนักเรียน!E7=\"\",\"\",รายชื่อนักเรียน!E7)","v":""},null,null,null,null,null,null,{"$f":"IF(D7=\"\",\"\",SUM(F7:J7))","v":""},{"$f":"IFERROR(IF(OR(รายชื่อนักเรียน!F7=\"ย้าย\",รายชื่อนักเรียน!F7=\"ออก\",รายชื่อนักเรียน!F7=\"ร\",รายชื่อนักเรียน!F7=\"มส\",K7=\"\"),\"\",ROUND(K7/$K$5*$L$5,0)),\"\")","v":""},{"$f":"IF(L7=\"\",\"\",VLOOKUP(L7,ตั้งค่า!$AD$25:$AH$28,5,TRUE))","v":""},{"$f":"IF(L7=\"\",\"\",VLOOKUP(L7,ตั้งค่า!$AD$25:$AH$28,4,TRUE))","v":""},{"$f":"รายชื่อนักเรียน!F7","v":0},null,null,null,null,null,{"$f":"IF(D7=\"\",\"\",SUM(P7:T7))","v":""},{"$f":"IFERROR(IF(OR(รายชื่อนักเรียน!F7=\"ย้าย\",รายชื่อนักเรียน!F7=\"ออก\",รายชื่อนักเรียน!F7=\"ร\",รายชื่อนักเรียน!F7=\"มส\",U7=\"\"),\"\",ROUND(U7/$U$5*$L$5,0)),\"\")","v":""},{"$f":"IF(V7=\"\",\"\",VLOOKUP(V7,ตั้งค่า!$AD$25:$AH$28,5,TRUE))","v":""},{"$f":"IF(V7=\"\",\"\",VLOOKUP(V7,ตั้งค่า!$AD$25:$AH$28,4,TRUE))","v":""},"",{"$f":"IF(Y7=\"\",\"\",VLOOKUP(Y7,ตั้งค่า!$AD$25:$AH$28,5,TRUE))","v":""},{"$f":"IF(Y7=\"\",\"\",VLOOKUP(Y7,ตั้งค่า!$AD$25:$AH$28,4,TRUE))","v":""},{"$f":"O7","v":0},null,null,0," -",49,"ปรับปรุง",0]
[null,{"$f":"รายชื่อนักเรียน!B8","v":0},{"$f":"IF(รายชื่อนักเรียน!C8=\"\",\"\",รายชื่อนักเรียน!C8)","v":""},{"$f":"IF(รายชื่อนักเรียน!E8=\"\",\"\",รายชื่อนักเรียน!E8)","v":""},null,null,null,null,null,null,"",{"$f":"IFERROR(IF(OR(รายชื่อนักเรียน!F8=\"ย้าย\",รายชื่อนักเรียน!F8=\"ออก\",รายชื่อนักเรียน!F8=\"ร\",รายชื่อนักเรียน!F8=\"มส\",K8=\"\"),\"\",ROUND(K8/$K$5*$L$5,0)),\"\")","v":""},{"$f":"IF(L8=\"\",\"\",VLOOKUP(L8,ตั้งค่า!$AD$25:$AH$28,5,TRUE))","v":""},{"$f":"IF(L8=\"\",\"\",VLOOKUP(L8,ตั้งค่า!$AD$25:$AH$28,4,TRUE))","v":""},{"$f":"รายชื่อนักเรียน!F8","v":0},null,null,null,null,null,"",{"$f":"IFERROR(IF(OR(รายชื่อนักเรียน!F8=\"ย้าย\",รายชื่อนักเรียน!F8=\"ออก\",รายชื่อนักเรียน!F8=\"ร\",รายชื่อนักเรียน!F8=\"มส\",U8=\"\"),\"\",ROUND(U8/$U$5*$L$5,0)),\"\")","v":""},{"$f":"IF(V8=\"\",\"\",VLOOKUP(V8,ตั้งค่า!$AD$25:$AH$28,5,TRUE))","v":""},{"$f":"IF(V8=\"\",\"\",VLOOKUP(V8,ตั้งค่า!$AD$25:$AH$28,4,TRUE))","v":""},"",{"$f":"IF(Y8=\"\",\"\",VLOOKUP(Y8,ตั้งค่า!$AD$25:$AH$28,5,TRUE))","v":""},{"$f":"IF(Y8=\"\",\"\",VLOOKUP(Y8,ตั้งค่า!$AD$25:$AH$28,4,TRUE))","v":""},0,null,null,50," -",64,"พอใช้",1]
[null,{"$f":"รายชื่อนักเรียน!B9","v":0},{"$f":"IF(รายชื่อนักเรียน!C9=\"\",\"\",รายชื่อนักเรียน!C9)","v":""},{"$f":"IF(รายชื่อนักเรียน!E9=\"\",\"\",รายชื่อนักเรียน!E9)","v":""},null,null,null,null,null,null,"",{"$f":"IFERROR(IF(OR(รายชื่อนักเรียน!F9=\"ย้าย\",รายชื่อนักเรียน!F9=\"ออก\",รายชื่อนักเรียน!F9=\"ร\",รายชื่อนักเรียน!F9=\"มส\",K9=\"\"),\"\",ROUND(K9/$K$5*$L$5,0)),\"\")","v":""},{"$f":"IF(L9=\"\",\"\",VLOOKUP(L9,ตั้งค่า!$AD$25:$AH$28,5,TRUE))","v":""},{"$f":"IF(L9=\"\",\"\",VLOOKUP(L9,ตั้งค่า!$AD$25:$AH$28,4,TRUE))","v":""},{"$f":"รายชื่อนักเรียน!F9","v":0},null,null,null,null,null,"",{"$f":"IFERROR(IF(OR(รายชื่อนักเรียน!F9=\"ย้าย\",รายชื่อนักเรียน!F9=\"ออก\",รายชื่อนักเรียน!F9=\"ร\",รายชื่อนักเรียน!F9=\"มส\",U9=\"\"),\"\",ROUND(U9/$U$5*$L$5,0)),\"\")","v":""},{"$f":"IF(V9=\"\",\"\",VLOOKUP(V9,ตั้งค่า!$AD$25:$AH$28,5,TRUE))","v":""},{"$f":"IF(V9=\"\",\"\",VLOOKUP(V9,ตั้งค่า!$AD$25:$AH$28,4,TRUE))","v":""},"",{"$f":"IF(Y9=\"\",\"\",VLOOKUP(Y9,ตั้งค่า!$AD$25:$AH$28,5,TRUE))","v":""},{"$f":"IF(Y9=\"\",\"\",VLOOKUP(Y9,ตั้งค่า!$AD$25:$AH$28,4,TRUE))","v":""},0,null,null,65," -",79,"ดี",2]
[null,{"$f":"รายชื่อนักเรียน!B10","v":0},{"$f":"IF(รายชื่อนักเรียน!C10=\"\",\"\",รายชื่อนักเรียน!C10)","v":""},{"$f":"IF(รายชื่อนักเรียน!E10=\"\",\"\",รายชื่อนักเรียน!E10)","v":""},null,null,null,null,null,null,"",{"$f":"IFERROR(IF(OR(รายชื่อนักเรียน!F10=\"ย้าย\",รายชื่อนักเรียน!F10=\"ออก\",รายชื่อนักเรียน!F10=\"ร\",รายชื่อนักเรียน!F10=\"มส\",K10=\"\"),\"\",ROUND(K10/$K$5*$L$5,0)),\"\")","v":""},{"$f":"IF(L10=\"\",\"\",VLOOKUP(L10,ตั้งค่า!$AD$25:$AH$28,5,TRUE))","v":""},{"$f":"IF(L10=\"\",\"\",VLOOKUP(L10,ตั้งค่า!$AD$25:$AH$28,4,TRUE))","v":""},{"$f":"รายชื่อนักเรียน!F10","v":0},null,null,null,null,null,"",{"$f":"IFERROR(IF(OR(รายชื่อนักเรียน!F10=\"ย้าย\",รายชื่อนักเรียน!F10=\"ออก\",รายชื่อนักเรียน!F10=\"ร\",รายชื่อนักเรียน!F10=\"มส\",U10=\"\"),\"\",ROUND(U10/$U$5*$L$5,0)),\"\")","v":""},{"$f":"IF(V10=\"\",\"\",VLOOKUP(V10,ตั้งค่า!$AD$25:$AH$28,5,TRUE))","v":""},{"$f":"IF(V10=\"\",\"\",VLOOKUP(V10,ตั้งค่า!$AD$25:$AH$28,4,TRUE))","v":""},"",{"$f":"IF(Y10=\"\",\"\",VLOOKUP(Y10,ตั้งค่า!$AD$25:$AH$28,5,TRUE))","v":""},{"$f":"IF(Y10=\"\",\"\",VLOOKUP(Y10,ตั้งค่า!$AD$25:$AH$28,4,TRUE))","v":""},0,null,null,80," -",100,"ดีเยี่ยม",3]
[null,{"$f":"รายชื่อนักเรียน!B11","v":0},{"$f":"IF(รายชื่อนักเรียน!C11=\"\",\"\",รายชื่อนักเรียน!C11)","v":""},{"$f":"IF(รายชื่อนักเรียน!E11=\"\",\"\",รายชื่อนักเรียน!E11)","v":""},null,null,null,null,null,null,"",{"$f":"IFERROR(IF(OR(รายชื่อนักเรียน!F11=\"ย้าย\",รายชื่อนักเรียน!F11=\"ออก\",รายชื่อนักเรียน!F11=\"ร\",รายชื่อนักเรียน!F11=\"มส\",K11=\"\"),\"\",ROUND(K11/$K$5*$L$5,0)),\"\")","v":""},{"$f":"IF(L11=\"\",\"\",VLOOKUP(L11,ตั้งค่า!$AD$25:$AH$28,5,TRUE))","v":""},{"$f":"IF(L11=\"\",\"\",VLOOKUP(L11,ตั้งค่า!$AD$25:$AH$28,4,TRUE))","v":""},{"$f":"รายชื่อนักเรียน!F11","v":0},null,null,null,null,null,"",{"$f":"IFERROR(IF(OR(รายชื่อนักเรียน!F11=\"ย้าย\",รายชื่อนักเรียน!F11=\"ออก\",รายชื่อนักเรียน!F11=\"ร\",รายชื่อนักเรียน!F11=\"มส\",U11=\"\"),\"\",ROUND(U11/$U$5*$L$5,0)),\"\")","v":""},{"$f":"IF(V11=\"\",\"\",VLOOKUP(V11,ตั้งค่า!$AD$25:$AH$28,5,TRUE))","v":""},{"$f":"IF(V11=\"\",\"\",VLOOKUP(V11,ตั้งค่า!$AD$25:$AH$28,4,TRUE))","v":""},"",{"$f":"IF(Y11=\"\",\"\",VLOOKUP(Y11,ตั้งค่า!$AD$25:$AH$28,5,TRUE))","v":""},{"$f":"IF(Y11=\"\",\"\",VLOOKUP(Y11,ตั้งค่า!$AD$25:$AH$28,4,TRUE))","v":""},0]
[null,{"$f":"รายชื่อนักเรียน!B12","v":0},{"$f":"IF(รายชื่อนักเรียน!C12=\"\",\"\",รายชื่อนักเรียน!C12)","v":""},{"$f":"IF(รายชื่อนักเรียน!E12=\"\",\"\",รายชื่อนักเรียน!E12)","v":""},null,null,null,null,null,null,"",{"$f":"IFERROR(IF(OR(รายชื่อนักเรียน!F12=\"ย้าย\",รายชื่อนักเรียน!F12=\"ออก\",รายชื่อนักเรียน!F12=\"ร\",รายชื่อนักเรียน!F12=\"มส\",K12=\"\"),\"\",ROUND(K12/$K$5*$L$5,0)),\"\")","v":""},{"$f":"IF(L12=\"\",\"\",VLOOKUP(L12,ตั้งค่า!$AD$25:$AH$28,5,TRUE))","v":""},{"$f":"IF(L12=\"\",\"\",VLOOKUP(L12,ตั้งค่า!$AD$25:$AH$28,4,TRUE))","v":""},{"$f":"รายชื่อนักเรียน!F12","v":0},null,null,null,null,null,"",{"$f":"IFERROR(IF(OR(รายชื่อนักเรียน!F12=\"ย้าย\",รายชื่อนักเรียน!F12=\"ออก\",รายชื่อนักเรียน!F12=\"ร\",รายชื่อนักเรียน!F12=\"มส\",U12=\"\"),\"\",ROUND(U12/$U$5*$L$5,0)),\"\")","v":""},{"$f":"IF(V12=\"\",\"\",VLOOKUP(V12,ตั้งค่า!$AD$25:$AH$28,5,TRUE))","v":""},{"$f":"IF(V12=\"\",\"\",VLOOKUP(V12,ตั้งค่า!$AD$25:$AH$28,4,TRUE))","v":""},"",{"$f":"IF(Y12=\"\",\"\",VLOOKUP(Y12,ตั้งค่า!$AD$25:$AH$28,5,TRUE))","v":""},{"$f":"IF(Y12=\"\",\"\",VLOOKUP(Y12,ตั้งค่า!$AD$25:$AH$28,4,TRUE))","v":""},0]
[null,{"$f":"รายชื่อนักเรียน!B13","v":0},{"$f":"IF(รายชื่อนักเรียน!C13=\"\",\"\",รายชื่อนักเรียน!C13)","v":""},{"$f":"IF(รายชื่อนักเรียน!E13=\"\",\"\",รายชื่อนักเรียน!E13)","v":""},null,null,null,null,null,null,"",{"$f":"IFERROR(IF(OR(รายชื่อนักเรียน!F13=\"ย้าย\",รายชื่อนักเรียน!F13=\"ออก\",รายชื่อนักเรียน!F13=\"ร\",รายชื่อนักเรียน!F13=\"มส\",K13=\"\"),\"\",ROUND(K13/$K$5*$L$5,0)),\"\")","v":""},{"$f":"IF(L13=\"\",\"\",VLOOKUP(L13,ตั้งค่า!$AD$25:$AH$28,5,TRUE))","v":""},{"$f":"IF(L13=\"\",\"\",VLOOKUP(L13,ตั้งค่า!$AD$25:$AH$28,4,TRUE))","v":""},{"$f":"รายชื่อนักเรียน!F13","v":0},null,null,null,null,null,"",{"$f":"IFERROR(IF(OR(รายชื่อนักเรียน!F13=\"ย้าย\",รายชื่อนักเรียน!F13=\"ออก\",รายชื่อนักเรียน!F13=\"ร\",รายชื่อนักเรียน!F13=\"มส\",U13=\"\"),\"\",ROUND(U13/$U$5*$L$5,0)),\"\")","v":""},{"$f":"IF(V13=\"\",\"\",VLOOKUP(V13,ตั้งค่า!$AD$25:$AH$28,5,TRUE))","v":""},{"$f":"IF(V13=\"\",\"\",VLOOKUP(V13,ตั้งค่า!$AD$25:$AH$28,4,TRUE))","v":""},"",{"$f":"IF(Y13=\"\",\"\",VLOOKUP(Y13,ตั้งค่า!$AD$25:$AH$28,5,TRUE))","v":""},{"$f":"IF(Y13=\"\",\"\",VLOOKUP(Y13,ตั้งค่า!$AD$25:$AH$28,4,TRUE))","v":""},0,null,null,"สรุปผลการประเมินสมรรถนะสำคัญของผู้เรียน"]
[null,{"$f":"รายชื่อนักเรียน!B14","v":0},{"$f":"IF(รายชื่อนักเรียน!C14=\"\",\"\",รายชื่อนักเรียน!C14)","v":""},{"$f":"IF(รายชื่อนักเรียน!E14=\"\",\"\",รายชื่อนักเรียน!E14)","v":""},null,null,null,null,null,null,"",{"$f":"IFERROR(IF(OR(รายชื่อนักเรียน!F14=\"ย้าย\",รายชื่อนักเรียน!F14=\"ออก\",รายชื่อนักเรียน!F14=\"ร\",รายชื่อนักเรียน!F14=\"มส\",K14=\"\"),\"\",ROUND(K14/$K$5*$L$5,0)),\"\")","v":""},{"$f":"IF(L14=\"\",\"\",VLOOKUP(L14,ตั้งค่า!$AD$25:$AH$28,5,TRUE))","v":""},{"$f":"IF(L14=\"\",\"\",VLOOKUP(L14,ตั้งค่า!$AD$25:$AH$28,4,TRUE))","v":""},{"$f":"รายชื่อนักเรียน!F14","v":0},null,null,null,null,null,"",{"$f":"IFERROR(IF(OR(รายชื่อนักเรียน!F14=\"ย้าย\",รายชื่อนักเรียน!F14=\"ออก\",รายชื่อนักเรียน!F14=\"ร\",รายชื่อนักเรียน!F14=\"มส\",U14=\"\"),\"\",ROUND(U14/$U$5*$L$5,0)),\"\")","v":""},{"$f":"IF(V14=\"\",\"\",VLOOKUP(V14,ตั้งค่า!$AD$25:$AH$28,5,TRUE))","v":""},{"$f":"IF(V14=\"\",\"\",VLOOKUP(V14,ตั้งค่า!$AD$25:$AH$28,4,TRUE))","v":""},"",{"$f":"IF(Y14=\"\",\"\",VLOOKUP(Y14,ตั้งค่า!$AD$25:$AH$28,5,TRUE))","v":""},{"$f":"IF(Y14=\"\",\"\",VLOOKUP(Y14,ตั้งค่า!$AD$25:$AH$28,4,TRUE))","v":""},0,null,null,"ระดับคุณภาพ",3,2,1,0]
[null,{"$f":"รายชื่อนักเรียน!B15","v":0},{"$f":"IF(รายชื่อนักเรียน!C15=\"\",\"\",รายชื่อนักเรียน!C15)","v":""},{"$f":"IF(รายชื่อนักเรียน!E15=\"\",\"\",รายชื่อนักเรียน!E15)","v":""},null,null,null,null,null,null,"",{"$f":"IFERROR(IF(OR(รายชื่อนักเรียน!F15=\"ย้าย\",รายชื่อนักเรียน!F15=\"ออก\",รายชื่อนักเรียน!F15=\"ร\",รายชื่อนักเรียน!F15=\"มส\",K15=\"\"),\"\",ROUND(K15/$K$5*$L$5,0)),\"\")","v":""},{"$f":"IF(L15=\"\",\"\",VLOOKUP(L15,ตั้งค่า!$AD$25:$AH$28,5,TRUE))","v":""},{"$f":"IF(L15=\"\",\"\",VLOOKUP(L15,ตั้งค่า!$AD$25:$AH$28,4,TRUE))","v":""},{"$f":"รายชื่อนักเรียน!F15","v":0},null,null,null,null,null,"",{"$f":"IFERROR(IF(OR(รายชื่อนักเรียน!F15=\"ย้าย\",รายชื่อนักเรียน!F15=\"ออก\",รายชื่อนักเรียน!F15=\"ร\",รายชื่อนักเรียน!F15=\"มส\",U15=\"\"),\"\",ROUND(U15/$U$5*$L$5,0)),\"\")","v":""},{"$f":"IF(V15=\"\",\"\",VLOOKUP(V15,ตั้งค่า!$AD$25:$AH$28,5,TRUE))","v":""},{"$f":"IF(V15=\"\",\"\",VLOOKUP(V15,ตั้งค่า!$AD$25:$AH$28,4,TRUE))","v":""},"",{"$f":"IF(Y15=\"\",\"\",VLOOKUP(Y15,ตั้งค่า!$AD$25:$AH$28,5,TRUE))","v":""},{"$f":"IF(Y15=\"\",\"\",VLOOKUP(Y15,ตั้งค่า!$AD$25:$AH$28,4,TRUE))","v":""},0,null,null,"จำนวน",{"$f":"COUNTIF($AA$6:$AA$50,\"ดีเยี่ยม\")","v":0},{"$f":"COUNTIF($AA$6:$AA$50,\"ดี\")","v":0},{"$f":"COUNTIF($AA$6:$AA$50,\"พอใช้\")","v":0},{"$f":"COUNTIF($AA$6:$AA$50,\"ปรับปรุง\")","v":0}]
[null,{"$f":"รายชื่อนักเรียน!B16","v":0},{"$f":"IF(รายชื่อนักเรียน!C16=\"\",\"\",รายชื่อนักเรียน!C16)","v":""},{"$f":"IF(รายชื่อนักเรียน!E16=\"\",\"\",รายชื่อนักเรียน!E16)","v":""},null,null,null,null,null,null,"",{"$f":"IFERROR(IF(OR(รายชื่อนักเรียน!F16=\"ย้าย\",รายชื่อนักเรียน!F16=\"ออก\",รายชื่อนักเรียน!F16=\"ร\",รายชื่อนักเรียน!F16=\"มส\",K16=\"\"),\"\",ROUND(K16/$K$5*$L$5,0)),\"\")","v":""},{"$f":"IF(L16=\"\",\"\",VLOOKUP(L16,ตั้งค่า!$AD$25:$AH$28,5,TRUE))","v":""},{"$f":"IF(L16=\"\",\"\",VLOOKUP(L16,ตั้งค่า!$AD$25:$AH$28,4,TRUE))","v":""},{"$f":"รายชื่อนักเรียน!F16","v":0},null,null,null,null,null,"",{"$f":"IFERROR(IF(OR(รายชื่อนักเรียน!F16=\"ย้าย\",รายชื่อนักเรียน!F16=\"ออก\",รายชื่อนักเรียน!F16=\"ร\",รายชื่อนักเรียน!F16=\"มส\",U16=\"\"),\"\",ROUND(U16/$U$5*$L$5,0)),\"\")","v":""},{"$f":"IF(V16=\"\",\"\",VLOOKUP(V16,ตั้งค่า!$AD$25:$AH$28,5,TRUE))","v":""},{"$f":"IF(V16=\"\",\"\",VLOOKUP(V16,ตั้งค่า!$AD$25:$AH$28,4,TRUE))","v":""},"",{"$f":"IF(Y16=\"\",\"\",VLOOKUP(Y16,ตั้งค่า!$AD$25:$AH$28,5,TRUE))","v":""},{"$f":"IF(Y16=\"\",\"\",VLOOKUP(Y16,ตั้งค่า!$AD$25:$AH$28,4,TRUE))","v":""},0]
[null,{"$f":"รายชื่อนักเรียน!B17","v":0},{"$f":"IF(รายชื่อนักเรียน!C17=\"\",\"\",รายชื่อนักเรียน!C17)","v":""},{"$f":"IF(รายชื่อนักเรียน!E17=\"\",\"\",รายชื่อนักเรียน!E17)","v":""},null,null,null,null,null,null,"",{"$f":"IFERROR(IF(OR(รายชื่อนักเรียน!F17=\"ย้าย\",รายชื่อนักเรียน!F17=\"ออก\",รายชื่อนักเรียน!F17=\"ร\",รายชื่อนักเรียน!F17=\"มส\",K17=\"\"),\"\",ROUND(K17/$K$5*$L$5,0)),\"\")","v":""},{"$f":"IF(L17=\"\",\"\",VLOOKUP(L17,ตั้งค่า!$AD$25:$AH$28,5,TRUE))","v":""},{"$f":"IF(L17=\"\",\"\",VLOOKUP(L17,ตั้งค่า!$AD$25:$AH$28,4,TRUE))","v":""},{"$f":"รายชื่อนักเรียน!F17","v":0},null,null,null,null,null,"",{"$f":"IFERROR(IF(OR(รายชื่อนักเรียน!F17=\"ย้าย\",รายชื่อนักเรียน!F17=\"ออก\",รายชื่อนักเรียน!F17=\"ร\",รายชื่อนักเรียน!F17=\"มส\",U17=\"\"),\"\",ROUND(U17/$U$5*$L$5,0)),\"\")","v":""},{"$f":"IF(V17=\"\",\"\",VLOOKUP(V17,ตั้งค่า!$AD$25:$AH$28,5,TRUE))","v":""},{"$f":"IF(V17=\"\",\"\",VLOOKUP(V17,ตั้งค่า!$AD$25:$AH$28,4,TRUE))","v":""},"",{"$f":"IF(Y17=\"\",\"\",VLOOKUP(Y17,ตั้งค่า!$AD$25:$AH$28,5,TRUE))","v":""},{"$f":"IF(Y17=\"\",\"\",VLOOKUP(Y17,ตั้งค่า!$AD$25:$AH$28,4,TRUE))","v":""},0]
[null,{"$f":"รายชื่อนักเรียน!B18","v":0},{"$f":"IF(รายชื่อนักเรียน!C18=\"\",\"\",รายชื่อนักเรียน!C18)","v":""},{"$f":"IF(รายชื่อนักเรียน!E18=\"\",\"\",รายชื่อนักเรียน!E18)","v":""},null,null,null,null,null,null,"",{"$f":"IFERROR(IF(OR(รายชื่อนักเรียน!F18=\"ย้าย\",รายชื่อนักเรียน!F18=\"ออก\",รายชื่อนักเรียน!F18=\"ร\",รายชื่อนักเรียน!F18=\"มส\",K18=\"\"),\"\",ROUND(K18/$K$5*$L$5,0)),\"\")","v":""},{"$f":"IF(L18=\"\",\"\",VLOOKUP(L18,ตั้งค่า!$AD$25:$AH$28,5,TRUE))","v":""},{"$f":"IF(L18=\"\",\"\",VLOOKUP(L18,ตั้งค่า!$AD$25:$AH$28,4,TRUE))","v":""},{"$f":"รายชื่อนักเรียน!F18","v":0},null,null,null,null,null,"",{"$f":"IFERROR(IF(OR(รายชื่อนักเรียน!F18=\"ย้าย\",รายชื่อนักเรียน!F18=\"ออก\",รายชื่อนักเรียน!F18=\"ร\",รายชื่อนักเรียน!F18=\"มส\",U18=\"\"),\"\",ROUND(U18/$U$5*$L$5,0)),\"\")","v":""},{"$f":"IF(V18=\"\",\"\",VLOOKUP(V18,ตั้งค่า!$AD$25:$AH$28,5,TRUE))","v":""},{"$f":"IF(V18=\"\",\"\",VLOOKUP(V18,ตั้งค่า!$AD$25:$AH$28,4,TRUE))","v":""},"",{"$f":"IF(Y18=\"\",\"\",VLOOKUP(Y18,ตั้งค่า!$AD$25:$AH$28,5,TRUE))","v":""},{"$f":"IF(Y18=\"\",\"\",VLOOKUP(Y18,ตั้งค่า!$AD$25:$AH$28,4,TRUE))","v":""},0]
[null,{"$f":"รายชื่อนักเรียน!B19","v":0},{"$f":"IF(รายชื่อนักเรียน!C19=\"\",\"\",รายชื่อนักเรียน!C19)","v":""},{"$f":"IF(รายชื่อนักเรียน!E19=\"\",\"\",รายชื่อนักเรียน!E19)","v":""},null,null,null,null,null,null,"",{"$f":"IFERROR(IF(OR(รายชื่อนักเรียน!F19=\"ย้าย\",รายชื่อนักเรียน!F19=\"ออก\",รายชื่อนักเรียน!F19=\"ร\",รายชื่อนักเรียน!F19=\"มส\",K19=\"\"),\"\",ROUND(K19/$K$5*$L$5,0)),\"\")","v":""},{"$f":"IF(L19=\"\",\"\",VLOOKUP(L19,ตั้งค่า!$AD$25:$AH$28,5,TRUE))","v":""},{"$f":"IF(L19=\"\",\"\",VLOOKUP(L19,ตั้งค่า!$AD$25:$AH$28,4,TRUE))","v":""},{"$f":"รายชื่อนักเรียน!F19","v":0},null,null,null,null,null,"",{"$f":"IFERROR(IF(OR(รายชื่อนักเรียน!F19=\"ย้าย\",รายชื่อนักเรียน!F19=\"ออก\",รายชื่อนักเรียน!F19=\"ร\",รายชื่อนักเรียน!F19=\"มส\",U19=\"\"),\"\",ROUND(U19/$U$5*$L$5,0)),\"\")","v":""},{"$f":"IF(V19=\"\",\"\",VLOOKUP(V19,ตั้งค่า!$AD$25:$AH$28,5,TRUE))","v":""},{"$f":"IF(V19=\"\",\"\",VLOOKUP(V19,ตั้งค่า!$AD$25:$AH$28,4,TRUE))","v":""},"",{"$f":"IF(Y19=\"\",\"\",VLOOKUP(Y19,ตั้งค่า!$AD$25:$AH$28,5,TRUE))","v":""},{"$f":"IF(Y19=\"\",\"\",VLOOKUP(Y19,ตั้งค่า!$AD$25:$AH$28,4,TRUE))","v":""},0]
[null,{"$f":"รายชื่อนักเรียน!B20","v":0},{"$f":"IF(รายชื่อนักเรียน!C20=\"\",\"\",รายชื่อนักเรียน!C20)","v":""},{"$f":"IF(รายชื่อนักเรียน!E20=\"\",\"\",รายชื่อนักเรียน!E20)","v":""},null,null,null,null,null,null,"",{"$f":"IFERROR(IF(OR(รายชื่อนักเรียน!F20=\"ย้าย\",รายชื่อนักเรียน!F20=\"ออก\",รายชื่อนักเรียน!F20=\"ร\",รายชื่อนักเรียน!F20=\"มส\",K20=\"\"),\"\",ROUND(K20/$K$5*$L$5,0)),\"\")","v":""},{"$f":"IF(L20=\"\",\"\",VLOOKUP(L20,ตั้งค่า!$AD$25:$AH$28,5,TRUE))","v":""},{"$f":"IF(L20=\"\",\"\",VLOOKUP(L20,ตั้งค่า!$AD$25:$AH$28,4,TRUE))","v":""},{"$f":"รายชื่อนักเรียน!F20","v":0},null,null,null,null,null,"",{"$f":"IFERROR(IF(OR(รายชื่อนักเรียน!F20=\"ย้าย\",รายชื่อนักเรียน!F20=\"ออก\",รายชื่อนักเรียน!F20=\"ร\",รายชื่อนักเรียน!F20=\"มส\",U20=\"\"),\"\",ROUND(U20/$U$5*$L$5,0)),\"\")","v":""},{"$f":"IF(V20=\"\",\"\",VLOOKUP(V20,ตั้งค่า!$AD$25:$AH$28,5,TRUE))","v":""},{"$f":"IF(V20=\"\",\"\",VLOOKUP(V20,ตั้งค่า!$AD$25:$AH$28,4,TRUE))","v":""},"",{"$f":"IF(Y20=\"\",\"\",VLOOKUP(Y20,ตั้งค่า!$AD$25:$AH$28,5,TRUE))","v":""},{"$f":"IF(Y20=\"\",\"\",VLOOKUP(Y20,ตั้งค่า!$AD$25:$AH$28,4,TRUE))","v":""},0]
[null,{"$f":"รายชื่อนักเรียน!B21","v":0},{"$f":"IF(รายชื่อนักเรียน!C21=\"\",\"\",รายชื่อนักเรียน!C21)","v":""},{"$f":"IF(รายชื่อนักเรียน!E21=\"\",\"\",รายชื่อนักเรียน!E21)","v":""},null,null,null,null,null,null,"",{"$f":"IFERROR(IF(OR(รายชื่อนักเรียน!F21=\"ย้าย\",รายชื่อนักเรียน!F21=\"ออก\",รายชื่อนักเรียน!F21=\"ร\",รายชื่อนักเรียน!F21=\"มส\",K21=\"\"),\"\",ROUND(K21/$K$5*$L$5,0)),\"\")","v":""},{"$f":"IF(L21=\"\",\"\",VLOOKUP(L21,ตั้งค่า!$AD$25:$AH$28,5,TRUE))","v":""},{"$f":"IF(L21=\"\",\"\",VLOOKUP(L21,ตั้งค่า!$AD$25:$AH$28,4,TRUE))","v":""},{"$f":"รายชื่อนักเรียน!F21","v":0},null,null,null,null,null,"",{"$f":"IFERROR(IF(OR(รายชื่อนักเรียน!F21=\"ย้าย\",รายชื่อนักเรียน!F21=\"ออก\",รายชื่อนักเรียน!F21=\"ร\",รายชื่อนักเรียน!F21=\"มส\",U21=\"\"),\"\",ROUND(U21/$U$5*$L$5,0)),\"\")","v":""},{"$f":"IF(V21=\"\",\"\",VLOOKUP(V21,ตั้งค่า!$AD$25:$AH$28,5,TRUE))","v":""},{"$f":"IF(V21=\"\",\"\",VLOOKUP(V21,ตั้งค่า!$AD$25:$AH$28,4,TRUE))","v":""},"",{"$f":"IF(Y21=\"\",\"\",VLOOKUP(Y21,ตั้งค่า!$AD$25:$AH$28,5,TRUE))","v":""},{"$f":"IF(Y21=\"\",\"\",VLOOKUP(Y21,ตั้งค่า!$AD$25:$AH$28,4,TRUE))","v":""},0]
[null,{"$f":"รายชื่อนักเรียน!B22","v":0},{"$f":"IF(รายชื่อนักเรียน!C22=\"\",\"\",รายชื่อนักเรียน!C22)","v":""},{"$f":"IF(รายชื่อนักเรียน!E22=\"\",\"\",รายชื่อนักเรียน!E22)","v":""},null,null,null,null,null,null,"",{"$f":"IFERROR(IF(OR(รายชื่อนักเรียน!F22=\"ย้าย\",รายชื่อนักเรียน!F22=\"ออก\",รายชื่อนักเรียน!F22=\"ร\",รายชื่อนักเรียน!F22=\"มส\",K22=\"\"),\"\",ROUND(K22/$K$5*$L$5,0)),\"\")","v":""},{"$f":"IF(L22=\"\",\"\",VLOOKUP(L22,ตั้งค่า!$AD$25:$AH$28,5,TRUE))","v":""},{"$f":"IF(L22=\"\",\"\",VLOOKUP(L22,ตั้งค่า!$AD$25:$AH$28,4,TRUE))","v":""},{"$f":"รายชื่อนักเรียน!F22","v":0},null,null,null,null,null,"",{"$f":"IFERROR(IF(OR(รายชื่อนักเรียน!F22=\"ย้าย\",รายชื่อนักเรียน!F22=\"ออก\",รายชื่อนักเรียน!F22=\"ร\",รายชื่อนักเรียน!F22=\"มส\",U22=\"\"),\"\",ROUND(U22/$U$5*$L$5,0)),\"\")","v":""},{"$f":"IF(V22=\"\",\"\",VLOOKUP(V22,ตั้งค่า!$AD$25:$AH$28,5,TRUE))","v":""},{"$f":"IF(V22=\"\",\"\",VLOOKUP(V22,ตั้งค่า!$AD$25:$AH$28,4,TRUE))","v":""},"",{"$f":"IF(Y22=\"\",\"\",VLOOKUP(Y22,ตั้งค่า!$AD$25:$AH$28,5,TRUE))","v":""},{"$f":"IF(Y22=\"\",\"\",VLOOKUP(Y22,ตั้งค่า!$AD$25:$AH$28,4,TRUE))","v":""},0]
[null,{"$f":"รายชื่อนักเรียน!B23","v":0},{"$f":"IF(รายชื่อนักเรียน!C23=\"\",\"\",รายชื่อนักเรียน!C23)","v":""},{"$f":"IF(รายชื่อนักเรียน!E23=\"\",\"\",รายชื่อนักเรียน!E23)","v":""},null,null,null,null,null,null,"",{"$f":"IFERROR(IF(OR(รายชื่อนักเรียน!F23=\"ย้าย\",รายชื่อนักเรียน!F23=\"ออก\",รายชื่อนักเรียน!F23=\"ร\",รายชื่อนักเรียน!F23=\"มส\",K23=\"\"),\"\",ROUND(K23/$K$5*$L$5,0)),\"\")","v":""},{"$f":"IF(L23=\"\",\"\",VLOOKUP(L23,ตั้งค่า!$AD$25:$AH$28,5,TRUE))","v":""},{"$f":"IF(L23=\"\",\"\",VLOOKUP(L23,ตั้งค่า!$AD$25:$AH$28,4,TRUE))","v":""},{"$f":"รายชื่อนักเรียน!F23","v":0},null,null,null,null,null,"",{"$f":"IFERROR(IF(OR(รายชื่อนักเรียน!F23=\"ย้าย\",รายชื่อนักเรียน!F23=\"ออก\",รายชื่อนักเรียน!F23=\"ร\",รายชื่อนักเรียน!F23=\"มส\",U23=\"\"),\"\",ROUND(U23/$U$5*$L$5,0)),\"\")","v":""},{"$f":"IF(V23=\"\",\"\",VLOOKUP(V23,ตั้งค่า!$AD$25:$AH$28,5,TRUE))","v":""},{"$f":"IF(V23=\"\",\"\",VLOOKUP(V23,ตั้งค่า!$AD$25:$AH$28,4,TRUE))","v":""},"",{"$f":"IF(Y23=\"\",\"\",VLOOKUP(Y23,ตั้งค่า!$AD$25:$AH$28,5,TRUE))","v":""},{"$f":"IF(Y23=\"\",\"\",VLOOKUP(Y23,ตั้งค่า!$AD$25:$AH$28,4,TRUE))","v":""},0]
[null,{"$f":"รายชื่อนักเรียน!B24","v":0},{"$f":"IF(รายชื่อนักเรียน!C24=\"\",\"\",รายชื่อนักเรียน!C24)","v":""},{"$f":"IF(รายชื่อนักเรียน!E24=\"\",\"\",รายชื่อนักเรียน!E24)","v":""},null,null,null,null,null,null,"",{"$f":"IFERROR(IF(OR(รายชื่อนักเรียน!F24=\"ย้าย\",รายชื่อนักเรียน!F24=\"ออก\",รายชื่อนักเรียน!F24=\"ร\",รายชื่อนักเรียน!F24=\"มส\",K24=\"\"),\"\",ROUND(K24/$K$5*$L$5,0)),\"\")","v":""},{"$f":"IF(L24=\"\",\"\",VLOOKUP(L24,ตั้งค่า!$AD$25:$AH$28,5,TRUE))","v":""},{"$f":"IF(L24=\"\",\"\",VLOOKUP(L24,ตั้งค่า!$AD$25:$AH$28,4,TRUE))","v":""},{"$f":"รายชื่อนักเรียน!F24","v":0},null,null,null,null,null,"",{"$f":"IFERROR(IF(OR(รายชื่อนักเรียน!F24=\"ย้าย\",รายชื่อนักเรียน!F24=\"ออก\",รายชื่อนักเรียน!F24=\"ร\",รายชื่อนักเรียน!F24=\"มส\",U24=\"\"),\"\",ROUND(U24/$U$5*$L$5,0)),\"\")","v":""},{"$f":"IF(V24=\"\",\"\",VLOOKUP(V24,ตั้งค่า!$AD$25:$AH$28,5,TRUE))","v":""},{"$f":"IF(V24=\"\",\"\",VLOOKUP(V24,ตั้งค่า!$AD$25:$AH$28,4,TRUE))","v":""},"",{"$f":"IF(Y24=\"\",\"\",VLOOKUP(Y24,ตั้งค่า!$AD$25:$AH$28,5,TRUE))","v":""},{"$f":"IF(Y24=\"\",\"\",VLOOKUP(Y24,ตั้งค่า!$AD$25:$AH$28,4,TRUE))","v":""},0]
[null,{"$f":"รายชื่อนักเรียน!B25","v":0},{"$f":"IF(รายชื่อนักเรียน!C25=\"\",\"\",รายชื่อนักเรียน!C25)","v":""},{"$f":"IF(รายชื่อนักเรียน!E25=\"\",\"\",รายชื่อนักเรียน!E25)","v":""},null,null,null,null,null,null,"",{"$f":"IFERROR(IF(OR(รายชื่อนักเรียน!F25=\"ย้าย\",รายชื่อนักเรียน!F25=\"ออก\",รายชื่อนักเรียน!F25=\"ร\",รายชื่อนักเรียน!F25=\"มส\",K25=\"\"),\"\",ROUND(K25/$K$5*$L$5,0)),\"\")","v":""},{"$f":"IF(L25=\"\",\"\",VLOOKUP(L25,ตั้งค่า!$AD$25:$AH$28,5,TRUE))","v":""},{"$f":"IF(L25=\"\",\"\",VLOOKUP(L25,ตั้งค่า!$AD$25:$AH$28,4,TRUE))","v":""},{"$f":"รายชื่อนักเรียน!F25","v":0},null,null,null,null,null,"",{"$f":"IFERROR(IF(OR(รายชื่อนักเรียน!F25=\"ย้าย\",รายชื่อนักเรียน!F25=\"ออก\",รายชื่อนักเรียน!F25=\"ร\",รายชื่อนักเรียน!F25=\"มส\",U25=\"\"),\"\",ROUND(U25/$U$5*$L$5,0)),\"\")","v":""},{"$f":"IF(V25=\"\",\"\",VLOOKUP(V25,ตั้งค่า!$AD$25:$AH$28,5,TRUE))","v":""},{"$f":"IF(V25=\"\",\"\",VLOOKUP(V25,ตั้งค่า!$AD$25:$AH$28,4,TRUE))","v":""},"",{"$f":"IF(Y25=\"\",\"\",VLOOKUP(Y25,ตั้งค่า!$AD$25:$AH$28,5,TRUE))","v":""},{"$f":"IF(Y25=\"\",\"\",VLOOKUP(Y25,ตั้งค่า!$AD$25:$AH$28,4,TRUE))","v":""},0]
[null,{"$f":"รายชื่อนักเรียน!B26","v":0},{"$f":"IF(รายชื่อนักเรียน!C26=\"\",\"\",รายชื่อนักเรียน!C26)","v":""},{"$f":"IF(รายชื่อนักเรียน!E26=\"\",\"\",รายชื่อนักเรียน!E26)","v":""},null,null,null,null,null,null,"",{"$f":"IFERROR(IF(OR(รายชื่อนักเรียน!F26=\"ย้าย\",รายชื่อนักเรียน!F26=\"ออก\",รายชื่อนักเรียน!F26=\"ร\",รายชื่อนักเรียน!F26=\"มส\",K26=\"\"),\"\",ROUND(K26/$K$5*$L$5,0)),\"\")","v":""},{"$f":"IF(L26=\"\",\"\",VLOOKUP(L26,ตั้งค่า!$AD$25:$AH$28,5,TRUE))","v":""},{"$f":"IF(L26=\"\",\"\",VLOOKUP(L26,ตั้งค่า!$AD$25:$AH$28,4,TRUE))","v":""},{"$f":"รายชื่อนักเรียน!F26","v":0},null,null,null,null,null,"",{"$f":"IFERROR(IF(OR(รายชื่อนักเรียน!F26=\"ย้าย\",รายชื่อนักเรียน!F26=\"ออก\",รายชื่อนักเรียน!F26=\"ร\",รายชื่อนักเรียน!F26=\"มส\",U26=\"\"),\"\",ROUND(U26/$U$5*$L$5,0)),\"\")","v":""},{"$f":"IF(V26=\"\",\"\",VLOOKUP(V26,ตั้งค่า!$AD$25:$AH$28,5,TRUE))","v":""},{"$f":"IF(V26=\"\",\"\",VLOOKUP(V26,ตั้งค่า!$AD$25:$AH$28,4,TRUE))","v":""},"",{"$f":"IF(Y26=\"\",\"\",VLOOKUP(Y26,ตั้งค่า!$AD$25:$AH$28,5,TRUE))","v":""},{"$f":"IF(Y26=\"\",\"\",VLOOKUP(Y26,ตั้งค่า!$AD$25:$AH$28,4,TRUE))","v":""},0]
[null,{"$f":"รายชื่อนักเรียน!B27","v":0},{"$f":"IF(รายชื่อนักเรียน!C27=\"\",\"\",รายชื่อนักเรียน!C27)","v":""},{"$f":"IF(รายชื่อนักเรียน!E27=\"\",\"\",รายชื่อนักเรียน!E27)","v":""},null,null,null,null,null,null,"",{"$f":"IFERROR(IF(OR(รายชื่อนักเรียน!F27=\"ย้าย\",รายชื่อนักเรียน!F27=\"ออก\",รายชื่อนักเรียน!F27=\"ร\",รายชื่อนักเรียน!F27=\"มส\",K27=\"\"),\"\",ROUND(K27/$K$5*$L$5,0)),\"\")","v":""},{"$f":"IF(L27=\"\",\"\",VLOOKUP(L27,ตั้งค่า!$AD$25:$AH$28,5,TRUE))","v":""},{"$f":"IF(L27=\"\",\"\",VLOOKUP(L27,ตั้งค่า!$AD$25:$AH$28,4,TRUE))","v":""},{"$f":"รายชื่อนักเรียน!F27","v":0},null,null,null,null,null,"",{"$f":"IFERROR(IF(OR(รายชื่อนักเรียน!F27=\"ย้าย\",รายชื่อนักเรียน!F27=\"ออก\",รายชื่อนักเรียน!F27=\"ร\",รายชื่อนักเรียน!F27=\"มส\",U27=\"\"),\"\",ROUND(U27/$U$5*$L$5,0)),\"\")","v":""},{"$f":"IF(V27=\"\",\"\",VLOOKUP(V27,ตั้งค่า!$AD$25:$AH$28,5,TRUE))","v":""},{"$f":"IF(V27=\"\",\"\",VLOOKUP(V27,ตั้งค่า!$AD$25:$AH$28,4,TRUE))","v":""},"",{"$f":"IF(Y27=\"\",\"\",VLOOKUP(Y27,ตั้งค่า!$AD$25:$AH$28,5,TRUE))","v":""},{"$f":"IF(Y27=\"\",\"\",VLOOKUP(Y27,ตั้งค่า!$AD$25:$AH$28,4,TRUE))","v":""},0]
[null,{"$f":"รายชื่อนักเรียน!B28","v":0},{"$f":"IF(รายชื่อนักเรียน!C28=\"\",\"\",รายชื่อนักเรียน!C28)","v":""},{"$f":"IF(รายชื่อนักเรียน!E28=\"\",\"\",รายชื่อนักเรียน!E28)","v":""},null,null,null,null,null,null,"",{"$f":"IFERROR(IF(OR(รายชื่อนักเรียน!F28=\"ย้าย\",รายชื่อนักเรียน!F28=\"ออก\",รายชื่อนักเรียน!F28=\"ร\",รายชื่อนักเรียน!F28=\"มส\",K28=\"\"),\"\",ROUND(K28/$K$5*$L$5,0)),\"\")","v":""},{"$f":"IF(L28=\"\",\"\",VLOOKUP(L28,ตั้งค่า!$AD$25:$AH$28,5,TRUE))","v":""},{"$f":"IF(L28=\"\",\"\",VLOOKUP(L28,ตั้งค่า!$AD$25:$AH$28,4,TRUE))","v":""},{"$f":"รายชื่อนักเรียน!F28","v":0},null,null,null,null,null,"",{"$f":"IFERROR(IF(OR(รายชื่อนักเรียน!F28=\"ย้าย\",รายชื่อนักเรียน!F28=\"ออก\",รายชื่อนักเรียน!F28=\"ร\",รายชื่อนักเรียน!F28=\"มส\",U28=\"\"),\"\",ROUND(U28/$U$5*$L$5,0)),\"\")","v":""},{"$f":"IF(V28=\"\",\"\",VLOOKUP(V28,ตั้งค่า!$AD$25:$AH$28,5,TRUE))","v":""},{"$f":"IF(V28=\"\",\"\",VLOOKUP(V28,ตั้งค่า!$AD$25:$AH$28,4,TRUE))","v":""},"",{"$f":"IF(Y28=\"\",\"\",VLOOKUP(Y28,ตั้งค่า!$AD$25:$AH$28,5,TRUE))","v":""},{"$f":"IF(Y28=\"\",\"\",VLOOKUP(Y28,ตั้งค่า!$AD$25:$AH$28,4,TRUE))","v":""},0]
[null,{"$f":"รายชื่อนักเรียน!B29","v":0},{"$f":"IF(รายชื่อนักเรียน!C29=\"\",\"\",รายชื่อนักเรียน!C29)","v":""},{"$f":"IF(รายชื่อนักเรียน!E29=\"\",\"\",รายชื่อนักเรียน!E29)","v":""},null,null,null,null,null,null,"",{"$f":"IFERROR(IF(OR(รายชื่อนักเรียน!F29=\"ย้าย\",รายชื่อนักเรียน!F29=\"ออก\",รายชื่อนักเรียน!F29=\"ร\",รายชื่อนักเรียน!F29=\"มส\",K29=\"\"),\"\",ROUND(K29/$K$5*$L$5,0)),\"\")","v":""},{"$f":"IF(L29=\"\",\"\",VLOOKUP(L29,ตั้งค่า!$AD$25:$AH$28,5,TRUE))","v":""},{"$f":"IF(L29=\"\",\"\",VLOOKUP(L29,ตั้งค่า!$AD$25:$AH$28,4,TRUE))","v":""},{"$f":"รายชื่อนักเรียน!F29","v":0},null,null,null,null,null,"",{"$f":"IFERROR(IF(OR(รายชื่อนักเรียน!F29=\"ย้าย\",รายชื่อนักเรียน!F29=\"ออก\",รายชื่อนักเรียน!F29=\"ร\",รายชื่อนักเรียน!F29=\"มส\",U29=\"\"),\"\",ROUND(U29/$U$5*$L$5,0)),\"\")","v":""},{"$f":"IF(V29=\"\",\"\",VLOOKUP(V29,ตั้งค่า!$AD$25:$AH$28,5,TRUE))","v":""},{"$f":"IF(V29=\"\",\"\",VLOOKUP(V29,ตั้งค่า!$AD$25:$AH$28,4,TRUE))","v":""},"",{"$f":"IF(Y29=\"\",\"\",VLOOKUP(Y29,ตั้งค่า!$AD$25:$AH$28,5,TRUE))","v":""},{"$f":"IF(Y29=\"\",\"\",VLOOKUP(Y29,ตั้งค่า!$AD$25:$AH$28,4,TRUE))","v":""},0]
[null,{"$f":"รายชื่อนักเรียน!B30","v":0},{"$f":"IF(รายชื่อนักเรียน!C30=\"\",\"\",รายชื่อนักเรียน!C30)","v":""},{"$f":"IF(รายชื่อนักเรียน!E30=\"\",\"\",รายชื่อนักเรียน!E30)","v":""},null,null,null,null,null,null,"",{"$f":"IFERROR(IF(OR(รายชื่อนักเรียน!F30=\"ย้าย\",รายชื่อนักเรียน!F30=\"ออก\",รายชื่อนักเรียน!F30=\"ร\",รายชื่อนักเรียน!F30=\"มส\",K30=\"\"),\"\",ROUND(K30/$K$5*$L$5,0)),\"\")","v":""},{"$f":"IF(L30=\"\",\"\",VLOOKUP(L30,ตั้งค่า!$AD$25:$AH$28,5,TRUE))","v":""},{"$f":"IF(L30=\"\",\"\",VLOOKUP(L30,ตั้งค่า!$AD$25:$AH$28,4,TRUE))","v":""},{"$f":"รายชื่อนักเรียน!F30","v":0},null,null,null,null,null,"",{"$f":"IFERROR(IF(OR(รายชื่อนักเรียน!F30=\"ย้าย\",รายชื่อนักเรียน!F30=\"ออก\",รายชื่อนักเรียน!F30=\"ร\",รายชื่อนักเรียน!F30=\"มส\",U30=\"\"),\"\",ROUND(U30/$U$5*$L$5,0)),\"\")","v":""},{"$f":"IF(V30=\"\",\"\",VLOOKUP(V30,ตั้งค่า!$AD$25:$AH$28,5,TRUE))","v":""},{"$f":"IF(V30=\"\",\"\",VLOOKUP(V30,ตั้งค่า!$AD$25:$AH$28,4,TRUE))","v":""},"",{"$f":"IF(Y30=\"\",\"\",VLOOKUP(Y30,ตั้งค่า!$AD$25:$AH$28,5,TRUE))","v":""},{"$f":"IF(Y30=\"\",\"\",VLOOKUP(Y30,ตั้งค่า!$AD$25:$AH$28,4,TRUE))","v":""},0]
[null,{"$f":"รายชื่อนักเรียน!B31","v":0},{"$f":"IF(รายชื่อนักเรียน!C31=\"\",\"\",รายชื่อนักเรียน!C31)","v":""},{"$f":"IF(รายชื่อนักเรียน!E31=\"\",\"\",รายชื่อนักเรียน!E31)","v":""},null,null,null,null,null,null,"",{"$f":"IFERROR(IF(OR(รายชื่อนักเรียน!F31=\"ย้าย\",รายชื่อนักเรียน!F31=\"ออก\",รายชื่อนักเรียน!F31=\"ร\",รายชื่อนักเรียน!F31=\"มส\",K31=\"\"),\"\",ROUND(K31/$K$5*$L$5,0)),\"\")","v":""},{"$f":"IF(L31=\"\",\"\",VLOOKUP(L31,ตั้งค่า!$AD$25:$AH$28,5,TRUE))","v":""},{"$f":"IF(L31=\"\",\"\",VLOOKUP(L31,ตั้งค่า!$AD$25:$AH$28,4,TRUE))","v":""},{"$f":"รายชื่อนักเรียน!F31","v":0},null,null,null,null,null,"",{"$f":"IFERROR(IF(OR(รายชื่อนักเรียน!F31=\"ย้าย\",รายชื่อนักเรียน!F31=\"ออก\",รายชื่อนักเรียน!F31=\"ร\",รายชื่อนักเรียน!F31=\"มส\",U31=\"\"),\"\",ROUND(U31/$U$5*$L$5,0)),\"\")","v":""},{"$f":"IF(V31=\"\",\"\",VLOOKUP(V31,ตั้งค่า!$AD$25:$AH$28,5,TRUE))","v":""},{"$f":"IF(V31=\"\",\"\",VLOOKUP(V31,ตั้งค่า!$AD$25:$AH$28,4,TRUE))","v":""},"",{"$f":"IF(Y31=\"\",\"\",VLOOKUP(Y31,ตั้งค่า!$AD$25:$AH$28,5,TRUE))","v":""},{"$f":"IF(Y31=\"\",\"\",VLOOKUP(Y31,ตั้งค่า!$AD$25:$AH$28,4,TRUE))","v":""},0]
[null,{"$f":"รายชื่อนักเรียน!B32","v":0},{"$f":"IF(รายชื่อนักเรียน!C32=\"\",\"\",รายชื่อนักเรียน!C32)","v":""},{"$f":"IF(รายชื่อนักเรียน!E32=\"\",\"\",รายชื่อนักเรียน!E32)","v":""},null,null,null,null,null,null,"",{"$f":"IFERROR(IF(OR(รายชื่อนักเรียน!F32=\"ย้าย\",รายชื่อนักเรียน!F32=\"ออก\",รายชื่อนักเรียน!F32=\"ร\",รายชื่อนักเรียน!F32=\"มส\",K32=\"\"),\"\",ROUND(K32/$K$5*$L$5,0)),\"\")","v":""},{"$f":"IF(L32=\"\",\"\",VLOOKUP(L32,ตั้งค่า!$AD$25:$AH$28,5,TRUE))","v":""},{"$f":"IF(L32=\"\",\"\",VLOOKUP(L32,ตั้งค่า!$AD$25:$AH$28,4,TRUE))","v":""},{"$f":"รายชื่อนักเรียน!F32","v":0},null,null,null,null,null,"",{"$f":"IFERROR(IF(OR(รายชื่อนักเรียน!F32=\"ย้าย\",รายชื่อนักเรียน!F32=\"ออก\",รายชื่อนักเรียน!F32=\"ร\",รายชื่อนักเรียน!F32=\"มส\",U32=\"\"),\"\",ROUND(U32/$U$5*$L$5,0)),\"\")","v":""},{"$f":"IF(V32=\"\",\"\",VLOOKUP(V32,ตั้งค่า!$AD$25:$AH$28,5,TRUE))","v":""},{"$f":"IF(V32=\"\",\"\",VLOOKUP(V32,ตั้งค่า!$AD$25:$AH$28,4,TRUE))","v":""},"",{"$f":"IF(Y32=\"\",\"\",VLOOKUP(Y32,ตั้งค่า!$AD$25:$AH$28,5,TRUE))","v":""},{"$f":"IF(Y32=\"\",\"\",VLOOKUP(Y32,ตั้งค่า!$AD$25:$AH$28,4,TRUE))","v":""},0]
[null,{"$f":"รายชื่อนักเรียน!B33","v":0},{"$f":"IF(รายชื่อนักเรียน!C33=\"\",\"\",รายชื่อนักเรียน!C33)","v":""},{"$f":"IF(รายชื่อนักเรียน!E33=\"\",\"\",รายชื่อนักเรียน!E33)","v":""},null,null,null,null,null,null,"",{"$f":"IFERROR(IF(OR(รายชื่อนักเรียน!F33=\"ย้าย\",รายชื่อนักเรียน!F33=\"ออก\",รายชื่อนักเรียน!F33=\"ร\",รายชื่อนักเรียน!F33=\"มส\",K33=\"\"),\"\",ROUND(K33/$K$5*$L$5,0)),\"\")","v":""},{"$f":"IF(L33=\"\",\"\",VLOOKUP(L33,ตั้งค่า!$AD$25:$AH$28,5,TRUE))","v":""},{"$f":"IF(L33=\"\",\"\",VLOOKUP(L33,ตั้งค่า!$AD$25:$AH$28,4,TRUE))","v":""},{"$f":"รายชื่อนักเรียน!F33","v":0},null,null,null,null,null,"",{"$f":"IFERROR(IF(OR(รายชื่อนักเรียน!F33=\"ย้าย\",รายชื่อนักเรียน!F33=\"ออก\",รายชื่อนักเรียน!F33=\"ร\",รายชื่อนักเรียน!F33=\"มส\",U33=\"\"),\"\",ROUND(U33/$U$5*$L$5,0)),\"\")","v":""},{"$f":"IF(V33=\"\",\"\",VLOOKUP(V33,ตั้งค่า!$AD$25:$AH$28,5,TRUE))","v":""},{"$f":"IF(V33=\"\",\"\",VLOOKUP(V33,ตั้งค่า!$AD$25:$AH$28,4,TRUE))","v":""},"",{"$f":"IF(Y33=\"\",\"\",VLOOKUP(Y33,ตั้งค่า!$AD$25:$AH$28,5,TRUE))","v":""},{"$f":"IF(Y33=\"\",\"\",VLOOKUP(Y33,ตั้งค่า!$AD$25:$AH$28,4,TRUE))","v":""},0]
[null,{"$f":"รายชื่อนักเรียน!B34","v":0},{"$f":"IF(รายชื่อนักเรียน!C34=\"\",\"\",รายชื่อนักเรียน!C34)","v":""},{"$f":"IF(รายชื่อนักเรียน!E34=\"\",\"\",รายชื่อนักเรียน!E34)","v":""},null,null,null,null,null,null,"",{"$f":"IFERROR(IF(OR(รายชื่อนักเรียน!F34=\"ย้าย\",รายชื่อนักเรียน!F34=\"ออก\",รายชื่อนักเรียน!F34=\"ร\",รายชื่อนักเรียน!F34=\"มส\",K34=\"\"),\"\",ROUND(K34/$K$5*$L$5,0)),\"\")","v":""},{"$f":"IF(L34=\"\",\"\",VLOOKUP(L34,ตั้งค่า!$AD$25:$AH$28,5,TRUE))","v":""},{"$f":"IF(L34=\"\",\"\",VLOOKUP(L34,ตั้งค่า!$AD$25:$AH$28,4,TRUE))","v":""},{"$f":"รายชื่อนักเรียน!F34","v":0},null,null,null,null,null,"",{"$f":"IFERROR(IF(OR(รายชื่อนักเรียน!F34=\"ย้าย\",รายชื่อนักเรียน!F34=\"ออก\",รายชื่อนักเรียน!F34=\"ร\",รายชื่อนักเรียน!F34=\"มส\",U34=\"\"),\"\",ROUND(U34/$U$5*$L$5,0)),\"\")","v":""},{"$f":"IF(V34=\"\",\"\",VLOOKUP(V34,ตั้งค่า!$AD$25:$AH$28,5,TRUE))","v":""},{"$f":"IF(V34=\"\",\"\",VLOOKUP(V34,ตั้งค่า!$AD$25:$AH$28,4,TRUE))","v":""},"",{"$f":"IF(Y34=\"\",\"\",VLOOKUP(Y34,ตั้งค่า!$AD$25:$AH$28,5,TRUE))","v":""},{"$f":"IF(Y34=\"\",\"\",VLOOKUP(Y34,ตั้งค่า!$AD$25:$AH$28,4,TRUE))","v":""},0]
[null,{"$f":"รายชื่อนักเรียน!B35","v":0},{"$f":"IF(รายชื่อนักเรียน!C35=\"\",\"\",รายชื่อนักเรียน!C35)","v":""},{"$f":"IF(รายชื่อนักเรียน!E35=\"\",\"\",รายชื่อนักเรียน!E35)","v":""},null,null,null,null,null,null,"",{"$f":"IFERROR(IF(OR(รายชื่อนักเรียน!F35=\"ย้าย\",รายชื่อนักเรียน!F35=\"ออก\",รายชื่อนักเรียน!F35=\"ร\",รายชื่อนักเรียน!F35=\"มส\",K35=\"\"),\"\",ROUND(K35/$K$5*$L$5,0)),\"\")","v":""},{"$f":"IF(L35=\"\",\"\",VLOOKUP(L35,ตั้งค่า!$AD$25:$AH$28,5,TRUE))","v":""},{"$f":"IF(L35=\"\",\"\",VLOOKUP(L35,ตั้งค่า!$AD$25:$AH$28,4,TRUE))","v":""},{"$f":"รายชื่อนักเรียน!F35","v":0},null,null,null,null,null,"",{"$f":"IFERROR(IF(OR(รายชื่อนักเรียน!F35=\"ย้าย\",รายชื่อนักเรียน!F35=\"ออก\",รายชื่อนักเรียน!F35=\"ร\",รายชื่อนักเรียน!F35=\"มส\",U35=\"\"),\"\",ROUND(U35/$U$5*$L$5,0)),\"\")","v":""},{"$f":"IF(V35=\"\",\"\",VLOOKUP(V35,ตั้งค่า!$AD$25:$AH$28,5,TRUE))","v":""},{"$f":"IF(V35=\"\",\"\",VLOOKUP(V35,ตั้งค่า!$AD$25:$AH$28,4,TRUE))","v":""},"",{"$f":"IF(Y35=\"\",\"\",VLOOKUP(Y35,ตั้งค่า!$AD$25:$AH$28,5,TRUE))","v":""},{"$f":"IF(Y35=\"\",\"\",VLOOKUP(Y35,ตั้งค่า!$AD$25:$AH$28,4,TRUE))","v":""},0]
[null,{"$f":"รายชื่อนักเรียน!B36","v":0},{"$f":"IF(รายชื่อนักเรียน!C36=\"\",\"\",รายชื่อนักเรียน!C36)","v":""},{"$f":"IF(รายชื่อนักเรียน!E36=\"\",\"\",รายชื่อนักเรียน!E36)","v":""},null,null,null,null,null,null,"",{"$f":"IFERROR(IF(OR(รายชื่อนักเรียน!F36=\"ย้าย\",รายชื่อนักเรียน!F36=\"ออก\",รายชื่อนักเรียน!F36=\"ร\",รายชื่อนักเรียน!F36=\"มส\",K36=\"\"),\"\",ROUND(K36/$K$5*$L$5,0)),\"\")","v":""},{"$f":"IF(L36=\"\",\"\",VLOOKUP(L36,ตั้งค่า!$AD$25:$AH$28,5,TRUE))","v":""},{"$f":"IF(L36=\"\",\"\",VLOOKUP(L36,ตั้งค่า!$AD$25:$AH$28,4,TRUE))","v":""},{"$f":"รายชื่อนักเรียน!F36","v":0},null,null,null,null,null,"",{"$f":"IFERROR(IF(OR(รายชื่อนักเรียน!F36=\"ย้าย\",รายชื่อนักเรียน!F36=\"ออก\",รายชื่อนักเรียน!F36=\"ร\",รายชื่อนักเรียน!F36=\"มส\",U36=\"\"),\"\",ROUND(U36/$U$5*$L$5,0)),\"\")","v":""},{"$f":"IF(V36=\"\",\"\",VLOOKUP(V36,ตั้งค่า!$AD$25:$AH$28,5,TRUE))","v":""},{"$f":"IF(V36=\"\",\"\",VLOOKUP(V36,ตั้งค่า!$AD$25:$AH$28,4,TRUE))","v":""},"",{"$f":"IF(Y36=\"\",\"\",VLOOKUP(Y36,ตั้งค่า!$AD$25:$AH$28,5,TRUE))","v":""},{"$f":"IF(Y36=\"\",\"\",VLOOKUP(Y36,ตั้งค่า!$AD$25:$AH$28,4,TRUE))","v":""},0]
[null,{"$f":"รายชื่อนักเรียน!B37","v":0},{"$f":"IF(รายชื่อนักเรียน!C37=\"\",\"\",รายชื่อนักเรียน!C37)","v":""},{"$f":"IF(รายชื่อนักเรียน!E37=\"\",\"\",รายชื่อนักเรียน!E37)","v":""},null,null,null,null,null,null,"",{"$f":"IFERROR(IF(OR(รายชื่อนักเรียน!F37=\"ย้าย\",รายชื่อนักเรียน!F37=\"ออก\",รายชื่อนักเรียน!F37=\"ร\",รายชื่อนักเรียน!F37=\"มส\",K37=\"\"),\"\",ROUND(K37/$K$5*$L$5,0)),\"\")","v":""},{"$f":"IF(L37=\"\",\"\",VLOOKUP(L37,ตั้งค่า!$AD$25:$AH$28,5,TRUE))","v":""},{"$f":"IF(L37=\"\",\"\",VLOOKUP(L37,ตั้งค่า!$AD$25:$AH$28,4,TRUE))","v":""},{"$f":"รายชื่อนักเรียน!F37","v":0},null,null,null,null,null,"",{"$f":"IFERROR(IF(OR(รายชื่อนักเรียน!F37=\"ย้าย\",รายชื่อนักเรียน!F37=\"ออก\",รายชื่อนักเรียน!F37=\"ร\",รายชื่อนักเรียน!F37=\"มส\",U37=\"\"),\"\",ROUND(U37/$U$5*$L$5,0)),\"\")","v":""},{"$f":"IF(V37=\"\",\"\",VLOOKUP(V37,ตั้งค่า!$AD$25:$AH$28,5,TRUE))","v":""},{"$f":"IF(V37=\"\",\"\",VLOOKUP(V37,ตั้งค่า!$AD$25:$AH$28,4,TRUE))","v":""},"",{"$f":"IF(Y37=\"\",\"\",VLOOKUP(Y37,ตั้งค่า!$AD$25:$AH$28,5,TRUE))","v":""},{"$f":"IF(Y37=\"\",\"\",VLOOKUP(Y37,ตั้งค่า!$AD$25:$AH$28,4,TRUE))","v":""},0]
[null,{"$f":"รายชื่อนักเรียน!B38","v":0},{"$f":"IF(รายชื่อนักเรียน!C38=\"\",\"\",รายชื่อนักเรียน!C38)","v":""},{"$f":"IF(รายชื่อนักเรียน!E38=\"\",\"\",รายชื่อนักเรียน!E38)","v":""},null,null,null,null,null,null,"",{"$f":"IFERROR(IF(OR(รายชื่อนักเรียน!F38=\"ย้าย\",รายชื่อนักเรียน!F38=\"ออก\",รายชื่อนักเรียน!F38=\"ร\",รายชื่อนักเรียน!F38=\"มส\",K38=\"\"),\"\",ROUND(K38/$K$5*$L$5,0)),\"\")","v":""},{"$f":"IF(L38=\"\",\"\",VLOOKUP(L38,ตั้งค่า!$AD$25:$AH$28,5,TRUE))","v":""},{"$f":"IF(L38=\"\",\"\",VLOOKUP(L38,ตั้งค่า!$AD$25:$AH$28,4,TRUE))","v":""},{"$f":"รายชื่อนักเรียน!F38","v":0},null,null,null,null,null,"",{"$f":"IFERROR(IF(OR(รายชื่อนักเรียน!F38=\"ย้าย\",รายชื่อนักเรียน!F38=\"ออก\",รายชื่อนักเรียน!F38=\"ร\",รายชื่อนักเรียน!F38=\"มส\",U38=\"\"),\"\",ROUND(U38/$U$5*$L$5,0)),\"\")","v":""},{"$f":"IF(V38=\"\",\"\",VLOOKUP(V38,ตั้งค่า!$AD$25:$AH$28,5,TRUE))","v":""},{"$f":"IF(V38=\"\",\"\",VLOOKUP(V38,ตั้งค่า!$AD$25:$AH$28,4,TRUE))","v":""},"",{"$f":"IF(Y38=\"\",\"\",VLOOKUP(Y38,ตั้งค่า!$AD$25:$AH$28,5,TRUE))","v":""},{"$f":"IF(Y38=\"\",\"\",VLOOKUP(Y38,ตั้งค่า!$AD$25:$AH$28,4,TRUE))","v":""},0]
[null,{"$f":"รายชื่อนักเรียน!B39","v":0},{"$f":"IF(รายชื่อนักเรียน!C39=\"\",\"\",รายชื่อนักเรียน!C39)","v":""},{"$f":"IF(รายชื่อนักเรียน!E39=\"\",\"\",รายชื่อนักเรียน!E39)","v":""},null,null,null,null,null,null,"",{"$f":"IFERROR(IF(OR(รายชื่อนักเรียน!F39=\"ย้าย\",รายชื่อนักเรียน!F39=\"ออก\",รายชื่อนักเรียน!F39=\"ร\",รายชื่อนักเรียน!F39=\"มส\",K39=\"\"),\"\",ROUND(K39/$K$5*$L$5,0)),\"\")","v":""},{"$f":"IF(L39=\"\",\"\",VLOOKUP(L39,ตั้งค่า!$AD$25:$AH$28,5,TRUE))","v":""},{"$f":"IF(L39=\"\",\"\",VLOOKUP(L39,ตั้งค่า!$AD$25:$AH$28,4,TRUE))","v":""},{"$f":"รายชื่อนักเรียน!F39","v":0},null,null,null,null,null,"",{"$f":"IFERROR(IF(OR(รายชื่อนักเรียน!F39=\"ย้าย\",รายชื่อนักเรียน!F39=\"ออก\",รายชื่อนักเรียน!F39=\"ร\",รายชื่อนักเรียน!F39=\"มส\",U39=\"\"),\"\",ROUND(U39/$U$5*$L$5,0)),\"\")","v":""},{"$f":"IF(V39=\"\",\"\",VLOOKUP(V39,ตั้งค่า!$AD$25:$AH$28,5,TRUE))","v":""},{"$f":"IF(V39=\"\",\"\",VLOOKUP(V39,ตั้งค่า!$AD$25:$AH$28,4,TRUE))","v":""},"",{"$f":"IF(Y39=\"\",\"\",VLOOKUP(Y39,ตั้งค่า!$AD$25:$AH$28,5,TRUE))","v":""},{"$f":"IF(Y39=\"\",\"\",VLOOKUP(Y39,ตั้งค่า!$AD$25:$AH$28,4,TRUE))","v":""},0]
[null,{"$f":"รายชื่อนักเรียน!B40","v":0},{"$f":"IF(รายชื่อนักเรียน!C40=\"\",\"\",รายชื่อนักเรียน!C40)","v":""},{"$f":"IF(รายชื่อนักเรียน!E40=\"\",\"\",รายชื่อนักเรียน!E40)","v":""},null,null,null,null,null,null,"",{"$f":"IFERROR(IF(OR(รายชื่อนักเรียน!F40=\"ย้าย\",รายชื่อนักเรียน!F40=\"ออก\",รายชื่อนักเรียน!F40=\"ร\",รายชื่อนักเรียน!F40=\"มส\",K40=\"\"),\"\",ROUND(K40/$K$5*$L$5,0)),\"\")","v":""},{"$f":"IF(L40=\"\",\"\",VLOOKUP(L40,ตั้งค่า!$AD$25:$AH$28,5,TRUE))","v":""},{"$f":"IF(L40=\"\",\"\",VLOOKUP(L40,ตั้งค่า!$AD$25:$AH$28,4,TRUE))","v":""},{"$f":"รายชื่อนักเรียน!F40","v":0},null,null,null,null,null,"",{"$f":"IFERROR(IF(OR(รายชื่อนักเรียน!F40=\"ย้าย\",รายชื่อนักเรียน!F40=\"ออก\",รายชื่อนักเรียน!F40=\"ร\",รายชื่อนักเรียน!F40=\"มส\",U40=\"\"),\"\",ROUND(U40/$U$5*$L$5,0)),\"\")","v":""},{"$f":"IF(V40=\"\",\"\",VLOOKUP(V40,ตั้งค่า!$AD$25:$AH$28,5,TRUE))","v":""},{"$f":"IF(V40=\"\",\"\",VLOOKUP(V40,ตั้งค่า!$AD$25:$AH$28,4,TRUE))","v":""},"",{"$f":"IF(Y40=\"\",\"\",VLOOKUP(Y40,ตั้งค่า!$AD$25:$AH$28,5,TRUE))","v":""},{"$f":"IF(Y40=\"\",\"\",VLOOKUP(Y40,ตั้งค่า!$AD$25:$AH$28,4,TRUE))","v":""},0]
[null,{"$f":"รายชื่อนักเรียน!B41","v":0},{"$f":"IF(รายชื่อนักเรียน!C41=\"\",\"\",รายชื่อนักเรียน!C41)","v":""},{"$f":"IF(รายชื่อนักเรียน!E41=\"\",\"\",รายชื่อนักเรียน!E41)","v":""},null,null,null,null,null,null,"",{"$f":"IFERROR(IF(OR(รายชื่อนักเรียน!F41=\"ย้าย\",รายชื่อนักเรียน!F41=\"ออก\",รายชื่อนักเรียน!F41=\"ร\",รายชื่อนักเรียน!F41=\"มส\",K41=\"\"),\"\",ROUND(K41/$K$5*$L$5,0)),\"\")","v":""},{"$f":"IF(L41=\"\",\"\",VLOOKUP(L41,ตั้งค่า!$AD$25:$AH$28,5,TRUE))","v":""},{"$f":"IF(L41=\"\",\"\",VLOOKUP(L41,ตั้งค่า!$AD$25:$AH$28,4,TRUE))","v":""},{"$f":"รายชื่อนักเรียน!F41","v":0},null,null,null,null,null,"",{"$f":"IFERROR(IF(OR(รายชื่อนักเรียน!F41=\"ย้าย\",รายชื่อนักเรียน!F41=\"ออก\",รายชื่อนักเรียน!F41=\"ร\",รายชื่อนักเรียน!F41=\"มส\",U41=\"\"),\"\",ROUND(U41/$U$5*$L$5,0)),\"\")","v":""},{"$f":"IF(V41=\"\",\"\",VLOOKUP(V41,ตั้งค่า!$AD$25:$AH$28,5,TRUE))","v":""},{"$f":"IF(V41=\"\",\"\",VLOOKUP(V41,ตั้งค่า!$AD$25:$AH$28,4,TRUE))","v":""},"",{"$f":"IF(Y41=\"\",\"\",VLOOKUP(Y41,ตั้งค่า!$AD$25:$AH$28,5,TRUE))","v":""},{"$f":"IF(Y41=\"\",\"\",VLOOKUP(Y41,ตั้งค่า!$AD$25:$AH$28,4,TRUE))","v":""},0]
[null,{"$f":"รายชื่อนักเรียน!B42","v":0},{"$f":"IF(รายชื่อนักเรียน!C42=\"\",\"\",รายชื่อนักเรียน!C42)","v":""},{"$f":"IF(รายชื่อนักเรียน!E42=\"\",\"\",รายชื่อนักเรียน!E42)","v":""},null,null,null,null,null,null,"",{"$f":"IFERROR(IF(OR(รายชื่อนักเรียน!F42=\"ย้าย\",รายชื่อนักเรียน!F42=\"ออก\",รายชื่อนักเรียน!F42=\"ร\",รายชื่อนักเรียน!F42=\"มส\",K42=\"\"),\"\",ROUND(K42/$K$5*$L$5,0)),\"\")","v":""},{"$f":"IF(L42=\"\",\"\",VLOOKUP(L42,ตั้งค่า!$AD$25:$AH$28,5,TRUE))","v":""},{"$f":"IF(L42=\"\",\"\",VLOOKUP(L42,ตั้งค่า!$AD$25:$AH$28,4,TRUE))","v":""},{"$f":"รายชื่อนักเรียน!F42","v":0},null,null,null,null,null,"",{"$f":"IFERROR(IF(OR(รายชื่อนักเรียน!F42=\"ย้าย\",รายชื่อนักเรียน!F42=\"ออก\",รายชื่อนักเรียน!F42=\"ร\",รายชื่อนักเรียน!F42=\"มส\",U42=\"\"),\"\",ROUND(U42/$U$5*$L$5,0)),\"\")","v":""},{"$f":"IF(V42=\"\",\"\",VLOOKUP(V42,ตั้งค่า!$AD$25:$AH$28,5,TRUE))","v":""},{"$f":"IF(V42=\"\",\"\",VLOOKUP(V42,ตั้งค่า!$AD$25:$AH$28,4,TRUE))","v":""},"",{"$f":"IF(Y42=\"\",\"\",VLOOKUP(Y42,ตั้งค่า!$AD$25:$AH$28,5,TRUE))","v":""},{"$f":"IF(Y42=\"\",\"\",VLOOKUP(Y42,ตั้งค่า!$AD$25:$AH$28,4,TRUE))","v":""},0]
[null,{"$f":"รายชื่อนักเรียน!B43","v":0},{"$f":"IF(รายชื่อนักเรียน!C43=\"\",\"\",รายชื่อนักเรียน!C43)","v":""},{"$f":"IF(รายชื่อนักเรียน!E43=\"\",\"\",รายชื่อนักเรียน!E43)","v":""},null,null,null,null,null,null,"",{"$f":"IFERROR(IF(OR(รายชื่อนักเรียน!F43=\"ย้าย\",รายชื่อนักเรียน!F43=\"ออก\",รายชื่อนักเรียน!F43=\"ร\",รายชื่อนักเรียน!F43=\"มส\",K43=\"\"),\"\",ROUND(K43/$K$5*$L$5,0)),\"\")","v":""},{"$f":"IF(L43=\"\",\"\",VLOOKUP(L43,ตั้งค่า!$AD$25:$AH$28,5,TRUE))","v":""},{"$f":"IF(L43=\"\",\"\",VLOOKUP(L43,ตั้งค่า!$AD$25:$AH$28,4,TRUE))","v":""},{"$f":"รายชื่อนักเรียน!F43","v":0},null,null,null,null,null,"",{"$f":"IFERROR(IF(OR(รายชื่อนักเรียน!F43=\"ย้าย\",รายชื่อนักเรียน!F43=\"ออก\",รายชื่อนักเรียน!F43=\"ร\",รายชื่อนักเรียน!F43=\"มส\",U43=\"\"),\"\",ROUND(U43/$U$5*$L$5,0)),\"\")","v":""},{"$f":"IF(V43=\"\",\"\",VLOOKUP(V43,ตั้งค่า!$AD$25:$AH$28,5,TRUE))","v":""},{"$f":"IF(V43=\"\",\"\",VLOOKUP(V43,ตั้งค่า!$AD$25:$AH$28,4,TRUE))","v":""},"",{"$f":"IF(Y43=\"\",\"\",VLOOKUP(Y43,ตั้งค่า!$AD$25:$AH$28,5,TRUE))","v":""},{"$f":"IF(Y43=\"\",\"\",VLOOKUP(Y43,ตั้งค่า!$AD$25:$AH$28,4,TRUE))","v":""},0]
[null,{"$f":"รายชื่อนักเรียน!B44","v":0},{"$f":"IF(รายชื่อนักเรียน!C44=\"\",\"\",รายชื่อนักเรียน!C44)","v":""},{"$f":"IF(รายชื่อนักเรียน!E44=\"\",\"\",รายชื่อนักเรียน!E44)","v":""},null,null,null,null,null,null,"",{"$f":"IFERROR(IF(OR(รายชื่อนักเรียน!F44=\"ย้าย\",รายชื่อนักเรียน!F44=\"ออก\",รายชื่อนักเรียน!F44=\"ร\",รายชื่อนักเรียน!F44=\"มส\",K44=\"\"),\"\",ROUND(K44/$K$5*$L$5,0)),\"\")","v":""},{"$f":"IF(L44=\"\",\"\",VLOOKUP(L44,ตั้งค่า!$AD$25:$AH$28,5,TRUE))","v":""},{"$f":"IF(L44=\"\",\"\",VLOOKUP(L44,ตั้งค่า!$AD$25:$AH$28,4,TRUE))","v":""},{"$f":"รายชื่อนักเรียน!F44","v":0},null,null,null,null,null,"",{"$f":"IFERROR(IF(OR(รายชื่อนักเรียน!F44=\"ย้าย\",รายชื่อนักเรียน!F44=\"ออก\",รายชื่อนักเรียน!F44=\"ร\",รายชื่อนักเรียน!F44=\"มส\",U44=\"\"),\"\",ROUND(U44/$U$5*$L$5,0)),\"\")","v":""},{"$f":"IF(V44=\"\",\"\",VLOOKUP(V44,ตั้งค่า!$AD$25:$AH$28,5,TRUE))","v":""},{"$f":"IF(V44=\"\",\"\",VLOOKUP(V44,ตั้งค่า!$AD$25:$AH$28,4,TRUE))","v":""},"",{"$f":"IF(Y44=\"\",\"\",VLOOKUP(Y44,ตั้งค่า!$AD$25:$AH$28,5,TRUE))","v":""},{"$f":"IF(Y44=\"\",\"\",VLOOKUP(Y44,ตั้งค่า!$AD$25:$AH$28,4,TRUE))","v":""},0]
[null,{"$f":"รายชื่อนักเรียน!B45","v":0},{"$f":"IF(รายชื่อนักเรียน!C45=\"\",\"\",รายชื่อนักเรียน!C45)","v":""},{"$f":"IF(รายชื่อนักเรียน!E45=\"\",\"\",รายชื่อนักเรียน!E45)","v":""},null,null,null,null,null,null,"",{"$f":"IFERROR(IF(OR(รายชื่อนักเรียน!F45=\"ย้าย\",รายชื่อนักเรียน!F45=\"ออก\",รายชื่อนักเรียน!F45=\"ร\",รายชื่อนักเรียน!F45=\"มส\",K45=\"\"),\"\",ROUND(K45/$K$5*$L$5,0)),\"\")","v":""},{"$f":"IF(L45=\"\",\"\",VLOOKUP(L45,ตั้งค่า!$AD$25:$AH$28,5,TRUE))","v":""},{"$f":"IF(L45=\"\",\"\",VLOOKUP(L45,ตั้งค่า!$AD$25:$AH$28,4,TRUE))","v":""},{"$f":"รายชื่อนักเรียน!F45","v":0},null,null,null,null,null,"",{"$f":"IFERROR(IF(OR(รายชื่อนักเรียน!F45=\"ย้าย\",รายชื่อนักเรียน!F45=\"ออก\",รายชื่อนักเรียน!F45=\"ร\",รายชื่อนักเรียน!F45=\"มส\",U45=\"\"),\"\",ROUND(U45/$U$5*$L$5,0)),\"\")","v":""},{"$f":"IF(V45=\"\",\"\",VLOOKUP(V45,ตั้งค่า!$AD$25:$AH$28,5,TRUE))","v":""},{"$f":"IF(V45=\"\",\"\",VLOOKUP(V45,ตั้งค่า!$AD$25:$AH$28,4,TRUE))","v":""},"",{"$f":"IF(Y45=\"\",\"\",VLOOKUP(Y45,ตั้งค่า!$AD$25:$AH$28,5,TRUE))","v":""},{"$f":"IF(Y45=\"\",\"\",VLOOKUP(Y45,ตั้งค่า!$AD$25:$AH$28,4,TRUE))","v":""},0]
[null,{"$f":"รายชื่อนักเรียน!B46","v":0},{"$f":"IF(รายชื่อนักเรียน!C46=\"\",\"\",รายชื่อนักเรียน!C46)","v":""},{"$f":"IF(รายชื่อนักเรียน!E46=\"\",\"\",รายชื่อนักเรียน!E46)","v":""},null,null,null,null,null,null,"",{"$f":"IFERROR(IF(OR(รายชื่อนักเรียน!F46=\"ย้าย\",รายชื่อนักเรียน!F46=\"ออก\",รายชื่อนักเรียน!F46=\"ร\",รายชื่อนักเรียน!F46=\"มส\",K46=\"\"),\"\",ROUND(K46/$K$5*$L$5,0)),\"\")","v":""},{"$f":"IF(L46=\"\",\"\",VLOOKUP(L46,ตั้งค่า!$AD$25:$AH$28,5,TRUE))","v":""},{"$f":"IF(L46=\"\",\"\",VLOOKUP(L46,ตั้งค่า!$AD$25:$AH$28,4,TRUE))","v":""},{"$f":"รายชื่อนักเรียน!F46","v":0},null,null,null,null,null,"",{"$f":"IFERROR(IF(OR(รายชื่อนักเรียน!F46=\"ย้าย\",รายชื่อนักเรียน!F46=\"ออก\",รายชื่อนักเรียน!F46=\"ร\",รายชื่อนักเรียน!F46=\"มส\",U46=\"\"),\"\",ROUND(U46/$U$5*$L$5,0)),\"\")","v":""},{"$f":"IF(V46=\"\",\"\",VLOOKUP(V46,ตั้งค่า!$AD$25:$AH$28,5,TRUE))","v":""},{"$f":"IF(V46=\"\",\"\",VLOOKUP(V46,ตั้งค่า!$AD$25:$AH$28,4,TRUE))","v":""},"",{"$f":"IF(Y46=\"\",\"\",VLOOKUP(Y46,ตั้งค่า!$AD$25:$AH$28,5,TRUE))","v":""},{"$f":"IF(Y46=\"\",\"\",VLOOKUP(Y46,ตั้งค่า!$AD$25:$AH$28,4,TRUE))","v":""},0]
[null,{"$f":"รายชื่อนักเรียน!B47","v":0},{"$f":"IF(รายชื่อนักเรียน!C47=\"\",\"\",รายชื่อนักเรียน!C47)","v":""},{"$f":"IF(รายชื่อนักเรียน!E47=\"\",\"\",รายชื่อนักเรียน!E47)","v":""},null,null,null,null,null,null,"",{"$f":"IFERROR(IF(OR(รายชื่อนักเรียน!F47=\"ย้าย\",รายชื่อนักเรียน!F47=\"ออก\",รายชื่อนักเรียน!F47=\"ร\",รายชื่อนักเรียน!F47=\"มส\",K47=\"\"),\"\",ROUND(K47/$K$5*$L$5,0)),\"\")","v":""},{"$f":"IF(L47=\"\",\"\",VLOOKUP(L47,ตั้งค่า!$AD$25:$AH$28,5,TRUE))","v":""},{"$f":"IF(L47=\"\",\"\",VLOOKUP(L47,ตั้งค่า!$AD$25:$AH$28,4,TRUE))","v":""},{"$f":"รายชื่อนักเรียน!F47","v":0},null,null,null,null,null,"",{"$f":"IFERROR(IF(OR(รายชื่อนักเรียน!F47=\"ย้าย\",รายชื่อนักเรียน!F47=\"ออก\",รายชื่อนักเรียน!F47=\"ร\",รายชื่อนักเรียน!F47=\"มส\",U47=\"\"),\"\",ROUND(U47/$U$5*$L$5,0)),\"\")","v":""},{"$f":"IF(V47=\"\",\"\",VLOOKUP(V47,ตั้งค่า!$AD$25:$AH$28,5,TRUE))","v":""},{"$f":"IF(V47=\"\",\"\",VLOOKUP(V47,ตั้งค่า!$AD$25:$AH$28,4,TRUE))","v":""},"",{"$f":"IF(Y47=\"\",\"\",VLOOKUP(Y47,ตั้งค่า!$AD$25:$AH$28,5,TRUE))","v":""},{"$f":"IF(Y47=\"\",\"\",VLOOKUP(Y47,ตั้งค่า!$AD$25:$AH$28,4,TRUE))","v":""},0]
[null,{"$f":"รายชื่อนักเรียน!B48","v":0},{"$f":"IF(รายชื่อนักเรียน!C48=\"\",\"\",รายชื่อนักเรียน!C48)","v":""},{"$f":"IF(รายชื่อนักเรียน!E48=\"\",\"\",รายชื่อนักเรียน!E48)","v":""},null,null,null,null,null,null,"",{"$f":"IFERROR(IF(OR(รายชื่อนักเรียน!F48=\"ย้าย\",รายชื่อนักเรียน!F48=\"ออก\",รายชื่อนักเรียน!F48=\"ร\",รายชื่อนักเรียน!F48=\"มส\",K48=\"\"),\"\",ROUND(K48/$K$5*$L$5,0)),\"\")","v":""},{"$f":"IF(L48=\"\",\"\",VLOOKUP(L48,ตั้งค่า!$AD$25:$AH$28,5,TRUE))","v":""},{"$f":"IF(L48=\"\",\"\",VLOOKUP(L48,ตั้งค่า!$AD$25:$AH$28,4,TRUE))","v":""},{"$f":"รายชื่อนักเรียน!F48","v":0},null,null,null,null,null,"",{"$f":"IFERROR(IF(OR(รายชื่อนักเรียน!F48=\"ย้าย\",รายชื่อนักเรียน!F48=\"ออก\",รายชื่อนักเรียน!F48=\"ร\",รายชื่อนักเรียน!F48=\"มส\",U48=\"\"),\"\",ROUND(U48/$U$5*$L$5,0)),\"\")","v":""},{"$f":"IF(V48=\"\",\"\",VLOOKUP(V48,ตั้งค่า!$AD$25:$AH$28,5,TRUE))","v":""},{"$f":"IF(V48=\"\",\"\",VLOOKUP(V48,ตั้งค่า!$AD$25:$AH$28,4,TRUE))","v":""},"",{"$f":"IF(Y48=\"\",\"\",VLOOKUP(Y48,ตั้งค่า!$AD$25:$AH$28,5,TRUE))","v":""},{"$f":"IF(Y48=\"\",\"\",VLOOKUP(Y48,ตั้งค่า!$AD$25:$AH$28,4,TRUE))","v":""},0]
[null,{"$f":"รายชื่อนักเรียน!B49","v":0},{"$f":"IF(รายชื่อนักเรียน!C49=\"\",\"\",รายชื่อนักเรียน!C49)","v":""},{"$f":"IF(รายชื่อนักเรียน!E49=\"\",\"\",รายชื่อนักเรียน!E49)","v":""},null,null,null,null,null,null,"",{"$f":"IFERROR(IF(OR(รายชื่อนักเรียน!F49=\"ย้าย\",รายชื่อนักเรียน!F49=\"ออก\",รายชื่อนักเรียน!F49=\"ร\",รายชื่อนักเรียน!F49=\"มส\",K49=\"\"),\"\",ROUND(K49/$K$5*$L$5,0)),\"\")","v":""},{"$f":"IF(L49=\"\",\"\",VLOOKUP(L49,ตั้งค่า!$AD$25:$AH$28,5,TRUE))","v":""},{"$f":"IF(L49=\"\",\"\",VLOOKUP(L49,ตั้งค่า!$AD$25:$AH$28,4,TRUE))","v":""},{"$f":"รายชื่อนักเรียน!F49","v":0},null,null,null,null,null,"",{"$f":"IFERROR(IF(OR(รายชื่อนักเรียน!F49=\"ย้าย\",รายชื่อนักเรียน!F49=\"ออก\",รายชื่อนักเรียน!F49=\"ร\",รายชื่อนักเรียน!F49=\"มส\",U49=\"\"),\"\",ROUND(U49/$U$5*$L$5,0)),\"\")","v":""},{"$f":"IF(V49=\"\",\"\",VLOOKUP(V49,ตั้งค่า!$AD$25:$AH$28,5,TRUE))","v":""},{"$f":"IF(V49=\"\",\"\",VLOOKUP(V49,ตั้งค่า!$AD$25:$AH$28,4,TRUE))","v":""},"",{"$f":"IF(Y49=\"\",\"\",VLOOKUP(Y49,ตั้งค่า!$AD$25:$AH$28,5,TRUE))","v":""},{"$f":"IF(Y49=\"\",\"\",VLOOKUP(Y49,ตั้งค่า!$AD$25:$AH$28,4,TRUE))","v":""},0]
[null,{"$f":"รายชื่อนักเรียน!B50","v":0},{"$f":"IF(รายชื่อนักเรียน!C50=\"\",\"\",รายชื่อนักเรียน!C50)","v":""},{"$f":"IF(รายชื่อนักเรียน!E50=\"\",\"\",รายชื่อนักเรียน!E50)","v":""},null,null,null,null,null,null,"",{"$f":"IFERROR(IF(OR(รายชื่อนักเรียน!F50=\"ย้าย\",รายชื่อนักเรียน!F50=\"ออก\",รายชื่อนักเรียน!F50=\"ร\",รายชื่อนักเรียน!F50=\"มส\",K50=\"\"),\"\",ROUND(K50/$K$5*$L$5,0)),\"\")","v":""},{"$f":"IF(L50=\"\",\"\",VLOOKUP(L50,ตั้งค่า!$AD$25:$AH$28,5,TRUE))","v":""},{"$f":"IF(L50=\"\",\"\",VLOOKUP(L50,ตั้งค่า!$AD$25:$AH$28,4,TRUE))","v":""},{"$f":"รายชื่อนักเรียน!F50","v":0},null,null,null,null,null,"",{"$f":"IFERROR(IF(OR(รายชื่อนักเรียน!F50=\"ย้าย\",รายชื่อนักเรียน!F50=\"ออก\",รายชื่อนักเรียน!F50=\"ร\",รายชื่อนักเรียน!F50=\"มส\",U50=\"\"),\"\",ROUND(U50/$U$5*$L$5,0)),\"\")","v":""},{"$f":"IF(V50=\"\",\"\",VLOOKUP(V50,ตั้งค่า!$AD$25:$AH$28,5,TRUE))","v":""},{"$f":"IF(V50=\"\",\"\",VLOOKUP(V50,ตั้งค่า!$AD$25:$AH$28,4,TRUE))","v":""},"",{"$f":"IF(Y50=\"\",\"\",VLOOKUP(Y50,ตั้งค่า!$AD$25:$AH$28,5,TRUE))","v":""},{"$f":"IF(Y50=\"\",\"\",VLOOKUP(Y50,ตั้งค่า!$AD$25:$AH$28,4,TRUE))","v":""},0]

{"sheet":"ปกหลัง","index":14,"n_rows":48,"n_cols":6,"rows_kept":48,"cut":false,"hidden":false,"merged":[[1,1,1,8],[22,2,22,3],[23,2,23,3],[24,2,24,3],[25,2,25,3],[22,5,22,6],[23,5,23,6],[24,5,24,6],[25,5,25,6],[26,5,26,6],[27,5,27,6],[28,5,28,6],[29,5,29,6],[30,5,30,6],[26,2,26,3],[27,2,27,3],[28,2,28,3],[29,2,29,3],[30,2,30,3],[32,5,32,6],[33,5,33,6],[34,5,34,6],[32,2,32,4],[33,2,33,4],[34,2,34,4],[35,5,35,6],[36,5,36,6],[37,5,37,6],[35,2,35,4],[36,2,36,4],[37,2,37,4],[38,5,38,6],[39,5,39,6],[40,5,40,6],[38,2,38,4],[39,2,39,4],[40,2,40,4]]}
[null,"ปกหลัง"]
[null,"คำอธิบายการใช้แบบบันทึกผลการเรียนประจำรายวิชา ปพ.5"]
[null,"การบันทึกเวลาเรียน"]
[null,"1. เลขประจำตัว  ให้กรอกเลขประจำตัวนักเรียนเรียงจากน้อยไปมาก แยกชายหญิง โดยเรียงชายก่อน"]
[null,"2. สัปดาห์ที่ 1-20 เป็นสัปดาห์ในภาคเรียนที่ 1 และสัปดาห์ที่ 21-40 เป็นสัปดาห์ในภาคเรียนที่ 2"]
[null,"3. ระบุชื่อวันที่ เดือน ปี ที่สอนให้ชัดเจน ตามจำนวนชั่วโมงต่อสัปดาห์ของแต่ละรายวิชาที่กำหนด"]
[null,"4. การบันทึกเวลาเรียน"]
[null,null,"4.1 ผู้ที่มาเรียนให้ทำเครื่องหมาย / ในแต่ละช่อง  สำหรับผู้ที่ไม่มาเรียนให้ระบุสาเหตุของการไม่มาเรียน"]
[null,null,null,"ในแต่ละช่อง  \"ป\"--ป่วย   \"ล\"---ลา   \"ข\"---ขาดเรียน  แล้วแต่กรณี และ \"ย\"---วันหยุด"]
[null,null,"4.2 ถ้านักเรียนย้าย หรือออกจากสถานศึกษาระหว่างปี ให้ทำเครื่องหมาย - หรือขีดเส้นตรงด้วยหมึกสีแดง"]
[null,null,null,"แล้วระบุสาเหตุที่ออกกำกับไว้ด้วย เช่น ย้ายไปศึกษาต่อที่อื่น เป็นต้น"]
[null,null,"4.3 ให้รวมจำนวนชั่วโมงที่สอนตลอดปีหรือภาคเรียนในช่อง \"เวลาเรียนเต็ม\" และคำนวณร้อยละที่มาเรียน"]
[null,null,null,"ลงในช่อง \"ร้อยละที่มาเรียน\" หากเวลาเรียนไม่ถึงร้อยละ 80 ของรายวิชานั้น ให้บันทึกด้วยสีแดง"]
[null,"การบันทึกผลการเรียน"]
[null,"5. การบันทึกผลการเรียน มี  3 ลักษณะ คือ"]
[null,null,"5.1 การวัดผลระหว่างเรียน  เป็นการบันทึกคะแนนรายตัวชี้วัดระหว่างเรียนภาคเรียนที่ 1 และ 2"]
[null,null,"5.2 การวัดผลปลายภาค  เป็นการบันทึกคะแนนสอบปลายภาคเรียนที่ 1 และ 2"]
[null,null,"5.3 การตัดสินผลการเรียนตลอดปี  นำคะแนนรวมระหว่างเรียนและปลายภาคมา เพื่อตัดสินผลการเรียน"]
[null,"6. ให้บันทึกผลการเรียนตามตัวชี้วัดระหว่างเรียนของแต่ละภาคเรียน และคะแนนสอบปลายภาคเรียน"]
[null,null,"ตามสัดส่วนคะแนนระหว่างเรียน : ปลายภาค ที่สถานศึกษากำหนด เช่น 70:30 หรือ 80:20 เป็นต้น "]
[null,"7. ระดับผลการเรียนรายวิชา "]
[null,null,"ระดับผลการเรียนรายวิชา  มีความหมายและช่วงคะแนนเป็นร้อยละ ดังนี้"]
[null,null,"ระดับผลการเรียน",null,"ความหมาย","ช่วงคะแนนเป็นร้อยละ"]
[null,null,0,null,"ต่ำกว่าเกณฑ์","0  -  49"]
[null,null,1,null,"ผ่านเกณฑ์ขั้นต่ำ","50  -  54"]
[null,null,1.5,null,"พอใช้","55  -  59"]
[null,null,2,null,"ปานกลาง","60  - 64"]
[null,null,2.5,null,"ค่อนข้างดี","65  -  69"]
[null,null,3,null,"ดี","70  -  74"]
[null,null,3.5,null,"ดีมาก","75  -  79"]
[null,null,4,null,"ดีเยี่ยม","80  -  100"]
[null,"8. สัดส่วนคะแนนรายวิชาในแต่ละกลุ่มสาระการเรียนรู้  คะแนนระหว่างเรียน : คะแนนวัดผลปลายภาค"]
[null,null,"กลุ่มสาระการเรียนรู้",null,null,"ช่วงคะแนนเป็นร้อยละ"]
[null,null,"ภาษาไทย",null,null," 70 : 30"]
[null,null,"คณิตศาสตร์",null,null," 70 : 30"]
[null,null,"วิทยาศาสตร์และเทคโนโลยี",null,null," 70 : 30"]
[null,null,"สังคมศึกษา ศาสนาและวัฒนธรรม",null,null," 70 : 30"]
[null,null,"สุขศึกษาและพลศึกษา",null,null," 80 : 20"]
[null,null,"ศิลปะ",null,null," 80 : 20"]
[null,null,"การงานอาชีพ",null,null," 80 : 20"]
[null,null,"ภาษาต่างประเทศ",null,null," 70 : 30"]
[null,"9. การบันทึกคุณลักษณะอันพึงประสงค์และการบันทึกการอ่าน คิด วิเคราะห์"]
[null,"   กำหนดค่าคะแนนเต็ม ลงในช่องแต่ละข้อ  แล้วสรุปผลการประเมิน 4 ระดับ  ดังนี้"]
[null,null,"ระดับ  0  หมายถึง  ไม่ผ่าน",null,null,"ระดับ  2  หมายถึง  ดี"]
[null,null,"ระดับ  1  หมายถึง  ผ่าน",null,null,"ระดับ  3  หมายถึง  ดีเยี่ยม"]
[null,"10. หน้าปก ปพ.5"]
[null,"         สรุปจำนวนนักเรียนที่ได้ผลการเรียน  ผลการประเมินแต่ละระดับ บันทึกในช่องสรุปผลการประเมิน (หน้าปก ปพ.5)"]
[null,"แล้วเซ็นต์ชื่อครูผู้สอน  หัวหน้ากลุ่มสาระ  หัวหน้าวิชาการ  และนำเสนอผู้อำนวยการโรงเรียน  พร้อมลงวันที่อนุมัติ"]

{"sheet":"บันทึกข้อความ","index":15,"n_rows":30,"n_cols":19,"rows_kept":30,"cut":false,"hidden":false,"merged":[[29,5,29,10],[29,17,29,22],[24,15,24,22],[28,18,28,21],[1,1,1,11],[28,6,28,9],[24,3,24,10],[18,6,18,9],[19,5,19,10],[4,2,4,4],[4,6,4,7],[1,13,1,23],[19,17,19,22],[4,14,4,16],[4,18,4,19],[18,18,18,21]]}
[]
[null,"บันทึกข้อความรายงานคะแนนระหว่างปี",null,null,null,null,null,null,null,null,null,null,null,"บันทึกข้อความรายงานผลการเรียนปลายปี"]
[]
[null,"ส่วนราชการ",null,null,{"$f":"\"โรงเรียน\"&ตั้งค่า!E3&\"\"&ตั้งค่า!C12","v":"โรงเรียนบ้านหัวคลอง"},null,null,null,null,null,null,null,null,"ส่วนราชการ",null,null,{"$f":"\"โรงเรียน\"&ตั้งค่า!E3&\"\"&ตั้งค่า!C12","v":"โรงเรียนบ้านหัวคลอง"}]
[null,"ที่","พิเศษ/2567",null,null,"วันที่","2024-11-01",null,null,null,null,null,null,"ที่","พิเศษ/2568",null,null,"วันที่","2025-03-31"]
[null,"เรื่อง",{"$f":"\"รายงานคะแนนระหว่างปี ภาคเรียนที่ 1 รายวิชา  \"&ตั้งค่า!C18&\"  ชั้น\"&ตั้งค่า!C17","v":"รายงานคะแนนระหว่างปี ภาคเรียนที่ 1 รายวิชา    ชั้น"},null,null,null,null,null,null,null,null,null,null,"เรื่อง",{"$f":"\"รายงานคะแนนปลายปี รายวิชา  \"&ตั้งค่า!C18&\"  ชั้น\"&ตั้งค่า!C17","v":"รายงานคะแนนปลายปี รายวิชา    ชั้น"}]
[null,{"$f":"\"เรียน  ผู้อำนวยการโรงเรียน\"&ตั้งค่า!C12","v":"เรียน  ผู้อำนวยการโรงเรียนบ้านหัวคลอง"},null,null,null,null,null,null,null,null,null,null,null,{"$f":"\"เรียน  ผู้อำนวยการโรงเรียน\"&ตั้งค่า!C12","v":"เรียน  ผู้อำนวยการโรงเรียนบ้านหัวคลอง"}]
[null,null,null,{"$f":"\"ตามที่ โรงเรียน\"&ตั้งค่า!C12&\"  มีคำสั่งมอบหมายให้ข้าพเจ้า  \"&ตั้งค่า!C25","v":"ตามที่ โรงเรียนบ้านหัวคลอง  มีคำสั่งมอบหมายให้ข้าพเจ้า  "},null,null,null,null,null,null,null,null,null,null,null,{"$f":"\"ตามที่ โรงเรียน\"&ตั้งค่า!C12&\"  มีคำสั่งมอบหมายให้ข้าพเจ้า  \"&ตั้งค่า!C25","v":"ตามที่ โรงเรียนบ้านหัวคลอง  มีคำสั่งมอบหมายให้ข้าพเจ้า  "}]
[null,{"$f":"\"ตำแหน่ง  \"&ตั้งค่า!C26&\" โรงเรียน\"&ตั้งค่า!C12&\"  เป็นครูผู้สอนประจำ\"&\"  รายวิชา  \"&ตั้งค่า!C18","v":"ตำแหน่ง   โรงเรียนบ้านหัวคลอง  เป็นครูผู้สอนประจำ  รายวิชา  "},null,null,null,null,null,null,null,null,null,null,null,{"$f":"\"ตำแหน่ง  \"&ตั้งค่า!C26&\" โรงเรียน\"&ตั้งค่า!C12&\"  เป็นครูผู้สอนประจำ\"&\"  รายวิชา  \"&ตั้งค่า!C18","v":"ตำแหน่ง   โรงเรียนบ้านหัวคลอง  เป็นครูผู้สอนประจำ  รายวิชา  "}]
[null,{"$f":"\"ชั้น\"&ตั้งค่า!C17&\" ปีการศึกษา \"&ตั้งค่า!C11&\"  นั้น\"","v":"ชั้น ปีการศึกษา   นั้น"},null,null,null,null,null,null,null,null,null,null,null,{"$f":"\"ชั้น\"&ตั้งค่า!C17&\" ปีการศึกษา \"&ตั้งค่า!C11&\"  นั้น\"","v":"ชั้น ปีการศึกษา   นั้น"}]
[null,null,null,"บัดนี้ ข้าพเจ้าได้จัดการเรียนรู้และประเมินผลรายวิชาดังกล่าว   ซึ่งสอดคล้องกับหลักสูตรสถานศึกษา",null,null,null,null,null,null,null,null,null,null,null,"บัดนี้ ข้าพเจ้าได้จัดการเรียนรู้และประเมินผลรายวิชาดังกล่าว   ซึ่งสอดคล้องกับหลักสูตรสถานศึกษา"]
[null,"และหลักสูตรแกนกลางการศึกษาขั้นพื้นฐาน การวัดประเมินผลการเรียนรู้ตามตัวชี้วัด การประเมินคุณลักษณะ",null,null,null,null,null,null,null,null,null,null,null,"และหลักสูตรแกนกลางการศึกษาขั้นพื้นฐาน การวัดประเมินผลการเรียนรู้ตามตัวชี้วัด การประเมินคุณลักษณะ"]
[null,"อันพึงประสงค์   การประเมินการอ่าน คิดวิเคราะห์และเขียน ในภาคเรียนที่ 1 เสร็จสิ้นแล้ว นั้น",null,null,null,null,null,null,null,null,null,null,null,"อันพึงประสงค์   การประเมินการอ่าน คิดวิเคราะห์และเขียน เสร็จสิ้นแล้ว นั้น"]
[null,null,null,"ข้าพเจ้าจึงขอรายงานผลคะแนนระหว่างปี และแนบแบบรายงานผลมาพร้อมฉบับนี้ด้วยแล้ว",null,null,null,null,null,null,null,null,null,null,null,"ข้าพเจ้าจึงขอรายงานผลการเรียนปลายปี และแนบแบบรายงานผลมาพร้อมฉบับนี้ด้วยแล้ว"]
[]
[null,null,null,"จึงเรียนมาเพื่อโปรดทราบ",null,null,null,null,null,null,null,null,null,null,null,"จึงเรียนมาเพื่อโปรดพิจารณาอนุมัติผลการเรียนต่อไป"]
[]
[null,null,null,null,null,null,"ลงชื่อ",null,null,null,null,null,null,null,null,null,null,null,"ลงชื่อ"]
[null,null,null,null,null,null,{"$f":"\"(\"&ตั้งค่า!C25&\")\"","v":"()"},null,null,null,null,null,null,null,null,null,null,null,{"$f":"\"(\"&ตั้งค่า!C25&\")\"","v":"()"}]
[null,null,null,null,null,{"$f":"\"ตำแหน่ง  \"&ตั้งค่า!C26&\"โรงเรียน\"&ตั้งค่า!C12","v":"ตำแหน่ง  โรงเรียนบ้านหัวคลอง"},null,null,null,null,null,null,null,null,null,null,null,{"$f":"\"ตำแหน่ง  \"&ตั้งค่า!C26&\"โรงเรียน\"&ตั้งค่า!C12","v":"ตำแหน่ง  โรงเรียนบ้านหัวคลอง"}]
[]
[]
[]
[null,null,null,"ความคิดเห็นของผู้อำนวยการโรงเรียน",null,null,null,null,null,null,null,null,null,null,null,"ความคิดเห็นของผู้อำนวยการโรงเรียน"]
[]
[]
[]
[]
[null,null,null,null,null,null,{"$f":"\"(\"&ตั้งค่า!C32&\")\"","v":"()"},null,null,null,null,null,null,null,null,null,null,null,{"$f":"\"(\"&ตั้งค่า!C32&\")\"","v":"()"}]
[null,null,null,null,null,{"$f":"CONCATENATE(ตั้งค่า!B32,ตั้งค่า!C12)","v":"ผู้อำนวยการโรงเรียนบ้านหัวคลอง"},null,null,null,null,null,null,null,null,null,null,null,{"$f":"CONCATENATE(ตั้งค่า!B32,ตั้งค่า!C12)","v":"ผู้อำนวยการโรงเรียนบ้านหัวคลอง"}]

{"sheet":"รายงานคะแนนระหว่างปี","index":16,"n_rows":54,"n_cols":16,"rows_kept":54,"cut":false,"hidden":false,"merged":[[50,3,50,7],[51,3,51,7],[30,3,30,7],[35,3,35,7],[5,8,5,9],[31,3,31,7],[32,3,32,7],[33,3,33,7],[34,3,34,7],[0,15,0,18],[29,3,29,7],[22,3,22,7],[27,3,27,7],[28,3,28,7],[5,12,6,12],[8,3,8,7],[9,3,9,7],[10,3,10,7],[11,3,11,7],[12,3,12,7],[1,4,1,11],[2,4,2,11],[3,4,3,11],[1,15,1,17],[5,2,6,2],[23,3,23,7],[24,3,24,7],[25,3,25,7],[26,3,26,7],[13,3,13,7],[14,3,14,7],[15,3,15,7],[16,3,16,7],[17,3,17,7],[18,3,18,7],[19,3,19,7],[20,3,20,7],[21,3,21,7],[5,3,6,7],[7,3,7,7],[52,2,52,7],[53,2,53,7],[45,3,45,7],[46,3,46,7],[36,3,36,7],[37,3,37,7],[38,3,38,7],[39,3,39,7],[40,3,40,7],[41,3,41,7],[42,3,42,7],[43,3,43,7],[44,3,44,7],[47,3,47,7],[48,3,48,7],[49,3,49,7]]}
[]
[null,null,null,null,{"$f":"\"แบบรายงานคะแนนระหว่างปี  ภาคเรียนที่ 1  ปีการศึกษา \"&ตั้งค่า!C11","v":"แบบรายงานคะแนนระหว่างปี  ภาคเรียนที่ 1  ปีการศึกษา "},null,null,null,null,null,null,null,null,null,null,"คะแนนภาคเรียนที่ 1"]
[null,null,null,null,{"$f":"\"โรงเรียน\"&ตั้งค่า!C12 &\"   อำเภอ\"&ตั้งค่า!C14&\"  จังหวัด\"&ตั้งค่า!C15","v":"โรงเรียนบ้านหัวคลอง   อำเภอตากใบ  จังหวัดนราธิวาส"}]
[null,null,null,null,{"$f":"\"วิชา\"&ตั้งค่า!C18&\"   ชั้น\"&ตั้งค่า!C17","v":"วิชา   ชั้น"}]
[]
[null,null,"เลขที่","ชื่อ - สกุล",null,null,null,null,"ผลคะแนนระหว่างเรียน",null,"สรุปผลคุณลักษณะ","สรุปผลการอ่าน","หมายเหตุ"]
[null,null,null,null,null,null,null,null,"50 คะแนน","ร้อยละ","อันพึงประสงค์","คิดวิเคราะห์ฯ"]
[null,null,{"$f":"รายชื่อนักเรียน!B6","v":0},{"$f":"รายชื่อนักเรียน!E6","v":0},null,null,null,null,{"$f":"IF(D8=\"\",\"\",'ประเมิน ตชว.ปลายทางT1'!T6)","v":""},{"$f":"IF(ISERROR(I8*2),\"\",(I8*2))","v":""},{"$f":"คุณลักษณะ!Q6","v":""},{"$f":"อ่านคิดวิเคราะห์!N6","v":""},{"$f":"IF(รายชื่อนักเรียน!$F6=\"\",\"\",รายชื่อนักเรียน!$F6)","v":""}]
[null,null,{"$f":"รายชื่อนักเรียน!B7","v":0},{"$f":"รายชื่อนักเรียน!E7","v":0},null,null,null,null,{"$f":"IF(D9=\"\",\"\",'ประเมิน ตชว.ปลายทางT1'!T7)","v":""},{"$f":"IF(ISERROR(I9*2),\"\",(I9*2))","v":""},{"$f":"คุณลักษณะ!Q7","v":""},{"$f":"อ่านคิดวิเคราะห์!N7","v":""},{"$f":"IF(รายชื่อนักเรียน!$F7=\"\",\"\",รายชื่อนักเรียน!$F7)","v":""}]
[null,null,{"$f":"รายชื่อนักเรียน!B8","v":0},{"$f":"รายชื่อนักเรียน!E8","v":0},null,null,null,null,{"$f":"IF(D10=\"\",\"\",'ประเมิน ตชว.ปลายทางT1'!T8)","v":""},"",{"$f":"คุณลักษณะ!Q8","v":""},{"$f":"อ่านคิดวิเคราะห์!N8","v":""},{"$f":"IF(รายชื่อนักเรียน!$F8=\"\",\"\",รายชื่อนักเรียน!$F8)","v":""}]
[null,null,{"$f":"รายชื่อนักเรียน!B9","v":0},{"$f":"รายชื่อนักเรียน!E9","v":0},null,null,null,null,{"$f":"IF(D11=\"\",\"\",'ประเมิน ตชว.ปลายทางT1'!T9)","v":""},"",{"$f":"คุณลักษณะ!Q9","v":""},{"$f":"อ่านคิดวิเคราะห์!N9","v":""},{"$f":"IF(รายชื่อนักเรียน!$F9=\"\",\"\",รายชื่อนักเรียน!$F9)","v":""}]
[null,null,{"$f":"รายชื่อนักเรียน!B10","v":0},{"$f":"รายชื่อนักเรียน!E10","v":0},null,null,null,null,{"$f":"IF(D12=\"\",\"\",'ประเมิน ตชว.ปลายทางT1'!T10)","v":""},"",{"$f":"คุณลักษณะ!Q10","v":""},{"$f":"อ่านคิดวิเคราะห์!N10","v":""},{"$f":"IF(รายชื่อนักเรียน!$F10=\"\",\"\",รายชื่อนักเรียน!$F10)","v":""}]
[null,null,{"$f":"รายชื่อนักเรียน!B11","v":0},{"$f":"รายชื่อนักเรียน!E11","v":0},null,null,null,null,{"$f":"IF(D13=\"\",\"\",'ประเมิน ตชว.ปลายทางT1'!T11)","v":""},"",{"$f":"คุณลักษณะ!Q11","v":""},{"$f":"อ่านคิดวิเคราะห์!N11","v":""},{"$f":"IF(รายชื่อนักเรียน!$F11=\"\",\"\",รายชื่อนักเรียน!$F11)","v":""}]
[null,null,{"$f":"รายชื่อนักเรียน!B12","v":0},{"$f":"รายชื่อนักเรียน!E12","v":0},null,null,null,null,{"$f":"IF(D14=\"\",\"\",'ประเมิน ตชว.ปลายทางT1'!T12)","v":""},"",{"$f":"คุณลักษณะ!Q12","v":""},{"$f":"อ่านคิดวิเคราะห์!N12","v":""},{"$f":"IF(รายชื่อนักเรียน!$F12=\"\",\"\",รายชื่อนักเรียน!$F12)","v":""}]
[null,null,{"$f":"รายชื่อนักเรียน!B13","v":0},{"$f":"รายชื่อนักเรียน!E13","v":0},null,null,null,null,{"$f":"IF(D15=\"\",\"\",'ประเมิน ตชว.ปลายทางT1'!T13)","v":""},"",{"$f":"คุณลักษณะ!Q13","v":""},{"$f":"อ่านคิดวิเคราะห์!N13","v":""},{"$f":"IF(รายชื่อนักเรียน!$F13=\"\",\"\",รายชื่อนักเรียน!$F13)","v":""}]
[null,null,{"$f":"รายชื่อนักเรียน!B14","v":0},{"$f":"รายชื่อนักเรียน!E14","v":0},null,null,null,null,{"$f":"IF(D16=\"\",\"\",'ประเมิน ตชว.ปลายทางT1'!T14)","v":""},"",{"$f":"คุณลักษณะ!Q14","v":""},{"$f":"อ่านคิดวิเคราะห์!N14","v":""},{"$f":"IF(รายชื่อนักเรียน!$F14=\"\",\"\",รายชื่อนักเรียน!$F14)","v":""}]
[null,null,{"$f":"รายชื่อนักเรียน!B15","v":0},{"$f":"รายชื่อนักเรียน!E15","v":0},null,null,null,null,{"$f":"IF(D17=\"\",\"\",'ประเมิน ตชว.ปลายทางT1'!T15)","v":""},"",{"$f":"คุณลักษณะ!Q15","v":""},{"$f":"อ่านคิดวิเคราะห์!N15","v":""},{"$f":"IF(รายชื่อนักเรียน!$F15=\"\",\"\",รายชื่อนักเรียน!$F15)","v":""}]
[null,null,{"$f":"รายชื่อนักเรียน!B16","v":0},{"$f":"รายชื่อนักเรียน!E16","v":0},null,null,null,null,{"$f":"IF(D18=\"\",\"\",'ประเมิน ตชว.ปลายทางT1'!T16)","v":""},"",{"$f":"คุณลักษณะ!Q16","v":""},{"$f":"อ่านคิดวิเคราะห์!N16","v":""},{"$f":"IF(รายชื่อนักเรียน!$F16=\"\",\"\",รายชื่อนักเรียน!$F16)","v":""}]
[null,null,{"$f":"รายชื่อนักเรียน!B17","v":0},{"$f":"รายชื่อนักเรียน!E17","v":0},null,null,null,null,{"$f":"IF(D19=\"\",\"\",'ประเมิน ตชว.ปลายทางT1'!T17)","v":""},"",{"$f":"คุณลักษณะ!Q17","v":""},{"$f":"อ่านคิดวิเคราะห์!N17","v":""},{"$f":"IF(รายชื่อนักเรียน!$F17=\"\",\"\",รายชื่อนักเรียน!$F17)","v":""}]
[null,null,{"$f":"รายชื่อนักเรียน!B18","v":0},{"$f":"รายชื่อนักเรียน!E18","v":0},null,null,null,null,{"$f":"IF(D20=\"\",\"\",'ประเมิน ตชว.ปลายทางT1'!T18)","v":""},"",{"$f":"คุณลักษณะ!Q18","v":""},{"$f":"อ่านคิดวิเคราะห์!N18","v":""},{"$f":"IF(รายชื่อนักเรียน!$F18=\"\",\"\",รายชื่อนักเรียน!$F18)","v":""}]
[null,null,{"$f":"รายชื่อนักเรียน!B19","v":0},{"$f":"รายชื่อนักเรียน!E19","v":0},null,null,null,null,{"$f":"IF(D21=\"\",\"\",'ประเมิน ตชว.ปลายทางT1'!T19)","v":""},"",{"$f":"คุณลักษณะ!Q19","v":""},{"$f":"อ่านคิดวิเคราะห์!N19","v":""},{"$f":"IF(รายชื่อนักเรียน!$F19=\"\",\"\",รายชื่อนักเรียน!$F19)","v":""}]
[null,null,{"$f":"รายชื่อนักเรียน!B20","v":0},{"$f":"รายชื่อนักเรียน!E20","v":0},null,null,null,null,{"$f":"IF(D22=\"\",\"\",'ประเมิน ตชว.ปลายทางT1'!T20)","v":""},"",{"$f":"คุณลักษณะ!Q20","v":""},{"$f":"อ่านคิดวิเคราะห์!N20","v":""},{"$f":"IF(รายชื่อนักเรียน!$F20=\"\",\"\",รายชื่อนักเรียน!$F20)","v":""}]
[null,null,{"$f":"รายชื่อนักเรียน!B21","v":0},{"$f":"รายชื่อนักเรียน!E21","v":0},null,null,null,null,{"$f":"IF(D23=\"\",\"\",'ประเมิน ตชว.ปลายทางT1'!T21)","v":""},"",{"$f":"คุณลักษณะ!Q21","v":""},{"$f":"อ่านคิดวิเคราะห์!N21","v":""},{"$f":"IF(รายชื่อนักเรียน!$F21=\"\",\"\",รายชื่อนักเรียน!$F21)","v":""}]
[null,null,{"$f":"รายชื่อนักเรียน!B22","v":0},{"$f":"รายชื่อนักเรียน!E22","v":0},null,null,null,null,{"$f":"IF(D24=\"\",\"\",'ประเมิน ตชว.ปลายทางT1'!T22)","v":""},"",{"$f":"คุณลักษณะ!Q22","v":""},{"$f":"อ่านคิดวิเคราะห์!N22","v":""},{"$f":"IF(รายชื่อนักเรียน!$F22=\"\",\"\",รายชื่อนักเรียน!$F22)","v":""}]
[null,null,{"$f":"รายชื่อนักเรียน!B23","v":0},{"$f":"รายชื่อนักเรียน!E23","v":0},null,null,null,null,{"$f":"IF(D25=\"\",\"\",'ประเมิน ตชว.ปลายทางT1'!T23)","v":""},"",{"$f":"คุณลักษณะ!Q23","v":""},{"$f":"อ่านคิดวิเคราะห์!N23","v":""},{"$f":"IF(รายชื่อนักเรียน!$F23=\"\",\"\",รายชื่อนักเรียน!$F23)","v":""}]
[null,null,{"$f":"รายชื่อนักเรียน!B24","v":0},{"$f":"รายชื่อนักเรียน!E24","v":0},null,null,null,null,{"$f":"IF(D26=\"\",\"\",'ประเมิน ตชว.ปลายทางT1'!T24)","v":""},"",{"$f":"คุณลักษณะ!Q24","v":""},{"$f":"อ่านคิดวิเคราะห์!N24","v":""},{"$f":"IF(รายชื่อนักเรียน!$F24=\"\",\"\",รายชื่อนักเรียน!$F24)","v":""}]
[null,null,{"$f":"รายชื่อนักเรียน!B25","v":0},{"$f":"รายชื่อนักเรียน!E25","v":0},null,null,null,null,{"$f":"IF(D27=\"\",\"\",'ประเมิน ตชว.ปลายทางT1'!T25)","v":""},"",{"$f":"คุณลักษณะ!Q25","v":""},{"$f":"อ่านคิดวิเคราะห์!N25","v":""},{"$f":"IF(รายชื่อนักเรียน!$F25=\"\",\"\",รายชื่อนักเรียน!$F25)","v":""}]
[null,null,{"$f":"รายชื่อนักเรียน!B26","v":0},{"$f":"รายชื่อนักเรียน!E26","v":0},null,null,null,null,{"$f":"IF(D28=\"\",\"\",'ประเมิน ตชว.ปลายทางT1'!T26)","v":""},"",{"$f":"คุณลักษณะ!Q26","v":""},{"$f":"อ่านคิดวิเคราะห์!N26","v":""},{"$f":"IF(รายชื่อนักเรียน!$F26=\"\",\"\",รายชื่อนักเรียน!$F26)","v":""}]
[null,null,{"$f":"รายชื่อนักเรียน!B27","v":0},{"$f":"รายชื่อนักเรียน!E27","v":0},null,null,null,null,{"$f":"IF(D29=\"\",\"\",'ประเมิน ตชว.ปลายทางT1'!T27)","v":""},"",{"$f":"คุณลักษณะ!Q27","v":""},{"$f":"อ่านคิดวิเคราะห์!N27","v":""},{"$f":"IF(รายชื่อนักเรียน!$F27=\"\",\"\",รายชื่อนักเรียน!$F27)","v":""}]
[null,null,{"$f":"รายชื่อนักเรียน!B28","v":0},{"$f":"รายชื่อนักเรียน!E28","v":0},null,null,null,null,{"$f":"IF(D30=\"\",\"\",'ประเมิน ตชว.ปลายทางT1'!T28)","v":""},"",{"$f":"คุณลักษณะ!Q28","v":""},{"$f":"อ่านคิดวิเคราะห์!N28","v":""},{"$f":"IF(รายชื่อนักเรียน!$F28=\"\",\"\",รายชื่อนักเรียน!$F28)","v":""}]
[null,null,{"$f":"รายชื่อนักเรียน!B29","v":0},{"$f":"รายชื่อนักเรียน!E29","v":0},null,null,null,null,{"$f":"IF(D31=\"\",\"\",'ประเมิน ตชว.ปลายทางT1'!T29)","v":""},"",{"$f":"คุณลักษณะ!Q29","v":""},{"$f":"อ่านคิดวิเคราะห์!N29","v":""},{"$f":"IF(รายชื่อนักเรียน!$F29=\"\",\"\",รายชื่อนักเรียน!$F29)","v":""}]
[null,null,{"$f":"รายชื่อนักเรียน!B30","v":0},{"$f":"รายชื่อนักเรียน!E30","v":0},null,null,null,null,{"$f":"IF(D32=\"\",\"\",'ประเมิน ตชว.ปลายทางT1'!T30)","v":""},"",{"$f":"คุณลักษณะ!Q30","v":""},{"$f":"อ่านคิดวิเคราะห์!N30","v":""},{"$f":"IF(รายชื่อนักเรียน!$F30=\"\",\"\",รายชื่อนักเรียน!$F30)","v":""}]
[null,null,{"$f":"รายชื่อนักเรียน!B31","v":0},{"$f":"รายชื่อนักเรียน!E31","v":0},null,null,null,null,{"$f":"IF(D33=\"\",\"\",'ประเมิน ตชว.ปลายทางT1'!T31)","v":""},"",{"$f":"คุณลักษณะ!Q31","v":""},{"$f":"อ่านคิดวิเคราะห์!N31","v":""},{"$f":"IF(รายชื่อนักเรียน!$F31=\"\",\"\",รายชื่อนักเรียน!$F31)","v":""}]
[null,null,{"$f":"รายชื่อนักเรียน!B32","v":0},{"$f":"รายชื่อนักเรียน!E32","v":0},null,null,null,null,{"$f":"IF(D34=\"\",\"\",'ประเมิน ตชว.ปลายทางT1'!T32)","v":""},"",{"$f":"คุณลักษณะ!Q32","v":""},{"$f":"อ่านคิดวิเคราะห์!N32","v":""},{"$f":"IF(รายชื่อนักเรียน!$F32=\"\",\"\",รายชื่อนักเรียน!$F32)","v":""}]
[null,null,{"$f":"รายชื่อนักเรียน!B33","v":0},{"$f":"รายชื่อนักเรียน!E33","v":0},null,null,null,null,{"$f":"IF(D35=\"\",\"\",'ประเมิน ตชว.ปลายทางT1'!T33)","v":""},"",{"$f":"คุณลักษณะ!Q33","v":""},{"$f":"อ่านคิดวิเคราะห์!N33","v":""},{"$f":"IF(รายชื่อนักเรียน!$F33=\"\",\"\",รายชื่อนักเรียน!$F33)","v":""}]
[null,null,{"$f":"รายชื่อนักเรียน!B34","v":0},{"$f":"รายชื่อนักเรียน!E34","v":0},null,null,null,null,{"$f":"IF(D36=\"\",\"\",'ประเมิน ตชว.ปลายทางT1'!T34)","v":""},"",{"$f":"คุณลักษณะ!Q34","v":""},{"$f":"อ่านคิดวิเคราะห์!N34","v":""},{"$f":"IF(รายชื่อนักเรียน!$F34=\"\",\"\",รายชื่อนักเรียน!$F34)","v":""}]
[null,null,{"$f":"รายชื่อนักเรียน!B35","v":0},{"$f":"รายชื่อนักเรียน!E35","v":0},null,null,null,null,{"$f":"IF(D37=\"\",\"\",'ประเมิน ตชว.ปลายทางT1'!T35)","v":""},"",{"$f":"คุณลักษณะ!Q35","v":""},{"$f":"อ่านคิดวิเคราะห์!N35","v":""},{"$f":"IF(รายชื่อนักเรียน!$F35=\"\",\"\",รายชื่อนักเรียน!$F35)","v":""}]
[null,null,{"$f":"รายชื่อนักเรียน!B36","v":0},{"$f":"รายชื่อนักเรียน!E36","v":0},null,null,null,null,{"$f":"IF(D38=\"\",\"\",'ประเมิน ตชว.ปลายทางT1'!T36)","v":""},"",{"$f":"คุณลักษณะ!Q36","v":""},{"$f":"อ่านคิดวิเคราะห์!N36","v":""},{"$f":"IF(รายชื่อนักเรียน!$F36=\"\",\"\",รายชื่อนักเรียน!$F36)","v":""}]
[null,null,{"$f":"รายชื่อนักเรียน!B37","v":0},{"$f":"รายชื่อนักเรียน!E37","v":0},null,null,null,null,{"$f":"IF(D39=\"\",\"\",'ประเมิน ตชว.ปลายทางT1'!T37)","v":""},"",{"$f":"คุณลักษณะ!Q37","v":""},{"$f":"อ่านคิดวิเคราะห์!N37","v":""},{"$f":"IF(รายชื่อนักเรียน!$F37=\"\",\"\",รายชื่อนักเรียน!$F37)","v":""}]
[null,null,{"$f":"รายชื่อนักเรียน!B38","v":0},{"$f":"รายชื่อนักเรียน!E38","v":0},null,null,null,null,{"$f":"IF(D40=\"\",\"\",'ประเมิน ตชว.ปลายทางT1'!T38)","v":""},"",{"$f":"คุณลักษณะ!Q38","v":""},{"$f":"อ่านคิดวิเคราะห์!N38","v":""},{"$f":"IF(รายชื่อนักเรียน!$F38=\"\",\"\",รายชื่อนักเรียน!$F38)","v":""}]
[null,null,{"$f":"รายชื่อนักเรียน!B39","v":0},{"$f":"รายชื่อนักเรียน!E39","v":0},null,null,null,null,{"$f":"IF(D41=\"\",\"\",'ประเมิน ตชว.ปลายทางT1'!T39)","v":""},"",{"$f":"คุณลักษณะ!Q39","v":""},{"$f":"อ่านคิดวิเคราะห์!N39","v":""},{"$f":"IF(รายชื่อนักเรียน!$F39=\"\",\"\",รายชื่อนักเรียน!$F39)","v":""}]
[null,null,{"$f":"รายชื่อนักเรียน!B40","v":0},{"$f":"รายชื่อนักเรียน!E40","v":0},null,null,null,null,{"$f":"IF(D42=\"\",\"\",'ประเมิน ตชว.ปลายทางT1'!T40)","v":""},"",{"$f":"คุณลักษณะ!Q40","v":""},{"$f":"อ่านคิดวิเคราะห์!N40","v":""},{"$f":"IF(รายชื่อนักเรียน!$F40=\"\",\"\",รายชื่อนักเรียน!$F40)","v":""}]
[null,null,{"$f":"รายชื่อนักเรียน!B41","v":0},{"$f":"รายชื่อนักเรียน!E41","v":0},null,null,null,null,{"$f":"IF(D43=\"\",\"\",'ประเมิน ตชว.ปลายทางT1'!T41)","v":""},"",{"$f":"คุณลักษณะ!Q41","v":""},{"$f":"อ่านคิดวิเคราะห์!N41","v":""},{"$f":"IF(รายชื่อนักเรียน!$F41=\"\",\"\",รายชื่อนักเรียน!$F41)","v":""}]
[null,null,{"$f":"รายชื่อนักเรียน!B42","v":0},{"$f":"รายชื่อนักเรียน!E42","v":0},null,null,null,null,{"$f":"IF(D44=\"\",\"\",'ประเมิน ตชว.ปลายทางT1'!T42)","v":""},"",{"$f":"คุณลักษณะ!Q42","v":""},{"$f":"อ่านคิดวิเคราะห์!N42","v":""},{"$f":"IF(รายชื่อนักเรียน!$F42=\"\",\"\",รายชื่อนักเรียน!$F42)","v":""}]
[null,null,{"$f":"รายชื่อนักเรียน!B43","v":0},{"$f":"รายชื่อนักเรียน!E43","v":0},null,null,null,null,{"$f":"IF(D45=\"\",\"\",'ประเมิน ตชว.ปลายทางT1'!T43)","v":""},"",{"$f":"คุณลักษณะ!Q43","v":""},{"$f":"อ่านคิดวิเคราะห์!N43","v":""},{"$f":"IF(รายชื่อนักเรียน!$F43=\"\",\"\",รายชื่อนักเรียน!$F43)","v":""}]
[null,null,{"$f":"รายชื่อนักเรียน!B44","v":0},{"$f":"รายชื่อนักเรียน!E44","v":0},null,null,null,null,{"$f":"IF(D46=\"\",\"\",'ประเมิน ตชว.ปลายทางT1'!T44)","v":""},"",{"$f":"คุณลักษณะ!Q44","v":""},{"$f":"อ่านคิดวิเคราะห์!N44","v":""},{"$f":"IF(รายชื่อนักเรียน!$F44=\"\",\"\",รายชื่อนักเรียน!$F44)","v":""}]
[null,null,{"$f":"รายชื่อนักเรียน!B45","v":0},{"$f":"รายชื่อนักเรียน!E45","v":0},null,null,null,null,{"$f":"IF(D47=\"\",\"\",'ประเมิน ตชว.ปลายทางT1'!T45)","v":""},"",{"$f":"คุณลักษณะ!Q45","v":""},{"$f":"อ่านคิดวิเคราะห์!N45","v":""},{"$f":"IF(รายชื่อนักเรียน!$F45=\"\",\"\",รายชื่อนักเรียน!$F45)","v":""}]
[null,null,{"$f":"รายชื่อนักเรียน!B46","v":0},{"$f":"รายชื่อนักเรียน!E46","v":0},null,null,null,null,{"$f":"IF(D48=\"\",\"\",'ประเมิน ตชว.ปลายทางT1'!T46)","v":""},{"$f":"IF(ISERROR(I48*2),\"\",(I48*2))","v":""},{"$f":"คุณลักษณะ!Q46","v":""},{"$f":"อ่านคิดวิเคราะห์!N46","v":""},{"$f":"IF(รายชื่อนักเรียน!$F46=\"\",\"\",รายชื่อนักเรียน!$F46)","v":""}]
[null,null,{"$f":"รายชื่อนักเรียน!B47","v":0},{"$f":"รายชื่อนักเรียน!E47","v":0},null,null,null,null,{"$f":"IF(D49=\"\",\"\",'ประเมิน ตชว.ปลายทางT1'!T47)","v":""},"",{"$f":"คุณลักษณะ!Q47","v":""},{"$f":"อ่านคิดวิเคราะห์!N47","v":""},{"$f":"IF(รายชื่อนักเรียน!$F47=\"\",\"\",รายชื่อนักเรียน!$F47)","v":""}]
[null,null,{"$f":"รายชื่อนักเรียน!B48","v":0},{"$f":"รายชื่อนักเรียน!E48","v":0},null,null,null,null,{"$f":"IF(D50=\"\",\"\",'ประเมิน ตชว.ปลายทางT1'!T48)","v":""},"",{"$f":"คุณลักษณะ!Q48","v":""},{"$f":"อ่านคิดวิเคราะห์!N48","v":""},{"$f":"IF(รายชื่อนักเรียน!$F48=\"\",\"\",รายชื่อนักเรียน!$F48)","v":""}]
[null,null,{"$f":"รายชื่อนักเรียน!B49","v":0},{"$f":"รายชื่อนักเรียน!E49","v":0},null,null,null,null,{"$f":"IF(D51=\"\",\"\",'ประเมิน ตชว.ปลายทางT1'!T49)","v":""},"",{"$f":"คุณลักษณะ!Q49","v":""},{"$f":"อ่านคิดวิเคราะห์!N49","v":""},{"$f":"IF(รายชื่อนักเรียน!$F49=\"\",\"\",รายชื่อนักเรียน!$F49)","v":""}]
[null,null,{"$f":"รายชื่อนักเรียน!B50","v":0},{"$f":"รายชื่อนักเรียน!E50","v":0},null,null,null,null,{"$f":"IF(D52=\"\",\"\",'ประเมิน ตชว.ปลายทางT1'!T50)","v":""},"",{"$f":"คุณลักษณะ!Q50","v":""},{"$f":"อ่านคิดวิเคราะห์!N50","v":""},{"$f":"IF(รายชื่อนักเรียน!$F50=\"\",\"\",รายชื่อนักเรียน!$F50)","v":""}]
[null,null,"รวม",null,null,null,null,null,{"$f":"SUM(I8:I52)","v":0},{"$f":"SUM(J8:J52)","v":0}]
[null,null,"เฉลี่ยร้อยละ",null,null,null,null,null,{"$f":"IF(ISERROR((I53*100)/(รายชื่อนักเรียน!$L$4*50)),\"\",((I53*100)/(รายชื่อนักเรียน!$L$4*50)))","v":""},{"$f":"IF(ISERROR((J53*100)/(รายชื่อนักเรียน!$L$4*100)),\"\",((J53*100)/(รายชื่อนักเรียน!$L$4*100)))","v":""}]

{"sheet":"รายงานคะแนนปลายปี","index":17,"n_rows":64,"n_cols":19,"rows_kept":64,"cut":false,"hidden":false,"merged":[[4,8,4,11],[4,14,6,14],[1,18,1,20],[2,4,2,13],[3,4,3,13],[16,3,16,7],[17,3,17,7],[4,2,6,2],[4,3,6,7],[7,3,7,7],[8,3,8,7],[0,18,0,21],[52,2,52,7],[53,2,53,7],[41,3,41,7],[42,3,42,7],[43,3,43,7],[44,3,44,7],[45,3,45,7],[37,3,37,7],[38,3,38,7],[39,3,39,7],[40,3,40,7],[46,3,46,7],[1,4,1,13],[47,3,47,7],[48,3,48,7],[49,3,49,7],[9,3,9,7],[10,3,10,7],[11,3,11,7],[21,3,21,7],[31,3,31,7],[24,3,24,7],[22,3,22,7],[23,3,23,7],[19,3,19,7],[20,3,20,7],[12,3,12,7],[18,3,18,7],[13,3,13,7],[14,3,14,7],[15,3,15,7],[58,2,58,4],[30,3,30,7],[25,3,25,7],[26,3,26,7],[27,3,27,7],[28,3,28,7],[29,3,29,7],[32,3,32,7],[33,3,33,7],[34,3,34,7],[35,3,35,7],[36,3,36,7],[56,2,56,14],[57,2,57,4],[50,3,50,7],[51,3,51,7],[59,2,59,4],[60,2,60,8],[60,9,60,14],[61,2,61,3],[61,7,61,8],[61,9,61,10],[62,2,62,3],[62,7,62,8],[62,9,62,10],[63,2,63,3],[63,7,63,8],[63,9,63,10]]}
[]
[null,null,null,null,{"$f":"\"แบบรายงานคะแนนปลายปี  ปีการศึกษา \"&ตั้งค่า!C11","v":"แบบรายงานคะแนนปลายปี  ปีการศึกษา "},null,null,null,null,null,null,null,null,null,null,null,null,null,"คะแนนภาคเรียนที่ 1 และ 2"]
[null,null,null,null,{"$f":"\"โรงเรียน\"&ตั้งค่า!C12 &\"   อำเภอ\"&ตั้งค่า!C14&\"  จังหวัด\"&ตั้งค่า!C15","v":"โรงเรียนบ้านหัวคลอง   อำเภอตากใบ  จังหวัดนราธิวาส"}]
[null,null,null,null,{"$f":"\"วิชา\"&ตั้งค่า!C18&\"   ชั้น\"&ตั้งค่า!C17","v":"วิชา   ชั้น"}]
[null,null,"เลขที่","ชื่อ - สกุล",null,null,null,null,"ผลคะแนนปลายปี",null,null,null,"สรุปผล","สรุปผล","หมายเหตุ"]
[null,null,null,null,null,null,null,null,"ภาค 1","ภาค 2","รวมคะแนน","ระดับ","คุณลักษณะ","การอ่าน"]
[null,null,null,null,null,null,null,null,"50 คะแนน","50 คะแนน","100 คะแนน","ผลการเรียน","อันพึงประสงค์","คิดวิเคราะห์ฯ"]
[null,null,{"$f":"รายชื่อนักเรียน!B6","v":0},{"$f":"รายชื่อนักเรียน!E6","v":0},null,null,null,null,{"$f":"IF(D8=\"\",\"\",'ประเมิน ตชว.ปลายทางT1'!T6)","v":""},{"$f":"IF(D8=\"\",\"\",'ประเมิน ตชว.ปลายทางT2'!T6)","v":""},{"$f":"'ประเมิน ตชว.ปลายทางT2'!U6","v":""},{"$f":"'ประเมิน ตชว.ปลายทางT2'!V6","v":""},{"$f":"คุณลักษณะ!AF6","v":""},{"$f":"อ่านคิดวิเคราะห์!AA6","v":""},{"$f":"IF(รายชื่อนักเรียน!$F6=\"\",\"\",รายชื่อนักเรียน!$F6)","v":""}]
[null,null,{"$f":"รายชื่อนักเรียน!B7","v":0},{"$f":"รายชื่อนักเรียน!E7","v":0},null,null,null,null,{"$f":"IF(D9=\"\",\"\",'ประเมิน ตชว.ปลายทางT1'!T7)","v":""},{"$f":"IF(D9=\"\",\"\",'ประเมิน ตชว.ปลายทางT2'!T7)","v":""},{"$f":"'ประเมิน ตชว.ปลายทางT2'!U7","v":""},{"$f":"'ประเมิน ตชว.ปลายทางT2'!V7","v":""},{"$f":"คุณลักษณะ!AF7","v":""},{"$f":"อ่านคิดวิเคราะห์!AA7","v":""},{"$f":"IF(รายชื่อนักเรียน!$F7=\"\",\"\",รายชื่อนักเรียน!$F7)","v":""}]
[null,null,{"$f":"รายชื่อนักเรียน!B8","v":0},{"$f":"รายชื่อนักเรียน!E8","v":0},null,null,null,null,{"$f":"IF(D10=\"\",\"\",'ประเมิน ตชว.ปลายทางT1'!T8)","v":""},{"$f":"IF(D10=\"\",\"\",'ประเมิน ตชว.ปลายทางT2'!T8)","v":""},{"$f":"'ประเมิน ตชว.ปลายทางT2'!U8","v":""},{"$f":"'ประเมิน ตชว.ปลายทางT2'!V8","v":""},{"$f":"คุณลักษณะ!AF8","v":""},{"$f":"อ่านคิดวิเคราะห์!AA8","v":""},{"$f":"IF(รายชื่อนักเรียน!$F8=\"\",\"\",รายชื่อนักเรียน!$F8)","v":""}]
[null,null,{"$f":"รายชื่อนักเรียน!B9","v":0},{"$f":"รายชื่อนักเรียน!E9","v":0},null,null,null,null,{"$f":"IF(D11=\"\",\"\",'ประเมิน ตชว.ปลายทางT1'!T9)","v":""},{"$f":"IF(D11=\"\",\"\",'ประเมิน ตชว.ปลายทางT2'!T9)","v":""},{"$f":"'ประเมิน ตชว.ปลายทางT2'!U9","v":""},{"$f":"'ประเมิน ตชว.ปลายทางT2'!V9","v":""},{"$f":"คุณลักษณะ!AF9","v":""},{"$f":"อ่านคิดวิเคราะห์!AA9","v":""},{"$f":"IF(รายชื่อนักเรียน!$F9=\"\",\"\",รายชื่อนักเรียน!$F9)","v":""}]
[null,null,{"$f":"รายชื่อนักเรียน!B10","v":0},{"$f":"รายชื่อนักเรียน!E10","v":0},null,null,null,null,{"$f":"IF(D12=\"\",\"\",'ประเมิน ตชว.ปลายทางT1'!T10)","v":""},{"$f":"IF(D12=\"\",\"\",'ประเมิน ตชว.ปลายทางT2'!T10)","v":""},{"$f":"'ประเมิน ตชว.ปลายทางT2'!U10","v":""},{"$f":"'ประเมิน ตชว.ปลายทางT2'!V10","v":""},{"$f":"คุณลักษณะ!AF10","v":""},{"$f":"อ่านคิดวิเคราะห์!AA10","v":""},{"$f":"IF(รายชื่อนักเรียน!$F10=\"\",\"\",รายชื่อนักเรียน!$F10)","v":""}]
[null,null,{"$f":"รายชื่อนักเรียน!B11","v":0},{"$f":"รายชื่อนักเรียน!E11","v":0},null,null,null,null,{"$f":"IF(D13=\"\",\"\",'ประเมิน ตชว.ปลายทางT1'!T11)","v":""},{"$f":"IF(D13=\"\",\"\",'ประเมิน ตชว.ปลายทางT2'!T11)","v":""},{"$f":"'ประเมิน ตชว.ปลายทางT2'!U11","v":""},{"$f":"'ประเมิน ตชว.ปลายทางT2'!V11","v":""},{"$f":"คุณลักษณะ!AF11","v":""},{"$f":"อ่านคิดวิเคราะห์!AA11","v":""},{"$f":"IF(รายชื่อนักเรียน!$F11=\"\",\"\",รายชื่อนักเรียน!$F11)","v":""}]
[null,null,{"$f":"รายชื่อนักเรียน!B12","v":0},{"$f":"รายชื่อนักเรียน!E12","v":0},null,null,null,null,{"$f":"IF(D14=\"\",\"\",'ประเมิน ตชว.ปลายทางT1'!T12)","v":""},{"$f":"IF(D14=\"\",\"\",'ประเมิน ตชว.ปลายทางT2'!T12)","v":""},{"$f":"'ประเมิน ตชว.ปลายทางT2'!U12","v":""},{"$f":"'ประเมิน ตชว.ปลายทางT2'!V12","v":""},{"$f":"คุณลักษณะ!AF12","v":""},{"$f":"อ่านคิดวิเคราะห์!AA12","v":""},{"$f":"IF(รายชื่อนักเรียน!$F12=\"\",\"\",รายชื่อนักเรียน!$F12)","v":""}]
[null,null,{"$f":"รายชื่อนักเรียน!B13","v":0},{"$f":"รายชื่อนักเรียน!E13","v":0},null,null,null,null,{"$f":"IF(D15=\"\",\"\",'ประเมิน ตชว.ปลายทางT1'!T13)","v":""},{"$f":"IF(D15=\"\",\"\",'ประเมิน ตชว.ปลายทางT2'!T13)","v":""},{"$f":"'ประเมิน ตชว.ปลายทางT2'!U13","v":""},{"$f":"'ประเมิน ตชว.ปลายทางT2'!V13","v":""},{"$f":"คุณลักษณะ!AF13","v":""},{"$f":"อ่านคิดวิเคราะห์!AA13","v":""},{"$f":"IF(รายชื่อนักเรียน!$F13=\"\",\"\",รายชื่อนักเรียน!$F13)","v":""}]
[null,null,{"$f":"รายชื่อนักเรียน!B14","v":0},{"$f":"รายชื่อนักเรียน!E14","v":0},null,null,null,null,{"$f":"IF(D16=\"\",\"\",'ประเมิน ตชว.ปลายทางT1'!T14)","v":""},{"$f":"IF(D16=\"\",\"\",'ประเมิน ตชว.ปลายทางT2'!T14)","v":""},{"$f":"'ประเมิน ตชว.ปลายทางT2'!U14","v":""},{"$f":"'ประเมิน ตชว.ปลายทางT2'!V14","v":""},{"$f":"คุณลักษณะ!AF14","v":""},{"$f":"อ่านคิดวิเคราะห์!AA14","v":""},{"$f":"IF(รายชื่อนักเรียน!$F14=\"\",\"\",รายชื่อนักเรียน!$F14)","v":""}]
[null,null,{"$f":"รายชื่อนักเรียน!B15","v":0},{"$f":"รายชื่อนักเรียน!E15","v":0},null,null,null,null,{"$f":"IF(D17=\"\",\"\",'ประเมิน ตชว.ปลายทางT1'!T15)","v":""},{"$f":"IF(D17=\"\",\"\",'ประเมิน ตชว.ปลายทางT2'!T15)","v":""},{"$f":"'ประเมิน ตชว.ปลายทางT2'!U15","v":""},{"$f":"'ประเมิน ตชว.ปลายทางT2'!V15","v":""},{"$f":"คุณลักษณะ!AF15","v":""},{"$f":"อ่านคิดวิเคราะห์!AA15","v":""},{"$f":"IF(รายชื่อนักเรียน!$F15=\"\",\"\",รายชื่อนักเรียน!$F15)","v":""}]
[null,null,{"$f":"รายชื่อนักเรียน!B16","v":0},{"$f":"รายชื่อนักเรียน!E16","v":0},null,null,null,null,{"$f":"IF(D18=\"\",\"\",'ประเมิน ตชว.ปลายทางT1'!T16)","v":""},{"$f":"IF(D18=\"\",\"\",'ประเมิน ตชว.ปลายทางT2'!T16)","v":""},{"$f":"'ประเมิน ตชว.ปลายทางT2'!U16","v":""},{"$f":"'ประเมิน ตชว.ปลายทางT2'!V16","v":""},{"$f":"คุณลักษณะ!AF16","v":""},{"$f":"อ่านคิดวิเคราะห์!AA16","v":""},{"$f":"IF(รายชื่อนักเรียน!$F16=\"\",\"\",รายชื่อนักเรียน!$F16)","v":""}]
[null,null,{"$f":"รายชื่อนักเรียน!B17","v":0},{"$f":"รายชื่อนักเรียน!E17","v":0},null,null,null,null,{"$f":"IF(D19=\"\",\"\",'ประเมิน ตชว.ปลายทางT1'!T17)","v":""},{"$f":"IF(D19=\"\",\"\",'ประเมิน ตชว.ปลายทางT2'!T17)","v":""},{"$f":"'ประเมิน ตชว.ปลายทางT2'!U17","v":""},{"$f":"'ประเมิน ตชว.ปลายทางT2'!V17","v":""},{"$f":"คุณลักษณะ!AF17","v":""},{"$f":"อ่านคิดวิเคราะห์!AA17","v":""},{"$f":"IF(รายชื่อนักเรียน!$F17=\"\",\"\",รายชื่อนักเรียน!$F17)","v":""}]
[null,null,{"$f":"รายชื่อนักเรียน!B18","v":0},{"$f":"รายชื่อนักเรียน!E18","v":0},null,null,null,null,{"$f":"IF(D20=\"\",\"\",'ประเมิน ตชว.ปลายทางT1'!T18)","v":""},{"$f":"IF(D20=\"\",\"\",'ประเมิน ตชว.ปลายทางT2'!T18)","v":""},{"$f":"'ประเมิน ตชว.ปลายทางT2'!U18","v":""},{"$f":"'ประเมิน ตชว.ปลายทางT2'!V18","v":""},{"$f":"คุณลักษณะ!AF18","v":""},{"$f":"อ่านคิดวิเคราะห์!AA18","v":""},{"$f":"IF(รายชื่อนักเรียน!$F18=\"\",\"\",รายชื่อนักเรียน!$F18)","v":""}]
[null,null,{"$f":"รายชื่อนักเรียน!B19","v":0},{"$f":"รายชื่อนักเรียน!E19","v":0},null,null,null,null,{"$f":"IF(D21=\"\",\"\",'ประเมิน ตชว.ปลายทางT1'!T19)","v":""},{"$f":"IF(D21=\"\",\"\",'ประเมิน ตชว.ปลายทางT2'!T19)","v":""},{"$f":"'ประเมิน ตชว.ปลายทางT2'!U19","v":""},{"$f":"'ประเมิน ตชว.ปลายทางT2'!V19","v":""},{"$f":"คุณลักษณะ!AF19","v":""},{"$f":"อ่านคิดวิเคราะห์!AA19","v":""},{"$f":"IF(รายชื่อนักเรียน!$F19=\"\",\"\",รายชื่อนักเรียน!$F19)","v":""}]
[null,null,{"$f":"รายชื่อนักเรียน!B20","v":0},{"$f":"รายชื่อนักเรียน!E20","v":0},null,null,null,null,{"$f":"IF(D22=\"\",\"\",'ประเมิน ตชว.ปลายทางT1'!T20)","v":""},{"$f":"IF(D22=\"\",\"\",'ประเมิน ตชว.ปลายทางT2'!T20)","v":""},{"$f":"'ประเมิน ตชว.ปลายทางT2'!U20","v":""},{"$f":"'ประเมิน ตชว.ปลายทางT2'!V20","v":""},{"$f":"คุณลักษณะ!AF20","v":""},{"$f":"อ่านคิดวิเคราะห์!AA20","v":""},{"$f":"IF(รายชื่อนักเรียน!$F20=\"\",\"\",รายชื่อนักเรียน!$F20)","v":""}]
[null,null,{"$f":"รายชื่อนักเรียน!B21","v":0},{"$f":"รายชื่อนักเรียน!E21","v":0},null,null,null,null,{"$f":"IF(D23=\"\",\"\",'ประเมิน ตชว.ปลายทางT1'!T21)","v":""},{"$f":"IF(D23=\"\",\"\",'ประเมิน ตชว.ปลายทางT2'!T21)","v":""},{"$f":"'ประเมิน ตชว.ปลายทางT2'!U21","v":""},{"$f":"'ประเมิน ตชว.ปลายทางT2'!V21","v":""},{"$f":"คุณลักษณะ!AF21","v":""},{"$f":"อ่านคิดวิเคราะห์!AA21","v":""},{"$f":"IF(รายชื่อนักเรียน!$F21=\"\",\"\",รายชื่อนักเรียน!$F21)","v":""}]
[null,null,{"$f":"รายชื่อนักเรียน!B22","v":0},{"$f":"รายชื่อนักเรียน!E22","v":0},null,null,null,null,{"$f":"IF(D24=\"\",\"\",'ประเมิน ตชว.ปลายทางT1'!T22)","v":""},{"$f":"IF(D24=\"\",\"\",'ประเมิน ตชว.ปลายทางT2'!T22)","v":""},{"$f":"'ประเมิน ตชว.ปลายทางT2'!U22","v":""},{"$f":"'ประเมิน ตชว.ปลายทางT2'!V22","v":""},{"$f":"คุณลักษณะ!AF22","v":""},{"$f":"อ่านคิดวิเคราะห์!AA22","v":""},{"$f":"IF(รายชื่อนักเรียน!$F22=\"\",\"\",รายชื่อนักเรียน!$F22)","v":""}]
[null,null,{"$f":"รายชื่อนักเรียน!B23","v":0},{"$f":"รายชื่อนักเรียน!E23","v":0},null,null,null,null,{"$f":"IF(D25=\"\",\"\",'ประเมิน ตชว.ปลายทางT1'!T23)","v":""},{"$f":"IF(D25=\"\",\"\",'ประเมิน ตชว.ปลายทางT2'!T23)","v":""},{"$f":"'ประเมิน ตชว.ปลายทางT2'!U23","v":""},{"$f":"'ประเมิน ตชว.ปลายทางT2'!V23","v":""},{"$f":"คุณลักษณะ!AF23","v":""},{"$f":"อ่านคิดวิเคราะห์!AA23","v":""},{"$f":"IF(รายชื่อนักเรียน!$F23=\"\",\"\",รายชื่อนักเรียน!$F23)","v":""}]
[null,null,{"$f":"รายชื่อนักเรียน!B24","v":0},{"$f":"รายชื่อนักเรียน!E24","v":0},null,null,null,null,{"$f":"IF(D26=\"\",\"\",'ประเมิน ตชว.ปลายทางT1'!T24)","v":""},{"$f":"IF(D26=\"\",\"\",'ประเมิน ตชว.ปลายทางT2'!T24)","v":""},{"$f":"'ประเมิน ตชว.ปลายทางT2'!U24","v":""},{"$f":"'ประเมิน ตชว.ปลายทางT2'!V24","v":""},{"$f":"คุณลักษณะ!AF24","v":""},{"$f":"อ่านคิดวิเคราะห์!AA24","v":""},{"$f":"IF(รายชื่อนักเรียน!$F24=\"\",\"\",รายชื่อนักเรียน!$F24)","v":""}]
[null,null,{"$f":"รายชื่อนักเรียน!B25","v":0},{"$f":"รายชื่อนักเรียน!E25","v":0},null,null,null,null,{"$f":"IF(D27=\"\",\"\",'ประเมิน ตชว.ปลายทางT1'!T25)","v":""},{"$f":"IF(D27=\"\",\"\",'ประเมิน ตชว.ปลายทางT2'!T25)","v":""},{"$f":"'ประเมิน ตชว.ปลายทางT2'!U25","v":""},{"$f":"'ประเมิน ตชว.ปลายทางT2'!V25","v":""},{"$f":"คุณลักษณะ!AF25","v":""},{"$f":"อ่านคิดวิเคราะห์!AA25","v":""},{"$f":"IF(รายชื่อนักเรียน!$F25=\"\",\"\",รายชื่อนักเรียน!$F25)","v":""}]
[null,null,{"$f":"รายชื่อนักเรียน!B26","v":0},{"$f":"รายชื่อนักเรียน!E26","v":0},null,null,null,null,{"$f":"IF(D28=\"\",\"\",'ประเมิน ตชว.ปลายทางT1'!T26)","v":""},{"$f":"IF(D28=\"\",\"\",'ประเมิน ตชว.ปลายทางT2'!T26)","v":""},{"$f":"'ประเมิน ตชว.ปลายทางT2'!U26","v":""},{"$f":"'ประเมิน ตชว.ปลายทางT2'!V26","v":""},{"$f":"คุณลักษณะ!AF26","v":""},{"$f":"อ่านคิดวิเคราะห์!AA26","v":""},{"$f":"IF(รายชื่อนักเรียน!$F26=\"\",\"\",รายชื่อนักเรียน!$F26)","v":""}]
[null,null,{"$f":"รายชื่อนักเรียน!B27","v":0},{"$f":"รายชื่อนักเรียน!E27","v":0},null,null,null,null,{"$f":"IF(D29=\"\",\"\",'ประเมิน ตชว.ปลายทางT1'!T27)","v":""},{"$f":"IF(D29=\"\",\"\",'ประเมิน ตชว.ปลายทางT2'!T27)","v":""},{"$f":"'ประเมิน ตชว.ปลายทางT2'!U27","v":""},{"$f":"'ประเมิน ตชว.ปลายทางT2'!V27","v":""},{"$f":"คุณลักษณะ!AF27","v":""},{"$f":"อ่านคิดวิเคราะห์!AA27","v":""},{"$f":"IF(รายชื่อนักเรียน!$F27=\"\",\"\",รายชื่อนักเรียน!$F27)","v":""}]
[null,null,{"$f":"รายชื่อนักเรียน!B28","v":0},{"$f":"รายชื่อนักเรียน!E28","v":0},null,null,null,null,{"$f":"IF(D30=\"\",\"\",'ประเมิน ตชว.ปลายทางT1'!T28)","v":""},{"$f":"IF(D30=\"\",\"\",'ประเมิน ตชว.ปลายทางT2'!T28)","v":""},{"$f":"'ประเมิน ตชว.ปลายทางT2'!U28","v":""},{"$f":"'ประเมิน ตชว.ปลายทางT2'!V28","v":""},{"$f":"คุณลักษณะ!AF28","v":""},{"$f":"อ่านคิดวิเคราะห์!AA28","v":""},{"$f":"IF(รายชื่อนักเรียน!$F28=\"\",\"\",รายชื่อนักเรียน!$F28)","v":""}]
[null,null,{"$f":"รายชื่อนักเรียน!B29","v":0},{"$f":"รายชื่อนักเรียน!E29","v":0},null,null,null,null,{"$f":"IF(D31=\"\",\"\",'ประเมิน ตชว.ปลายทางT1'!T29)","v":""},{"$f":"IF(D31=\"\",\"\",'ประเมิน ตชว.ปลายทางT2'!T29)","v":""},{"$f":"'ประเมิน ตชว.ปลายทางT2'!U29","v":""},{"$f":"'ประเมิน ตชว.ปลายทางT2'!V29","v":""},{"$f":"คุณลักษณะ!AF29","v":""},{"$f":"อ่านคิดวิเคราะห์!AA29","v":""},{"$f":"IF(รายชื่อนักเรียน!$F29=\"\",\"\",รายชื่อนักเรียน!$F29)","v":""}]
[null,null,{"$f":"รายชื่อนักเรียน!B30","v":0},{"$f":"รายชื่อนักเรียน!E30","v":0},null,null,null,null,{"$f":"IF(D32=\"\",\"\",'ประเมิน ตชว.ปลายทางT1'!T30)","v":""},{"$f":"IF(D32=\"\",\"\",'ประเมิน ตชว.ปลายทางT2'!T30)","v":""},{"$f":"'ประเมิน ตชว.ปลายทางT2'!U30","v":""},{"$f":"'ประเมิน ตชว.ปลายทางT2'!V30","v":""},{"$f":"คุณลักษณะ!AF30","v":""},{"$f":"อ่านคิดวิเคราะห์!AA30","v":""},{"$f":"IF(รายชื่อนักเรียน!$F30=\"\",\"\",รายชื่อนักเรียน!$F30)","v":""}]
[null,null,{"$f":"รายชื่อนักเรียน!B31","v":0},{"$f":"รายชื่อนักเรียน!E31","v":0},null,null,null,null,{"$f":"IF(D33=\"\",\"\",'ประเมิน ตชว.ปลายทางT1'!T31)","v":""},{"$f":"IF(D33=\"\",\"\",'ประเมิน ตชว.ปลายทางT2'!T31)","v":""},{"$f":"'ประเมิน ตชว.ปลายทางT2'!U31","v":""},{"$f":"'ประเมิน ตชว.ปลายทางT2'!V31","v":""},{"$f":"คุณลักษณะ!AF31","v":""},{"$f":"อ่านคิดวิเคราะห์!AA31","v":""},{"$f":"IF(รายชื่อนักเรียน!$F31=\"\",\"\",รายชื่อนักเรียน!$F31)","v":""}]
[null,null,{"$f":"รายชื่อนักเรียน!B32","v":0},{"$f":"รายชื่อนักเรียน!E32","v":0},null,null,null,null,{"$f":"IF(D34=\"\",\"\",'ประเมิน ตชว.ปลายทางT1'!T32)","v":""},{"$f":"IF(D34=\"\",\"\",'ประเมิน ตชว.ปลายทางT2'!T32)","v":""},{"$f":"'ประเมิน ตชว.ปลายทางT2'!U32","v":""},{"$f":"'ประเมิน ตชว.ปลายทางT2'!V32","v":""},{"$f":"คุณลักษณะ!AF32","v":""},{"$f":"อ่านคิดวิเคราะห์!AA32","v":""},{"$f":"IF(รายชื่อนักเรียน!$F32=\"\",\"\",รายชื่อนักเรียน!$F32)","v":""}]
[null,null,{"$f":"รายชื่อนักเรียน!B33","v":0},{"$f":"รายชื่อนักเรียน!E33","v":0},null,null,null,null,{"$f":"IF(D35=\"\",\"\",'ประเมิน ตชว.ปลายทางT1'!T33)","v":""},{"$f":"IF(D35=\"\",\"\",'ประเมิน ตชว.ปลายทางT2'!T33)","v":""},{"$f":"'ประเมิน ตชว.ปลายทางT2'!U33","v":""},{"$f":"'ประเมิน ตชว.ปลายทางT2'!V33","v":""},{"$f":"คุณลักษณะ!AF33","v":""},{"$f":"อ่านคิดวิเคราะห์!AA33","v":""},{"$f":"IF(รายชื่อนักเรียน!$F33=\"\",\"\",รายชื่อนักเรียน!$F33)","v":""}]
[null,null,{"$f":"รายชื่อนักเรียน!B34","v":0},{"$f":"รายชื่อนักเรียน!E34","v":0},null,null,null,null,{"$f":"IF(D36=\"\",\"\",'ประเมิน ตชว.ปลายทางT1'!T34)","v":""},{"$f":"IF(D36=\"\",\"\",'ประเมิน ตชว.ปลายทางT2'!T34)","v":""},{"$f":"'ประเมิน ตชว.ปลายทางT2'!U34","v":""},{"$f":"'ประเมิน ตชว.ปลายทางT2'!V34","v":""},{"$f":"คุณลักษณะ!AF34","v":""},{"$f":"อ่านคิดวิเคราะห์!AA34","v":""},{"$f":"IF(รายชื่อนักเรียน!$F34=\"\",\"\",รายชื่อนักเรียน!$F34)","v":""}]
[null,null,{"$f":"รายชื่อนักเรียน!B35","v":0},{"$f":"รายชื่อนักเรียน!E35","v":0},null,null,null,null,{"$f":"IF(D37=\"\",\"\",'ประเมิน ตชว.ปลายทางT1'!T35)","v":""},{"$f":"IF(D37=\"\",\"\",'ประเมิน ตชว.ปลายทางT2'!T35)","v":""},{"$f":"'ประเมิน ตชว.ปลายทางT2'!U35","v":""},{"$f":"'ประเมิน ตชว.ปลายทางT2'!V35","v":""},{"$f":"คุณลักษณะ!AF35","v":""},{"$f":"อ่านคิดวิเคราะห์!AA35","v":""},{"$f":"IF(รายชื่อนักเรียน!$F35=\"\",\"\",รายชื่อนักเรียน!$F35)","v":""}]
[null,null,{"$f":"รายชื่อนักเรียน!B36","v":0},{"$f":"รายชื่อนักเรียน!E36","v":0},null,null,null,null,{"$f":"IF(D38=\"\",\"\",'ประเมิน ตชว.ปลายทางT1'!T36)","v":""},{"$f":"IF(D38=\"\",\"\",'ประเมิน ตชว.ปลายทางT2'!T36)","v":""},{"$f":"'ประเมิน ตชว.ปลายทางT2'!U36","v":""},{"$f":"'ประเมิน ตชว.ปลายทางT2'!V36","v":""},{"$f":"คุณลักษณะ!AF36","v":""},{"$f":"อ่านคิดวิเคราะห์!AA36","v":""},{"$f":"IF(รายชื่อนักเรียน!$F36=\"\",\"\",รายชื่อนักเรียน!$F36)","v":""}]
[null,null,{"$f":"รายชื่อนักเรียน!B37","v":0},{"$f":"รายชื่อนักเรียน!E37","v":0},null,null,null,null,{"$f":"IF(D39=\"\",\"\",'ประเมิน ตชว.ปลายทางT1'!T37)","v":""},{"$f":"IF(D39=\"\",\"\",'ประเมิน ตชว.ปลายทางT2'!T37)","v":""},{"$f":"'ประเมิน ตชว.ปลายทางT2'!U37","v":""},{"$f":"'ประเมิน ตชว.ปลายทางT2'!V37","v":""},{"$f":"คุณลักษณะ!AF37","v":""},{"$f":"อ่านคิดวิเคราะห์!AA37","v":""},{"$f":"IF(รายชื่อนักเรียน!$F37=\"\",\"\",รายชื่อนักเรียน!$F37)","v":""}]
[null,null,{"$f":"รายชื่อนักเรียน!B38","v":0},{"$f":"รายชื่อนักเรียน!E38","v":0},null,null,null,null,{"$f":"IF(D40=\"\",\"\",'ประเมิน ตชว.ปลายทางT1'!T38)","v":""},{"$f":"IF(D40=\"\",\"\",'ประเมิน ตชว.ปลายทางT2'!T38)","v":""},{"$f":"'ประเมิน ตชว.ปลายทางT2'!U38","v":""},{"$f":"'ประเมิน ตชว.ปลายทางT2'!V38","v":""},{"$f":"คุณลักษณะ!AF38","v":""},{"$f":"อ่านคิดวิเคราะห์!AA38","v":""},{"$f":"IF(รายชื่อนักเรียน!$F38=\"\",\"\",รายชื่อนักเรียน!$F38)","v":""}]
[null,null,{"$f":"รายชื่อนักเรียน!B39","v":0},{"$f":"รายชื่อนักเรียน!E39","v":0},null,null,null,null,{"$f":"IF(D41=\"\",\"\",'ประเมิน ตชว.ปลายทางT1'!T39)","v":""},{"$f":"IF(D41=\"\",\"\",'ประเมิน ตชว.ปลายทางT2'!T39)","v":""},{"$f":"'ประเมิน ตชว.ปลายทางT2'!U39","v":""},{"$f":"'ประเมิน ตชว.ปลายทางT2'!V39","v":""},{"$f":"คุณลักษณะ!AF39","v":""},{"$f":"อ่านคิดวิเคราะห์!AA39","v":""},{"$f":"IF(รายชื่อนักเรียน!$F39=\"\",\"\",รายชื่อนักเรียน!$F39)","v":""}]
[null,null,{"$f":"รายชื่อนักเรียน!B40","v":0},{"$f":"รายชื่อนักเรียน!E40","v":0},null,null,null,null,{"$f":"IF(D42=\"\",\"\",'ประเมิน ตชว.ปลายทางT1'!T40)","v":""},{"$f":"IF(D42=\"\",\"\",'ประเมิน ตชว.ปลายทางT2'!T40)","v":""},{"$f":"'ประเมิน ตชว.ปลายทางT2'!U40","v":""},{"$f":"'ประเมิน ตชว.ปลายทางT2'!V40","v":""},{"$f":"คุณลักษณะ!AF40","v":""},{"$f":"อ่านคิดวิเคราะห์!AA40","v":""},{"$f":"IF(รายชื่อนักเรียน!$F40=\"\",\"\",รายชื่อนักเรียน!$F40)","v":""}]
[null,null,{"$f":"รายชื่อนักเรียน!B41","v":0},{"$f":"รายชื่อนักเรียน!E41","v":0},null,null,null,null,{"$f":"IF(D43=\"\",\"\",'ประเมิน ตชว.ปลายทางT1'!T41)","v":""},{"$f":"IF(D43=\"\",\"\",'ประเมิน ตชว.ปลายทางT2'!T41)","v":""},{"$f":"'ประเมิน ตชว.ปลายทางT2'!U41","v":""},{"$f":"'ประเมิน ตชว.ปลายทางT2'!V41","v":""},{"$f":"คุณลักษณะ!AF41","v":""},{"$f":"อ่านคิดวิเคราะห์!AA41","v":""},{"$f":"IF(รายชื่อนักเรียน!$F41=\"\",\"\",รายชื่อนักเรียน!$F41)","v":""}]
[null,null,{"$f":"รายชื่อนักเรียน!B42","v":0},{"$f":"รายชื่อนักเรียน!E42","v":0},null,null,null,null,{"$f":"IF(D44=\"\",\"\",'ประเมิน ตชว.ปลายทางT1'!T42)","v":""},{"$f":"IF(D44=\"\",\"\",'ประเมิน ตชว.ปลายทางT2'!T42)","v":""},{"$f":"'ประเมิน ตชว.ปลายทางT2'!U42","v":""},{"$f":"'ประเมิน ตชว.ปลายทางT2'!V42","v":""},{"$f":"คุณลักษณะ!AF42","v":""},{"$f":"อ่านคิดวิเคราะห์!AA42","v":""},{"$f":"IF(รายชื่อนักเรียน!$F42=\"\",\"\",รายชื่อนักเรียน!$F42)","v":""}]
[null,null,{"$f":"รายชื่อนักเรียน!B43","v":0},{"$f":"รายชื่อนักเรียน!E43","v":0},null,null,null,null,{"$f":"IF(D45=\"\",\"\",'ประเมิน ตชว.ปลายทางT1'!T43)","v":""},{"$f":"IF(D45=\"\",\"\",'ประเมิน ตชว.ปลายทางT2'!T43)","v":""},{"$f":"'ประเมิน ตชว.ปลายทางT2'!U43","v":""},{"$f":"'ประเมิน ตชว.ปลายทางT2'!V43","v":""},{"$f":"คุณลักษณะ!AF43","v":""},{"$f":"อ่านคิดวิเคราะห์!AA43","v":""},{"$f":"IF(รายชื่อนักเรียน!$F43=\"\",\"\",รายชื่อนักเรียน!$F43)","v":""}]
[null,null,{"$f":"รายชื่อนักเรียน!B44","v":0},{"$f":"รายชื่อนักเรียน!E44","v":0},null,null,null,null,{"$f":"IF(D46=\"\",\"\",'ประเมิน ตชว.ปลายทางT1'!T44)","v":""},{"$f":"IF(D46=\"\",\"\",'ประเมิน ตชว.ปลายทางT2'!T44)","v":""},{"$f":"'ประเมิน ตชว.ปลายทางT2'!U44","v":""},{"$f":"'ประเมิน ตชว.ปลายทางT2'!V44","v":""},{"$f":"คุณลักษณะ!AF44","v":""},{"$f":"อ่านคิดวิเคราะห์!AA44","v":""},{"$f":"IF(รายชื่อนักเรียน!$F44=\"\",\"\",รายชื่อนักเรียน!$F44)","v":""}]
[null,null,{"$f":"รายชื่อนักเรียน!B45","v":0},{"$f":"รายชื่อนักเรียน!E45","v":0},null,null,null,null,{"$f":"IF(D47=\"\",\"\",'ประเมิน ตชว.ปลายทางT1'!T45)","v":""},{"$f":"IF(D47=\"\",\"\",'ประเมิน ตชว.ปลายทางT2'!T45)","v":""},{"$f":"'ประเมิน ตชว.ปลายทางT2'!U45","v":""},{"$f":"'ประเมิน ตชว.ปลายทางT2'!V45","v":""},{"$f":"คุณลักษณะ!AF45","v":""},{"$f":"อ่านคิดวิเคราะห์!AA45","v":""},{"$f":"IF(รายชื่อนักเรียน!$F45=\"\",\"\",รายชื่อนักเรียน!$F45)","v":""}]
[null,null,{"$f":"รายชื่อนักเรียน!B46","v":0},{"$f":"รายชื่อนักเรียน!E46","v":0},null,null,null,null,{"$f":"IF(D48=\"\",\"\",'ประเมิน ตชว.ปลายทางT1'!T46)","v":""},{"$f":"IF(D48=\"\",\"\",'ประเมิน ตชว.ปลายทางT2'!T46)","v":""},{"$f":"'ประเมิน ตชว.ปลายทางT2'!U46","v":""},{"$f":"'ประเมิน ตชว.ปลายทางT2'!V46","v":""},{"$f":"คุณลักษณะ!AF46","v":""},{"$f":"อ่านคิดวิเคราะห์!AA46","v":""},{"$f":"IF(รายชื่อนักเรียน!$F46=\"\",\"\",รายชื่อนักเรียน!$F46)","v":""}]
[null,null,{"$f":"รายชื่อนักเรียน!B47","v":0},{"$f":"รายชื่อนักเรียน!E47","v":0},null,null,null,null,{"$f":"IF(D49=\"\",\"\",'ประเมิน ตชว.ปลายทางT1'!T47)","v":""},{"$f":"IF(D49=\"\",\"\",'ประเมิน ตชว.ปลายทางT2'!T47)","v":""},{"$f":"'ประเมิน ตชว.ปลายทางT2'!U47","v":""},{"$f":"'ประเมิน ตชว.ปลายทางT2'!V47","v":""},{"$f":"คุณลักษณะ!AF47","v":""},{"$f":"อ่านคิดวิเคราะห์!AA47","v":""},{"$f":"IF(รายชื่อนักเรียน!$F47=\"\",\"\",รายชื่อนักเรียน!$F47)","v":""}]
[null,null,{"$f":"รายชื่อนักเรียน!B48","v":0},{"$f":"รายชื่อนักเรียน!E48","v":0},null,null,null,null,{"$f":"IF(D50=\"\",\"\",'ประเมิน ตชว.ปลายทางT1'!T48)","v":""},{"$f":"IF(D50=\"\",\"\",'ประเมิน ตชว.ปลายทางT2'!T48)","v":""},{"$f":"'ประเมิน ตชว.ปลายทางT2'!U48","v":""},{"$f":"'ประเมิน ตชว.ปลายทางT2'!V48","v":""},{"$f":"คุณลักษณะ!AF48","v":""},{"$f":"อ่านคิดวิเคราะห์!AA48","v":""},{"$f":"IF(รายชื่อนักเรียน!$F48=\"\",\"\",รายชื่อนักเรียน!$F48)","v":""}]
[null,null,{"$f":"รายชื่อนักเรียน!B49","v":0},{"$f":"รายชื่อนักเรียน!E49","v":0},null,null,null,null,{"$f":"IF(D51=\"\",\"\",'ประเมิน ตชว.ปลายทางT1'!T49)","v":""},{"$f":"IF(D51=\"\",\"\",'ประเมิน ตชว.ปลายทางT2'!T49)","v":""},{"$f":"'ประเมิน ตชว.ปลายทางT2'!U49","v":""},{"$f":"'ประเมิน ตชว.ปลายทางT2'!V49","v":""},{"$f":"คุณลักษณะ!AF49","v":""},{"$f":"อ่านคิดวิเคราะห์!AA49","v":""},{"$f":"IF(รายชื่อนักเรียน!$F49=\"\",\"\",รายชื่อนักเรียน!$F49)","v":""}]
[null,null,{"$f":"รายชื่อนักเรียน!B50","v":0},{"$f":"รายชื่อนักเรียน!E50","v":0},null,null,null,null,{"$f":"IF(D52=\"\",\"\",'ประเมิน ตชว.ปลายทางT1'!T50)","v":""},{"$f":"IF(D52=\"\",\"\",'ประเมิน ตชว.ปลายทางT2'!T50)","v":""},{"$f":"'ประเมิน ตชว.ปลายทางT2'!U50","v":""},{"$f":"'ประเมิน ตชว.ปลายทางT2'!V50","v":""},{"$f":"คุณลักษณะ!AF50","v":""},{"$f":"อ่านคิดวิเคราะห์!AA50","v":""},{"$f":"IF(รายชื่อนักเรียน!$F50=\"\",\"\",รายชื่อนักเรียน!$F50)","v":""}]
[null,null,"รวม",null,null,null,null,null,{"$f":"SUM(I6:I52)","v":0},{"$f":"SUM(J6:J52)","v":0},{"$f":"SUM(K6:K52)","v":0}]
[null,null,"เฉลี่ยร้อยละ",null,null,null,null,null,{"$f":"IF(ISERROR((I53*100)/(รายชื่อนักเรียน!$L$4*50)),\"\",((I53*100)/(รายชื่อนักเรียน!$L$4*50)))","v":""},{"$f":"IF(ISERROR((J53*100)/(รายชื่อนักเรียน!$L$4*50)),\"\",((J53*100)/(รายชื่อนักเรียน!$L$4*50)))","v":""},{"$f":"IF(ISERROR((K53*100)/(รายชื่อนักเรียน!$L$4*100)),\"\",((K53*100)/(รายชื่อนักเรียน!$L$4*100)))","v":""}]
[]
[]
[null,null,"สรุปผลการประเมิน"]
[null,null,"ผลการประเมิน",null,null,4,3.5,null,3,2.5,2,1.5,1,0,"รวม"]
[null,null,"จำนวนนักเรียน",null,null,{"$f":"COUNTIF($L$8:$L$52,\"4\")","v":0},{"$f":"COUNTIF($L$8:$L$52,\"3.5\")","v":0},null,{"$f":"COUNTIF($L$8:$L$52,\"3\")","v":0},{"$f":"COUNTIF($L$8:$L$52,\"2.5\")","v":0},{"$f":"COUNTIF($L$8:$L$52,\"2\")","v":0},{"$f":"COUNTIF($L$8:$L$52,\"1.5\")","v":0},{"$f":"COUNTIF($L$8:$L$52,\"1\")","v":0},{"$f":"COUNTIF($L$8:$L$52,\"0\")","v":0},{"$f":"SUM(F59:N59)","v":0}]
[null,null,"ร้อยละ",null,null,{"$f":"IF(ISERROR((F59*100)/(รายชื่อนักเรียน!$L$4)),\"\",(F59*100)/(รายชื่อนักเรียน!$L$4))","v":""},{"$f":"IF(ISERROR((G59*100)/(รายชื่อนักเรียน!$L$4)),\"\",(G59*100)/(รายชื่อนักเรียน!$L$4))","v":""},null,{"$f":"IF(ISERROR((I59*100)/(รายชื่อนักเรียน!$L$4)),\"\",(I59*100)/(รายชื่อนักเรียน!$L$4))","v":""},{"$f":"IF(ISERROR((J59*100)/(รายชื่อนักเรียน!$L$4)),\"\",(J59*100)/(รายชื่อนักเรียน!$L$4))","v":""},{"$f":"IF(ISERROR((K59*100)/(รายชื่อนักเรียน!$L$4)),\"\",(K59*100)/(รายชื่อนักเรียน!$L$4))","v":""},{"$f":"IF(ISERROR((L59*100)/(รายชื่อนักเรียน!$L$4)),\"\",(L59*100)/(รายชื่อนักเรียน!$L$4))","v":""},{"$f":"IF(ISERROR((M59*100)/(รายชื่อนักเรียน!$L$4)),\"\",(M59*100)/(รายชื่อนักเรียน!$L$4))","v":""},{"$f":"IF(ISERROR((N59*100)/(รายชื่อนักเรียน!$L$4)),\"\",(N59*100)/(รายชื่อนักเรียน!$L$4))","v":""},{"$f":"SUM(F60:N60)","v":0}]
[null,null,"สรุปผลการประเมินคุณลักษณะ",null,null,null,null,null,null,"สรุปผลการประเมินการอ่าน คิด วิเคราะและเขียน"]
[null,null,"ผลการประเมิน",null,3,2,1,0,null,"ผลการประเมิน",null,3,2,1,0]
[null,null,"จำนวนนักเรียน",null,{"$f":"COUNTIF($M$8:$M$52,\"ดีเยี่ยม\")","v":0},{"$f":"COUNTIF($M$8:$M$52,\"ดี\")","v":0},{"$f":"COUNTIF($M$8:$M$52,\"ผ่าน\")","v":0},{"$f":"COUNTIF($M$8:$M$52,\"ไม่ผ่าน\")","v":0},null,"จำนวนนักเรียน",null,{"$f":"COUNTIF($N$8:$N$52,\"ดีเยี่ยม\")","v":0},{"$f":"COUNTIF($N$8:$N$52,\"ดี\")","v":0},{"$f":"COUNTIF($N$8:$N$52,\"ผ่าน\")","v":0},{"$f":"COUNTIF($N$8:$N$52,\"ไม่ผ่าน\")","v":0}]
[null,null,"ร้อยละ",null,{"$f":"IF(ISERROR((E63*100)/(รายชื่อนักเรียน!$L$4)),\"\",((E63*100)/(รายชื่อนักเรียน!$L$4)))","v":""},{"$f":"IF(ISERROR((F63*100)/(รายชื่อนักเรียน!$L$4)),\"\",((F63*100)/(รายชื่อนักเรียน!$L$4)))","v":""},{"$f":"IF(ISERROR((G63*100)/(รายชื่อนักเรียน!$L$4)),\"\",((G63*100)/(รายชื่อนักเรียน!$L$4)))","v":""},{"$f":"IF(ISERROR((H63*100)/(รายชื่อนักเรียน!$L$4)),\"\",((H63*100)/(รายชื่อนักเรียน!$L$4)))","v":""},null,"ร้อยละ",null,{"$f":"IF(ISERROR((L63*100)/(รายชื่อนักเรียน!$L$4)),\"\",((L63*100)/(รายชื่อนักเรียน!$L$4)))","v":""},{"$f":"IF(ISERROR((M63*100)/(รายชื่อนักเรียน!$L$4)),\"\",((M63*100)/(รายชื่อนักเรียน!$L$4)))","v":""},{"$f":"IF(ISERROR((N63*100)/(รายชื่อนักเรียน!$L$4)),\"\",((N63*100)/(รายชื่อนักเรียน!$L$4)))","v":""},{"$f":"IF(ISERROR((O63*100)/(รายชื่อนักเรียน!$L$4)),\"\",((O63*100)/(รายชื่อนักเรียน!$L$4)))","v":""}]

{"sheet":"แผนภูมิ","index":18,"n_rows":33,"n_cols":25,"rows_kept":33,"cut":false,"hidden":false,"merged":[[1,1,1,12],[2,1,2,12],[3,1,3,12]]}
[]
[null,{"$f":"\"แผนภูมิแสดงผลสัมฤทธิ์ทางการเรียน  ปีการศึกษา  \"&ตั้งค่า!C11","v":"แผนภูมิแสดงผลสัมฤทธิ์ทางการเรียน  ปีการศึกษา  "}]
[null,{"$f":"\"  โรงเรียน\"&ตั้งค่า!C12","v":"  โรงเรียนบ้านหัวคลอง"}]
[null,{"$f":"\"วิชา\"&ตั้งค่า!C18&\"   ชั้น\"&ตั้งค่า!C17","v":"วิชา   ชั้น"}]
[null,null,"จำนวนนักเรียนจำแนกตามระดับผลการเรียน"]
[null,null,null,null,null,null,null,null,null,null,null,null,null,null,null,null,null,0,1,1.5,2,2.5,3,3.5,4]
[null,null,null,null,null,null,null,null,null,null,null,null,null,null,null,null,"ระดับผลการเรียน",{"$f":"รายงานคะแนนปลายปี!N59","v":0},{"$f":"รายงานคะแนนปลายปี!M59","v":0},{"$f":"รายงานคะแนนปลายปี!L59","v":0},{"$f":"รายงานคะแนนปลายปี!K59","v":0},{"$f":"รายงานคะแนนปลายปี!J59","v":0},{"$f":"รายงานคะแนนปลายปี!I59","v":0},{"$f":"รายงานคะแนนปลายปี!G59","v":0},{"$f":"รายงานคะแนนปลายปี!F59","v":0}]
[]
[]
[null,null,null,null,null,null,null,null,null,null,null,null,null,null,null,null,null,"ผลการประเมินคุณลักษณะอันพึงประสงค์/การอ่านคิดวิเคราะห์และเขียน"]
[null,null,null,null,null,null,null,null,null,null,null,null,null,null,null,null,null,"ไม่ผ่าน (0)","ผ่าน (1)","ดี (2)","ดีเยี่ยม (3)"]
[null,null,null,null,null,null,null,null,null,null,null,null,null,null,null,null,"คุณลักษณะอันพึงประสงค์",{"$f":"รายงานคะแนนปลายปี!H63","v":0},{"$f":"รายงานคะแนนปลายปี!G63","v":0},{"$f":"รายงานคะแนนปลายปี!F63","v":0},{"$f":"รายงานคะแนนปลายปี!E63","v":0}]
[null,null,null,null,null,null,null,null,null,null,null,null,null,null,null,null,"อ่านคิดวิเคราะห์และเขียน",{"$f":"รายงานคะแนนปลายปี!O63","v":0},{"$f":"รายงานคะแนนปลายปี!N63","v":0},{"$f":"รายงานคะแนนปลายปี!M63","v":0},{"$f":"รายงานคะแนนปลายปี!L63","v":0}]
[]
[null,null,null,null,null,null,null,null,null,null,null,null,null,null,null,null,null,"ผลการประเมินสมรรถนะสำคัญของผู้เรียน"]
[null,null,null,null,null,null,null,null,null,null,null,null,null,null,null,null,null,"ปรับปรุง (0)","พอใช้ (1)","ดี (2)","ดีเยี่ยม (3)"]
[null,null,null,null,null,null,null,null,null,null,null,null,null,null,null,null,"สมรรถนะสำคัญของผู้เรียน",{"$f":"ประเมินสมรรถนะ!AI15","v":0},{"$f":"ประเมินสมรรถนะ!AH15","v":0},{"$f":"ประเมินสมรรถนะ!AG15","v":0},{"$f":"ประเมินสมรรถนะ!AF15","v":0}]
[]
[null,null,"ผลการประเมินคุณลักษณะอันพึงประสงค์/การอ่านคิดวิเคราะห์และเขียน"]
[]
[]
[]
[]
[]
[]
[]
[]
[]
[]
[]
[]
[]
[null,null,"ผลการประเมินสมรรถนะสำคัญของผู้เรียน 5 ด้าน"]

{"sheet":"ตชว.ไทย","index":19,"n_rows":39,"n_cols":55,"rows_kept":39,"cut":false,"hidden":false,"merged":[[8,4,8,8],[9,4,9,8],[10,4,10,8],[11,4,11,8],[12,4,12,8],[13,4,13,8],[17,1,17,8],[31,4,31,8],[20,4,20,8],[21,4,21,8],[22,4,22,8],[23,4,23,8],[24,4,24,8],[25,4,25,8],[14,4,14,8],[15,4,15,8],[16,4,16,8],[18,4,18,8],[19,4,19,8],[5,14,5,18],[6,14,6,18],[7,14,7,18],[8,14,8,18],[1,1,1,8],[7,4,7,8],[3,1,3,8],[3,11,3,18],[42,4,42,8],[32,4,32,8],[33,4,33,8],[34,4,34,8],[39,4,39,8],[40,4,40,8],[41,4,41,8],[35,4,35,8],[36,4,36,8],[37,4,37,8],[38,4,38,8],[26,4,26,8],[27,4,27,8],[28,4,28,8],[29,4,29,8],[30,4,30,8],[41,14,41,18],[42,14,42,18],[1,21,1,28],[4,24,4,28],[5,24,5,28],[6,24,6,28],[28,14,28,18],[29,14,29,18],[30,14,30,18],[31,14,31,18],[32,14,32,18],[33,14,33,18],[23,14,23,18],[24,14,24,18],[25,14,25,18],[26,14,26,18],[27,14,27,18],[16,14,16,18],[17,14,17,18],[18,14,18,18],[19,14,19,18],[20,14,20,18],[1,11,1,18],[4,14,4,18],[34,14,34,18],[39,14,39,18],[40,14,40,18],[21,14,21,18],[11,14,11,18],[12,14,12,18],[13,14,13,18],[14,14,14,18],[15,14,15,18],[35,14,35,18],[36,14,36,18],[37,14,37,18],[38,14,38,18],[22,11,22,18],[22,24,22,28],[23,24,23,28],[24,24,24,28],[13,24,13,28],[14,24,14,28],[15,24,15,28],[16,24,16,28],[19,24,19,28],[20,24,20,28],[17,24,17,28],[18,24,18,28],[35,24,35,28],[1,31,1,38],[4,34,4,38],[5,34,5,38],[6,34,6,38],[7,34,7,38],[8,34,8,38],[9,34,9,38],[31,24,31,28],[32,24,32,28],[33,24,33,28],[34,24,34,28],[25,24,25,28],[26,24,26,28],[28,24,28,28],[29,24,29,28],[30,24,30,28],[7,24,7,28],[8,24,8,28],[9,24,9,28],[10,24,10,28],[11,24,11,28],[12,24,12,28],[21,24,21,28],[31,34,31,38],[22,34,22,38],[23,34,23,38],[24,34,24,38],[25,34,25,38],[26,34,26,38],[10,34,10,38],[11,34,11,38],[12,34,12,38],[13,34,13,38],[14,34,14,38],[15,34,15,38],[16,34,16,38],[17,34,17,38],[18,34,18,38],[19,34,19,38],[20,34,20,38],[21,34,21,38],[7,44,7,48],[8,44,8,48],[9,44,9,48],[1,41,1,48],[4,44,4,48],[5,44,5,48],[6,44,6,48],[28,34,28,38],[29,34,29,38],[10,44,10,48],[11,44,11,48],[12,44,12,48],[25,44,25,48],[31,44,31,48],[19,44,19,48],[20,44,20,48],[21,44,21,48],[22,44,22,48],[23,44,23,48],[24,44,24,48],[13,44,13,48],[14,44,14,48],[15,44,15,48],[16,44,16,48],[17,44,17,48],[18,44,18,48],[10,54,10,58],[11,54,11,58],[12,54,12,58],[13,54,13,58],[14,54,14,58],[15,54,15,58],[1,51,1,58],[4,54,4,58],[5,54,5,58],[6,54,6,58],[7,54,7,58],[8,54,8,58],[9,54,9,58],[32,54,32,58],[33,54,33,58],[22,54,22,58],[23,54,23,58],[24,54,24,58],[25,54,25,58],[27,54,27,58],[16,54,16,58],[17,54,17,58],[18,54,18,58],[19,54,19,58],[20,54,20,58],[21,54,21,58],[35,34,35,38],[36,34,36,38],[37,34,37,38],[35,44,35,48],[35,54,35,58],[36,54,36,58],[37,54,37,58],[38,54,38,58],[36,44,36,48],[37,44,37,48],[3,21,3,28],[27,21,27,28],[3,31,3,38],[30,31,30,38],[3,41,3,48],[28,41,28,48],[3,51,3,58],[26,51,26,58],[34,54,34,58],[26,44,26,48],[27,44,27,48],[29,44,29,48],[30,44,30,48],[34,34,34,38],[32,34,32,38],[33,34,33,38],[32,44,32,48],[33,44,33,48],[34,44,34,48],[27,34,27,38],[28,54,28,58],[29,54,29,58],[30,54,30,58],[31,54,31,58]]}
["ภาษาไทย"]
[null,{"$f":"\"ตัวชี้วัดรายวิชา\"&ตชว.ไทย!$A$1&\"  ชั้น ป.1\"","v":"ตัวชี้วัดรายวิชาภาษาไทย  ชั้น ป.1"},null,null,null,null,null,null,null,null,null,{"$f":"\"ตัวชี้วัดรายวิชา\"&ตชว.ไทย!$A$1&\"  ชั้น ป.2\"","v":"ตัวชี้วัดรายวิชาภาษาไทย  ชั้น ป.2"},null,null,null,null,null,null,null,null,null,{"$f":"\"ตัวชี้วัดรายวิชา\"&ตชว.ไทย!$A$1&\"  ชั้น ป.3\"","v":"ตัวชี้วัดรายวิชาภาษาไทย  ชั้น ป.3"},null,null,null,null,null,null,null,null,null,{"$f":"\"ตัวชี้วัดรายวิชา\"&ตชว.ไทย!$A$1&\"  ชั้น ป.4\"","v":"ตัวชี้วัดรายวิชาภาษาไทย  ชั้น ป.4"},null,null,null,null,null,null,null,null,null,{"$f":"\"ตัวชี้วัดรายวิชา\"&ตชว.ไทย!$A$1&\"  ชั้น ป.5\"","v":"ตัวชี้วัดรายวิชาภาษาไทย  ชั้น ป.5"},null,null,null,null,null,null,null,null,null,{"$f":"\"ตัวชี้วัดรายวิชา\"&ตชว.ไทย!$A$1&\"  ชั้น ป.6\"","v":"ตัวชี้วัดรายวิชาภาษาไทย  ชั้น ป.6"}]
[null,"ข้อที่","มาตรฐาน","ชั้น/ข้อ","เรื่อง",null,null,null,null,null,null,"ข้อที่","มาตรฐาน","ชั้น/ข้อ","เรื่อง",null,null,null,null,null,null,"ข้อที่","มาตรฐาน","ชั้น/ข้อ","เรื่อง",null,null,null,null,null,null,"ข้อที่","มาตรฐาน","ชั้น/ข้อ","เรื่อง",null,null,null,null,null,null,"ข้อที่","มาตรฐาน","ชั้น/ข้อ","เรื่อง",null,null,null,null,null,null,"ข้อที่","มาตรฐาน","ชั้น/ข้อ","เรื่อง"]
[null,"ตัวชี้วัดระหว่างทาง",null,null,null,null,null,null,null,null,null,"ตัวชี้วัดระหว่างทาง",null,null,null,null,null,null,null,null,null,"ตัวชี้วัดระหว่างทาง",null,null,null,null,null,null,null,null,null,"ตัวชี้วัดระหว่างทาง",null,null,null,null,null,null,null,null,null,"ตัวชี้วัดระหว่างทาง",null,null,null,null,null,null,null,null,null,"ตัวชี้วัดระหว่างทาง"]
[null,1,"ท 1.1","ป.1/3","ตอบคำถามเกี่ยวกับเรื่องที่อ่าน",null,null,null,null,null,null,1,"ท 1.1","ป.2/2","อธิบายความหมายของคําและขอความที่อาน",null,null,null,null,null,null,1,"ท 1.1","ป.3/2","อธิบายความหมายของคําและขอความที่อาน",null,null,null,null,null,null,1,"ท 1.1","ป.4/2","อธิบายความหมายของคํา  ประโยคและสำนวนจากเรื่องที่อ่าน",null,null,null,null,null,null,1,"ท 1.1","ป.5/2","อธิบายความหมายของคำ ประโยคและข้อความที่เป็นการบรรยายและการพรรณนา",null,null,null,null,null,null,1,"ท 1.1","ป.6/2","อธิบายความหมายของคํา  ประโยคและข้อความที่เป็นโวหาร"]
[null,2,"ท 1.1","ป.1/4","เล่าเรื่องย่อจากเรื่องที่อ่าน",null,null,null,null,null,null,2,"ท 1.1","ป.2/3","ตั้งคําถามและตอบคําถามเกี่ยวกับเรื่องที่อาน",null,null,null,null,null,null,2,"ท 1.1","ป.3/3","ตั้งคําถามและตอบคําถามเชิงเหตุผลเกี่ยวกับเรื่องที่อาน",null,null,null,null,null,null,2,"ท 1.1","ป.4/3","อ่านเรื่องสั้น ๆ ตามเวลาที่กำหนดและตอบคำถามจากเรื่องที่อ่าน",null,null,null,null,null,null,2,"ท 1.1","ป.5/4","แยกข้อเท็จจริงและข้อคิดเห็นจากเรื่องที่อ่าน",null,null,null,null,null,null,2,"ท 1.1","ป.6/3","อ่านเรื่องสั้น ๆ อย่างหลากหลายโดยจับเวลาแล้วถามเกี่ยวกับเรื่องที่อ่าน"]
[null,3,"ท 1.1","ป.1/5","คาดคะเนเหตุการณ์จากเรื่องที่อ่าน",null,null,null,null,null,null,3,"ท 1.1","ป.2/6","อานหนังสือตามความสนใจอยางสม่ำเสมอและนําเสนอเรื่องที่อาน",null,null,null,null,null,null,3,"ท 1.1","ป.3/4","ลําดับเหตุการณและคาดคะเนเหตุการณจากเรื่องที่อานโดยระบุเหตุผลประกอบ",null,null,null,null,null,null,3,"ท 1.1","ป.4/4","แยกข้อเท็จจริงและข้อคิดเห็นจากเรื่องที่อ่าน",null,null,null,null,null,null,3,"ท 1.1","ป.5/6","อ่านงานเขียนเชิงอธิบาย คำสั่งข้อแนะนำ และปฏิบัติตาม",null,null,null,null,null,null,3,"ท 1.1","ป.6/4","แยกข้อเท็จจริงและข้อคิดเห็นจากเรื่องที่อ่าน"]
[null,4,"ท 1.1","ป.1/6","อ่านหนังสือตามความสนใจอย่างสม่ำเสมอและนำเสนอเรื่องที่อ่าน",null,null,null,null,null,null,4,"ท 1.1","ป.2/7","อานขอเขียนเชิงอธิบาย และปฏิบัติตามคําสั่งหรือขอแนะนํา",null,null,null,null,null,null,4,"ท 1.1","ป.3/6","อานหนังสือตามความสนใจอยางสม่ำเสมอและนําเสนอเรื่องที่อาน",null,null,null,null,null,null,4,"ท 1.1","ป.4/5","คาดคะเนเหตุการณ์จากเรื่องที่อ่านโดยระบุเหตุผลประกอบ",null,null,null,null,null,null,4,"ท 1.1","ป.5/7","อ่านหนังสือที่มีคุณค่าตามความสนใจอย่างสม่ำเสมอและแสดงความคิดเห็นเกี่ยวกับเรื่องที่อ่าน",null,null,null,null,null,null,4,"ท 1.1","ป.6/6","อ่านงานเขียนเชิงอธิบาย คำสั่ง ข้อแนะนำ และปฏิบัติตาม"]
[null,5,"ท 1.1","ป.1/8","มีมารยาท ในการอ่าน",null,null,null,null,null,null,5,"ท 1.1","ป.2/8","มีมารยาทในการอาน",null,null,null,null,null,null,5,"ท 1.1","ป.3/7","อานขอเขียนเชิงอธิบายและปฏิบัติตามคําสั่งหรือขอแนะนํา",null,null,null,null,null,null,5,"ท 1.1","ป.4/7","อ่านหนังสือที่มีคุณค่าตามความสนใจอย่างสม่ำเสมอและแสดงความคิดเห็นเกี่ยวกับเรื่องที่อ่าน",null,null,null,null,null,null,5,"ท 1.1","ป.5/8","มีมารยาทในการอ่าน",null,null,null,null,null,null,5,"ท 1.1","ป.6/7","อธิบายความหมายของข้อมูลจากการอ่านแผนผัง แผนที่ แผนภูมิและกราฟ"]
[null,6,"ท 2.1","ป.1/1","คัดลายมือตัวบรรจงเต็มบรรทัด",null,null,null,null,null,null,6,"ท 2.1","ป.2/1","คัดลายมือตัวบรรจงเต็มบรรทัด",null,null,null,null,null,null,6,"ท 1.1","ป.3/8","อธิบายความหมายของขอมูลจากแผนภาพ แผนที่และแผนภูมิ",null,null,null,null,null,null,6,"ท 1.1","ป.4/8","มีมารยาทในการอาน",null,null,null,null,null,null,6,"ท 2.1","ป.5/1","คัดลายมือตัวบรรจงเต็มบรรทัด และครึ่งบรรทัด",null,null,null,null,null,null,6,"ท 1.1","ป.6/8","อ่านหนังสือตามความสนใจและอธิบายคุณค่าที่ได้รับ"]
[null,7,"ท 2.1","ป.1/3","มีมารยาทในการเขียน",null,null,null,null,null,null,7,"ท 2.1","ป.2/3","เขียนเรื่องสั้นๆ ตามจินตนาการ",null,null,null,null,null,null,7,"ท 1.1","ป.3/9","มีมารยาทในการอาน",null,null,null,null,null,null,7,"ท 2.1","ป.4/1","คัดลายมือตัวบรรจงเต็มบรรทัดและครึ่งบรรทัด",null,null,null,null,null,null,7,"ท 2.1","ป.5/3","เขียนแผนภาพโครงเรื่องและแผนภาพความคิดเพื่อใช้พัฒนางานเขียน",null,null,null,null,null,null,7,"ท 1.1","ป.6/9","มีมารยาทในการอาน"]
[null,8,"ท 3.1","ป.1/2","ตอบคำถามและเล่าเรื่องที่ฟังและดูทั้งที่เป็นความรู้และความบันเทิง",null,null,null,null,null,null,8,"ท 2.1","ป.2/4","มีมารยาทในการเขียน",null,null,null,null,null,null,8,"ท 2.1","ป.3/1","คัดลายมือตัวบรรจงเต็มบรรทัด",null,null,null,null,null,null,8,"ท 2.1","ป.4/3","เขียนแผนภาพโครงเรื่องและแผนภาพความคิดเพื่อใช้พัฒนางานเขียน",null,null,null,null,null,null,8,"ท 2.1","ป.5/4","เขียนย่อความจากเรื่องที่อ่าน",null,null,null,null,null,null,8,"ท 2.1","ป.6/1","คัดลายมือตัวบรรจงเต็มบรรทัดและครึ่งบรรทัด"]
[null,9,"ท 3.1","ป.1/3","พูดแสดงความคิดเห็นและความรู้สึกจากเรื่องที่ฟังและดู",null,null,null,null,null,null,9,"ท 3.1","ป.2/2","เลาเรื่องที่ฟงและดูทั้งที่เปนความรูและความบันเทิง",null,null,null,null,null,null,9,"ท 2.1","ป.3/3","เขียนบันทึกประจําวัน",null,null,null,null,null,null,9,"ท 2.1","ป.4/4","เขียนย่อความจากเรื่องสั้น ๆ",null,null,null,null,null,null,9,"ท 2.1","ป.5/5","เขียนจดหมายถึงผู้ปกครองและญาติ",null,null,null,null,null,null,9,"ท 2.1","ป.6/3","เขียนแผนภาพโครงเรื่องและแผนภาพความคิดเพื่อใช้พัฒนางานเขียน"]
[null,10,"ท 3.1","ป.1/5","มีมารยาทในการฟัง การดู และการพูด",null,null,null,null,null,null,10,"ท 3.1","ป.2/3","บอกสาระสําคัญของเรื่องที่ฟงและดู",null,null,null,null,null,null,10,"ท 2.1","ป.3/4","เขียนจดหมายลาครู",null,null,null,null,null,null,10,"ท 2.1","ป.4/5","เขียนจดหมายถึงเพื่อนและบิดามารดา",null,null,null,null,null,null,10,"ท 2.1","ป.5/6","เขียนแสดงความรู้สึกและความคิดเห็นได้ตรงตามเจตนา",null,null,null,null,null,null,10,"ท 2.1","ป.6/4","เขียนเรียงความ"]
[null,11,"ท 4.1","ป.1/1","บอกและเขียนพยัญชนะ สระ วรรณยุกต์และเลขไทย",null,null,null,null,null,null,11,"ท 3.1","ป.2/4","ตั้งคําถามและตอบคําถามเกี่ยวกับเรื่องที่ฟงและดู",null,null,null,null,null,null,11,"ท 2.1","ป.3/5","เขียนเรื่องตามจินตนาการ",null,null,null,null,null,null,11,"ท 2.1","ป.4/6","เขียนบันทึกและเขียนรายงานจากการศึกษาค้นคว้า",null,null,null,null,null,null,11,"ท 2.1","ป.5/7","กรอกแบบรายการต่างๆ",null,null,null,null,null,null,11,"ท 2.1","ป.6/5","เขียนย่อความจากเรื่องที่อ่าน"]
[null,12,"ท 4.1","ป.1/2","เขียนสะกดคำและบอกความหมายของคำ",null,null,null,null,null,null,12,"ท 3.1","ป.2/5","พูดแสดงความคิดเห็นและความรูสึกจากเรื่องที่ฟงและดู",null,null,null,null,null,null,12,"ท 2.1","ป.3/6","มีมารยาทในการเขียน",null,null,null,null,null,null,12,"ท 2.1","ป.4/7","เขียนเรื่องตามจินตนาการ",null,null,null,null,null,null,12,"ท 2.1","ป.5/8","เขียนเรื่องตามจินตนาการ",null,null,null,null,null,null,12,"ท 2.1","ป.6/6","เขียนจดหมายส่วนตัว"]
[null,13,"ท 4.1","ป.1/4","ต่อคำคล้องจองง่ายๆ",null,null,null,null,null,null,13,"ท 3.1","ป.2/7","มีมารยาทในการฟง การดู และการพูด",null,null,null,null,null,null,13,"ท 3.1","ป.3/1","เลารายละเอียดเกี่ยวกับเรื่องที่ ฟงและดูทั้งที่เปนความรูและความบันเทิง",null,null,null,null,null,null,13,"ท 2.1","ป.4/8","มีมารยาทในการเขียน",null,null,null,null,null,null,13,"ท 2.1","ป.5/9","มีมารยาทในการเขียน",null,null,null,null,null,null,13,"ท 2.1","ป.6/7","กรอกแบบรายการต่าง ๆ  "]
[null,"ตัวชี้วัดปลายทาง",null,null,null,null,null,null,null,null,null,14,"ท 4.1","ป.2/4","บอกลักษณะคําคลองจอง",null,null,null,null,null,null,14,"ท 3.1","ป.3/3","ตั้งคําถามและตอบคําถามเกี่ยวกับเรื่องที่ ฟงและดู",null,null,null,null,null,null,14,"ท 3.1","ป.4/1","จำแนกข้อเท็จจริงและข้อคิดเห็นจากเรื่องที่ฟังและดู",null,null,null,null,null,null,14,"ท 3.1","ป.5/2","ตั้งคำถามและตอบคำถามเชิงเหตุผลจากเรื่องที่ฟังและดู",null,null,null,null,null,null,14,"ท 2.1","ป.6/8","เขียนเรื่องตามจินตนาการและสร้างสรรค์"]
[null,1,"ท 1.1","ป.1/1","อ่านออกเสียงคำ คำคล้องจอง และข้อความสั้นๆ",null,null,null,null,null,null,15,"ท 4.1","ป.2/1","บอกและเขียนพยัญชนะ สระ วรรณยุกตและเลขไทย",null,null,null,null,null,null,15,"ท 3.1","ป.3/4","พูดแสดงความคิดเห็นและความรูสึกจากเรื่องที่ฟงและดู",null,null,null,null,null,null,15,"ท 3.1","ป.4/2","พูดสรุปความจากการฟังและดู",null,null,null,null,null,null,15,"ท 3.1","ป.5/4","พูดรายงานเรื่องหรือประเด็นที่ศึกษาค้นคว้าจากการฟัง การดู และการสนทนา",null,null,null,null,null,null,15,"ท 2.1","ป.6/9","มีมารยาทในการเขียน"]
[null,2,"ท 1.1","ป.1/2","บอกความหมายของคำ และข้อความที่อ่าน",null,null,null,null,null,null,16,"ท 4.1","ป.2/2","เขียนสะกดคําและบอกความหมายของคํา",null,null,null,null,null,null,16,"ท 3.1","ป.3/6","มีมารยาทในการฟง การดู และการพูด",null,null,null,null,null,null,16,"ท 3.1","ป.4/4","ตั้งคำถามและตอบคำถามเชิงเหตุผลจากเรื่องที่ฟังและดู",null,null,null,null,null,null,16,"ท 3.1","ป.5/5","มีมารยาทในการฟัง การดู และการพูด",null,null,null,null,null,null,16,"ท 3.1","ป.6/2","ตั้งคำถามและตอบคำถามเชิงเหตุผลจากเรื่องที่ฟังและดู"]
[null,3,"ท 1.1","ป.1/7","บอกความหมายของเครื่องหมายหรือสัญลักษณ์สำคัญที่มักพบเห็นในชีวิตประจำวัน",null,null,null,null,null,null,17,"ท 4.1","ป.2/5","เลือกใชภาษาไทยมาตรฐานและภาษาถิ่นไดเหมาะสมกับกาลเทศะ",null,null,null,null,null,null,17,"ท 4.1","ป.3/1","เขียนสะกดคําและบอกความหมาของคํา",null,null,null,null,null,null,17,"ท 3.1","ป.4/5","รายงานเรื่องหรือประเด็นที่ศึกษาค้นคว้าจากการฟัง การดูและการสนทนา",null,null,null,null,null,null,17,"ท 4.1","ป.5/1","ระบุชนิดและหน้าที่ของคำในประโยค",null,null,null,null,null,null,17,"ท 3.1","ป.6/4","พูดรายงานเรื่องหรือประเด็นที่ศึกษาค้นคว้าจากการฟัง การดูและการสนทนา"]
[null,4,"ท 2.1","ป.1/2","เขียนสื่อสารด้วยคำและประโยคง่ายๆ",null,null,null,null,null,null,18,"ท 5.1","ป.2/2","รองบทรองเลนสําหรับเด็กในทองถิ่น",null,null,null,null,null,null,18,"ท 4.1","ป.3/3","ใชพจนานุกรมคนหาความหมายของคํา",null,null,null,null,null,null,18,"ท 3.1","ป.4/6","มีมารยาทในการฟัง  การดูและการพูด",null,null,null,null,null,null,18,"ท 4.1","ป.5/4","ใช้คำราชาศัพท์",null,null,null,null,null,null,18,"ท 3.1","ป.6/6","มีมารยาทในการฟัง การดูและการพูด"]
[null,5,"ท 3.1","ป.1/1","ฟังคำแนะนำ คำสั่งง่ายๆ และปฏิบัติตาม",null,null,null,null,null,null,"ตัวชี้วัดปลายทาง",null,null,null,null,null,null,null,null,null,19,"ท 4.1","ป.3/4","แตงประโยคงายๆ",null,null,null,null,null,null,19,"ท 4.1","ป.4/1","สะกดคำและบอกความหมายของคำในบริบทต่าง ๆ",null,null,null,null,null,null,19,"ท 4.1","ป.5/5","บอกคำภาษาต่างประเทศในภาษาไทย",null,null,null,null,null,null,19,"ท 4.1","ป.6/1","วิเคราะห์ชนิดและหน้าที่ของคำในประโยค"]
[null,6,"ท 3.1","ป.1/4","พูดสื่อสารได้ตามวัตถุประสงค์",null,null,null,null,null,null,1,"ท 1.1","ป.2/1","อานออกเสียงคํา คําคลองจองขอความ และบทรอย กรองงายๆ ไดถูกตอง",null,null,null,null,null,null,20,"ท 4.1","ป.3/5","แตงคําคลองจองและคําขวัญ",null,null,null,null,null,null,20,"ท 4.1","ป.4/3","ใช้พจนานุกรมค้นหาความหมายของคำ",null,null,null,null,null,null,20,"ท 4.1","ป.5/6","แต่งบทร้อยกรอง",null,null,null,null,null,null,20,"ท 4.1","ป.6/3","รวบรวมและบอกความหมายของคำภาษาต่างประเทศที่ใช้ในภาษาไทย"]
[null,7,"ท 4.1","ป.1/3","เรียบเรียงคำเป็นประโยคง่าย ๆ",null,null,null,null,null,null,2,"ท 1.1","ป.2/4","ระบุใจความสําคัญและรายละเอียดจากเรื่องที่อาน",null,null,null,null,null,null,21,"ท 4.1","ป.3/6","เลือกใชภาษาไทยมาตรฐานและภาษาถิ่นไดเหมาะสมกับกาลเทศะ",null,null,null,null,null,null,21,"ท 4.1","ป.4/4","แต่งประโยคได้ถูกต้องตามหลักภาษา",null,null,null,null,null,null,21,"ท 4.1","ป.5/7","ใช้สำนวนได้ถูกต้อง",null,null,null,null,null,null,21,"ท 5.1","ป.6/1","แสดงความคิดเห็นจากวรรณคดีหรือวรรณกรรมที่อ่าน"]
[null,8,"ท 5.1","ป.1/1","บอกข้อคิดที่ได้จากการอ่านหรือการฟังวรรณกรรมร้อยแก้วและร้อยกรองสำหรับเด็ก",null,null,null,null,null,null,3,"ท 1.1","ป.2/5","แสดงความคิดเห็นและคาดคะเนเหตุการณจากเรื่องที่อาน",null,null,null,null,null,null,22,"ท 5.1","ป.3/1","ระบุขอคิดที่ไดจากการอ่าน วรรณกรรมเพื่อนําไปใชในชีวิตประจําวัน",null,null,null,null,null,null,22,"ท 4.1","ป.4/5","แต่งบทร้อยกรองและคำขวัญ",null,null,null,null,null,null,22,"ท 5.1","ป.5/1","สรุปเรื่องจากวรรณคดีหรือวรรณกรรมที่อ่าน",null,null,null,null,null,null,22,"ท 5.1","ป.6/3","อธิบายคุณค่าของวรรณคดีและวรรณกรรมที่อ่านและนำไปประยุกต์ใช้ในชีวิตจริง"]
[null,9,"ท 5.1","ป.1/2","ท่องจำบทอาขยานตามที่กำหนดและบทร้อยกรองตามความสนใจ",null,null,null,null,null,null,4,"ท 2.1","ป.2/2","เขียนเรื่องสั้นๆ เกี่ยวกับประสบการณ์",null,null,null,null,null,null,23,"ท 5.1","ป.3/2","รูจักเพลงพื้นบานและเพลงกลอมเด็กเพื่อปลูกฝง ความชื่นชมวัฒนธรรมทองถิ่น",null,null,null,null,null,null,23,"ท 4.1","ป.4/6","บอกความหมายของสำนวน",null,null,null,null,null,null,23,"ท 5.1","ป.5/2","ระบุความรู้และข้อคิดจากการอ่านวรรณคดีและวรรณกรรมที่สามารถนำไปใช้ในชีวิตจริง",null,null,null,null,null,null,"ตัวชี้วัดปลายทาง"]
[null,null,null,null,null,null,null,null,null,null,null,5,"ท 3.1","ป.2/1","ฟงคําแนะนํา คําสั่งที่ซับ  ซอน และปฏิบัติตาม",null,null,null,null,null,null,"ตัวชี้วัดปลายทาง",null,null,null,null,null,null,null,null,null,24,"ท 5.1","ป.4/1","ระบุข้อคิดจากนิทานพื้นบ้านหรือนิทานคติธรรม",null,null,null,null,null,null,24,"ท 5.1","ป.5/3","อธิบายคุณค่าของวรรณคดีและวรรณกรรม",null,null,null,null,null,null,1,"ท 1.1","ป.6/1","อานออกเสียงบทร้อยแก้วและบทร้อยกรองได้ถูกต้อง"]
[null,null,null,null,null,null,null,null,null,null,null,6,"ท 3.1","ป.2/6","พูดสื่อสารไดชัดเจนตรงตามวัตถุประสงค",null,null,null,null,null,null,1,"ท 1.1","ป.3/1","อานออกเสียงคํา ขอความ เรื่องสั้นๆ และบทรอยกรองงายๆ ไดถูกตองคลองแคลว",null,null,null,null,null,null,25,"ท 5.1","ป.4/2","อธิบายข้อคิดจากการอ่านเพื่อนำไปใช้ในชีวิตจริง",null,null,null,null,null,null,"ตัวชี้วัดปลายทาง",null,null,null,null,null,null,null,null,null,2,"ท 1.1","ป.6/5","อธิบายการนำความรู้และความคิดจากเรื่องที่อ่านไปตัดสินใจแก้ปัญหาในการดำเนินชีวิต"]
[null,null,null,null,null,null,null,null,null,null,null,7,"ท 4.1","ป.2/3","เรียบเรียงคําเปนประโยคไดตรงตามเจตนาของการสื่อสาร",null,null,null,null,null,null,2,"ท 1.1","ป.3/5","สรุปความรูและขอคิดจากเรื่องที่อานเพื่อนําไปใชในชีวิตประจําวัน",null,null,null,null,null,null,26,"ท 5.1","ป.4/3","ร้องเพลงพื้นบ้าน",null,null,null,null,null,null,1,"ท 1.1","ป.5/1","อ่านออกเสียงบทร้อยแก้วและบทร้อยกรองได้ถูกต้อง",null,null,null,null,null,null,3,"ท 2.1","ป.6/2","เขียนสื่อสารโดยใช้คำได้ถูกต้องชัดเจนและเหมาะสม"]
[null,null,null,null,null,null,null,null,null,null,null,8,"ท 5.1","ป.2/1","ระบุขอคิดที่ไดจากการอานหรือการฟงวรรณกรรมสําหรับเด็ก เพื่อนําไปใชในชีวิตประจําวัน",null,null,null,null,null,null,3,"ท 2.1","ป.3/2","เขียนบรรยายเกี่ยวกับสิ่งใดสิ่งหนึ่งไดอยางชัดเจน",null,null,null,null,null,null,"ตัวชี้วัดปลายทาง",null,null,null,null,null,null,null,null,null,2,"ท 1.1","ป.5/3","อธิบายความหมายโดยนัย จากเรื่องที่อ่านอย่างหลากหลาย",null,null,null,null,null,null,4,"ท 3.1","ป.6/1","พูดแสดงความรู้ ความเข้าใจจุดประสงค์ของเรื่องที่ฟังและดู"]
[null,null,null,null,null,null,null,null,null,null,null,9,"ท 5.1","ป.2/3","ทองจําบทอาขยานตามที่กําหนด และบทรอยกรองที่มีคุณคาตามความสนใจ",null,null,null,null,null,null,4,"ท 3.1","ป.3/2","บอกสาระสําคัญจากการ ฟงและการดู",null,null,null,null,null,null,1,"ท 1.1","ป.4/1","อานออกเสียงบทร้อยแก้วและบทร้อยกรองได้ถูกต้อง",null,null,null,null,null,null,3,"ท 1.1","ป.5/5","วิเคราะห์และแสดงความคิดเห็นเกี่ยวกับเรื่องที่อ่านเพื่อนำไปใช้ในการดำเนินชีวิต",null,null,null,null,null,null,5,"ท 3.1","ป.6/3","วิเคราะห์ความน่าเชื่อถือจากการฟังและดูสื่อโฆษณาอย่างมีเหตุผล"]
[null,null,null,null,null,null,null,null,null,null,null,null,null,null,null,null,null,null,null,null,null,5,"ท 3.1","ป.3/5","พูดสื่อสารไดชัดเจนตรงตามวัตถุประสงค",null,null,null,null,null,null,2,"ท 1.1","ป.4/6","สรุปความรู้และข้อคิดจากเรื่องที่อ่านเพื่อนำไปใช้ในชีวิตประจำวัน",null,null,null,null,null,null,4,"ท 2.1","ป.5/2","เขียนสื่อสารโดยใช้คำได้ถูกต้องชัดเจน และเหมาะสม",null,null,null,null,null,null,6,"ท 3.1","ป.6/5","พูดโน้มน้าวอย่างมีเหตุผลและน่าเชื่อถือ"]
[null,null,null,null,null,null,null,null,null,null,null,null,null,null,null,null,null,null,null,null,null,6,"ท 4.1","ป.3/2","ระบุชนิดและหนาที่ของคําในประโยค",null,null,null,null,null,null,3,"ท 2.1","ป.4/2","เขียนสื่อสารโดยใช้คำได้ถูกต้องชัดเจนและเหมาะสม",null,null,null,null,null,null,5,"ท 3.1","ป.5/1","พูดแสดงความรู้ ความคิดเห็น และความรู้สึกจากเรื่องที่ฟังและดู",null,null,null,null,null,null,7,"ท 4.1","ป.6/2","ใช้คำได้เหมาะสมกับกาลเทศะและบุคคล"]
[null,null,null,null,null,null,null,null,null,null,null,null,null,null,null,null,null,null,null,null,null,7,"ท 5.1","ป.3/3","แสดงความคิดเห็นเกี่ยวกับวรรณคดีที่อาน",null,null,null,null,null,null,4,"ท 3.1","ป.4/3","พูดแสดงความรู้ ความคิดเห็นและความรู้สึกเกี่ยวกับเรื่องที่ฟังและดู",null,null,null,null,null,null,6,"ท 3.1","ป.5/3","วิเคราะห์ความน่าเชื่อถือจากเรื่องที่ฟังและดูอย่างมีเหตุผล",null,null,null,null,null,null,8,"ท 4.1","ป.6/4","ระบุลักษณะของประโยค"]
[null,null,null,null,null,null,null,null,null,null,null,null,null,null,null,null,null,null,null,null,null,8,"ท 5.1","ป.3/4","ทองจําบทอาขยานตามที่กําหนดและบทรอยกรองที่มีคุณคาตามความสนใจ",null,null,null,null,null,null,5,"ท 4.1","ป.4/2","ระบุชนิดและหน้าที่ของคำในประโยค",null,null,null,null,null,null,7,"ท 4.1","ป.5/2","จำแนกส่วนประกอบของประโยค",null,null,null,null,null,null,9,"ท 4.1","ป.6/5","แต่งบทร้อยกรอง"]
[null,null,null,null,null,null,null,null,null,null,null,null,null,null,null,null,null,null,null,null,null,null,null,null,null,null,null,null,null,null,null,6,"ท 4.1","ป.4/7","เปรียบเทียบภาษาไทยมาตรฐานกับภาษาถิ่นได้",null,null,null,null,null,null,8,"ท 4.1","ป.5/3","เปรียบเทียบภาษาไทยมาตรฐานกับภาษาถิ่น",null,null,null,null,null,null,10,"ท 4.1","ป.6/6","วิเคราะห์และเปรียบเทียบสำนวนที่เป็นคำพังเพยและสุภาษิต"]
[null,null,null,null,null,null,null,null,null,null,null,null,null,null,null,null,null,null,null,null,null,null,null,null,null,null,null,null,null,null,null,7,"ท 5.1","ป.4/4","ท่องจำบทอาขยานตามที่กำหนดและบทร้อยกรองที่มีคุณค่าตามความสนใจ",null,null,null,null,null,null,9,"ท 5.1","ป.5/4","ท่องจำบทอาขยานตามที่กำหนดและบทร้อยกรองที่มีคุณค่าตามความสนใจ",null,null,null,null,null,null,11,"ท 5.1","ป.6/2","เล่านิทานพื้นบ้านท้องถิ่นตนเองและนิทานพื้นบ้านของท้องถิ่นอื่น"]
[null,null,null,null,null,null,null,null,null,null,null,null,null,null,null,null,null,null,null,null,null,null,null,null,null,null,null,null,null,null,null,null,null,null,null,null,null,null,null,null,null,null,null,null,null,null,null,null,null,null,null,12,"ท 5.1","ป.6/4","ท่องจำบทอาขยาน ตามที่กำหนดและบทร้อยกรองที่มี คุณค่าตามความสนใจ"]

{"sheet":"ตชว.คณิต","index":20,"n_rows":33,"n_cols":59,"rows_kept":33,"cut":false,"hidden":false,"merged":[[1,1,1,8],[1,11,1,18],[1,21,1,28],[1,31,1,38],[1,41,1,48],[1,51,1,58],[4,4,4,8],[4,14,4,18],[4,24,4,28],[4,34,4,38],[4,44,4,48],[4,54,4,58],[3,1,3,8],[3,51,3,58],[3,11,3,18],[3,21,3,28],[3,31,3,38],[3,41,3,48],[6,4,6,8],[6,14,6,18],[6,24,6,28],[6,34,6,38],[6,44,6,48],[6,54,6,58],[5,4,5,8],[5,14,5,18],[5,24,5,28],[5,34,5,38],[5,44,5,48],[5,54,5,58],[8,4,8,8],[8,14,8,18],[15,24,15,28],[8,34,8,38],[8,44,8,48],[8,54,8,58],[7,14,7,18],[14,24,14,28],[7,34,7,38],[7,44,7,48],[7,54,7,58],[7,24,7,28],[8,24,8,28],[10,4,10,8],[10,14,10,18],[10,34,10,38],[10,44,10,48],[10,54,10,58],[9,4,9,8],[9,14,9,18],[15,34,15,38],[15,44,15,48],[15,54,15,58],[7,1,7,8],[16,24,16,28],[9,34,9,38],[9,44,9,48],[9,54,9,58],[9,24,9,28],[10,24,10,28],[12,4,12,8],[12,34,12,38],[12,44,12,48],[11,4,11,8],[11,14,11,18],[13,34,13,38],[13,54,13,58],[13,24,13,28],[16,4,16,8],[16,14,16,18],[16,44,16,48],[16,54,16,58],[15,4,15,8],[15,14,15,18],[12,51,12,58],[12,11,12,18],[16,31,16,38],[13,41,13,48],[17,24,17,28],[18,4,18,8],[18,14,18,18],[18,34,18,38],[18,44,18,48],[18,54,18,58],[17,4,17,8],[17,14,17,18],[17,34,17,38],[17,44,17,48],[18,24,18,28],[17,54,17,58],[20,4,20,8],[20,14,20,18],[20,34,20,38],[20,44,20,48],[20,54,20,58],[19,4,19,8],[19,14,19,18],[19,34,19,38],[19,44,19,48],[19,54,19,58],[20,24,20,28],[19,21,19,28],[22,4,22,8],[22,14,22,18],[22,24,22,28],[22,34,22,38],[22,44,22,48],[22,54,22,58],[21,4,21,8],[21,14,21,18],[21,24,21,28],[21,34,21,38],[21,44,21,48],[21,54,21,58],[24,4,24,8],[24,14,24,18],[24,24,24,28],[24,34,24,38],[24,44,24,48],[24,54,24,58],[23,4,23,8],[23,14,23,18],[23,24,23,28],[23,34,23,38],[23,44,23,48],[23,54,23,58],[26,4,26,8],[26,14,26,18],[26,24,26,28],[26,34,26,38],[26,44,26,48],[26,54,26,58],[25,4,25,8],[25,14,25,18],[25,24,25,28],[25,34,25,38],[25,44,25,48],[25,54,25,58],[28,4,28,8],[28,14,28,18],[28,24,28,28],[28,34,28,38],[28,44,28,48],[28,54,28,58],[27,4,27,8],[27,14,27,18],[27,24,27,28],[27,34,27,38],[27,44,27,48],[27,54,27,58],[30,4,30,8],[30,14,30,18],[30,24,30,28],[30,34,30,38],[30,44,30,48],[30,54,30,58],[29,4,29,8],[29,14,29,18],[29,24,29,28],[29,34,29,38],[29,44,29,48],[29,54,29,58],[32,4,32,8],[32,14,32,18],[32,24,32,28],[32,34,32,38],[32,44,32,48],[32,54,32,58],[31,4,31,8],[31,14,31,18],[31,24,31,28],[31,34,31,38],[31,44,31,48],[31,54,31,58],[34,4,34,8],[34,14,34,18],[34,24,34,28],[34,34,34,38],[34,44,34,48],[34,54,34,58],[33,4,33,8],[33,14,33,18],[33,24,33,28],[33,34,33,38],[33,44,33,48],[33,54,33,58],[36,4,36,8],[36,14,36,18],[36,24,36,28],[36,34,36,38],[36,44,36,48],[36,54,36,58],[35,4,35,8],[35,14,35,18],[35,24,35,28],[35,34,35,38],[35,44,35,48],[35,54,35,58],[38,4,38,8],[38,14,38,18],[38,24,38,28],[38,34,38,38],[38,44,38,48],[38,54,38,58],[37,4,37,8],[37,14,37,18],[37,24,37,28],[37,34,37,38],[37,44,37,48],[37,54,37,58],[40,4,40,8],[40,14,40,18],[40,24,40,28],[40,34,40,38],[40,44,40,48],[40,54,40,58],[39,4,39,8],[39,14,39,18],[39,24,39,28],[39,34,39,38],[39,44,39,48],[39,54,39,58],[42,4,42,8],[42,14,42,18],[42,24,42,28],[42,34,42,38],[42,44,42,48],[42,54,42,58],[41,4,41,8],[41,14,41,18],[41,24,41,28],[41,34,41,38],[41,44,41,48],[41,54,41,58],[11,34,11,38],[11,44,11,48],[11,54,11,58],[11,24,11,28],[12,24,12,28],[14,4,14,8],[14,14,14,18],[14,34,14,38],[14,44,14,48],[14,54,14,58],[13,4,13,8],[13,14,13,18]]}
["คณิตศาสตร์"]
[null,{"$f":"\"ตัวชี้วัดรายวิชา\"&ตชว.คณิต!$A$1&\"  ชั้น ป.1\"","v":"ตัวชี้วัดรายวิชาคณิตศาสตร์  ชั้น ป.1"},null,null,null,null,null,null,null,null,null,{"$f":"\"ตัวชี้วัดรายวิชา\"&ตชว.คณิต!$A$1&\"  ชั้น ป.2\"","v":"ตัวชี้วัดรายวิชาคณิตศาสตร์  ชั้น ป.2"},null,null,null,null,null,null,null,null,null,{"$f":"\"ตัวชี้วัดรายวิชา\"&ตชว.คณิต!$A$1&\"  ชั้น ป.3\"","v":"ตัวชี้วัดรายวิชาคณิตศาสตร์  ชั้น ป.3"},null,null,null,null,null,null,null,null,null,{"$f":"\"ตัวชี้วัดรายวิชา\"&ตชว.คณิต!$A$1&\"  ชั้น ป.4\"","v":"ตัวชี้วัดรายวิชาคณิตศาสตร์  ชั้น ป.4"},null,null,null,null,null,null,null,null,null,{"$f":"\"ตัวชี้วัดรายวิชา\"&ตชว.คณิต!$A$1&\"  ชั้น ป.5\"","v":"ตัวชี้วัดรายวิชาคณิตศาสตร์  ชั้น ป.5"},null,null,null,null,null,null,null,null,null,{"$f":"\"ตัวชี้วัดรายวิชา\"&ตชว.คณิต!$A$1&\"  ชั้น ป.6\"","v":"ตัวชี้วัดรายวิชาคณิตศาสตร์  ชั้น ป.6"}]
[null,"ข้อที่","มาตรฐาน","ชั้น/ข้อ","เรื่อง",null,null,null,null,null,null,"ข้อที่","มาตรฐาน","ชั้น/ข้อ","เรื่อง",null,null,null,null,null,null,"ข้อที่","มาตรฐาน","ชั้น/ข้อ","เรื่อง",null,null,null,null,null,null,"ข้อที่","มาตรฐาน","ชั้น/ข้อ","เรื่อง",null,null,null,null,null,null,"ข้อที่","มาตรฐาน","ชั้น/ข้อ","เรื่อง",null,null,null,null,null,null,"ข้อที่","มาตรฐาน","ชั้น/ข้อ","เรื่อง"]
[null,"ตัวชี้วัดระหว่างทาง",null,null,null,null,null,null,null,null,null,"ตัวชี้วัดระหว่างทาง",null,null,null,null,null,null,null,null,null,"ตัวชี้วัดระหว่างทาง",null,null,null,null,null,null,null,null,null,"ตัวชี้วัดระหว่างทาง",null,null,null,null,null,null,null,null,null,"ตัวชี้วัดระหว่างทาง",null,null,null,null,null,null,null,null,null,"ตัวชี้วัดระหว่างทาง"]
[null,1,"ค 1.1 ","ป.1/1","บอกจำนวนของสิ่งต่าง ๆ แสดงสิ่งต่าง ๆ ตามจำนวันที่กำหนด อ่านและเขียน ตัวเลขฮินดูอารบิก ตัวเลขไทย แสดงจำนวนนับไม่เกิน 100 และ 0","บอกจำนวนของสิ่งต่าง ๆ แสดงสิ่งต่าง ๆ ตามจำนวันที่กำหนด อ่านและเขียน ตัวเลขฮินดูอารบิก ตัวเลขไทย แสดงจำนวนนับไม่เกิน ๑๐๐ และ ๐","บอกจำนวนของสิ่งต่าง ๆ แสดงสิ่งต่าง ๆ ตามจำนวันที่กำหนด อ่านและเขียน ตัวเลขฮินดูอารบิก ตัวเลขไทย แสดงจำนวนนับไม่เกิน ๑๐๐ และ ๐","บอกจำนวนของสิ่งต่าง ๆ แสดงสิ่งต่าง ๆ ตามจำนวันที่กำหนด อ่านและเขียน ตัวเลขฮินดูอารบิก ตัวเลขไทย แสดงจำนวนนับไม่เกิน ๑๐๐ และ ๐","บอกจำนวนของสิ่งต่าง ๆ แสดงสิ่งต่าง ๆ ตามจำนวันที่กำหนด อ่านและเขียน ตัวเลขฮินดูอารบิก ตัวเลขไทย แสดงจำนวนนับไม่เกิน ๑๐๐ และ ๐",null,null,1,"ค 1.1 ","ป.2/1","บอกจำนวนของสิ่งต่าง ๆ แสดงสิ่งต่าง ๆ ตามจำนวันที่กำหนด อ่านและ เขียนตัวเลขฮินดูอารบิก ตัวเลขไทย ตัวหนังสือแสดงจำนวนนับไม่เกิน 1,000 และ 0","บอกจำนวนของสิ่งต่าง ๆ แสดงสิ่งต่าง ๆ ตามจำนวันที่กำหนด อ่านและ เขียนตัวเลขฮินดูอารบิก ตัวเลขไทย ตัวหนังสือแสดงจำนวนนับไม่เกิน ๑,๐๐๐ และ ๐","บอกจำนวนของสิ่งต่าง ๆ แสดงสิ่งต่าง ๆ ตามจำนวันที่กำหนด อ่านและ เขียนตัวเลขฮินดูอารบิก ตัวเลขไทย ตัวหนังสือแสดงจำนวนนับไม่เกิน ๑,๐๐๐ และ ๐","บอกจำนวนของสิ่งต่าง ๆ แสดงสิ่งต่าง ๆ ตามจำนวันที่กำหนด อ่านและ เขียนตัวเลขฮินดูอารบิก ตัวเลขไทย ตัวหนังสือแสดงจำนวนนับไม่เกิน ๑,๐๐๐ และ ๐","บอกจำนวนของสิ่งต่าง ๆ แสดงสิ่งต่าง ๆ ตามจำนวันที่กำหนด อ่านและ เขียนตัวเลขฮินดูอารบิก ตัวเลขไทย ตัวหนังสือแสดงจำนวนนับไม่เกิน ๑,๐๐๐ และ ๐",null,null,1,"ค 1.1 ","ป.3/1","อ่านและเขียน ตัวเลขฮินดูอารบิก ตัวเลขไทย และตัวหนังสือ แสดงจำนวนนับ ไม่เกิน 100,000 และ 0","อ่านและเขียน ตัวเลขฮินดูอารบิก ตัวเลขไทย และตัวหนังสือ แสดงจำนวนนับ ไม่เกิน ๑๐๐,๐๐๐ และ ๐ ","อ่านและเขียน ตัวเลขฮินดูอารบิก ตัวเลขไทย และตัวหนังสือ แสดงจำนวนนับ ไม่เกิน ๑๐๐,๐๐๐ และ ๐ ","อ่านและเขียน ตัวเลขฮินดูอารบิก ตัวเลขไทย และตัวหนังสือ แสดงจำนวนนับ ไม่เกิน ๑๐๐,๐๐๐ และ ๐ ","อ่านและเขียน ตัวเลขฮินดูอารบิก ตัวเลขไทย และตัวหนังสือ แสดงจำนวนนับ ไม่เกิน ๑๐๐,๐๐๐ และ ๐ ",null,null,1,"ค 1.1 ","ป.4/1","อ่านและเขียนตัวเลขฮินดูอารบิกตัวเลขไทยและตัวหนังสือแสดงจำนวนนับที่มากกว่า 100,000","อ่านและเขียนตัวเลขฮินดูอารบิกตัวเลขไทยและตัวหนังสือแสดงจำนวนนับที่มากกว่า ๑๐๐,๐๐๐","อ่านและเขียนตัวเลขฮินดูอารบิกตัวเลขไทยและตัวหนังสือแสดงจำนวนนับที่มากกว่า ๑๐๐,๐๐๐","อ่านและเขียนตัวเลขฮินดูอารบิกตัวเลขไทยและตัวหนังสือแสดงจำนวนนับที่มากกว่า ๑๐๐,๐๐๐","อ่านและเขียนตัวเลขฮินดูอารบิกตัวเลขไทยและตัวหนังสือแสดงจำนวนนับที่มากกว่า ๑๐๐,๐๐๐",null,null,1,"ค 1.1 ","ป.5/1","เขียนเศษส่วนที่มีตัวส่วนเป็นตัวประกอบของ 10 หรือ 100 หรือ 1,000 ในรูปทศนิยม","เขียนเศษส่วนที่มีตัวส่วนเป็นตัวประกอบของ ๑๐ หรือ ๑๐๐ หรือ ๑,๐๐๐ ในรูปทศนิยม","เขียนเศษส่วนที่มีตัวส่วนเป็นตัวประกอบของ ๑๐ หรือ ๑๐๐ หรือ ๑,๐๐๐ ในรูปทศนิยม","เขียนเศษส่วนที่มีตัวส่วนเป็นตัวประกอบของ ๑๐ หรือ ๑๐๐ หรือ ๑,๐๐๐ ในรูปทศนิยม","เขียนเศษส่วนที่มีตัวส่วนเป็นตัวประกอบของ ๑๐ หรือ ๑๐๐ หรือ ๑,๐๐๐ ในรูปทศนิยม",null,null,1,"ค 1.1","ป.6/2","เขียนอัตราส่วนแสดงการเปรียบเทียบ ปริมาณ ๒ ปริมาณ จากข้อความหรือ สถานการณ์ โดยที่ปริมาณแต่ละ ปริมาณเป็นจำนวนนับ","เขียนอัตราส่วนแสดงการเปรียบเทียบ ปริมาณ ๒ ปริมาณ จากข้อความหรือ สถานการณ์ โดยที่ปริมาณแต่ละ ปริมาณเป็นจำนวนนับ","เขียนอัตราส่วนแสดงการเปรียบเทียบ ปริมาณ ๒ ปริมาณ จากข้อความหรือ สถานการณ์ โดยที่ปริมาณแต่ละ ปริมาณเป็นจำนวนนับ","เขียนอัตราส่วนแสดงการเปรียบเทียบ ปริมาณ ๒ ปริมาณ จากข้อความหรือ สถานการณ์ โดยที่ปริมาณแต่ละ ปริมาณเป็นจำนวนนับ","เขียนอัตราส่วนแสดงการเปรียบเทียบ ปริมาณ ๒ ปริมาณ จากข้อความหรือ สถานการณ์ โดยที่ปริมาณแต่ละ ปริมาณเป็นจำนวนนับ"]
[null,2,"ค 1.1 ","ป.1/2","เปรียบเทียบจำนวนนับไม่เกิน 100 และ 0 โดยใช้เครื่องหมาย = ≠ > <","เปรียบเทียบจำนวนนับไม่เกิน ๑๐๐ และ ๐ โดยใช้เครื่องหมาย = ≠ > <","เปรียบเทียบจำนวนนับไม่เกิน ๑๐๐ และ ๐ โดยใช้เครื่องหมาย = ≠ > <","เปรียบเทียบจำนวนนับไม่เกิน ๑๐๐ และ ๐ โดยใช้เครื่องหมาย = ≠ > <","เปรียบเทียบจำนวนนับไม่เกิน ๑๐๐ และ ๐ โดยใช้เครื่องหมาย = ≠ > <",null,null,2,"ค 1.1 ","ป.2/2","เปรียบเทียบจำนวนนับไม่เกิน 1,000 และ 0 โดยใช้เครื่องหมาย = ≠ > <","เปรียบเทียบจำนวนนับไม่เกิน ๑,๐๐๐ และ ๐ โดยใช้เครื่องหมาย = ≠ > <","เปรียบเทียบจำนวนนับไม่เกิน ๑,๐๐๐ และ ๐ โดยใช้เครื่องหมาย = ≠ > <","เปรียบเทียบจำนวนนับไม่เกิน ๑,๐๐๐ และ ๐ โดยใช้เครื่องหมาย = ≠ > <","เปรียบเทียบจำนวนนับไม่เกิน ๑,๐๐๐ และ ๐ โดยใช้เครื่องหมาย = ≠ > <",null,null,2,"ค 1.1","ป.3/3","บอก อ่าน และเขียนเศษส่วนแสดง ปริมาณสิ่งต่าง ๆ และแสดงสิ่งต่าง ๆ ตามเศษส่วันที่กำหนด ","บอก อ่าน และเขียนเศษส่วนแสดง ปริมาณสิ่งต่าง ๆ และแสดงสิ่งต่าง ๆ ตามเศษส่วันที่กำหนด ","บอก อ่าน และเขียนเศษส่วนแสดง ปริมาณสิ่งต่าง ๆ และแสดงสิ่งต่าง ๆ ตามเศษส่วันที่กำหนด ","บอก อ่าน และเขียนเศษส่วนแสดง ปริมาณสิ่งต่าง ๆ และแสดงสิ่งต่าง ๆ ตามเศษส่วันที่กำหนด ","บอก อ่าน และเขียนเศษส่วนแสดง ปริมาณสิ่งต่าง ๆ และแสดงสิ่งต่าง ๆ ตามเศษส่วันที่กำหนด ",null,null,2,"ค 1.1","ป.4/3","บอก อ่าน และเขียนเศษส่วน จำนวนคละแสดงปริมาณสิ่งต่าง ๆ และแสดงสิ่งต่างๆ ตามเศษส่วน จำนวนคละที่กำหนด","บอก อ่าน และเขียนเศษส่วน จำนวนคละแสดงปริมาณสิ่งต่าง ๆ และแสดงสิ่งต่างๆ ตามเศษส่วน จำนวนคละที่กำหนด","บอก อ่าน และเขียนเศษส่วน จำนวนคละแสดงปริมาณสิ่งต่าง ๆ และแสดงสิ่งต่างๆ ตามเศษส่วน จำนวนคละที่กำหนด","บอก อ่าน และเขียนเศษส่วน จำนวนคละแสดงปริมาณสิ่งต่าง ๆ และแสดงสิ่งต่างๆ ตามเศษส่วน จำนวนคละที่กำหนด","บอก อ่าน และเขียนเศษส่วน จำนวนคละแสดงปริมาณสิ่งต่าง ๆ และแสดงสิ่งต่างๆ ตามเศษส่วน จำนวนคละที่กำหนด",null,null,2,"ค 1.1","ป.5/3","หาผลบวก ผลลบ ของเศษส่วนและจำนวนคละ","หาผลบวก ผลลบ ของเศษส่วนและจำนวนคละ","หาผลบวก ผลลบ ของเศษส่วนและจำนวนคละ","หาผลบวก ผลลบ ของเศษส่วนและจำนวนคละ","หาผลบวก ผลลบ ของเศษส่วนและจำนวนคละ",null,null,2,"ค 1.1 ","ป.6/3","หาอัตราส่วันที่เท่ากับอัตราส่วน ที่กำหนดให้","หาอัตราส่วันที่เท่ากับอัตราส่วน ที่กำหนดให้","หาอัตราส่วันที่เท่ากับอัตราส่วน ที่กำหนดให้","หาอัตราส่วันที่เท่ากับอัตราส่วน ที่กำหนดให้","หาอัตราส่วันที่เท่ากับอัตราส่วน ที่กำหนดให้"]
[null,3,"ค 1.1","ป.1/4","หาค่าของตัวไม่ทราบค่าในประโยค สัญลักษณ์แสดงการบวกและ ประโยคสัญลักษณ์แสดงการลบ ของจำนวนนับไม่เกิน 100 และ 0","หาค่าของตัวไม่ทราบค่าในประโยค สัญลักษณ์แสดงการบวกและ ประโยคสัญลักษณ์แสดงการลบ ของจำนวนนับไม่เกิน ๑๐๐ และ ๐","หาค่าของตัวไม่ทราบค่าในประโยค สัญลักษณ์แสดงการบวกและ ประโยคสัญลักษณ์แสดงการลบ ของจำนวนนับไม่เกิน ๑๐๐ และ ๐","หาค่าของตัวไม่ทราบค่าในประโยค สัญลักษณ์แสดงการบวกและ ประโยคสัญลักษณ์แสดงการลบ ของจำนวนนับไม่เกิน ๑๐๐ และ ๐","หาค่าของตัวไม่ทราบค่าในประโยค สัญลักษณ์แสดงการบวกและ ประโยคสัญลักษณ์แสดงการลบ ของจำนวนนับไม่เกิน ๑๐๐ และ ๐",null,null,3,"ค 1.1","ป.2/4","หาค่าของตัวไม่ทราบค่าใน ประโยคสัญลักษณ์แสดงการบวก และประโยคสัญลักษณ์แสดงการลบของจำนวนนับไม่เกิน 1,000 และ 0","หาค่าของตัวไม่ทราบค่าใน ประโยคสัญลักษณ์แสดงการบวก และประโยคสัญลักษณ์แสดงการลบของจำนวนนับไม่เกิน ๑,๐๐๐ และ ๐","หาค่าของตัวไม่ทราบค่าใน ประโยคสัญลักษณ์แสดงการบวก และประโยคสัญลักษณ์แสดงการลบของจำนวนนับไม่เกิน ๑,๐๐๐ และ ๐","หาค่าของตัวไม่ทราบค่าใน ประโยคสัญลักษณ์แสดงการบวก และประโยคสัญลักษณ์แสดงการลบของจำนวนนับไม่เกิน ๑,๐๐๐ และ ๐","หาค่าของตัวไม่ทราบค่าใน ประโยคสัญลักษณ์แสดงการบวก และประโยคสัญลักษณ์แสดงการลบของจำนวนนับไม่เกิน ๑,๐๐๐ และ ๐",null,null,3,"ค 1.1","ป.3/5","หาค่าของตัวไม่ทราบค่าในประโยคสัญลักษณ์แสดงการบวกและประโยคสัญลักษณ์แสดงการลบของจำนวนนับไม่เกิน 100,000 และ 0\n",null,null,null,null,null,null,3,"ค 1.1","ป.4/5","อ่านและเขียนทศนิยมไม1เกิน 3 ตำแหน่ง แสดงปริมาณของสิ่งต่าง ๆ และแสดง สิ่งต่าง ๆ ตามทศนิยมที่กำหนด","อ่านและเขียนทศนิยมไม1เกิน ๓ ตำแหน่ง แสดงปริมาณของสิ่งต่าง ๆ และแสดง สิ่งต่าง ๆ ตามทศนิยมที่กำหนด","อ่านและเขียนทศนิยมไม1เกิน ๓ ตำแหน่ง แสดงปริมาณของสิ่งต่าง ๆ และแสดง สิ่งต่าง ๆ ตามทศนิยมที่กำหนด","อ่านและเขียนทศนิยมไม1เกิน ๓ ตำแหน่ง แสดงปริมาณของสิ่งต่าง ๆ และแสดง สิ่งต่าง ๆ ตามทศนิยมที่กำหนด","อ่านและเขียนทศนิยมไม1เกิน ๓ ตำแหน่ง แสดงปริมาณของสิ่งต่าง ๆ และแสดง สิ่งต่าง ๆ ตามทศนิยมที่กำหนด",null,null,3,"ค 1.1","ป.5/4","หาผลคูณ ผลหาร ของเศษส่วนและจำนวนคละ","หาผลคูณ ผลหาร ของเศษส่วนและจำนวนคละ","หาผลคูณ ผลหาร ของเศษส่วนและจำนวนคละ","หาผลคูณ ผลหาร ของเศษส่วนและจำนวนคละ","หาผลคูณ ผลหาร ของเศษส่วนและจำนวนคละ",null,null,3,"ค 1.1","ป.6/4","หา ห.ร.ม. ของจำนวนนับไม่เกิน 3 จำนวน","หา ห.ร.ม. ของจำนวนนับไม่เกิน ๓ จำนวน","หา ห.ร.ม. ของจำนวนนับไม่เกิน ๓ จำนวน","หา ห.ร.ม. ของจำนวนนับไม่เกิน ๓ จำนวน","หา ห.ร.ม. ของจำนวนนับไม่เกิน ๓ จำนวน"]
[null,"ตัวชี้วัดปลายทาง",null,null,null,null,null,null,null,null,null,4,"ค 1.1","ป.2/5","หาค่าของตัวไม่ทราบค่าในประโยคสัญลักษณ์แสดงการคูณ ของจำนวน 1 หลักกับจำนวนไม่เกิน 2 หลัก","หาค่าของตัวไม่ทราบค่าในประโยคสัญลักษณ์แสดงการคูณ ของจำนวน ๑ หลักกับจำนวนไม่เกิน ๒ หลัก","หาค่าของตัวไม่ทราบค่าในประโยคสัญลักษณ์แสดงการคูณ ของจำนวน ๑ หลักกับจำนวนไม่เกิน ๒ หลัก","หาค่าของตัวไม่ทราบค่าในประโยคสัญลักษณ์แสดงการคูณ ของจำนวน ๑ หลักกับจำนวนไม่เกิน ๒ หลัก","หาค่าของตัวไม่ทราบค่าในประโยคสัญลักษณ์แสดงการคูณ ของจำนวน ๑ หลักกับจำนวนไม่เกิน ๒ หลัก",null,null,4,"ค 1.1","ป.3/6","หาค่าของตัวไม่ทราบค่าในประโยคสัญลักษณ์แสดงการคูณของจำนวน 1 หลักกับจำนวนไม่เกิน 4 หลัก  และจำนวน 2 หลักกับจำนวน 2 หลัก\n",null,null,null,null,null,null,4,"ค 1.1","ป.4/7","ประมาณผลลัพธ์ของการบวก การลบ การคูณ การหาร จากสถานการณ์ต่าง ๆ อย่างสมเหตุสมผล","ประมาณผลลัพธ์ของการบวก การลบ การคูณ การหาร จากสถานการณ์ต่าง ๆ อย่างสมเหตุสมผล","ประมาณผลลัพธ์ของการบวก การลบ การคูณ การหาร จากสถานการณ์ต่าง ๆ อย่างสมเหตุสมผล","ประมาณผลลัพธ์ของการบวก การลบ การคูณ การหาร จากสถานการณ์ต่าง ๆ อย่างสมเหตุสมผล","ประมาณผลลัพธ์ของการบวก การลบ การคูณ การหาร จากสถานการณ์ต่าง ๆ อย่างสมเหตุสมผล",null,null,4,"ค 1.1","ป.5/6","หาผลคูณของทศนิยมที่ผลคูณเป็นทศนิยมไม่เกิน 3 ตำแหน่ง","หาผลคูณของทศนิยมที่ผลคูณเป็นทศนิยมไม่เกิน ๓ ตำแหน่ง","หาผลคูณของทศนิยมที่ผลคูณเป็นทศนิยมไม่เกิน ๓ ตำแหน่ง","หาผลคูณของทศนิยมที่ผลคูณเป็นทศนิยมไม่เกิน ๓ ตำแหน่ง","หาผลคูณของทศนิยมที่ผลคูณเป็นทศนิยมไม่เกิน ๓ ตำแหน่ง",null,null,4,"ค 1.1","ป.6/5","หา ค.ร.น. ของจำนวนนับไม่เกิน 3 จำนวน ","หา ค.ร.น. ของจำนวนนับไม่เกิน ๓ จำนวน ","หา ค.ร.น. ของจำนวนนับไม่เกิน ๓ จำนวน ","หา ค.ร.น. ของจำนวนนับไม่เกิน ๓ จำนวน ","หา ค.ร.น. ของจำนวนนับไม่เกิน ๓ จำนวน "]
[null,1,"ค 1.1","ป.1/3","เรียงลำดับจำนวนนับไม่เกิน 100 และ 0 ตั้งแต่ 3 ถึง 5 จำนวน","เรียงลำดับจำนวนนับไม่เกิน ๑๐๐ และ ๐ ตั้งแต่ ๓ ถึง ๕ จำนวน","เรียงลำดับจำนวนนับไม่เกิน ๑๐๐ และ ๐ ตั้งแต่ ๓ ถึง ๕ จำนวน","เรียงลำดับจำนวนนับไม่เกิน ๑๐๐ และ ๐ ตั้งแต่ ๓ ถึง ๕ จำนวน","เรียงลำดับจำนวนนับไม่เกิน ๑๐๐ และ ๐ ตั้งแต่ ๓ ถึง ๕ จำนวน",null,null,5,"ค 1.1","ป.2/6","หาค่าของตัวไม่ทราบค่าในประโยคสัญลักษณ์แสดงการหาร ที่ตัวตั้งไม่เกิน 2 หลัก ตัวหาร 1 หลัก โดยที่ผลหารมี 1 หลักทั้งหารลงตัว และหารไม่ลงตัว","หาค่าของตัวไม่ทราบค่าในประโยคสัญลักษณ์แสดงการหาร ที่ตัวตั้งไม่เกิน ๒ หลัก ตัวหาร ๑ หลัก โดยที่ผลหารมี ๑ หลักทั้งหารลงตัว และหารไม่ลงตัว","หาค่าของตัวไม่ทราบค่าในประโยคสัญลักษณ์แสดงการหาร ที่ตัวตั้งไม่เกิน ๒ หลัก ตัวหาร ๑ หลัก โดยที่ผลหารมี ๑ หลักทั้งหารลงตัว และหารไม่ลงตัว","หาค่าของตัวไม่ทราบค่าในประโยคสัญลักษณ์แสดงการหาร ที่ตัวตั้งไม่เกิน ๒ หลัก ตัวหาร ๑ หลัก โดยที่ผลหารมี ๑ หลักทั้งหารลงตัว และหารไม่ลงตัว","หาค่าของตัวไม่ทราบค่าในประโยคสัญลักษณ์แสดงการหาร ที่ตัวตั้งไม่เกิน ๒ หลัก ตัวหาร ๑ หลัก โดยที่ผลหารมี ๑ หลักทั้งหารลงตัว และหารไม่ลงตัว",null,null,5,"ค 1.1","ป.3/7","หาค่าของตัวไม่ทราบค่าในประโยคสัญลักษณ์แสดงการหารที่ตัวตั้งไม่เกิน 4 หลัก ตัวหาร 1",null,null,null,null,null,null,5,"ค 1.1","ป.4/8","หาค่าของตัวไม่ทราบค่าในประโยคสัญลักษณ์ แสดงการบวกและประโยคสัญลักษณ์ แสดงการลบของจำนวนนับที่มากกว่า 100,000 และ 0","หาค่าของตัวไม่ทราบค่าในประโยคสัญลักษณ์ แสดงการบวกและประโยคสัญลักษณ์ แสดงการลบของจำนวนนับที่มากกว่า ๑๐๐,๐๐๐ และ ๐","หาค่าของตัวไม่ทราบค่าในประโยคสัญลักษณ์ แสดงการบวกและประโยคสัญลักษณ์ แสดงการลบของจำนวนนับที่มากกว่า ๑๐๐,๐๐๐ และ ๐","หาค่าของตัวไม่ทราบค่าในประโยคสัญลักษณ์ แสดงการบวกและประโยคสัญลักษณ์ แสดงการลบของจำนวนนับที่มากกว่า ๑๐๐,๐๐๐ และ ๐","หาค่าของตัวไม่ทราบค่าในประโยคสัญลักษณ์ แสดงการบวกและประโยคสัญลักษณ์ แสดงการลบของจำนวนนับที่มากกว่า ๑๐๐,๐๐๐ และ ๐",null,null,5,"ค 1.1","ป.5/7","หาผลหารที่ตัวตั้งเป็นจำนวนนับหรือทศนิยม ไม่เกิน 3 ตำแหน่ง และตัวหารเป็นจำนวนนับ ผลหารเป็นทศนิยมไม่เกิน 3 ตำแหน่ง","หาผลหารที่ตัวตั้งเป็นจำนวนนับหรือทศนิยม ไม่เกิน ๓ ตำแหน่ง และตัวหารเป็นจำนวนนับ ผลหารเป็นทศนิยมไม่เกิน ๓ ตำแหน่ง","หาผลหารที่ตัวตั้งเป็นจำนวนนับหรือทศนิยม ไม่เกิน ๓ ตำแหน่ง และตัวหารเป็นจำนวนนับ ผลหารเป็นทศนิยมไม่เกิน ๓ ตำแหน่ง","หาผลหารที่ตัวตั้งเป็นจำนวนนับหรือทศนิยม ไม่เกิน ๓ ตำแหน่ง และตัวหารเป็นจำนวนนับ ผลหารเป็นทศนิยมไม่เกิน ๓ ตำแหน่ง","หาผลหารที่ตัวตั้งเป็นจำนวนนับหรือทศนิยม ไม่เกิน ๓ ตำแหน่ง และตัวหารเป็นจำนวนนับ ผลหารเป็นทศนิยมไม่เกิน ๓ ตำแหน่ง",null,null,5,"ค 1.1","ป.6/7","หาผลลัพธ์ของการบวก ลบ คูณ หารระคนของเศษส่วนและจำนวนคละ","หาผลลัพธ์ของการบวก ลบ คูณ หารระคนของเศษส่วนและจำนวนคละ","หาผลลัพธ์ของการบวก ลบ คูณ หารระคนของเศษส่วนและจำนวนคละ","หาผลลัพธ์ของการบวก ลบ คูณ หารระคนของเศษส่วนและจำนวนคละ","หาผลลัพธ์ของการบวก ลบ คูณ หารระคนของเศษส่วนและจำนวนคละ"]
[null,2,"ค 1.1","ป.1/5","แสดงวิธีหาคำตอบของโจทย์ปัญหา การบวกและโจทย์ปัญหาการลบ ของจำนวนนับไม่เกิน 100 และ 0","แสดงวิธีหาคำตอบของโจทย์ปัญหา การบวกและโจทย์ปัญหาการลบ ของจำนวนนับไม่เกิน ๑๐๐ และ ๐","แสดงวิธีหาคำตอบของโจทย์ปัญหา การบวกและโจทย์ปัญหาการลบ ของจำนวนนับไม่เกิน ๑๐๐ และ ๐","แสดงวิธีหาคำตอบของโจทย์ปัญหา การบวกและโจทย์ปัญหาการลบ ของจำนวนนับไม่เกิน ๑๐๐ และ ๐","แสดงวิธีหาคำตอบของโจทย์ปัญหา การบวกและโจทย์ปัญหาการลบ ของจำนวนนับไม่เกิน ๑๐๐ และ ๐",null,null,6,"ค 1.1","ป.2/7","หาผลลัพธ์การบวก ลบ คูณ หารระคน ของจำนวนนับ ไม่เกิน 1,000 และ 0","หาผลลัพธ์การบวก ลบ คูณ หารระคน ของจำนวนนับ ไม่เกิน ๑,๐๐๐ และ ๐","หาผลลัพธ์การบวก ลบ คูณ หารระคน ของจำนวนนับ ไม่เกิน ๑,๐๐๐ และ ๐","หาผลลัพธ์การบวก ลบ คูณ หารระคน ของจำนวนนับ ไม่เกิน ๑,๐๐๐ และ ๐","หาผลลัพธ์การบวก ลบ คูณ หารระคน ของจำนวนนับ ไม่เกิน ๑,๐๐๐ และ ๐",null,null,6,"ค 1.1","ป.3/8","หาผลลัพธ์การบวก ลบ คูณ หารระคนของจำนวนนับไม่เกิน 100,000 และ 0",null,null,null,null,null,null,6,"ค 1.1","ป.4/9","หาค่าของตัวไม่ทราบค่าในประโยคสัญลักษณ์ แสดงการคูณของจำนวนหลายหลัก 2 จำนวน ที่มีผลคูณไม่เกิน ๖ หลักและ ประโยคลัญลักษณแสดงการหารที่ตัวตั้ง ไม่เกิน ๖ หลัก ตัวหารไม่เกิน 2 หลัก","หาค่าของตัวไม่ทราบค่าในประโยคสัญลักษณ์ แสดงการคูณของจำนวนหลายหลัก ๒ จำนวน ที่มีผลคูณไม่เกิน ๖ หลักและ ประโยคลัญลักษณแสดงการหารที่ตัวตั้ง ไม่เกิน ๖ หลัก ตัวหารไม่เกิน ๒ หลัก","หาค่าของตัวไม่ทราบค่าในประโยคสัญลักษณ์ แสดงการคูณของจำนวนหลายหลัก ๒ จำนวน ที่มีผลคูณไม่เกิน ๖ หลักและ ประโยคลัญลักษณแสดงการหารที่ตัวตั้ง ไม่เกิน ๖ หลัก ตัวหารไม่เกิน ๒ หลัก","หาค่าของตัวไม่ทราบค่าในประโยคสัญลักษณ์ แสดงการคูณของจำนวนหลายหลัก ๒ จำนวน ที่มีผลคูณไม่เกิน ๖ หลักและ ประโยคลัญลักษณแสดงการหารที่ตัวตั้ง ไม่เกิน ๖ หลัก ตัวหารไม่เกิน ๒ หลัก","หาค่าของตัวไม่ทราบค่าในประโยคสัญลักษณ์ แสดงการคูณของจำนวนหลายหลัก ๒ จำนวน ที่มีผลคูณไม่เกิน ๖ หลักและ ประโยคลัญลักษณแสดงการหารที่ตัวตั้ง ไม่เกิน ๖ หลัก ตัวหารไม่เกิน ๒ หลัก",null,null,6,"ค 2.1","ป.5/1","แสดงวิธีหาคำตอบของโจทย์ปัญหา เกี่ยวกับความยาวที่มีการเปลี่ยนหน่วย และการเขียนในรูปทศนิยม","แสดงวิธีหาคำตอบของโจทย์ปัญหา เกี่ยวกับความยาวที่มีการเปลี่ยนหน่วย และการเขียนในรูปทศนิยม","แสดงวิธีหาคำตอบของโจทย์ปัญหา เกี่ยวกับความยาวที่มีการเปลี่ยนหน่วย และการเขียนในรูปทศนิยม","แสดงวิธีหาคำตอบของโจทย์ปัญหา เกี่ยวกับความยาวที่มีการเปลี่ยนหน่วย และการเขียนในรูปทศนิยม","แสดงวิธีหาคำตอบของโจทย์ปัญหา เกี่ยวกับความยาวที่มีการเปลี่ยนหน่วย และการเขียนในรูปทศนิยม",null,null,6,"ค 1.1","ป.6/9","หาผลหารของทศนิยมที่ตัวหารและ ผลหาร เป็นทศนิยมไม่เกิน 3 ตำแหน่ง","หาผลหารของทศนิยมที่ตัวหารและ ผลหาร เป็นทศนิยมไม่เกิน ๓ ตำแหน่ง","หาผลหารของทศนิยมที่ตัวหารและ ผลหาร เป็นทศนิยมไม่เกิน ๓ ตำแหน่ง","หาผลหารของทศนิยมที่ตัวหารและ ผลหาร เป็นทศนิยมไม่เกิน ๓ ตำแหน่ง","หาผลหารของทศนิยมที่ตัวหารและ ผลหาร เป็นทศนิยมไม่เกิน ๓ ตำแหน่ง"]
[null,3,"ค 1.2 ","ป.1/1","ระบุจำนวันที่หายไปในแบบรูปของจำนวน ที่เพิ่มขึ้นหรือลดลงทีละ 1 และทีละ 10 และระบุรูปที่หายไปในแบบรูปซ้ำ ของรูปเรขาคณิตและ รูปอื่น ๆ ที่สมาชิกในแต่ละชุดที่ซ้ำมี 2 รูป","ระบุจำนวันที่หายไปในแบบรูปของจำนวน ที่เพิ่มขึ้นหรือลดลงทีละ ๑ และทีละ ๑๐ และระบุรูปที่หายไปในแบบรูปซ้ำ ของรูปเรขาคณิตและ รูปอื่น ๆ ที่สมาชิกในแต่ละชุดที่ซ้ำมี ๒ รูป","ระบุจำนวันที่หายไปในแบบรูปของจำนวน ที่เพิ่มขึ้นหรือลดลงทีละ ๑ และทีละ ๑๐ และระบุรูปที่หายไปในแบบรูปซ้ำ ของรูปเรขาคณิตและ รูปอื่น ๆ ที่สมาชิกในแต่ละชุดที่ซ้ำมี ๒ รูป","ระบุจำนวันที่หายไปในแบบรูปของจำนวน ที่เพิ่มขึ้นหรือลดลงทีละ ๑ และทีละ ๑๐ และระบุรูปที่หายไปในแบบรูปซ้ำ ของรูปเรขาคณิตและ รูปอื่น ๆ ที่สมาชิกในแต่ละชุดที่ซ้ำมี ๒ รูป","ระบุจำนวันที่หายไปในแบบรูปของจำนวน ที่เพิ่มขึ้นหรือลดลงทีละ ๑ และทีละ ๑๐ และระบุรูปที่หายไปในแบบรูปซ้ำ ของรูปเรขาคณิตและ รูปอื่น ๆ ที่สมาชิกในแต่ละชุดที่ซ้ำมี ๒ รูป",null,null,7,"ค 2.1 ","ป.2/2","วัดและเปรียบเทียบความยาวเป็นเมตร และเซนติเมตร","วัดและเปรียบเทียบความยาวเป็นเมตร และเซนติเมตร","วัดและเปรียบเทียบความยาวเป็นเมตร และเซนติเมตร","วัดและเปรียบเทียบความยาวเป็นเมตร และเซนติเมตร","วัดและเปรียบเทียบความยาวเป็นเมตร และเซนติเมตร",null,null,7,"ค 1.1","ป.3/10","หาผลบวกของเศษส่วนที่มีตัวส่วนเท่ากันและผลบวกไม่เกิน 1 และหาผลลบของเศษส่วนที่มีตัวส่วนเท่ากัน\n",null,null,null,null,null,null,7,"ค 1.1","ป.4/10","หาผลลัพธ์การบวก ลบ คูณ หารระคน ของจำนวนนับ และ 0","หาผลลัพธ์การบวก ลบ คูณ หารระคน ของจำนวนนับ และ ๐","หาผลลัพธ์การบวก ลบ คูณ หารระคน ของจำนวนนับ และ ๐","หาผลลัพธ์การบวก ลบ คูณ หารระคน ของจำนวนนับ และ ๐","หาผลลัพธ์การบวก ลบ คูณ หารระคน ของจำนวนนับ และ ๐",null,null,7,"ค 2.1","ป.5/2","แสดงวิธีหาคำตอบของโจทย์ปัญหาเกี่ยวกับน้ำหนักที่มีการเปลี่ยนหน่วยและการเขียน ในรูปทศนิยม","แสดงวิธีหาคำตอบของโจทย์ปัญหาเกี่ยวกับน้ำหนักที่มีการเปลี่ยนหน่วยและการเขียน ในรูปทศนิยม","แสดงวิธีหาคำตอบของโจทย์ปัญหาเกี่ยวกับน้ำหนักที่มีการเปลี่ยนหน่วยและการเขียน ในรูปทศนิยม","แสดงวิธีหาคำตอบของโจทย์ปัญหาเกี่ยวกับน้ำหนักที่มีการเปลี่ยนหน่วยและการเขียน ในรูปทศนิยม","แสดงวิธีหาคำตอบของโจทย์ปัญหาเกี่ยวกับน้ำหนักที่มีการเปลี่ยนหน่วยและการเขียน ในรูปทศนิยม",null,null,7,"ค 2.2","ป.6/1","จำแนกรูปสามเหลี่ยมโดยพิจารณาจากสมบัติของรูป","จำแนกรูปสามเหลี่ยมโดยพิจารณาจาก สมบัติของรูป","จำแนกรูปสามเหลี่ยมโดยพิจารณาจาก สมบัติของรูป","จำแนกรูปสามเหลี่ยมโดยพิจารณาจาก สมบัติของรูป","จำแนกรูปสามเหลี่ยมโดยพิจารณาจาก สมบัติของรูป"]
[null,4,"ค 2.1","ป.1/1","วัดและเปรียบเทียบความยาวเป็นเซนติเมตร เป็นเมตร","วัดและเปรียบเทียบความยาวเป็นเซนติเมตร เป็นเมตร","วัดและเปรียบเทียบความยาวเป็นเซนติเมตร เป็นเมตร","วัดและเปรียบเทียบความยาวเป็นเซนติเมตร เป็นเมตร","วัดและเปรียบเทียบความยาวเป็นเซนติเมตร เป็นเมตร",null,null,8,"ค 2.1","ป.2/4","วัดและเปรียบเทียบน้ำหนักเป็นกิโลกรัม และกรัม กิโลกรัมและขีด","วัดและเปรียบเทียบน้ำหนักเป็นกิโลกรัม และกรัม กิโลกรัมและขีด","วัดและเปรียบเทียบน้ำหนักเป็นกิโลกรัม และกรัม กิโลกรัมและขีด","วัดและเปรียบเทียบน้ำหนักเป็นกิโลกรัม และกรัม กิโลกรัมและขีด","วัดและเปรียบเทียบน้ำหนักเป็นกิโลกรัม และกรัม กิโลกรัมและขีด",null,null,8,"ค 2.1","ป.3/3","เลือกใช้เครื่องวัดความยาวที่เหมาะสม วัดและบอกความยาวของสิ่งต่าง ๆ เป็นเซนติเมตรและมิลลิเมตรเมตร และเซนติเมตร","เลือกใช้เครื่องวัดความยาวที่เหมาะสม วัดและบอกความยาวของสิ่งต่าง ๆ เป็นเซนติเมตรและมิลลิเมตรเมตร และเซนติเมตร","เลือกใช้เครื่องวัดความยาวที่เหมาะสม วัดและบอกความยาวของสิ่งต่าง ๆ เป็นเซนติเมตรและมิลลิเมตรเมตร และเซนติเมตร","เลือกใช้เครื่องวัดความยาวที่เหมาะสม วัดและบอกความยาวของสิ่งต่าง ๆ เป็นเซนติเมตรและมิลลิเมตรเมตร และเซนติเมตร","เลือกใช้เครื่องวัดความยาวที่เหมาะสม วัดและบอกความยาวของสิ่งต่าง ๆ เป็นเซนติเมตรและมิลลิเมตรเมตร และเซนติเมตร",null,null,8,"ค 1.1","ป.4/12","สร้างโจทย์ปัญหา 2 ขั้นตอน ของจำนวนนับและ 0 พร้อมทั้งหาคำตอบ","สร้างโจทย์ปัญหา ๒ ขั้นตอน ของจำนวนนับและ ๐ พร้อมทั้งหาคำตอบ","สร้างโจทย์ปัญหา ๒ ขั้นตอน ของจำนวนนับและ ๐ พร้อมทั้งหาคำตอบ","สร้างโจทย์ปัญหา ๒ ขั้นตอน ของจำนวนนับและ ๐ พร้อมทั้งหาคำตอบ","สร้างโจทย์ปัญหา ๒ ขั้นตอน ของจำนวนนับและ ๐ พร้อมทั้งหาคำตอบ",null,null,8,"ค 2.2","ป.5/1","สร้างเส้นตรงหรือส่วนของเส้นตรงให้ขนานกับเส้นตรงหรือส่วนของเส้นตรงที่กำหนดให้","สร้างเส้นตรงหรือส่วนของเส้นตรงให้ขนานกับเส้นตรงหรือส่วนของเส้นตรงที่กำหนดให้","สร้างเส้นตรงหรือส่วนของเส้นตรงให้ขนานกับเส้นตรงหรือส่วนของเส้นตรงที่กำหนดให้","สร้างเส้นตรงหรือส่วนของเส้นตรงให้ขนานกับเส้นตรงหรือส่วนของเส้นตรงที่กำหนดให้","สร้างเส้นตรงหรือส่วนของเส้นตรงให้ขนานกับเส้นตรงหรือส่วนของเส้นตรงที่กำหนดให้",null,null,8,"ค 2.2","ป.6/4","ระบุรูปเรขาคณิตสามมิติที่ประกอบจากรูปคลี่ และระบุรูปคลี่ของรูปเรขาคณิตสามมิติ","ระบุรูปเรขาคณิตสามมิติที่ประกอบจาก รูปคลี่ และระบุรูปคลี่ของรูปเรขาคณิต สามมิติ","ระบุรูปเรขาคณิตสามมิติที่ประกอบจาก รูปคลี่ และระบุรูปคลี่ของรูปเรขาคณิต สามมิติ","ระบุรูปเรขาคณิตสามมิติที่ประกอบจาก รูปคลี่ และระบุรูปคลี่ของรูปเรขาคณิต สามมิติ","ระบุรูปเรขาคณิตสามมิติที่ประกอบจาก รูปคลี่ และระบุรูปคลี่ของรูปเรขาคณิต สามมิติ"]
[null,5,"ค 2.1","ป.1/2","วัดและเปรียบเทียบนน้ำหนักเป็นกิโลกรัม เป็นขีด","วัดและเปรียบเทียบนน้ำหนักเป็นกิโลกรัม เป็นขีด","วัดและเปรียบเทียบนน้ำหนักเป็นกิโลกรัม เป็นขีด","วัดและเปรียบเทียบนน้ำหนักเป็นกิโลกรัม เป็นขีด","วัดและเปรียบเทียบนน้ำหนักเป็นกิโลกรัม เป็นขีด",null,null,"ตัวชี้วัดปลายทาง",null,null,null,null,null,null,null,null,null,9,"ค 2.1","ป.3/4","คาดคะเนความยาวเป็นเมตรและเป็น เซนติเมตร","คาดคะเนความยาวเป็นเมตรและเป็น เซนติเมตร","คาดคะเนความยาวเป็นเมตรและเป็น เซนติเมตร","คาดคะเนความยาวเป็นเมตรและเป็น เซนติเมตร","คาดคะเนความยาวเป็นเมตรและเป็น เซนติเมตร",null,null,9,"ค 1.1","ป.4/13","หาผลบวกผลลบของเศษส่วนและจำนวนคละทีตัวส่วนตัวหนึ่งเป็นพหุคูณ ของอีกตัวหนึ่ง","หาผลบวก ผลลบของเศษส่วนและ จำนวนคละทีตัวส่วนตัวหนึ่งเป็นพหุคูณ ของอีกตัวหนึ่ง","หาผลบวก ผลลบของเศษส่วนและ จำนวนคละทีตัวส่วนตัวหนึ่งเป็นพหุคูณ ของอีกตัวหนึ่ง","หาผลบวก ผลลบของเศษส่วนและ จำนวนคละทีตัวส่วนตัวหนึ่งเป็นพหุคูณ ของอีกตัวหนึ่ง","หาผลบวก ผลลบของเศษส่วนและ จำนวนคละทีตัวส่วนตัวหนึ่งเป็นพหุคูณ ของอีกตัวหนึ่ง",null,null,9,"ค 2.2","ป.5/2","จำแนกรูปสี่เหลี่ยมโดยพิจารณาจากสมบัติของรูป","จำแนกรูปสี่เหลี่ยมโดยพิจารณาจากสมบัติของรูป","จำแนกรูปสี่เหลี่ยมโดยพิจารณาจากสมบัติของรูป","จำแนกรูปสี่เหลี่ยมโดยพิจารณาจากสมบัติของรูป","จำแนกรูปสี่เหลี่ยมโดยพิจารณาจากสมบัติของรูป",null,null,"ตัวชี้วัดปลายทาง"]
[null,6,"ค 2.2","ป.1/1","จำแนกรูปสามเหลี่ยม รูปสี่เหลี่ยม วงกลม วงรี ทรงสี่เหลี่ยมมุมฉาก ทรงกลม ทรงกระบอก และกรวย","จำแนกรูปสามเหลี่ยม รูปสี่เหลี่ยม วงกลม วงรี ทรงสี่เหลี่ยมมุมฉาก ทรงกลม ทรงกระบอก และกรวย","จำแนกรูปสามเหลี่ยม รูปสี่เหลี่ยม วงกลม วงรี ทรงสี่เหลี่ยมมุมฉาก ทรงกลม ทรงกระบอก และกรวย","จำแนกรูปสามเหลี่ยม รูปสี่เหลี่ยม วงกลม วงรี ทรงสี่เหลี่ยมมุมฉาก ทรงกลม ทรงกระบอก และกรวย","จำแนกรูปสามเหลี่ยม รูปสี่เหลี่ยม วงกลม วงรี ทรงสี่เหลี่ยมมุมฉาก ทรงกลม ทรงกระบอก และกรวย",null,null,1,"ค 1.1","ป.2/3","เรียงลำดับจำนวนนับไม่เกิน 1,000 และ 0 ตั้งแต่ 3 ถึง 5 จำนวนจากสถานการณ์ต่าง ๆ","เรียงลำดับจำนวนนับไม่เกิน ๑,๐๐๐ และ ๐ ตั้งแต่ ๓ ถึง ๕ จำนวนจากสถานการณ์ต่าง ๆ","เรียงลำดับจำนวนนับไม่เกิน ๑,๐๐๐ และ ๐ ตั้งแต่ ๓ ถึง ๕ จำนวนจากสถานการณ์ต่าง ๆ","เรียงลำดับจำนวนนับไม่เกิน ๑,๐๐๐ และ ๐ ตั้งแต่ ๓ ถึง ๕ จำนวนจากสถานการณ์ต่าง ๆ","เรียงลำดับจำนวนนับไม่เกิน ๑,๐๐๐ และ ๐ ตั้งแต่ ๓ ถึง ๕ จำนวนจากสถานการณ์ต่าง ๆ",null,null,10,"ค 2.1","ป.3/5","เปรียบเทียบความยาวระหว่างเซนติเมตร กับมิลลิเมตร เมตรกับเซนติเมตร กิโลเมตร กับเมตร จากสถานการณ์ต่าง ๆ","เปรียบเทียบความยาวระหว่างเซนติเมตร กับมิลลิเมตร เมตรกับเซนติเมตร กิโลเมตร กับเมตร จากสถานการณ์ต่าง ๆ","เปรียบเทียบความยาวระหว่างเซนติเมตร กับมิลลิเมตร เมตรกับเซนติเมตร กิโลเมตร กับเมตร จากสถานการณ์ต่าง ๆ","เปรียบเทียบความยาวระหว่างเซนติเมตร กับมิลลิเมตร เมตรกับเซนติเมตร กิโลเมตร กับเมตร จากสถานการณ์ต่าง ๆ","เปรียบเทียบความยาวระหว่างเซนติเมตร กับมิลลิเมตร เมตรกับเซนติเมตร กิโลเมตร กับเมตร จากสถานการณ์ต่าง ๆ",null,null,10,"ค 1.1","ป.4/15","หาผลบวก ผลลบของทศนิยมไม1เกิน 3 ตำแหน่ง","หาผลบวก ผลลบของทศนิยมไม1เกิน ๓ ตำแหน่ง","หาผลบวก ผลลบของทศนิยมไม1เกิน ๓ ตำแหน่ง","หาผลบวก ผลลบของทศนิยมไม1เกิน ๓ ตำแหน่ง","หาผลบวก ผลลบของทศนิยมไม1เกิน ๓ ตำแหน่ง",null,null,"ตัวชี้วัดปลายทาง",null,null,null,null,null,null,null,null,null,1,"ค 1.1 ","ป.6/1","เปรียบเทียบ เรียงลำดับเศษส่วนและ จำนวนคละ จากสถานการณ์ต่าง ๆ","เปรียบเทียบ เรียงลำดับเศษส่วนและ จำนวนคละ จากสถานการณ์ต่าง ๆ","เปรียบเทียบ เรียงลำดับเศษส่วนและ จำนวนคละ จากสถานการณ์ต่าง ๆ","เปรียบเทียบ เรียงลำดับเศษส่วนและ จำนวนคละ จากสถานการณ์ต่าง ๆ","เปรียบเทียบ เรียงลำดับเศษส่วนและ จำนวนคละ จากสถานการณ์ต่าง ๆ"]
[null,7,"ค 3.1","ป.1/1","ใช้ข้อมูลจากแผนภูมิรูปภาพในการหาคำตอบ ของโจทย์ปัญหา เมื่อกำหนดรูป 1 รูป แทน 1 หน่วย","ใช้ข้อมูลจากแผนภูมิรูปภาพในการหาคำตอบ ของโจทย์ปัญหา เมื่อกำหนดรูป ๑ รูป แทน ๑ หน่วย","ใช้ข้อมูลจากแผนภูมิรูปภาพในการหาคำตอบ ของโจทย์ปัญหา เมื่อกำหนดรูป ๑ รูป แทน ๑ หน่วย","ใช้ข้อมูลจากแผนภูมิรูปภาพในการหาคำตอบ ของโจทย์ปัญหา เมื่อกำหนดรูป ๑ รูป แทน ๑ หน่วย","ใช้ข้อมูลจากแผนภูมิรูปภาพในการหาคำตอบ ของโจทย์ปัญหา เมื่อกำหนดรูป ๑ รูป แทน ๑ หน่วย",null,null,2,"ค 1.1","ป.2/8","แสดงวิธีหาคำตอบของโจทย์ปัญหา 2 ขั้นตอนของจำนวนนับไม่เกิน 1,000 และ 0","แสดงวิธีหาคำตอบของโจทย์ปัญหา ๒ ขั้นตอนของจำนวนนับไม่เกิน ๑,๐๐๐ และ ๐","แสดงวิธีหาคำตอบของโจทย์ปัญหา ๒ ขั้นตอนของจำนวนนับไม่เกิน ๑,๐๐๐ และ ๐","แสดงวิธีหาคำตอบของโจทย์ปัญหา ๒ ขั้นตอนของจำนวนนับไม่เกิน ๑,๐๐๐ และ ๐","แสดงวิธีหาคำตอบของโจทย์ปัญหา ๒ ขั้นตอนของจำนวนนับไม่เกิน ๑,๐๐๐ และ ๐",null,null,11,"ค 2.1","ป.3/7","เลือกใช้เครื่องชั่งที่เหมาะสม วัดและบอก น้ำหนักเป็นกิโลกรัมและขีด กิโลกรัมและกรัม",null,null,null,null,null,null,11,"ค 2.1","ป.4/2","วัดและสร้างมุม โดยใช้โพรแทรกเตอร์","วัดและสร้างมุม โดยใช้โพรแทรกเตอร์","วัดและสร้างมุม โดยใช้โพรแทรกเตอร์","วัดและสร้างมุม โดยใช้โพรแทรกเตอร์","วัดและสร้างมุม โดยใช้โพรแทรกเตอร์",null,null,1,"ค 1.1 ","ป.5/2","แสดงวิธีหาคำตอบของโจทย์ปัญหาโดยใช้บัญญัติไตรยางศ์","แสดงวิธีหาคำตอบของโจทย์ปัญหาโดยใช้บัญญัติไตรยางศ์","แสดงวิธีหาคำตอบของโจทย์ปัญหาโดยใช้บัญญัติไตรยางศ์","แสดงวิธีหาคำตอบของโจทย์ปัญหาโดยใช้บัญญัติไตรยางศ์","แสดงวิธีหาคำตอบของโจทย์ปัญหาโดยใช้บัญญัติไตรยางศ์",null,null,2,"ค 1.1","ป.6/6","แสดงวิธีหาคำตอบของโจทย์ปัญหา โดยใช้ความรู้เกี่ยวกับ ห.ร.ม และ ค.ร.น","แสดงวิธีหาคำตอบของโจทย์ปัญหา โดยใช้ความรู้เกี่ยวกับ ห.ร.ม และ ค.ร.น","แสดงวิธีหาคำตอบของโจทย์ปัญหา โดยใช้ความรู้เกี่ยวกับ ห.ร.ม และ ค.ร.น","แสดงวิธีหาคำตอบของโจทย์ปัญหา โดยใช้ความรู้เกี่ยวกับ ห.ร.ม และ ค.ร.น","แสดงวิธีหาคำตอบของโจทย์ปัญหา โดยใช้ความรู้เกี่ยวกับ ห.ร.ม และ ค.ร.น"]
[null,null,null,null,null,null,null,null,null,null,null,3,"ค 2.1 ","ป.2/1","แสดงวิธีหาคำตอบของโจทย์ปัญหา เกี่ยวกับเวลาที่มีหน่วยเดี่ยวและ เป็นหน่วยเดียวกัน","แสดงวิธีหาคำตอบของโจทย์ปัญหา เกี่ยวกับเวลาที่มีหน่วยเดี่ยวและ เป็นหน่วยเดียวกัน","แสดงวิธีหาคำตอบของโจทย์ปัญหา เกี่ยวกับเวลาที่มีหน่วยเดี่ยวและ เป็นหน่วยเดียวกัน","แสดงวิธีหาคำตอบของโจทย์ปัญหา เกี่ยวกับเวลาที่มีหน่วยเดี่ยวและ เป็นหน่วยเดียวกัน","แสดงวิธีหาคำตอบของโจทย์ปัญหา เกี่ยวกับเวลาที่มีหน่วยเดี่ยวและ เป็นหน่วยเดียวกัน",null,null,12,"ค 2.1","ป.3/8","คาดคะเนน้ำหนักเป็นกิโลกรัมและเป็นขีด",null,null,null,null,null,null,12,"ค 2.2","ป.4/1","จำแนกชนิดของมุม บอกซื่อมุม ส่วนประกอบของมุมและเขียนสัญลักษณ์ แสดงมุม","จำแนกชนิดของมุม บอกซื่อมุม ส่วนประกอบของมุมและเขียนสัญลักษณ์ แสดงมุม","จำแนกชนิดของมุม บอกซื่อมุม ส่วนประกอบของมุมและเขียนสัญลักษณ์ แสดงมุม","จำแนกชนิดของมุม บอกซื่อมุม ส่วนประกอบของมุมและเขียนสัญลักษณ์ แสดงมุม","จำแนกชนิดของมุม บอกซื่อมุม ส่วนประกอบของมุมและเขียนสัญลักษณ์ แสดงมุม",null,null,2,"ค 1.1","ป.5/5","แสดงวิธีหาคำตอบของโจทย์ปัญหาการบวก การลบ การคูณ การหารเศษส่วน 2 ขั้นตอน","แสดงวิธีหาคำตอบของโจทย์ปัญหาการบวก การลบ การคูณ การหารเศษส่วน ๒ ขั้นตอน","แสดงวิธีหาคำตอบของโจทย์ปัญหาการบวก การลบ การคูณ การหารเศษส่วน ๒ ขั้นตอน","แสดงวิธีหาคำตอบของโจทย์ปัญหาการบวก การลบ การคูณ การหารเศษส่วน ๒ ขั้นตอน","แสดงวิธีหาคำตอบของโจทย์ปัญหาการบวก การลบ การคูณ การหารเศษส่วน ๒ ขั้นตอน",null,null,3,"ค 1.1","ป.6/8","แสดงวิธีหาคำตอบของโจทย์ปัญหา เศษส่วนและจำนวนคละ 2-3 ขั้นตอน","แสดงวิธีหาคำตอบของโจทย์ปัญหา เศษส่วนและจำนวนคละ ๒ - ๓ ขั้นตอน","แสดงวิธีหาคำตอบของโจทย์ปัญหา เศษส่วนและจำนวนคละ ๒ - ๓ ขั้นตอน","แสดงวิธีหาคำตอบของโจทย์ปัญหา เศษส่วนและจำนวนคละ ๒ - ๓ ขั้นตอน","แสดงวิธีหาคำตอบของโจทย์ปัญหา เศษส่วนและจำนวนคละ ๒ - ๓ ขั้นตอน"]
[null,null,null,null,null,null,null,null,null,null,null,4,"ค 2.1","ป.2/3","แสดงวิธีหาคำตอบของโจทย์ปัญหา การบวกmการลบเกี่ยวกับความยาวที่มี หน่วยเป็นเมตรและเซนติเมตร","แสดงวิธีหาคำตอบของโจทย์ปัญหา การบวกmการลบเกี่ยวกับความยาวที่มี หน่วยเป็นเมตรและเซนติเมตร","แสดงวิธีหาคำตอบของโจทย์ปัญหา การบวกmการลบเกี่ยวกับความยาวที่มี หน่วยเป็นเมตรและเซนติเมตร","แสดงวิธีหาคำตอบของโจทย์ปัญหา การบวกmการลบเกี่ยวกับความยาวที่มี หน่วยเป็นเมตรและเซนติเมตร","แสดงวิธีหาคำตอบของโจทย์ปัญหา การบวกmการลบเกี่ยวกับความยาวที่มี หน่วยเป็นเมตรและเซนติเมตร",null,null,13,"ค 2.1","ป.3/9","เปรียบเทียบน้ำหนักระหว่างกิโลกรัมกับกรัม เมตริก ตันกับกิโลกรัมจากสถานการณ์ต่าง ๆ",null,null,null,null,null,null,"ตัวชี้วัดปลายทาง",null,null,null,null,null,null,null,null,null,3,"ค 1.2","ป.5/8","แสดงวิธีหาคำตอบของโจทย์ปัญหาการบวก การลบ การคูณ การหารทศนิยม 2 ขั้นตอน","แสดงวิธีหาคำตอบของโจทย์ปัญหาการบวก การลบ การคูณ การหารทศนิยม ๒ ขั้นตอน","แสดงวิธีหาคำตอบของโจทย์ปัญหาการบวก การลบ การคูณ การหารทศนิยม ๒ ขั้นตอน","แสดงวิธีหาคำตอบของโจทย์ปัญหาการบวก การลบ การคูณ การหารทศนิยม ๒ ขั้นตอน","แสดงวิธีหาคำตอบของโจทย์ปัญหาการบวก การลบ การคูณ การหารทศนิยม ๒ ขั้นตอน",null,null,4,"ค 1.1","ป.6/10","แสดงวิธีหาคำตอบของโจทย์ปัญหา การบวก การลบ การคูณ การหารทศนิยม 3 ขั้นตอน","แสดงวิธีหาคำตอบของโจทย์ปัญหา การบวก การลบ การคูณ การหารทศนิยม ๓ ขั้นตอน","แสดงวิธีหาคำตอบของโจทย์ปัญหา การบวก การลบ การคูณ การหารทศนิยม ๓ ขั้นตอน","แสดงวิธีหาคำตอบของโจทย์ปัญหา การบวก การลบ การคูณ การหารทศนิยม ๓ ขั้นตอน","แสดงวิธีหาคำตอบของโจทย์ปัญหา การบวก การลบ การคูณ การหารทศนิยม ๓ ขั้นตอน"]
[null,null,null,null,null,null,null,null,null,null,null,5,"ค 2.1","ป.2/5","แสดงวิธีหาคำตอบของโจทย์ปัญหา การบวก การลบเกี่ยวกับน้ำหนักที่มี หน่วยเป็นกิโลกรัมและกรัมกิโลกรัม และขีด","แสดงวิธีหาคำตอบของโจทย์ปัญหา การบวก การลบเกี่ยวกับน้ำหนักที่มี หน่วยเป็นกิโลกรัมและกรัมกิโลกรัม และขีด","แสดงวิธีหาคำตอบของโจทย์ปัญหา การบวก การลบเกี่ยวกับน้ำหนักที่มี หน่วยเป็นกิโลกรัมและกรัมกิโลกรัม และขีด","แสดงวิธีหาคำตอบของโจทย์ปัญหา การบวก การลบเกี่ยวกับน้ำหนักที่มี หน่วยเป็นกิโลกรัมและกรัมกิโลกรัม และขีด","แสดงวิธีหาคำตอบของโจทย์ปัญหา การบวก การลบเกี่ยวกับน้ำหนักที่มี หน่วยเป็นกิโลกรัมและกรัมกิโลกรัม และขีด",null,null,14,"ค 2.1","ป.3/11","เลือกใช้เครื่องตวงที่เหมาะสม วัดและ เปรียบเทียบปริมาตร ความจุเป็นลิตร และมิลลิลิตร",null,null,null,null,null,null,1,"ค 1.1 ","ป.4/2","เปรียบเทียบและเรียงลำดับจำนวนนับที่มากกว่า 100,000 จากสถานการณ์ต่างๆ","เปรียบเทียบและเรียงลำดับจำนวนนับที่มากกว่า ๑๐๐,๐๐๐ จากสถานการณ์ต่างๆ","เปรียบเทียบและเรียงลำดับจำนวนนับที่มากกว่า ๑๐๐,๐๐๐ จากสถานการณ์ต่างๆ","เปรียบเทียบและเรียงลำดับจำนวนนับที่มากกว่า ๑๐๐,๐๐๐ จากสถานการณ์ต่างๆ","เปรียบเทียบและเรียงลำดับจำนวนนับที่มากกว่า ๑๐๐,๐๐๐ จากสถานการณ์ต่างๆ",null,null,4,"ค 1.3","ป.5/9","แสดงวิธีหาคำตอบของโจทย์ปัญหาร้อยละ ไม่เกิน 2 ขั้นตอน","แสดงวิธีหาคำตอบของโจทย์ปัญหาร้อยละ ไม่เกิน ๒ ขั้นตอน","แสดงวิธีหาคำตอบของโจทย์ปัญหาร้อยละ ไม่เกิน ๒ ขั้นตอน","แสดงวิธีหาคำตอบของโจทย์ปัญหาร้อยละ ไม่เกิน ๒ ขั้นตอน","แสดงวิธีหาคำตอบของโจทย์ปัญหาร้อยละ ไม่เกิน ๒ ขั้นตอน",null,null,5,"ค 1.1","ป.6/11","แสดงวิธีหาคำตอบของโจทย์ปัญหา อัตราส่วน","แสดงวิธีหาคำตอบของโจทย์ปัญหา อัตราส่วน","แสดงวิธีหาคำตอบของโจทย์ปัญหา อัตราส่วน","แสดงวิธีหาคำตอบของโจทย์ปัญหา อัตราส่วน","แสดงวิธีหาคำตอบของโจทย์ปัญหา อัตราส่วน"]
[null,null,null,null,null,null,null,null,null,null,null,6,"ค 2.1","ป.2/6","วัดและเปรียบเทียบปริมาตรและความจุ เป็นลิตร","วัดและเปรียบเทียบปริมาตรและความจุ เป็นลิตร","วัดและเปรียบเทียบปริมาตรและความจุ เป็นลิตร","วัดและเปรียบเทียบปริมาตรและความจุ เป็นลิตร","วัดและเปรียบเทียบปริมาตรและความจุ เป็นลิตร",null,null,15,"ค 2.1","ป.3/12","คำดคะเนปริมาตรและความจุเป็นลิตร",null,null,null,null,null,null,2,"ค 1.1","ป.4/4","เปรียบเทียบ เรียงลำดับเศษส่วนและจำนวนคละที่ตัวส่วนตัวหนึ่งเป็นพหุคูณของอีกตัวหนึ่ง","เปรียบเทียบ เรียงลำดับเศษส่วนและจำนวนคละที่ตัวส่วนตัวหนึ่งเป็นพหุคูณของอีกตัวหนึ่ง","เปรียบเทียบ เรียงลำดับเศษส่วนและจำนวนคละที่ตัวส่วนตัวหนึ่งเป็นพหุคูณของอีกตัวหนึ่ง","เปรียบเทียบ เรียงลำดับเศษส่วนและจำนวนคละที่ตัวส่วนตัวหนึ่งเป็นพหุคูณของอีกตัวหนึ่ง","เปรียบเทียบ เรียงลำดับเศษส่วนและจำนวนคละที่ตัวส่วนตัวหนึ่งเป็นพหุคูณของอีกตัวหนึ่ง",null,null,5,"ค 2.1","ป.5/3","แสดงวิธีหาคำตอบของโจทย์ปัญหาเกี่ยวกับปริมาตรของทรงสี่เหลี่ยมมุมฉาก และความจุ   ของภาชนะทรงสี่เหลี่ยมมุมฉาก","แสดงวิธีหาคำตอบของโจทย์ปัญหาเกี่ยวกับปริมาตรของทรงสี่เหลี่ยมมุมฉาก และความจุ   ของภาชนะทรงสี่เหลี่ยมมุมฉาก","แสดงวิธีหาคำตอบของโจทย์ปัญหาเกี่ยวกับปริมาตรของทรงสี่เหลี่ยมมุมฉาก และความจุ   ของภาชนะทรงสี่เหลี่ยมมุมฉาก","แสดงวิธีหาคำตอบของโจทย์ปัญหาเกี่ยวกับปริมาตรของทรงสี่เหลี่ยมมุมฉาก และความจุ   ของภาชนะทรงสี่เหลี่ยมมุมฉาก","แสดงวิธีหาคำตอบของโจทย์ปัญหาเกี่ยวกับปริมาตรของทรงสี่เหลี่ยมมุมฉาก และความจุ   ของภาชนะทรงสี่เหลี่ยมมุมฉาก",null,null,6,"ค 1.1","ป.6/12","แสดงวิธีหาคำตอบของโจทย์ปัญหาร้อยละ 2-3 ขั้นตอน","แสดงวิธีหาคำตอบของโจทย์ปัญหาอร้อยละ ๒ ๓ ขั้นตอน","แสดงวิธีหาคำตอบของโจทย์ปัญหาอร้อยละ ๒ ๓ ขั้นตอน","แสดงวิธีหาคำตอบของโจทย์ปัญหาอร้อยละ ๒ ๓ ขั้นตอน","แสดงวิธีหาคำตอบของโจทย์ปัญหาอร้อยละ ๒ ๓ ขั้นตอน"]
[null,null,null,null,null,null,null,null,null,null,null,7,"ค 2.2 ","ป.2/1","จำแนกและบอกลักษณะของ รูปหลายเหลี่ยมและวงกลม","จำแนกและบอกลักษณะของ รูปหลายเหลี่ยมและวงกลม","จำแนกและบอกลักษณะของ รูปหลายเหลี่ยมและวงกลม","จำแนกและบอกลักษณะของ รูปหลายเหลี่ยมและวงกลม","จำแนกและบอกลักษณะของ รูปหลายเหลี่ยมและวงกลม",null,null,"ตัวชี้วัดปลายทาง",null,null,null,null,null,null,null,null,null,3,"ค 1.1","ป.4/6","เปรียบเทียบและเรียงลำตับทศนิยม ไม่เกิน 3 ตำแหน่งจากสถานการณ์ต่าง ๆ","เปรียบเทียบและเรียงลำตับทศนิยม ไม่เกิน ๓ ตำแหน่งจากสถานการณ์ต่าง ๆ","เปรียบเทียบและเรียงลำตับทศนิยม ไม่เกิน ๓ ตำแหน่งจากสถานการณ์ต่าง ๆ","เปรียบเทียบและเรียงลำตับทศนิยม ไม่เกิน ๓ ตำแหน่งจากสถานการณ์ต่าง ๆ","เปรียบเทียบและเรียงลำตับทศนิยม ไม่เกิน ๓ ตำแหน่งจากสถานการณ์ต่าง ๆ",null,null,6,"ค 2.1","ป.5/4","แสดงวิธีหาคำตอบของโจทย์ปัญหาเกี่ยวกับความยาวรอบรูปของรูปสี่เหลี่ยมและพื้นที่ของรูปสี่เหลี่ยมด้านขนานและรูปสี่เหลี่ยมขนมเปียกปูน","แสดงวิธีหาคำตอบของโจทย์ปัญหาเกี่ยวกับ ความยาวรอบรูปของรูปสี่เหลี่ยมและพื้นที่ ของรูปสี่เหลี่ยมด้านขนาน และรูปสี่เหลี่ยม ขนมเปียกปูน","แสดงวิธีหาคำตอบของโจทย์ปัญหาเกี่ยวกับ ความยาวรอบรูปของรูปสี่เหลี่ยมและพื้นที่ ของรูปสี่เหลี่ยมด้านขนาน และรูปสี่เหลี่ยม ขนมเปียกปูน","แสดงวิธีหาคำตอบของโจทย์ปัญหาเกี่ยวกับ ความยาวรอบรูปของรูปสี่เหลี่ยมและพื้นที่ ของรูปสี่เหลี่ยมด้านขนาน และรูปสี่เหลี่ยม ขนมเปียกปูน","แสดงวิธีหาคำตอบของโจทย์ปัญหาเกี่ยวกับ ความยาวรอบรูปของรูปสี่เหลี่ยมและพื้นที่ ของรูปสี่เหลี่ยมด้านขนาน และรูปสี่เหลี่ยม ขนมเปียกปูน",null,null,7,"ค 1.2","ป.6/1","แสดงวิธีคิดและหาคำตอบของปัญหาเกี่ยวกับแบบรูป","แสดงวิธีคิดและหาคำตอบของปัญหา เกี่ยวกับแบบรูป","แสดงวิธีคิดและหาคำตอบของปัญหา เกี่ยวกับแบบรูป","แสดงวิธีคิดและหาคำตอบของปัญหา เกี่ยวกับแบบรูป","แสดงวิธีคิดและหาคำตอบของปัญหา เกี่ยวกับแบบรูป"]
[null,null,null,null,null,null,null,null,null,null,null,8,"ค 3.1","ป.2/1","ใช้ข้อมูลจากแผนภูมิรูปภาพในการหาคำตอบ ของโจทย์ปัญหาเมื่อกำหนดรูป 1 รูป แทน 2 หน่วย 5 หน่วย หรือ 10 หน่วย","ใช้ข้อมูลจากแผนภูมิรูปภาพในการหาคำตอบ ของโจทย์ปัญหาเมื่อกำหนดรูป ๑ รูป แทน ๒ หน่วย ๕ หน่วย หรือ ๑๐ หน่วย","ใช้ข้อมูลจากแผนภูมิรูปภาพในการหาคำตอบ ของโจทย์ปัญหาเมื่อกำหนดรูป ๑ รูป แทน ๒ หน่วย ๕ หน่วย หรือ ๑๐ หน่วย","ใช้ข้อมูลจากแผนภูมิรูปภาพในการหาคำตอบ ของโจทย์ปัญหาเมื่อกำหนดรูป ๑ รูป แทน ๒ หน่วย ๕ หน่วย หรือ ๑๐ หน่วย","ใช้ข้อมูลจากแผนภูมิรูปภาพในการหาคำตอบ ของโจทย์ปัญหาเมื่อกำหนดรูป ๑ รูป แทน ๒ หน่วย ๕ หน่วย หรือ ๑๐ หน่วย",null,null,1,"ค 3.1","ป.3/2","เขียนตารางทางเดียวจากข้อมูลที่เป็น จำนวนนับ และใช้ข้อมูลจากตาราง ทางเดียวในการหาคำตอบของโจทย์ปัญหา",null,null,null,null,null,null,4,"ค 1.1","ป.4/11","แสดงวิธีหาคำตอบของโจทย์ปัญหา 2 ขั้นตอนของจำนวนนับที่มากกว่า 100,000 และ 0","แสดงวิธีหาคำตอบของโจทย์ปัญหา ๒ ขั้นตอนของจำนวนนับที่มากกว่า๑๐๐,๐๐๐ และ ๐","แสดงวิธีหาคำตอบของโจทย์ปัญหา ๒ ขั้นตอนของจำนวนนับที่มากกว่า๑๐๐,๐๐๐ และ ๐","แสดงวิธีหาคำตอบของโจทย์ปัญหา ๒ ขั้นตอนของจำนวนนับที่มากกว่า๑๐๐,๐๐๐ และ ๐","แสดงวิธีหาคำตอบของโจทย์ปัญหา ๒ ขั้นตอนของจำนวนนับที่มากกว่า๑๐๐,๐๐๐ และ ๐",null,null,7,"ค 2.2","ป.5/3","สร้างรูปสี่เหลี่ยมชนิดต่างๆ เมื่อกำหนดความยาวของด้านและขนาดของมุม หรือเมื่อกำหนด ความยาวของเส้นทแยงมุม","สร้างรูปสี่เหลี่ยมชนิดต่างๆ เมื่อกำหนดความยาวของด้านและขนาดของมุม หรือเมื่อกำหนด ความยาวของเส้นทแยงมุม","สร้างรูปสี่เหลี่ยมชนิดต่างๆ เมื่อกำหนดความยาวของด้านและขนาดของมุม หรือเมื่อกำหนด ความยาวของเส้นทแยงมุม","สร้างรูปสี่เหลี่ยมชนิดต่างๆ เมื่อกำหนดความยาวของด้านและขนาดของมุม หรือเมื่อกำหนด ความยาวของเส้นทแยงมุม","สร้างรูปสี่เหลี่ยมชนิดต่างๆ เมื่อกำหนดความยาวของด้านและขนาดของมุม หรือเมื่อกำหนด ความยาวของเส้นทแยงมุม",null,null,8,"ค 2.1","ป.6/1","แสดงวิธีหาคำตอบของโจทย์ปัญหาเกี่ยวกับ ปริมาตรของรูปเรขาคณิตสามมิติที่ ประกอบด้วยทรงสี่เหลี่ยมมุมฉาก","แสดงวิธีหาคำตอบของโจทย์ปัญหาเกี่ยวกับ ปริมาตรของรูปเรขาคณิตสามมิติที่ ประกอบด้วยทรงสี่เหลี่ยมมุมฉาก","แสดงวิธีหาคำตอบของโจทย์ปัญหาเกี่ยวกับ ปริมาตรของรูปเรขาคณิตสามมิติที่ ประกอบด้วยทรงสี่เหลี่ยมมุมฉาก","แสดงวิธีหาคำตอบของโจทย์ปัญหาเกี่ยวกับ ปริมาตรของรูปเรขาคณิตสามมิติที่ ประกอบด้วยทรงสี่เหลี่ยมมุมฉาก","แสดงวิธีหาคำตอบของโจทย์ปัญหาเกี่ยวกับ ปริมาตรของรูปเรขาคณิตสามมิติที่ ประกอบด้วยทรงสี่เหลี่ยมมุมฉาก"]
[null,null,null,null,null,null,null,null,null,null,null,null,null,null,null,null,null,null,null,null,null,2,"ค 1.1 ","ป.3/2","เปรียบเทียบและเรียงลำดับจำนวนนับ ไม่เกิน 100,000 จากสถานการณ์ต่าง ๆ","เปรียบเทียบและเรียงลำดับจำนวนนับ ไม่เกิน ๑๐๐,๐๐๐ จากสถานการณ์ต่าง ๆ","เปรียบเทียบและเรียงลำดับจำนวนนับ ไม่เกิน ๑๐๐,๐๐๐ จากสถานการณ์ต่าง ๆ","เปรียบเทียบและเรียงลำดับจำนวนนับ ไม่เกิน ๑๐๐,๐๐๐ จากสถานการณ์ต่าง ๆ","เปรียบเทียบและเรียงลำดับจำนวนนับ ไม่เกิน ๑๐๐,๐๐๐ จากสถานการณ์ต่าง ๆ",null,null,5,"ค 1.1","ป.4/14","แสดงวิธีหาคำตอบของโจทย์ปัญหาการบวกและโจทย์ปัญหา การลบเศษส่วน และจำนวนคละที่ตัวส่วนตัวหนึ่ง เป็นพหุคูณของอีกตัวหนึ่ง","แสดงวิธีหาคำตอบของโจทย์ปัญหาการบวกและโจทย์ปัญหา การลบเศษส่วน และจำนวนคละที่ตัวส่วนตัวหนึ่ง เป็นพหุคูณของอีกตัวหนึ่ง","แสดงวิธีหาคำตอบของโจทย์ปัญหาการบวกและโจทย์ปัญหา การลบเศษส่วน และจำนวนคละที่ตัวส่วนตัวหนึ่ง เป็นพหุคูณของอีกตัวหนึ่ง","แสดงวิธีหาคำตอบของโจทย์ปัญหาการบวกและโจทย์ปัญหา การลบเศษส่วน และจำนวนคละที่ตัวส่วนตัวหนึ่ง เป็นพหุคูณของอีกตัวหนึ่ง","แสดงวิธีหาคำตอบของโจทย์ปัญหาการบวกและโจทย์ปัญหา การลบเศษส่วน และจำนวนคละที่ตัวส่วนตัวหนึ่ง เป็นพหุคูณของอีกตัวหนึ่ง",null,null,8,"ค 2.2","ป.5/4","บอกลักษณะของปริซึม","บอกลักษณะของปริซึม","บอกลักษณะของปริซึม","บอกลักษณะของปริซึม","บอกลักษณะของปริซึม",null,null,9,"ค 2.1","ป.6/2","แสดงวิธีหาคำตอบของโจทย์ปัญหาเกี่ยวกับ ความยาวรอบรูปและพื้นที่ของรูป หลายเหลี่ยม","แสดงวิธีหาคำตอบของโจทย์ปัญหาเกี่ยวกับ ความยาวรอบรูปและพื้นที่ของรูป หลายเหลี่ยม","แสดงวิธีหาคำตอบของโจทย์ปัญหาเกี่ยวกับ ความยาวรอบรูปและพื้นที่ของรูป หลายเหลี่ยม","แสดงวิธีหาคำตอบของโจทย์ปัญหาเกี่ยวกับ ความยาวรอบรูปและพื้นที่ของรูป หลายเหลี่ยม","แสดงวิธีหาคำตอบของโจทย์ปัญหาเกี่ยวกับ ความยาวรอบรูปและพื้นที่ของรูป หลายเหลี่ยม"]
[null,null,null,null,null,null,null,null,null,null,null,null,null,null,null,null,null,null,null,null,null,3,"ค 1.1","ป.3/4","เปรียบเทียบเศษส่วันที่ตัวเศษเท่ากัน โดยที่ตัวเศษน้อยกว่าหรือเท่ากับตัวส่วน","เปรียบเทียบเศษส่วันที่ตัวเศษเท่ากัน โดยที่ตัวเศษน้อยกว่าหรือเท่ากับตัวส่วน","เปรียบเทียบเศษส่วันที่ตัวเศษเท่ากัน โดยที่ตัวเศษน้อยกว่าหรือเท่ากับตัวส่วน","เปรียบเทียบเศษส่วันที่ตัวเศษเท่ากัน โดยที่ตัวเศษน้อยกว่าหรือเท่ากับตัวส่วน","เปรียบเทียบเศษส่วันที่ตัวเศษเท่ากัน โดยที่ตัวเศษน้อยกว่าหรือเท่ากับตัวส่วน",null,null,6,"ค 1.1","ป.4/16","แสดงวิธีหาคำตอบของโจทย์ปัญหาการบวก การลบ 2 ขั้นตอนของทศนิยมไม่เกิน 3 ตำแหน่ง","แสดงวิธีหาคำตอบของโจทย์ปัญหา การบวก การลบ ๒ ขั้นตอน ของทศนิยมไม1เกิน ๓ ตำแหน่ง","แสดงวิธีหาคำตอบของโจทย์ปัญหา การบวก การลบ ๒ ขั้นตอน ของทศนิยมไม1เกิน ๓ ตำแหน่ง","แสดงวิธีหาคำตอบของโจทย์ปัญหา การบวก การลบ ๒ ขั้นตอน ของทศนิยมไม1เกิน ๓ ตำแหน่ง","แสดงวิธีหาคำตอบของโจทย์ปัญหา การบวก การลบ ๒ ขั้นตอน ของทศนิยมไม1เกิน ๓ ตำแหน่ง",null,null,9,"ค 3.1","ป.5/1","ใช้ข้อมูลจากกราฟเส้นในการหาคำตอบ ของโจทย์ปัญหา","ใช้ข้อมูลจากกราฟเส้นในการหาคำตอบ ของโจทย์ปัญหา","ใช้ข้อมูลจากกราฟเส้นในการหาคำตอบ ของโจทย์ปัญหา","ใช้ข้อมูลจากกราฟเส้นในการหาคำตอบ ของโจทย์ปัญหา","ใช้ข้อมูลจากกราฟเส้นในการหาคำตอบ ของโจทย์ปัญหา",null,null,10,"ค 2.1","ป.6/3","แสดงวิธีหาคำตอบของโจทย์ปัญหาเกี่ยวกับ ความยาวรอบรูปและพื้นที่ของวงกลม","แสดงวิธีหาคำตอบของโจทย์ปัญหาเกี่ยวกับ ความยาวรอบรูปและพื้นที่ของวงกลม","แสดงวิธีหาคำตอบของโจทย์ปัญหาเกี่ยวกับ ความยาวรอบรูปและพื้นที่ของวงกลม","แสดงวิธีหาคำตอบของโจทย์ปัญหาเกี่ยวกับ ความยาวรอบรูปและพื้นที่ของวงกลม","แสดงวิธีหาคำตอบของโจทย์ปัญหาเกี่ยวกับ ความยาวรอบรูปและพื้นที่ของวงกลม"]
[null,null,null,null,null,null,null,null,null,null,null,null,null,null,null,null,null,null,null,null,null,4,"ค 1.1","ป.3/9","แสดงวิธีหาคำตอบของโจทย์ปัญหา 2 ขั้นตอน ของจำนวนนับไม่เกิน 100,000 และ 0",null,null,null,null,null,null,7,"ค 2.1","ป.4/1","แสดงวิธีหาคำตอบของโจทย์ปัญหาเกี่ยวกับเวลา","แสดงวิธีหาคำตอบของโจทย์ปัญหา เกี่ยวกับเวลา","แสดงวิธีหาคำตอบของโจทย์ปัญหา เกี่ยวกับเวลา","แสดงวิธีหาคำตอบของโจทย์ปัญหา เกี่ยวกับเวลา","แสดงวิธีหาคำตอบของโจทย์ปัญหา เกี่ยวกับเวลา",null,null,10,"ค 3.1","ป.5/2","เขียนแผนภูมิแท่งจากข้อมูลที่เป็นจำนวนนับ","เขียนแผนภูมิแท่งจากข้อมูลที่เป็นจำนวนนับ","เขียนแผนภูมิแท่งจากข้อมูลที่เป็นจำนวนนับ","เขียนแผนภูมิแท่งจากข้อมูลที่เป็นจำนวนนับ","เขียนแผนภูมิแท่งจากข้อมูลที่เป็นจำนวนนับ",null,null,11,"ค 2.2","ป.6/2","สร้างรูปสามเหลี่ยมเมื่อกำหนดความยาว ของด้านและขนาดของมุม","สร้างรูปสามเหลี่ยมเมื่อกำหนดความยาว ของด้านและขนาดของมุม","สร้างรูปสามเหลี่ยมเมื่อกำหนดความยาว ของด้านและขนาดของมุม","สร้างรูปสามเหลี่ยมเมื่อกำหนดความยาว ของด้านและขนาดของมุม","สร้างรูปสามเหลี่ยมเมื่อกำหนดความยาว ของด้านและขนาดของมุม"]
[null,null,null,null,null,null,null,null,null,null,null,null,null,null,null,null,null,null,null,null,null,5,"ค 1.1","ป.3/11","แสดงวิธีหาคำตอบของโจทย์ปัญหาการบวกเศษส่วนที่มีตัวส่วนเท่ากันและผลบวกไม่เกิน 1 และโจทย์ปัญหาการลบเศษส่วนที่มีตัวส่วนเท่ากัน\n",null,null,null,null,null,null,8,"ค 2.1","ป.4/3","แสดงวิธีหาคำตอบของโจทย์ปัญหา เกี่ยวกับ ความยาวรอบรูปและพื้นที่ ของรูปสี่เหลี่ยมมุมฉาก","แสดงวิธีหาคำตอบของโจทย์ปัญหา เกี่ยวกับ ความยาวรอบรูปและพื้นที่ ของรูปสี่เหลี่ยมมุมฉาก","แสดงวิธีหาคำตอบของโจทย์ปัญหา เกี่ยวกับ ความยาวรอบรูปและพื้นที่ ของรูปสี่เหลี่ยมมุมฉาก","แสดงวิธีหาคำตอบของโจทย์ปัญหา เกี่ยวกับ ความยาวรอบรูปและพื้นที่ ของรูปสี่เหลี่ยมมุมฉาก","แสดงวิธีหาคำตอบของโจทย์ปัญหา เกี่ยวกับ ความยาวรอบรูปและพื้นที่ ของรูปสี่เหลี่ยมมุมฉาก",null,null,null,null,null,null,null,null,null,null,null,null,12,"ค 2.2","ป.6/3","บอกลักษณะของรูปเรขาคณิตสามมิติ ชนิดต่าง ๆ","บอกลักษณะของรูปเรขาคณิตสามมิติ ชนิดต่าง ๆ","บอกลักษณะของรูปเรขาคณิตสามมิติ ชนิดต่าง ๆ","บอกลักษณะของรูปเรขาคณิตสามมิติ ชนิดต่าง ๆ","บอกลักษณะของรูปเรขาคณิตสามมิติ ชนิดต่าง ๆ"]
[null,null,null,null,null,null,null,null,null,null,null,null,null,null,null,null,null,null,null,null,null,6,"ค 1.2","ป.3/1","ระบุจำนวนที่หายไปในแบบรูปของจำนวนที่เพิ่มขึ้นหรือลดลงทีละเท่า ๆ กัน","ระบุจำนวันที่หายไปในแบบรูปของ จำนวันที่เพิ่มขึ้นหรือลดลงทีละเท่า ๆ กัน","ระบุจำนวันที่หายไปในแบบรูปของ จำนวันที่เพิ่มขึ้นหรือลดลงทีละเท่า ๆ กัน","ระบุจำนวันที่หายไปในแบบรูปของ จำนวันที่เพิ่มขึ้นหรือลดลงทีละเท่า ๆ กัน","ระบุจำนวันที่หายไปในแบบรูปของ จำนวันที่เพิ่มขึ้นหรือลดลงทีละเท่า ๆ กัน",null,null,9,"ค 2.2","ป.4/2","สร้างรูปลี่เหลี่ยมมุมฉากเมื่อกำหนด ความยาวของด้าน","สร้างรูปลี่เหลี่ยมมุมฉากเมื่อกำหนด ความยาวของด้าน","สร้างรูปลี่เหลี่ยมมุมฉากเมื่อกำหนด ความยาวของด้าน","สร้างรูปลี่เหลี่ยมมุมฉากเมื่อกำหนด ความยาวของด้าน","สร้างรูปลี่เหลี่ยมมุมฉากเมื่อกำหนด ความยาวของด้าน",null,null,null,null,null,null,null,null,null,null,null,null,13,"ค 3.1","ป.6/1","ใช้ข้อมูลจากแผนภูมิรูปวงกลมในการ หาคำตอบของโจทย์ปัญหา","ใช้ข้อมูลจากแผนภูมิรูปวงกลมในการ หาคำตอบของโจทย์ปัญหา","ใช้ข้อมูลจากแผนภูมิรูปวงกลมในการ หาคำตอบของโจทย์ปัญหา","ใช้ข้อมูลจากแผนภูมิรูปวงกลมในการ หาคำตอบของโจทย์ปัญหา","ใช้ข้อมูลจากแผนภูมิรูปวงกลมในการ หาคำตอบของโจทย์ปัญหา"]
[null,null,null,null,null,null,null,null,null,null,null,null,null,null,null,null,null,null,null,null,null,7,"ค 2.1","ป.3/1","แสดงวิธีหาคำตอบของโจทย์ปัญหา เกี่ยวกับเงิน","แสดงวิธีหาคำตอบของโจทย์ปัญหา เกี่ยวกับเงิน","แสดงวิธีหาคำตอบของโจทย์ปัญหา เกี่ยวกับเงิน","แสดงวิธีหาคำตอบของโจทย์ปัญหา เกี่ยวกับเงิน","แสดงวิธีหาคำตอบของโจทย์ปัญหา เกี่ยวกับเงิน",null,null,10,"ค 3.1","ป.4/1","ใช้ข้อมูลจากแผนภูมิแท่ง ตารางสองทาง ในการหาคำตอบของโจทย์ปัญหา","ใช้ข้อมูลจากแผนภูมิแท่ง ตารางสองทาง ในการหาคำตอบของโจทย์ปัญหา","ใช้ข้อมูลจากแผนภูมิแท่ง ตารางสองทาง ในการหาคำตอบของโจทย์ปัญหา","ใช้ข้อมูลจากแผนภูมิแท่ง ตารางสองทาง ในการหาคำตอบของโจทย์ปัญหา","ใช้ข้อมูลจากแผนภูมิแท่ง ตารางสองทาง ในการหาคำตอบของโจทย์ปัญหา"]
[null,null,null,null,null,null,null,null,null,null,null,null,null,null,null,null,null,null,null,null,null,8,"ค 2.1","ป.3/2","แสดงวิธีหาคำตอบของโจทย์ปัญหา เกี่ยวกับเวลา และระยะเวลา","แสดงวิธีหาคำตอบของโจทย์ปัญหา เกี่ยวกับเวลา และระยะเวลา","แสดงวิธีหาคำตอบของโจทย์ปัญหา เกี่ยวกับเวลา และระยะเวลา","แสดงวิธีหาคำตอบของโจทย์ปัญหา เกี่ยวกับเวลา และระยะเวลา","แสดงวิธีหาคำตอบของโจทย์ปัญหา เกี่ยวกับเวลา และระยะเวลา"]
[null,null,null,null,null,null,null,null,null,null,null,null,null,null,null,null,null,null,null,null,null,9,"ค 2.1","ป.3/6","แสดงวิธีหาคำตอบของโจทย์ปัญหา เกี่ยวกับความยาว ที่มีหน่วยเป็นเซนติเมตร และมิลลิเมตร เมตรและเซนติเมตร กิโลเมตรและเมตร","แสดงวิธีหาคำตอบของโจทย์ปัญหา เกี่ยวกับความยาว ที่มีหน่วยเป็นเซนติเมตร และมิลลิเมตร เมตรและเซนติเมตร กิโลเมตรและเมตร","แสดงวิธีหาคำตอบของโจทย์ปัญหา เกี่ยวกับความยาว ที่มีหน่วยเป็นเซนติเมตร และมิลลิเมตร เมตรและเซนติเมตร กิโลเมตรและเมตร","แสดงวิธีหาคำตอบของโจทย์ปัญหา เกี่ยวกับความยาว ที่มีหน่วยเป็นเซนติเมตร และมิลลิเมตร เมตรและเซนติเมตร กิโลเมตรและเมตร","แสดงวิธีหาคำตอบของโจทย์ปัญหา เกี่ยวกับความยาว ที่มีหน่วยเป็นเซนติเมตร และมิลลิเมตร เมตรและเซนติเมตร กิโลเมตรและเมตร"]
[null,null,null,null,null,null,null,null,null,null,null,null,null,null,null,null,null,null,null,null,null,10,"ค 2.1","ป.3/10","แสดงวิธีหาคำตอบของโจทย์ปัญหา เกี่ยวกับน้ำหนักที่มีหน่วยเป็นกิโลกรัม กับกรัม เมตริกตันกับกิโลกรัม"]
[null,null,null,null,null,null,null,null,null,null,null,null,null,null,null,null,null,null,null,null,null,11,"ค 2.1","ป.3/13","แสดงวิธีหาคำตอบของโจทย์ปัญหา เกี่ยวกับปริมาตรและความจุที่มีหน่วย เป็นลิตรและมิลลิลิตร"]
[null,null,null,null,null,null,null,null,null,null,null,null,null,null,null,null,null,null,null,null,null,12,"ค 2.2","ป.3/1","ระบุรูปเรขาคณิตสองมิติที่มีแกนสมมาตร และจำนวนแกนสมมาตร"]
[null,null,null,null,null,null,null,null,null,null,null,null,null,null,null,null,null,null,null,null,null,13,"ค 3.1","ป.3/1","เขียนแผนภูมิรูปภาพ และใช้ข้อมูลจาก แผนภูมิรูปภาพในการหาคำตอบของ โจทย์ปัญหา"]

{"sheet":"ตชว.วิทย์","index":21,"n_rows":37,"n_cols":59,"rows_kept":37,"cut":false,"hidden":false,"merged":[[5,4,5,8],[5,14,5,18],[5,24,5,28],[5,34,5,38],[5,44,5,48],[5,54,5,58],[1,1,1,8],[1,11,1,18],[1,21,1,28],[1,31,1,38],[1,41,1,48],[1,51,1,58],[4,4,4,8],[4,14,4,18],[4,24,4,28],[4,34,4,38],[4,44,4,48],[4,54,4,58],[3,1,3,8],[3,11,3,18],[3,21,3,28],[3,31,3,38],[3,41,3,48],[3,51,3,58],[7,4,7,8],[7,14,7,18],[7,24,7,28],[7,34,7,38],[7,44,7,48],[7,54,7,58],[6,4,6,8],[6,14,6,18],[6,24,6,28],[6,34,6,38],[6,44,6,48],[6,54,6,58],[9,4,9,8],[9,14,9,18],[9,24,9,28],[9,34,9,38],[9,44,9,48],[9,54,9,58],[10,1,10,8],[8,4,8,8],[8,14,8,18],[8,24,8,28],[8,34,8,38],[8,44,8,48],[8,54,8,58],[11,4,11,8],[11,14,11,18],[11,24,11,28],[11,34,11,38],[11,44,11,48],[11,54,11,58],[12,11,12,18],[10,14,10,18],[10,24,10,28],[10,34,10,38],[10,44,10,48],[10,54,10,58],[13,4,13,8],[13,14,13,18],[13,24,13,28],[13,44,13,48],[13,54,13,58],[13,31,13,38],[12,4,12,8],[12,24,12,28],[12,34,12,38],[12,44,12,48],[12,54,12,58],[15,54,15,58],[16,21,16,28],[16,51,16,58],[14,4,14,8],[14,14,14,18],[14,24,14,28],[14,34,14,38],[14,44,14,48],[14,54,14,58],[16,4,16,8],[16,14,16,18],[16,34,16,38],[16,44,16,48],[15,4,15,8],[15,14,15,18],[15,24,15,28],[15,34,15,38],[15,44,15,48],[18,4,18,8],[18,14,18,18],[18,24,18,28],[18,34,18,38],[18,44,18,48],[18,54,18,58],[17,4,17,8],[17,14,17,18],[17,24,17,28],[17,34,17,38],[17,44,17,48],[17,54,17,58],[20,4,20,8],[20,14,20,18],[20,24,20,28],[20,34,20,38],[20,44,20,48],[20,54,20,58],[19,4,19,8],[19,14,19,18],[19,24,19,28],[19,34,19,38],[19,44,19,48],[19,54,19,58],[22,4,22,8],[22,14,22,18],[22,24,22,28],[22,34,22,38],[22,44,22,48],[22,54,22,58],[21,4,21,8],[21,14,21,18],[21,24,21,28],[21,34,21,38],[21,44,21,48],[21,54,21,58],[24,4,24,8],[24,14,24,18],[24,24,24,28],[24,34,24,38],[24,44,24,48],[24,54,24,58],[23,4,23,8],[23,14,23,18],[23,24,23,28],[23,34,23,38],[23,54,23,58],[23,41,23,48],[26,4,26,8],[26,14,26,18],[26,24,26,28],[26,34,26,38],[26,44,26,48],[26,54,26,58],[25,4,25,8],[25,14,25,18],[25,24,25,28],[25,34,25,38],[25,44,25,48],[25,54,25,58],[28,4,28,8],[28,14,28,18],[28,24,28,28],[28,34,28,38],[28,44,28,48],[28,54,28,58],[27,4,27,8],[27,14,27,18],[27,24,27,28],[27,34,27,38],[27,44,27,48],[27,54,27,58],[30,4,30,8],[30,14,30,18],[30,24,30,28],[30,34,30,38],[30,44,30,48],[30,54,30,58],[29,4,29,8],[29,14,29,18],[29,24,29,28],[29,34,29,38],[29,44,29,48],[29,54,29,58],[32,4,32,8],[32,14,32,18],[32,24,32,28],[32,34,32,38],[32,44,32,48],[32,54,32,58],[31,4,31,8],[31,14,31,18],[31,24,31,28],[31,34,31,38],[31,44,31,48],[31,54,31,58],[34,4,34,8],[34,14,34,18],[34,24,34,28],[34,34,34,38],[34,44,34,48],[34,54,34,58],[33,4,33,8],[33,14,33,18],[33,24,33,28],[33,34,33,38],[33,44,33,48],[33,54,33,58],[36,4,36,8],[36,14,36,18],[36,24,36,28],[36,34,36,38],[36,44,36,48],[36,54,36,58],[35,4,35,8],[35,14,35,18],[35,24,35,28],[35,34,35,38],[35,44,35,48],[35,54,35,58],[38,4,38,8],[38,14,38,18],[38,24,38,28],[38,34,38,38],[38,44,38,48],[38,54,38,58],[37,4,37,8],[37,14,37,18],[37,24,37,28],[37,34,37,38],[37,44,37,48],[37,54,37,58],[40,4,40,8],[40,14,40,18],[40,24,40,28],[40,34,40,38],[40,44,40,48],[40,54,40,58],[39,4,39,8],[39,14,39,18],[39,24,39,28],[39,34,39,38],[39,44,39,48],[39,54,39,58],[42,4,42,8],[42,14,42,18],[42,24,42,28],[42,34,42,38],[42,44,42,48],[42,54,42,58],[41,4,41,8],[41,14,41,18],[41,24,41,28],[41,34,41,38],[41,44,41,48],[41,54,41,58]]}
["วิทยาศาสตร์และเทคโนโลยี"]
[null,{"$f":"\"ตัวชี้วัดรายวิชา\"&ตชว.วิทย์!$A$1&\"  ชั้น ป.1\"","v":"ตัวชี้วัดรายวิชาวิทยาศาสตร์และเทคโนโลยี  ชั้น ป.1"},null,null,null,null,null,null,null,null,null,{"$f":"\"ตัวชี้วัดรายวิชา\"&ตชว.วิทย์!$A$1&\"  ชั้น ป.2\"","v":"ตัวชี้วัดรายวิชาวิทยาศาสตร์และเทคโนโลยี  ชั้น ป.2"},null,null,null,null,null,null,null,null,null,{"$f":"\"ตัวชี้วัดรายวิชา\"&ตชว.วิทย์!$A$1&\"  ชั้น ป.3\"","v":"ตัวชี้วัดรายวิชาวิทยาศาสตร์และเทคโนโลยี  ชั้น ป.3"},null,null,null,null,null,null,null,null,null,{"$f":"\"ตัวชี้วัดรายวิชา\"&ตชว.วิทย์!$A$1&\"  ชั้น ป.4\"","v":"ตัวชี้วัดรายวิชาวิทยาศาสตร์และเทคโนโลยี  ชั้น ป.4"},null,null,null,null,null,null,null,null,null,{"$f":"\"ตัวชี้วัดรายวิชา\"&ตชว.วิทย์!$A$1&\"  ชั้น ป.5\"","v":"ตัวชี้วัดรายวิชาวิทยาศาสตร์และเทคโนโลยี  ชั้น ป.5"},null,null,null,null,null,null,null,null,null,{"$f":"\"ตัวชี้วัดรายวิชา\"&ตชว.วิทย์!$A$1&\"  ชั้น ป.6\"","v":"ตัวชี้วัดรายวิชาวิทยาศาสตร์และเทคโนโลยี  ชั้น ป.6"}]
[null,"ข้อที่","มาตรฐาน","ชั้น/ข้อ","เรื่อง",null,null,null,null,null,null,"ข้อที่","มาตรฐาน","ชั้น/ข้อ","เรื่อง",null,null,null,null,null,null,"ข้อที่","มาตรฐาน","ชั้น/ข้อ","เรื่อง",null,null,null,null,null,null,"ข้อที่","มาตรฐาน","ชั้น/ข้อ","เรื่อง",null,null,null,null,null,null,"ข้อที่","มาตรฐาน","ชั้น/ข้อ","เรื่อง",null,null,null,null,null,null,"ข้อที่","มาตรฐาน","ชั้น/ข้อ","เรื่อง"]
[null,"ตัวชี้วัดระหว่างทาง",null,null,null,null,null,null,null,null,null,"ตัวชี้วัดระหว่างทาง",null,null,null,null,null,null,null,null,null,"ตัวชี้วัดระหว่างทาง",null,null,null,null,null,null,null,null,null,"ตัวชี้วัดระหว่างทาง",null,null,null,null,null,null,null,null,null,"ตัวชี้วัดระหว่างทาง",null,null,null,null,null,null,null,null,null,"ตัวชี้วัดระหว่างทาง"]
[null,1,"ว 1.1","ป.1/1","ระบุชื่อพืชและสัตว์ที่อาศัยอยู่บริเวณต่าง ๆ จากข้อมูลที่รวบรวมได้","ระบุชื่อพืชและสัตว์ที่อาศัยอยู่บริเวณต่าง ๆ จากข้อมูลที่รวบรวมได้","ระบุชื่อพืชและสัตว์ที่อาศัยอยู่บริเวณต่าง ๆ จากข้อมูลที่รวบรวมได้","ระบุชื่อพืชและสัตว์ที่อาศัยอยู่บริเวณต่าง ๆ จากข้อมูลที่รวบรวมได้","ระบุชื่อพืชและสัตว์ที่อาศัยอยู่บริเวณต่าง ๆ จากข้อมูลที่รวบรวมได้",null,null,1,"ว 1.2","ป.2/1","ระบุว่าพืชต้องการแสงและน้ำเพื่อการเจริญเติบโตโดยใช้ข้อมูลจากหลักฐานเชิงประจักษ์","ระบุว่าพืชต้องการแสงและน้ำเพื่อการเจริญเติบโตโดยใช้ข้อมูลจากหลักฐานเชิงประจักษ์","ระบุว่าพืชต้องการแสงและน้ำเพื่อการเจริญเติบโตโดยใช้ข้อมูลจากหลักฐานเชิงประจักษ์","ระบุว่าพืชต้องการแสงและน้ำเพื่อการเจริญเติบโตโดยใช้ข้อมูลจากหลักฐานเชิงประจักษ์","ระบุว่าพืชต้องการแสงและน้ำเพื่อการเจริญเติบโตโดยใช้ข้อมูลจากหลักฐานเชิงประจักษ์",null,null,1,"ว 1.2","ป.3/1","บรรยายสิ่งที่จำเป็นต่อการดำรงชีวิตและการเจริญเติบโตของมนุษย์และสัตว์โดยใช้ข้อมูลที่รวบรวมได้","บรรยายสิ่งที่จำเป็นต่อการดำรงชีวิตและการเจริญเติบโตของมนุษย์และสัตว์โดยใช้ข้อมูลที่รวบรวมได้","บรรยายสิ่งที่จำเป็นต่อการดำรงชีวิตและการเจริญเติบโตของมนุษย์และสัตว์โดยใช้ข้อมูลที่รวบรวมได้","บรรยายสิ่งที่จำเป็นต่อการดำรงชีวิตและการเจริญเติบโตของมนุษย์และสัตว์โดยใช้ข้อมูลที่รวบรวมได้","บรรยายสิ่งที่จำเป็นต่อการดำรงชีวิตและการเจริญเติบโตของมนุษย์และสัตว์โดยใช้ข้อมูลที่รวบรวมได้",null,null,1,"ว 1.3","ป.4/1","จำแนกสิ่งมีชีวิตโดยใช้ความเหมือนและความแตกต่างของลักษณะของสิ่งมีชีวิตออกเป็นกลุ่มพืช กลุ่มสัตว์ และกลุ่มที่ไม่ใช่พืชและสัตว์","จำแนกสิ่งมีชีวิตโดยใช้ความเหมือนและความแตกต่างของลักษณะของสิ่งมีชีวิตออกเป็นกลุ่มพืช กลุ่มสัตว์ และกลุ่มที่ไม่ใช่พืชและสัตว์","จำแนกสิ่งมีชีวิตโดยใช้ความเหมือนและความแตกต่างของลักษณะของสิ่งมีชีวิตออกเป็นกลุ่มพืช กลุ่มสัตว์ และกลุ่มที่ไม่ใช่พืชและสัตว์","จำแนกสิ่งมีชีวิตโดยใช้ความเหมือนและความแตกต่างของลักษณะของสิ่งมีชีวิตออกเป็นกลุ่มพืช กลุ่มสัตว์ และกลุ่มที่ไม่ใช่พืชและสัตว์","จำแนกสิ่งมีชีวิตโดยใช้ความเหมือนและความแตกต่างของลักษณะของสิ่งมีชีวิตออกเป็นกลุ่มพืช กลุ่มสัตว์ และกลุ่มที่ไม่ใช่พืชและสัตว์",null,null,1,"ว 1.1","ป.5/1","บรรยายโครงสร้างและลักษณะของสิ่งมีชีวิตที่เหมาะสมกับการดำรงชีวิต ซึ่งเป็นผลมาจากการปรับตัวของสิ่งมีชีวิตในแต่ละแหล่งที่อยู่","บรรยายโครงสร้างและลักษณะของสิ่งมีชีวิตที่เหมาะสมกับการดำรงชีวิต ซึ่งเป็นผลมาจากการปรับตัวของสิ่งมีชีวิตในแต่ละแหล่งที่อยู่","บรรยายโครงสร้างและลักษณะของสิ่งมีชีวิตที่เหมาะสมกับการดำรงชีวิต ซึ่งเป็นผลมาจากการปรับตัวของสิ่งมีชีวิตในแต่ละแหล่งที่อยู่","บรรยายโครงสร้างและลักษณะของสิ่งมีชีวิตที่เหมาะสมกับการดำรงชีวิต ซึ่งเป็นผลมาจากการปรับตัวของสิ่งมีชีวิตในแต่ละแหล่งที่อยู่","บรรยายโครงสร้างและลักษณะของสิ่งมีชีวิตที่เหมาะสมกับการดำรงชีวิต ซึ่งเป็นผลมาจากการปรับตัวของสิ่งมีชีวิตในแต่ละแหล่งที่อยู่",null,null,1,"ว 1.2","ป.6/1","ระบุสารอาหารและบอกประโยชน์ของสารอาหารแต่ละประเภทจากอาหารที่ตนเองรับประทาน","ระบุสารอาหารและบอกประโยชน์ของสารอาหารแต่ละประเภทจากอาหารที่ตนเองรับประทาน","ระบุสารอาหารและบอกประโยชน์ของสารอาหารแต่ละประเภทจากอาหารที่ตนเองรับประทาน","ระบุสารอาหารและบอกประโยชน์ของสารอาหารแต่ละประเภทจากอาหารที่ตนเองรับประทาน","ระบุสารอาหารและบอกประโยชน์ของสารอาหารแต่ละประเภทจากอาหารที่ตนเองรับประทาน"]
[null,2,"ว 1.2","ป.1/1","ระบุชื่อบรรยายลักษณะและบอกหน้าที่ของส่วนต่าง ๆ ของร่างกายมนุษย์  สัตว์  และพืชรวมทั้งบรรยายการทำหน้าที่ร่วมกันของส่วนต่าง ๆ ของร่างกายมนุษย์ในการทำกิจกรรมต่าง ๆ จากข้อมูลที่รวบรวมได้","ระบุชื่อบรรยายลักษณะและบอกหน้าที่ของส่วนต่าง ๆ ของร่างกายมนุษย์  สัตว์  และพืชรวมทั้งบรรยายการทำหน้าที่ร่วมกันของส่วนต่าง ๆ ของร่างกายมนุษย์ในการทำกิจกรรมต่าง ๆ จากข้อมูลที่รวบรวมได้","ระบุชื่อบรรยายลักษณะและบอกหน้าที่ของส่วนต่าง ๆ ของร่างกายมนุษย์  สัตว์  และพืชรวมทั้งบรรยายการทำหน้าที่ร่วมกันของส่วนต่าง ๆ ของร่างกายมนุษย์ในการทำกิจกรรมต่าง ๆ จากข้อมูลที่รวบรวมได้","ระบุชื่อบรรยายลักษณะและบอกหน้าที่ของส่วนต่าง ๆ ของร่างกายมนุษย์  สัตว์  และพืชรวมทั้งบรรยายการทำหน้าที่ร่วมกันของส่วนต่าง ๆ ของร่างกายมนุษย์ในการทำกิจกรรมต่าง ๆ จากข้อมูลที่รวบรวมได้","ระบุชื่อบรรยายลักษณะและบอกหน้าที่ของส่วนต่าง ๆ ของร่างกายมนุษย์  สัตว์  และพืชรวมทั้งบรรยายการทำหน้าที่ร่วมกันของส่วนต่าง ๆ ของร่างกายมนุษย์ในการทำกิจกรรมต่าง ๆ จากข้อมูลที่รวบรวมได้",null,null,2,"ว 1.2","ป.2/2","ตระหนักถึงความจำเป็นที่พืชต้องได้รับน้ำและแสงเพื่อการเจริญเติบโตโดยดูแลพืชให้ได้รับสิ่งดังกล่าวอย่างเหมาะสม","ตระหนักถึงความจำเป็นที่พืชต้องได้รับน้ำและแสงเพื่อการเจริญเติบโตโดยดูแลพืชให้ได้รับสิ่งดังกล่าวอย่างเหมาะสม","ตระหนักถึงความจำเป็นที่พืชต้องได้รับน้ำและแสงเพื่อการเจริญเติบโตโดยดูแลพืชให้ได้รับสิ่งดังกล่าวอย่างเหมาะสม","ตระหนักถึงความจำเป็นที่พืชต้องได้รับน้ำและแสงเพื่อการเจริญเติบโตโดยดูแลพืชให้ได้รับสิ่งดังกล่าวอย่างเหมาะสม","ตระหนักถึงความจำเป็นที่พืชต้องได้รับน้ำและแสงเพื่อการเจริญเติบโตโดยดูแลพืชให้ได้รับสิ่งดังกล่าวอย่างเหมาะสม",null,null,2,"ว 1.2","ป.3/2","ตระหนักถึงประโยชน์ของอาหาร น้ำและอากาศโดยการดูแลตนเองและสัตว์ให้ได้รับสิ่งเหล่านี้อย่างเหมาะสม","ตระหนักถึงประโยชน์ของอาหาร น้ำและอากาศโดยการดูแลตนเองและสัตว์ให้ได้รับสิ่งเหล่านี้อย่างเหมาะสม","ตระหนักถึงประโยชน์ของอาหาร น้ำและอากาศโดยการดูแลตนเองและสัตว์ให้ได้รับสิ่งเหล่านี้อย่างเหมาะสม","ตระหนักถึงประโยชน์ของอาหาร น้ำและอากาศโดยการดูแลตนเองและสัตว์ให้ได้รับสิ่งเหล่านี้อย่างเหมาะสม","ตระหนักถึงประโยชน์ของอาหาร น้ำและอากาศโดยการดูแลตนเองและสัตว์ให้ได้รับสิ่งเหล่านี้อย่างเหมาะสม",null,null,2,"ว 1.3","ป.4/4","บรรยายลักษณะเฉพาะที่สังเกตได้ของสัตว์มีกระดูกสันหลังในกลุ่มปลาสัตว์สะเทินน้ำสะเทินบกกลุ่มสัตว์เลื้อยคลานกลุ่มนกและกลุ่มสัตว์เลี้ยงลูกด้วยน้ำนมและยกตัวอย่างสิ่งมีชีวิตในแต่ละกลุ่ม","บรรยายลักษณะเฉพาะที่สังเกตได้ของสัตว์มีกระดูกสันหลังในกลุ่มปลาสัตว์สะเทินน้ำสะเทินบกกลุ่มสัตว์เลื้อยคลานกลุ่มนกและกลุ่มสัตว์เลี้ยงลูกด้วยน้ำนมและยกตัวอย่างสิ่งมีชีวิตในแต่ละกลุ่ม","บรรยายลักษณะเฉพาะที่สังเกตได้ของสัตว์มีกระดูกสันหลังในกลุ่มปลาสัตว์สะเทินน้ำสะเทินบกกลุ่มสัตว์เลื้อยคลานกลุ่มนกและกลุ่มสัตว์เลี้ยงลูกด้วยน้ำนมและยกตัวอย่างสิ่งมีชีวิตในแต่ละกลุ่ม","บรรยายลักษณะเฉพาะที่สังเกตได้ของสัตว์มีกระดูกสันหลังในกลุ่มปลาสัตว์สะเทินน้ำสะเทินบกกลุ่มสัตว์เลื้อยคลานกลุ่มนกและกลุ่มสัตว์เลี้ยงลูกด้วยน้ำนมและยกตัวอย่างสิ่งมีชีวิตในแต่ละกลุ่ม","บรรยายลักษณะเฉพาะที่สังเกตได้ของสัตว์มีกระดูกสันหลังในกลุ่มปลาสัตว์สะเทินน้ำสะเทินบกกลุ่มสัตว์เลื้อยคลานกลุ่มนกและกลุ่มสัตว์เลี้ยงลูกด้วยน้ำนมและยกตัวอย่างสิ่งมีชีวิตในแต่ละกลุ่ม",null,null,2,"ว 1.1","ป.5/3","เขียนโซ่อาหารและระบุบทบาทหน้าที่ของสิ่งมีชีวิตที่เป็นผู้ผลิตและผู้บริโภคในโซ่อาหาร","เขียนโซ่อาหารและระบุบทบาทหน้าที่ของสิ่งมีชีวิตที่เป็นผู้ผลิตและผู้บริโภคในโซ่อาหาร","เขียนโซ่อาหารและระบุบทบาทหน้าที่ของสิ่งมีชีวิตที่เป็นผู้ผลิตและผู้บริโภคในโซ่อาหาร","เขียนโซ่อาหารและระบุบทบาทหน้าที่ของสิ่งมีชีวิตที่เป็นผู้ผลิตและผู้บริโภคในโซ่อาหาร","เขียนโซ่อาหารและระบุบทบาทหน้าที่ของสิ่งมีชีวิตที่เป็นผู้ผลิตและผู้บริโภคในโซ่อาหาร",null,null,2,"ว 1.2","ป.6/2","บอกแนวทางในการเลือกรับประทานอาหารให้ได้สารอาหารครบถ้วนในสัดส่วันที่เหมาะสมกับเพศและวัย รวมทั้งความปลอดภัยต่อสุขภาพ","บอกแนวทางในการเลือกรับประทานอาหารให้ได้สารอาหารครบถ้วนในสัดส่วันที่เหมาะสมกับเพศและวัย รวมทั้งความปลอดภัยต่อสุขภาพ","บอกแนวทางในการเลือกรับประทานอาหารให้ได้สารอาหารครบถ้วนในสัดส่วันที่เหมาะสมกับเพศและวัย รวมทั้งความปลอดภัยต่อสุขภาพ","บอกแนวทางในการเลือกรับประทานอาหารให้ได้สารอาหารครบถ้วนในสัดส่วันที่เหมาะสมกับเพศและวัย รวมทั้งความปลอดภัยต่อสุขภาพ","บอกแนวทางในการเลือกรับประทานอาหารให้ได้สารอาหารครบถ้วนในสัดส่วันที่เหมาะสมกับเพศและวัย รวมทั้งความปลอดภัยต่อสุขภาพ"]
[null,3,"ว 2.1","ป.1/1","อธิบายสมบัติที่สังเกตได้ของวัสดุที่ใช้ทำวัตถุซึ่งทำจากวัสดุชุนดิเดียวหรือหลายชนิดประกอบกัน โดยใช้หลักฐานเชิงประจักษ์",null,null,null,null,null,null,3,"ว 2.1","ป.2/1","เปรียบเทียบสมบัติการดูดซับน้ำของวัสดุโดยใช้ หลักฐานเชิงประจักษ์ และระบุการนำสมบัติการดดูซบัน้ำของวัสดุไปประยุกต์ใช้ในการทำวัตถุ ในชีวิตประจำวัน","เปรียบเทียบสมบัติการดูดซับน้ำของวัสดุโดยใช้ หลักฐานเชิงประจักษ์ และระบุการนำสมบัติการดดูซบัน้ำของวัสดุไปประยุกต์ใช้ในการทำวัตถุ ในชีวิตประจำวัน","เปรียบเทียบสมบัติการดูดซับน้ำของวัสดุโดยใช้ หลักฐานเชิงประจักษ์ และระบุการนำสมบัติการดดูซบัน้ำของวัสดุไปประยุกต์ใช้ในการทำวัตถุ ในชีวิตประจำวัน","เปรียบเทียบสมบัติการดูดซับน้ำของวัสดุโดยใช้ หลักฐานเชิงประจักษ์ และระบุการนำสมบัติการดดูซบัน้ำของวัสดุไปประยุกต์ใช้ในการทำวัตถุ ในชีวิตประจำวัน","เปรียบเทียบสมบัติการดูดซับน้ำของวัสดุโดยใช้ หลักฐานเชิงประจักษ์ และระบุการนำสมบัติการดดูซบัน้ำของวัสดุไปประยุกต์ใช้ในการทำวัตถุ ในชีวิตประจำวัน",null,null,3,"ว 1.2","ป.3/3","สร้างแบบจำลองที่บรรยายวัฏจักรชีวิตของสัตว์และเปรียบเทียบวัฏจักรชีวิตของสัตว์บางชนิด","สร้างแบบจำลองที่บรรยายวัฏจักรชีวิตของสัตว์และเปรียบเทียบวัฏจักรชีวิตของสัตว์บางชนิด","สร้างแบบจำลองที่บรรยายวัฏจักรชีวิตของสัตว์และเปรียบเทียบวัฏจักรชีวิตของสัตว์บางชนิด","สร้างแบบจำลองที่บรรยายวัฏจักรชีวิตของสัตว์และเปรียบเทียบวัฏจักรชีวิตของสัตว์บางชนิด","สร้างแบบจำลองที่บรรยายวัฏจักรชีวิตของสัตว์และเปรียบเทียบวัฏจักรชีวิตของสัตว์บางชนิด",null,null,3,"ว 2.1","ป.4/1","เปรียบเทียบสมบัติทางกายภาพด้านความแข็งสภาพยดืหยนุ่การนำความร้อนและการนำไฟฟ้าของวัสดุโดยใช้หลักฐานเชิงประจักษ์จากการทดลองและระบุการนำสมบัติเรื่องความแข็งสภาพยดืหยนุ่การนำความร้อน","เปรียบเทียบสมบัติทางกายภาพด้านความแข็งสภาพยดืหยนุ่การนำความร้อนและการนำไฟฟ้าของวัสดุโดยใช้หลักฐานเชิงประจักษ์จากการทดลองและระบุการนำสมบัติเรื่องความแข็งสภาพยดืหยนุ่การนำความร้อน","เปรียบเทียบสมบัติทางกายภาพด้านความแข็งสภาพยดืหยนุ่การนำความร้อนและการนำไฟฟ้าของวัสดุโดยใช้หลักฐานเชิงประจักษ์จากการทดลองและระบุการนำสมบัติเรื่องความแข็งสภาพยดืหยนุ่การนำความร้อน","เปรียบเทียบสมบัติทางกายภาพด้านความแข็งสภาพยดืหยนุ่การนำความร้อนและการนำไฟฟ้าของวัสดุโดยใช้หลักฐานเชิงประจักษ์จากการทดลองและระบุการนำสมบัติเรื่องความแข็งสภาพยดืหยนุ่การนำความร้อน","เปรียบเทียบสมบัติทางกายภาพด้านความแข็งสภาพยดืหยนุ่การนำความร้อนและการนำไฟฟ้าของวัสดุโดยใช้หลักฐานเชิงประจักษ์จากการทดลองและระบุการนำสมบัติเรื่องความแข็งสภาพยดืหยนุ่การนำความร้อน",null,null,3,"ว 1.3","ป.5/2","แสดงความอยากรู้อยากเห็น โดยการถามคำถามเกี่ยวกับลักษณะที่คล้ายคลึงกันของตนเองกับพ่อแม่","แสดงความอยากรู้อยากเห็น โดยการถามคำถามเกี่ยวกับลักษณะที่คล้ายคลึงกันของตนเองกับพ่อแม่","แสดงความอยากรู้อยากเห็น โดยการถามคำถามเกี่ยวกับลักษณะที่คล้ายคลึงกันของตนเองกับพ่อแม่","แสดงความอยากรู้อยากเห็น โดยการถามคำถามเกี่ยวกับลักษณะที่คล้ายคลึงกันของตนเองกับพ่อแม่","แสดงความอยากรู้อยากเห็น โดยการถามคำถามเกี่ยวกับลักษณะที่คล้ายคลึงกันของตนเองกับพ่อแม่",null,null,3,"ว 1.2","ป.6/4","สร้างแบบจำลองระบบย่อยอาหารและบรรยายหน้าที่ของอวัยวะในระบบย่อยอาหารรวมทั้งอธิบายการย่อยอาหารและการดูดซึมสารอาหาร","สร้างแบบจำลองระบบย่อยอาหารและบรรยายหน้าที่ของอวัยวะในระบบย่อยอาหารรวมทั้งอธิบายการย่อยอาหารและการดูดซึมสารอาหาร","สร้างแบบจำลองระบบย่อยอาหารและบรรยายหน้าที่ของอวัยวะในระบบย่อยอาหารรวมทั้งอธิบายการย่อยอาหารและการดูดซึมสารอาหาร","สร้างแบบจำลองระบบย่อยอาหารและบรรยายหน้าที่ของอวัยวะในระบบย่อยอาหารรวมทั้งอธิบายการย่อยอาหารและการดูดซึมสารอาหาร","สร้างแบบจำลองระบบย่อยอาหารและบรรยายหน้าที่ของอวัยวะในระบบย่อยอาหารรวมทั้งอธิบายการย่อยอาหารและการดูดซึมสารอาหาร"]
[null,4,"ว 3.1","ป1/1",".ระบุดาวที่ปรากฏบนท้องฟ้าในเวลากลางวันและกลางคืนจากข้อมูลที่รวบรวมได้",null,null,null,null,null,null,4,"ว 2.1","ป.2/2","อธิบายสมบัติที่สังเกตได้ของวัสดุที่เกิดจาก การนำวัสดุมาผสมกันโดยใช้หลักฐานเชิงประจักษ์","อธิบายสมบัติที่สังเกตได้ของวัสดุที่เกิดจาก การนำวัสดุมาผสมกันโดยใช้หลักฐานเชิงประจักษ์","อธิบายสมบัติที่สังเกตได้ของวัสดุที่เกิดจาก การนำวัสดุมาผสมกันโดยใช้หลักฐานเชิงประจักษ์","อธิบายสมบัติที่สังเกตได้ของวัสดุที่เกิดจาก การนำวัสดุมาผสมกันโดยใช้หลักฐานเชิงประจักษ์","อธิบายสมบัติที่สังเกตได้ของวัสดุที่เกิดจาก การนำวัสดุมาผสมกันโดยใช้หลักฐานเชิงประจักษ์",null,null,4,"ว 2.2","ป.3/1","ระบุผลของแรงที่มีต่อการเปลี่ยนแปลงการเคลื่อนที่ของวัตถุจากหลักฐานเชิงประจักษ์","ระบุผลของแรงที่มีต่อการเปลี่ยนแปลงการเคลื่อนที่ของวัตถุจากหลักฐานเชิงประจักษ์","ระบุผลของแรงที่มีต่อการเปลี่ยนแปลงการเคลื่อนที่ของวัตถุจากหลักฐานเชิงประจักษ์","ระบุผลของแรงที่มีต่อการเปลี่ยนแปลงการเคลื่อนที่ของวัตถุจากหลักฐานเชิงประจักษ์","ระบุผลของแรงที่มีต่อการเปลี่ยนแปลงการเคลื่อนที่ของวัตถุจากหลักฐานเชิงประจักษ์",null,null,4,"ว 2.1","ป.4/3","เปรียบเทียบสมบัติของสสารทั้ง 3 สถานะจากข้อมูลที่ได้จากการสังเกตมวลการต้องการที่อยู่รูปร่างและปริมาตรของสสาร","เปรียบเทียบสมบัติของสสารทั้ง 3 สถานะจากข้อมูลที่ได้จากการสังเกตมวลการต้องการที่อยู่รูปร่างและปริมาตรของสสาร","เปรียบเทียบสมบัติของสสารทั้ง 3 สถานะจากข้อมูลที่ได้จากการสังเกตมวลการต้องการที่อยู่รูปร่างและปริมาตรของสสาร","เปรียบเทียบสมบัติของสสารทั้ง 3 สถานะจากข้อมูลที่ได้จากการสังเกตมวลการต้องการที่อยู่รูปร่างและปริมาตรของสสาร","เปรียบเทียบสมบัติของสสารทั้ง 3 สถานะจากข้อมูลที่ได้จากการสังเกตมวลการต้องการที่อยู่รูปร่างและปริมาตรของสสาร",null,null,4,"ว 2.1","ป.5/1","อธิบายการเปลี่ยนสถานะของสสาร เมื่อทำให้สสารร้อนขึ้นหรือเย็นลง โดยใช้หลักฐานเชิงประจักษ์","อธิบายการเปลี่ยนสถานะของสสาร เมื่อทำให้สสารร้อนขึ้นหรือเย็นลง โดยใช้หลักฐานเชิงประจักษ์","อธิบายการเปลี่ยนสถานะของสสาร เมื่อทำให้สสารร้อนขึ้นหรือเย็นลง โดยใช้หลักฐานเชิงประจักษ์","อธิบายการเปลี่ยนสถานะของสสาร เมื่อทำให้สสารร้อนขึ้นหรือเย็นลง โดยใช้หลักฐานเชิงประจักษ์","อธิบายการเปลี่ยนสถานะของสสาร เมื่อทำให้สสารร้อนขึ้นหรือเย็นลง โดยใช้หลักฐานเชิงประจักษ์",null,null,4,"ว 2.3","ป.6/1","ระบุส่วนประกอบและบรรยายหน้าที่ของแต่ละ ส่วนประกอบของวงจรไฟฟ้าอย่างง่ายจากหลักฐานเชิงประจักษ์","ระบุส่วนประกอบและบรรยายหน้าที่ของแต่ละ ส่วนประกอบของวงจรไฟฟ้าอย่างง่ายจากหลักฐานเชิงประจักษ์","ระบุส่วนประกอบและบรรยายหน้าที่ของแต่ละ ส่วนประกอบของวงจรไฟฟ้าอย่างง่ายจากหลักฐานเชิงประจักษ์","ระบุส่วนประกอบและบรรยายหน้าที่ของแต่ละ ส่วนประกอบของวงจรไฟฟ้าอย่างง่ายจากหลักฐานเชิงประจักษ์","ระบุส่วนประกอบและบรรยายหน้าที่ของแต่ละ ส่วนประกอบของวงจรไฟฟ้าอย่างง่ายจากหลักฐานเชิงประจักษ์"]
[null,5,"ว 3.2","ป1/1","อธิบายลักษณะภายนอกของหินจากลักษณะ เฉพาะตัวที่สังเกตได้",null,null,null,null,null,null,5,"ว 2.1","ป.2/3","เปรียบเทียบสมบัติที่สังเกตได้ของวัสดุเพื่อนำมาทำเป็นวัตถุในการใช้งานตามวัตถุประสงค์และอธิบายการนำวัสดุที่ใช้แล้วกลับมาใช้ใหม่ โดยใช้หลักฐานเชิงประจักษ์","เปรียบเทียบสมบัติที่สังเกตได้ของวัสดุเพื่อนำมาทำเป็นวัตถุในการใช้งานตามวัตถุประสงค์และอธิบายการนำวัสดุที่ใช้แล้วกลับมาใช้ใหม่ โดยใช้หลักฐานเชิงประจักษ์","เปรียบเทียบสมบัติที่สังเกตได้ของวัสดุเพื่อนำมาทำเป็นวัตถุในการใช้งานตามวัตถุประสงค์และอธิบายการนำวัสดุที่ใช้แล้วกลับมาใช้ใหม่ โดยใช้หลักฐานเชิงประจักษ์","เปรียบเทียบสมบัติที่สังเกตได้ของวัสดุเพื่อนำมาทำเป็นวัตถุในการใช้งานตามวัตถุประสงค์และอธิบายการนำวัสดุที่ใช้แล้วกลับมาใช้ใหม่ โดยใช้หลักฐานเชิงประจักษ์","เปรียบเทียบสมบัติที่สังเกตได้ของวัสดุเพื่อนำมาทำเป็นวัตถุในการใช้งานตามวัตถุประสงค์และอธิบายการนำวัสดุที่ใช้แล้วกลับมาใช้ใหม่ โดยใช้หลักฐานเชิงประจักษ์",null,null,5,"ว 2.2","ป.3/3","จำแนกวัตถุโดยใช้การดึงดูดกับแม่เหล็กเป็นเกณฑ์จากหลักฐานเชิงประจักษ์","จำแนกวัตถุโดยใช้การดึงดูดกับแม่เหล็กเป็นเกณฑ์จากหลักฐานเชิงประจักษ์","จำแนกวัตถุโดยใช้การดึงดูดกับแม่เหล็กเป็นเกณฑ์จากหลักฐานเชิงประจักษ์","จำแนกวัตถุโดยใช้การดึงดูดกับแม่เหล็กเป็นเกณฑ์จากหลักฐานเชิงประจักษ์","จำแนกวัตถุโดยใช้การดึงดูดกับแม่เหล็กเป็นเกณฑ์จากหลักฐานเชิงประจักษ์",null,null,5,"ว 2.1","ป.4/4","ใช้เครื่องมือเพื่อวัดมวลและปริมาตรของสสารทั้ง 3 สถานะ","ใช้เครื่องมือเพื่อวัดมวลและปริมาตรของสสารทั้ง 3 สถานะ","ใช้เครื่องมือเพื่อวัดมวลและปริมาตรของสสารทั้ง 3 สถานะ","ใช้เครื่องมือเพื่อวัดมวลและปริมาตรของสสารทั้ง 3 สถานะ","ใช้เครื่องมือเพื่อวัดมวลและปริมาตรของสสารทั้ง 3 สถานะ",null,null,5,"ว 2.1","ป.5/2","อธิบายการละลายของสารในน้ำ โดยใช้หลักฐานเชิงประจักษ์","อธิบายการละลายของสารในน้ำ โดยใช้หลักฐานเชิงประจักษ์","อธิบายการละลายของสารในน้ำ โดยใช้หลักฐานเชิงประจักษ์","อธิบายการละลายของสารในน้ำ โดยใช้หลักฐานเชิงประจักษ์","อธิบายการละลายของสารในน้ำ โดยใช้หลักฐานเชิงประจักษ์",null,null,5,"ว 2.3","ป.6/2","เขียนแผนภาพและต่อวงจรไฟฟ้าอย่างง่าย","เขียนแผนภาพและต่อวงจรไฟฟ้าอย่างง่าย","เขียนแผนภาพและต่อวงจรไฟฟ้าอย่างง่าย","เขียนแผนภาพและต่อวงจรไฟฟ้าอย่างง่าย","เขียนแผนภาพและต่อวงจรไฟฟ้าอย่างง่าย"]
[null,6,"ว 4.2","ป1/3","เขียนโปรแกรมอย่างง่ายโดยใช้ซอฟต์แวร์หรือสื่อ",null,null,null,null,null,null,6,"ว 2.3","ป.2/1","บรรยายแนวการเคลื่อนที่ของแสงจากแหล่งกำเนิดแสงและอธิบายการมองเห็นวัตถุจากหลักฐานเชิงประจักษ์","บรรยายแนวการเคลื่อนที่ของแสงจากแหล่งกำเนิดแสงและอธิบายการมองเห็นวัตถุจากหลักฐานเชิงประจักษ์","บรรยายแนวการเคลื่อนที่ของแสงจากแหล่งกำเนิดแสงและอธิบายการมองเห็นวัตถุจากหลักฐานเชิงประจักษ์","บรรยายแนวการเคลื่อนที่ของแสงจากแหล่งกำเนิดแสงและอธิบายการมองเห็นวัตถุจากหลักฐานเชิงประจักษ์","บรรยายแนวการเคลื่อนที่ของแสงจากแหล่งกำเนิดแสงและอธิบายการมองเห็นวัตถุจากหลักฐานเชิงประจักษ์",null,null,6,"ว 2.2","ป.3/4","ระบุขั้วแม่เหล็กและพยากรณ์ผลที่เกิดขึ้น ระหว่างขั้วแม่เหล็กเมื่อนำมาเข้าใกล้กันจาก หลักฐานเชิงประจักษ์","ระบุขั้วแม่เหล็กและพยากรณ์ผลที่เกิดขึ้น ระหว่างขั้วแม่เหล็กเมื่อนำมาเข้าใกล้กันจาก หลักฐานเชิงประจักษ์","ระบุขั้วแม่เหล็กและพยากรณ์ผลที่เกิดขึ้น ระหว่างขั้วแม่เหล็กเมื่อนำมาเข้าใกล้กันจาก หลักฐานเชิงประจักษ์","ระบุขั้วแม่เหล็กและพยากรณ์ผลที่เกิดขึ้น ระหว่างขั้วแม่เหล็กเมื่อนำมาเข้าใกล้กันจาก หลักฐานเชิงประจักษ์","ระบุขั้วแม่เหล็กและพยากรณ์ผลที่เกิดขึ้น ระหว่างขั้วแม่เหล็กเมื่อนำมาเข้าใกล้กันจาก หลักฐานเชิงประจักษ์",null,null,6,"ว 2.2","ป.4/1","ระบุผลของแรงโน้มถ่วงที่มีต่อวัตถุจากหลักฐาน เชิงประจักษ์","ระบุผลของแรงโน้มถ่วงที่มีต่อวัตถุจากหลักฐาน เชิงประจักษ์","ระบุผลของแรงโน้มถ่วงที่มีต่อวัตถุจากหลักฐาน เชิงประจักษ์","ระบุผลของแรงโน้มถ่วงที่มีต่อวัตถุจากหลักฐาน เชิงประจักษ์","ระบุผลของแรงโน้มถ่วงที่มีต่อวัตถุจากหลักฐาน เชิงประจักษ์",null,null,6,"ว 2.1","ป.5/3","วิเคราะห์การเปลี่ยนแปลงของสารเมื่อเกิดการเปลี่ยนแปลงทางเคมี โดยใช้หลักฐานเชิงประจักษ์","วิเคราะห์การเปลี่ยนแปลงของสารเมื่อเกิดการเปลี่ยนแปลงทางเคมี โดยใช้หลักฐานเชิงประจักษ์","วิเคราะห์การเปลี่ยนแปลงของสารเมื่อเกิดการเปลี่ยนแปลงทางเคมี โดยใช้หลักฐานเชิงประจักษ์","วิเคราะห์การเปลี่ยนแปลงของสารเมื่อเกิดการเปลี่ยนแปลงทางเคมี โดยใช้หลักฐานเชิงประจักษ์","วิเคราะห์การเปลี่ยนแปลงของสารเมื่อเกิดการเปลี่ยนแปลงทางเคมี โดยใช้หลักฐานเชิงประจักษ์",null,null,6,"ว 2.3","ป.6/3","ออกแบบการทดลองและทดลองด้วยวิธีที่เหมาะสมในการอธิบายวิธีการและผลของการต่อเซลล์ไฟฟ","ออกแบบการทดลองและทดลองด้วยวิธีที่เหมาะสมในการอธิบายวิธีการและผลของการต่อเซลล์ไฟฟ","ออกแบบการทดลองและทดลองด้วยวิธีที่เหมาะสมในการอธิบายวิธีการและผลของการต่อเซลล์ไฟฟ","ออกแบบการทดลองและทดลองด้วยวิธีที่เหมาะสมในการอธิบายวิธีการและผลของการต่อเซลล์ไฟฟ","ออกแบบการทดลองและทดลองด้วยวิธีที่เหมาะสมในการอธิบายวิธีการและผลของการต่อเซลล์ไฟฟ"]
[null,"ตัวชี้วัดปลายทาง",null,null,null,null,null,null,null,null,null,7,"ว 3.2","ป.2/1","ระบสุว่นประกอบของดินและจำแนกชนิดของดินโดยใช้ลักษณะเนื้อดินและการจับตัวเป็นเกณฑ์","ระบสุว่นประกอบของดินและจำแนกชนิดของดินโดยใช้ลักษณะเนื้อดินและการจับตัวเป็นเกณฑ์","ระบสุว่นประกอบของดินและจำแนกชนิดของดินโดยใช้ลักษณะเนื้อดินและการจับตัวเป็นเกณฑ์","ระบสุว่นประกอบของดินและจำแนกชนิดของดินโดยใช้ลักษณะเนื้อดินและการจับตัวเป็นเกณฑ์","ระบสุว่นประกอบของดินและจำแนกชนิดของดินโดยใช้ลักษณะเนื้อดินและการจับตัวเป็นเกณฑ์",null,null,7,"ว 2.3","ป.3/1","ยกตัวอย่างการเปลี่ยนพลังงานหนึ่งไปเป็นอีก พลังงานหนึ่งจากหลักฐานเชิงประจักษ์","ยกตัวอย่างการเปลี่ยนพลังงานหนึ่งไปเป็นอีก พลังงานหนึ่งจากหลักฐานเชิงประจักษ์","ยกตัวอย่างการเปลี่ยนพลังงานหนึ่งไปเป็นอีก พลังงานหนึ่งจากหลักฐานเชิงประจักษ์","ยกตัวอย่างการเปลี่ยนพลังงานหนึ่งไปเป็นอีก พลังงานหนึ่งจากหลักฐานเชิงประจักษ์","ยกตัวอย่างการเปลี่ยนพลังงานหนึ่งไปเป็นอีก พลังงานหนึ่งจากหลักฐานเชิงประจักษ์",null,null,7,"ว 2.2","ป.4/2","ใช้เครื่องชั่งสปริงในการวัดน้ำหนักของวัตถุ","ใช้เครื่องชั่งสปริงในการวัดน้ำหนักของวัตถุ","ใช้เครื่องชั่งสปริงในการวัดน้ำหนักของวัตถุ","ใช้เครื่องชั่งสปริงในการวัดน้ำหนักของวัตถุ","ใช้เครื่องชั่งสปริงในการวัดน้ำหนักของวัตถุ",null,null,7,"ว 2.2","ป.5/1","อธิบายวิธีการหาแรงลัพธ์ของแรงหลายแรงในแนวเดียวกันที่กระทำต่อวัตถุในกรณีที่วัตถุอยู่นิ่งจากหลักฐานเชิงประจักษ์","อธิบายวิธีการหาแรงลัพธ์ของแรงหลายแรงในแนวเดียวกันที่กระทำต่อวัตถุในกรณีที่วัตถุอยู่นิ่งจากหลักฐานเชิงประจักษ์","อธิบายวิธีการหาแรงลัพธ์ของแรงหลายแรงในแนวเดียวกันที่กระทำต่อวัตถุในกรณีที่วัตถุอยู่นิ่งจากหลักฐานเชิงประจักษ์","อธิบายวิธีการหาแรงลัพธ์ของแรงหลายแรงในแนวเดียวกันที่กระทำต่อวัตถุในกรณีที่วัตถุอยู่นิ่งจากหลักฐานเชิงประจักษ์","อธิบายวิธีการหาแรงลัพธ์ของแรงหลายแรงในแนวเดียวกันที่กระทำต่อวัตถุในกรณีที่วัตถุอยู่นิ่งจากหลักฐานเชิงประจักษ์",null,null,7,"ว 2.3","ป.6/5","ออกแบบการทดลองและทดลองด้วยวิธีที่เหมาะสมในการอธิบายการต่อหลอดไฟฟ้าแบบอนุกรมและแบบขนาน","ออกแบบการทดลองและทดลองด้วยวิธีที่เหมาะสมในการอธิบายการต่อหลอดไฟฟ้าแบบอนุกรมและแบบขนาน","ออกแบบการทดลองและทดลองด้วยวิธีที่เหมาะสมในการอธิบายการต่อหลอดไฟฟ้าแบบอนุกรมและแบบขนาน","ออกแบบการทดลองและทดลองด้วยวิธีที่เหมาะสมในการอธิบายการต่อหลอดไฟฟ้าแบบอนุกรมและแบบขนาน","ออกแบบการทดลองและทดลองด้วยวิธีที่เหมาะสมในการอธิบายการต่อหลอดไฟฟ้าแบบอนุกรมและแบบขนาน"]
[null,1,"ว 1.1","ป.1/2","บอกสภาพแวดล้อมที่เหมาะสมกับการดำรงชีวิตของสัตว์ในบริเวณที่อาศัยอยู่","บอกสภาพแวดล้อมที่เหมาะสมกับการดำรงชีวิตของสัตว์ในบริเวณที่อาศัยอยู่","บอกสภาพแวดล้อมที่เหมาะสมกับการดำรงชีวิตของสัตว์ในบริเวณที่อาศัยอยู่","บอกสภาพแวดล้อมที่เหมาะสมกับการดำรงชีวิตของสัตว์ในบริเวณที่อาศัยอยู่","บอกสภาพแวดล้อมที่เหมาะสมกับการดำรงชีวิตของสัตว์ในบริเวณที่อาศัยอยู่",null,null,8,"ว 4.2","ป.2/2","เขียนโปรแกรมอย่างง่ายโดยใช้ซอฟต์แวร์หรือสื่อและตรวจหาข้อผิดพลาดของโปรแกรม","เขียนโปรแกรมอย่างง่ายโดยใช้ซอฟต์แวร์หรือสื่อและตรวจหาข้อผิดพลาดของโปรแกรม","เขียนโปรแกรมอย่างง่ายโดยใช้ซอฟต์แวร์หรือสื่อและตรวจหาข้อผิดพลาดของโปรแกรม","เขียนโปรแกรมอย่างง่ายโดยใช้ซอฟต์แวร์หรือสื่อและตรวจหาข้อผิดพลาดของโปรแกรม","เขียนโปรแกรมอย่างง่ายโดยใช้ซอฟต์แวร์หรือสื่อและตรวจหาข้อผิดพลาดของโปรแกรม",null,null,8,"ว 3.1","ป.3/1","อธิบายแบบรูปเส้นทางการขึ้นและตกของดวงอาทิตย์โดยใช้หลักฐานเชิงประจักษ์","อธิบายแบบรูปเส้นทางการขึ้นและตกของดวงอาทิตย์โดยใช้หลักฐานเชิงประจักษ์","อธิบายแบบรูปเส้นทางการขึ้นและตกของดวงอาทิตย์โดยใช้หลักฐานเชิงประจักษ์","อธิบายแบบรูปเส้นทางการขึ้นและตกของดวงอาทิตย์โดยใช้หลักฐานเชิงประจักษ์","อธิบายแบบรูปเส้นทางการขึ้นและตกของดวงอาทิตย์โดยใช้หลักฐานเชิงประจักษ์",null,null,8,"ว 3.1","ป.4/1","อธิบายแบบรูปเส้นทางการขึ้นและตกของดวงจันทร์ โดยใช้หลักฐานเชิงประจักษ์","อธิบายแบบรูปเส้นทางการขึ้นและตกของดวงจันทร์ โดยใช้หลักฐานเชิงประจักษ์","อธิบายแบบรูปเส้นทางการขึ้นและตกของดวงจันทร์ โดยใช้หลักฐานเชิงประจักษ์","อธิบายแบบรูปเส้นทางการขึ้นและตกของดวงจันทร์ โดยใช้หลักฐานเชิงประจักษ์","อธิบายแบบรูปเส้นทางการขึ้นและตกของดวงจันทร์ โดยใช้หลักฐานเชิงประจักษ์",null,null,8,"ว 2.2","ป.5/2","เขียนแผนภาพแสดงแรงที่กระทำต่อวัตถุที่อยู่ในแนวเดียวกันและแรงลัพธ์ที่กระทำต่อวัตถุ","เขียนแผนภาพแสดงแรงที่กระทำต่อวัตถุที่อยู่ในแนวเดียวกันและแรงลัพธ์ที่กระทำต่อวัตถุ","เขียนแผนภาพแสดงแรงที่กระทำต่อวัตถุที่อยู่ในแนวเดียวกันและแรงลัพธ์ที่กระทำต่อวัตถุ","เขียนแผนภาพแสดงแรงที่กระทำต่อวัตถุที่อยู่ในแนวเดียวกันและแรงลัพธ์ที่กระทำต่อวัตถุ","เขียนแผนภาพแสดงแรงที่กระทำต่อวัตถุที่อยู่ในแนวเดียวกันและแรงลัพธ์ที่กระทำต่อวัตถุ",null,null,8,"ว 2.3","ป.6/8","เขียนแผนภาพรังสีของแสงแสดงการเกิดเงามืดเงามัว","เขียนแผนภาพรังสีของแสงแสดงการเกิดเงามืดเงามัว","เขียนแผนภาพรังสีของแสงแสดงการเกิดเงามืดเงามัว","เขียนแผนภาพรังสีของแสงแสดงการเกิดเงามืดเงามัว","เขียนแผนภาพรังสีของแสงแสดงการเกิดเงามืดเงามัว"]
[null,2,"ว 1.2","ป.1/2","ตระหนักถึงความสำคัญของส่วนต่าง ๆ ของร่างกายตนเอง โดยการดูแลส่วนต่าง ๆ อย่างถูกต้อง ให้ปลอดภัย และรักษาความสะอาดอยู่เสมอ","ตระหนักถึงความสำคัญของส่วนต่าง ๆ ของร่างกายตนเอง โดยการดูแลส่วนต่าง ๆ อย่างถูกต้อง ให้ปลอดภัย และรักษาความสะอาดอยู่เสมอ","ตระหนักถึงความสำคัญของส่วนต่าง ๆ ของร่างกายตนเอง โดยการดูแลส่วนต่าง ๆ อย่างถูกต้อง ให้ปลอดภัย และรักษาความสะอาดอยู่เสมอ","ตระหนักถึงความสำคัญของส่วนต่าง ๆ ของร่างกายตนเอง โดยการดูแลส่วนต่าง ๆ อย่างถูกต้อง ให้ปลอดภัย และรักษาความสะอาดอยู่เสมอ","ตระหนักถึงความสำคัญของส่วนต่าง ๆ ของร่างกายตนเอง โดยการดูแลส่วนต่าง ๆ อย่างถูกต้อง ให้ปลอดภัย และรักษาความสะอาดอยู่เสมอ",null,null,"ตัวชี้วัดปลายทาง",null,null,null,null,null,null,null,null,null,9,"ว 3.1","ป.3/3","ตระหนักถึงความสำคัญของดวงอาทิตย์  โดยบรรยายประโยชน์ของดวงอาทิตย์ต่อสิ่งมีชีวิต","ตระหนักถึงความสำคัญของดวงอาทิตย์  โดยบรรยายประโยชน์ของดวงอาทิตย์ต่อสิ่งมีชีวิต","ตระหนักถึงความสำคัญของดวงอาทิตย์  โดยบรรยายประโยชน์ของดวงอาทิตย์ต่อสิ่งมีชีวิต","ตระหนักถึงความสำคัญของดวงอาทิตย์  โดยบรรยายประโยชน์ของดวงอาทิตย์ต่อสิ่งมีชีวิต","ตระหนักถึงความสำคัญของดวงอาทิตย์  โดยบรรยายประโยชน์ของดวงอาทิตย์ต่อสิ่งมีชีวิต",null,null,9,"ว 4.2","ป.4/2","ออกแบบและเขียนโปรแกรมอย่างง่ายโดยใช้ซอฟต์แวร์หรือสื่อและตรวจหาข้อผิดพลาดและแก้ไข","ออกแบบและเขียนโปรแกรมอย่างง่ายโดยใช้ซอฟต์แวร์หรือสื่อและตรวจหาข้อผิดพลาดและแก้ไข","ออกแบบและเขียนโปรแกรมอย่างง่ายโดยใช้ซอฟต์แวร์หรือสื่อและตรวจหาข้อผิดพลาดและแก้ไข","ออกแบบและเขียนโปรแกรมอย่างง่ายโดยใช้ซอฟต์แวร์หรือสื่อและตรวจหาข้อผิดพลาดและแก้ไข","ออกแบบและเขียนโปรแกรมอย่างง่ายโดยใช้ซอฟต์แวร์หรือสื่อและตรวจหาข้อผิดพลาดและแก้ไข",null,null,9,"ว 2.2","ป.5/3","ใช้เครื่องชั่งสปริงในการวัดแรงที่กระทำต่อวัตถุ","ใช้เครื่องชั่งสปริงในการวัดแรงที่กระทำต่อวัตถุ","ใช้เครื่องชั่งสปริงในการวัดแรงที่กระทำต่อวัตถุ","ใช้เครื่องชั่งสปริงในการวัดแรงที่กระทำต่อวัตถุ","ใช้เครื่องชั่งสปริงในการวัดแรงที่กระทำต่อวัตถุ",null,null,9,"ว 3.2","ป.6/2","บรรยายและยกตัวอย่างการใช้ประโยชน์ของหิน และแร่ในชีวิตประจำวันจากข้อมูลที่รวบรวมได้","บรรยายและยกตัวอย่างการใช้ประโยชน์ของหิน และแร่ในชีวิตประจำวันจากข้อมูลที่รวบรวมได้","บรรยายและยกตัวอย่างการใช้ประโยชน์ของหิน และแร่ในชีวิตประจำวันจากข้อมูลที่รวบรวมได้","บรรยายและยกตัวอย่างการใช้ประโยชน์ของหิน และแร่ในชีวิตประจำวันจากข้อมูลที่รวบรวมได้","บรรยายและยกตัวอย่างการใช้ประโยชน์ของหิน และแร่ในชีวิตประจำวันจากข้อมูลที่รวบรวมได้"]
[null,3,"ว 2.1","ป.1/2","ระบุชนิดของวัสดุและจัดกลุ่มวัสดุตามสมบัติที่สังเกตได้",null,null,null,null,null,null,1,"ว 1.2","ป.2/3","สร้างแบบจำลองที่บรรยายวัฏจักรชีวิตของพืชดอก","สร้างแบบจำลองที่บรรยายวัฏจักรชีวิตของพืชดอก","สร้างแบบจำลองที่บรรยายวัฏจักรชีวิตของพืชดอก","สร้างแบบจำลองที่บรรยายวัฏจักรชีวิตของพืชดอก","สร้างแบบจำลองที่บรรยายวัฏจักรชีวิตของพืชดอก",null,null,10,"ว 3.2","ป.3/1","ระบุส่วนประกอบของอากาศบรรยายความสำคัญของอากาศและผลกระทบของมลพิษทาง อากาศต่อสิ่งมีชีวิตจากข้อมูลที่รวบรวมได้","ระบุส่วนประกอบของอากาศบรรยายความสำคัญของอากาศและผลกระทบของมลพิษทาง อากาศต่อสิ่งมีชีวิตจากข้อมูลที่รวบรวมได้","ระบุส่วนประกอบของอากาศบรรยายความสำคัญของอากาศและผลกระทบของมลพิษทาง อากาศต่อสิ่งมีชีวิตจากข้อมูลที่รวบรวมได้","ระบุส่วนประกอบของอากาศบรรยายความสำคัญของอากาศและผลกระทบของมลพิษทาง อากาศต่อสิ่งมีชีวิตจากข้อมูลที่รวบรวมได้","ระบุส่วนประกอบของอากาศบรรยายความสำคัญของอากาศและผลกระทบของมลพิษทาง อากาศต่อสิ่งมีชีวิตจากข้อมูลที่รวบรวมได้",null,null,"ตัวชี้วัดปลายทาง",null,null,null,null,null,null,null,null,null,10,"ว 2.2","ป.5/5","เขียนแผนภาพแสดงแรงเสียดทานและแรงที่อยู่ในแนวเดียวกันที่กระทำต่อวัตถุ","เขียนแผนภาพแสดงแรงเสียดทานและแรงที่อยู่ในแนวเดียวกันที่กระทำต่อวัตถุ","เขียนแผนภาพแสดงแรงเสียดทานและแรงที่อยู่ในแนวเดียวกันที่กระทำต่อวัตถุ","เขียนแผนภาพแสดงแรงเสียดทานและแรงที่อยู่ในแนวเดียวกันที่กระทำต่อวัตถุ","เขียนแผนภาพแสดงแรงเสียดทานและแรงที่อยู่ในแนวเดียวกันที่กระทำต่อวัตถุ",null,null,10,"ว 3.2","ป.6/6","บรรยายลักษณะและผลกระทบของน้ำท่วมการกัดเซาะชายฝั่งดินถล่มแผ่นดินไหวึสนามิ","บรรยายลักษณะและผลกระทบของน้ำท่วมการกัดเซาะชายฝั่งดินถล่มแผ่นดินไหวึสนามิ","บรรยายลักษณะและผลกระทบของน้ำท่วมการกัดเซาะชายฝั่งดินถล่มแผ่นดินไหวึสนามิ","บรรยายลักษณะและผลกระทบของน้ำท่วมการกัดเซาะชายฝั่งดินถล่มแผ่นดินไหวึสนามิ","บรรยายลักษณะและผลกระทบของน้ำท่วมการกัดเซาะชายฝั่งดินถล่มแผ่นดินไหวึสนามิ"]
[null,4,"ว 2.3","ป.1/1","บรรยายการเกิดเสียงและทิศทางการเคลื่อนที่ของเสียงจากหลักฐานเชิงประจักษ์",null,null,null,null,null,null,2,"ว 1.3","ป.2/1","เปรียบเทียบลักษณะของสิ่งมีชีวิตและสิ่งไม่มีชีวิตจากข้อมูลที่รวบรวมได้","เปรียบเทียบลักษณะของสิ่งมีชีวิตและสิ่งไม่มีชีวิตจากข้อมูลที่รวบรวมได้","เปรียบเทียบลักษณะของสิ่งมีชีวิตและสิ่งไม่มีชีวิตจากข้อมูลที่รวบรวมได้","เปรียบเทียบลักษณะของสิ่งมีชีวิตและสิ่งไม่มีชีวิตจากข้อมูลที่รวบรวมได้","เปรียบเทียบลักษณะของสิ่งมีชีวิตและสิ่งไม่มีชีวิตจากข้อมูลที่รวบรวมได้",null,null,11,"ว 3.2","ป.3/4","บรรยายประโยชน์และโทษของลมจากข้อมูลที่รวบรวมได้","บรรยายประโยชน์และโทษของลมจากข้อมูลที่รวบรวมได้","บรรยายประโยชน์และโทษของลมจากข้อมูลที่รวบรวมได้","บรรยายประโยชน์และโทษของลมจากข้อมูลที่รวบรวมได้","บรรยายประโยชน์และโทษของลมจากข้อมูลที่รวบรวมได้",null,null,1,"ว 1.2","ป.4/1","บรรยายหน้าที่ของรากลำต้น ใบและดอกของพืชดอกโดยใช้ข้อมูลที่รวบรวมได้","บรรยายหน้าที่ของรากลำต้น ใบและดอกของพืชดอกโดยใช้ข้อมูลที่รวบรวมได้","บรรยายหน้าที่ของรากลำต้น ใบและดอกของพืชดอกโดยใช้ข้อมูลที่รวบรวมได้","บรรยายหน้าที่ของรากลำต้น ใบและดอกของพืชดอกโดยใช้ข้อมูลที่รวบรวมได้","บรรยายหน้าที่ของรากลำต้น ใบและดอกของพืชดอกโดยใช้ข้อมูลที่รวบรวมได้",null,null,11,"ว 2.3","ป.5/1","อธิบายการได้ยินเสียงผ่านตัวกลางจากหลักฐานเชิงประจักษ์","อธิบายการได้ยินเสียงผ่านตัวกลางจากหลักฐานเชิงประจักษ์","อธิบายการได้ยินเสียงผ่านตัวกลางจากหลักฐานเชิงประจักษ์","อธิบายการได้ยินเสียงผ่านตัวกลางจากหลักฐานเชิงประจักษ์","อธิบายการได้ยินเสียงผ่านตัวกลางจากหลักฐานเชิงประจักษ์",null,null,11,"ว 3.2","ป.6/8","สร้างแบบจำลองที่อธิบายการเกิดปรากฏการณ์เรือนกระจกและผลของปรากฏการณ์เรือนกระจกต่อสิ่งมีชีวิต","สร้างแบบจำลองที่อธิบายการเกิดปรากฏการณ์เรือนกระจกและผลของปรากฏการณ์เรือนกระจกต่อสิ่งมีชีวิต","สร้างแบบจำลองที่อธิบายการเกิดปรากฏการณ์เรือนกระจกและผลของปรากฏการณ์เรือนกระจกต่อสิ่งมีชีวิต","สร้างแบบจำลองที่อธิบายการเกิดปรากฏการณ์เรือนกระจกและผลของปรากฏการณ์เรือนกระจกต่อสิ่งมีชีวิต","สร้างแบบจำลองที่อธิบายการเกิดปรากฏการณ์เรือนกระจกและผลของปรากฏการณ์เรือนกระจกต่อสิ่งมีชีวิต"]
[null,5,"ว 3.1","ป1/2","อธิบายสาเหตุที่มองไม่เห็นดาวส่วนใหญ่ในเวลากลางวันจากหลักฐานเชิงประจักษ์",null,null,null,null,null,null,3,"ว 2.1","ป.2/4","ตระหนักถึงประโยชน์ของการนำวัสดุที่ใช้แล้วกลับมาใช้ใหม่โดยการนำวัสดุที่ใช้แล้วกลับมาใช้ใหม่","ตระหนักถึงประโยชน์ของการนำวัสดุที่ใช้แล้วกลับมาใช้ใหม่โดยการนำวัสดุที่ใช้แล้วกลับมาใช้ใหม่","ตระหนักถึงประโยชน์ของการนำวัสดุที่ใช้แล้วกลับมาใช้ใหม่โดยการนำวัสดุที่ใช้แล้วกลับมาใช้ใหม่","ตระหนักถึงประโยชน์ของการนำวัสดุที่ใช้แล้วกลับมาใช้ใหม่โดยการนำวัสดุที่ใช้แล้วกลับมาใช้ใหม่","ตระหนักถึงประโยชน์ของการนำวัสดุที่ใช้แล้วกลับมาใช้ใหม่โดยการนำวัสดุที่ใช้แล้วกลับมาใช้ใหม่",null,null,12,"ว 4.2","ป.3/2","เขียนโปรแกรมอย่างง่ายโดยใช้ซอฟต์แวร์หรือสื่อและตรวจหาข้อผิดพลาดของโปรแกรม","เขียนโปรแกรมอย่างง่ายโดยใช้ซอฟต์แวร์หรือสื่อและตรวจหาข้อผิดพลาดของโปรแกรม","เขียนโปรแกรมอย่างง่ายโดยใช้ซอฟต์แวร์หรือสื่อและตรวจหาข้อผิดพลาดของโปรแกรม","เขียนโปรแกรมอย่างง่ายโดยใช้ซอฟต์แวร์หรือสื่อและตรวจหาข้อผิดพลาดของโปรแกรม","เขียนโปรแกรมอย่างง่ายโดยใช้ซอฟต์แวร์หรือสื่อและตรวจหาข้อผิดพลาดของโปรแกรม",null,null,2,"ว 1.3","ป.4/2","จำแนกพืชออกเป็นพืชดอกและพืชไม่มีดอกโดยใช้การมีดอกเป็นเกณฑ์ โดยใช้ข้อมูลที่รวบรวมได้","จำแนกพืชออกเป็นพืชดอกและพืชไม่มีดอกโดยใช้การมีดอกเป็นเกณฑ์ โดยใช้ข้อมูลที่รวบรวมได้","จำแนกพืชออกเป็นพืชดอกและพืชไม่มีดอกโดยใช้การมีดอกเป็นเกณฑ์ โดยใช้ข้อมูลที่รวบรวมได้","จำแนกพืชออกเป็นพืชดอกและพืชไม่มีดอกโดยใช้การมีดอกเป็นเกณฑ์ โดยใช้ข้อมูลที่รวบรวมได้","จำแนกพืชออกเป็นพืชดอกและพืชไม่มีดอกโดยใช้การมีดอกเป็นเกณฑ์ โดยใช้ข้อมูลที่รวบรวมได้",null,null,12,"ว 2.3","ป.5/2","ระบุตัวแปร ทดลอง และอธิบายลักษณะและการเกิดเสียงสูง เสียงต่ำ","ระบุตัวแปร ทดลอง และอธิบายลักษณะและการเกิดเสียงสูง เสียงต่ำ","ระบุตัวแปร ทดลอง และอธิบายลักษณะและการเกิดเสียงสูง เสียงต่ำ","ระบุตัวแปร ทดลอง และอธิบายลักษณะและการเกิดเสียงสูง เสียงต่ำ","ระบุตัวแปร ทดลอง และอธิบายลักษณะและการเกิดเสียงสูง เสียงต่ำ",null,null,12,"ว 4.2","ป.6/2","ออกแบบและเขียนโปรแกรมอย่างง่ายเพื่อแก้ปัญหาในชีวิตประจำวันตรวจหาข้อผิดพลาดของโปรแกรมและแก้ไข","ออกแบบและเขียนโปรแกรมอย่างง่ายเพื่อแก้ปัญหาในชีวิตประจำวันตรวจหาข้อผิดพลาดของโปรแกรมและแก้ไข","ออกแบบและเขียนโปรแกรมอย่างง่ายเพื่อแก้ปัญหาในชีวิตประจำวันตรวจหาข้อผิดพลาดของโปรแกรมและแก้ไข","ออกแบบและเขียนโปรแกรมอย่างง่ายเพื่อแก้ปัญหาในชีวิตประจำวันตรวจหาข้อผิดพลาดของโปรแกรมและแก้ไข","ออกแบบและเขียนโปรแกรมอย่างง่ายเพื่อแก้ปัญหาในชีวิตประจำวันตรวจหาข้อผิดพลาดของโปรแกรมและแก้ไข"]
[null,6,"ว 4.2","ป1/1","แก้ปัญหาอย่างง่ายโดยใช้การลองผิดลองถูกการเปรียบเทียบ",null,null,null,null,null,null,4,"ว 2.3","ป.2/2","ตระหนักในคุณค่าของความรู้ของการมองเห็น โดยเสนอแนะแนวทางการป้องกันอันตรายจากการมองวัตถุที่อยู่ในบริเวณที่มีแสงสว่างไม่เหมาะสม","ตระหนักในคุณค่าของความรู้ของการมองเห็น โดยเสนอแนะแนวทางการป้องกันอันตรายจากการมองวัตถุที่อยู่ในบริเวณที่มีแสงสว่างไม่เหมาะสม","ตระหนักในคุณค่าของความรู้ของการมองเห็น โดยเสนอแนะแนวทางการป้องกันอันตรายจากการมองวัตถุที่อยู่ในบริเวณที่มีแสงสว่างไม่เหมาะสม","ตระหนักในคุณค่าของความรู้ของการมองเห็น โดยเสนอแนะแนวทางการป้องกันอันตรายจากการมองวัตถุที่อยู่ในบริเวณที่มีแสงสว่างไม่เหมาะสม","ตระหนักในคุณค่าของความรู้ของการมองเห็น โดยเสนอแนะแนวทางการป้องกันอันตรายจากการมองวัตถุที่อยู่ในบริเวณที่มีแสงสว่างไม่เหมาะสม",null,null,"ตัวชี้วัดปลายทาง",null,null,null,null,null,null,null,null,null,3,"ว 1.3","ป.4/3","จำแนกสัตว์ออกเป็นสัตว์มีกระดูกสันหลังและสัตว์ไมม่กีระดกูสนัหลังโดยใช้การมีกระดกูสนัหลังเป็นเกณฑ์ โดยใช้ข้อมูลที่รวบรวมได้","จำแนกสัตว์ออกเป็นสัตว์มีกระดูกสันหลังและสัตว์ไมม่กีระดกูสนัหลังโดยใช้การมีกระดกูสนัหลังเป็นเกณฑ์ โดยใช้ข้อมูลที่รวบรวมได้","จำแนกสัตว์ออกเป็นสัตว์มีกระดูกสันหลังและสัตว์ไมม่กีระดกูสนัหลังโดยใช้การมีกระดกูสนัหลังเป็นเกณฑ์ โดยใช้ข้อมูลที่รวบรวมได้","จำแนกสัตว์ออกเป็นสัตว์มีกระดูกสันหลังและสัตว์ไมม่กีระดกูสนัหลังโดยใช้การมีกระดกูสนัหลังเป็นเกณฑ์ โดยใช้ข้อมูลที่รวบรวมได้","จำแนกสัตว์ออกเป็นสัตว์มีกระดูกสันหลังและสัตว์ไมม่กีระดกูสนัหลังโดยใช้การมีกระดกูสนัหลังเป็นเกณฑ์ โดยใช้ข้อมูลที่รวบรวมได้",null,null,13,"ว 2.3","ป.5/3","ออกแบบการทดลองและอธิบายลักษณะและการเกิดเสียงดัง เสียงค่อย","ออกแบบการทดลองและอธิบายลักษณะและการเกิดเสียงดัง เสียงค่อย","ออกแบบการทดลองและอธิบายลักษณะและการเกิดเสียงดัง เสียงค่อย","ออกแบบการทดลองและอธิบายลักษณะและการเกิดเสียงดัง เสียงค่อย","ออกแบบการทดลองและอธิบายลักษณะและการเกิดเสียงดัง เสียงค่อย",null,null,"ตัวชี้วัดปลายทาง"]
[null,7,"ว 4.2","ป1/2","แสดงลำดับขั้นตอนการทำงานหรือการแก้ปัญหา อย่างง่ายโดยใช้ภาพสัญลักษณ์หรือข้อความ",null,null,null,null,null,null,5,"ว 3.2","ป.2/2","อธิบายการใช้ประโยชน์จำกัดินจากข้อมูลที่รวบรวมได้","อธิบายการใช้ประโยชน์จำกัดินจากข้อมูลที่รวบรวมได้","อธิบายการใช้ประโยชน์จำกัดินจากข้อมูลที่รวบรวมได้","อธิบายการใช้ประโยชน์จำกัดินจากข้อมูลที่รวบรวมได้","อธิบายการใช้ประโยชน์จำกัดินจากข้อมูลที่รวบรวมได้",null,null,1,"ว 1.2","ป.3/4","ตระหนักถึงคุณค่าของชีวิตสัตว์โดยไม่ทำให้วัฏจักรชีวิตของสัตว์เปลี่ยนแปลง","ตระหนักถึงคุณค่าของชีวิตสัตว์โดยไม่ทำให้วัฏจักรชีวิตของสัตว์เปลี่ยนแปลง","ตระหนักถึงคุณค่าของชีวิตสัตว์โดยไม่ทำให้วัฏจักรชีวิตของสัตว์เปลี่ยนแปลง","ตระหนักถึงคุณค่าของชีวิตสัตว์โดยไม่ทำให้วัฏจักรชีวิตของสัตว์เปลี่ยนแปลง","ตระหนักถึงคุณค่าของชีวิตสัตว์โดยไม่ทำให้วัฏจักรชีวิตของสัตว์เปลี่ยนแปลง",null,null,4,"ว 2.1","ป.4/2","แลกเปลี่ยนความคิดกับผู้อื่นโดยการอภิปรายเกี่ยวกับสมบัติทางกายภาพของวัสดุอย่างมีเหตุผลจากการทดลอง","แลกเปลี่ยนความคิดกับผู้อื่นโดยการอภิปรายเกี่ยวกับสมบัติทางกายภาพของวัสดุอย่างมีเหตุผลจากการทดลอง","แลกเปลี่ยนความคิดกับผู้อื่นโดยการอภิปรายเกี่ยวกับสมบัติทางกายภาพของวัสดุอย่างมีเหตุผลจากการทดลอง","แลกเปลี่ยนความคิดกับผู้อื่นโดยการอภิปรายเกี่ยวกับสมบัติทางกายภาพของวัสดุอย่างมีเหตุผลจากการทดลอง","แลกเปลี่ยนความคิดกับผู้อื่นโดยการอภิปรายเกี่ยวกับสมบัติทางกายภาพของวัสดุอย่างมีเหตุผลจากการทดลอง",null,null,14,"ว 2.3","ป.5/4","วัดระดับเสียงโดยใช้เครื่องมือวัดระดับเสียง","วัดระดับเสียงโดยใช้เครื่องมือวัดระดับเสียง","วัดระดับเสียงโดยใช้เครื่องมือวัดระดับเสียง","วัดระดับเสียงโดยใช้เครื่องมือวัดระดับเสียง","วัดระดับเสียงโดยใช้เครื่องมือวัดระดับเสียง",null,null,1,"ว 1.2","ป.6/3","ตระหนักถึงความสำคัญของสารอาหารโดยการเลือกรับประทานอาหารที่มีสารอาหารครบถ้วนในสัดส่วันที่เหมาะสมกับเพศและวัยรวมทั้งปลอดภัยต่อสุขภาพ","ตระหนักถึงความสำคัญของสารอาหารโดยการเลือกรับประทานอาหารที่มีสารอาหารครบถ้วนในสัดส่วันที่เหมาะสมกับเพศและวัยรวมทั้งปลอดภัยต่อสุขภาพ","ตระหนักถึงความสำคัญของสารอาหารโดยการเลือกรับประทานอาหารที่มีสารอาหารครบถ้วนในสัดส่วันที่เหมาะสมกับเพศและวัยรวมทั้งปลอดภัยต่อสุขภาพ","ตระหนักถึงความสำคัญของสารอาหารโดยการเลือกรับประทานอาหารที่มีสารอาหารครบถ้วนในสัดส่วันที่เหมาะสมกับเพศและวัยรวมทั้งปลอดภัยต่อสุขภาพ","ตระหนักถึงความสำคัญของสารอาหารโดยการเลือกรับประทานอาหารที่มีสารอาหารครบถ้วนในสัดส่วันที่เหมาะสมกับเพศและวัยรวมทั้งปลอดภัยต่อสุขภาพ"]
[null,8,"ว 4.2","ป1/4","ใช้เทคโนโลยีในการสร้างจัดเก็บเรียกใช้ข้อมูลตามวัตถุประสงค์","ใช้เทคโนโลยีในการสร้างจัดเก็บเรียกใช้ข้อมูลตามวัตถุประสงค์","ใช้เทคโนโลยีในการสร้างจัดเก็บเรียกใช้ข้อมูลตามวัตถุประสงค์","ใช้เทคโนโลยีในการสร้างจัดเก็บเรียกใช้ข้อมูลตามวัตถุประสงค์","ใช้เทคโนโลยีในการสร้างจัดเก็บเรียกใช้ข้อมูลตามวัตถุประสงค์",null,null,6,"ว 4.2","ป.2/1","แสดงลำดับขั้นตอนการทำงานหรือการแก้ปัญหาอย่างง่ายโดยใช้ภาพสัญลักษณ์หรือข้อความ","แสดงลำดับขั้นตอนการทำงานหรือการแก้ปัญหาอย่างง่ายโดยใช้ภาพสัญลักษณ์หรือข้อความ","แสดงลำดับขั้นตอนการทำงานหรือการแก้ปัญหาอย่างง่ายโดยใช้ภาพสัญลักษณ์หรือข้อความ","แสดงลำดับขั้นตอนการทำงานหรือการแก้ปัญหาอย่างง่ายโดยใช้ภาพสัญลักษณ์หรือข้อความ","แสดงลำดับขั้นตอนการทำงานหรือการแก้ปัญหาอย่างง่ายโดยใช้ภาพสัญลักษณ์หรือข้อความ",null,null,2,"ว 2.1","ป.3/1","อธิบายว่าวัตถุประกอบขึ้นจากชิ้นส่วนย่อยๆซึ่งสามารถแยกออกจากกันได้และประกอบกันเป็นวัตถุชิ้นใหม่ได้โดยใช้หลักฐานเชิงประจักษ์","อธิบายว่าวัตถุประกอบขึ้นจากชิ้นส่วนย่อยๆซึ่งสามารถแยกออกจากกันได้และประกอบกันเป็นวัตถุชิ้นใหม่ได้โดยใช้หลักฐานเชิงประจักษ์","อธิบายว่าวัตถุประกอบขึ้นจากชิ้นส่วนย่อยๆซึ่งสามารถแยกออกจากกันได้และประกอบกันเป็นวัตถุชิ้นใหม่ได้โดยใช้หลักฐานเชิงประจักษ์","อธิบายว่าวัตถุประกอบขึ้นจากชิ้นส่วนย่อยๆซึ่งสามารถแยกออกจากกันได้และประกอบกันเป็นวัตถุชิ้นใหม่ได้โดยใช้หลักฐานเชิงประจักษ์","อธิบายว่าวัตถุประกอบขึ้นจากชิ้นส่วนย่อยๆซึ่งสามารถแยกออกจากกันได้และประกอบกันเป็นวัตถุชิ้นใหม่ได้โดยใช้หลักฐานเชิงประจักษ์",null,null,5,"ว 2.2","ป.4/3","บรรยายมวลของวัตถุที่มีผลต่อการเปลี่ยนแปลง การเคลื่อนที่ของวัตถุจากหลักฐานเชิงประจักษ์","บรรยายมวลของวัตถุที่มีผลต่อการเปลี่ยนแปลง การเคลื่อนที่ของวัตถุจากหลักฐานเชิงประจักษ์","บรรยายมวลของวัตถุที่มีผลต่อการเปลี่ยนแปลง การเคลื่อนที่ของวัตถุจากหลักฐานเชิงประจักษ์","บรรยายมวลของวัตถุที่มีผลต่อการเปลี่ยนแปลง การเคลื่อนที่ของวัตถุจากหลักฐานเชิงประจักษ์","บรรยายมวลของวัตถุที่มีผลต่อการเปลี่ยนแปลง การเคลื่อนที่ของวัตถุจากหลักฐานเชิงประจักษ์",null,null,15,"ว 3.1","ป.5/1","เปรียบเทียบความแตกต่างของดาวเคราะห์และดาวฤกษ์จากแบบจำลอง","เปรียบเทียบความแตกต่างของดาวเคราะห์และดาวฤกษ์จากแบบจำลอง","เปรียบเทียบความแตกต่างของดาวเคราะห์และดาวฤกษ์จากแบบจำลอง","เปรียบเทียบความแตกต่างของดาวเคราะห์และดาวฤกษ์จากแบบจำลอง","เปรียบเทียบความแตกต่างของดาวเคราะห์และดาวฤกษ์จากแบบจำลอง",null,null,2,"ว 1.2","ป.6/5","ตระหนักถึงความสำคัญของระบบย่อยอาหารโดยการบอกแนวทางในการดูแลรักษาอวัยวะในระบบย่อยอาหารให้ทำงานเป็นปกติ","ตระหนักถึงความสำคัญของระบบย่อยอาหารโดยการบอกแนวทางในการดูแลรักษาอวัยวะในระบบย่อยอาหารให้ทำงานเป็นปกติ","ตระหนักถึงความสำคัญของระบบย่อยอาหารโดยการบอกแนวทางในการดูแลรักษาอวัยวะในระบบย่อยอาหารให้ทำงานเป็นปกติ","ตระหนักถึงความสำคัญของระบบย่อยอาหารโดยการบอกแนวทางในการดูแลรักษาอวัยวะในระบบย่อยอาหารให้ทำงานเป็นปกติ","ตระหนักถึงความสำคัญของระบบย่อยอาหารโดยการบอกแนวทางในการดูแลรักษาอวัยวะในระบบย่อยอาหารให้ทำงานเป็นปกติ"]
[null,9,"ว 4.2","ป1/5","ใช้เทคโนโลยีสารสนเทศอย่างปลอดภัยปฏิบัติตามข้อตกลงในการใช้คอมพิวเตอร์ร่วมกัน ดูแล รักษอุปกรณ์เบื้องต้นใช้งานอย่างเหมาะสม","ใช้เทคโนโลยีสารสนเทศอย่างปลอดภัยปฏิบัติตามข้อตกลงในการใช้คอมพิวเตอร์ร่วมกัน ดูแล รักษอุปกรณ์เบื้องต้นใช้งานอย่างเหมาะสม","ใช้เทคโนโลยีสารสนเทศอย่างปลอดภัยปฏิบัติตามข้อตกลงในการใช้คอมพิวเตอร์ร่วมกัน ดูแล รักษอุปกรณ์เบื้องต้นใช้งานอย่างเหมาะสม","ใช้เทคโนโลยีสารสนเทศอย่างปลอดภัยปฏิบัติตามข้อตกลงในการใช้คอมพิวเตอร์ร่วมกัน ดูแล รักษอุปกรณ์เบื้องต้นใช้งานอย่างเหมาะสม","ใช้เทคโนโลยีสารสนเทศอย่างปลอดภัยปฏิบัติตามข้อตกลงในการใช้คอมพิวเตอร์ร่วมกัน ดูแล รักษอุปกรณ์เบื้องต้นใช้งานอย่างเหมาะสม",null,null,7,"ว 4.2","ป.2/3","ใช้เทคโนโลยีในการสร้างหมวดหมู่จัดเก็บเรียกใช้ข้อมูลตามวัตถุประสงค์","ใช้เทคโนโลยีในการสร้างหมวดหมู่จัดเก็บเรียกใช้ข้อมูลตามวัตถุประสงค์","ใช้เทคโนโลยีในการสร้างหมวดหมู่จัดเก็บเรียกใช้ข้อมูลตามวัตถุประสงค์","ใช้เทคโนโลยีในการสร้างหมวดหมู่จัดเก็บเรียกใช้ข้อมูลตามวัตถุประสงค์","ใช้เทคโนโลยีในการสร้างหมวดหมู่จัดเก็บเรียกใช้ข้อมูลตามวัตถุประสงค์",null,null,3,"ว 2.1","ป.3/2","อธิบายการเปลี่ยนแปลงของวัสดุเมื่อทำให้ร้อนขึ้นหรือทำให้เย็นลงโดยใช้หลักฐานเชิงประจักษ์","อธิบายการเปลี่ยนแปลงของวัสดุเมื่อทำให้ร้อนขึ้นหรือทำให้เย็นลงโดยใช้หลักฐานเชิงประจักษ์","อธิบายการเปลี่ยนแปลงของวัสดุเมื่อทำให้ร้อนขึ้นหรือทำให้เย็นลงโดยใช้หลักฐานเชิงประจักษ์","อธิบายการเปลี่ยนแปลงของวัสดุเมื่อทำให้ร้อนขึ้นหรือทำให้เย็นลงโดยใช้หลักฐานเชิงประจักษ์","อธิบายการเปลี่ยนแปลงของวัสดุเมื่อทำให้ร้อนขึ้นหรือทำให้เย็นลงโดยใช้หลักฐานเชิงประจักษ์",null,null,6,"ว 2.3","ป.4/1","จำแนกวัตถุเป็นตัวกลางโปร่งใสตัวกลางโปร่งแสงและวัตถุทึบแสงจากลักษณะการมองเห็นสิ่งต่างๆผ่านวัตถุนั้นเป็นเกณฑ์ โดยใช้หลักฐานเชิงประจักษ์","จำแนกวัตถุเป็นตัวกลางโปร่งใสตัวกลางโปร่งแสงและวัตถุทึบแสงจากลักษณะการมองเห็นสิ่งต่างๆผ่านวัตถุนั้นเป็นเกณฑ์ โดยใช้หลักฐานเชิงประจักษ์","จำแนกวัตถุเป็นตัวกลางโปร่งใสตัวกลางโปร่งแสงและวัตถุทึบแสงจากลักษณะการมองเห็นสิ่งต่างๆผ่านวัตถุนั้นเป็นเกณฑ์ โดยใช้หลักฐานเชิงประจักษ์","จำแนกวัตถุเป็นตัวกลางโปร่งใสตัวกลางโปร่งแสงและวัตถุทึบแสงจากลักษณะการมองเห็นสิ่งต่างๆผ่านวัตถุนั้นเป็นเกณฑ์ โดยใช้หลักฐานเชิงประจักษ์","จำแนกวัตถุเป็นตัวกลางโปร่งใสตัวกลางโปร่งแสงและวัตถุทึบแสงจากลักษณะการมองเห็นสิ่งต่างๆผ่านวัตถุนั้นเป็นเกณฑ์ โดยใช้หลักฐานเชิงประจักษ์",null,null,16,"ว 3.2","ป.5/1","เปรียบเทียบปริมาณน้ำในแต่ละแหล่ง และระบุปริมาณน้ำที่มนุษย์สามารถนำมาใช้ประโยชน์ได้จากข้อมูลที่รวบรวมได้","เปรียบเทียบปริมาณน้ำในแต่ละแหล่ง และระบุปริมาณน้ำที่มนุษย์สามารถนำมาใช้ประโยชน์ได้จากข้อมูลที่รวบรวมได้","เปรียบเทียบปริมาณน้ำในแต่ละแหล่ง และระบุปริมาณน้ำที่มนุษย์สามารถนำมาใช้ประโยชน์ได้จากข้อมูลที่รวบรวมได้","เปรียบเทียบปริมาณน้ำในแต่ละแหล่ง และระบุปริมาณน้ำที่มนุษย์สามารถนำมาใช้ประโยชน์ได้จากข้อมูลที่รวบรวมได้","เปรียบเทียบปริมาณน้ำในแต่ละแหล่ง และระบุปริมาณน้ำที่มนุษย์สามารถนำมาใช้ประโยชน์ได้จากข้อมูลที่รวบรวมได้",null,null,3,"ว 2.1","ป.6/1","อธิบายและเปรียบเทียบการแยกสารผสมโดยการหยิบออกการร่อนการใช้แม่เหล็กดึงดูการรินออกการกรองและการตกตะกอนโดยใช้หลักฐานเชิงประจักษ์รวมทั้งระบุวิธีแก้ปัญหาในชีวิตประจำวันเกี่ยวกับการแยกสาร","อธิบายและเปรียบเทียบการแยกสารผสมโดยการหยิบออกการร่อนการใช้แม่เหล็กดึงดูการรินออกการกรองและการตกตะกอนโดยใช้หลักฐานเชิงประจักษ์รวมทั้งระบุวิธีแก้ปัญหาในชีวิตประจำวันเกี่ยวกับการแยกสาร","อธิบายและเปรียบเทียบการแยกสารผสมโดยการหยิบออกการร่อนการใช้แม่เหล็กดึงดูการรินออกการกรองและการตกตะกอนโดยใช้หลักฐานเชิงประจักษ์รวมทั้งระบุวิธีแก้ปัญหาในชีวิตประจำวันเกี่ยวกับการแยกสาร","อธิบายและเปรียบเทียบการแยกสารผสมโดยการหยิบออกการร่อนการใช้แม่เหล็กดึงดูการรินออกการกรองและการตกตะกอนโดยใช้หลักฐานเชิงประจักษ์รวมทั้งระบุวิธีแก้ปัญหาในชีวิตประจำวันเกี่ยวกับการแยกสาร","อธิบายและเปรียบเทียบการแยกสารผสมโดยการหยิบออกการร่อนการใช้แม่เหล็กดึงดูการรินออกการกรองและการตกตะกอนโดยใช้หลักฐานเชิงประจักษ์รวมทั้งระบุวิธีแก้ปัญหาในชีวิตประจำวันเกี่ยวกับการแยกสาร"]
[null,null,null,null,null,null,null,null,null,null,null,8,"ว 4.2","ป.2/4","ใช้เทคโนโลยีสารสนเทศอย่างปลอดภัยปฏิบัติตามข้อตกลงในการใช้คอมพิวเตอร์ร่วมกัน  ดูแล รักษอุปกรณ์เบื้องต้นใช้งานอย่างเหมาะสม","ใช้เทคโนโลยีสารสนเทศอย่างปลอดภัยปฏิบัติตามข้อตกลงในการใช้คอมพิวเตอร์ร่วมกัน  ดูแล รักษอุปกรณ์เบื้องต้นใช้งานอย่างเหมาะสม","ใช้เทคโนโลยีสารสนเทศอย่างปลอดภัยปฏิบัติตามข้อตกลงในการใช้คอมพิวเตอร์ร่วมกัน  ดูแล รักษอุปกรณ์เบื้องต้นใช้งานอย่างเหมาะสม","ใช้เทคโนโลยีสารสนเทศอย่างปลอดภัยปฏิบัติตามข้อตกลงในการใช้คอมพิวเตอร์ร่วมกัน  ดูแล รักษอุปกรณ์เบื้องต้นใช้งานอย่างเหมาะสม","ใช้เทคโนโลยีสารสนเทศอย่างปลอดภัยปฏิบัติตามข้อตกลงในการใช้คอมพิวเตอร์ร่วมกัน  ดูแล รักษอุปกรณ์เบื้องต้นใช้งานอย่างเหมาะสม",null,null,4,"ว 2.2","ป.3/2","เปรียบเทียบและยกตัวอย่างแรงสัมผัสและแรงไม่สัมผัสที่มีผลต่อการเคลื่อนที่ของวัตถุโดยใช้หลักฐานเชิงประจักษ์","เปรียบเทียบและยกตัวอย่างแรงสัมผัสและแรงไม่สัมผัสที่มีผลต่อการเคลื่อนที่ของวัตถุโดยใช้หลักฐานเชิงประจักษ์","เปรียบเทียบและยกตัวอย่างแรงสัมผัสและแรงไม่สัมผัสที่มีผลต่อการเคลื่อนที่ของวัตถุโดยใช้หลักฐานเชิงประจักษ์","เปรียบเทียบและยกตัวอย่างแรงสัมผัสและแรงไม่สัมผัสที่มีผลต่อการเคลื่อนที่ของวัตถุโดยใช้หลักฐานเชิงประจักษ์","เปรียบเทียบและยกตัวอย่างแรงสัมผัสและแรงไม่สัมผัสที่มีผลต่อการเคลื่อนที่ของวัตถุโดยใช้หลักฐานเชิงประจักษ์",null,null,7,"ว 3.1","ป.4/2","สร้างแบบจำลองที่อธิบายแบบรูปการเปลี่ยนแปลงรูปร่างปรากฏของดวงจันทร์ และพยากรณ์รูปร่างปรากฏของดวงจันทร์","สร้างแบบจำลองที่อธิบายแบบรูปการเปลี่ยนแปลงรูปร่างปรากฏของดวงจันทร์ และพยากรณ์รูปร่างปรากฏของดวงจันทร์","สร้างแบบจำลองที่อธิบายแบบรูปการเปลี่ยนแปลงรูปร่างปรากฏของดวงจันทร์ และพยากรณ์รูปร่างปรากฏของดวงจันทร์","สร้างแบบจำลองที่อธิบายแบบรูปการเปลี่ยนแปลงรูปร่างปรากฏของดวงจันทร์ และพยากรณ์รูปร่างปรากฏของดวงจันทร์","สร้างแบบจำลองที่อธิบายแบบรูปการเปลี่ยนแปลงรูปร่างปรากฏของดวงจันทร์ และพยากรณ์รูปร่างปรากฏของดวงจันทร์",null,null,17,"ว 3.2","ป.5/4","เปรียบเทียบกระบวนการเกิดเมฆ หมอก น้ำค้างและน้ำค้างแข็ง จากแบบจำลอง","เปรียบเทียบกระบวนการเกิดเมฆ หมอก น้ำค้างและน้ำค้างแข็ง จากแบบจำลอง","เปรียบเทียบกระบวนการเกิดเมฆ หมอก น้ำค้างและน้ำค้างแข็ง จากแบบจำลอง","เปรียบเทียบกระบวนการเกิดเมฆ หมอก น้ำค้างและน้ำค้างแข็ง จากแบบจำลอง","เปรียบเทียบกระบวนการเกิดเมฆ หมอก น้ำค้างและน้ำค้างแข็ง จากแบบจำลอง",null,null,4,"ว 2.2","ป.6/1","อธิบายการเกิดและผลของแรงไฟฟ้าซึ่งเกิดจาก วัตถุที่ผ่านการขัดถูโดยใช้หลักฐานเชิงประจักษ์","อธิบายการเกิดและผลของแรงไฟฟ้าซึ่งเกิดจาก วัตถุที่ผ่านการขัดถูโดยใช้หลักฐานเชิงประจักษ์","อธิบายการเกิดและผลของแรงไฟฟ้าซึ่งเกิดจาก วัตถุที่ผ่านการขัดถูโดยใช้หลักฐานเชิงประจักษ์","อธิบายการเกิดและผลของแรงไฟฟ้าซึ่งเกิดจาก วัตถุที่ผ่านการขัดถูโดยใช้หลักฐานเชิงประจักษ์","อธิบายการเกิดและผลของแรงไฟฟ้าซึ่งเกิดจาก วัตถุที่ผ่านการขัดถูโดยใช้หลักฐานเชิงประจักษ์"]
[null,null,null,null,null,null,null,null,null,null,null,null,null,null,null,null,null,null,null,null,null,5,"ว 2.3","ป.3/2","บรรยายการทำงานของเครื่องกำเนิดไฟฟ้าและระบุแหล่งพลังงานในการผลิตไฟฟ้าจากข้อมูลที่รวบรวมได้","บรรยายการทำงานของเครื่องกำเนิดไฟฟ้าและระบุแหล่งพลังงานในการผลิตไฟฟ้าจากข้อมูลที่รวบรวมได้","บรรยายการทำงานของเครื่องกำเนิดไฟฟ้าและระบุแหล่งพลังงานในการผลิตไฟฟ้าจากข้อมูลที่รวบรวมได้","บรรยายการทำงานของเครื่องกำเนิดไฟฟ้าและระบุแหล่งพลังงานในการผลิตไฟฟ้าจากข้อมูลที่รวบรวมได้","บรรยายการทำงานของเครื่องกำเนิดไฟฟ้าและระบุแหล่งพลังงานในการผลิตไฟฟ้าจากข้อมูลที่รวบรวมได้",null,null,8,"ว 3.1","ป.4/3","สร้างแบบจำลองแสดงองค์ประกอบของระบบสุริยะและอธิบายเปรียบเทียบคาบการโคจรของดาวิเคราะห์ต่างๆจากแบบจำลอง","สร้างแบบจำลองแสดงองค์ประกอบของระบบสุริยะและอธิบายเปรียบเทียบคาบการโคจรของดาวิเคราะห์ต่างๆจากแบบจำลอง","สร้างแบบจำลองแสดงองค์ประกอบของระบบสุริยะและอธิบายเปรียบเทียบคาบการโคจรของดาวิเคราะห์ต่างๆจากแบบจำลอง","สร้างแบบจำลองแสดงองค์ประกอบของระบบสุริยะและอธิบายเปรียบเทียบคาบการโคจรของดาวิเคราะห์ต่างๆจากแบบจำลอง","สร้างแบบจำลองแสดงองค์ประกอบของระบบสุริยะและอธิบายเปรียบเทียบคาบการโคจรของดาวิเคราะห์ต่างๆจากแบบจำลอง",null,null,18,"ว 3.2","ป.5/5","เปรียบเทียบกระบวนการเกิดฝน หิมะ และลูกเห็บ จากข้อมูลที่รวบรวมได้","เปรียบเทียบกระบวนการเกิดฝน หิมะ และลูกเห็บ จากข้อมูลที่รวบรวมได้","เปรียบเทียบกระบวนการเกิดฝน หิมะ และลูกเห็บ จากข้อมูลที่รวบรวมได้","เปรียบเทียบกระบวนการเกิดฝน หิมะ และลูกเห็บ จากข้อมูลที่รวบรวมได้","เปรียบเทียบกระบวนการเกิดฝน หิมะ และลูกเห็บ จากข้อมูลที่รวบรวมได้",null,null,5,"ว 2.3","ป.6/4",".ตระหนักถึงประโยชน์ของความรู้ของการต่อเซลล์ไฟฟ้าแบบอนุกรมโดยบอกประโยชน์และการประยุกต์ใช้ในชีวิตประจำวัน",".ตระหนักถึงประโยชน์ของความรู้ของการต่อเซลล์ไฟฟ้าแบบอนุกรมโดยบอกประโยชน์และการประยุกต์ใช้ในชีวิตประจำวัน",".ตระหนักถึงประโยชน์ของความรู้ของการต่อเซลล์ไฟฟ้าแบบอนุกรมโดยบอกประโยชน์และการประยุกต์ใช้ในชีวิตประจำวัน",".ตระหนักถึงประโยชน์ของความรู้ของการต่อเซลล์ไฟฟ้าแบบอนุกรมโดยบอกประโยชน์และการประยุกต์ใช้ในชีวิตประจำวัน",".ตระหนักถึงประโยชน์ของความรู้ของการต่อเซลล์ไฟฟ้าแบบอนุกรมโดยบอกประโยชน์และการประยุกต์ใช้ในชีวิตประจำวัน"]
[null,null,null,null,null,null,null,null,null,null,null,null,null,null,null,null,null,null,null,null,null,6,"ว 2.3","ป.3/3","ตระหนักในประโยชน์และโทษของไฟฟ้า  โดยนำเสนอวิธีการใช้ไฟฟ้าอย่างประหยัดและปลอดภัย","ตระหนักในประโยชน์และโทษของไฟฟ้า  โดยนำเสนอวิธีการใช้ไฟฟ้าอย่างประหยัดและปลอดภัย","ตระหนักในประโยชน์และโทษของไฟฟ้า  โดยนำเสนอวิธีการใช้ไฟฟ้าอย่างประหยัดและปลอดภัย","ตระหนักในประโยชน์และโทษของไฟฟ้า  โดยนำเสนอวิธีการใช้ไฟฟ้าอย่างประหยัดและปลอดภัย","ตระหนักในประโยชน์และโทษของไฟฟ้า  โดยนำเสนอวิธีการใช้ไฟฟ้าอย่างประหยัดและปลอดภัย",null,null,9,"ว 4.2","ป.4/1","ใช้เหตุผลเชิงตรรกะในการแก้ปัญหาการอธิบายการทำงาน การคาดการณ์ผลลัพธ์จากปัญหาอย่างง่าย","ใช้เหตุผลเชิงตรรกะในการแก้ปัญหาการอธิบายการทำงาน การคาดการณ์ผลลัพธ์จากปัญหาอย่างง่าย","ใช้เหตุผลเชิงตรรกะในการแก้ปัญหาการอธิบายการทำงาน การคาดการณ์ผลลัพธ์จากปัญหาอย่างง่าย","ใช้เหตุผลเชิงตรรกะในการแก้ปัญหาการอธิบายการทำงาน การคาดการณ์ผลลัพธ์จากปัญหาอย่างง่าย","ใช้เหตุผลเชิงตรรกะในการแก้ปัญหาการอธิบายการทำงาน การคาดการณ์ผลลัพธ์จากปัญหาอย่างง่าย",null,null,19,"ว 4.2","ป.5/2","ออกแบบและเขียนโปรแกรมที่มีการใช้เหตุผลเชิงตรรกะอย่างง่าย ตรวจหาข้อผิดพลาดและแก้ไข\n",null,null,null,null,null,null,6,"ว 2.3","ป.6/6","ตระหนักถึงประโยชน์ของความรู้ของการต่อหลอดไฟฟ้าแบบอนุกรมและแบบขนานโดยบอกประโยชน์ ข้อจำกัดและการประยุกต์ใช้ในชีวิตประจำวัน","ตระหนักถึงประโยชน์ของความรู้ของการต่อหลอดไฟฟ้าแบบอนุกรมและแบบขนานโดยบอกประโยชน์ ข้อจำกัดและการประยุกต์ใช้ในชีวิตประจำวัน","ตระหนักถึงประโยชน์ของความรู้ของการต่อหลอดไฟฟ้าแบบอนุกรมและแบบขนานโดยบอกประโยชน์ ข้อจำกัดและการประยุกต์ใช้ในชีวิตประจำวัน","ตระหนักถึงประโยชน์ของความรู้ของการต่อหลอดไฟฟ้าแบบอนุกรมและแบบขนานโดยบอกประโยชน์ ข้อจำกัดและการประยุกต์ใช้ในชีวิตประจำวัน","ตระหนักถึงประโยชน์ของความรู้ของการต่อหลอดไฟฟ้าแบบอนุกรมและแบบขนานโดยบอกประโยชน์ ข้อจำกัดและการประยุกต์ใช้ในชีวิตประจำวัน"]
[null,null,null,null,null,null,null,null,null,null,null,null,null,null,null,null,null,null,null,null,null,7,"ว 3.1","ป.3/2","อธิบายสาเหตุการเกิดปรากฏการณ์การขึ้นและตกของดวงอาทิตย์ การเกิดกลางวันกลางคนืและการกำหนดทิศโดยใช้แบบจำลอง","อธิบายสาเหตุการเกิดปรากฏการณ์การขึ้นและตกของดวงอาทิตย์ การเกิดกลางวันกลางคนืและการกำหนดทิศโดยใช้แบบจำลอง","อธิบายสาเหตุการเกิดปรากฏการณ์การขึ้นและตกของดวงอาทิตย์ การเกิดกลางวันกลางคนืและการกำหนดทิศโดยใช้แบบจำลอง","อธิบายสาเหตุการเกิดปรากฏการณ์การขึ้นและตกของดวงอาทิตย์ การเกิดกลางวันกลางคนืและการกำหนดทิศโดยใช้แบบจำลอง","อธิบายสาเหตุการเกิดปรากฏการณ์การขึ้นและตกของดวงอาทิตย์ การเกิดกลางวันกลางคนืและการกำหนดทิศโดยใช้แบบจำลอง",null,null,10,"ว 4.2","ป.4/3","ใช้อินเทอร์เน็ตค้นหาความรู้และประเมินความน่าเชื่อถือของข้อมูล","ใช้อินเทอร์เน็ตค้นหาความรู้และประเมินความน่าเชื่อถือของข้อมูล","ใช้อินเทอร์เน็ตค้นหาความรู้และประเมินความน่าเชื่อถือของข้อมูล","ใช้อินเทอร์เน็ตค้นหาความรู้และประเมินความน่าเชื่อถือของข้อมูล","ใช้อินเทอร์เน็ตค้นหาความรู้และประเมินความน่าเชื่อถือของข้อมูล",null,null,"ตัวชี้วัดปลายทาง",null,null,null,null,null,null,null,null,null,7,"ว 2.3","ป.6/7","อธิบายการเกิดเงามดืเงามัวจากหลักฐานเชิงประจักษ์","อธิบายการเกิดเงามดืเงามัวจากหลักฐานเชิงประจักษ์","อธิบายการเกิดเงามดืเงามัวจากหลักฐานเชิงประจักษ์","อธิบายการเกิดเงามดืเงามัวจากหลักฐานเชิงประจักษ์","อธิบายการเกิดเงามดืเงามัวจากหลักฐานเชิงประจักษ์"]
[null,null,null,null,null,null,null,null,null,null,null,null,null,null,null,null,null,null,null,null,null,8,"ว 3.2","ป.3/2","ตระหนักถึงความสำคัญของอากาศนำเสนอแนวทางการปฏิบัติตนในการลดการเกิดมลพิษทางอากาศ","ตระหนักถึงความสำคัญของอากาศนำเสนอแนวทางการปฏิบัติตนในการลดการเกิดมลพิษทางอากาศ","ตระหนักถึงความสำคัญของอากาศนำเสนอแนวทางการปฏิบัติตนในการลดการเกิดมลพิษทางอากาศ","ตระหนักถึงความสำคัญของอากาศนำเสนอแนวทางการปฏิบัติตนในการลดการเกิดมลพิษทางอากาศ","ตระหนักถึงความสำคัญของอากาศนำเสนอแนวทางการปฏิบัติตนในการลดการเกิดมลพิษทางอากาศ",null,null,11,"ว 4.2","ป.4/4","รวบรวมประเมินนำเสนอข้อมูลและสารสนเทศโดยใช้ซอฟต์แวร์ที่หลากหลายเพื่อแก้ปัญหาในชีวิตประจำวัน","รวบรวมประเมินนำเสนอข้อมูลและสารสนเทศโดยใช้ซอฟต์แวร์ที่หลากหลายเพื่อแก้ปัญหาในชีวิตประจำวัน","รวบรวมประเมินนำเสนอข้อมูลและสารสนเทศโดยใช้ซอฟต์แวร์ที่หลากหลายเพื่อแก้ปัญหาในชีวิตประจำวัน","รวบรวมประเมินนำเสนอข้อมูลและสารสนเทศโดยใช้ซอฟต์แวร์ที่หลากหลายเพื่อแก้ปัญหาในชีวิตประจำวัน","รวบรวมประเมินนำเสนอข้อมูลและสารสนเทศโดยใช้ซอฟต์แวร์ที่หลากหลายเพื่อแก้ปัญหาในชีวิตประจำวัน",null,null,1,"ว 1.1","ป.5/2","อธิบายความสัมพันธ์ระหว่างสิ่งมีชีวิตกับสิ่งมีชีวิต และความสัมพันธ์ระหว่างสิ่งมีชีวิตกับสิ่งไม่มีชีวิต เพื่อประโยชน์ต่อการดำรงชีวิต","อธิบายความสัมพันธ์ระหว่างสิ่งมีชีวิตกับสิ่งมีชีวิต และความสัมพันธ์ระหว่างสิ่งมีชีวิตกับสิ่งไม่มีชีวิต เพื่อประโยชน์ต่อการดำรงชีวิต","อธิบายความสัมพันธ์ระหว่างสิ่งมีชีวิตกับสิ่งมีชีวิต และความสัมพันธ์ระหว่างสิ่งมีชีวิตกับสิ่งไม่มีชีวิต เพื่อประโยชน์ต่อการดำรงชีวิต","อธิบายความสัมพันธ์ระหว่างสิ่งมีชีวิตกับสิ่งมีชีวิต และความสัมพันธ์ระหว่างสิ่งมีชีวิตกับสิ่งไม่มีชีวิต เพื่อประโยชน์ต่อการดำรงชีวิต","อธิบายความสัมพันธ์ระหว่างสิ่งมีชีวิตกับสิ่งมีชีวิต และความสัมพันธ์ระหว่างสิ่งมีชีวิตกับสิ่งไม่มีชีวิต เพื่อประโยชน์ต่อการดำรงชีวิต",null,null,8,"ว 3.1","ป.6/1","สร้างแบบจำลองที่อธิบายการเกิดและเปรียบเทียบปรากฏการณ์สุริยุปราคาและจันทรุปราคา","สร้างแบบจำลองที่อธิบายการเกิดและเปรียบเทียบปรากฏการณ์สุริยุปราคาและจันทรุปราคา","สร้างแบบจำลองที่อธิบายการเกิดและเปรียบเทียบปรากฏการณ์สุริยุปราคาและจันทรุปราคา","สร้างแบบจำลองที่อธิบายการเกิดและเปรียบเทียบปรากฏการณ์สุริยุปราคาและจันทรุปราคา","สร้างแบบจำลองที่อธิบายการเกิดและเปรียบเทียบปรากฏการณ์สุริยุปราคาและจันทรุปราคา"]
[null,null,null,null,null,null,null,null,null,null,null,null,null,null,null,null,null,null,null,null,null,9,"ว 3.2","ป.3/3","อธิบายการเกิดลมจากหลักฐานเชิงประจักษ์","อธิบายการเกิดลมจากหลักฐานเชิงประจักษ์","อธิบายการเกิดลมจากหลักฐานเชิงประจักษ์","อธิบายการเกิดลมจากหลักฐานเชิงประจักษ์","อธิบายการเกิดลมจากหลักฐานเชิงประจักษ์",null,null,12,"ว 4.2","ป.4/5","ใช้เทคโนโลยีสารสนเทศอย่างปลอดภัยเข้าใจสิทธิและหน้าที่ของตนเคารพในสิทธิของผู้อื่นแจ้งผู้เกี่ยวข้องเมื่อพบข้อมูลหรือบุคคลที่ไม่เหมาะสม","ใช้เทคโนโลยีสารสนเทศอย่างปลอดภัยเข้าใจสิทธิและหน้าที่ของตนเคารพในสิทธิของผู้อื่นแจ้งผู้เกี่ยวข้องเมื่อพบข้อมูลหรือบุคคลที่ไม่เหมาะสม","ใช้เทคโนโลยีสารสนเทศอย่างปลอดภัยเข้าใจสิทธิและหน้าที่ของตนเคารพในสิทธิของผู้อื่นแจ้งผู้เกี่ยวข้องเมื่อพบข้อมูลหรือบุคคลที่ไม่เหมาะสม","ใช้เทคโนโลยีสารสนเทศอย่างปลอดภัยเข้าใจสิทธิและหน้าที่ของตนเคารพในสิทธิของผู้อื่นแจ้งผู้เกี่ยวข้องเมื่อพบข้อมูลหรือบุคคลที่ไม่เหมาะสม","ใช้เทคโนโลยีสารสนเทศอย่างปลอดภัยเข้าใจสิทธิและหน้าที่ของตนเคารพในสิทธิของผู้อื่นแจ้งผู้เกี่ยวข้องเมื่อพบข้อมูลหรือบุคคลที่ไม่เหมาะสม",null,null,2,"ว 1.1","ป.5/4","ตระหนักในคุณค่าของสิ่งแวดล้อมที่มีต่อการดำรงชีวิตของสิ่งมีชีวิต โดยมีส่วนร่วมในการดูแลรักษาสิ่งแวดล้อม","ตระหนักในคุณค่าของสิ่งแวดล้อมที่มีต่อการดำรงชีวิตของสิ่งมีชีวิต โดยมีส่วนร่วมในการดูแลรักษาสิ่งแวดล้อม","ตระหนักในคุณค่าของสิ่งแวดล้อมที่มีต่อการดำรงชีวิตของสิ่งมีชีวิต โดยมีส่วนร่วมในการดูแลรักษาสิ่งแวดล้อม","ตระหนักในคุณค่าของสิ่งแวดล้อมที่มีต่อการดำรงชีวิตของสิ่งมีชีวิต โดยมีส่วนร่วมในการดูแลรักษาสิ่งแวดล้อม","ตระหนักในคุณค่าของสิ่งแวดล้อมที่มีต่อการดำรงชีวิตของสิ่งมีชีวิต โดยมีส่วนร่วมในการดูแลรักษาสิ่งแวดล้อม",null,null,9,"ว 3.1","ป.6/2","อธิบายพัฒนาการของเทคโนโลยีอวกาศ และยกตัวอย่างการนำเทคโนโลยีอีวกาศมาใช้ประโยชน์  ในชีวิตประจำวันจากข้อมูลที่รวบรวมได้","อธิบายพัฒนาการของเทคโนโลยีอวกาศ และยกตัวอย่างการนำเทคโนโลยีอีวกาศมาใช้ประโยชน์  ในชีวิตประจำวันจากข้อมูลที่รวบรวมได้","อธิบายพัฒนาการของเทคโนโลยีอวกาศ และยกตัวอย่างการนำเทคโนโลยีอีวกาศมาใช้ประโยชน์  ในชีวิตประจำวันจากข้อมูลที่รวบรวมได้","อธิบายพัฒนาการของเทคโนโลยีอวกาศ และยกตัวอย่างการนำเทคโนโลยีอีวกาศมาใช้ประโยชน์  ในชีวิตประจำวันจากข้อมูลที่รวบรวมได้","อธิบายพัฒนาการของเทคโนโลยีอวกาศ และยกตัวอย่างการนำเทคโนโลยีอีวกาศมาใช้ประโยชน์  ในชีวิตประจำวันจากข้อมูลที่รวบรวมได้"]
[null,null,null,null,null,null,null,null,null,null,null,null,null,null,null,null,null,null,null,null,null,10,"ว 4.2","ป.3/1","แสดงอัลกอรทิมึในการทำงานหรือการแก้ปัญหาอย่างง่ายโดยใช้ภาพสัญลักษณ์หรือข้อความ","แสดงอัลกอรทิมึในการทำงานหรือการแก้ปัญหาอย่างง่ายโดยใช้ภาพสัญลักษณ์หรือข้อความ","แสดงอัลกอรทิมึในการทำงานหรือการแก้ปัญหาอย่างง่ายโดยใช้ภาพสัญลักษณ์หรือข้อความ","แสดงอัลกอรทิมึในการทำงานหรือการแก้ปัญหาอย่างง่ายโดยใช้ภาพสัญลักษณ์หรือข้อความ","แสดงอัลกอรทิมึในการทำงานหรือการแก้ปัญหาอย่างง่ายโดยใช้ภาพสัญลักษณ์หรือข้อความ",null,null,null,null,null,null,null,null,null,null,null,null,3,"ว 1.3","ป.5/1","อธิบายลักษณะทางพันธุกรรมที่มีการถ่ายทอดจากพ่อแม่สู่ลูกของพืช สัตว์ และมนุษย์","อธิบายลักษณะทางพันธุกรรมที่มีการถ่ายทอดจากพ่อแม่สู่ลูกของพืช สัตว์ และมนุษย์","อธิบายลักษณะทางพันธุกรรมที่มีการถ่ายทอดจากพ่อแม่สู่ลูกของพืช สัตว์ และมนุษย์","อธิบายลักษณะทางพันธุกรรมที่มีการถ่ายทอดจากพ่อแม่สู่ลูกของพืช สัตว์ และมนุษย์","อธิบายลักษณะทางพันธุกรรมที่มีการถ่ายทอดจากพ่อแม่สู่ลูกของพืช สัตว์ และมนุษย์",null,null,10,"ว 3.2","ป.6/1","เปรียบเทียบกระบวนการเกิดหินอัคนีหินตะกอนและหินแปรและอธิบายวัฏจักรหิน จากแบบจำลอง","เปรียบเทียบกระบวนการเกิดหินอัคนีหินตะกอนและหินแปรและอธิบายวัฏจักรหิน จากแบบจำลอง","เปรียบเทียบกระบวนการเกิดหินอัคนีหินตะกอนและหินแปรและอธิบายวัฏจักรหิน จากแบบจำลอง","เปรียบเทียบกระบวนการเกิดหินอัคนีหินตะกอนและหินแปรและอธิบายวัฏจักรหิน จากแบบจำลอง","เปรียบเทียบกระบวนการเกิดหินอัคนีหินตะกอนและหินแปรและอธิบายวัฏจักรหิน จากแบบจำลอง"]
[null,null,null,null,null,null,null,null,null,null,null,null,null,null,null,null,null,null,null,null,null,11,"ว 4.2","ป.3/3","ใช้อินเทอร์เน็ตค้นหาความรู้","ใช้ินเทอร์เน็ตค้นหาความรู้","ใช้ินเทอร์เน็ตค้นหาความรู้","ใช้ินเทอร์เน็ตค้นหาความรู้","ใช้ินเทอร์เน็ตค้นหาความรู้",null,null,null,null,null,null,null,null,null,null,null,null,4,"ว 2.1","ป.5/4","วิเคราะห์และระบุการเปลี่ยนแปลงที่ผันกลับได้และการเปลี่ยนแปลงที่ผันกลับไม่ได้","วิเคราะห์และระบุการเปลี่ยนแปลงที่ผันกลับได้และการเปลี่ยนแปลงที่ผันกลับไม่ได้","วิเคราะห์และระบุการเปลี่ยนแปลงที่ผันกลับได้และการเปลี่ยนแปลงที่ผันกลับไม่ได้","วิเคราะห์และระบุการเปลี่ยนแปลงที่ผันกลับได้และการเปลี่ยนแปลงที่ผันกลับไม่ได้","วิเคราะห์และระบุการเปลี่ยนแปลงที่ผันกลับได้และการเปลี่ยนแปลงที่ผันกลับไม่ได้",null,null,11,"ว 3.2","ป.6/3","สร้างแบบจำลองที่อธิบายการเกิดซากดึกดำบรรพ์  และคาดคะเนสภาพแวดล้อมในอดีตของ ซากดึกดำบรรพ์","สร้างแบบจำลองที่อธิบายการเกิดซากดึกดำบรรพ์  และคาดคะเนสภาพแวดล้อมในอดีตของ ซากดึกดำบรรพ์","สร้างแบบจำลองที่อธิบายการเกิดซากดึกดำบรรพ์  และคาดคะเนสภาพแวดล้อมในอดีตของ ซากดึกดำบรรพ์","สร้างแบบจำลองที่อธิบายการเกิดซากดึกดำบรรพ์  และคาดคะเนสภาพแวดล้อมในอดีตของ ซากดึกดำบรรพ์","สร้างแบบจำลองที่อธิบายการเกิดซากดึกดำบรรพ์  และคาดคะเนสภาพแวดล้อมในอดีตของ ซากดึกดำบรรพ์"]
[null,null,null,null,null,null,null,null,null,null,null,null,null,null,null,null,null,null,null,null,null,12,"ว 4.2","ป.3/4","รวบรวมประมวลผลและนำเสนอข้อมูลโดยใช้ตามซอฟต์แวร์วัตถุประสงค์","รวบรวมประมวลผลและนำเสนอข้อมูลโดยใช้ตามซอฟต์แวร์วัตถุประสงค์","รวบรวมประมวลผลและนำเสนอข้อมูลโดยใช้ตามซอฟต์แวร์วัตถุประสงค์","รวบรวมประมวลผลและนำเสนอข้อมูลโดยใช้ตามซอฟต์แวร์วัตถุประสงค์","รวบรวมประมวลผลและนำเสนอข้อมูลโดยใช้ตามซอฟต์แวร์วัตถุประสงค์",null,null,null,null,null,null,null,null,null,null,null,null,5,"ว 2.2","ป.5/4","ระบุผลของแรงเสียดทานที่มีต่อการเปลี่ยนแปลงการเคลื่อนที่ของวัตถุจากหลักฐานเชิงประจักษ์","ระบุผลของแรงเสียดทานที่มีต่อการเปลี่ยนแปลงการเคลื่อนที่ของวัตถุจากหลักฐานเชิงประจักษ์","ระบุผลของแรงเสียดทานที่มีต่อการเปลี่ยนแปลงการเคลื่อนที่ของวัตถุจากหลักฐานเชิงประจักษ์","ระบุผลของแรงเสียดทานที่มีต่อการเปลี่ยนแปลงการเคลื่อนที่ของวัตถุจากหลักฐานเชิงประจักษ์","ระบุผลของแรงเสียดทานที่มีต่อการเปลี่ยนแปลงการเคลื่อนที่ของวัตถุจากหลักฐานเชิงประจักษ์",null,null,12,"ว 3.2","ป.6/4","เปรียบเทียบการเกิดลมบก  ลมทะเลและมรสุมรวมทั้งอธิบายผลที่มีต่อสิ่งมีชีวิตและสิ่งแวดล้อมจากแบบจำลอง","เปรียบเทียบการเกิดลมบก  ลมทะเลและมรสุมรวมทั้งอธิบายผลที่มีต่อสิ่งมีชีวิตและสิ่งแวดล้อมจากแบบจำลอง","เปรียบเทียบการเกิดลมบก  ลมทะเลและมรสุมรวมทั้งอธิบายผลที่มีต่อสิ่งมีชีวิตและสิ่งแวดล้อมจากแบบจำลอง","เปรียบเทียบการเกิดลมบก  ลมทะเลและมรสุมรวมทั้งอธิบายผลที่มีต่อสิ่งมีชีวิตและสิ่งแวดล้อมจากแบบจำลอง","เปรียบเทียบการเกิดลมบก  ลมทะเลและมรสุมรวมทั้งอธิบายผลที่มีต่อสิ่งมีชีวิตและสิ่งแวดล้อมจากแบบจำลอง"]
[null,null,null,null,null,null,null,null,null,null,null,null,null,null,null,null,null,null,null,null,null,13,"ว 4.2","ป.3/5","ใช้เทคโนโลยีสารสนเทศอย่างปลอดภัยปฏิบัติตามข้อตกลงในการใช้อินเทอร์เน็ต","ใช้เทคโนโลยีสารสนเทศอย่างปลอดภัยปฏิบัติตามข้อตกลงในการใช้ินเทอร์เน็ต","ใช้เทคโนโลยีสารสนเทศอย่างปลอดภัยปฏิบัติตามข้อตกลงในการใช้ินเทอร์เน็ต","ใช้เทคโนโลยีสารสนเทศอย่างปลอดภัยปฏิบัติตามข้อตกลงในการใช้ินเทอร์เน็ต","ใช้เทคโนโลยีสารสนเทศอย่างปลอดภัยปฏิบัติตามข้อตกลงในการใช้ินเทอร์เน็ต",null,null,null,null,null,null,null,null,null,null,null,null,6,"ว 2.3","ป.5/5","ตระหนักในคุณค่าของความรู้เรื่องระดับเสียงโดยเสนอแนะแนวทางในการหลีกเลี่ยงและลดมลพิษทางเสียง","ตระหนักในคุณค่าของความรู้เรื่องระดับเสียงโดยเสนอแนะแนวทางในการหลีกเลี่ยงและลดมลพิษทางเสียง","ตระหนักในคุณค่าของความรู้เรื่องระดับเสียงโดยเสนอแนะแนวทางในการหลีกเลี่ยงและลดมลพิษทางเสียง","ตระหนักในคุณค่าของความรู้เรื่องระดับเสียงโดยเสนอแนะแนวทางในการหลีกเลี่ยงและลดมลพิษทางเสียง","ตระหนักในคุณค่าของความรู้เรื่องระดับเสียงโดยเสนอแนะแนวทางในการหลีกเลี่ยงและลดมลพิษทางเสียง",null,null,13,"ว 3.2","ป.6/5","อธิบายผลของมรสมุต่อการเกิดฤดูของประเทศไทยจากข้อมูลที่รวบรวมได้","อธิบายผลของมรสมุต่อการเกิดฤดูของประเทศไทยจากข้อมูลที่รวบรวมได้","อธิบายผลของมรสมุต่อการเกิดฤดูของประเทศไทยจากข้อมูลที่รวบรวมได้","อธิบายผลของมรสมุต่อการเกิดฤดูของประเทศไทยจากข้อมูลที่รวบรวมได้","อธิบายผลของมรสมุต่อการเกิดฤดูของประเทศไทยจากข้อมูลที่รวบรวมได้"]
[null,null,null,null,null,null,null,null,null,null,null,null,null,null,null,null,null,null,null,null,null,null,null,null,null,null,null,null,null,null,null,null,null,null,null,null,null,null,null,null,null,7,"ว 3.1","ป.5/2","ใช้แผนที่ดาวระบุตำแหน่งและเส้นทางการขึ้นและตกของกลุ่มดาวฤกษ์บนท้องฟ้า และอธิบายแบบรูปเส้นทางการขึ้นและตกของกลุ่มดาวฤกษ์บนท้องฟ้าในรอบปี","ใช้แผนที่ดาวระบุตำแหน่งและเส้นทางการขึ้นและตกของกลุ่มดาวฤกษ์บนท้องฟ้า และอธิบายแบบรูปเส้นทางการขึ้นและตกของกลุ่มดาวฤกษ์บนท้องฟ้าในรอบปี","ใช้แผนที่ดาวระบุตำแหน่งและเส้นทางการขึ้นและตกของกลุ่มดาวฤกษ์บนท้องฟ้า และอธิบายแบบรูปเส้นทางการขึ้นและตกของกลุ่มดาวฤกษ์บนท้องฟ้าในรอบปี","ใช้แผนที่ดาวระบุตำแหน่งและเส้นทางการขึ้นและตกของกลุ่มดาวฤกษ์บนท้องฟ้า และอธิบายแบบรูปเส้นทางการขึ้นและตกของกลุ่มดาวฤกษ์บนท้องฟ้าในรอบปี","ใช้แผนที่ดาวระบุตำแหน่งและเส้นทางการขึ้นและตกของกลุ่มดาวฤกษ์บนท้องฟ้า และอธิบายแบบรูปเส้นทางการขึ้นและตกของกลุ่มดาวฤกษ์บนท้องฟ้าในรอบปี",null,null,14,"ว 3.2","ป.6/7","ตระหนักถึงผลกระทบของภัยธรรมชาติและธรณีพิบัติภัยโดยนำเสนอแนวทางในการเฝ้าระวังวังวังและปฏิบัติตนให้ปลอดภัยจากภยัธรรมชาติ และธรณีพิบัติภัยที่อาจเกิดในท้องถิ่น","ตระหนักถึงผลกระทบของภัยธรรมชาติและธรณีพิบัติภัยโดยนำเสนอแนวทางในการเฝ้าระวังวังวังและปฏิบัติตนให้ปลอดภัยจากภยัธรรมชาติ และธรณีพิบัติภัยที่อาจเกิดในท้องถิ่น","ตระหนักถึงผลกระทบของภัยธรรมชาติและธรณีพิบัติภัยโดยนำเสนอแนวทางในการเฝ้าระวังวังวังและปฏิบัติตนให้ปลอดภัยจากภยัธรรมชาติ และธรณีพิบัติภัยที่อาจเกิดในท้องถิ่น","ตระหนักถึงผลกระทบของภัยธรรมชาติและธรณีพิบัติภัยโดยนำเสนอแนวทางในการเฝ้าระวังวังวังและปฏิบัติตนให้ปลอดภัยจากภยัธรรมชาติ และธรณีพิบัติภัยที่อาจเกิดในท้องถิ่น","ตระหนักถึงผลกระทบของภัยธรรมชาติและธรณีพิบัติภัยโดยนำเสนอแนวทางในการเฝ้าระวังวังวังและปฏิบัติตนให้ปลอดภัยจากภยัธรรมชาติ และธรณีพิบัติภัยที่อาจเกิดในท้องถิ่น"]
[null,null,null,null,null,null,null,null,null,null,null,null,null,null,null,null,null,null,null,null,null,null,null,null,null,null,null,null,null,null,null,null,null,null,null,null,null,null,null,null,null,8,"ว 3.2","ป.5/2","ตระหนักถึงคุณค่าของน้ำโดยนำเสนอแนวทางการใช้น้ำอย่างประหยัดและการอนุรักษ์น้ำ","ตระหนักถึงคุณค่าของน้ำโดยนำเสนอแนวทางการใช้น้ำอย่างประหยัดและการอนุรักษ์น้ำ","ตระหนักถึงคุณค่าของน้ำโดยนำเสนอแนวทางการใช้น้ำอย่างประหยัดและการอนุรักษ์น้ำ","ตระหนักถึงคุณค่าของน้ำโดยนำเสนอแนวทางการใช้น้ำอย่างประหยัดและการอนุรักษ์น้ำ","ตระหนักถึงคุณค่าของน้ำโดยนำเสนอแนวทางการใช้น้ำอย่างประหยัดและการอนุรักษ์น้ำ",null,null,15,"ว 3.2","ป.6/9","ตระหนักถึงผลกระทบของปรากฏการณ์เรือนกระจกโดยนำเสนอแนวทางการปฏิบัติตนเพื่อลดกิจกรรมที่ก่อให้เกิดแก๊สเรือนกระจก","ตระหนักถึงผลกระทบของปรากฏการณ์เรือนกระจกโดยนำเสนอแนวทางการปฏิบัติตนเพื่อลดกิจกรรมที่ก่อให้เกิดแก๊สเรือนกระจก","ตระหนักถึงผลกระทบของปรากฏการณ์เรือนกระจกโดยนำเสนอแนวทางการปฏิบัติตนเพื่อลดกิจกรรมที่ก่อให้เกิดแก๊สเรือนกระจก","ตระหนักถึงผลกระทบของปรากฏการณ์เรือนกระจกโดยนำเสนอแนวทางการปฏิบัติตนเพื่อลดกิจกรรมที่ก่อให้เกิดแก๊สเรือนกระจก","ตระหนักถึงผลกระทบของปรากฏการณ์เรือนกระจกโดยนำเสนอแนวทางการปฏิบัติตนเพื่อลดกิจกรรมที่ก่อให้เกิดแก๊สเรือนกระจก"]
[null,null,null,null,null,null,null,null,null,null,null,null,null,null,null,null,null,null,null,null,null,null,null,null,null,null,null,null,null,null,null,null,null,null,null,null,null,null,null,null,null,9,"ว 3.2","ป.5/3","สร้างแบบจำลองที่อธิบายการหมุนเวียนของน้ำในวัฏจักรน้ำ","สร้างแบบจำลองที่อธิบายการหมุนเวียนของน้ำในวัฏจักรน้ำ","สร้างแบบจำลองที่อธิบายการหมุนเวียนของน้ำในวัฏจักรน้ำ","สร้างแบบจำลองที่อธิบายการหมุนเวียนของน้ำในวัฏจักรน้ำ","สร้างแบบจำลองที่อธิบายการหมุนเวียนของน้ำในวัฏจักรน้ำ",null,null,16,"ว 4.2","ป.6/1","ใช้เหตุผลเชิงตรรกะในการอธิบายและออกแบบการแก้ปัญหาที่พบในชีวิตประจำวัน","ใช้เหตุผลเชิงตรรกะในการอธิบายและออกแบบการแก้ปัญหาที่พบในชีวิตประจำวัน","ใช้เหตุผลเชิงตรรกะในการอธิบายและออกแบบการแก้ปัญหาที่พบในชีวิตประจำวัน","ใช้เหตุผลเชิงตรรกะในการอธิบายและออกแบบการแก้ปัญหาที่พบในชีวิตประจำวัน","ใช้เหตุผลเชิงตรรกะในการอธิบายและออกแบบการแก้ปัญหาที่พบในชีวิตประจำวัน"]
[null,null,null,null,null,null,null,null,null,null,null,null,null,null,null,null,null,null,null,null,null,null,null,null,null,null,null,null,null,null,null,null,null,null,null,null,null,null,null,null,null,10,"ว 4.2","ป.5/1","ใช้เหตุผลเชิงตรรกะในการแก้ปัญหา การอธิบายการทำงาน การคาดการณ์ผลลัพธ์จากปัญหาอย่างง่าย\n",null,null,null,null,null,null,17,"ว 4.2","ป.6/3","ใช้อินเทอร์เน็ตในการค้นหาข้อมูลอย่างมีประสิทธิภาพ","ใช้อินเทอร์เน็ตในการค้นหาข้อมูลอย่างมีประสิทธิภาพ","ใช้อินเทอร์เน็ตในการค้นหาข้อมูลอย่างมีประสิทธิภาพ","ใช้อินเทอร์เน็ตในการค้นหาข้อมูลอย่างมีประสิทธิภาพ","ใช้อินเทอร์เน็ตในการค้นหาข้อมูลอย่างมีประสิทธิภาพ"]
[null,null,null,null,null,null,null,null,null,null,null,null,null,null,null,null,null,null,null,null,null,null,null,null,null,null,null,null,null,null,null,null,null,null,null,null,null,null,null,null,null,11,"ว 4.2","ป.5/3","ใช้อินเทอร์เน็ตค้นหาข้อมูล ติดต่อสื่อสารและทำงานร่วมกัน ประเมินความน่าเชื่อถือของข้อมูล\n",null,null,null,null,null,null,18,"ว 4.2","ป.6/4","ใช้เทคโนโลยีสารสนเทศทำงานร่วมกันอย่างปลอดภัยเข้าใจสิทธิและหน้าที่ของตนเคารพในสิทธิของผู้อื่น  แจ้งผู้เกี่ยวข้องเมื่อพบข้อมูล หรือบุคคลที่ไม่เหมาะสม","ใช้เทคโนโลยีสารสนเทศทำงานร่วมกันอย่างปลอดภัยเข้าใจสิทธิและหน้าที่ของตนเคารพในสิทธิของผู้อื่น  แจ้งผู้เกี่ยวข้องเมื่อพบข้อมูล หรือบุคคลที่ไม่เหมาะสม","ใช้เทคโนโลยีสารสนเทศทำงานร่วมกันอย่างปลอดภัยเข้าใจสิทธิและหน้าที่ของตนเคารพในสิทธิของผู้อื่น  แจ้งผู้เกี่ยวข้องเมื่อพบข้อมูล หรือบุคคลที่ไม่เหมาะสม","ใช้เทคโนโลยีสารสนเทศทำงานร่วมกันอย่างปลอดภัยเข้าใจสิทธิและหน้าที่ของตนเคารพในสิทธิของผู้อื่น  แจ้งผู้เกี่ยวข้องเมื่อพบข้อมูล หรือบุคคลที่ไม่เหมาะสม","ใช้เทคโนโลยีสารสนเทศทำงานร่วมกันอย่างปลอดภัยเข้าใจสิทธิและหน้าที่ของตนเคารพในสิทธิของผู้อื่น  แจ้งผู้เกี่ยวข้องเมื่อพบข้อมูล หรือบุคคลที่ไม่เหมาะสม"]
[null,null,null,null,null,null,null,null,null,null,null,null,null,null,null,null,null,null,null,null,null,null,null,null,null,null,null,null,null,null,null,null,null,null,null,null,null,null,null,null,null,12,"ว 4.2","ป.5/4","รวบรวม ประเมิน นำเสนอข้อมูลและสารสนเทศตามวัตถุประสงค์โดยใช้ซอฟต์แวร์หรือบริการบนอินเทอร์เน็ตหลากหลาย เพื่อแก้ปัญหาในชีวิตประจำวัน\n"]
[null,null,null,null,null,null,null,null,null,null,null,null,null,null,null,null,null,null,null,null,null,null,null,null,null,null,null,null,null,null,null,null,null,null,null,null,null,null,null,null,null,13,"ว 4.2","ป.5/5","ใช้เทคโนโลยีสารสนเทศอย่างปลอดภัย มีมารยาทเข้าใจสิทธิและหน้าที่ของตน เคารพในสิทธิของผู้อื่น แจ้งผู้เกี่ยวข้องเมื่อพบข้อมูลหรือบุคคลที่ไม่เหมาะสม"]

{"sheet":"ตชว.สังคม","index":22,"n_rows":36,"n_cols":55,"rows_kept":36,"cut":false,"hidden":false,"merged":[[1,1,1,8],[1,11,1,18],[1,21,1,28],[1,31,1,38],[1,41,1,48],[1,51,1,58],[4,4,4,8],[4,14,4,18],[4,24,4,28],[4,34,4,38],[4,44,4,48],[4,54,4,58],[3,1,3,8],[3,11,3,18],[3,21,3,28],[3,31,3,38],[3,41,3,48],[3,51,3,58],[6,4,6,8],[6,14,6,18],[6,24,6,28],[6,34,6,38],[6,44,6,48],[6,54,6,58],[5,4,5,8],[5,14,5,18],[5,24,5,28],[5,34,5,38],[5,44,5,48],[5,54,5,58],[8,4,8,8],[8,14,8,18],[8,24,8,28],[8,34,8,38],[8,44,8,48],[8,54,8,58],[7,4,7,8],[7,14,7,18],[7,24,7,28],[7,34,7,38],[7,44,7,48],[7,54,7,58],[10,4,10,8],[10,24,10,28],[10,34,10,38],[10,44,10,48],[10,54,10,58],[9,4,9,8],[9,14,9,18],[9,24,9,28],[9,34,9,38],[9,44,9,48],[9,54,9,58],[10,14,10,18],[12,4,12,8],[12,14,12,18],[12,24,12,28],[12,34,12,38],[12,54,12,58],[11,4,11,8],[11,14,11,18],[11,24,11,28],[11,34,11,38],[11,44,11,48],[11,54,11,58],[12,44,12,48],[14,4,14,8],[14,14,14,18],[14,24,14,28],[14,34,14,38],[14,44,14,48],[14,54,14,58],[13,4,13,8],[13,24,13,28],[13,34,13,38],[13,44,13,48],[13,54,13,58],[13,14,13,18],[16,4,16,8],[16,14,16,18],[16,24,16,28],[16,34,16,38],[16,44,16,48],[16,54,16,58],[15,4,15,8],[15,14,15,18],[15,24,15,28],[15,34,15,38],[15,44,15,48],[15,54,15,58],[18,4,18,8],[18,14,18,18],[18,24,18,28],[18,34,18,38],[18,44,18,48],[18,54,18,58],[17,4,17,8],[17,14,17,18],[17,24,17,28],[17,34,17,38],[17,44,17,48],[17,54,17,58],[20,14,20,18],[20,24,20,28],[20,34,20,38],[20,44,20,48],[20,54,20,58],[19,4,19,8],[19,14,19,18],[19,24,19,28],[19,34,19,38],[19,44,19,48],[19,54,19,58],[20,1,20,8],[23,54,23,58],[24,31,24,38],[24,51,24,58],[22,4,22,8],[22,24,22,28],[22,34,22,38],[22,44,22,48],[22,54,22,58],[21,4,21,8],[21,14,21,18],[21,24,21,28],[21,34,21,38],[21,54,21,58],[22,11,22,18],[21,41,21,48],[24,4,24,8],[24,14,24,18],[24,24,24,28],[24,44,24,48],[23,4,23,8],[23,14,23,18],[23,24,23,28],[23,34,23,38],[23,44,23,48],[26,4,26,8],[26,24,26,28],[26,34,26,38],[26,44,26,48],[26,54,26,58],[25,4,25,8],[25,24,25,28],[25,34,25,38],[25,44,25,48],[25,54,25,58],[25,14,25,18],[26,14,26,18],[28,4,28,8],[28,14,28,18],[28,34,28,38],[28,44,28,48],[28,54,28,58],[27,4,27,8],[27,24,27,28],[27,34,27,38],[27,44,27,48],[27,54,27,58],[27,14,27,18],[28,21,28,28],[30,4,30,8],[30,14,30,18],[30,24,30,28],[30,34,30,38],[30,44,30,48],[30,54,30,58],[29,4,29,8],[29,14,29,18],[29,24,29,28],[29,34,29,38],[29,44,29,48],[29,54,29,58],[32,4,32,8],[32,14,32,18],[32,24,32,28],[32,34,32,38],[32,44,32,48],[32,54,32,58],[31,4,31,8],[31,24,31,28],[31,34,31,38],[31,44,31,48],[31,54,31,58],[31,14,31,18],[33,54,33,58],[36,4,36,8],[36,14,36,18],[36,24,36,28],[36,34,36,38],[36,44,36,48],[35,4,35,8],[35,14,35,18],[35,24,35,28],[35,34,35,38],[35,44,35,48],[34,4,34,8],[34,14,34,18],[34,24,34,28],[34,34,34,38],[34,44,34,48],[33,4,33,8],[33,14,33,18],[33,24,33,28],[33,34,33,38],[33,44,33,48],[34,54,34,58],[35,54,35,58],[38,4,38,8],[38,14,38,18],[38,24,38,28],[38,34,38,38],[38,44,38,48],[37,4,37,8],[37,14,37,18],[37,24,37,28],[37,34,37,38],[37,44,37,48],[40,4,40,8],[40,14,40,18],[40,24,40,28],[40,34,40,38],[40,44,40,48],[39,4,39,8],[39,14,39,18],[39,24,39,28],[39,34,39,38],[39,44,39,48],[42,4,42,8],[42,14,42,18],[42,24,42,28],[42,34,42,38],[42,44,42,48],[42,54,42,58],[41,4,41,8],[41,14,41,18],[41,24,41,28],[41,34,41,38],[41,44,41,48],[41,54,41,58]]}
["สังคมศึกษา ศาสนา และวัฒนธรรม"]
[null,{"$f":"\"ตัวชี้วัดรายวิชา\"&ตชว.สังคม!$A$1&\"  ชั้น ป.1\"","v":"ตัวชี้วัดรายวิชาสังคมศึกษา ศาสนา และวัฒนธรรม  ชั้น ป.1"},null,null,null,null,null,null,null,null,null,{"$f":"\"ตัวชี้วัดรายวิชา\"&ตชว.สังคม!$A$1&\"  ชั้น ป.2\"","v":"ตัวชี้วัดรายวิชาสังคมศึกษา ศาสนา และวัฒนธรรม  ชั้น ป.2"},null,null,null,null,null,null,null,null,null,{"$f":"\"ตัวชี้วัดรายวิชา\"&ตชว.สังคม!$A$1&\"  ชั้น ป.3\"","v":"ตัวชี้วัดรายวิชาสังคมศึกษา ศาสนา และวัฒนธรรม  ชั้น ป.3"},null,null,null,null,null,null,null,null,null,{"$f":"\"ตัวชี้วัดรายวิชา\"&ตชว.สังคม!$A$1&\"  ชั้น ป.4\"","v":"ตัวชี้วัดรายวิชาสังคมศึกษา ศาสนา และวัฒนธรรม  ชั้น ป.4"},null,null,null,null,null,null,null,null,null,{"$f":"\"ตัวชี้วัดรายวิชา\"&ตชว.สังคม!$A$1&\"  ชั้น ป.5\"","v":"ตัวชี้วัดรายวิชาสังคมศึกษา ศาสนา และวัฒนธรรม  ชั้น ป.5"},null,null,null,null,null,null,null,null,null,{"$f":"\"ตัวชี้วัดรายวิชา\"&ตชว.สังคม!$A$1&\"  ชั้น ป.6\"","v":"ตัวชี้วัดรายวิชาสังคมศึกษา ศาสนา และวัฒนธรรม  ชั้น ป.6"}]
[null,"ข้อที่","มาตรฐาน","ชั้น/ข้อ","เรื่อง",null,null,null,null,null,null,"ข้อที่","มาตรฐาน","ชั้น/ข้อ","เรื่อง",null,null,null,null,null,null,"ข้อที่","มาตรฐาน","ชั้น/ข้อ","เรื่อง",null,null,null,null,null,null,"ข้อที่","มาตรฐาน","ชั้น/ข้อ","เรื่อง",null,null,null,null,null,null,"ข้อที่","มาตรฐาน","ชั้น/ข้อ","เรื่อง",null,null,null,null,null,null,"ข้อที่","มาตรฐาน","ชั้น/ข้อ","เรื่อง"]
[null,"ตัวชี้วัดระหว่างทาง",null,null,null,null,null,null,null,null,null,"ตัวชี้วัดระหว่างทาง",null,null,null,null,null,null,null,null,null,"ตัวชี้วัดระหว่างทาง",null,null,null,null,null,null,null,null,null,"ตัวชี้วัดระหว่างทาง",null,null,null,null,null,null,null,null,null,"ตัวชี้วัดระหว่างทาง",null,null,null,null,null,null,null,null,null,"ตัวชี้วัดระหว่างทาง"]
[null,1,"ส 1.1","ป.1/1","บอกพุทธประวัติ หรือประวัติของศาสดาที่ตนนับถือโดยสังเขป",null,null,null,null,null,null,1,"ส 1.1","ป.2/1","บอกความสำคัญของพระพุทธศาสนาหรือศาสนาที่ตนนับถือ",null,null,null,null,null,null,1,"ส 1.1","ป.3/1","อธิบายความสำคัญของพระ พุทธศาสนาหรือศาสนาที่ตนนับถือ ในฐานะที่เป็นรากฐานสำคัญของวัฒนธรรมไทย\n",null,null,null,null,null,null,1,"ส 1.1","ป.4/1","อธิบายความสำคัญของพระพุทธศาสนา  หรือศาสนาที่ตนนับถือ ในฐานะเป็นศูนย์รวมจิตใจของศาสนิกชน\n\n",null,null,null,null,null,null,1,"ส 1.1","ป.5/1"," ที่กำหนดวิเคราะห์ความสำคัญของพระพุทธศาสนาหรือศาสนาที่ตนนับถือ ในฐานะที่เป็นมรดกทางวัฒนธรรมและหลักในการพัฒนาชาติไทย\n",null,null,null,null,null,null,1,"ส 1.1","ป.6/1","วิเคราะห์ความสำคัญของพระพุทธศาสนาในฐานะเป็นศาสนาประจำชาติหรือความสำคัญของศาสนาที่ตนนับถือ\n"]
[null,2,"ส 1.1","ป.1/2","ชื่นชมและบอกแบบ อย่างการดำเนินชีวิตและข้อคิดจากประวัติสาวก ชาดก/เรื่องเล่าและศาสนิกชนตัวอย่างตามที่กำหนด\n",null,null,null,null,null,null,2,"ส 1.1","ป.2/2","สรุปพุทธประวัติตั้งแต่ประสูติจนถึงการออกผนวชหรือประวัติศาสดาที่ตนนับถือตามที่กำหนด\n",null,null,null,null,null,null,2,"ส 1.1","ป.3/3","ชื่นชมและบอกแบบอย่างการดำเนินชีวิตและข้อคิดจากประวัติสาวก ชาดก/เรื่องเล่าและศาสนิกชนตัวอย่าง ตามที่กำหนด\n\n",null,null,null,null,null,null,2,"ส 1.1","ป.4/2","สรุปพุทธประวัติตั้งแต่บรรลุธรรมจนถึงประกาศธรรม  หรือประวัติศาสดาที่ตนนับถือตามที่กำหนด\n\n",null,null,null,null,null,null,2,"ส 1.1","ป.5/2","สรุปพุทธประวัติตั้งแต่เสด็จกรุงกบิลพัสดุ์จนถึงพุทธกิจสำคัญ  หรือประวัติศาสดาที่ตนนับถือตามที่กำหนด\n",null,null,null,null,null,null,2,"ส 1.1","ป.6/2","สรุปพุทธประวัติตั้งแต่ปลงอายุสังขารจนถึงสังเวชนียสถาน หรือประวัติศาสดาที่ตนนับถือตามที่กำหนด\n"]
[null,3,"ส 1.1","ป.1/4","เห็นคุณค่าและสวดมนต์ แผ่เมตตามีสติที่เป็นพื้นฐานของสมาธิในพระพุทธศาสนา หรือการพัฒนาจิตตามแนวทางของศาสนาที่ตนนับถือตามที่กำหนด\n",null,null,null,null,null,null,3,"ส 1.1","ป.2/3","ชื่นชมและบอกแบบอย่างการดำเนินชีวิตและข้อคิดจากประวัติสาวก ชาดก/เรื่องเล่าและศาสนิกชนตัวอย่างตามที่กำหนด\n",null,null,null,null,null,null,3,"ส 1.1","ป.3/4","บอกความหมาย ความสำคัญของพระไตรปิฎก หรือคัมภีร์ของศาสนาที่ตนนับถือ\n",null,null,null,null,null,null,3,"ส 1.1","ป.4/3","เห็นคุณค่าและปฏิบัติตนตามแบบอย่างการดำเนินชีวิตและข้อคิดจากประวัติสาวกชาดก/เรื่องเล่าและศาสนิกชนตัวอย่าง ตามที่กำหนด\n",null,null,null,null,null,null,3,"ส 1.1","ป.5/3","เห็นคุณค่าและประพฤติตนตามแบบอย่างการดำเนินชีวิตและข้อคิดจากประวัติสาวก ชาดก/เรื่องเล่าและศาสนิกชนตัวอย่าง ตามที่กำหนด\n",null,null,null,null,null,null,3,"ส 1.1","ป.6/3","เห็นคุณค่าและประพฤติตนตามแบบอย่างการดำเนินชีวิตและข้อคิดจากประวัติสาวกชาดก/เรื่องเล่าและศาสนิกชนตัวอย่างตามที่กำหนด\n"]
[null,4,"ส 1.2","ป.1/1","บำเพ็ญประโยชน์ต่อวัด หรือศาสนสถานของศาสนาที่ตนนับถือ",null,null,null,null,null,null,4,"ส 1.1","ป.2/6","เห็นคุณค่าและสวดมนต์ แผ่เมตตามีสติที่เป็นพื้นฐานของสมาธิในพระพุทธ-ศาสนา หรือการพัฒนาจิตตามแนวทางของศาสนาที่ตนนับถือตามที่กำหนด\n",null,null,null,null,null,null,4,"ส 1.1","ป.3/6","เห็นคุณค่าและสวดมนต์ แผ่เมตตามีสติที่เป็นพื้นฐานของสมาธิในพระพุทธศาสนาหรือการพัฒนาจิตตามแนวทางของศาสนาที่ตนนับถือตามที่กำหนด\n",null,null,null,null,null,null,4,"ส 1.1","ป.4/6","เห็นคุณค่าและสวดมนต์ แผ่เมตตามีสติที่เป็นพื้นฐานของสมาธิในพระพุทธศาสนาหรือการพัฒนาจิตตามแนวทางของศาสนาที่ตนนับถือตามที่กำหนด\n",null,null,null,null,null,null,4,"ส 1.1","ป.5/4","อธิบายองค์ประกอบและความสำคัญของพระไตรปิฎก  หรือคัมภีร์ของศาสนาที่ตนนับถือ\n",null,null,null,null,null,null,4,"ส 1.1","ป.6/4","วิเคราะห์ความสำคัญและเคารพพระรัตนตรัย ปฏิบัติตามไตรสิกขาและหลักธรรมโอวาท 3 ในพระพุทธศาสนา หรือหลักธรรมของศาสนาที่ตนนับถือตามที่กำหนด\n"]
[null,5,"ส 1.2","ป.1/2","แสดงตนเป็นพุทธมามกะ หรือแสดงตนเป็นศาสนิกชนของศาสนาที่ตนนับถือ",null,null,null,null,null,null,5,"ส 1.1","ป.2/7","บอกชื่อศาสนา ศาสดา และความสำคัญของคัมภีร์ของศาสนาที่ตนนับถือและศาสนาอื่นๆ",null,null,null,null,null,null,5,"ส 1.1","ป.3/7","บอกชื่อความสำคัญและปฏิบัติตนได้อย่างเหมาะสมต่อ ศาสนวัตถุ ศาสนสถาน และศาสนบุคคล  ของศาสนาอื่นๆ\n",null,null,null,null,null,null,5,"ส 1.1","ป.4/7","ปฏิบัติตนตามหลักธรรมของศาสนาที่ตนนับถือ  เพื่อการอยู่ร่วมกันเป็นชาติได้อย่างสมานฉันท์\n\n",null,null,null,null,null,null,5,"ส 1.1","ป.5/6","เห็นคุณค่าและสวดมนต์แผ่เมตตา มีสติที่เป็นพื้นฐานของสมาธิในพระพุทธศาสนา หรือการพัฒนาจิตตามแนวทางของศาสนาที่ตนนับถือตามที่กำหนด\n",null,null,null,null,null,null,5,"ส 1.1","ป.6/6","เห็นคุณค่าและสวดมนต์แผ่เมตตาและบริหารจิตเจริญปัญญา มีสติที่เป็นพื้นฐานของสมาธิในพระพุทธศาสนาหรือการพัฒนาจิตตามแนวทางของศาสนาที่ตนนับถือตามที่กำหนด"]
[null,6,"ส 2.1","ป.1/1","บอกประโยชน์และปฏิบัติตนเป็นสมาชิกที่ดีของครอบครัวและโรงเรียน",null,null,null,null,null,null,6,"ส 1.2","ป.2/1","ปฏิบัติตนอย่างเหมาะสมต่อสาวกของศาสนาที่ตนนับถือตามที่กำหนดได้ถูกต้อง",null,null,null,null,null,null,6,"ส 1.2","ป.3/1","ปฏิบัติตนอย่างเหมาะสมต่อสาวกศาสนสถานศาสนวัตถุของศาสนาที่ตนนับถือตามที่กำหนดได้ถูกต้อง\n",null,null,null,null,null,null,6,"ส 1.1","ป.4/8","อธิบายประวัติศาสดาของศาสนาอื่นๆ โดยสังเขป",null,null,null,null,null,null,6,"ส 1.2","ป.5/1","จัดพิธีกรรมตามศาสนาที่ตนนับถืออย่างเรียบง่าย มีประโยชน์ และปฏิบัติตนถูกต้อง",null,null,null,null,null,null,6,"ส 1.2","ป.6/1","อธิบายความรู้เกี่ยวกับสถานที่ต่างๆในศาสนสถาน และปฏิบัติตนได้อย่างเหมาะสม"]
[null,7,"ส 2.1","ป.1/2","ยกตัวอย่างความสามารถและความดีของตนเอง ผู้อื่นและบอกผลจากการกระทำนั้น",null,null,null,null,null,null,7,"ส 2.1","ป.2/2","ปฏิบัติตนตนตามมารยาทไทย",null,null,null,null,null,null,7,"ส 1.2","ป.3/2","เห็นคุณค่า และปฏิบัติตนในศาสนพิธีพิธีกรรมและวันสำคัญทางศาสนาตามที่กำหนดได้ถูกต้อง\n",null,null,null,null,null,null,7,"ส 1.2","ป.4/1","อภิปรายความสำคัญและมีส่วนร่วมในการบำรุงรักษาศาสนสถานของศาสนาที่ตนนับถือ",null,null,null,null,null,null,7,"ส 1.2","ป.5/3","มีมรรยาทของความเป็นศาสนิกชนที่ดีตามที่กำหนด",null,null,null,null,null,null,7,"ส 1.2","ป.6/2","มีมรรยาทของความเป็นศาสนิกชนที่ดี ตามที่กำหนด"]
[null,8,"ส 2.2","ป.1/1","บอกโครงสร้าง บทบาทและหน้าที่ของสมาชิกในครอบครัวและโรงเรียน",null,null,null,null,null,null,8,"ส 2.1","ป.2/4","เคารพในสิทธิเสรีภาพของผู้อื่น",null,null,null,null,null,null,8,"ส 1.2","ป.3/3","แสดงตนเป็นพุทธมามกะ หรือแสดงตนเป็นศาสนิกชนของศาสนาที่ตนนับถือ",null,null,null,null,null,null,8,"ส 1.2","ป.4/2","มีมรรยาทของความเป็นศาสนิกชนที่ดีตามที่กำหนด",null,null,null,null,null,null,8,"ส 2.1","ป.5/2","เสนอวิธีการปกป้องคุ้มครองตนเองหรือผู้อื่นจากการละเมิดสิทธิเด็ก",null,null,null,null,null,null,8,"ส 1.2","ป.6/4","แสดงตนเป็นพุทธมามกะ  หรือแสดงตนเป็นศาสนิกชนของศาสนาที่ตนนับถือ"]
[null,9,"ส 2.2","ป.1/2","ระบุบทบาท สิทธิหน้าที่ของตนเองในครอบครัวและโรงเรียน",null,null,null,null,null,null,9,"ส 2.2","ป.2/1","อธิบายความสัมพันธ์ของตนเอง และสมาชิกในครอบครัวในฐานะเป็นส่วนหนึ่งของชุมชน",null,null,null,null,null,null,9,"ส 2.1","ป.3/2","บอกพฤติกรรมการดำเนินชีวิตของตนเอง และผู้อื่นที่อยู่ในกระแสวัฒนธรรมที่หลากหลาย",null,null,null,null,null,null,9,"ส 2.1","ป.4/1","ปฏิบัติตนเป็นพลเมืองดีตามวิถีประชาธิปไตยในฐานะสมาชิกที่ดีของชุมชน",null,null,null,null,null,null,9,"ส 2.1","ป.5/3","เห็นคุณค่าวัฒนธรรมไทยที่มีผลต่อการดำเนินชีวิตในสังคมไทย",null,null,null,null,null,null,9,"ส 2.1","ป.6/1","ปฏิบัติตามกฎหมายที่เกี่ยวข้องกับชีวิตประจำวันของครอบครัวและชุมชน"]
[null,10,"ส 3.1","ป.1/1","ระบุสินค้าและบริการที่ใช้ประโยชน์ในชีวิตประจำวัน",null,null,null,null,null,null,10,"ส 2.2","ป.2/2","ระบุผู้มีบทบาท อำนาจในการตัดสินใจในโรงเรียน และชุมชน",null,null,null,null,null,null,10,"ส 2.1","ป.3/3","อธิบายความสำคัญขอวันหยุดราชการที่สำคัญ",null,null,null,null,null,null,10,"ส 2.1","ป.4/2","ปฏิบัติตนในการเป็นผู้นำและผู้ตามที่ดี",null,null,null,null,null,null,10,"ส 2.2","ป.5/1","อธิบายโครงสร้าง อำนาจ หน้าที่และความสำคัญของการปกครองส่วนท้องถิ่น",null,null,null,null,null,null,10,"ส 2.1","ป.6/2","วิเคราะห์การเปลี่ยนแปลงวัฒนธรรมตามกาลเวลาและธำรงรักษาวัฒนธรรม  อันดีงาม"]
[null,11,"ส 3.2","ป.1/1","อธิบายเหตุผลความจำเป็นที่คนต้องทำงานอย่างสุจริต",null,null,null,null,null,null,11,"ส 3.1","ป.2/1","ระบุทรัพยากรที่นำมาผลิตสินค้าและบริการที่ใช้ในชีวิตประจำวัน",null,null,null,null,null,null,11,"ส 2.1","ป.3/4","ยกตัวอย่างบุคคลซึ่งมีผลงานที่เป็นประโยชน์แก่ชุมชนและท้องถิ่นของตน",null,null,null,null,null,null,11,"ส 2.1","ป.4/3","วิเคราะห์สิทธิพื้นฐานที่เด็กทุกคนพึงได้รับตามกฎหมาย",null,null,null,null,null,null,11,"ส 2.2","ป.5/2","ระบุบทบาทหน้าที่ และวิธีการเข้าดำรงตำแหน่งของผู้บริหารท้องถิ่น",null,null,null,null,null,null,11,"ส 2.1","ป.6/3","แสดงออกถึงมารยาทไทยได้เหมาะสมถูกกาลเทศะ"]
[null,12,"ส 5.1","ป.1/1","จำแนกสิ่งแวดล้อมรอบตัวที่เกิดขึ้นเอง ตามธรรมชาติและที่มนุษย์สร้างขึ้น","จำแนกสิ่งแวดล้อมรอบตัวที่เกิดขึ้นเอง ตามธรรมชาติและที่มนุษย์สร้างขึ้น","จำแนกสิ่งแวดล้อมรอบตัวที่เกิดขึ้นเอง ตามธรรมชาติและที่มนุษย์สร้างขึ้น","จำแนกสิ่งแวดล้อมรอบตัวที่เกิดขึ้นเอง ตามธรรมชาติและที่มนุษย์สร้างขึ้น","จำแนกสิ่งแวดล้อมรอบตัวที่เกิดขึ้นเอง ตามธรรมชาติและที่มนุษย์สร้างขึ้น",null,null,12,"ส 3.1","ป.2/2","บอกที่มาของรายได้และรายจ่ายของตนเองและครอบครัว",null,null,null,null,null,null,12,"ส 2.2","ป.3/1","ระบุบทบาทหน้าที่ของสมาชิกของชุมชนในการมีส่วนร่วมในกิจกรรมต่าง ๆ ตามกระบวนการประชาธิปไตย",null,null,null,null,null,null,12,"ส 2.1","ป.4/4","อธิบายความแตกต่างทางวัฒนธรรมของกลุ่มคนในท้องถิ่น",null,null,null,null,null,null,12,"ส 3.1","ป.5/1","อธิบายปัจจัยการผลิตสินค้าและบริการ",null,null,null,null,null,null,12,"ส 2.1","ป.6/5","ติดตามข้อมูล ข่าวสาร เหตุการณ์ต่าง ๆ ในชีวิตประจำวัน เลือกรับและใช้ข้อมูลข่าวสารในการเรียนรู้ได้เหมาะสม"]
[null,13,"ส 5.1","ป.1/2","ระบุความสัมพันธของตําแหนง ระยะ ทิศ ของสิ่งตางๆ ","ระบุความสัมพันธของตําแหนง ระยะ ทิศ ของสิ่งตางๆ ","ระบุความสัมพันธของตําแหนง ระยะ ทิศ ของสิ่งตางๆ ","ระบุความสัมพันธของตําแหนง ระยะ ทิศ ของสิ่งตางๆ ","ระบุความสัมพันธของตําแหนง ระยะ ทิศ ของสิ่งตางๆ ",null,null,13,"ส 3.1","ป.2/3","บันทึกรายรับรายจ่ายของตนเอง",null,null,null,null,null,null,13,"ส 2.2","ป.3/2","วิเคราะห์ความแตกต่างของกระบวนการการตัดสินใจในชั้นเรียน/โรงเรียนและชุมชนโดยวิธีการออกเสียงโดยตรงและการเลือกตัวแทนออกเสียง",null,null,null,null,null,null,13,"ส 2.2","ป.4/2","อธิบายบทบาทหน้าที่ของพลเมืองในกระบวนการเลือกตั้ง",null,null,null,null,null,null,13,"ส 3.1","ป.5/3","อธิบายหลักการสำคัญและประโยชน์ของสหกรณ์",null,null,null,null,null,null,13,"ส 2.2","ป.6/1","เปรียบเทียบบทบาท หน้าที่ขององค์กรปกครองส่วนท้องถิ่นและรัฐบาล  "]
[null,14,"ส 5.1","ป.1/3","ใชแผนผังแสดงตําแหน่งของสิ่งต่างๆ ในห้องเรียน ","ใชแผนผังแสดงตําแหน่งของสิ่งต่างๆ ในห้องเรียน ","ใชแผนผังแสดงตําแหน่งของสิ่งต่างๆ ในห้องเรียน ","ใชแผนผังแสดงตําแหน่งของสิ่งต่างๆ ในห้องเรียน ","ใชแผนผังแสดงตําแหน่งของสิ่งต่างๆ ในห้องเรียน ",null,null,14,"ส 3.2","ป.2/1","อธิบายการแลกเปลี่ยนสินค้าและบริการโดยวิธีต่าง ๆ",null,null,null,null,null,null,14,"ส 3.1","ป.3/1","จำแนกความต้องการและความจำเป็นในการใช้สินค้าและบริการในการดำรงชีวิต",null,null,null,null,null,null,14,"ส 3.1","ป.4/1","ระบุปัจจัยที่มีผลต่อการเลือกซื้อสินค้าและบริการ",null,null,null,null,null,null,14,"ส 3.2","ป.5/1","อธิบายบทบาทหน้าที่เบื้องต้นของธนาคาร",null,null,null,null,null,null,14,"ส 2.2","ป.6/3","อภิปรายบทบาท ความสำคัญในการใช้สิทธิออกเสียงเลือกตั้งตามระบอบประชาธิปไตย"]
[null,15,"ส 5.1","ป.1/4","สังเกตและบอกการเปลี่ยนแปลง ของสภาพอากาศในรอบวัน","สังเกตและบอกการเปลี่ยนแปลง ของสภาพอากาศในรอบวัน","สังเกตและบอกการเปลี่ยนแปลง ของสภาพอากาศในรอบวัน","สังเกตและบอกการเปลี่ยนแปลง ของสภาพอากาศในรอบวัน","สังเกตและบอกการเปลี่ยนแปลง ของสภาพอากาศในรอบวัน",null,null,15,"ส 5.1","ป.2/2","ระบุตําแหน่งและลักษณะทางกายภาพ ของสิ่งต่างๆ ที่ปรากฏในแผนผัง แผนที่ รูปถ่าย และลูกโลก ",null,null,null,null,null,null,15,"ส 3.1","ป.3/3","อธิบายได้ว่าทรัพยากรที่มีอยู่จำกัดมีผลต่อการผลิตและบริโภคสินค้าและบริการ",null,null,null,null,null,null,15,"ส 3.1","ป.4/2","บอกสิทธิพื้นฐานและรักษาผลประโยชน์ของตนเองในฐานะผู้บริโภค",null,null,null,null,null,null,15,"ส 5.1","ป.5/1","สืบค้นและอธิบายข้อมูลลักษณะทางกายภาพ ในภูมิภาคของตนด้วยแผนที่และรูปถ่าย",null,null,null,null,null,null,15,"ส 3.1","ป.6/1","อธิบายบทบาทของผู้ผลิตที่มีความรับผิดชอบ"]
[null,16,"ส 5.2","ป.1/2","สังเกตและเปรียบเทียบการเปลี่ยนแปลงของ สิ่งแวดล้อมเพื่อการปฏิบัติตนอย่างเหมาะสม","สังเกตและเปรียบเทียบการเปลี่ยนแปลงของ สิ่งแวดล้อมเพื่อการปฏิบัติตนอย่างเหมาะสม","สังเกตและเปรียบเทียบการเปลี่ยนแปลงของ สิ่งแวดล้อมเพื่อการปฏิบัติตนอย่างเหมาะสม","สังเกตและเปรียบเทียบการเปลี่ยนแปลงของ สิ่งแวดล้อมเพื่อการปฏิบัติตนอย่างเหมาะสม","สังเกตและเปรียบเทียบการเปลี่ยนแปลงของ สิ่งแวดล้อมเพื่อการปฏิบัติตนอย่างเหมาะสม",null,null,16,"ส 5.1","ป.2/3","สังเกตและแสดงความสัมพันธ์ ระหว่างโลก ดวงอาทิตย์ และดวงจันทร์  ที่ทําให้เกิด ปรากฏการณ์",null,null,null,null,null,null,16,"ส 3.2","ป.3/1","บอกสินค้าและบริการที่รัฐจัดหาและให้บริการแก่ประชาชน",null,null,null,null,null,null,16,"ส 3.2","ป.4/2","อธิบายหน้าที่เบื้องต้นของเงิน",null,null,null,null,null,null,16,"ส 5.1","ป.5/2","อธิบายลักษณะทางกายภาพที่ส่งผลต่อ แหล่งทรัพยากรและสถานที่สําคัญในภูมิภาค ของตน",null,null,null,null,null,null,16,"ส 3.1","ป.6/2","อธิบายบทบาทของผู้บริโภคที่รู้เท่าทัน"]
[null,"ตัวชี้วัดปลายทาง",null,null,null,null,null,null,null,null,null,17,"ส 5.2","ป.2/1","อธิบายความสำคัญของสิ่งแวดล้อม ทางธรรมชาติและที่มนุษย์สร้างขึ้น",null,null,null,null,null,null,17,"ส 3.2","ป.3/2","บอกความสำคัญของภาษีและบทบาทของประชาชนในการเสียภาษี",null,null,null,null,null,null,17,"ส 5.1","ป.4/1","สืบค้นและอธิบายข้อมูลลักษณะทางกายภาพ ในจังหวัดของตนด้วยแผนที่และรูป่าย ",null,null,null,null,null,null,17,"ส 5.2","ป.5/1","วิเคราะห์สิ่งแวดล้อมทางกายภาพที่มีอิทธิพล ต่อลักษณะการตั้งถิ่นฐานและการย้ายถิ่น ของประชากรในภูมิภาคของตน",null,null,null,null,null,null,17,"ส 3.2","ป.6/2","ยกตัวอย่างการรวมกลุ่มทางเศรษฐกิจภายในท้องถิ่น"]
[null,1,"ส 1.1","ป.1/3","บอกความหมายความ สำคัญและเคารพพระรัตนตรัย ปฏิบัติตามหลักธรรมโอวาท 3 ในระพุทธศาสนา หรือหลักธรรมของศาสนาที่ตนนับถือตามที่กำหนด\n",null,null,null,null,null,null,18,"ส 5.2","ป.2/2","จำแนกและใช้ทรัพยากรธรรมชาติ ที่ใช้แล้ว ไม่หมดไป ที่ใช้แล้วหมดไป และสร้างทดแทน ขึ้นใหม่ได้อย่างคุ้มค่า",null,null,null,null,null,null,18,"ส 3.2","ป.3/3","อธิบายเหตุผลการแข่งขันทางการค้าที่มีผลทำให้ราคาสินค้าลดลง",null,null,null,null,null,null,18,"ส 5.1","ป.4/2","ระบุแหล่งทรัพยากรและสถานที่สําคัญ ในจังหวัดของตนด้วยแผนที่และรูปถ่าย ",null,null,null,null,null,null,"ตัวชี้วัดปลายทาง",null,null,null,null,null,null,null,null,null,18,"ส 5.1","ป.6/1","สืบคนและอธิบายขอมูลลักษณะทางกายภาพของประเทศไทย ดวยแผนที่รูปถายทางอากาศ และภาพจากดาวเทียม\n"]
[null,2,"ส 1.2","ป.1/3","ปฏิบัติตนในศาสนพิธี พิธีกรรม และวันสำคัญทางศาสนา ตามที่กำหนดได้ถูกต้อง",null,null,null,null,null,null,"ตัวชี้วัดปลายทาง",null,null,null,null,null,null,null,null,null,19,"ส 5.1","ป.3/1","สํารวจขอมูลทางภูมิศาสตรในโรงเรียนและชุมชนโดยใชแผนผัง แผนที่ และรูปถาย เพื่อแสดงความสัมพันธของตําแหนง ระยะทิศทาง\n",null,null,null,null,null,null,19,"ส 5.1","ป.4/3","อธิบายลักษณะทางกายภาพที่ส่งผลต่อแหล่ง ทรัพยากรและสถานที่สําคัญในจังหวัด",null,null,null,null,null,null,1,"ส 1.1","ป.5/5","แสดงความเคารพพระรัตนตรัยและปฏิบัติตามไตรสิกขาและหลักธรรมโอวาท 3",null,null,null,null,null,null,19,"ส 5.1","ป.6/2","อธิบายความสัมพันธระหวางลักษณะทางกายภาพกับภัยพิบัติในประเทศไทยเพื่อเตรียมพรอมรับมือภัยพิบัติ\n"]
[null,3,"ส 2.2","ป.1/3","มีส่วนร่วมในการตัดสินใจและทำกิจกรรมในครอบครัวและโรงเรียนตามกระบวนการประชาธิปไตย",null,null,null,null,null,null,1,"ส 1.1","ป.2/4","บอกความหมาย ความสำคัญ และเคารพพระรัตนตรัย ปฏิบัติตามหลักธรรมโอวาท 3 ในพระพุทธศาสนาหรือหลักธรรมของศาสนาที่ตนนับถือตามที่กำหนด\n",null,null,null,null,null,null,20,"ส 5.2","ป.3/1","เปรียบเทียบการเปลี่ยนแปลงสภาพแวดล้อมในชุมชนจากอดีตถึงปัจจุบัน",null,null,null,null,null,null,20,"ส 5.2","ป.4/2","อธิบายการเปลี่ยนแปลงสิ่งแวดล้อมในจังหวัด และผลที่เกิดจากการเปลี่ยนแปลง",null,null,null,null,null,null,2,"ส 1.1","ป.5/7","ปฏิบัติตนตามหลักธรรมของศาสนาที่ตนนับถือ เพื่อการพัฒนาตนเองและสิ่งแวดล้อม",null,null,null,null,null,null,20,"ส 5.2","ป.6/2","วิเคราะหการเปลี่ยนแปลงทางกายภาพของประเทศไทยในอดีตกับปจจุบัน และผลที่เกิดขึ้นจากการเปลี่ยนแปลง\n"]
[null,4,"ส 3.1","ป.1/2","ยกตัวอย่างการใช้จ่ายเงินในชีวิตประจำวันที่ไม่เกินตัวและเห็นประโยชน์ของการออม",null,null,null,null,null,null,2,"ส 1.1","ป.2/5","ชื่นชมการทำความดีของตนเอง บุคคลในครอบครัวและในโรงเรียน ตามหลักศาสนา",null,null,null,null,null,null,21,"ส 5.2","ป.3/2","อธิบายการพึ่งพาสิ่งแวดล้อมและทรัพยากรธรรมชาติในการสนองความต้องการพื้นฐานของมนุษย์และการประกอบอาชีพ",null,null,null,null,null,null,"ตัวชี้วัดปลายทาง",null,null,null,null,null,null,null,null,null,3,"ส 1.2","ป.5/2","ปฏิบัติตนในศาสนพิธี พิธีกรรม และวันสำคัญทางศาสนาตามที่กำหนดและอภิปรายประโยชน์ที่ได้รับจากการเข้าร่วมกิจกรรม\n",null,null,null,null,null,null,"ตัวชี้วัดปลายทาง"]
[null,5,"ส 3.1","ป.1/3","ยกตัวอย่างการใช้ทรัพยากรในชีวิตประจำวันอย่างประหยัด",null,null,null,null,null,null,3,"ส 1.2","ป.2/2","ปฏิบัติตนในศาสนพิธี พิธีกรรมและวันสำคัญทางศาสนาตามที่กำหนดได้ถูกต้อง",null,null,null,null,null,null,22,"ส 5.2","ป.3/3","อธิบายเกี่ยวกับมลพิษและการก่อให้เกิดมลพิษโดยมนุษย์",null,null,null,null,null,null,1,"ส 1.1","ป.4/4","แสดงความเคารพ  พระรัตนตรัย  ปฏิบัติตามไตรสิกขาและหลักธรรมโอวาท 3 ในพระพุทธศาสนาหรือหลักธรรมของศาสนาที่ตนนับถือตามที่กำหนด\n",null,null,null,null,null,null,4,"ส 2.1","ป.5/1","ยกตัวอย่างและปฏิบัติตนตามสถานภาพ บทบาท สิทธิเสรีภาพ และหน้าที่ในฐานะพลเมืองดี",null,null,null,null,null,null,1,"ส 1.1","ป.6/5","ชื่นชมการทำความดีของบุคคลในประเทศตามหลักศาสนา  พร้อมทั้งบอกแนวปฏิบัติในการดำเนินชีวิต\n"]
[null,6,"ส 5.2","ป.1/1","บอกสิ่งแวดล้อมที่เกิดตามธรรมชาติที่ส่งผล ต่อความเป็นอยู่ของมนุษย์","บอกสิ่งแวดล้อมที่เกิดตามธรรมชาติที่ส่งผล ต่อความเป็นอยู่ของมนุษย์","บอกสิ่งแวดล้อมที่เกิดตามธรรมชาติที่ส่งผล ต่อความเป็นอยู่ของมนุษย์","บอกสิ่งแวดล้อมที่เกิดตามธรรมชาติที่ส่งผล ต่อความเป็นอยู่ของมนุษย์","บอกสิ่งแวดล้อมที่เกิดตามธรรมชาติที่ส่งผล ต่อความเป็นอยู่ของมนุษย์",null,null,4,"ส 2.1","ป.2/1","ปฏิบัติตนตามข้อตกลง กติกา กฎระเบียบและหน้าที่ที่ต้องปฏิบัติในชีวิตประจำวัน",null,null,null,null,null,null,23,"ส 5.2","ป.3/4","อธิบายความแตกตางของลักษณะเมืองและชนบท",null,null,null,null,null,null,2,"ส 1.1","ป.4/5","ชื่นชมการทำความดีของตนเอง บุคคลในครอบครัว  โรงเรียนและชุมชนตามหลักศาสนา พร้อมทั้งบอกแนวปฏิบัติในการดำเนินชีวิต\n",null,null,null,null,null,null,5,"ส 2.1","ป.5/4","มีส่วนร่วมในการอนุรักษ์และเผยแพร่ภูมิปัญญาท้องถิ่นของชุมชน",null,null,null,null,null,null,2,"ส 1.1","ป.6/7","ปฏิบัติตนตามหลักธรรมของศาสนาที่ตนนับถือ เพื่อแก้ปัญหาอบายมุขและสิ่งเสพติด"]
[null,7,"ส 5.2","ป.1/3","มีส่วนร่วมในการดูแลสิ่งแวดล้อมที่บ้านและห้องเรียน","มีส่วนร่วมในการดูแลสิ่งแวดล้อมที่บ้านและห้องเรียน","มีส่วนร่วมในการดูแลสิ่งแวดล้อมที่บ้านและห้องเรียน","มีส่วนร่วมในการดูแลสิ่งแวดล้อมที่บ้านและห้องเรียน","มีส่วนร่วมในการดูแลสิ่งแวดล้อมที่บ้านและห้องเรียน",null,null,5,"ส 2.1","ป.2/3","แสดงพฤติกรรมในการยอมรับความคิด ความเชื่อและการปฏิบัติของบุคคลอื่นที่แตกต่างกันโดยปราศจากอคติ",null,null,null,null,null,null,24,"ส 5.2","ป.3/5","อธิบายความสัมพันธระหวางลักษณะทางกายภาพกับการดําเนินชีวิตของคนในชุมชน",null,null,null,null,null,null,3,"ส 1.2","ป.4/3","ปฏิบัติตนในศาสนพิธี   พิธีกรรมและวันสำคัญทางศาสนาตามที่กำหนดได้ถูกต้อง",null,null,null,null,null,null,6,"ส 2.2","ป.5/3","วิเคราะห์ประโยชน์ที่ชุมชน จะได้รับจากองค์กรปกครองส่วนท้องถิ่น",null,null,null,null,null,null,3,"ส 1.1","ป.6/8","อธิบายหลักธรรมสำคัญของศาสนาอื่นๆ โดยสังเขป"]
[null,null,null,null,null,null,null,null,null,null,null,6,"ส 3.1","ป.2/4","สรุปผลดีของการใช้จ่ายที่เหมาะสมกับรายได้และการออม",null,null,null,null,null,null,"ตัวชี้วัดปลายทาง",null,null,null,null,null,null,null,null,null,4,"ส 2.1","ป.4/5","เสนอวิธีการที่จะอยู่ร่วมกันอย่างสันติสุขในชีวิตประจำวัน",null,null,null,null,null,null,7,"ส 3.1","ป.5/2","ประยุกต์ใช้แนวคิดของปรัชญาของเศรษฐกิจพอเพียงในการทำกิจกรรมต่าง ๆ ในครอบครัว โรงเรียนและชุมชน",null,null,null,null,null,null,4,"ส 1.1","ป.6/9","อธิบายลักษณะสำคัญของศาสนพิธีพิธีกรรมของศาสนาอื่นๆ และปฏิบัติตนได้อย่างเหมาะสมเมื่อต้องเข้าร่วมพิธี\n"]
[null,null,null,null,null,null,null,null,null,null,null,7,"ส 3.2","ป.2/2","บอกความสัมพันธ์ระหว่างผู้ซื้อและผู้ขาย",null,null,null,null,null,null,1,"ส 1.1","ป.3/2","สรุปพุทธประวัติตั้งแต่การบำเพ็ญเพียรจนถึงปรินิพพาน หรือประวัติของศาสดาที่ตนนับถือตามที่กำหนด\n",null,null,null,null,null,null,5,"ส 2.2","ป.4/1","อธิบายอำนาจอธิปไตยและความสำคัญของระบอบประชาธิปไตย",null,null,null,null,null,null,8,"ส 3.2","ป.5/2","จำแนกผลดีและผลเสียของการกู้ยืม",null,null,null,null,null,null,5,"ส 1.2","ป.6/3","อธิบายประโยชน์ของการเข้าร่วมในศาสนพิธี พิธีกรรม และกิจกรรมในวันสำคัญทางศาสนาตามที่กำหนดและปฏิบัติตนได้ถูกต้อง\n"]
[null,null,null,null,null,null,null,null,null,null,null,8,"ส 5.1","ป.2/1","ระบุสิ่งแวดล้อมทางธรรมชาติและที่มนุษย์  สร้างขึ้น ซึ่งปรากฏระหว่างบ้านกับโรงเรียน",null,null,null,null,null,null,2,"ส 1.1","ป.3/5","แสดงความเคารพพระรัตนตรัย และปฏิบัติตามหลักธรรมโอวาท 3 ในพระพุทธศาสนาหรือหลักธรรมของศาสนาที่ตนนับถือตามที่กำหนดประโยชน์",null,null,null,null,null,null,6,"ส 2.2","ป.4/3","อธิบายความสำคัญของสถาบันพระมหากษัตริย์ตามระบอบประชาธิปไตยอันมีพระมหากษัตริย์ทรงเป็นประมุข",null,null,null,null,null,null,9,"ส 5.2","ป.5/2","วิเคราะห์ อิทธิพลของสิ่งแวดล้อมทาง ธรรมชาติที่ก่อให้เกิดวิถีการดําเนินชีวิต ในภูมิภาคของตน",null,null,null,null,null,null,6,"ส 2.1","ป.6/4","อธิบายคุณค่าทางวัฒนธรรมที่แตกต่างกันระหว่างกลุ่มคนในสังคมไทย"]
[null,null,null,null,null,null,null,null,null,null,null,9,"ส 5.2","ป.2/3","อธิบายความสัมพันธ์ระหว่างฤดูกาล กับการดำเนินชีวิตของมนุษย์",null,null,null,null,null,null,3,"ส 2.1","ป.3/1","สรุปประโยชน์และปฏิบัติตนตามประเพณีและวัฒนธรรมในครอบครัวและท้องถิ่น",null,null,null,null,null,null,7,"ส 3.1","ป.4/3","อธิบายหลักการของเศรษฐกิจพอเพียงและนำไปใช้ในชีวิตประจำวันของตนเอง",null,null,null,null,null,null,10,"ส 5.2","ป.5/3","นําเสนอตัวอย่างที่สะท้อนให้เห็นผล จากการรักษาและทําลายสิ่งแวดล้อม และ เสนอแนวทางในการจัดการสิ่งแวดล้อม ในภูมิภาคของตน",null,null,null,null,null,null,7,"ส 2.2","ป.6/2","มีส่วนร่วมในกิจกรรมต่างๆ ที่ส่งเสริม ประชาธิปไตยในท้องถิ่นและประเทศ"]
[null,null,null,null,null,null,null,null,null,null,null,10,"ส 5.2","ป.2/4","มีส่วนร่วมในการจัดการสิ่งแวดล้อม ในโรงเรียน ",null,null,null,null,null,null,4,"ส 2.2","ป.3/3","ยกตัวอย่างการเปลี่ยนแปลงในชั้นเรียน/โรงเรียนและชุมชนที่เป็นผลจากการตัดสินใจของบุคคลและกลุ่ม",null,null,null,null,null,null,8,"ส 3.2","ป.4/1","อธิบายความสัมพันธ์ทางเศรษฐกิจของคนในชุมชน",null,null,null,null,null,null,null,null,null,null,null,null,null,null,null,null,8,"ส 3.1","ป.6/3","บอกวิธีและประโยชน์ของการใช้ทรัพยากรอย่างยั่งยืน"]
[null,null,null,null,null,null,null,null,null,null,null,null,null,null,null,null,null,null,null,null,null,5,"ส 3.1","ป.3/2","วิเคราะห์การใช้จ่ายของตนเอง",null,null,null,null,null,null,9,"ส 5.2","ป.4/1","วิเคราะห์ สิ่งแวดล้อมทางกายภาพที่ส่งผลต่อ การดําเนินชีวิตของคนในจังหวัด",null,null,null,null,null,null,null,null,null,null,null,null,null,null,null,null,9,"ส 3.2","ป.6/1","อธิบายความสัมพันธ์ระหว่างผู้ผลิต ผู้บริโภค ธนาคาร และรัฐบาล"]
[null,null,null,null,null,null,null,null,null,null,null,null,null,null,null,null,null,null,null,null,null,6,"ส 5.1","ป.3/2","วาดแผนผังเพื่อแสดงตําแหนงที่ตั้งของสถานที่สําคัญในบริเวณโรงเรียนและชุมชน",null,null,null,null,null,null,10,"ส 5.2","ป.4/3","นําเสนอแนวทางการจัดการสิ่งแวดล้อม ในจังหวัด",null,null,null,null,null,null,null,null,null,null,null,null,null,null,null,null,10,"ส 5.2","ป.6/1","วิเคราะหปฏิสัมพันธระหวางสิ่งแวดลอมทางกายภาพกับลักษณะกิจกรรมทางเศรษฐกิจและสังคมในประเทศไทย\n"]
[null,null,null,null,null,null,null,null,null,null,null,null,null,null,null,null,null,null,null,null,null,7,"ส 5.2","ป.3/6","มีสวนรวมในการจัดการสิ่งแวดลอมในชุมชน",null,null,null,null,null,null,null,null,null,null,null,null,null,null,null,null,null,null,null,null,null,null,null,null,null,null,11,"ส 5.2","ป.6/3","นําเสนอตัวอยางที่สะทอนใหเห็นผลจากการรักษาและทําลายทรัพยากรและสิ่งแวดล้อม และเสนอแนวทางในการจัดการที่ยั่งยืนในประเทศไทย\n"]

{"sheet":"ตชว.ประวัติ","index":23,"n_rows":14,"n_cols":55,"rows_kept":14,"cut":false,"hidden":false,"merged":[[5,4,5,8],[5,14,5,18],[5,24,5,28],[5,34,5,38],[5,44,5,48],[5,54,5,58],[1,1,1,8],[1,11,1,18],[1,21,1,28],[1,31,1,38],[1,41,1,48],[1,51,1,58],[4,4,4,8],[4,14,4,18],[4,24,4,28],[4,34,4,38],[4,44,4,48],[4,54,4,58],[3,1,3,8],[3,11,3,18],[3,21,3,28],[3,31,3,38],[3,41,3,48],[3,51,3,58],[7,54,7,58],[8,11,8,18],[8,51,8,58],[6,4,6,8],[6,14,6,18],[6,24,6,28],[6,34,6,38],[6,44,6,48],[6,54,6,58],[8,4,8,8],[8,24,8,28],[8,34,8,38],[8,44,8,48],[7,4,7,8],[7,14,7,18],[7,24,7,28],[7,34,7,38],[7,44,7,48],[10,14,10,18],[10,44,10,48],[10,54,10,58],[9,4,9,8],[9,14,9,18],[9,24,9,28],[9,34,9,38],[9,54,9,58],[10,1,10,8],[10,21,10,28],[10,31,10,38],[9,41,9,48],[12,4,12,8],[12,14,12,18],[12,24,12,28],[12,34,12,38],[12,44,12,48],[12,54,12,58],[11,4,11,8],[11,14,11,18],[11,24,11,28],[11,34,11,38],[11,44,11,48],[11,54,11,58],[14,4,14,8],[14,14,14,18],[14,24,14,28],[14,34,14,38],[14,44,14,48],[14,54,14,58],[13,4,13,8],[13,14,13,18],[13,24,13,28],[13,34,13,38],[13,44,13,48],[13,54,13,58],[16,4,16,8],[16,14,16,18],[16,24,16,28],[16,34,16,38],[16,44,16,48],[16,54,16,58],[15,4,15,8],[15,14,15,18],[15,24,15,28],[15,34,15,38],[15,44,15,48],[15,54,15,58],[18,4,18,8],[18,14,18,18],[18,24,18,28],[18,34,18,38],[18,44,18,48],[18,54,18,58],[17,4,17,8],[17,14,17,18],[17,24,17,28],[17,34,17,38],[17,44,17,48],[17,54,17,58],[20,4,20,8],[20,14,20,18],[20,24,20,28],[20,34,20,38],[20,44,20,48],[20,54,20,58],[19,4,19,8],[19,14,19,18],[19,24,19,28],[19,34,19,38],[19,44,19,48],[19,54,19,58],[22,4,22,8],[22,14,22,18],[22,24,22,28],[22,34,22,38],[22,44,22,48],[22,54,22,58],[21,4,21,8],[21,14,21,18],[21,24,21,28],[21,34,21,38],[21,44,21,48],[21,54,21,58],[24,4,24,8],[24,14,24,18],[24,24,24,28],[24,34,24,38],[24,44,24,48],[24,54,24,58],[23,4,23,8],[23,14,23,18],[23,24,23,28],[23,34,23,38],[23,44,23,48],[23,54,23,58],[26,4,26,8],[26,14,26,18],[26,24,26,28],[26,34,26,38],[26,44,26,48],[26,54,26,58],[25,4,25,8],[25,14,25,18],[25,24,25,28],[25,34,25,38],[25,44,25,48],[25,54,25,58],[28,4,28,8],[28,14,28,18],[28,24,28,28],[28,34,28,38],[28,44,28,48],[28,54,28,58],[27,4,27,8],[27,14,27,18],[27,24,27,28],[27,34,27,38],[27,44,27,48],[27,54,27,58],[30,4,30,8],[30,14,30,18],[30,24,30,28],[30,34,30,38],[30,44,30,48],[30,54,30,58],[29,4,29,8],[29,14,29,18],[29,24,29,28],[29,34,29,38],[29,44,29,48],[29,54,29,58],[32,4,32,8],[32,14,32,18],[32,24,32,28],[32,34,32,38],[32,44,32,48],[32,54,32,58],[31,4,31,8],[31,14,31,18],[31,24,31,28],[31,34,31,38],[31,44,31,48],[31,54,31,58],[34,4,34,8],[34,14,34,18],[34,24,34,28],[34,34,34,38],[34,44,34,48],[34,54,34,58],[33,4,33,8],[33,14,33,18],[33,24,33,28],[33,34,33,38],[33,44,33,48],[33,54,33,58],[36,4,36,8],[36,14,36,18],[36,24,36,28],[36,34,36,38],[36,44,36,48],[36,54,36,58],[35,4,35,8],[35,14,35,18],[35,24,35,28],[35,34,35,38],[35,44,35,48],[35,54,35,58],[38,4,38,8],[38,14,38,18],[38,24,38,28],[38,34,38,38],[38,44,38,48],[38,54,38,58],[37,4,37,8],[37,14,37,18],[37,24,37,28],[37,34,37,38],[37,44,37,48],[37,54,37,58],[40,4,40,8],[40,14,40,18],[40,24,40,28],[40,34,40,38],[40,44,40,48],[40,54,40,58],[39,4,39,8],[39,14,39,18],[39,24,39,28],[39,34,39,38],[39,44,39,48],[39,54,39,58],[42,4,42,8],[42,14,42,18],[42,24,42,28],[42,34,42,38],[42,44,42,48],[42,54,42,58],[41,4,41,8],[41,14,41,18],[41,24,41,28],[41,34,41,38],[41,44,41,48],[41,54,41,58]]}
["ประวัติศาสตร์"]
[null,{"$f":"\"ตัวชี้วัดรายวิชา\"&ตชว.ประวัติ!$A$1&\"  ชั้น ป.1\"","v":"ตัวชี้วัดรายวิชาประวัติศาสตร์  ชั้น ป.1"},null,null,null,null,null,null,null,null,null,{"$f":"\"ตัวชี้วัดรายวิชา\"&ตชว.ประวัติ!$A$1&\"  ชั้น ป.2\"","v":"ตัวชี้วัดรายวิชาประวัติศาสตร์  ชั้น ป.2"},null,null,null,null,null,null,null,null,null,{"$f":"\"ตัวชี้วัดรายวิชา\"&ตชว.ประวัติ!$A$1&\"  ชั้น ป.3\"","v":"ตัวชี้วัดรายวิชาประวัติศาสตร์  ชั้น ป.3"},null,null,null,null,null,null,null,null,null,{"$f":"\"ตัวชี้วัดรายวิชา\"&ตชว.ประวัติ!$A$1&\"  ชั้น ป.4\"","v":"ตัวชี้วัดรายวิชาประวัติศาสตร์  ชั้น ป.4"},null,null,null,null,null,null,null,null,null,{"$f":"\"ตัวชี้วัดรายวิชา\"&ตชว.ประวัติ!$A$1&\"  ชั้น ป.5\"","v":"ตัวชี้วัดรายวิชาประวัติศาสตร์  ชั้น ป.5"},null,null,null,null,null,null,null,null,null,{"$f":"\"ตัวชี้วัดรายวิชา\"&ตชว.ประวัติ!$A$1&\"  ชั้น ป.6\"","v":"ตัวชี้วัดรายวิชาประวัติศาสตร์  ชั้น ป.6"}]
[null,"ข้อที่","มาตรฐาน","ชั้น/ข้อ","เรื่อง",null,null,null,null,null,null,"ข้อที่","มาตรฐาน","ชั้น/ข้อ","เรื่อง",null,null,null,null,null,null,"ข้อที่","มาตรฐาน","ชั้น/ข้อ","เรื่อง",null,null,null,null,null,null,"ข้อที่","มาตรฐาน","ชั้น/ข้อ","เรื่อง",null,null,null,null,null,null,"ข้อที่","มาตรฐาน","ชั้น/ข้อ","เรื่อง",null,null,null,null,null,null,"ข้อที่","มาตรฐาน","ชั้น/ข้อ","เรื่อง"]
[null,"ตัวชี้วัดระหว่างทาง",null,null,null,null,null,null,null,null,null,"ตัวชี้วัดระหว่างทาง",null,null,null,null,null,null,null,null,null,"ตัวชี้วัดระหว่างทาง",null,null,null,null,null,null,null,null,null,"ตัวชี้วัดระหว่างทาง",null,null,null,null,null,null,null,null,null,"ตัวชี้วัดระหว่างทาง",null,null,null,null,null,null,null,null,null,"ตัวชี้วัดระหว่างทาง"]
[null,1,"ส 4.1","ป.1/1","บอกวัน เดือน ปี และการนับช่วงเวลาตามปฏิทินที่ใช้ในชีวิตประจำวัน",null,null,null,null,null,null,1,"ส 4.1","ป.2/1","ใช้คำระบุเวลาที่แสดงเหตุการณ์ในอดีตปัจจุบัน และอนาคต",null,null,null,null,null,null,1,"ส 4.1","ป.3/1","เทียบศักราชที่สำคัญตามปฏิทินที่ใช้ในชีวิตประจำวัน",null,null,null,null,null,null,1,"ส 4.1","ป.4/1","นับช่วง เวลา เป็นทศวรรษ ศตวรรษ และสหัสวรรษ",null,null,null,null,null,null,1,"ส 4.1","ป.5/3","อธิบายความแตกต่างระหว่างความจริงกับข้อเท็จจริงเกี่ยวกับเรื่องราวในท้องถิ่น",null,null,null,null,null,null,1,"ส 4.1","ป.6/1","อธิบายความสำคัญของวิธีการทางประวัติศาสตร์ในการศึกษาเรื่องราวทางประวัติศาสตร์อย่างง่าย ๆ"]
[null,2,"ส 4.1","ป.1/2","เรียงลำดับเหตุการณ์ในชีวิตประจำวันตามวันเวลาที่เกิดขึ้น",null,null,null,null,null,null,2,"ส 4.1","ป.2/2","ลำดับเหตุการณ์ที่เกิดขึ้นในครอบครัวหรือในชีวิตของตนเองโดยใช้หลักฐานที่เกี่ยวข้อง",null,null,null,null,null,null,2,"ส 4.1","ป.3/2","แสดงลำดับเหตุการณ์สำคัญของโรงเรียนและชุมชนโดยระบุหลักฐานและแหล่งข้อมูลที่เกี่ยวข้อง",null,null,null,null,null,null,2,"ส 4.1","ป.4/2","อธิบายยุคสมัยในการศึกษาประวัติของมนุษยชาติโดยสังเขป",null,null,null,null,null,null,2,"ส 4.2","ป.5/1","อธิบายอิทธิพลของอารยธรรมอินเดียและจีนที่มีต่อไทยและเอเชียตะวันออกเฉียงใต้ โดยสังเขป",null,null,null,null,null,null,2,"ส 4.2","ป.6/2","บอกความสัมพันธ์ของกลุ่มอาเซียนโดยสังเขป"]
[null,3,"ส 4.1","ป.1/3","บอกประวัติความเป็นมาของตนเองและครอบครัวโดยสอบถามผู้เกี่ยวข้อง",null,null,null,null,null,null,3,"ส 4.2","ป.2/1","สืบค้นถึงการเปลี่ยนแปลงในวิถีชีวิตประจำวันของคนในชุมชนของตนจากอดีตถึงปัจจุบัน",null,null,null,null,null,null,3,"ส 4.2","ป.3/1","ระบุปัจจัยที่มีอิทธิพลต่อการตั้งถิ่นฐานและพัฒนาการของชุมชน",null,null,null,null,null,null,3,"ส 4.1","ป.4/3","แยกแยะประเภทหลักฐานที่ใช้ในการศึกษาความเป็นมาของท้องถิ่น",null,null,null,null,null,null,3,"ส 4.3","ป.5/2","อธิบายปัจจัยที่ส่งเสริมความเจริญรุ่งเรืองทางเศรษฐกิจและการปกครองของอาณาจักรอยุธยา",null,null,null,null,null,null,3,"ส 4.3","ป.6/3","ยกตัวอย่างผลงานของบุคคลสำคัญด้านต่าง ๆ สมัยรัตนโกสินทร์"]
[null,4,"ส 4.2","ป.1/1","บอกความเปลี่ยนแปลงของสภาพแวดล้อม สิ่งของ เครื่องใช้ หรือการดำเนินชีวิตของตนเองกับสมัยของพ่อแม่ปู่ย่า ตายาย",null,null,null,null,null,null,4,"ส 4.3","ป.2/1","ระบุบุคคลที่ทำประโยชน์ต่อท้องถิ่นหรือประเทศชาติ",null,null,null,null,null,null,4,"ส 4.2","ป.3/2","สรุปลักษณะที่สำคัญของขนบธรรมเนียมประเพณี และวัฒนธรรมของชุมชน",null,null,null,null,null,null,4,"ส 4.2","ป.4/2","ยกตัวอย่างหลักฐานทางประวัติศาสตร์ที่พบในท้องถิ่นที่แสดงพัฒนาการของมนุษยชาติ  ",null,null,null,null,null,null,4,"ส 4.3","ป.5/3","บอกประวัติและผลงานของบุคคลสำคัญสมัยอยุธยาและธนบุรีที่น่าภาคภูมิใจ",null,null,null,null,null,null,4,"ส 4.3","ป.6/4","อธิบายภูมิปัญญาไทยที่สำคัญสมัยรัตนโกสินทร์ที่น่าภาคภูมิใจและควรค่าแก่การอนุรักษ์ไว้"]
[null,5,"ส 4.3","ป.1/1","อธิบายความหมายและความสำคัญของสัญลักษณ์สำคัญของชาติไทยและปฏิบัติตนได้ถูกต้อง",null,null,null,null,null,null,"ตัวชี้วัดปลายทาง",null,null,null,null,null,null,null,null,null,5,"ส 4.3","ป.3/1","ระบุพระนามและพระราชกรณียกิจโดยสังเขปของพระมหากษัตริย์ไทยที่เป็นผู้สถาปนาอาณาจักรไทย",null,null,null,null,null,null,5,"ส 4.3","ป.4/2","บอกประวัติและผลงานของบุคคลสำคัญสมัยสุโขทัย",null,null,null,null,null,null,5,"ส 4.3","ป.5/4","อธิบายภูมิปัญญาไทยที่สำคัญสมัยอยุธยาและธนบุรีที่น่าภาคภูมิใจและควรค่าแก่การอนุรักษ์ไว้",null,null,null,null,null,null,"ตัวชี้วัดปลายทาง"]
[null,6,"ส 4.3","ป.1/2","บอกสถานที่สำคัญซึ่งเป็นแหล่งวัฒนธรรมในชุมชน",null,null,null,null,null,null,1,"ส 4.2","ป.2/2","อธิบายผลกระทบของการเปลี่ยนแปลง ที่มีต่อวิถีชีวิตของคนในชุมชน",null,null,null,null,null,null,6,"ส 4.3","ป.3/2","อธิบายพระราชประวัติและพระราชกรณียกิจของพระมหากษัตริย์ ในรัชกาลปัจจุบันโดยสังเขป",null,null,null,null,null,null,6,"ส 4.3","ป.4/3","อธิบายภูมิปัญญาไทยที่สำคัญ สมัยสุโขทัยที่น่าภาคภูมิใจ และควรค่าแก่การอนุรักษ์",null,null,null,null,null,null,"ตัวชี้วัดปลายทาง",null,null,null,null,null,null,null,null,null,1,"ส 4.1","ป.6/2","นำเสนอข้อมูลจากหลักฐานที่หลากหลายในการทำความเข้าใจเรื่องราวสำคัญในอดีต"]
[null,"ตัวชี้วัดปลายทาง",null,null,null,null,null,null,null,null,null,2,"ส 4.3","ป.2/2","ยกตัวอย่างวัฒนธรรม ประเพณี และภูมิปัญญาไทยที่ภาคภูมิใจและควรอนุรักษ์ไว้",null,null,null,null,null,null,"ตัวชี้วัดปลายทาง",null,null,null,null,null,null,null,null,null,"ตัวชี้วัดปลายทาง",null,null,null,null,null,null,null,null,null,1,"ส 4.1","ป.5/1","สืบค้นความเป็นมาของท้องถิ่นโดยใช้หลักฐานที่หลากหลาย",null,null,null,null,null,null,2,"ส 4.2","ป.6/1","อธิบายสภาพสังคม เศรษฐกิจและการเมืองของประเทศเพื่อนบ้านในปัจจุบัน"]
[null,1,"ส 4.2","ป.1/2","บอกเหตุการณ์ที่เกิดขึ้นในอดีตที่มีผลกระทบต่อตนเองในปัจจุบัน",null,null,null,null,null,null,null,null,null,null,null,null,null,null,null,null,1,"ส 4.2","ป.3/3","เปรียบเทียบความเหมือนและความต่างทางวัฒนธรรมของชุมชนตนเองกับชุมชนอื่น ๆ",null,null,null,null,null,null,1,"ส 4.2","ป.4/1","อธิบายการตั้งหลักแหล่งและพัฒนาการของมนุษย์ยุคก่อนประวัติศาสตร์และยุคประวัติศาสตร์โดยสังเขป",null,null,null,null,null,null,2,"ส 4.1","ป.5/2","รวบรวมข้อมูลจากแหล่งต่างๆ เพื่อตอบคำถามทางประวัติศาสตร์ อย่างมีเหตุผล",null,null,null,null,null,null,3,"ส 4.3","ป.6/1","อธิบายพัฒนาการของไทยสมัยรัตนโกสินทร์โดยสังเขป"]
[null,2,"ส 4.3","ป.1/3","ระบุสิ่งที่ตนรัก และภาคภูมิใจในท้องถิ่น",null,null,null,null,null,null,null,null,null,null,null,null,null,null,null,null,2,"ส 4.3","ป.3/3","เล่าวีรกรรมของบรรพบุรุษไทยที่มีส่วนปกป้องประเทศชาติ",null,null,null,null,null,null,2,"ส 4.3","ป.4/1","อธิบายพัฒนาการของอาณาจักรสุโขทัยโดยสังเขป",null,null,null,null,null,null,3,"ส 4.2","ป.5/2","อภิปรายอิทธิพลของวัฒนธรรมต่างชาติที่มีต่อสังคมไทยปัจจุบันโดยสังเขป",null,null,null,null,null,null,4,"ส 4.3","ป.6/2","อธิบายปัจจัยที่ส่งเสริมความเจริญรุ่งเรืองทางเศรษฐกิจและการปกครองของไทยสมัยรัตนโกสินทร์  "]
[null,null,null,null,null,null,null,null,null,null,null,null,null,null,null,null,null,null,null,null,null,null,null,null,null,null,null,null,null,null,null,null,null,null,null,null,null,null,null,null,null,4,"ส 4.3","ป.5/1","อธิบายพัฒนาการของอาณาจักรอยุธยาและธนบุรีโดยสังเขป"]

{"sheet":"ตชว.สุขศึกษา","index":24,"n_rows":43,"n_cols":55,"rows_kept":43,"cut":false,"hidden":false,"merged":[[1,1,1,8],[1,11,1,18],[1,21,1,28],[1,31,1,38],[1,41,1,48],[1,51,1,58],[4,4,4,8],[4,14,4,18],[4,24,4,28],[4,34,4,38],[4,44,4,48],[4,54,4,58],[3,1,3,8],[3,11,3,18],[3,21,3,28],[3,31,3,38],[3,41,3,48],[3,51,3,58],[6,4,6,8],[6,14,6,18],[6,24,6,28],[6,34,6,38],[6,44,6,48],[6,54,6,58],[5,4,5,8],[5,14,5,18],[5,24,5,28],[5,34,5,38],[5,44,5,48],[5,54,5,58],[8,4,8,8],[8,14,8,18],[8,24,8,28],[8,34,8,38],[8,44,8,48],[8,54,8,58],[7,4,7,8],[7,14,7,18],[7,24,7,28],[7,34,7,38],[7,44,7,48],[7,54,7,58],[10,4,10,8],[10,14,10,18],[10,24,10,28],[10,34,10,38],[10,44,10,48],[10,54,10,58],[9,4,9,8],[9,14,9,18],[9,24,9,28],[9,34,9,38],[9,44,9,48],[9,54,9,58],[12,4,12,8],[12,14,12,18],[12,24,12,28],[12,34,12,38],[12,44,12,48],[12,54,12,58],[11,4,11,8],[11,14,11,18],[11,24,11,28],[11,34,11,38],[11,44,11,48],[11,54,11,58],[14,14,14,18],[14,24,14,28],[14,34,14,38],[14,44,14,48],[14,54,14,58],[13,4,13,8],[13,14,13,18],[13,24,13,28],[13,34,13,38],[13,44,13,48],[13,54,13,58],[14,1,14,8],[16,4,16,8],[16,14,16,18],[16,24,16,28],[16,34,16,38],[16,44,16,48],[16,54,16,58],[15,4,15,8],[15,14,15,18],[15,34,15,38],[15,44,15,48],[15,54,15,58],[15,21,15,28],[18,4,18,8],[18,14,18,18],[18,24,18,28],[18,34,18,38],[18,44,18,48],[18,54,18,58],[17,4,17,8],[17,14,17,18],[17,24,17,28],[17,44,17,48],[17,31,17,38],[17,51,17,58],[20,4,20,8],[20,14,20,18],[20,24,20,28],[20,34,20,38],[20,44,20,48],[20,54,20,58],[19,4,19,8],[19,24,19,28],[19,34,19,38],[19,54,19,58],[19,11,19,18],[19,41,19,48],[22,4,22,8],[22,14,22,18],[22,24,22,28],[22,34,22,38],[22,44,22,48],[22,54,22,58],[21,4,21,8],[21,14,21,18],[21,24,21,28],[21,34,21,38],[21,44,21,48],[21,54,21,58],[24,4,24,8],[24,14,24,18],[24,24,24,28],[24,34,24,38],[24,44,24,48],[24,54,24,58],[23,4,23,8],[23,14,23,18],[23,24,23,28],[23,34,23,38],[23,44,23,48],[23,54,23,58],[26,4,26,8],[26,14,26,18],[26,24,26,28],[26,34,26,38],[26,44,26,48],[26,54,26,58],[25,4,25,8],[25,14,25,18],[25,24,25,28],[25,34,25,38],[25,44,25,48],[25,54,25,58],[28,4,28,8],[28,14,28,18],[28,24,28,28],[28,34,28,38],[28,44,28,48],[28,54,28,58],[27,4,27,8],[27,14,27,18],[27,24,27,28],[27,34,27,38],[27,44,27,48],[27,54,27,58],[30,4,30,8],[30,14,30,18],[30,24,30,28],[30,34,30,38],[30,44,30,48],[30,54,30,58],[29,4,29,8],[29,14,29,18],[29,24,29,28],[29,34,29,38],[29,44,29,48],[29,54,29,58],[32,4,32,8],[32,14,32,18],[32,24,32,28],[32,34,32,38],[32,44,32,48],[32,54,32,58],[31,4,31,8],[31,14,31,18],[31,24,31,28],[31,34,31,38],[31,44,31,48],[31,54,31,58],[34,4,34,8],[34,14,34,18],[34,24,34,28],[34,34,34,38],[34,44,34,48],[34,54,34,58],[33,4,33,8],[33,14,33,18],[33,24,33,28],[33,34,33,38],[33,44,33,48],[33,54,33,58],[36,4,36,8],[36,14,36,18],[36,24,36,28],[36,34,36,38],[36,44,36,48],[36,54,36,58],[35,4,35,8],[35,14,35,18],[35,24,35,28],[35,34,35,38],[35,44,35,48],[35,54,35,58],[38,4,38,8],[38,14,38,18],[38,24,38,28],[38,34,38,38],[38,44,38,48],[38,54,38,58],[37,4,37,8],[37,14,37,18],[37,24,37,28],[37,34,37,38],[37,44,37,48],[37,54,37,58],[40,4,40,8],[40,14,40,18],[40,24,40,28],[40,34,40,38],[40,44,40,48],[40,54,40,58],[39,4,39,8],[39,14,39,18],[39,24,39,28],[39,34,39,38],[39,44,39,48],[39,54,39,58],[42,4,42,8],[42,14,42,18],[42,24,42,28],[42,34,42,38],[42,44,42,48],[42,54,42,58],[41,4,41,8],[41,14,41,18],[41,24,41,28],[41,34,41,38],[41,44,41,48],[41,54,41,58]]}
["สุขศึกษาและพลศึกษา"]
[null,{"$f":"\"ตัวชี้วัดรายวิชา\"&ตชว.สุขศึกษา!$A$1&\"  ชั้น ป.1\"","v":"ตัวชี้วัดรายวิชาสุขศึกษาและพลศึกษา  ชั้น ป.1"},null,null,null,null,null,null,null,null,null,{"$f":"\"ตัวชี้วัดรายวิชา\"&ตชว.สุขศึกษา!$A$1&\"  ชั้น ป.2\"","v":"ตัวชี้วัดรายวิชาสุขศึกษาและพลศึกษา  ชั้น ป.2"},null,null,null,null,null,null,null,null,null,{"$f":"\"ตัวชี้วัดรายวิชา\"&ตชว.สุขศึกษา!$A$1&\"  ชั้น ป.3\"","v":"ตัวชี้วัดรายวิชาสุขศึกษาและพลศึกษา  ชั้น ป.3"},null,null,null,null,null,null,null,null,null,{"$f":"\"ตัวชี้วัดรายวิชา\"&ตชว.สุขศึกษา!$A$1&\"  ชั้น ป.4\"","v":"ตัวชี้วัดรายวิชาสุขศึกษาและพลศึกษา  ชั้น ป.4"},null,null,null,null,null,null,null,null,null,{"$f":"\"ตัวชี้วัดรายวิชา\"&ตชว.สุขศึกษา!$A$1&\"  ชั้น ป.5\"","v":"ตัวชี้วัดรายวิชาสุขศึกษาและพลศึกษา  ชั้น ป.5"},null,null,null,null,null,null,null,null,null,{"$f":"\"ตัวชี้วัดรายวิชา\"&ตชว.สุขศึกษา!$A$1&\"  ชั้น ป.6\"","v":"ตัวชี้วัดรายวิชาสุขศึกษาและพลศึกษา  ชั้น ป.6"}]
[null,"ข้อที่","มาตรฐาน","ชั้น/ข้อ","เรื่อง",null,null,null,null,null,null,"ข้อที่","มาตรฐาน","ชั้น/ข้อ","เรื่อง",null,null,null,null,null,null,"ข้อที่","มาตรฐาน","ชั้น/ข้อ","เรื่อง",null,null,null,null,null,null,"ข้อที่","มาตรฐาน","ชั้น/ข้อ","เรื่อง",null,null,null,null,null,null,"ข้อที่","มาตรฐาน","ชั้น/ข้อ","เรื่อง",null,null,null,null,null,null,"ข้อที่","มาตรฐาน","ชั้น/ข้อ","เรื่อง"]
[null,"ตัวชี้วัดระหว่างทาง",null,null,null,null,null,null,null,null,null,"ตัวชี้วัดระหว่างทาง",null,null,null,null,null,null,null,null,null,"ตัวชี้วัดระหว่างทาง",null,null,null,null,null,null,null,null,null,"ตัวชี้วัดระหว่างทาง",null,null,null,null,null,null,null,null,null,"ตัวชี้วัดระหว่างทาง",null,null,null,null,null,null,null,null,null,"ตัวชี้วัดระหว่างทาง"]
[null,1,"พ 1.1","ป.1/1","อธิบายลักษณะและหน้าที่ของอวัยวะภายนอก",null,null,null,null,null,null,1,"พ 1.1","ป.2/1","อธิบายลักษณะ และหนาที่ของอวัยวะภายใน",null,null,null,null,null,null,1,"พ 1.1","ป.3/1","อธิบายลักษณะและการเจริญเติบโตของรางกายมนุษย์",null,null,null,null,null,null,1,"พ 1.1","ป.4/1","อธิบายการเจริญเติบโตและพัฒนาการของร่างกายและจิตใจตามวัย  ",null,null,null,null,null,null,1,"พ 1.1","ป.5/1","อธิบายความสำคัญของระบบย่อยอาหาร และระบบขับถ่ายที่มีผลต่อสุขภาพการเจริญเติบโตและพัฒนาการ",null,null,null,null,null,null,1,"พ 1.1","ป.6/1","อธิบายความสำคัญของระบบสืบพันธุ์ ระบบไหลเวียนโลหิตและระบบหายใจที่มีผลต่อสุขภาพการเจริญเติบโตและพัฒนาการ"]
[null,2,"พ 2.1","ป.1/1","ระบุสมาชิกในครอบครัวและความรักความผูกพันของสมาชิกที่มีตอกัน",null,null,null,null,null,null,2,"พ 1.1","ป.2/3","อธิบายธรรมชาติของชีวิตมนุษย์",null,null,null,null,null,null,2,"พ 1.1","ป.3/3","ระบุปจจัยที่มีผลตอการเจริญเติบโต",null,null,null,null,null,null,2,"พ 1.1","ป.4/2","อธิบายความสำคัญของกล้ามเนื้อ กระดูกและข้อที่มีผลต่อสุขภาพ การเจริญเติบโตและพัฒนาการ",null,null,null,null,null,null,2,"พ 2.1","ป.5/2","อธิบายความสำคัญของการมีครอบครัวที่อบอุ่นตามวัฒนธรรมไทย",null,null,null,null,null,null,2,"พ 2.1","ป.6/1","อธิบายความสำคัญของการสร้างและรักษาสัมพันธภาพกับผู้อื่น"]
[null,3,"พ 2.1","ป.1/3","บอกลักษณะความแตกตางระหวางเพศชาย และเพศหญิง",null,null,null,null,null,null,3,"พ 2.1","ป.2/1","ระบุบทบาทหนาที่ของตนเองและสมาชิกในครอบครัว",null,null,null,null,null,null,3,"พ 2.1","ป.3/1","อธิบายความสําคัญ และความแตกตางของครอบครัวที่มีตอตนเอง",null,null,null,null,null,null,3,"พ 2.1","ป.4/1","อธิบายคุณลักษณะของความเป็นเพื่อนและสมาชิกที่ดีของครอบครัว",null,null,null,null,null,null,3,"พ 2.1","ป.5/3","ระบุพฤติกรรมที่พึงประสงค์ และไม่พึงประสงค์ในการแก้ไขปัญหาความขัดแย้งในครอบครัวและกลุ่มเพื่อน",null,null,null,null,null,null,3,"พ 3.1","ป.6/1","แสดงทักษะการเคลื่อนไหวร่วมกับผู้อื่นในลักษณะแบบผลัดและแบบผสมผสานได้ตามลำดับทั้งแบบอยู่กับที่ เคลื่อนที่ และใช้อุปกรณ์ประกอบและการเคลื่อนไหวประกอบเพลง"]
[null,4,"พ 3.1","ป.1/1","เคลื่อนไหวรางกายขณะอยูกับที่เคลื่อนที่และใชอุปกรณประกอบ",null,null,null,null,null,null,4,"พ 2.1","ป.2/2","บอกความสําคัญของเพื่อน",null,null,null,null,null,null,4,"พ 2.1","ป.3/3","บอกวิธีหลีกเลี่ยงพฤติกรรมที่นําไปสูการลวงละเมิดทางเพศ",null,null,null,null,null,null,4,"พ 2.1","ป.4/3","ยกตัวอย่างวิธีการปฏิเสธการกระทำที่เป็นอันตรายและไม่เหมาะสมในเรื่องเพศ",null,null,null,null,null,null,4,"พ 3.1","ป.5/1","จัดรูปแบบการเคลื่อนไหวแบบผสมผสาน และควบคุมตนเองเมื่อใช้ทักษะการเคลื่อนไหวตามแบบที่กำหนด",null,null,null,null,null,null,4,"พ 3.1","ป.6/2","จำแนกหลักการเคลื่อนไหวในเรื่องการรับแรง การใช้แรง และความสมดุลในการเคลื่อนไหวร่างกายในการเล่นเกม เล่นกีฬา และนำผลมาปรับปรุง เพิ่มพูนวิธีปฏิบัติของตนและผู้อื่น"]
[null,5,"พ 3.2","ป.1/1","ออกกําลังกาย และเลนเกม ตามคําแนะนํา อยางสนุกสนาน",null,null,null,null,null,null,5,"พ 2.1","ป.2/3","ระบุพฤติกรรมที่เหมาะสมกับเพศ",null,null,null,null,null,null,5,"พ 3.1","ป.3/1","ควบคุมการเคลื่อนไหวรางกายขณะอยูกับที่ เคลื่อนที่และใช อุปกรณประกอบอยางมีทิศทาง",null,null,null,null,null,null,5,"พ 3.1","ป.4/1","ควบคุมตนเองเมื่อใช้ทักษะการเคลื่อนไหวในลักษณะผสมผสานได้ทั้งแบบอยู่กับที่เคลื่อนที่และใช้อุปกรณ์ประกอบ",null,null,null,null,null,null,5,"พ 3.1","ป.5/2","เล่มเกมนำไปสู่กีฬาที่เลือกและกิจกรรมการเคลื่อนไหวแบบผลัด",null,null,null,null,null,null,5,"พ 3.1","ป.6/4","ใช้ทักษะกลไก เพื่อปรับปรุงเพิ่มพูนความสามารถของตนและผู้อื่นในการเล่นกีฬา"]
[null,6,"พ 3.2","ป.1/2","ปฏิบัติตนตามกฎ กติกาขอตกลงในการเลนเกมตามคําแนะนํา",null,null,null,null,null,null,6,"พ 3.1","ป.2/1","ควบคุมการเคลื่อนไหวรางกายขณะอยูกับที่ เคลื่อนที่ และใช้อุปกรณประกอบ",null,null,null,null,null,null,6,"พ 3.1","ป.3/2","เคลื่อนไหวรางกายที่ใชทักษะการเคลื่อนไหวแบบบังคับทิศทางในการเลนเกมเบ็ดเตล็ด",null,null,null,null,null,null,6,"พ 3.1","ป.4/2","ฝึกกายบริหารท่ามือเปล่าประกอบจังหวะ",null,null,null,null,null,null,6,"พ 3.1","ป.5/3","ควบคุมการเคลื่อนไหวในเรื่องการรับแรง การใช้แรงและความสมดุล",null,null,null,null,null,null,6,"พ 3.2","ป.6/1","อธิบายประโยชน์และหลักการออกกำลังกายเพื่อสุขภาพ สมรรถภาพทางกายและการสร้างเสริมบุคลิกภาพ"]
[null,7,"พ 4.1","ป.1/2","บอกอาการเจ็บปวยที่เกิดขึ้นกับตนเอง",null,null,null,null,null,null,7,"พ 3.1","ป.2/2","เลมเกมเบ็ดเตล็ดและเขารวมกิจกรรมทางกายที่วิธีเลน อาศัยการเคลื่อนไหวเบื้องตนทั้งแบบอยูกับที่เคลื่อนที่และใชอุปกรณประกอบ",null,null,null,null,null,null,7,"พ 3.2","ป.3/2","ปฏิบัติตามกฎ กติกาและขอตกลงของการออกกําลังกาย การเลนเกม การละเลนพื้นเมืองไดดวยตนเอง",null,null,null,null,null,null,7,"พ 3.1","ป.4/3","เล่นเกมเลียนแบบและกิจกรรมแบบผลัด",null,null,null,null,null,null,7,"พ 3.1","ป.5/4","แสดงทักษะกลไกในการปฏิบัติกิจกรรมทางกายและเล่นกีฬา",null,null,null,null,null,null,7,"พ 3.2","ป.6/2","เล่นเกมที่ใช้ทักษะการวางแผน และสามารถเพิ่มพูนทักษะการออกกำลังกายและเคลื่อนไหวอย่างเป็นระบบ"]
[null,8,"พ 4.1","ป.1/3","ปฏิบัติตนตามคําแนะนําเมื่อมีอาการเจ็บปวย",null,null,null,null,null,null,8,"พ 3.2","ป.2/2","ปฏิบัติตามกฎ กติกาและขอตกลงในการเลนเกมเปนกลุม",null,null,null,null,null,null,8,"พ 4.1","ป.3/2","จําแนกอาหารหลัก ๕ หมู",null,null,null,null,null,null,8,"พ 3.1","ป.4/4","เล่นกีฬาพื้นฐานได้อย่างน้อย ๑ ชนิด",null,null,null,null,null,null,8,"พ 3.1","ป.5/6","ป.๕/๖   อธิบายหลักการและเข้าร่วมกิจกรรมนันทนาการ อย่างน้อย ๑ กิจกรรม",null,null,null,null,null,null,8,"พ 3.2","ป.6/3","เล่นกีฬาที่ตนเองชื่นชอบและสามารถประเมินทักษะการเล่นของตนเป็นประจำ"]
[null,9,"พ 5.1","ป.1/1","ระบุสิ่งที่ทําใหเกิดอันตรายที่บาน โรงเรียน และการปองกัน",null,null,null,null,null,null,9,"พ 4.1","ป.2/1","บอกลักษณะของการมีสุขภาพดี",null,null,null,null,null,null,9,"พ 4.1","ป.3/4","แสดงการแปรงฟนใหสะอาดอยางถูกวิธี",null,null,null,null,null,null,9,"พ 3.2","ป.4/2","ปฏิบัติตามกฎ กติกาการเล่นกีฬาพื้นฐานตามชนิดกีฬาที่เล่น",null,null,null,null,null,null,9,"พ 3.2","ป.5/1","ออกกำลังกายอย่างมีรูปแบบ เล่นเกมที่ใช้ทักษะการคิดและตัดสินใจ  ",null,null,null,null,null,null,9,"พ 3.2","ป.6/4","ปฏิบัติตามกฎ กติกา ตามชนิดกีฬาที่เล่น โดยคำนึงถึงความปลอดภัยของตนเองและผู้อื่น"]
[null,10,"พ 5.1","ป.1/2","บอกสาเหตุและการปองกันอันตรายที่เกิดจากการเลน",null,null,null,null,null,null,10,"พ 4.1","ป.2/2","เลือกกินอาหารที่มีประโยชน",null,null,null,null,null,null,10,"พ 5.1","ป.3/2","แสดงวิธีขอความชวยเหลือจากบุคคลและแหลงตาง ๆ เมื่อเกิดเหตุราย หรืออุบัติเหตุ",null,null,null,null,null,null,10,"พ 4.1","ป.4/1","อธิบายความสัมพันธ์ระหว่างสิ่งแวดล้อมกับสุขภาพ",null,null,null,null,null,null,10,"พ 3.2","ป.5/3","ปฏิบัติตามกฎกติกา การเล่นเกม กีฬาไทยและกีฬาสากล ตามชนิดกีฬาที่เล่น",null,null,null,null,null,null,10,"พ 3.2","ป.6/5","จำแนกกลวิธีการรุก การป้องกันและนำไปใช้ในการเล่นกีฬา"]
[null,"ตัวชี้วัดปลายทาง",null,null,null,null,null,null,null,null,null,11,"พ 4.1","ป.2/3","ระบุของใชและของเลนที่มีผลเสียตอสุขภาพ",null,null,null,null,null,null,11,"พ 5.1","ป.3/3","แสดงวิธีปฐมพยาบาล เมื่อบาดเจ็บจากการเลน",null,null,null,null,null,null,11,"พ 4.1","ป.4/2","อธิบายสภาวะอารมณ์ ความรู้สึกที่มีผลต่อสุขภาพ",null,null,null,null,null,null,11,"พ 3.2","ป.5/4","ปฏิบัติตนตามสิทธิของตนเอง ไม่ละเมิดสิทธิผู้อื่นและยอมรับในความแตกต่างระหว่างบุคคลในการเล่นเกมและกีฬาไทยกีฬาสากล",null,null,null,null,null,null,11,"พ 4.1","ป.6/1","แสดงพฤติกรรมในการป้องกันและแก้ไขปัญหาสิ่งแวดล้อมที่มีผลต่อสุขภาพ"]
[null,1,"พ 1.1","ป.1/2","อธิบายวิธีดูแลรักษาอวัยวะภายนอก",null,null,null,null,null,null,12,"พ 4.1","ป.2/4","อธิบายอาการและวิธีปองกันการเจ็บปวย การบาดเจ็บที่อาจเกิดขึ้น",null,null,null,null,null,null,"ตัวชี้วัดปลายทาง",null,null,null,null,null,null,null,null,null,12,"พ 4.1","ป.4/3","วิเคราะห์ข้อมูลบนฉลากอาหารและผลิตภัณฑ์สุขภาพ เพื่อการเลือกบริโภค",null,null,null,null,null,null,12,"พ 4.1","ป.5/2","ค้นหาข้อมูลข่าวสารเพื่อใช้สร้างเสริมสุขภาพ",null,null,null,null,null,null,12,"พ 4.1","ป.6/4","สร้างเสริมและปรับปรุงสมรรถภาพทางกายเพื่อสุขภาพอย่างต่อเนื่อง"]
[null,2,"พ 2.1","ป.1/2","บอกสิ่งที่ชื่นชอบ และภาคภูมิใจในตนเอง",null,null,null,null,null,null,13,"พ 5.1","ป.2/2","บอกชื่อยาสามัญประจําบานและใชยาตามคําแนะนํา",null,null,null,null,null,null,1,"พ 1.1","ป.3/2","เปรียบเทียบการเจริญเติบโตของตนเองกับเกณฑมาตรฐาน",null,null,null,null,null,null,13,"พ 5.1","ป.4/1","อธิบายความสำคัญของการใช้ยาและใช้ยาอย่างถูกวิธี",null,null,null,null,null,null,13,"พ 4.1","ป.5/4","ปฏิบัติตนในการป้องกันโรคที่พบบ่อยในชีวิตประจำวัน",null,null,null,null,null,null,13,"พ 5.1","ป.6/1","วิเคราะห์ผลกระทบจากความรุนแรงของภัยธรรมชาติที่มีต่อร่างกาย จิตใจและสังคม"]
[null,3,"พ 3.1","ป.1/2","เลนเกมเบ็ดเตล็ดและเขารวมกิจกรรมทางกายที่ใชการเคลื่อนไหวตามธรรมชาติ",null,null,null,null,null,null,14,"พ 5.1","ป.2/3","ระบุโทษของสารเสพติด สารอันตรายใกลตัวและวิธีการปองกัน",null,null,null,null,null,null,2,"พ 2.1","ป.3/2","อธิบายวิธีสรางสัมพันธภาพในครอบครัวและกลุมเพื่อน",null,null,null,null,null,null,"ตัวชี้วัดปลายทาง",null,null,null,null,null,null,null,null,null,14,"พ 5.1","ป.5/1","วิเคราะห์ปัจจัยที่มีอิทธิพลต่อการใช้สารเสพติด",null,null,null,null,null,null,"ตัวชี้วัดปลายทาง"]
[null,4,"พ 4.1","ป.1/1","ปฏิบัติตนตามหลักสุขบัญญัติแหงชาติ  ตามคําแนะนํา",null,null,null,null,null,null,15,"พ 5.1","ป.2/4","ปฏิบัติตนตามสัญลักษณและปายเตือนของสิ่งของหรือสถานที่ที่เปนอันตราย",null,null,null,null,null,null,3,"พ 3.2","ป.3/1","เลือกออกกําลังกาย การละเลนพื้นเมือง และเลนเกม ที่เหมาะสมกับจุดเดน จุดดอยและขอจํากัดของตนเอง",null,null,null,null,null,null,1,"พ 1.1","ป.4/3","อธิบายวิธีดูแลกล้ามเนื้อ กระดูกและข้อให้ทำงานอย่างมีประสิทธิภาพ",null,null,null,null,null,null,15,"พ 5.1","ป.5/2","วิเคราะห์ผลกระทบของการใช้ยา และสารเสพติด ที่มีผลต่อร่างกาย จิตใจ อารมณ์สังคมและสติปัญญา",null,null,null,null,null,null,1,"พ 1.1","ป.6/2","อธิบายวิธีการดูแลรักษาระบบสืบพันธุ์ ระบบไหลเวียนโลหิต และระบบหายใจให้ทำงานตามปกติ"]
[null,5,"พ 5.1","ป.1/3","แสดงคําพูดหรือทาทางขอความชวยเหลือจากผูอื่นเมื่อเกิดเหตุรายที่บานและโรงเรียน",null,null,null,null,null,null,"ตัวชี้วัดปลายทาง",null,null,null,null,null,null,null,null,null,4,"พ 4.1","ป.3/1","อธิบายการติดตอและวิธีการปองกันการแพรกระจายของโรค",null,null,null,null,null,null,2,"พ 2.1","ป.4/2","แสดงพฤติกรรมที่เหมาะสมกับเพศของตนตามวัฒนธรรมไทย",null,null,null,null,null,null,"ตัวชี้วัดปลายทาง",null,null,null,null,null,null,null,null,null,2,"พ 2.1","ป.6/2","วิเคราะห์พฤติกรรมเสี่ยงที่อาจนำไปสู่การมีเพศสัมพันธ์ การติดเชื้อเอดส์ และการตั้งครรภ์ก่อนวัยอันควร"]
[null,null,null,null,null,null,null,null,null,null,null,1,"พ 1.1","ป.2/2","อธิบายวิธีดูแลรักษาอวัยวะภายใน",null,null,null,null,null,null,5,"พ 4.1","ป.3/3","เลือกกินอาหารที่หลากหลายครบ ๕ หมู ในสัดสวนที่เหมาะสม",null,null,null,null,null,null,3,"พ 3.2","ป.4/1","ออกกำลังกาย เล่นเกม และกีฬาที่ตนเองชอบและมีความสามารถในการวิเคราะห์ผลพัฒนาการของตนเองตามตัวอย่างและแบบปฏิบัติของผู้อื่น",null,null,null,null,null,null,1,"พ 1.1","ป.5/2","อธิบายวิธีดูแลระบบย่อยอาหารและระบบขับถ่ายให้ทำงานตามปกติ",null,null,null,null,null,null,3,"พ 3.1","ป.6/3","เล่นกีฬาไทย กีฬาสากลประเภทบุคคลและประเภททีมได้อย่างละ ๑ ชนิด"]
[null,null,null,null,null,null,null,null,null,null,null,2,"พ 2.1","ป.2/4","อธิบายความภาคภูมิใจในความเปนเพศหญิง หรือเพศชาย",null,null,null,null,null,null,6,"พ 4.1","ป.3/5","สรางเสริมสมรรถภาพทางกายไดตามคําแนะนํา",null,null,null,null,null,null,4,"พ 4.1","ป.4/4","ทดสอบและปรับปรุงสมรรถภาพทางกายตามผลการตรวจสอบสมรรถภาพทางกาย",null,null,null,null,null,null,2,"พ 2.1","ป.5/1","อธิบายการเปลี่ยนแปลงทางเพศและปฏิบัติตนได้เหมาะสม",null,null,null,null,null,null,4,"พ 3.1","ป.6/5","ร่วมกิจกรรมนันทนาการอย่างน้อย ๑ กิจกรรม แล้วนำความรู้และหลักการที่ได้ไปใช้เป็นฐานการศึกษาหาความรู้เรื่องอื่น ๆ"]
[null,null,null,null,null,null,null,null,null,null,null,3,"พ 3.2","ป.2/1","ออกกําลังกาย และเลนเกม ได้ดวยตนเองอยางสนุกสนาน",null,null,null,null,null,null,7,"พ 5.1","ป.3/1","ปฏิบัติตนเพื่อความปลอดภัยจากอุบัติเหตุในบาน โรงเรียน และการเดินทาง",null,null,null,null,null,null,5,"พ 5.1","ป.4/2","แสดงวิธีปฐมพยาบาลเมื่อได้รับอันตรายจากการใช้ยาผิด สารเคมี แมลงสัตว์กัดต่อยและการบาดเจ็บจากการเล่นกีฬา",null,null,null,null,null,null,3,"พ 3.1","ป.5/5","เล่นกีฬาไทยและกีฬาสากลประเภทบุคคลและประเภททีมได้อย่างละ ๑ ชนิด",null,null,null,null,null,null,5,"พ 3.2","ป.6/6","เล่นเกมและกีฬาด้วยความสามัคคีและมีน้ำใจนักกีฬา"]
[null,null,null,null,null,null,null,null,null,null,null,4,"พ 4.1","ป.2/5","ปฏิบัติตามคําแนะนําเมื่อมีอาการเจ็บปวยและบาดเจ็บ",null,null,null,null,null,null,null,null,null,null,null,null,null,null,null,null,6,"พ 5.1","ป.4/3","วิเคราะห์ผลเสียของการสูบบุหรี่ และการดื่มสุราที่มีต่อสุขภาพและการป้องกัน",null,null,null,null,null,null,4,"พ 3.2","ป.5/2","เล่นกีฬาที่ตนเองชอบอย่างสม่ำเสมอ โดยสร้างทางเลือกในวิธีปฏิบัติของตนเองอย่างหลากหลายและมีน้ำใจนักกีฬา",null,null,null,null,null,null,6,"พ 4.1","ป.6/2","วิเคราะห์ผลกระทบที่เกิดจากการระบาดของโรคและเสนอแนวทางการป้องกันโรคติดต่อสำคัญที่พบในประเทศไทย"]
[null,null,null,null,null,null,null,null,null,null,null,5,"พ 5.1","ป.2/1","ปฏิบัติตนในการปองกันอุบัติเหตุที่อาจเกิดขึ้นทางน้ำ และทางบก",null,null,null,null,null,null,null,null,null,null,null,null,null,null,null,null,null,null,null,null,null,null,null,null,null,null,5,"พ 4.1","ป.5/1","แสดงพฤติกรรมที่เห็นความสำคัญของการปฏิบัติตนตามสุขบัญญัติแห่งชาติ",null,null,null,null,null,null,7,"พ 4.1","ป.6/3","แสดงพฤติกรรมที่บ่งบอกถึงความรับผิดชอบต่อสุขภาพของส่วนรวม"]
[null,null,null,null,null,null,null,null,null,null,null,6,"พ 5.1","ป.2/5","อธิบายสาเหตุ อันตราย วิธีปองกันอัคคีภัยและแสดงการหนีไฟ",null,null,null,null,null,null,null,null,null,null,null,null,null,null,null,null,null,null,null,null,null,null,null,null,null,null,6,"พ 4.1","ป.5/3","วิเคราะห์สื่อโฆษณาในการตัดสินใจเลือกซื้ออาหาร และผลิตภัณฑ์สุขภาพอย่างมีเหตุผล",null,null,null,null,null,null,8,"พ 5.1","ป.6/2","ระบุวิธีปฏิบัติตนเพื่อความปลอดภัยจากธรรมชาติ"]
[null,null,null,null,null,null,null,null,null,null,null,null,null,null,null,null,null,null,null,null,null,null,null,null,null,null,null,null,null,null,null,null,null,null,null,null,null,null,null,null,null,7,"พ 4.1","ป.5/5","ทดสอบและปรับปรุงสมรรถภาพทางกายตามผลการทดสอบสมรรถภาพทางกาย",null,null,null,null,null,null,9,"พ 5.1","ป.6/3","วิเคราะห์สาเหตุของการติดสารเสพติด และชักชวนให้ผู้อื่นหลีกเลี่ยงสารเสพติด"]
[null,null,null,null,null,null,null,null,null,null,null,null,null,null,null,null,null,null,null,null,null,null,null,null,null,null,null,null,null,null,null,null,null,null,null,null,null,null,null,null,null,8,"พ 5.1","ป.5/3","ปฏิบัติตนเพื่อความปลอดภัยจากการใช้ยาและหลีกเลี่ยงสารเสพติด",null,null,null,null,null,null,25]
[null,null,null,null,null,null,null,null,null,null,null,null,null,null,null,null,null,null,null,null,null,null,null,null,null,null,null,null,null,null,null,null,null,null,null,null,null,null,null,null,null,9,"พ 5.1","ป.5/4","วิเคราะห์อิทธิพลของสื่อที่มีต่อพฤติกรรมสุขภาพ",null,null,null,null,null,null,26]
[null,null,null,null,null,null,null,null,null,null,null,null,null,null,null,null,null,null,null,null,null,null,null,null,null,null,null,null,null,null,null,null,null,null,null,null,null,null,null,null,null,10,"พ 5.1","ป.5/5","ปฏิบัติตนเพื่อป้องกันอันตรายจากการเล่นกีฬา",null,null,null,null,null,null,27]
[null,null,null,null,null,null,null,null,null,null,null,null,null,null,null,null,null,null,null,null,null,null,null,null,null,null,null,null,null,null,null,null,null,null,null,null,null,null,null,null,null,null,null,null,null,null,null,null,null,null,null,28]
[null,null,null,null,null,null,null,null,null,null,null,null,null,null,null,null,null,null,null,null,null,null,null,null,null,null,null,null,null,null,null,null,null,null,null,null,null,null,null,null,null,null,null,null,null,null,null,null,null,null,null,29]
[null,null,null,null,null,null,null,null,null,null,null,null,null,null,null,null,null,null,null,null,null,null,null,null,null,null,null,null,null,null,null,null,null,null,null,null,null,null,null,null,null,null,null,null,null,null,null,null,null,null,null,30]
[null,null,null,null,null,null,null,null,null,null,null,null,null,null,null,null,null,null,null,null,null,null,null,null,null,null,null,null,null,null,null,null,null,null,null,null,null,null,null,null,null,null,null,null,null,null,null,null,null,null,null,31]
[null,null,null,null,null,null,null,null,null,null,null,null,null,null,null,null,null,null,null,null,null,null,null,null,null,null,null,null,null,null,null,null,null,null,null,null,null,null,null,null,null,null,null,null,null,null,null,null,null,null,null,32]
[null,null,null,null,null,null,null,null,null,null,null,null,null,null,null,null,null,null,null,null,null,null,null,null,null,null,null,null,null,null,null,null,null,null,null,null,null,null,null,null,null,null,null,null,null,null,null,null,null,null,null,33]
[null,null,null,null,null,null,null,null,null,null,null,null,null,null,null,null,null,null,null,null,null,null,null,null,null,null,null,null,null,null,null,null,null,null,null,null,null,null,null,null,null,null,null,null,null,null,null,null,null,null,null,34]
[null,null,null,null,null,null,null,null,null,null,null,null,null,null,null,null,null,null,null,null,null,null,null,null,null,null,null,null,null,null,null,null,null,null,null,null,null,null,null,null,null,null,null,null,null,null,null,null,null,null,null,35]
[null,null,null,null,null,null,null,null,null,null,null,null,null,null,null,null,null,null,null,null,null,null,null,null,null,null,null,null,null,null,null,null,null,null,null,null,null,null,null,null,null,null,null,null,null,null,null,null,null,null,null,36]
[null,null,null,null,null,null,null,null,null,null,null,null,null,null,null,null,null,null,null,null,null,null,null,null,null,null,null,null,null,null,null,null,null,null,null,null,null,null,null,null,null,null,null,null,null,null,null,null,null,null,null,37]
[null,null,null,null,null,null,null,null,null,null,null,null,null,null,null,null,null,null,null,null,null,null,null,null,null,null,null,null,null,null,null,null,null,null,null,null,null,null,null,null,null,null,null,null,null,null,null,null,null,null,null,38]
[null,null,null,null,null,null,null,null,null,null,null,null,null,null,null,null,null,null,null,null,null,null,null,null,null,null,null,null,null,null,null,null,null,null,null,null,null,null,null,null,null,null,null,null,null,null,null,null,null,null,null,39]
[null,null,null,null,null,null,null,null,null,null,null,null,null,null,null,null,null,null,null,null,null,null,null,null,null,null,null,null,null,null,null,null,null,null,null,null,null,null,null,null,null,null,null,null,null,null,null,null,null,null,null,40]

{"sheet":"ตชว.ศิลปะ","index":25,"n_rows":34,"n_cols":55,"rows_kept":34,"cut":false,"hidden":false,"merged":[[1,1,1,8],[1,11,1,18],[1,21,1,28],[1,31,1,38],[1,41,1,48],[1,51,1,58],[4,4,4,8],[4,14,4,18],[4,24,4,28],[4,34,4,38],[4,44,4,48],[4,54,4,58],[3,1,3,8],[3,11,3,18],[3,21,3,28],[3,31,3,38],[3,41,3,48],[3,51,3,58],[6,4,6,8],[6,14,6,18],[6,24,6,28],[6,34,6,38],[6,44,6,48],[6,54,6,58],[5,4,5,8],[5,14,5,18],[5,24,5,28],[5,34,5,38],[5,44,5,48],[5,54,5,58],[8,4,8,8],[8,14,8,18],[8,24,8,28],[8,34,8,38],[8,44,8,48],[8,54,8,58],[7,4,7,8],[7,14,7,18],[7,24,7,28],[7,34,7,38],[7,44,7,48],[7,54,7,58],[10,4,10,8],[10,14,10,18],[10,24,10,28],[10,34,10,38],[10,44,10,48],[10,54,10,58],[9,4,9,8],[9,14,9,18],[9,24,9,28],[9,34,9,38],[9,44,9,48],[9,54,9,58],[12,4,12,8],[12,14,12,18],[12,24,12,28],[12,34,12,38],[12,44,12,48],[12,54,12,58],[11,4,11,8],[11,14,11,18],[11,24,11,28],[11,34,11,38],[11,44,11,48],[11,54,11,58],[14,4,14,8],[14,14,14,18],[14,24,14,28],[14,34,14,38],[14,44,14,48],[14,54,14,58],[13,4,13,8],[13,14,13,18],[13,24,13,28],[13,34,13,38],[13,44,13,48],[13,54,13,58],[16,4,16,8],[16,14,16,18],[16,24,16,28],[16,34,16,38],[16,44,16,48],[16,54,16,58],[15,14,15,18],[15,24,15,28],[15,34,15,38],[15,44,15,48],[15,54,15,58],[15,1,15,8],[18,4,18,8],[18,14,18,18],[18,24,18,28],[18,34,18,38],[18,44,18,48],[18,54,18,58],[17,4,17,8],[17,14,17,18],[17,24,17,28],[17,34,17,38],[17,44,17,48],[17,54,17,58],[20,4,20,8],[20,24,20,28],[20,34,20,38],[19,4,19,8],[19,14,19,18],[19,24,19,28],[19,34,19,38],[19,44,19,48],[19,54,19,58],[20,11,20,18],[20,41,20,48],[20,51,20,58],[22,4,22,8],[22,14,22,18],[22,24,22,28],[22,44,22,48],[22,54,22,58],[21,4,21,8],[21,14,21,18],[21,24,21,28],[21,34,21,38],[21,44,21,48],[21,54,21,58],[22,31,22,38],[24,4,24,8],[24,14,24,18],[24,24,24,28],[24,34,24,38],[24,44,24,48],[24,54,24,58],[23,4,23,8],[23,14,23,18],[23,24,23,28],[23,34,23,38],[23,44,23,48],[23,54,23,58],[26,4,26,8],[26,14,26,18],[26,24,26,28],[26,34,26,38],[26,44,26,48],[26,54,26,58],[25,4,25,8],[25,14,25,18],[25,34,25,38],[25,44,25,48],[25,54,25,58],[25,21,25,28],[28,4,28,8],[28,14,28,18],[28,24,28,28],[28,34,28,38],[28,44,28,48],[28,54,28,58],[27,4,27,8],[27,14,27,18],[27,24,27,28],[27,34,27,38],[27,44,27,48],[27,54,27,58],[30,4,30,8],[30,14,30,18],[30,24,30,28],[30,34,30,38],[30,44,30,48],[30,54,30,58],[29,4,29,8],[29,14,29,18],[29,24,29,28],[29,34,29,38],[29,44,29,48],[29,54,29,58],[32,4,32,8],[32,14,32,18],[32,24,32,28],[32,34,32,38],[32,44,32,48],[32,54,32,58],[31,4,31,8],[31,14,31,18],[31,24,31,28],[31,34,31,38],[31,44,31,48],[31,54,31,58],[34,4,34,8],[34,14,34,18],[34,24,34,28],[34,34,34,38],[34,44,34,48],[34,54,34,58],[33,4,33,8],[33,14,33,18],[33,24,33,28],[33,34,33,38],[33,44,33,48],[33,54,33,58],[36,4,36,8],[36,14,36,18],[36,24,36,28],[36,34,36,38],[36,44,36,48],[36,54,36,58],[35,4,35,8],[35,14,35,18],[35,24,35,28],[35,34,35,38],[35,44,35,48],[35,54,35,58],[38,4,38,8],[38,14,38,18],[38,24,38,28],[38,34,38,38],[38,44,38,48],[38,54,38,58],[37,4,37,8],[37,14,37,18],[37,24,37,28],[37,34,37,38],[37,44,37,48],[37,54,37,58],[40,4,40,8],[40,14,40,18],[40,24,40,28],[40,34,40,38],[40,44,40,48],[40,54,40,58],[39,4,39,8],[39,14,39,18],[39,24,39,28],[39,34,39,38],[39,44,39,48],[39,54,39,58],[42,4,42,8],[42,14,42,18],[42,24,42,28],[42,34,42,38],[42,44,42,48],[42,54,42,58],[41,4,41,8],[41,14,41,18],[41,24,41,28],[41,34,41,38],[41,44,41,48],[41,54,41,58]]}
["ศิลปะ"]
[null,{"$f":"\"ตัวชี้วัดรายวิชา\"&ตชว.ศิลปะ!$A$1&\"  ชั้น ป.1\"","v":"ตัวชี้วัดรายวิชาศิลปะ  ชั้น ป.1"},null,null,null,null,null,null,null,null,null,{"$f":"\"ตัวชี้วัดรายวิชา\"&ตชว.ศิลปะ!$A$1&\"  ชั้น ป.2\"","v":"ตัวชี้วัดรายวิชาศิลปะ  ชั้น ป.2"},null,null,null,null,null,null,null,null,null,{"$f":"\"ตัวชี้วัดรายวิชา\"&ตชว.ศิลปะ!$A$1&\"  ชั้น ป.3\"","v":"ตัวชี้วัดรายวิชาศิลปะ  ชั้น ป.3"},null,null,null,null,null,null,null,null,null,{"$f":"\"ตัวชี้วัดรายวิชา\"&ตชว.ศิลปะ!$A$1&\"  ชั้น ป.4\"","v":"ตัวชี้วัดรายวิชาศิลปะ  ชั้น ป.4"},null,null,null,null,null,null,null,null,null,{"$f":"\"ตัวชี้วัดรายวิชา\"&ตชว.ศิลปะ!$A$1&\"  ชั้น ป.5\"","v":"ตัวชี้วัดรายวิชาศิลปะ  ชั้น ป.5"},null,null,null,null,null,null,null,null,null,{"$f":"\"ตัวชี้วัดรายวิชา\"&ตชว.ศิลปะ!$A$1&\"  ชั้น ป.6\"","v":"ตัวชี้วัดรายวิชาศิลปะ  ชั้น ป.6"}]
[null,"ข้อที่","มาตรฐาน","ชั้น/ข้อ","เรื่อง",null,null,null,null,null,null,"ข้อที่","มาตรฐาน","ชั้น/ข้อ","เรื่อง",null,null,null,null,null,null,"ข้อที่","มาตรฐาน","ชั้น/ข้อ","เรื่อง",null,null,null,null,null,null,"ข้อที่","มาตรฐาน","ชั้น/ข้อ","เรื่อง",null,null,null,null,null,null,"ข้อที่","มาตรฐาน","ชั้น/ข้อ","เรื่อง",null,null,null,null,null,null,"ข้อที่","มาตรฐาน","ชั้น/ข้อ","เรื่อง"]
[null,"ตัวชี้วัดระหว่างทาง",null,null,null,null,null,null,null,null,null,"ตัวชี้วัดระหว่างทาง",null,null,null,null,null,null,null,null,null,"ตัวชี้วัดระหว่างทาง",null,null,null,null,null,null,null,null,null,"ตัวชี้วัดระหว่างทาง",null,null,null,null,null,null,null,null,null,"ตัวชี้วัดระหว่างทาง",null,null,null,null,null,null,null,null,null,"ตัวชี้วัดระหว่างทาง"]
[null,1,"ศ 1.1","ป.1/1","อภิปรายเกี่ยวกับรูปราง ลักษณะและขนาดของสิ่งตาง ๆ รอบตัวในธรรมชาติและสิ่งที่มนุษยสรางขึ้น",null,null,null,null,null,null,1,"ศ 1.1","ป.2/1","บรรยายรูปราง รูปทรงที่พบในธรรมชาติ  และสิ่งแวดลอม",null,null,null,null,null,null,1,"ศ 1.1","ป.3/1","บรรยาย รูปราง รูปทรงในธรรมชาติ  สิ่งแวดลอม และงานทัศนศิลป",null,null,null,null,null,null,1,"ศ 1.1","ป.4/1","เปรียบเทียบรูปลักษณะของรูปร่าง  รูปทรงในธรรมชาติสิ่งแวดล้อมและงานทัศนศิลป์",null,null,null,null,null,null,1,"ศ 1.1","ป.5/1","บรรยายเกี่ยวกับจังหวะตำแหน่งของสิ่งต่าง ๆ ที่ปรากฏในสิ่งแวดล้อมและงานทัศนศิลป์",null,null,null,null,null,null,1,"ศ 1.1","ป.6/1","ระบุสีคู่ตรงข้ามและอภิปรายเกี่ยวกับการใช้สีคู่ตรงข้ามในการถ่ายทอดความคิดและอารมณ์"]
[null,2,"ศ 1.1","ป.1/2","บอกความรูสึกที่มีตอธรรมชาติ และสิ่งแวดลอมรอบตัว",null,null,null,null,null,null,2,"ศ 1.1","ป.2/2","ระบุทัศนธาตุที่อยูในสิ่งแวดลอมและงานทัศนศิลป โดยเนนเรื่องเสนสี รูปราง และรูปทรง",null,null,null,null,null,null,2,"ศ 1.1","ป.3/2","ระบุ วัสดุ อุปกรณที่ใชสรางผลงานเมื่อชมงานทัศนศิลป",null,null,null,null,null,null,2,"ศ 1.1","ป.4/2","อภิปรายเกี่ยวกับอิทธิพลของสีวรรณะอุ่นและสีวรรณะเย็นที่มีต่ออารมณ์ของมนุษย์",null,null,null,null,null,null,2,"ศ 1.1","ป.5/5","สร้างสรรค์งานพิมพ์ภาพ  โดยเน้นการจัดวางตำแหน่งของสิ่งต่าง ๆ  ในภาพ",null,null,null,null,null,null,2,"ศ 1.1","ป.6/2","อธิบายหลักการจัดขนาดสัดส่วนความสมดุลในการสร้างงานทัศนศิลป์"]
[null,3,"ศ 1.1","ป.1/3","มีทักษะพื้นฐานในการใชวัสดุอุปกรณสรางงานทัศนศิลป",null,null,null,null,null,null,3,"ศ 1.1","ป.2/4","มีทักษะพื้นฐานในการใชวัสดุอุปกรณ สรางงานทัศนศิลป 3  มิติ",null,null,null,null,null,null,3,"ศ 1.1","ป.3/3","จําแนกทัศนธาตุของสิ่งตางๆ ในธรรมชาติสิ่งแวดลอมและงานทัศนศิลปโดยเนนเรื่อง เสน สี รูปราง รูปทรงและพื้นผิว",null,null,null,null,null,null,3,"ศ 1.1","ป.4/4","มีทักษะพื้นฐานในการใช้วัสดุ  อุปกรณ์สร้างสรรค์งานพิมพ์ภาพ",null,null,null,null,null,null,3,"ศ 1.2","ป.5/1","ระบุและบรรยายเกี่ยวกับลักษณะรูปแบบของงานทัศนศิลป์ในแหล่งเรียนรู้หรือนิทรรศการศิลปะ",null,null,null,null,null,null,3,"ศ 1.2","ป.6/1","บรรยายบทบาทของงานทัศนศิลป์ที่สะท้อนชีวิตและสังคม"]
[null,4,"ศ 2.1","ป.1/1","รูวาสิ่งตาง ๆ สามารถกอกําเนิดเสียงที่แตกตางกัน",null,null,null,null,null,null,4,"ศ 1.1","ป.2/6","วาดภาพเพื่อถายทอดเรื่องราวเกี่ยวกับครอบครัวของตนเองและเพื่อนบาน",null,null,null,null,null,null,4,"ศ 1.1","ป.3/4","วาดภาพ ระบายสีสิ่งของรอบตัว",null,null,null,null,null,null,4,"ศ 1.1","ป.4/5","มีทักษะพื้นฐานในการใช้วัสดุ  อุปกรณ์สร้างสรรค์งานวาดภาพระบายสี",null,null,null,null,null,null,4,"ศ 1.2","ป.5/2","อภิปรายเกี่ยวกับงานทัศนศิลป์ที่สะท้อนวัฒนธรรมและภูมิปัญญาในท้องถิ่น",null,null,null,null,null,null,4,"ศ 1.2","ป.6/3","ระบุและบรรยายอิทธิพลทางวัฒนธรรมในท้องถิ่นที่มีผลต่อการสร้างงานทัศนศิลป์ของบุคคล"]
[null,5,"ศ 2.1","ป.1/3","ทองบทกลอน รองเพลงงาย ๆ",null,null,null,null,null,null,5,"ศ 1.2","ป.2/1","บอกความสําคัญของงานทัศนศิลปที่พบเห็นในชีวิตประจําวัน",null,null,null,null,null,null,5,"ศ 1.1","ป.3/5","มีทักษะพื้นฐาน ในการใชวัสดุอุปกรณสรางสรรคงานปน",null,null,null,null,null,null,5,"ศ 1.1","ป.4/9","เลือกใช้วรรณะสีเพื่อถ่ายทอดอารมณ์  ความรู้สึกในการสร้างงานทัศนศิลป์",null,null,null,null,null,null,5,"ศ 2.1","ป.5/2","จำแนกลักษณะของเสียงขับร้องและเครื่องดนตรีที่อยู่ในวงดนตรีประเภทต่าง ๆ",null,null,null,null,null,null,5,"ศ 2.1","ป.6/1","บรรยายเพลงที่ฟัง โดยอาศัยองค์ประกอบดนตรี และศัพท์สังคีต"]
[null,6,"ศ 2.1","ป.1/5","บอกความเกี่ยวของของเพลงที่ใชในชีวิตประจําวัน",null,null,null,null,null,null,6,"ศ 2.1","ป.2/1","จําแนกแหลงกําเนิด ของเสียงที่ไดยิน",null,null,null,null,null,null,6,"ศ 1.1","ป.3/9","ระบุ และจัดกลุมของภาพตามทัศนธาตุที่เนนในงานทัศนศิลปนั้น ๆ",null,null,null,null,null,null,6,"ศ 1.2","ป.4/2","บรรยายเกี่ยวกับงานทัศนศิลป์ที่มาจากวัฒนธรรมต่าง ๆ",null,null,null,null,null,null,6,"ศ 2.1","ป.5/3","อ่าน เขียนโน้ตดนตรีไทยและสากล ๕ ระดับเสียง",null,null,null,null,null,null,6,"ศ 2.1","ป.6/2","จำแนกประเภทและบทบาทหน้าที่เครื่องดนตรีไทยและเครื่องดนตรีที่มาจากวัฒนธรรมต่าง ๆ "]
[null,7,"ศ 2.2","ป.1/1","เลาถึงเพลงในทองถิ่น",null,null,null,null,null,null,7,"ศ 2.1","ป.2/2","จําแนกคุณสมบัติของเสียง สูง- ต่ำ ,ดัง-เบา ยาว-สั้น ของดนตรี",null,null,null,null,null,null,7,"ศ 1.1","ป.3/10","บรรยายลักษณะรูปราง รูปทรงในงานการออกแบบสิ่งตาง ๆ ที่มีในบานและโรงเรียน",null,null,null,null,null,null,7,"ศ 2.1","ป.4/3","ระบุทิศทางการเคลื่อนที่ขึ้น – ลงง่าย ๆ  ของทำนอง รูปแบบจังหวะและความเร็วของจังหวะในเพลงที่ฟัง",null,null,null,null,null,null,7,"ศ 2.1","ป.5/4","ใช้เครื่องดนตรีบรรเลงจังหวะและทำนอง",null,null,null,null,null,null,7,"ศ 2.1","ป.6/3","อ่าน เขียนโน้ตไทย และโน้ตสากลทำนองง่าย ๆ "]
[null,8,"ศ 2.2","ป.1/2","ระบุสิ่งที่ชื่นชอบในดนตรีทองถิ่น",null,null,null,null,null,null,8,"ศ 2.1","ป.2/3","เคาะจังหวะหรือเคลื่อนไหวรางกายใหสอดคลองกับเนื้อหาของเพลง",null,null,null,null,null,null,8,"ศ 1.2","ป.3/1","เลาถึงที่มาของงานทัศนศิลปในทองถิ่น",null,null,null,null,null,null,8,"ศ 2.1","ป.4/4","อ่าน  เขียน  โน้ตดนตรีไทยและสากล",null,null,null,null,null,null,8,"ศ 2.1","ป.5/6","ด้นสดง่ายๆ โดยใช้ประโยคเพลงแบบถามตอบ",null,null,null,null,null,null,8,"ศ 2.1","ป.6/5","บรรยายความรู้สึกที่มีต่อดนตรี"]
[null,9,"ศ 3.1","ป.1/1","เลียนแบบการเคลื่อนไหว",null,null,null,null,null,null,9,"ศ 2.1","ป.2/5","บอกความหมายและความสําคัญของเพลงที่ไดยิน",null,null,null,null,null,null,9,"ศ 2.1","ป.3/1","ระบุรูปรางลักษณะของเครื่องดนตรีที่เห็นและไดยินในชีวิตประจําวัน",null,null,null,null,null,null,9,"ศ 2.1","ป.4/6","ใช้และเก็บเครื่องดนตรีอย่างถูกต้องและปลอดภัย",null,null,null,null,null,null,9,"ศ 2.1","ป.5/7","ใช้ดนตรีร่วมกับกิจกรรมในการแสดงออกตามจินตนาการ",null,null,null,null,null,null,9,"ศ 2.2","ป.6/2","จำแนกดนตรีที่มาจากยุคสมัยที่ต่างกัน  "]
[null,10,"ศ 3.1","ป.1/3","บอกสิ่งที่ตนเองชอบ จากการดูหรือรวมการแสดง",null,null,null,null,null,null,10,"ศ 2.2","ป.2/2","แสดงและเขารวมกิจกรรมทางดนตรีในทองถิ่น",null,null,null,null,null,null,10,"ศ 2.1","ป.3/2","ใชรูปภาพหรือสัญลักษณแทนเสียงและจังหวะเคาะ",null,null,null,null,null,null,10,"ศ 2.1","ป.4/7","ระบุว่าดนตรีสามารถใช้ในการสื่อเรื่องราว",null,null,null,null,null,null,10,"ศ 2.2","ป.5/2","อธิบายคุณค่าของดนตรีที่มาจากวัฒนธรรมที่ต่างกัน",null,null,null,null,null,null,10,"ศ 2.2","ป.6/3","อภิปรายอิทธิพลของวัฒนธรรมต่อดนตรีในท้องถิ่น"]
[null,11,"ศ 3.2","ป.1/2","บอกสิ่งที่ตนเองชอบในการแสดงนาฏศิลป",null,null,null,null,null,null,11,"ศ 3.1","ป.2/1","เคลื่อนไหวขณะอยูกับที่และเคลื่อนที่",null,null,null,null,null,null,11,"ศ 2.1","ป.3/3","บอกบทบาทหนาที่ของเพลงที่ไดยิน",null,null,null,null,null,null,11,"ศ 2.2","ป.4/2","ระบุความสำคัญในการอนุรักษ์ส่งเสริมวัฒนธรรมทางดนตรี",null,null,null,null,null,null,11,"ศ 3.1","ป.5/1","บรรยายองค์ประกอบนาฏศิลป์",null,null,null,null,null,null,11,"ศ 3.1","ป.6/2","ออกแบบเครื่องแต่งกายหรืออุปกรณ์ประกอบการแสดงอย่างง่าย ๆ"]
[null,"ตัวชี้วัดปลายทาง",null,null,null,null,null,null,null,null,null,12,"ศ 3.1","ป.2/2","แสดงการเคลื่อนไหวที่สะทอนอารมณของตนเองอยางอิสระ",null,null,null,null,null,null,12,"ศ 2.1","ป.3/5","เคลื่อนไหวทาทางสอดคลองกับอารมณของเพลงที่ฟง",null,null,null,null,null,null,12,"ศ 3.1","ป.4/1","ระบุทักษะพื้นฐานทางนาฏศิลป์และการละครที่ใช้สื่อความหมายและอารมณ์",null,null,null,null,null,null,12,"ศ 3.1","ป.5/2","แสดงท่าทางประกอบเพลงหรือเรื่องราวตามความคิดของตน",null,null,null,null,null,null,12,"ศ 3.1","ป.6/3","แสดงนาฏศิลป์และละครง่าย ๆ"]
[null,1,"ศ 1.1","ป.1/4","สรางงานทัศนศิลปโดยการทดลองใชสีดวยเทคนิคงาย ๆ",null,null,null,null,null,null,13,"ศ 3.1","ป.2/3","แสดงทาทาง เพื่อสื่อความหมายแทนคําพูด",null,null,null,null,null,null,13,"ศ 2.1","ป.3/6","แสดงความคิดเห็นเกี่ยวกับเสียงดนตรีเสียงขับรองของตนเองและผูอื่น",null,null,null,null,null,null,13,"ศ 3.1","ป.4/3","แสดงการเคลื่อนไหวในจังหวะต่าง ๆ ตามความคิดของตน",null,null,null,null,null,null,13,"ศ 3.1","ป.5/4","มีส่วนร่วมในกลุ่มกับการเขียนเค้าโครงเรื่องหรือบทละครสั้น ๆ",null,null,null,null,null,null,13,"ศ 3.1","ป.6/4","บรรยายความรู้สึกของตนเองที่มีต่องานนาฏศิลป์และการละครอย่างสร้างสรรค์"]
[null,2,"ศ 1.1","ป.1/5","วาดภาพระบายสีภาพธรรมชาติตามความรูสึกของตนเอง",null,null,null,null,null,null,14,"ศ 3.1","ป.2/5","ระบุมารยาทในการชมการแสดง",null,null,null,null,null,null,14,"ศ 2.1","ป.3/7","นําดนตรีไปใชในชีวิตประจําวันหรือโอกาสตาง ๆ ไดอยางเหมาะสม",null,null,null,null,null,null,14,"ศ 3.1","ป.4/4","แสดงนาฏศิลป์เป็นคู่และหมู่",null,null,null,null,null,null,14,"ศ 3.1","ป.5/6","บอกประโยชน์ที่ได้รับจากการชมการแสดง",null,null,null,null,null,null,14,"ศ 3.1","ป.6/5","แสดงความคิดเห็นในการชมการแสดง"]
[null,3,"ศ 1.2","ป.1/1","ระบุงานทัศนศิลปในชีวิตประจําวัน",null,null,null,null,null,null,15,"ศ 3.2","ป.2/1","ระบุและเลนการละเลนพื้นบาน",null,null,null,null,null,null,15,"ศ 2.2","ป.3/1","ระบุลักษณะเดนและเอกลักษณของดนตรีในทองถิ่น",null,null,null,null,null,null,15,"ศ 3.1","ป.4/5","เล่าสิ่งที่ชื่นชอบในการแสดงโดยเน้นจุดสำคัญของเรื่องและลักษณะเด่นของตัวละคร",null,null,null,null,null,null,15,"ศ 3.2","ป.5/1","เปรียบเทียบการแสดงประเภทต่าง ๆ ของไทยในแต่ละท้องถิ่น",null,null,null,null,null,null,15,"ศ 3.1","ป.6/6","อธิบายความสัมพันธ์ระหว่างนาฏศิลป์และการละครกับสิ่งที่ประสบในชีวิตประจำวัน"]
[null,4,"ศ 2.1","ป.1/2","บอกลักษณะของเสียงดัง-เบา และความชา- เร็วของจังหวะ",null,null,null,null,null,null,16,"ศ 3.2","ป.2/3","ระบุสิ่งที่ชื่นชอบและภาคภูมิใจในการละเลนพื้นบาน",null,null,null,null,null,null,16,"ศ 3.1","ป.3/1","สรางสรรคการเคลื่อนไหวในรูปแบบตาง ๆ ในสถานการณสั้น ๆ",null,null,null,null,null,null,16,"ศ 3.2","ป.4/1","อธิบายประวัติความเป็นมาของนาฏศิลป์หรือชุดการแสดงอย่างง่าย ๆ",null,null,null,null,null,null,16,"ศ 3.2","ป.5/2","ระบุหรือแสดงนาฏศิลป์  นาฏศิลป์พื้นบ้านที่สะท้อนถึงวัฒนธรรมและประเพณี",null,null,null,null,null,null,16,"ศ 3.2","ป.6/1","อธิบายสิ่งที่มีความสำคัญต่อการแสดงนาฏศิลป์และละคร"]
[null,5,"ศ 2.1","ป.1/4","มีสวนรวมในกิจกรรมดนตรีอยางสนุกสนาน",null,null,null,null,null,null,"ตัวชี้วัดปลายทาง",null,null,null,null,null,null,null,null,null,17,"ศ 3.1","ป.3/3","เปรียบเทียบบทบาทหนาที่ของผูแสดงและผูชม",null,null,null,null,null,null,17,"ศ 3.2","ป.4/3","อธิบายความสำคัญของการแสดงความเคารพในการเรียนและการแสดงนาฏศิลป์",null,null,null,null,null,null,"ตัวชี้วัดปลายทาง",null,null,null,null,null,null,null,null,null,"ตัวชี้วัดปลายทาง"]
[null,6,"ศ 3.1","ป.1/2","แสดงทาทางงาย ๆ เพื่อสื่อความหมายแทนคําพูด",null,null,null,null,null,null,1,"ศ 1.1","ป.2/3","สรางงานทัศนศิลป ตาง ๆ โดยใชทัศนธาตุที่เนนเสน รูปราง",null,null,null,null,null,null,18,"ศ 3.1","ป.3/4","มีสวนรวมในกิจกรรมการแสดงที่เหมาะสมกับวัย",null,null,null,null,null,null,18,"ศ 3.2","ป.4/4","ระบุเหตุผลที่ควรรักษาและสืบทอดการแสดงนาฏศิลป์",null,null,null,null,null,null,1,"ศ 1.1","ป.5/2","เปรียบเทียบความแตกต่างระหว่างงานทัศนศิลป์ ที่สร้างสรรค์ด้วยวัสดุอุปกรณ์และวิธีการที่ต่างกัน",null,null,null,null,null,null,1,"ศ 1.1","ป.6/3","สร้างงานทัศนศิลป์จากรูปแบบ  ๒ มิติ เป็น๓ มิติ โดยใช้หลักการของแสงเงาและน้ำหนัก"]
[null,7,"ศ 3.2","ป.1/1","ระบุ และเลนการละเลนของเด็กไทย",null,null,null,null,null,null,2,"ศ 1.1","ป.2/5","สรางภาพปะติดโดยการตัดหรือฉีกกระดาษ",null,null,null,null,null,null,19,"ศ 3.1","ป.3/5","บอกประโยชนของการแสดงนาฏศิลปในชีวิตประจําวัน",null,null,null,null,null,null,"ตัวชี้วัดปลายทาง",null,null,null,null,null,null,null,null,null,2,"ศ 1.1","ป.5/3","วาดภาพ  โดยใช้เทคนิคของแสงเงา  น้ำหนัก  และวรรณะสี",null,null,null,null,null,null,2,"ศ 1.1","ป.6/4","สร้างสรรค์งานปั้น  โดยใช้หลักการเพิ่มและลด"]
[null,null,null,null,null,null,null,null,null,null,null,3,"ศ 1.1","ป.2/7","เลือกงานทัศนศิลป และบรรยายถึงสิ่งที่มองเห็น รวมถึงเนื้อหาเรื่องราว",null,null,null,null,null,null,20,"ศ 3.2","ป.3/1","เลาการแสดงนาฏศิลปที่เคยเห็นในทองถิ่น",null,null,null,null,null,null,1,"ศ 1.1","ป.4/3","จำแนกทัศนธาตุของสิ่งต่าง ๆ  ในธรรมชาติสิ่งแวดล้อมและงานทัศนศิลป์โดยเน้นเรื่องเส้น สี รูปร่าง รูปทรงพื้นผิวและพื้นที่ว่าง",null,null,null,null,null,null,3,"ศ 1.1","ป.5/4","สร้างสรรค์งานปั้นจาก  ดินน้ำมัน หรือดินเหนียว  โดยเน้นการถ่ายทอดจินตนาการ",null,null,null,null,null,null,3,"ศ 1.1","ป.6/5","สร้างสรรค์งานทัศนศิลป์โดยใช้หลักการ  ของรูปและพื้นที่ว่าง"]
[null,null,null,null,null,null,null,null,null,null,null,4,"ศ 1.1","ป.2/8","สรางสรรคงานทัศนศิลปเปนรูปแบบงานโครงสรางเคลื่อนไหว",null,null,null,null,null,null,21,"ศ 3.2","ป.3/3","อธิบายความสําคัญของการแสดงนาฏศิลป",null,null,null,null,null,null,2,"ศ 1.1","ป.4/6","บรรยายลักษณะของภาพโดยเน้นเรื่องการจัดระยะ ความลึก น้ำหนักและแสงเงาในภาพ",null,null,null,null,null,null,4,"ศ 1.1","ป.5/6","ระบุปัญหาในการจัดองค์ประกอบศิลป์  และการสื่อความหมายในงานทัศนศิลป์ของตนเองและบอกวิธีการปรับปรุงงานให้ดีขึ้น",null,null,null,null,null,null,4,"ศ 1.1","ป.6/6","สร้างสรรค์งานทัศนศิลป์โดยใช้สีคู่ตรงข้ามหลักการจัดขนาดสัดส่วนและความสมดุล"]
[null,null,null,null,null,null,null,null,null,null,null,5,"ศ 1.2","ป.2/2","อภิปรายเกี่ยวกับงานทัศนศิลปประเภทตาง ๆ ในทองถิ่นโดยเนนถึงวิธีการสรางงานและวัสดุอุปกรณที่ใช้",null,null,null,null,null,null,"ตัวชี้วัดปลายทาง",null,null,null,null,null,null,null,null,null,3,"ศ 1.1","ป.4/7","วาดภาพระบายสี โดยใช้สีวรรณะอุ่นและสีวรรณะเย็น  ถ่ายทอดความรู้สึกและจินตนาการ",null,null,null,null,null,null,5,"ศ 1.1","ป.5/7","บรรยายประโยชน์และคุณค่าของงานทัศนศิลป์ที่มีผลต่อชีวิตของคนในสังคม",null,null,null,null,null,null,5,"ศ 1.1","ป.6/7","สร้างงานทัศนศิลป์เป็นแผนภาพ แผนผัง  และภาพประกอบ  เพื่อถ่ายทอดความคิดหรือเรื่องราวเกี่ยวกับเหตุการณ์ต่าง ๆ"]
[null,null,null,null,null,null,null,null,null,null,null,6,"ศ 2.2","ป.2/1","บอกความสัมพันธของเสียงรองเสียงเครื่องดนตรีในเพลงทองถิ่นโดยใชคํางาย ๆ",null,null,null,null,null,null,1,"ศ 1.1","ป.3/6","วาดภาพถายทอดความคิดความรูสึกจากเหตุการณชีวิตจริง โดยใชเสนรูปราง รูปทรง สี และพื้นผิว",null,null,null,null,null,null,4,"ศ 1.1","ป.4/8","เปรียบเทียบความคิดความรู้สึกที่ถ่ายทอดผ่านงานทัศนศิลป์ของตนเองและบุคคลอื่น",null,null,null,null,null,null,6,"ศ 2.1","ป.5/1","ระบุองค์ประกอบดนตรีในเพลงที่ใช้ในการสื่ออารมณ์",null,null,null,null,null,null,6,"ศ 1.2","ป.6/2","อภิปรายเกี่ยวกับอิทธิพลของความเชื่อความศรัทธาในศาสนาที่มีผลต่องานทัศนศิลป์ในท้องถิ่น"]
[null,null,null,null,null,null,null,null,null,null,null,7,"ศ 2.1","ป.2/4","รองเพลงงาย ๆ ที่เหมาะสมกับวัย",null,null,null,null,null,null,2,"ศ 1.1","ป.3/7","บรรยายเหตุผลและวิธีการในการสรางงานทัศนศิลป โดยเนนถึงเทคนิคและวัสดุ อุปกรณ",null,null,null,null,null,null,5,"ศ 1.2","ป.4/1","ระบุ  และอภิปรายเกี่ยวกับงานทัศนศิลป์ในเหตุการณ์และงานเฉลิมฉลองของวัฒนธรรมในท้องถิ่น",null,null,null,null,null,null,7,"ศ 2.1","ป.5/5","ร้องเพลงไทยหรือเพลงสากลหรือเพลงไทยสากลที่เหมาะสมกับวัย ",null,null,null,null,null,null,7,"ศ 2.1","ป.6/4","ใช้เครื่องดนตรีบรรเลงประกอบการร้องเพลง ด้นสด ที่มีจังหวะและทำนองง่าย ๆ"]
[null,null,null,null,null,null,null,null,null,null,null,8,"ศ 3.1","ป.2/4","แสดงทาทางประกอบจังหวะอยางสรางสรรค",null,null,null,null,null,null,3,"ศ 1.1","ป.3/8","ระบุสิ่งที่ชื่นชมและสิ่งที่ควรปรับปรุง  ในงานทัศนศิลปของตนเอง",null,null,null,null,null,null,6,"ศ 2.1","ป.4/1","บอกประโยคเพลงอย่างง่าย",null,null,null,null,null,null,8,"ศ 2.2","ป.5/1","อธิบายความสัมพันธ์ระหว่างดนตรีกับประเพณีในวัฒนธรรมต่าง ๆ",null,null,null,null,null,null,8,"ศ 2.1","ป.6/6","แสดงความคิดเห็นเกี่ยวกับทำนอง  จังหวะการประสานเสียงและคุณภาพเสียงของเพลงที่ฟัง"]
[null,null,null,null,null,null,null,null,null,null,null,9,"ศ 3.2","ป.2/2","เชื่อมโยงสิ่งที่พบเห็นในการละเลนพื้นบานกับสิ่งที่พบเห็นในการดํารงชีวิตของคนไทย",null,null,null,null,null,null,4,"ศ 1.2","ป.3/2","อธิบายเกี่ยวกับวัสดุอุปกรณและวิธีการสรางงานทัศนศิลปในทองถิ่น",null,null,null,null,null,null,7,"ศ 2.1","ป.4/2","จำแนกประเภทของเครื่องดนตรีที่ใช้ในเพลงที่ฟัง",null,null,null,null,null,null,9,"ศ 3.1","ป.5/3","แสดงนาฏศิลป์  โดยเน้นการใช้ภาษาท่าและนาฏยศัพท์ในการสื่อความหมายและการแสดงออก",null,null,null,null,null,null,9,"ศ 2.2","ป.6/1","อธิบายเรื่องราวของดนตรีไทยในประวัติศาสตร์"]
[null,null,null,null,null,null,null,null,null,null,null,null,null,null,null,null,null,null,null,null,null,5,"ศ 2.1","ป.3/4","ขับรองและบรรเลงดนตรีงาย ๆ",null,null,null,null,null,null,8,"ศ 2.1","ป.4/5","ร้องเพลงโดยใช้ช่วงเสียงที่เหมาะสมกับตนเอง",null,null,null,null,null,null,10,"ศ 3.1","ป.5/5","เปรียบเทียบการแสดงนาฏศิลป์ชุดต่าง ๆ",null,null,null,null,null,null,10,"ศ 3.1","ป.6/1","สร้างสรรค์การเคลื่อนไหวและการแสดงโดยเน้นการถ่ายทอดลีลาหรืออารมณ์"]
[null,null,null,null,null,null,null,null,null,null,null,null,null,null,null,null,null,null,null,null,null,6,"ศ 2.2","ป.3/2","ระบุความสําคัญและประโยชนของดนตรีตอการดําเนินชีวิตของคนในทองถิ่น",null,null,null,null,null,null,9,"ศ 2.2","ป.4/1","บอกแหล่งที่มาและความสัมพันธ์ของวิถีชีวิตไทยที่สะท้อนในดนตรีและเพลงท้องถิ่น",null,null,null,null,null,null,null,null,null,null,null,null,null,null,null,null,11,"ศ 3.2","ป.6/2","ระบุประโยชน์ที่ได้รับจากการแสดงหรือการชมการแสดงนาฏศิลป์และละคร"]
[null,null,null,null,null,null,null,null,null,null,null,null,null,null,null,null,null,null,null,null,null,7,"ศ 3.1","ป.3/2","แสดงทาทางประกอบเพลงตามรูปแบบนาฏศิลป",null,null,null,null,null,null,10,"ศ 3.1","ป.4/2","ใช้ภาษาท่าและนาฏยศัพท์หรือศัพท์ทางการละครง่าย ๆ ในการถ่ายทอดเรื่องราว"]
[null,null,null,null,null,null,null,null,null,null,null,null,null,null,null,null,null,null,null,null,null,8,"ศ 3.2","ป.3/2","ระบุสิ่งที่เปนลักษณะเดนและเอกลักษณของการแสดงนาฏศิลป",null,null,null,null,null,null,11,"ศ 3.2","ป.4/2","เปรียบเทียบการแสดงนาฏศิลป์กับการแสดงที่มาจากวัฒนธรรมอื่น"]

{"sheet":"ตชว.การงาน","index":26,"n_rows":11,"n_cols":55,"rows_kept":11,"cut":false,"hidden":false,"merged":[[1,1,1,8],[1,11,1,18],[1,21,1,28],[1,31,1,38],[1,41,1,48],[1,51,1,58],[4,4,4,8],[4,14,4,18],[4,24,4,28],[4,34,4,38],[4,44,4,48],[4,54,4,58],[3,1,3,8],[3,11,3,18],[3,21,3,28],[3,31,3,38],[3,41,3,48],[3,51,3,58],[6,44,6,48],[6,54,6,58],[5,4,5,8],[5,14,5,18],[5,24,5,28],[5,34,5,38],[5,44,5,48],[5,54,5,58],[6,1,6,8],[6,11,6,18],[6,21,6,28],[6,31,6,38],[8,4,8,8],[8,14,8,18],[8,24,8,28],[8,34,8,38],[8,44,8,48],[8,54,8,58],[7,4,7,8],[7,14,7,18],[7,24,7,28],[7,34,7,38],[7,41,7,48],[7,51,7,58],[10,4,10,8],[10,14,10,18],[10,24,10,28],[10,34,10,38],[10,44,10,48],[10,54,10,58],[9,4,9,8],[9,14,9,18],[9,24,9,28],[9,34,9,38],[9,44,9,48],[9,54,9,58],[12,4,12,8],[12,14,12,18],[12,24,12,28],[12,34,12,38],[12,44,12,48],[12,54,12,58],[11,4,11,8],[11,14,11,18],[11,24,11,28],[11,34,11,38],[11,44,11,48],[11,54,11,58],[14,4,14,8],[14,14,14,18],[14,24,14,28],[14,34,14,38],[14,44,14,48],[14,54,14,58],[13,4,13,8],[13,14,13,18],[13,24,13,28],[13,34,13,38],[13,44,13,48],[13,54,13,58],[16,4,16,8],[16,14,16,18],[16,24,16,28],[16,34,16,38],[16,44,16,48],[16,54,16,58],[15,4,15,8],[15,14,15,18],[15,24,15,28],[15,34,15,38],[15,44,15,48],[15,54,15,58],[18,4,18,8],[18,14,18,18],[18,24,18,28],[18,34,18,38],[18,44,18,48],[18,54,18,58],[17,4,17,8],[17,14,17,18],[17,24,17,28],[17,34,17,38],[17,44,17,48],[17,54,17,58],[20,4,20,8],[20,14,20,18],[20,24,20,28],[20,34,20,38],[20,44,20,48],[20,54,20,58],[19,4,19,8],[19,14,19,18],[19,24,19,28],[19,34,19,38],[19,44,19,48],[19,54,19,58],[22,4,22,8],[22,14,22,18],[22,24,22,28],[22,34,22,38],[22,44,22,48],[22,54,22,58],[21,4,21,8],[21,14,21,18],[21,24,21,28],[21,34,21,38],[21,44,21,48],[21,54,21,58],[24,4,24,8],[24,14,24,18],[24,24,24,28],[24,34,24,38],[24,44,24,48],[24,54,24,58],[23,4,23,8],[23,14,23,18],[23,24,23,28],[23,34,23,38],[23,44,23,48],[23,54,23,58],[26,4,26,8],[26,14,26,18],[26,24,26,28],[26,34,26,38],[26,44,26,48],[26,54,26,58],[25,4,25,8],[25,14,25,18],[25,24,25,28],[25,34,25,38],[25,44,25,48],[25,54,25,58],[28,4,28,8],[28,14,28,18],[28,24,28,28],[28,34,28,38],[28,44,28,48],[28,54,28,58],[27,4,27,8],[27,14,27,18],[27,24,27,28],[27,34,27,38],[27,44,27,48],[27,54,27,58],[30,4,30,8],[30,14,30,18],[30,24,30,28],[30,34,30,38],[30,44,30,48],[30,54,30,58],[29,4,29,8],[29,14,29,18],[29,24,29,28],[29,34,29,38],[29,44,29,48],[29,54,29,58],[32,4,32,8],[32,14,32,18],[32,24,32,28],[32,34,32,38],[32,44,32,48],[32,54,32,58],[31,4,31,8],[31,14,31,18],[31,24,31,28],[31,34,31,38],[31,44,31,48],[31,54,31,58],[34,4,34,8],[34,14,34,18],[34,24,34,28],[34,34,34,38],[34,44,34,48],[34,54,34,58],[33,4,33,8],[33,14,33,18],[33,24,33,28],[33,34,33,38],[33,44,33,48],[33,54,33,58],[36,4,36,8],[36,14,36,18],[36,24,36,28],[36,34,36,38],[36,44,36,48],[36,54,36,58],[35,4,35,8],[35,14,35,18],[35,24,35,28],[35,34,35,38],[35,44,35,48],[35,54,35,58],[38,4,38,8],[38,14,38,18],[38,24,38,28],[38,34,38,38],[38,44,38,48],[38,54,38,58],[37,4,37,8],[37,14,37,18],[37,24,37,28],[37,34,37,38],[37,44,37,48],[37,54,37,58],[40,4,40,8],[40,14,40,18],[40,24,40,28],[40,34,40,38],[40,44,40,48],[40,54,40,58],[39,4,39,8],[39,14,39,18],[39,24,39,28],[39,34,39,38],[39,44,39,48],[39,54,39,58],[42,4,42,8],[42,14,42,18],[42,24,42,28],[42,34,42,38],[42,44,42,48],[42,54,42,58],[41,4,41,8],[41,14,41,18],[41,24,41,28],[41,34,41,38],[41,44,41,48],[41,54,41,58]]}
["การงานอาชีพ"]
[null,{"$f":"\"ตัวชี้วัดรายวิชา\"&ตชว.การงาน!$A$1&\"  ชั้น ป.1\"","v":"ตัวชี้วัดรายวิชาการงานอาชีพ  ชั้น ป.1"},null,null,null,null,null,null,null,null,null,{"$f":"\"ตัวชี้วัดรายวิชา\"&ตชว.การงาน!$A$1&\"  ชั้น ป.2\"","v":"ตัวชี้วัดรายวิชาการงานอาชีพ  ชั้น ป.2"},null,null,null,null,null,null,null,null,null,{"$f":"\"ตัวชี้วัดรายวิชา\"&ตชว.การงาน!$A$1&\"  ชั้น ป.3\"","v":"ตัวชี้วัดรายวิชาการงานอาชีพ  ชั้น ป.3"},null,null,null,null,null,null,null,null,null,{"$f":"\"ตัวชี้วัดรายวิชา\"&ตชว.การงาน!$A$1&\"  ชั้น ป.4\"","v":"ตัวชี้วัดรายวิชาการงานอาชีพ  ชั้น ป.4"},null,null,null,null,null,null,null,null,null,{"$f":"\"ตัวชี้วัดรายวิชา\"&ตชว.การงาน!$A$1&\"  ชั้น ป.5\"","v":"ตัวชี้วัดรายวิชาการงานอาชีพ  ชั้น ป.5"},null,null,null,null,null,null,null,null,null,{"$f":"\"ตัวชี้วัดรายวิชา\"&ตชว.การงาน!$A$1&\"  ชั้น ป.6\"","v":"ตัวชี้วัดรายวิชาการงานอาชีพ  ชั้น ป.6"}]
[null,"ข้อที่","มาตรฐาน","ชั้น/ข้อ","เรื่อง",null,null,null,null,null,null,"ข้อที่","มาตรฐาน","ชั้น/ข้อ","เรื่อง",null,null,null,null,null,null,"ข้อที่","มาตรฐาน","ชั้น/ข้อ","เรื่อง",null,null,null,null,null,null,"ข้อที่","มาตรฐาน","ชั้น/ข้อ","เรื่อง",null,null,null,null,null,null,"ข้อที่","มาตรฐาน","ชั้น/ข้อ","เรื่อง",null,null,null,null,null,null,"ข้อที่","มาตรฐาน","ชั้น/ข้อ","เรื่อง"]
[null,"ตัวชี้วัดระหว่างทาง",null,null,null,null,null,null,null,null,null,"ตัวชี้วัดระหว่างทาง",null,null,null,null,null,null,null,null,null,"ตัวชี้วัดระหว่างทาง",null,null,null,null,null,null,null,null,null,"ตัวชี้วัดระหว่างทาง",null,null,null,null,null,null,null,null,null,"ตัวชี้วัดระหว่างทาง",null,null,null,null,null,null,null,null,null,"ตัวชี้วัดระหว่างทาง"]
[null,1,"ง 1.1","ป.1/1","บอกวิธีการทำงานเพื่อช่วยเหลือตนเอง     ",null,null,null,null,null,null,1,"ง 1.1","ป.2/1","อธิบายวิธีการและประโยชน์การทำงาน เพื่อช่วยเหลือตนเอง ครอบครัว",null,null,null,null,null,null,1,"ง 1.1","ป.3/1","อธิบายวิธีการและประโยชน์การทำงาน เพื่อช่วยเหลือตนเอง ครอบครัวและส่วนรวม",null,null,null,null,null,null,1,"ง 1.1","ป.4/1","อธิบายเหตุผลในการทำงานให้บรรลุเป้าหมาย",null,null,null,null,null,null,1,"ง 1.1","ป.5/1","อธิบายเหตุผลการทำงานแต่ละขั้นตอนถูกต้องตามกระบวนการทำงาน",null,null,null,null,null,null,1,"ง 1.1","ป.6/1","อภิปรายแนวทางในการทำงานและปรับปรุงการทำงานแต่ละขั้นตอน"]
[null,2,"ง 1.1","ป.1/2","ใช้วัสดุ  อุปกรณ์  และเครื่องมือง่าย ๆ  ในการทำงานอย่างปลอดภัย                               ",null,null,null,null,null,null,2,"ง 1.1","ป.2/3","ทำงานเพื่อช่วยเหลือตนเองและครอบครัวอย่างปลอดภัย",null,null,null,null,null,null,2,"ง 1.1","ป.3/2","ใช้วัสดุ  อุปกรณ์  และเครื่องมือ  ตรงกับลักษณะงาน",null,null,null,null,null,null,2,"ง 1.1","ป.4/3","ปฏิบัติตนอย่างมีมารยาทในการทำงาน",null,null,null,null,null,null,2,"ง 1.1","ป.5/3","ปฏิบัติตนอย่างมีมารยาทในการทำงานกับสมาชิกในครอบครัว                                    ",null,null,null,null,null,null,2,"ง 1.1","ป.6/3","ปฏิบัติตนอย่างมีมารยาทในการทำงานกับครอบครัวและผู้อื่น    "]
[null,"ตัวชี้วัดปลายทาง",null,null,null,null,null,null,null,null,null,"ตัวชี้วัดปลายทาง",null,null,null,null,null,null,null,null,null,"ตัวชี้วัดปลายทาง",null,null,null,null,null,null,null,null,null,"ตัวชี้วัดปลายทาง",null,null,null,null,null,null,null,null,null,3,"ง 2.1","ป.5/1","สำรวจข้อมูลที่เกี่ยวกับอาชีพต่างๆ ในชุมชน",null,null,null,null,null,null,3,"ง 2.1","ป.6/1","สำรวจตนเองเพื่อวางแผนในการเลือกอาชีพ"]
[null,1,"ง 1.1","ป.1/3","ทำงานเพื่อช่วยเหลือตนเองอย่างกระตือรือร้นและตรงเวลา",null,null,null,null,null,null,1,"ง 1.1","ป.2/2","ใช้วัสดุอุปกรณ์และเครื่องมือในการทำงานอย่างเหมาะสมกับงานและประหยัด                               ",null,null,null,null,null,null,1,"ง 1.1","ป.3/3","ทำงานอย่างเป็นขั้นตอนตามกระบวนการทำงานด้วยความสะอาด ความรอบคอบและอนุรักษ์สิ่งแวดล้อม",null,null,null,null,null,null,1,"ง 1.1","ป.4/2","ทำงานบรรลุเป้าหมายที่วางไว้อย่างเป็นขั้นตอน ด้วยความขยัน อดทนรับผิดชอบและซื่อสัตย์",null,null,null,null,null,null,"ตัวชี้วัดปลายทาง",null,null,null,null,null,null,null,null,null,"ตัวชี้วัดปลายทาง"]
[null,null,null,null,null,null,null,null,null,null,null,null,null,null,null,null,null,null,null,null,null,null,null,null,null,null,null,null,null,null,null,2,"ง 1.1","ป.4/4","ใช้พลังงานและทรัพยากรในการทำงานอย่างประหยัดและคุ้มค่า",null,null,null,null,null,null,1,"ง 1.1","ป.5/2","ใช้ทักษะการจัดการในการทำงาน อย่างเป็นระบบ ประณีต และมีความคิดสร้างสรรค์",null,null,null,null,null,null,1,"ง 1.1","ป.6/2","ใช้ทักษะการจัดการในการทำงาน และมีทักษะการทำงานร่วมกัน"]
[null,null,null,null,null,null,null,null,null,null,null,null,null,null,null,null,null,null,null,null,null,null,null,null,null,null,null,null,null,null,null,3,"ง 2.1","ป.4/1","อธิบายความหมายและความสำคัญของอาชีพ",null,null,null,null,null,null,2,"ง 1.1","ป.5/4","มีจิตสำนึกในการใช้พลังงานและทรัพยากรอย่างประหยัดและคุ้มค่า                      ",null,null,null,null,null,null,2,"ง 2.1","ป.6/2","ระบุความรู้ ความสามารถ และคุณธรรมที่สัมพันธ์กับอาชีพที่สนใจ"]
[null,null,null,null,null,null,null,null,null,null,null,null,null,null,null,null,null,null,null,null,null,null,null,null,null,null,null,null,null,null,null,null,null,null,null,null,null,null,null,null,null,3,"ง 2.1","ป.5/2","ระบุความแตกต่างของอาชีพ"]

{"sheet":"ตชว.อังกฤษ","index":27,"n_rows":25,"n_cols":55,"rows_kept":25,"cut":false,"hidden":false,"merged":[[1,1,1,8],[1,11,1,18],[1,21,1,28],[1,31,1,38],[1,41,1,48],[1,51,1,58],[4,4,4,8],[4,14,4,18],[4,24,4,28],[4,34,4,38],[4,44,4,48],[4,54,4,58],[3,1,3,8],[3,11,3,18],[3,21,3,28],[3,31,3,38],[3,41,3,48],[3,51,3,58],[6,4,6,8],[6,14,6,18],[6,24,6,28],[6,34,6,38],[6,44,6,48],[6,54,6,58],[5,4,5,8],[5,14,5,18],[5,24,5,28],[5,34,5,38],[5,44,5,48],[5,54,5,58],[8,4,8,8],[8,14,8,18],[8,24,8,28],[8,34,8,38],[8,44,8,48],[8,54,8,58],[7,4,7,8],[7,14,7,18],[7,24,7,28],[7,34,7,38],[7,44,7,48],[7,54,7,58],[10,4,10,8],[10,14,10,18],[10,24,10,28],[10,34,10,38],[10,44,10,48],[10,54,10,58],[9,4,9,8],[9,14,9,18],[9,24,9,28],[9,34,9,38],[9,44,9,48],[9,54,9,58],[12,4,12,8],[12,14,12,18],[12,24,12,28],[12,34,12,38],[12,44,12,48],[12,54,12,58],[11,4,11,8],[11,14,11,18],[11,24,11,28],[11,34,11,38],[11,44,11,48],[11,54,11,58],[14,24,14,28],[14,34,14,38],[14,44,14,48],[14,54,14,58],[13,4,13,8],[13,14,13,18],[13,24,13,28],[13,34,13,38],[13,44,13,48],[13,54,13,58],[14,1,14,8],[14,11,14,18],[16,4,16,8],[16,14,16,18],[16,34,16,38],[16,44,16,48],[16,54,16,58],[15,4,15,8],[15,14,15,18],[15,24,15,28],[15,34,15,38],[15,44,15,48],[15,54,15,58],[16,21,16,28],[18,4,18,8],[18,14,18,18],[18,24,18,28],[17,4,17,8],[17,14,17,18],[17,24,17,28],[17,34,17,38],[17,44,17,48],[17,54,17,58],[18,31,18,38],[18,41,18,48],[18,51,18,58],[20,4,20,8],[20,14,20,18],[20,24,20,28],[20,34,20,38],[20,44,20,48],[20,54,20,58],[19,4,19,8],[19,14,19,18],[19,24,19,28],[19,34,19,38],[19,44,19,48],[19,54,19,58],[22,4,22,8],[22,14,22,18],[22,24,22,28],[22,34,22,38],[22,44,22,48],[22,54,22,58],[21,4,21,8],[21,14,21,18],[21,24,21,28],[21,34,21,38],[21,44,21,48],[21,54,21,58],[24,4,24,8],[24,14,24,18],[24,24,24,28],[24,34,24,38],[24,44,24,48],[24,54,24,58],[23,4,23,8],[23,14,23,18],[23,24,23,28],[23,34,23,38],[23,44,23,48],[23,54,23,58],[26,4,26,8],[26,14,26,18],[26,24,26,28],[26,34,26,38],[26,44,26,48],[26,54,26,58],[25,4,25,8],[25,14,25,18],[25,24,25,28],[25,34,25,38],[25,44,25,48],[25,54,25,58],[28,4,28,8],[28,14,28,18],[28,24,28,28],[28,34,28,38],[28,44,28,48],[28,54,28,58],[27,4,27,8],[27,14,27,18],[27,24,27,28],[27,34,27,38],[27,44,27,48],[27,54,27,58],[30,4,30,8],[30,14,30,18],[30,24,30,28],[30,34,30,38],[30,44,30,48],[30,54,30,58],[29,4,29,8],[29,14,29,18],[29,24,29,28],[29,34,29,38],[29,44,29,48],[29,54,29,58],[32,4,32,8],[32,14,32,18],[32,24,32,28],[32,34,32,38],[32,44,32,48],[32,54,32,58],[31,4,31,8],[31,14,31,18],[31,24,31,28],[31,34,31,38],[31,44,31,48],[31,54,31,58],[34,4,34,8],[34,14,34,18],[34,24,34,28],[34,34,34,38],[34,44,34,48],[34,54,34,58],[33,4,33,8],[33,14,33,18],[33,24,33,28],[33,34,33,38],[33,44,33,48],[33,54,33,58],[36,4,36,8],[36,14,36,18],[36,24,36,28],[36,34,36,38],[36,44,36,48],[36,54,36,58],[35,4,35,8],[35,14,35,18],[35,24,35,28],[35,34,35,38],[35,44,35,48],[35,54,35,58],[38,4,38,8],[38,14,38,18],[38,24,38,28],[38,34,38,38],[38,44,38,48],[38,54,38,58],[37,4,37,8],[37,14,37,18],[37,24,37,28],[37,34,37,38],[37,44,37,48],[37,54,37,58],[40,4,40,8],[40,14,40,18],[40,24,40,28],[40,34,40,38],[40,44,40,48],[40,54,40,58],[39,4,39,8],[39,14,39,18],[39,24,39,28],[39,34,39,38],[39,44,39,48],[39,54,39,58],[42,4,42,8],[42,14,42,18],[42,24,42,28],[42,34,42,38],[42,44,42,48],[42,54,42,58],[41,4,41,8],[41,14,41,18],[41,24,41,28],[41,34,41,38],[41,44,41,48],[41,54,41,58]]}
["ภาษาอังกฤษ"]
[null,{"$f":"\"ตัวชี้วัดรายวิชา\"&ตชว.อังกฤษ!$A$1&\"  ชั้น ป.1\"","v":"ตัวชี้วัดรายวิชาภาษาอังกฤษ  ชั้น ป.1"},null,null,null,null,null,null,null,null,null,{"$f":"\"ตัวชี้วัดรายวิชา\"&ตชว.อังกฤษ!$A$1&\"  ชั้น ป.2\"","v":"ตัวชี้วัดรายวิชาภาษาอังกฤษ  ชั้น ป.2"},null,null,null,null,null,null,null,null,null,{"$f":"\"ตัวชี้วัดรายวิชา\"&ตชว.อังกฤษ!$A$1&\"  ชั้น ป.3\"","v":"ตัวชี้วัดรายวิชาภาษาอังกฤษ  ชั้น ป.3"},null,null,null,null,null,null,null,null,null,{"$f":"\"ตัวชี้วัดรายวิชา\"&ตชว.อังกฤษ!$A$1&\"  ชั้น ป.4\"","v":"ตัวชี้วัดรายวิชาภาษาอังกฤษ  ชั้น ป.4"},null,null,null,null,null,null,null,null,null,{"$f":"\"ตัวชี้วัดรายวิชา\"&ตชว.อังกฤษ!$A$1&\"  ชั้น ป.5\"","v":"ตัวชี้วัดรายวิชาภาษาอังกฤษ  ชั้น ป.5"},null,null,null,null,null,null,null,null,null,{"$f":"\"ตัวชี้วัดรายวิชา\"&ตชว.อังกฤษ!$A$1&\"  ชั้น ป.6\"","v":"ตัวชี้วัดรายวิชาภาษาอังกฤษ  ชั้น ป.6"}]
[null,"ข้อที่","มาตรฐาน","ชั้น/ข้อ","เรื่อง",null,null,null,null,null,null,"ข้อที่","มาตรฐาน","ชั้น/ข้อ","เรื่อง",null,null,null,null,null,null,"ข้อที่","มาตรฐาน","ชั้น/ข้อ","เรื่อง",null,null,null,null,null,null,"ข้อที่","มาตรฐาน","ชั้น/ข้อ","เรื่อง",null,null,null,null,null,null,"ข้อที่","มาตรฐาน","ชั้น/ข้อ","เรื่อง",null,null,null,null,null,null,"ข้อที่","มาตรฐาน","ชั้น/ข้อ","เรื่อง"]
[null,"ตัวชี้วัดระหว่างทาง",null,null,null,null,null,null,null,null,null,"ตัวชี้วัดระหว่างทาง",null,null,null,null,null,null,null,null,null,"ตัวชี้วัดระหว่างทาง",null,null,null,null,null,null,null,null,null,"ตัวชี้วัดระหว่างทาง",null,null,null,null,null,null,null,null,null,"ตัวชี้วัดระหว่างทาง",null,null,null,null,null,null,null,null,null,"ตัวชี้วัดระหว่างทาง"]
[null,1,"ต 1.1","ป.1/1","ปฏิบัติตามคําสั่งงายๆ ที่ฟง",null,null,null,null,null,null,1,"ต 1.1","ป.2/1","ปฏิบัติตามคําสั่ง และคําขอรองที่ฟง ",null,null,null,null,null,null,1,"ต 1.1","ป.3/1","ปฏิบัติตามคําสั่ง และคําขอรองที่ฟง หรืออาน",null,null,null,null,null,null,1,"ต 1.1","ป.4/1","ปฏิบัติตามคําสั่ง  คําขอรองและคําแนะนํา (instructions)งายๆที่ฟงหรืออาน",null,null,null,null,null,null,1,"ต 1.1","ป.5/1","ปฏิบัติตามคําสั่ง คําขอรอง และคําแนะนําง่ายๆที่ฟงและอาน",null,null,null,null,null,null,1,"ต 1.1","ป.6/1","ปฏิบัติตามคําสั่ง คําขอรอง และคําแนะนําที่ฟงและอาน"]
[null,2,"ต 1.1","ป.1/3","เลือกภาพตรงตามความหมายของคําและกลุมคําที่ฟง",null,null,null,null,null,null,2,"ต 1.1","ป.2/3","เลือกภาพตรงตามความหมายของคำ  กลุมคํา  และประโยคที่ฟง",null,null,null,null,null,null,2,"ต 1.1","ป.3/3","เลือก/ระบุภาพ หรือสัญลักษณตรงตามความหมายของกลุมคําและประโยคที่ฟง",null,null,null,null,null,null,2,"ต 1.1","ป.4/3","เลือก/ระบุภาพ หรือสัญลักษณหรือเครื่องหมายตรงตามความหมายของประโยคและขอความสั้นๆ ที่ฟงหรืออาน",null,null,null,null,null,null,2,"ต 1.1","ป.5/3","ระบุ/วาดภาพสัญลักษณ์  หรือเครื่องหมายตรงความหมายของประโยคและข้อความสั้นๆที่ฟังหรืออ่าน",null,null,null,null,null,null,2,"ต 1.1","ป.6/3","เลือก/ระบุประโยค หรือขอความสั้นๆ ตรงตามภาพ สัญลักษณ หรือเครื่องหมายที่อาน"]
[null,3,"ต 1.2","ป.1/1","พูดโตตอบดวยคําสั้นๆ งายๆ ในการสื่อสารระหวางบุคคลตามแบบที่ฟง",null,null,null,null,null,null,3,"ต 1.2","ป.2/1","พูดโตตอบดวยคําสั้นๆ งายๆ ในการสื่อสารระหวางบุคคลตามแบบที่ฟง",null,null,null,null,null,null,3,"ต 1.2","ป.3/1","พูดโตตอบดวยคําสั้นๆ งายๆ ในการสื่อสารระหวางบุคคลตามแบบที่ฟง",null,null,null,null,null,null,3,"ต 1.1","ป.4/4","ตอบคําถามจากการฟงและอานประโยค บทสนทนา และนิทานงายๆ",null,null,null,null,null,null,3,"ต 1.1","ป.5/4","บอกใจความสําคัญและตอบคําถามจากการฟง และอานบทสนทนา และนิทานงายๆ หรือเรื่องสั้น",null,null,null,null,null,null,3,"ต 1.1","ป.6/4","บอกใจความสําคัญและตอบคําถามจากการฟง และอานบทสนทนา นิทานงายๆ และเรื่องเลา"]
[null,4,"ต 1.2","ป.1/2","ใชคําสั่งงายๆ ตามแบบที่ฟง",null,null,null,null,null,null,4,"ต 1.2","ป.2/2","ใชคําสั่งและคําขอรองงายๆตามแบบที่ฟง",null,null,null,null,null,null,4,"ต 1.2","ป.3/2","ใชคําสั่งและคําขอรองงายๆตามแบบที่ฟง",null,null,null,null,null,null,4,"ต 1.2","ป.4/2","ใชคําสั่ง  คําขอรอง  และคําขออนุญาตงายๆ",null,null,null,null,null,null,4,"ต 1.2","ป.5/2","ใชคําสั่ง คําขอรอง คำขออนุญาต  และใหคําแนะนําง่ายๆ",null,null,null,null,null,null,4,"ต 1.2","ป.6/2","ใชคําสั่ง คําขอรอง และใหคําแนะนํา"]
[null,5,"ต 1.2","ป.1/3","บอกความตองการงายๆ ของตนเองตามแบบที่ฟง",null,null,null,null,null,null,5,"ต 1.2","ป.2/3","บอกความตองการงายๆ ของตนเองตามแบบที่ฟง",null,null,null,null,null,null,5,"ต 1.2","ป.3/3","บอกความตองการงายๆ ของตนเองตามแบบที่ฟง",null,null,null,null,null,null,5,"ต 1.2","ป.4/3","พูด/เขียนแสดงความตองการของตนเอง และขอความชวยเหลือในสถานการณงายๆ",null,null,null,null,null,null,5,"ต 1.2","ป.5/3","พูด/เขียนแสดงความตองการ ขอความชวยเหลือ ตอบรับและปฏิเสธการใหความชวยเหลือในสถานการณงายๆ",null,null,null,null,null,null,5,"ต 1.2","ป.6/3","พูด/เขียนแสดงความตองการ ขอความชวยเหลือ ตอบรับและปฏิเสธ  การใหความชวยเหลือในสถานการณงายๆ"]
[null,6,"ต 1.2","ป.1/4","พูดขอและใหขอมูลงายๆเกี่ยวกับตนเองตามแบบที่ฟง",null,null,null,null,null,null,6,"ต 1.2","ป.2/4","พูดขอและให้ขอมูลงายๆ เกี่ยวกับตนเองตามแบบที่ฟง",null,null,null,null,null,null,6,"ต 1.2","ป.3/4","พูดขอและให้ขอมูลงายๆ เกี่ยวกับตนเอง และเพื่อนตามแบบที่ฟง",null,null,null,null,null,null,6,"ต 1.2","ป.4/4","พูด/เขียนเพื่อขอและใหขอมูลเกี่ยวกับตนเอง เพื่อน และครอบครัว",null,null,null,null,null,null,6,"ต 1.2","ป.5/4","พูดและเขียนเพื่อขอและใหขอมูล เกี่ยวกับตนเอง เพื่อนครอบครัว และเรื่องใกลตัว",null,null,null,null,null,null,6,"ต 1.2","ป.6/4","พูดและเขียนเพื่อขอและใหขอมูล เกี่ยวกับตนเอง เพื่อน  ครอบครัว และเรื่องใกลตัว"]
[null,7,"ต 2.1","ป.1/1","พูดและทําทาประกอบ ตามวัฒนธรรมของเจาของภาษา",null,null,null,null,null,null,7,"ต 2.1","ป.2/1","พูดและทําทาประกอบ ตามวัฒนธรรมของเจาของภาษา",null,null,null,null,null,null,7,"ต 1.2","ป.3/5","บอกความรูสึกของตนเองเกี่ยวกับสิ่งตางๆ ใกลตัวหรือกิจกรรมตางๆตามแบบที่ฟง",null,null,null,null,null,null,7,"ต 1.2","ป.4/5","พูดแสดงความรูสึกของตนเองเกี่ยวกับเรื่องตางๆใกลตัวและกิจกรรมตางๆตามแบบที่ฟง",null,null,null,null,null,null,7,"ต 1.2","ป.5/5","พูด/เขียนแสดงความรูสึกของตนเองเกี่ยวกับเรื่องตางๆ ใกลตัวกิจกรรมตางๆ พรอมทั้งใหเหตุผลสั้นๆ ประกอบ",null,null,null,null,null,null,7,"ต 1.2","ป.6/5","พูด/เขียนแสดงความรูสึกของตนเองเกี่ยวกับเรื่องตางๆ ใกลตัวกิจกรรมตางๆ  พรอมทั้งใหเหตุผลสั้นๆ ประกอบ"]
[null,8,"ต 2.1","ป.1/2","บอกชื่อและคําศัพทเกี่ยวกับเทศกาลสําคัญของเจาของภาษา",null,null,null,null,null,null,8,"ต 2.1","ป.2/2","บอกชื่อและคําศัพท์เกี่ยวกับเทศกาลสําคัญของเจาของภาษา",null,null,null,null,null,null,8,"ต 1.3","ป.3/2","จัดหมวดหมูคําตามประเภทของบุคคล สัตว และสิ่งของตามที่ฟงหรืออาน",null,null,null,null,null,null,8,"ต 1.3","ป.4/1","พูด/เขียนใหขอมูลเกี่ยวกับตนเองและเรื่องใกลตัว",null,null,null,null,null,null,8,"ต 1.3","ป.5/1","พูด/เขียนใหขอมูลเกี่ยวกับตนเองและเรื่องใกลตัว",null,null,null,null,null,null,8,"ต 1.3","ป.6/1","พูด/เขียนใหขอมูลเกี่ยวกับตนเองเพื่อน และสิ่งแวดลอมใกลตัว"]
[null,9,"ต 2.2","ป.1/1","ระบุตัวอักษรและเสียงตัวอักษรของภาษาตางประเทศและภาษาไทย",null,null,null,null,null,null,9,"ต 2.2","ป.2/1","ระบุตัวอักษรและเสียงตัวอักษรของภาษาต่างประเทศและภาษาไทย",null,null,null,null,null,null,9,"ต 2.1","ป.3/1","พูดและทําทาประกอบ ตามมารยาทสังคม/วัฒนธรรมของเจาของภาษา",null,null,null,null,null,null,9,"ต 1.3","ป.4/2","พูด/วาดภาพแสดงความสัมพันธของสิ่งตางๆ ใกลตัวตามที่ฟงหรืออาน",null,null,null,null,null,null,9,"ต 1.3","ป.5/2","เขียนภาพ แผนผัง และแผนภูมิ แสดงขอมูลตางๆ ตามที่ฟงหรืออาน",null,null,null,null,null,null,9,"ต 1.3","ป.6/2","เขียนภาพ แผนผัง แผนภูมิ และตารางแสดงขอมูลตางๆ ที่ฟงหรืออาน"]
[null,10,"ต 3.1","ป.1/1","บอกคําศัพทที่เกี่ยวของกับกลุมสาระการเรียนรูอื่น",null,null,null,null,null,null,10,"ต 3.1","ป.2/1","บอกคําศัพทที่เกี่ยวของกับกลุมสาระการเรียนรูอื่น",null,null,null,null,null,null,10,"ต 2.2","ป.3/2","บอกชื่อและคําศัพท์งายๆเกี่ยวกับเทศกาล/วันสําคัญ/งานฉลองและชีวิตความเปนอยูของเจาของภาษา",null,null,null,null,null,null,10,"ต 1.3","ป.4/3","พูดแสดงความคิดเห็นงายๆเกี่ยวกับเรื่องตางๆ ใกลตัว",null,null,null,null,null,null,10,"ต 1.3","ป.5/3","พูด/เขียนแสดงความคิดเห็นเกี่ยวกับเรื่องตางๆ ใกลตัว",null,null,null,null,null,null,10,"ต 1.3","ป.6/3","พูด/เขียนแสดงความคิดเห็นเกี่ยวกับเรื่องตางๆ ใกลตัว"]
[null,"ตัวชี้วัดปลายทาง",null,null,null,null,null,null,null,null,null,"ตัวชี้วัดปลายทาง",null,null,null,null,null,null,null,null,null,11,"ต 2.2","ป.3/1","บอกความแตกตางของเสียงตัวอักษร คํา กลุมคํา และประโยคงายๆ ของภาษาตางประเทศและภาษาไทย",null,null,null,null,null,null,11,"ต 2.1","ป.4/3","เขารวมกิจกรรมทางภาษาและวัฒนธรรมที่เหมาะกับวัย",null,null,null,null,null,null,11,"ต 2.1","ป.5/3","เขารวมกิจกรรมทางภาษาและวัฒนธรรมตามความสนใจ",null,null,null,null,null,null,11,"ต 2.1","ป.6/3","เขารวมกิจกรรมทางภาษาและวัฒนธรรมตามความสนใจ"]
[null,1,"ต 1.1","ป.1/2","ระบุตัวอักษรและเสียง อานออกเสียงและสะกดคํางายๆ ถูกตองตามหลักการอาน",null,null,null,null,null,null,1,"ต 1.1","ป.2/2","ระบุตัวอักษรและเสียง  อานออกเสียงคํา สะกดคํา  และอานประโยคง่ายๆถูกต้องตามหลักการอ่าน",null,null,null,null,null,null,12,"ต 3.1","ป.3/1","บอกคําศัพทที่เกี่ยวของกับกลุมสาระการเรียนรูอื่น",null,null,null,null,null,null,12,"ต 2.2","ป.4/1","บอกความแตกตางของเสียง  ตัวอักษร  คํา  กลุมคํา  ประโยค  และขอความของภาษาตางประเทศและภาษาไทย",null,null,null,null,null,null,12,"ต 2.2","ป.5/1","บอกความเหมือน/ความแตกตางระหวางการออกเสียงประโยคชนิดตางๆ การใช้เครื่องหมายวรรคตอนและการลําดับคําตามโครงสรางประโยคของภาษาตางประเทศและภาษาไทย",null,null,null,null,null,null,12,"ต 2.2","ป.6/1","บอกความเหมือน/ความแตกตางระหวางการออกเสียงประโยคชนิดตางๆ การใชเครื่องหมายวรรคตอนและการลําดับคํา  ตามโครงสรางประโยคของภาษาตางประเทศและภาษาไทย"]
[null,2,"ต 1.1","ป.1/4","ตอบคําถามจากการฟงเรื่องใกลตัว",null,null,null,null,null,null,2,"ต 1.1","ป.2/4","ตอบคําถามจากการฟงประโยค บทสนทนา หรือนิทานงายๆ ที่มีภาพประกอบ",null,null,null,null,null,null,"ตัวชี้วัดปลายทาง",null,null,null,null,null,null,null,null,null,13,"ต 2.2","ป.4/2","บอกความเหมือน/ความแตกตางระหวางเทศกาลและงานฉลองตามวัฒนธรรมของเจาของภาษากับของไทย",null,null,null,null,null,null,13,"ต 2.2","ป.5/2","เปรียบเทียบความเหมือน/ความแตกตางระหวางเทศกาลและงานฉลองของเจาของภาษากับของไทย",null,null,null,null,null,null,13,"ต 2.2","ป.6/2","เปรียบเทียบความเหมือน/ความแตกตางระหวางเทศกาล  งานฉลองและประเพณีของเจาของภาษากับของไทย"]
[null,3,"ต 1.3","ป.1/1","พูดใหขอมูลเกี่ยวกับตนเองและเรื่องใกลตัว",null,null,null,null,null,null,3,"ต 1.3","ป.2/1","พูดใหขอมูลเกี่ยวกับตนเองและเรื่องใกลตัว",null,null,null,null,null,null,1,"ต 1.1","ป.3/2","อานออกเสียงคํา สะกดคํา  อานกลุมคํา ประโยค และบทพูดเขาจังหวะ(chant)งายๆ  ถูกตองตามหลักการอาน",null,null,null,null,null,null,14,"ต 1.1","ป.4/2","อานออกเสียงคํา  สะกดคํา  อานกลุมคํา  ประโยค  ขอความงายๆและบทพูดเขาจังหวะถูกตองตามหลักการอาน",null,null,null,null,null,null,14,"ต 4.1","ป.5/1","ฟังพูด  และอ่าน/เขียนในในสถานการณตางๆ ที่เกิดขึ้นในหองเรียนและสถานศึกษา",null,null,null,null,null,null,14,"ต 4.2","ป.6/1","ใชภาษาตางประเทศ  ในการสืบคนและรวบรวมขอมูลตางๆ"]
[null,4,"ต 2.1","ป.1/3","เขารวมกิจกรรมทางภาษาและวัฒนธรรมที่เหมาะกับวัย",null,null,null,null,null,null,4,"ต 2.1","ป.2/3","เขารวมกิจกรรมทางภาษาและวัฒนธรรมที่เหมาะกับวัย",null,null,null,null,null,null,2,"ต 1.1","ป.3/4","ตอบคําถามจากการฟงหรืออาน ประโยค บทสนทนา หรือนิทานงายๆ",null,null,null,null,null,null,"ตัวชี้วัดปลายทาง",null,null,null,null,null,null,null,null,null,"ตัวชี้วัดปลายทาง",null,null,null,null,null,null,null,null,null,"ตัวชี้วัดปลายทาง"]
[null,5,"ต 4.1","ป.1/1","ฟง/พูดในสถานการณงายๆ ที่เกิดขึ้นในหองเรียน",null,null,null,null,null,null,5,"ต 4.1","ป.2/1","ฟง/พูดในสถานการณ์งายๆ ที่เกิดขึ้นในหองเรียน",null,null,null,null,null,null,3,"ต 1.3","ป.3/1","พูดใหขอมูลเกี่ยวกับตนเองและเรื่องใกลตัว",null,null,null,null,null,null,1,"ต 2.1","ป.4/1","พูดและทําทาประกอบอยางสุภาพตามมารยาทสังคมและวัฒนธรรมของเจาของภาษา",null,null,null,null,null,null,1,"ต 1.1","ป.5/2","อานออกเสียงประโยค ขอความ และบทกลอนสั้นๆถูกตองตามหลักการอาน",null,null,null,null,null,null,1,"ต 1.1","ป.6/2","อานออกเสียงขอความ นิทานและบทกลอนสั้นๆถูกตองตามหลักการอ่าน"]
[null,6,"ต 4.2","ป.1/1","ใชภาษาตางประเทศ เพื่อรวบรวมคําศัพทที่เกี่ยวของใกลตัว",null,null,null,null,null,null,6,"ต 4.2","ป.2/1","ใชภาษาตางประเทศ เพื่อรวบรวมคําศัพทที่เกี่ยวของใกลตัว",null,null,null,null,null,null,4,"ต 2.1","ป.3/3","เขารวมกิจกรรมทางภาษาและวัฒนธรรมที่เหมาะกับวัย",null,null,null,null,null,null,2,"ต 2.1","ป.4/2","ตอบคําถามเกี่ยวกับเทศกาล/วันสําคัญ/งานฉลองและชีวิตความเปนอยูงายๆ ของเจาของ",null,null,null,null,null,null,2,"ต 1.2","ป.5/1","พูด/เขียนโตตอบในการสื่อสารระหวางบุคคล",null,null,null,null,null,null,2,"ต 1.2","ป.6/1","พูด/เขียนโตตอบในการสื่อสารระหวางบุคคล"]
[null,null,null,null,null,null,null,null,null,null,null,null,null,null,null,null,null,null,null,null,null,5,"ต 4.1","ป.3/1","ฟง/พูดในสถานการณงายๆ ที่เกิดขึ้นในหองเรียน",null,null,null,null,null,null,3,"ต 1.2","ป.4/1","พูด/เขียนโตตอบในการสื่อสารระหวางบุคคล",null,null,null,null,null,null,3,"ต 2.1","ป.5/1","ใชถอยคํา น้ำเสียง และกิริยาทาทางอยางสุภาพ ตามมารยาทสังคมและวัฒนธรรมของเจาของภาษา",null,null,null,null,null,null,3,"ต 2.1","ป.6/1","ใชถอยคํา น้ำเสียง และกิริยาทาทางอยางสุภาพเหมาะสม ตามมารยาทสังคมและวัฒนธรรมของเจาของภาษา"]
[null,null,null,null,null,null,null,null,null,null,null,null,null,null,null,null,null,null,null,null,null,6,"ต 4.2","ป.3/1","ใชภาษาตางประเทศ เพื่อรวบรวมคําศัพทที่เกี่ยวของใกลตัว",null,null,null,null,null,null,4,"ต 4.2","ป.4/1","ใชภาษาตางประเทศในการสืบคนและรวบรวมขอมูลตางๆ",null,null,null,null,null,null,4,"ต 2.1","ป.5/2","ตอบคำถาม/บอกความสำคัญของเทศกาล/วันสําคัญ/งานฉลอง/และชีวิตความเปนอยูง่ายๆของเจาของภาษา",null,null,null,null,null,null,4,"ต 2.1","ป.6/2","ใหขอมูลเกี่ยวกับเทศกาล/วันสําคัญ/งานฉลอง/ชีวิตความเปนอยูของเจาของภาษา"]
[null,null,null,null,null,null,null,null,null,null,null,null,null,null,null,null,null,null,null,null,null,null,null,null,null,null,null,null,null,null,null,5,"ต 3.1","ป.4/1","คนควา รวบรวมคําศัพทที่เกี่ยวของกับกลุมสาระการเรียนรูอื่นและนําเสนอดวยการพูด/การเขียน ",null,null,null,null,null,null,5,"ต 3.1","ป.5/1","คนควา รวบรวมคําศัพทที่เกี่ยวของกับกลุมสาระการเรียนรูอื่นและนําเสนอดวยการพูด/การเขียน",null,null,null,null,null,null,5,"ต 3.1","ป.6/1","คนควา รวบรวมคําศัพทที่เกี่ยวของกับกลุมสาระการเรียนรูอื่นจากแหลงเรียนรู และนําเสนอดวยการพูด/การเขียน "]
[null,null,null,null,null,null,null,null,null,null,null,null,null,null,null,null,null,null,null,null,null,null,null,null,null,null,null,null,null,null,null,6,"ต 4.1","ป.4/1","ฟงและพูด/อานในสถานการณที่เกิดขึ้นในหองเรียนและสถานศึกษา",null,null,null,null,null,null,6,"ต 4.2","ป.5/1","ใชภาษาตางประเทศในการสืบคนและรวบรวมขอมูลตางๆ",null,null,null,null,null,null,6,"ต 4.1","ป.6/1","ใชภาษาสื่อสารในสถานการณตางๆ ที่เกิดขึ้นในหองเรียนและสถานศึกษา "]

{"sheet":"ตชว.อัล-กุรอาน","index":28,"n_rows":15,"n_cols":55,"rows_kept":15,"cut":false,"hidden":false,"merged":[[42,4,42,8],[42,14,42,18],[42,24,42,28],[42,34,42,38],[42,44,42,48],[42,54,42,58],[41,4,41,8],[41,14,41,18],[41,24,41,28],[41,34,41,38],[41,44,41,48],[41,54,41,58],[40,4,40,8],[40,14,40,18],[40,24,40,28],[40,34,40,38],[40,44,40,48],[40,54,40,58],[39,4,39,8],[39,14,39,18],[39,24,39,28],[39,34,39,38],[39,44,39,48],[39,54,39,58],[38,4,38,8],[38,14,38,18],[38,24,38,28],[38,34,38,38],[38,44,38,48],[38,54,38,58],[37,4,37,8],[37,14,37,18],[37,24,37,28],[37,34,37,38],[37,44,37,48],[37,54,37,58],[36,4,36,8],[36,14,36,18],[36,24,36,28],[36,34,36,38],[36,44,36,48],[36,54,36,58],[35,4,35,8],[35,14,35,18],[35,24,35,28],[35,34,35,38],[35,44,35,48],[35,54,35,58],[34,4,34,8],[34,14,34,18],[34,24,34,28],[34,34,34,38],[34,44,34,48],[34,54,34,58],[33,4,33,8],[33,14,33,18],[33,24,33,28],[33,34,33,38],[33,44,33,48],[33,54,33,58],[32,4,32,8],[32,14,32,18],[32,24,32,28],[32,34,32,38],[32,44,32,48],[32,54,32,58],[31,4,31,8],[31,14,31,18],[31,24,31,28],[31,34,31,38],[31,44,31,48],[31,54,31,58],[30,4,30,8],[30,14,30,18],[30,24,30,28],[30,34,30,38],[30,44,30,48],[30,54,30,58],[29,4,29,8],[29,14,29,18],[29,24,29,28],[29,34,29,38],[29,44,29,48],[29,54,29,58],[28,4,28,8],[28,14,28,18],[28,24,28,28],[28,34,28,38],[28,44,28,48],[28,54,28,58],[27,4,27,8],[27,14,27,18],[27,24,27,28],[27,34,27,38],[27,44,27,48],[27,54,27,58],[26,4,26,8],[26,14,26,18],[26,24,26,28],[26,34,26,38],[26,44,26,48],[26,54,26,58],[25,4,25,8],[25,14,25,18],[25,24,25,28],[25,34,25,38],[25,44,25,48],[25,54,25,58],[24,4,24,8],[24,14,24,18],[24,24,24,28],[24,34,24,38],[24,44,24,48],[24,54,24,58],[23,4,23,8],[23,14,23,18],[23,24,23,28],[23,34,23,38],[23,44,23,48],[23,54,23,58],[22,4,22,8],[22,14,22,18],[22,24,22,28],[22,34,22,38],[22,44,22,48],[22,54,22,58],[21,4,21,8],[21,14,21,18],[21,24,21,28],[21,34,21,38],[21,44,21,48],[21,54,21,58],[20,4,20,8],[20,14,20,18],[20,24,20,28],[20,34,20,38],[20,44,20,48],[20,54,20,58],[19,4,19,8],[19,14,19,18],[19,24,19,28],[19,34,19,38],[19,44,19,48],[19,54,19,58],[16,54,16,58],[15,14,15,18],[15,24,15,28],[15,34,15,38],[15,44,15,48],[15,54,15,58],[18,14,18,18],[18,24,18,28],[18,34,18,38],[18,44,18,48],[18,54,18,58],[17,14,17,18],[17,24,17,28],[17,34,17,38],[17,44,17,48],[17,54,17,58],[18,4,18,8],[10,14,10,18],[10,24,10,28],[10,34,10,38],[10,44,10,48],[10,54,10,58],[17,4,17,8],[9,14,9,18],[9,24,9,28],[9,34,9,38],[9,44,9,48],[9,54,9,58],[12,14,12,18],[12,24,12,28],[12,34,12,38],[12,44,12,48],[12,54,12,58],[11,14,11,18],[11,24,11,28],[11,34,11,38],[11,44,11,48],[11,54,11,58],[14,14,14,18],[14,24,14,28],[16,4,16,8],[8,14,8,18],[8,24,8,28],[8,34,8,38],[8,44,8,48],[8,54,8,58],[15,4,15,8],[7,14,7,18],[7,24,7,28],[7,34,7,38],[7,44,7,48],[7,54,7,58],[14,34,14,38],[14,44,14,48],[14,54,14,58],[13,14,13,18],[13,24,13,28],[13,34,13,38],[13,44,13,48],[13,54,13,58],[16,14,16,18],[16,24,16,28],[16,34,16,38],[16,44,16,48],[14,4,14,8],[6,14,6,18],[6,24,6,28],[6,34,6,38],[6,44,6,48],[6,54,6,58],[13,4,13,8],[5,14,5,18],[5,24,5,28],[5,34,5,38],[5,44,5,48],[5,54,5,58],[10,4,10,8],[12,4,12,8],[11,4,11,8],[3,1,3,8],[5,4,5,8],[6,4,6,8],[7,4,7,8],[8,4,8,8],[9,4,9,8],[4,4,4,8],[3,11,3,18],[1,1,1,8],[1,11,1,18],[1,21,1,28],[1,31,1,38],[1,41,1,48],[1,51,1,58],[4,14,4,18],[4,24,4,28],[4,34,4,38],[4,44,4,48],[4,54,4,58],[3,21,3,28],[3,31,3,38],[3,41,3,48],[3,51,3,58]]}
["อัล-กุรอาน"]
[null,{"$f":"\"ตัวชี้วัดรายวิชา\"&'ตชว.อัล-กุรอาน'!$A$1&\"  ชั้น ป.1\"","v":"ตัวชี้วัดรายวิชาอัล-กุรอาน  ชั้น ป.1"},null,null,null,null,null,null,null,null,null,{"$f":"\"ตัวชี้วัดรายวิชา\"&'ตชว.อัล-กุรอาน'!$A$1&\"  ชั้น ป.2\"","v":"ตัวชี้วัดรายวิชาอัล-กุรอาน  ชั้น ป.2"},null,null,null,null,null,null,null,null,null,{"$f":"\"ตัวชี้วัดรายวิชา\"&'ตชว.อัล-กุรอาน'!$A$1&\"  ชั้น ป.3\"","v":"ตัวชี้วัดรายวิชาอัล-กุรอาน  ชั้น ป.3"},null,null,null,null,null,null,null,null,null,{"$f":"\"ตัวชี้วัดรายวิชา\"&'ตชว.อัล-กุรอาน'!$A$1&\"  ชั้น ป.4\"","v":"ตัวชี้วัดรายวิชาอัล-กุรอาน  ชั้น ป.4"},null,null,null,null,null,null,null,null,null,{"$f":"\"ตัวชี้วัดรายวิชา\"&'ตชว.อัล-กุรอาน'!$A$1&\"  ชั้น ป.5\"","v":"ตัวชี้วัดรายวิชาอัล-กุรอาน  ชั้น ป.5"},null,null,null,null,null,null,null,null,null,{"$f":"\"ตัวชี้วัดรายวิชา\"&'ตชว.อัล-กุรอาน'!$A$1&\"  ชั้น ป.6\"","v":"ตัวชี้วัดรายวิชาอัล-กุรอาน  ชั้น ป.6"}]
[null,"ข้อที่","มาตรฐาน","ชั้น/ข้อ","เรื่อง",null,null,null,null,null,null,"ข้อที่","มาตรฐาน","ชั้น/ข้อ","เรื่อง",null,null,null,null,null,null,"ข้อที่","มาตรฐาน","ชั้น/ข้อ","เรื่อง",null,null,null,null,null,null,"ข้อที่","มาตรฐาน","ชั้น/ข้อ","เรื่อง",null,null,null,null,null,null,"ข้อที่","มาตรฐาน","ชั้น/ข้อ","เรื่อง",null,null,null,null,null,null,"ข้อที่","มาตรฐาน","ชั้น/ข้อ","เรื่อง"]
[null,"ตัวชี้วัด",null,null,null,null,null,null,null,null,null,"ตัวชี้วัด",null,null,null,null,null,null,null,null,null,"ตัวชี้วัด",null,null,null,null,null,null,null,null,null,"ตัวชี้วัด",null,null,null,null,null,null,null,null,null,"ตัวชี้วัด",null,null,null,null,null,null,null,null,null,"ตัวชี้วัด"]
[null,1,null,"ป.1/1","นักเรียนบอกความหมาย ความเป็นมา  ความสำคัญของหลักการอิสลาม และพระนามของอัลลอฮฺลำดับที่ ๑-๑๐",null,null,null,null,null,null,1,null,"ป.2/1","นักเรียนบอกความหมาย ความสำคัญของหลักการอิสลามและพระนามของอัลลอฮฺลำดับที่ ๑๑-๒๔\nฃ",null,null,null,null,null,null,1,null,"ป.3/1","นักเรียนอธิบายความหมาย ความสำคัญของหลักการอิสลามและบอกพระนามของอัลลอฮฺ ลำดับที่ ๒๕-๓๙",null,null,null,null,null,null,1,null,"ป.4/1","นักเรียนอธิบายความสำคัญของหลักการอิสลาม คุณลักษณะของอัลลอฮฺ และบอกพระนามของอัลลอฮฺลำดับที่ ๔๐-๕๐",null,null,null,null,null,null,1,null,"ป.5/1","นักเรียนสามารถวิเคราะห์ความสำคัญของหลักการอิสลาม ",null,null,null,null,null,null,1,null,"ป.6/1","นักเรียนสามารถวิเคราะห์ความสำคัญของหลักการอิสลาม "]
[null,2,null,"ป.1/2","นักเรียนสามารถบอกประเภทของน้ำสะอาดและวิธีการอาบน้ำละหมาด",null,null,null,null,null,null,2,null,"ป.2/2","นักเรียนบอกความหมาย ความสำคัญของการชำระล้างนะญิสและวิธีการละหมาด",null,null,null,null,null,null,2,null,"ป.3/2","นักเรียนเห็นคุณค่าของหลักการอิสลามนักเรียนสามารถบอกชื่อของบรรดารสูลและประวัติของท่านนบีมุฮัมมัดตั้งแต่สมรสจนถึงการรับวะหฺยู",null,null,null,null,null,null,2,null,"ป.4/2","นักเรียนสามรถอธิบายความหมาย ความสำคัญบทบัญญัติอิสลาม",null,null,null,null,null,null,2,null,"ป.5/2","นักเรียนสามารถอธิบายการศรัทธาต่อคัมภีร์  รสูล และบอกพระนามของอัลลอฮฺลำดับที่    ๖๐-๗๙ ",null,null,null,null,null,null,2,null,"ป.6/2","นักเรียนสามารถอธิบายการศรัทธาต่อวันอาคีรอฮฺ  เกาะฎอฮ์และเกาะดัรและบอกพระนามของอัลลอฮฺลำดับที่๘๐-๙๙ "]
[null,3,null,"ป.1/3","บอกประวัติของท่าน นบีมุฮัมมัด( ศ็อล)โดยสังเขป",null,null,null,null,null,null,3,null,"ป.2/3","นักเรียนบอกประวัติของท่านนบีมุฮัมมัด(ศ็อล) ตั้งแต่เกิดจนถึงการสมรสกับท่านหญิงเคาะดิญะฮฺ                                                \n",null,null,null,null,null,null,3,null,"ป.3/3","นักเรียนชื่นชมและบอกแบบอย่างการดำเนินชีวิตและคุณลักษณะของท่านนบีมุฮัมมัดปฏิบัติตามบทบัญญัติอิสลาม  ",null,null,null,null,null,null,3,null,"ป.4/3","นักเรียนเห็นคุณค่าและปฏิบัติตามบทบัญญัติของอิสลาม",null,null,null,null,null,null,3,null,"ป.5/3","นักเรียนสามารถวิเคราะห์ความหมายความสำคัญของบทบัญญัติอิสลาม",null,null,null,null,null,null,3,null,"ป.6/3","นักเรียนสามารถบอกความหมายของการชิริก"]
[null,4,null,"ป.1/4","ปฏิบัติตนตามบทบัญญัติอิสลาม",null,null,null,null,null,null,4,null,"ป.2/4","นักเรียนมีความชื่นชมและบอกแบบอย่างการดำเนินชีวิตของท่านนบีมุฮัม",null,null,null,null,null,null,4,null,"ป.3/4","ปฏิบัติตนเป็นมุสลิมที่ดี มีคุณธรรมจริยธรรมตามแบบอย่างของท่านนบีมุฮัมมัด",null,null,null,null,null,null,4,null,"ป.4/4","นักเรียนสามารถสรุปประวัติการเผยแผ่อิสลาม ณ นครมักกะฮฺของท่านนบีมุฮัมมัด(ศ็อล)",null,null,null,null,null,null,4,null,"ป.5/4","นักเรียนเห็นคุณค่าและความสำคัญของบทบัญญัติอิสลาม",null,null,null,null,null,null,4,null,"ป.6/4","นักเรียนสามารถสรุปความสำคัญของบทบัญญัติอิสลาม"]
[null,5,null,"ป.1/5","ปฏิบัติตนเป็นมุสลิมที่ดี มีคุณธรรมจริยธรรมตามแบบอย่างของท่านนบีมุฮัมมัด(ศ็อล)",null,null,null,null,null,null,5,null,"ป.2/5","ปฏิบัติตนตามบทบัญญัติอิสลาม",null,null,null,null,null,null,5,null,"ป.3/5","นักเรียนอ่าน  เขียน พยัญชนะ สระ ในอัลกุรฺอานและ ท่องจำสูเราะฮฺที่กำหนด",null,null,null,null,null,null,5,null,"ป.4/5","นักเรียนเห็นคุณค่าและประพฤติตนตามแบบอย่างของท่านนบีมุฮัมมัด(ศ็อล)",null,null,null,null,null,null,5,null,"ป.5/5","นักเรียนสามารถสรุปประวัติเหตุการณ์ต่างๆช่วงการอพยพของท่านนบีมุฮัมมัด",null,null,null,null,null,null,5,null,"ป.6/5","นักเรียนเห็นคุณค่าและความสำคัญของบทบัญญัติอิสลาม"]
[null,6,null,"ป.1/6","นักเรียนอ่าน  เขียน พยัญชนะ สระในอัลกุรฺอานและท่องจำสูเราะฮฺที่กำหนด",null,null,null,null,null,null,6,null,"ป.2/6","ปฏิบัติตนเป็นมุสลิมที่ดี มีคุณธรรมจริยธรรม ตามแบบอย่างของท่านนบีมุฮัมมัด",null,null,null,null,null,null,null,null,null,null,null,null,null,null,null,null,6,null,"ป.4/6","นักเรียนสามารถปฏิบัติตนตามบทบัญญัติอิสลาม",null,null,null,null,null,null,6,null,"ป.5/6","นักเรียนเห็นคุณค่าและประพฤติตนตามแบบอย่างการดำเนินชิวิตของท่านนบีมุฮัมมัด(ศ็อล)และเคาะลีฟะฮฺทั้งสี่",null,null,null,null,null,null,6,null,"ป.6/6","นักเรียนสรุปประวัติของท่านนบีมุฮัมมัด (ศ็อล) ตั้งแต่อพยพจนถึงการเสียชีวิต"]
[null,7,null,"ป.1/7","นักเรียนอธิบายการบำเพ็ญประโยชน์ต่อสาธารณสถาน",null,null,null,null,null,null,7,null,"ป.2/7","อ่าน  เขียน พยัญชนะ สระในอัลกุรฺอานและท่องจำสูเราะฮฺที่กำหนด",null,null,null,null,null,null,null,null,null,null,null,null,null,null,null,null,7,null,"ป.4/7","นักเรียนระบุพฤติกรรม เห็นคุณค่าและปฏิบัติตนเป็นมุสลิมที่ดี  มีคุณธรรมจริยธรรมตามแบบอย่างของท่านนบี ",null,null,null,null,null,null,7,null,"ป.5/7","นักเรียนสามารถปฏิบัติตนตามบทบัญญัติอิสลาม",null,null,null,null,null,null,7,null,"ป.6/7","นักเรียนเห็นคุณค่าและประพฤติตนตามแบบอย่างการดำเนินชิวิตของ ท่านนบีมุฮัมมัด(ศ็อล)และเคาะลีฟะฮฺทั้ง ๔"]
[null,8,null,"ป.1/8","อธิบายการปฏิบัติตนในวันสำคัญทางศาสนา",null,null,null,null,null,null,8,null,"ป.2/8","อภิปรายการปฏิบัติตนในวันสำคัญทางศาสนา",null,null,null,null,null,null,null,null,null,null,null,null,null,null,null,null,8,null,"ป.4/8","นักเรียนสามารถอภิปรายความสำคัญและมีส่วนร่วมในการบำรุงศาสนสถาน",null,null,null,null,null,null,8,null,"ป.5/8","นักเรียนสามารถอภิปรายพฤติกรรม เห็นคุณค่า และปฏิบัติตนเป็นมุสลิมที่ดี  มีคุณธรรม จริยธรรมตามแบบอย่างของท่านนบี",null,null,null,null,null,null,8,null,"ป.6/8","นักเรียนสามารถปฏิบัติตนตามบทบัญญัติอิสลาม"]
[null,null,null,null,null,null,null,null,null,null,null,null,null,null,null,null,null,null,null,null,null,null,null,null,null,null,null,null,null,null,null,9,null,"ป.4/9","นักเรียนสามารถอ่าน เขียนคำตามหลักการอ่านและท่องจำซูเราะฮฺที่กำหนด",null,null,null,null,null,null,9,null,"ป.5/9","นักเรียนสามารถอภิปรายความสำคัญและมีส่วนร่วมในการบำรุงศาสนสถาน",null,null,null,null,null,null,9,null,"ป.6/9","นักเรียนปฏิบัติตนเป็นมุสลิมที่ดี มีคุณธรรม จริยธรรมตามแบบอย่างของท่านนบีมุฮัมมัด"]
[null,null,null,null,null,null,null,null,null,null,null,null,null,null,null,null,null,null,null,null,null,null,null,null,null,null,null,null,null,null,null,null,null,null,null,null,null,null,null,null,null,10,null,"ป.5/10","นักเรียนสามารถอ่าน เขียนคำตามหลักการอ่านและท่องจำสูเราะฮ ที่กำหนด",null,null,null,null,null,null,10,null,"ป.6/10","อภิปรายเกี่ยวกับศาสนสถานและสามารถปฏิบัติตนได้"]
[null,null,null,null,null,null,null,null,null,null,null,null,null,null,null,null,null,null,null,null,null,null,null,null,null,null,null,null,null,null,null,null,null,null,null,null,null,null,null,null,null,null,null,null,null,null,null,null,null,null,null,11,null,"ป.6/11","นักเรียนอ่านเขียนคำตามหลักการอ่านและท่องจำสูเราะฮฺที่กำหนด"]

{"sheet":"ตชว.หน้าที่พลเมือง","index":29,"n_rows":14,"n_cols":55,"rows_kept":14,"cut":false,"hidden":false,"merged":[[1,1,1,8],[1,11,1,18],[1,21,1,28],[1,31,1,38],[1,41,1,48],[1,51,1,58],[4,4,4,8],[4,14,4,18],[4,24,4,28],[4,34,4,38],[4,44,4,48],[4,54,4,58],[3,1,3,8],[3,11,3,18],[3,21,3,28],[3,31,3,38],[3,41,3,48],[3,51,3,58],[6,4,6,8],[6,14,6,18],[6,24,6,28],[6,34,6,38],[6,44,6,48],[6,54,6,58],[5,4,5,8],[5,14,5,18],[5,24,5,28],[5,34,5,38],[5,44,5,48],[5,54,5,58],[8,4,8,8],[8,14,8,18],[8,24,8,28],[8,34,8,38],[8,44,8,48],[8,54,8,58],[7,4,7,8],[7,14,7,18],[7,24,7,28],[7,34,7,38],[7,44,7,48],[7,54,7,58],[10,4,10,8],[10,14,10,18],[10,24,10,28],[10,34,10,38],[10,44,10,48],[10,54,10,58],[9,4,9,8],[9,14,9,18],[9,24,9,28],[9,34,9,38],[9,44,9,48],[9,54,9,58],[12,4,12,8],[12,14,12,18],[12,24,12,28],[12,34,12,38],[12,44,12,48],[12,54,12,58],[11,4,11,8],[11,14,11,18],[11,24,11,28],[11,34,11,38],[11,44,11,48],[11,54,11,58],[14,4,14,8],[14,14,14,18],[14,24,14,28],[14,34,14,38],[14,44,14,48],[14,54,14,58],[13,4,13,8],[13,14,13,18],[13,24,13,28],[13,34,13,38],[13,44,13,48],[13,54,13,58],[16,4,16,8],[16,14,16,18],[16,24,16,28],[16,34,16,38],[16,44,16,48],[16,54,16,58],[15,4,15,8],[15,14,15,18],[15,24,15,28],[15,34,15,38],[15,44,15,48],[15,54,15,58],[18,4,18,8],[18,14,18,18],[18,24,18,28],[18,34,18,38],[18,44,18,48],[18,54,18,58],[17,4,17,8],[17,14,17,18],[17,24,17,28],[17,34,17,38],[17,44,17,48],[17,54,17,58],[20,4,20,8],[20,14,20,18],[20,24,20,28],[20,34,20,38],[20,44,20,48],[20,54,20,58],[19,4,19,8],[19,14,19,18],[19,24,19,28],[19,34,19,38],[19,44,19,48],[19,54,19,58],[22,4,22,8],[22,14,22,18],[22,24,22,28],[22,34,22,38],[22,44,22,48],[22,54,22,58],[21,4,21,8],[21,14,21,18],[21,24,21,28],[21,34,21,38],[21,44,21,48],[21,54,21,58],[24,4,24,8],[24,14,24,18],[24,24,24,28],[24,34,24,38],[24,44,24,48],[24,54,24,58],[23,4,23,8],[23,14,23,18],[23,24,23,28],[23,34,23,38],[23,44,23,48],[23,54,23,58],[26,4,26,8],[26,14,26,18],[26,24,26,28],[26,34,26,38],[26,44,26,48],[26,54,26,58],[25,4,25,8],[25,14,25,18],[25,24,25,28],[25,34,25,38],[25,44,25,48],[25,54,25,58],[28,4,28,8],[28,14,28,18],[28,24,28,28],[28,34,28,38],[28,44,28,48],[28,54,28,58],[27,4,27,8],[27,14,27,18],[27,24,27,28],[27,34,27,38],[27,44,27,48],[27,54,27,58],[30,4,30,8],[30,14,30,18],[30,24,30,28],[30,34,30,38],[30,44,30,48],[30,54,30,58],[29,4,29,8],[29,14,29,18],[29,24,29,28],[29,34,29,38],[29,44,29,48],[29,54,29,58],[32,4,32,8],[32,14,32,18],[32,24,32,28],[32,34,32,38],[32,44,32,48],[32,54,32,58],[31,4,31,8],[31,14,31,18],[31,24,31,28],[31,34,31,38],[31,44,31,48],[31,54,31,58],[34,4,34,8],[34,14,34,18],[34,24,34,28],[34,34,34,38],[34,44,34,48],[34,54,34,58],[33,4,33,8],[33,14,33,18],[33,24,33,28],[33,34,33,38],[33,44,33,48],[33,54,33,58],[36,4,36,8],[36,14,36,18],[36,24,36,28],[36,34,36,38],[36,44,36,48],[36,54,36,58],[35,4,35,8],[35,14,35,18],[35,24,35,28],[35,34,35,38],[35,44,35,48],[35,54,35,58],[38,4,38,8],[38,14,38,18],[38,24,38,28],[38,34,38,38],[38,44,38,48],[38,54,38,58],[37,4,37,8],[37,14,37,18],[37,24,37,28],[37,34,37,38],[37,44,37,48],[37,54,37,58],[40,4,40,8],[40,14,40,18],[40,24,40,28],[40,34,40,38],[40,44,40,48],[40,54,40,58],[39,4,39,8],[39,14,39,18],[39,24,39,28],[39,34,39,38],[39,44,39,48],[39,54,39,58],[42,4,42,8],[42,14,42,18],[42,24,42,28],[42,34,42,38],[42,44,42,48],[42,54,42,58],[41,4,41,8],[41,14,41,18],[41,24,41,28],[41,34,41,38],[41,44,41,48],[41,54,41,58]]}
["หน้าที่พลเมือง"]
[null,{"$f":"\"ตัวชี้วัดรายวิชา\"&ตชว.หน้าที่พลเมือง!$A$1&\"  ชั้น ป.1\"","v":"ตัวชี้วัดรายวิชาหน้าที่พลเมือง  ชั้น ป.1"},null,null,null,null,null,null,null,null,null,{"$f":"\"ตัวชี้วัดรายวิชา\"&ตชว.หน้าที่พลเมือง!$A$1&\"  ชั้น ป.2\"","v":"ตัวชี้วัดรายวิชาหน้าที่พลเมือง  ชั้น ป.2"},null,null,null,null,null,null,null,null,null,{"$f":"\"ตัวชี้วัดรายวิชา\"&ตชว.หน้าที่พลเมือง!$A$1&\"  ชั้น ป.3\"","v":"ตัวชี้วัดรายวิชาหน้าที่พลเมือง  ชั้น ป.3"},null,null,null,null,null,null,null,null,null,{"$f":"\"ตัวชี้วัดรายวิชา\"&ตชว.หน้าที่พลเมือง!$A$1&\"  ชั้น ป.4\"","v":"ตัวชี้วัดรายวิชาหน้าที่พลเมือง  ชั้น ป.4"},null,null,null,null,null,null,null,null,null,{"$f":"\"ตัวชี้วัดรายวิชา\"&ตชว.หน้าที่พลเมือง!$A$1&\"  ชั้น ป.5\"","v":"ตัวชี้วัดรายวิชาหน้าที่พลเมือง  ชั้น ป.5"},null,null,null,null,null,null,null,null,null,{"$f":"\"ตัวชี้วัดรายวิชา\"&ตชว.หน้าที่พลเมือง!$A$1&\"  ชั้น ป.6\"","v":"ตัวชี้วัดรายวิชาหน้าที่พลเมือง  ชั้น ป.6"}]
[null,"ข้อที่","มาตรฐาน","ชั้น/ข้อ","เรื่อง",null,null,null,null,null,null,"ข้อที่","มาตรฐาน","ชั้น/ข้อ","เรื่อง",null,null,null,null,null,null,"ข้อที่","มาตรฐาน","ชั้น/ข้อ","เรื่อง",null,null,null,null,null,null,"ข้อที่","มาตรฐาน","ชั้น/ข้อ","เรื่อง",null,null,null,null,null,null,"ข้อที่","มาตรฐาน","ชั้น/ข้อ","เรื่อง",null,null,null,null,null,null,"ข้อที่","มาตรฐาน","ชั้น/ข้อ","เรื่อง"]
[null,"ตัวชี้วัด",null,null,null,null,null,null,null,null,null,"ตัวชี้วัด",null,null,null,null,null,null,null,null,null,"ตัวชี้วัด",null,null,null,null,null,null,null,null,null,"ตัวชี้วัด",null,null,null,null,null,null,null,null,null,"ตัวชี้วัด",null,null,null,null,null,null,null,null,null,"ตัวชี้วัด"]
[null,1,null,"ป.1/1","ปฏิบัติตนเป็นผู้มีมารยาทไทย",null,null,null,null,null,null,1,null,"ป.2/1","ปฏิบัติตนเป็นผู้มีมารยาทไทย",null,null,null,null,null,null,1,null,"ป.3/1","ปฏิบัติตนเป็นผู้มีมารยาทไทย",null,null,null,null,null,null,1,null,"ป.4/1","เห็นคุณค่าและปฏิบัติตนเป็นผู้มีมารยาทไทย ",null,null,null,null,null,null,1,null,"ป.5/1","เห็นคุณค่าและปฏิบัติตนเป็นผู้มีมารยาทไทย ",null,null,null,null,null,null,1,null,"ป.6/1","ปฏิบัติตนและชักชวนผู้อื่นให้มีมารยาทแบบไทย"]
[null,2,null,"ป.1/2","แสดงออกถึงความกตัญญูกตเวทีต่อบุคคลในครอบครัว",null,null,null,null,null,null,2,null,"ป.2/2","แสดงออกถึงความกตัญญูกตเวทีต่อบุคคลในโรงเรียน",null,null,null,null,null,null,2,null,"ป.3/2","แสดงออกถึงความกตัญญูกตเวทีต่อบุคคลในชุมชน",null,null,null,null,null,null,2,null,"ป.4/2","แสดงออกถึงความกตัญญูกตเวทีต่อผู้ทำประโยชนในสังคม ",null,null,null,null,null,null,2,null,"ป.5/2","รู้คุณค่าและบำรุงรักษาทรัพยากรธรรมชาติและสิ่งแวดล้อม ",null,null,null,null,null,null,2,null,"ป.6/2","มีส่วนร่วมและชักชวนผู้อื่นให้อนุรักษ์ทรัพยาการธรรมชาติและสิ่งแวดล้อม"]
[null,3,null,"ป.1/3","เห็นความสำคัญของภาษาไทย",null,null,null,null,null,null,3,null,"ป.2/3","เห็นประโยชน์ของการแต่งกายด้วยผ้าไทย",null,null,null,null,null,null,3,null,"ป.3/3","เห็นคุณค่าของภูมิปัญญาท้องถิ่น",null,null,null,null,null,null,3,null,"ป.4/3","มีส่วนร่วมในขนบธรรมเนียมประเพณีไทย ",null,null,null,null,null,null,3,null,"ป.5/3","มีส่วนร่วมในศิลปวัฒนธรรมไทย ",null,null,null,null,null,null,3,null,"ป.6/3","มีส่วนร่วมในขนบธรรมเนียมประเพณีวัฒนธรรมและภูมิปัญญาไทย"]
[null,4,null,"ป.1/4","เข้าร่วมกิจกรรมเกี่ยวกับชาติศาสนาและสถาบันพระมหากษัตริย์",null,null,null,null,null,null,4,null,"ป.2/4","เข้าร่วมกิจกรรมเกี่ยวกับชาติ ศาสนา และสถาบันพระมหากษัตริย์",null,null,null,null,null,null,4,null,"ป.3/4","เข้าร่วมกิจกรรมเกี่ยวกับสถาบันชาติ ศาสนา และพระมหากษัตริย์",null,null,null,null,null,null,4,null,"ป.4/4","เห็นความสำคัญและแสดงออกถึงความรักชาติ ยึดมั่นในศาสนา และเทิดทูนสถาบันพระมหากษัตริย์ ",null,null,null,null,null,null,4,null,"ป.5/4","เห็นคุณค่าและแสดงออกถึงความรักชาติ ยึดมั่นในศาสนา และเทิดทูนสถาบันพระมหากษัตริย์ ",null,null,null,null,null,null,4,null,"ป.6/4","เห็นคุณค่าและแนะนำผู้อื่นให้แสดงออกถึงความรักชาติ ยึดมั่นในศาสนาและเทิดทูนพระมหากษัตริย์"]
[null,5,null,"ป.1/5","ปฏิบัติตนตามพระบรมราโชวาทหลักการทรงงานและหลักปรัชญาของเศรษฐกิจพอเพียง",null,null,null,null,null,null,5,null,"ป.2/5","ปฏิบัติตนตามพระบรมราโชวาท หลักการทรงงานและหลักปรัชญาของเศรษฐกิจพอเพียง",null,null,null,null,null,null,5,null,"ป.3/5","ปฏิบัติตน ตามพระบรมราโชวาท หลักการทรงงาน และหลักปรัชญาของเศรษฐกิจพอเพียง",null,null,null,null,null,null,5,null,"ป.4/5","ปฏิบัติตนตามพระบรมราโชวาท หลักการทรงงาน และหลักปรัชญาของเศรษฐกิจพอเพียง ",null,null,null,null,null,null,5,null,"ป.5/5","ปฏิบัติตนตามพระบรมราโชวาท หลักการทรงงาน และหลักปรัชญาของเศรษฐกิจพอเพียง ",null,null,null,null,null,null,5,null,"ป.6/5","ปฏิบัติตนตามพระบรมราโชวาทหลักทรงงานและหลักปรัชญาของเศรษฐกิจพระบรมราโชวาทหลักทรงงานและหลักปรัชญาของเศรษฐกิจ "]
[null,6,null,"ป.1/6","ปฏิบัติตนตามข้อตกลงกติกาและหน้าที่ที่ต้องปฏิบัติในห้องเรียน",null,null,null,null,null,null,6,null,"ป.2/6","ปฏิบัติตนตามกฎระเบียบ และหน้าที่ที่ต้องปฏิบัติในโรงเรียน",null,null,null,null,null,null,6,null,"ป.3/6","ปฏิบัติตนตามข้อตกลง กติกา กฎระเบียบ และหน้าที่ที่ต้องปฏิบัติในห้องเรียนและโรงเรียน",null,null,null,null,null,null,6,null,"ป.4/6","มีส่วนร่วมในการสร้างและปฏิบัติตามข้อตกลง กติกาของห้องเรียน ",null,null,null,null,null,null,6,null,"ป.5/6","มีส่วนร่วมในการสร้างและปฏิบัติตามกฎ ระเบียบของโรงเรียน ",null,null,null,null,null,null,6,null,"ป.6/6","ปฏิบัติตนและแนะนำผู้อื่นให้ปฏิบัติตามข้อตกลง กติกา ระเบียบของห้องเรียนและโรงเรียน"]
[null,7,null,"ป.1/7","ปฏิบัติตนตามบทบาทหน้าที่ในฐานะสมาชิกที่ดีของครอบครัวและห้องเรียน",null,null,null,null,null,null,7,null,"ป.2/7","ปฏิบัติตนตามบทบาท หน้าที่ ในฐานะสมาชิกที่ดีของห้องเรียนและโรงเรียน",null,null,null,null,null,null,7,null,"ป.3/7","ปฏิบัติตนตามบทบาทหน้าที่ และมีส่วนร่วมในกิจกรรมต่างๆ ของห้องเรียน",null,null,null,null,null,null,7,null,"ป.4/7","ปฏิบัติตนตามบทบาทหน้าที่ มีส่วนร่วมและรับผิดชอบในการตัดสินใจในกิจกรรมของครอบครัว และห้องเรียน ",null,null,null,null,null,null,7,null,"ป.5/7","ปฏิบัติตนตามบทบาทหน้าที่มีส่วนร่วมและรับผิดชอบในการตัดสินใจในกิจกรรมของห้องเรียนและโรงเรียน ",null,null,null,null,null,null,7,null,"ป.6/7","เห็นคุณค่าและปฏิบัติตนตามบทบาทหน้าที่ มีส่วนร่วมและรับผิดชอบในการตัดสินใจในกิจกรรมของห้องเรียนและโรงเรียน"]
[null,8,null,"ป.1/8","ยอมรับความเหมือนและความแตกต่างของตนเองและผู้อื่น",null,null,null,null,null,null,8,null,"ป.2/8","ยอมรับความเหมือนและความแตกต่างของตนเองและผู้อื่น",null,null,null,null,null,null,8,null,"ป.3/8","ยอมรับและอยู่ร่วมกับผู้อื่นอย่างสันติ",null,null,null,null,null,null,8,null,"ป.4/8","ยอมรับและอยู่ร่วมกับผู้อื่นอย่างสันติ และพึ่งพาซึ่งกันและกัน ",null,null,null,null,null,null,8,null,"ป.5/8","ยอมรับความหลากหลายทางสังคม วัฒนธรรมในท้องถิ่น และอยู่ร่วมกับผู้อื่นอย่างสันติ และพึ่งพาซึ่งกันและกัน ",null,null,null,null,null,null,8,null,"ป.6/8","ยอมรับความหลากหลายทางสังคมวัฒนธรรมในท้องถิ่นและอยู่ร่วมกับผู้อื่นอย่างสันติและพึ่งพาซึ่งกันและกัน"]
[null,9,null,"ป.1/9","ยกตัวอย่างความขัดแย้งในห้องเรียนและเสนอวิธีการแก้ปัญหาโดยสันติวิธี",null,null,null,null,null,null,9,null,"ป.2/9","ยกตัวอย่างความขัดแย้งในโรงเรียนและเสนอวิธีการแก้ปัญหาโดยสันติวิธี",null,null,null,null,null,null,9,null,"ป.3/9","ยกตัวอย่างความขัดแย้งในชุมชน และเสนอวิธีการแก้ปัญหาโดยสันติวิธี",null,null,null,null,null,null,9,null,"ป.4/9","วิเคราะห์ปัญหาความขัดแย้งในท้องถิ่นและเสนอแนวทางการแกปัญหาโดยสันติวิธี ",null,null,null,null,null,null,9,null,"ป.5/9","วิเคราะห์ปัญหาความขัดแย้งในภูมิภาคของตนเองและเสนอแนวทางการแกปัญหาโดยสันติวิธี ",null,null,null,null,null,null,9,null,"ป.6/9","วิเคราะห์ปัญหาความขัดแย้งในภูมิภาคของตนเองและเสนอแนวทางการแก้ปัญหาโดยสันติวิธี"]
[null,10,null,"ป.1/10","ปฏิบัติตนเป็นผู้มีวินัยในตนเอง",null,null,null,null,null,null,10,null,"ป.2/10","การปฏิบัติตนเป็นผู้มีวินัยในตนเอง",null,null,null,null,null,null,10,null,"ป.3/10","ปฏิบัติตนเป็นผู้มีวินัยในตนเอง",null,null,null,null,null,null,10,null,"ป.4/10","ปฏิบัติตนเป็นผู้มีวินัยในตนเอง ",null,null,null,null,null,null,10,null,"ป.5/10","ปฏิบัติตนเป็นผู้มีวินัยในตนเอง",null,null,null,null,null,null,10,null,"ป.6/10","ปฏิบัติตนเป็นผู้มีวินัยในตนเอง"]

{"sheet":"ตชว.ต้านทุจริต","index":30,"n_rows":13,"n_cols":59,"rows_kept":13,"cut":false,"hidden":false,"merged":[[42,4,42,8],[42,14,42,18],[42,24,42,28],[42,34,42,38],[42,44,42,48],[42,54,42,58],[41,4,41,8],[41,14,41,18],[41,24,41,28],[41,34,41,38],[41,44,41,48],[41,54,41,58],[40,4,40,8],[40,14,40,18],[40,24,40,28],[40,34,40,38],[40,44,40,48],[40,54,40,58],[39,4,39,8],[39,14,39,18],[39,24,39,28],[39,34,39,38],[39,44,39,48],[39,54,39,58],[38,4,38,8],[38,14,38,18],[38,24,38,28],[38,34,38,38],[38,44,38,48],[38,54,38,58],[37,4,37,8],[37,14,37,18],[37,24,37,28],[37,34,37,38],[37,44,37,48],[37,54,37,58],[36,4,36,8],[36,14,36,18],[36,24,36,28],[36,34,36,38],[36,44,36,48],[36,54,36,58],[35,4,35,8],[35,14,35,18],[35,24,35,28],[35,34,35,38],[35,44,35,48],[35,54,35,58],[34,4,34,8],[34,14,34,18],[34,24,34,28],[34,34,34,38],[34,44,34,48],[34,54,34,58],[33,4,33,8],[33,14,33,18],[33,24,33,28],[33,34,33,38],[33,44,33,48],[33,54,33,58],[32,4,32,8],[32,14,32,18],[32,24,32,28],[32,34,32,38],[32,44,32,48],[32,54,32,58],[31,4,31,8],[31,14,31,18],[31,24,31,28],[31,34,31,38],[31,44,31,48],[31,54,31,58],[30,4,30,8],[30,14,30,18],[30,24,30,28],[30,34,30,38],[30,44,30,48],[30,54,30,58],[29,4,29,8],[29,14,29,18],[29,24,29,28],[29,34,29,38],[29,44,29,48],[29,54,29,58],[28,4,28,8],[28,14,28,18],[28,24,28,28],[28,34,28,38],[28,44,28,48],[28,54,28,58],[27,4,27,8],[27,14,27,18],[27,24,27,28],[27,34,27,38],[27,44,27,48],[27,54,27,58],[26,4,26,8],[26,14,26,18],[26,24,26,28],[26,34,26,38],[26,44,26,48],[26,54,26,58],[25,4,25,8],[25,14,25,18],[25,24,25,28],[25,34,25,38],[25,44,25,48],[25,54,25,58],[24,4,24,8],[24,14,24,18],[24,24,24,28],[24,34,24,38],[24,44,24,48],[24,54,24,58],[23,4,23,8],[23,14,23,18],[23,24,23,28],[23,34,23,38],[23,44,23,48],[23,54,23,58],[22,4,22,8],[22,14,22,18],[22,24,22,28],[22,34,22,38],[22,44,22,48],[22,54,22,58],[21,4,21,8],[21,14,21,18],[21,24,21,28],[21,34,21,38],[21,44,21,48],[21,54,21,58],[20,4,20,8],[20,14,20,18],[20,24,20,28],[20,34,20,38],[20,44,20,48],[20,54,20,58],[19,4,19,8],[19,14,19,18],[19,24,19,28],[19,34,19,38],[19,44,19,48],[19,54,19,58],[18,4,18,8],[18,14,18,18],[18,24,18,28],[18,34,18,38],[18,44,18,48],[18,54,18,58],[17,4,17,8],[17,14,17,18],[17,24,17,28],[17,34,17,38],[17,44,17,48],[17,54,17,58],[16,4,16,8],[16,14,16,18],[16,24,16,28],[16,34,16,38],[16,44,16,48],[16,54,16,58],[15,4,15,8],[15,14,15,18],[15,24,15,28],[15,34,15,38],[15,44,15,48],[15,54,15,58],[14,4,14,8],[14,14,14,18],[14,24,14,28],[14,34,14,38],[14,44,14,48],[14,54,14,58],[13,4,13,8],[13,14,13,18],[13,24,13,28],[13,34,13,38],[13,44,13,48],[13,54,13,58],[12,4,12,8],[12,14,12,18],[12,24,12,28],[12,34,12,38],[12,44,12,48],[12,54,12,58],[11,4,11,8],[11,14,11,18],[11,24,11,28],[11,34,11,38],[11,44,11,48],[11,54,11,58],[10,4,10,8],[10,14,10,18],[10,24,10,28],[10,34,10,38],[10,44,10,48],[10,54,10,58],[9,4,9,8],[9,14,9,18],[9,24,9,28],[9,34,9,38],[9,44,9,48],[9,54,9,58],[8,4,8,8],[8,14,8,18],[8,24,8,28],[8,34,8,38],[8,44,8,48],[8,54,8,58],[7,4,7,8],[7,14,7,18],[7,24,7,28],[7,34,7,38],[7,44,7,48],[7,54,7,58],[6,4,6,8],[6,14,6,18],[6,24,6,28],[6,34,6,38],[6,44,6,48],[6,54,6,58],[5,4,5,8],[5,14,5,18],[5,24,5,28],[5,34,5,38],[5,44,5,48],[5,54,5,58],[1,1,1,8],[1,11,1,18],[1,21,1,28],[1,31,1,38],[1,41,1,48],[1,51,1,58],[4,4,4,8],[4,14,4,18],[4,24,4,28],[4,34,4,38],[4,44,4,48],[4,54,4,58],[3,1,3,8],[3,11,3,18],[3,21,3,28],[3,31,3,38],[3,41,3,48],[3,51,3,58]]}
["ต้านทุจริตศึกษา"]
[null,{"$f":"\"ตัวชี้วัดรายวิชา\"&ตชว.ต้านทุจริต!$A$1&\"  ชั้น ป.1\"","v":"ตัวชี้วัดรายวิชาต้านทุจริตศึกษา  ชั้น ป.1"},null,null,null,null,null,null,null,null,null,{"$f":"\"ตัวชี้วัดรายวิชา\"&ตชว.ต้านทุจริต!$A$1&\"  ชั้น ป.2\"","v":"ตัวชี้วัดรายวิชาต้านทุจริตศึกษา  ชั้น ป.2"},null,null,null,null,null,null,null,null,null,{"$f":"\"ตัวชี้วัดรายวิชา\"&ตชว.ต้านทุจริต!$A$1&\"  ชั้น ป.3\"","v":"ตัวชี้วัดรายวิชาต้านทุจริตศึกษา  ชั้น ป.3"},null,null,null,null,null,null,null,null,null,{"$f":"\"ตัวชี้วัดรายวิชา\"&ตชว.ต้านทุจริต!$A$1&\"  ชั้น ป.4\"","v":"ตัวชี้วัดรายวิชาต้านทุจริตศึกษา  ชั้น ป.4"},null,null,null,null,null,null,null,null,null,{"$f":"\"ตัวชี้วัดรายวิชา\"&ตชว.ต้านทุจริต!$A$1&\"  ชั้น ป.5\"","v":"ตัวชี้วัดรายวิชาต้านทุจริตศึกษา  ชั้น ป.5"},null,null,null,null,null,null,null,null,null,{"$f":"\"ตัวชี้วัดรายวิชา\"&ตชว.ต้านทุจริต!$A$1&\"  ชั้น ป.6\"","v":"ตัวชี้วัดรายวิชาต้านทุจริตศึกษา  ชั้น ป.6"}]
[null,"ข้อที่","มาตรฐาน","ชั้น/ข้อ","เรื่อง",null,null,null,null,null,null,"ข้อที่","มาตรฐาน","ชั้น/ข้อ","เรื่อง",null,null,null,null,null,null,"ข้อที่","มาตรฐาน","ชั้น/ข้อ","เรื่อง",null,null,null,null,null,null,"ข้อที่","มาตรฐาน","ชั้น/ข้อ","เรื่อง",null,null,null,null,null,null,"ข้อที่","มาตรฐาน","ชั้น/ข้อ","เรื่อง",null,null,null,null,null,null,"ข้อที่","มาตรฐาน","ชั้น/ข้อ","เรื่อง"]
[null,"ตัวชี้วัด",null,null,null,null,null,null,null,null,null,"ตัวชี้วัด",null,null,null,null,null,null,null,null,null,"ตัวชี้วัด",null,null,null,null,null,null,null,null,null,"ตัวชี้วัด",null,null,null,null,null,null,null,null,null,"ตัวชี้วัด",null,null,null,null,null,null,null,null,null,"ตัวชี้วัด"]
[null,1,null,"ป.1/1","มีความรู้ ความเข้าใจเกี่ยวกับการแยกแยะระหว่างผลประโยชน์ส่วนตนและผลประโยชน์ส่วนรวม ","มีความรู้ ความเข้าใจเกี่ยวกับการแยกแยะระหว่างผลประโยชน์ส่วนตนและผลประโยชน์ส่วนรวม ","มีความรู้ ความเข้าใจเกี่ยวกับการแยกแยะระหว่างผลประโยชน์ส่วนตนและผลประโยชน์ส่วนรวม ","มีความรู้ ความเข้าใจเกี่ยวกับการแยกแยะระหว่างผลประโยชน์ส่วนตนและผลประโยชน์ส่วนรวม ","มีความรู้ ความเข้าใจเกี่ยวกับการแยกแยะระหว่างผลประโยชน์ส่วนตนและผลประโยชน์ส่วนรวม ",null,null,1,null,"ป.2/1","มีความรู้ ความเข้าใจเกี่ยวกับการแยกแยะระหว่างผลประโยชน์ส่วนตนและผลประโยชน์ส่วนรวม ","มีความรู้ ความเข้าใจเกี่ยวกับการแยกแยะระหว่างผลประโยชน์ส่วนตนและผลประโยชน์ส่วนรวม ","มีความรู้ ความเข้าใจเกี่ยวกับการแยกแยะระหว่างผลประโยชน์ส่วนตนและผลประโยชน์ส่วนรวม ","มีความรู้ ความเข้าใจเกี่ยวกับการแยกแยะระหว่างผลประโยชน์ส่วนตนและผลประโยชน์ส่วนรวม ","มีความรู้ ความเข้าใจเกี่ยวกับการแยกแยะระหว่างผลประโยชน์ส่วนตนและผลประโยชน์ส่วนรวม ",null,null,1,null,"ป.3/1","มีความรู้ ความเข้าใจเกี่ยวกับการแยกแยะระหว่างผลประโยชน์ส่วนตนและผลประโยชน์ส่วนรวม ","มีความรู้ ความเข้าใจเกี่ยวกับการแยกแยะระหว่างผลประโยชน์ส่วนตนและผลประโยชน์ส่วนรวม ","มีความรู้ ความเข้าใจเกี่ยวกับการแยกแยะระหว่างผลประโยชน์ส่วนตนและผลประโยชน์ส่วนรวม ","มีความรู้ ความเข้าใจเกี่ยวกับการแยกแยะระหว่างผลประโยชน์ส่วนตนและผลประโยชน์ส่วนรวม ","มีความรู้ ความเข้าใจเกี่ยวกับการแยกแยะระหว่างผลประโยชน์ส่วนตนและผลประโยชน์ส่วนรวม ",null,null,1,null,"ป.4/1","มีความรู้ ความเข้าใจเกี่ยวกับการแยกแยะระหว่างผลประโยชน์ส่วนตนและผลประโยชน์ส่วนรวม ","มีความรู้ ความเข้าใจเกี่ยวกับการแยกแยะระหว่างผลประโยชน์ส่วนตนและผลประโยชน์ส่วนรวม ","มีความรู้ ความเข้าใจเกี่ยวกับการแยกแยะระหว่างผลประโยชน์ส่วนตนและผลประโยชน์ส่วนรวม ","มีความรู้ ความเข้าใจเกี่ยวกับการแยกแยะระหว่างผลประโยชน์ส่วนตนและผลประโยชน์ส่วนรวม ","มีความรู้ ความเข้าใจเกี่ยวกับการแยกแยะระหว่างผลประโยชน์ส่วนตนและผลประโยชน์ส่วนรวม ",null,null,1,null,"ป.5/1","มีความรู้ ความเข้าใจเกี่ยวกับการแยกแยะระหว่างผลประโยชน์ส่วนตนและผลประโยชน์ส่วนรวม ","มีความรู้ ความเข้าใจเกี่ยวกับการแยกแยะระหว่างผลประโยชน์ส่วนตนและผลประโยชน์ส่วนรวม ","มีความรู้ ความเข้าใจเกี่ยวกับการแยกแยะระหว่างผลประโยชน์ส่วนตนและผลประโยชน์ส่วนรวม ","มีความรู้ ความเข้าใจเกี่ยวกับการแยกแยะระหว่างผลประโยชน์ส่วนตนและผลประโยชน์ส่วนรวม ","มีความรู้ ความเข้าใจเกี่ยวกับการแยกแยะระหว่างผลประโยชน์ส่วนตนและผลประโยชน์ส่วนรวม ",null,null,1,null,"ป.6/1","มีความรู้ ความเข้าใจเกี่ยวกับการแยกแยะระหว่างผลประโยชน์ส่วนตนและผลประโยชน์ส่วนรวม ","มีความรู้ ความเข้าใจเกี่ยวกับการแยกแยะระหว่างผลประโยชน์ส่วนตนและผลประโยชน์ส่วนรวม ","มีความรู้ ความเข้าใจเกี่ยวกับการแยกแยะระหว่างผลประโยชน์ส่วนตนและผลประโยชน์ส่วนรวม ","มีความรู้ ความเข้าใจเกี่ยวกับการแยกแยะระหว่างผลประโยชน์ส่วนตนและผลประโยชน์ส่วนรวม ","มีความรู้ ความเข้าใจเกี่ยวกับการแยกแยะระหว่างผลประโยชน์ส่วนตนและผลประโยชน์ส่วนรวม "]
[null,2,null,"ป.1/2","มีความรู้ ความเข้าใจเกี่ยวกับความละอาย และความไม่ทนต่อการทุจริต","มีความรู้ ความเข้าใจเกี่ยวกับความละอาย และความไม่ทนต่อการทุจริต","มีความรู้ ความเข้าใจเกี่ยวกับความละอาย และความไม่ทนต่อการทุจริต","มีความรู้ ความเข้าใจเกี่ยวกับความละอาย และความไม่ทนต่อการทุจริต","มีความรู้ ความเข้าใจเกี่ยวกับความละอาย และความไม่ทนต่อการทุจริต",null,null,2,null,"ป.2/2","มีความรู้ ความเข้าใจเกี่ยวกับความละอาย และความไม่ทนต่อการทุจริต","มีความรู้ ความเข้าใจเกี่ยวกับความละอาย และความไม่ทนต่อการทุจริต","มีความรู้ ความเข้าใจเกี่ยวกับความละอาย และความไม่ทนต่อการทุจริต","มีความรู้ ความเข้าใจเกี่ยวกับความละอาย และความไม่ทนต่อการทุจริต","มีความรู้ ความเข้าใจเกี่ยวกับความละอาย และความไม่ทนต่อการทุจริต",null,null,2,null,"ป.3/2","มีความรู้ ความเข้าใจเกี่ยวกับความละอาย และความไม่ทนต่อการทุจริต","มีความรู้ ความเข้าใจเกี่ยวกับความละอาย และความไม่ทนต่อการทุจริต","มีความรู้ ความเข้าใจเกี่ยวกับความละอาย และความไม่ทนต่อการทุจริต","มีความรู้ ความเข้าใจเกี่ยวกับความละอาย และความไม่ทนต่อการทุจริต","มีความรู้ ความเข้าใจเกี่ยวกับความละอาย และความไม่ทนต่อการทุจริต",null,null,2,null,"ป.4/2","มีความรู้ ความเข้าใจเกี่ยวกับความละอาย และความไม่ทนต่อการทุจริต","มีความรู้ ความเข้าใจเกี่ยวกับความละอาย และความไม่ทนต่อการทุจริต","มีความรู้ ความเข้าใจเกี่ยวกับความละอาย และความไม่ทนต่อการทุจริต","มีความรู้ ความเข้าใจเกี่ยวกับความละอาย และความไม่ทนต่อการทุจริต","มีความรู้ ความเข้าใจเกี่ยวกับความละอาย และความไม่ทนต่อการทุจริต",null,null,2,null,"ป.5/2","มีความรู้ ความเข้าใจเกี่ยวกับความละอาย และความไม่ทนต่อการทุจริต","มีความรู้ ความเข้าใจเกี่ยวกับความละอาย และความไม่ทนต่อการทุจริต","มีความรู้ ความเข้าใจเกี่ยวกับความละอาย และความไม่ทนต่อการทุจริต","มีความรู้ ความเข้าใจเกี่ยวกับความละอาย และความไม่ทนต่อการทุจริต","มีความรู้ ความเข้าใจเกี่ยวกับความละอาย และความไม่ทนต่อการทุจริต",null,null,2,null,"ป.6/2","มีความรู้ ความเข้าใจเกี่ยวกับความละอาย และความไม่ทนต่อการทุจริต","มีความรู้ ความเข้าใจเกี่ยวกับความละอาย และความไม่ทนต่อการทุจริต","มีความรู้ ความเข้าใจเกี่ยวกับความละอาย และความไม่ทนต่อการทุจริต","มีความรู้ ความเข้าใจเกี่ยวกับความละอาย และความไม่ทนต่อการทุจริต","มีความรู้ ความเข้าใจเกี่ยวกับความละอาย และความไม่ทนต่อการทุจริต"]
[null,3,null,"ป.1/3","มีความรู้ ความเข้าใจเกี่ยวกับ STRONG  :  จิตพอเพียงต้านทุจริต","มีความรู้ ความเข้าใจเกี่ยวกับ STRONG  :  จิตพอเพียงต้านทุจริต","มีความรู้ ความเข้าใจเกี่ยวกับ STRONG  :  จิตพอเพียงต้านทุจริต","มีความรู้ ความเข้าใจเกี่ยวกับ STRONG  :  จิตพอเพียงต้านทุจริต","มีความรู้ ความเข้าใจเกี่ยวกับ STRONG  :  จิตพอเพียงต้านทุจริต",null,null,3,null,"ป.2/3","มีความรู้ ความเข้าใจเกี่ยวกับ STRONG  :  จิตพอเพียงต้านทุจริต","มีความรู้ ความเข้าใจเกี่ยวกับ STRONG  :  จิตพอเพียงต้านทุจริต","มีความรู้ ความเข้าใจเกี่ยวกับ STRONG  :  จิตพอเพียงต้านทุจริต","มีความรู้ ความเข้าใจเกี่ยวกับ STRONG  :  จิตพอเพียงต้านทุจริต","มีความรู้ ความเข้าใจเกี่ยวกับ STRONG  :  จิตพอเพียงต้านทุจริต",null,null,3,null,"ป.3/3","มีความรู้ ความเข้าใจเกี่ยวกับ STRONG  :  จิตพอเพียงต้านทุจริต","มีความรู้ ความเข้าใจเกี่ยวกับ STRONG  :  จิตพอเพียงต้านทุจริต","มีความรู้ ความเข้าใจเกี่ยวกับ STRONG  :  จิตพอเพียงต้านทุจริต","มีความรู้ ความเข้าใจเกี่ยวกับ STRONG  :  จิตพอเพียงต้านทุจริต","มีความรู้ ความเข้าใจเกี่ยวกับ STRONG  :  จิตพอเพียงต้านทุจริต",null,null,3,null,"ป.4/3","มีความรู้ ความเข้าใจเกี่ยวกับ STRONG  :  จิตพอเพียงต้านทุจริต","มีความรู้ ความเข้าใจเกี่ยวกับ STRONG  :  จิตพอเพียงต้านทุจริต","มีความรู้ ความเข้าใจเกี่ยวกับ STRONG  :  จิตพอเพียงต้านทุจริต","มีความรู้ ความเข้าใจเกี่ยวกับ STRONG  :  จิตพอเพียงต้านทุจริต","มีความรู้ ความเข้าใจเกี่ยวกับ STRONG  :  จิตพอเพียงต้านทุจริต",null,null,3,null,"ป.5/3","มีความรู้ ความเข้าใจเกี่ยวกับ STRONG  :  จิตพอเพียงต้านทุจริต","มีความรู้ ความเข้าใจเกี่ยวกับ STRONG  :  จิตพอเพียงต้านทุจริต","มีความรู้ ความเข้าใจเกี่ยวกับ STRONG  :  จิตพอเพียงต้านทุจริต","มีความรู้ ความเข้าใจเกี่ยวกับ STRONG  :  จิตพอเพียงต้านทุจริต","มีความรู้ ความเข้าใจเกี่ยวกับ STRONG  :  จิตพอเพียงต้านทุจริต",null,null,3,null,"ป.6/3","มีความรู้ ความเข้าใจเกี่ยวกับ STRONG  :  จิตพอเพียงต้านทุจริต","มีความรู้ ความเข้าใจเกี่ยวกับ STRONG  :  จิตพอเพียงต้านทุจริต","มีความรู้ ความเข้าใจเกี่ยวกับ STRONG  :  จิตพอเพียงต้านทุจริต","มีความรู้ ความเข้าใจเกี่ยวกับ STRONG  :  จิตพอเพียงต้านทุจริต","มีความรู้ ความเข้าใจเกี่ยวกับ STRONG  :  จิตพอเพียงต้านทุจริต"]
[null,4,null,"ป.1/4","มีความรู้ ความเข้าใจเกี่ยวกับพลเมืองและมีความรู้รับผิดชอบต่อสังคม","มีความรู้ ความเข้าใจเกี่ยวกับ พลเมืองและมีความรู้รับผิดชอบ ต่อสังคม","มีความรู้ ความเข้าใจเกี่ยวกับ พลเมืองและมีความรู้รับผิดชอบ ต่อสังคม","มีความรู้ ความเข้าใจเกี่ยวกับ พลเมืองและมีความรู้รับผิดชอบ ต่อสังคม","มีความรู้ ความเข้าใจเกี่ยวกับ พลเมืองและมีความรู้รับผิดชอบ ต่อสังคม",null,null,4,null,"ป.2/4","มีความรู้ ความเข้าใจเกี่ยวกับพลเมืองและมีความรู้รับผิดชอบต่อสังคม","มีความรู้ ความเข้าใจเกี่ยวกับ พลเมืองและมีความรู้รับผิดชอบ ต่อสังคม","มีความรู้ ความเข้าใจเกี่ยวกับ พลเมืองและมีความรู้รับผิดชอบ ต่อสังคม","มีความรู้ ความเข้าใจเกี่ยวกับ พลเมืองและมีความรู้รับผิดชอบ ต่อสังคม","มีความรู้ ความเข้าใจเกี่ยวกับ พลเมืองและมีความรู้รับผิดชอบ ต่อสังคม",null,null,4,null,"ป.3/4","มีความรู้ ความเข้าใจเกี่ยวกับพลเมืองและมีความรู้รับผิดชอบต่อสังคม","มีความรู้ ความเข้าใจเกี่ยวกับ พลเมืองและมีความรู้รับผิดชอบ ต่อสังคม","มีความรู้ ความเข้าใจเกี่ยวกับ พลเมืองและมีความรู้รับผิดชอบ ต่อสังคม","มีความรู้ ความเข้าใจเกี่ยวกับ พลเมืองและมีความรู้รับผิดชอบ ต่อสังคม","มีความรู้ ความเข้าใจเกี่ยวกับ พลเมืองและมีความรู้รับผิดชอบ ต่อสังคม",null,null,4,null,"ป.4/4","มีความรู้ ความเข้าใจเกี่ยวกับพลเมืองและมีความรู้รับผิดชอบต่อสังคม","มีความรู้ ความเข้าใจเกี่ยวกับ พลเมืองและมีความรู้รับผิดชอบ ต่อสังคม","มีความรู้ ความเข้าใจเกี่ยวกับ พลเมืองและมีความรู้รับผิดชอบ ต่อสังคม","มีความรู้ ความเข้าใจเกี่ยวกับ พลเมืองและมีความรู้รับผิดชอบ ต่อสังคม","มีความรู้ ความเข้าใจเกี่ยวกับ พลเมืองและมีความรู้รับผิดชอบ ต่อสังคม",null,null,4,null,"ป.5/4","มีความรู้ ความเข้าใจเกี่ยวกับพลเมืองและมีความรู้รับผิดชอบต่อสังคม","มีความรู้ ความเข้าใจเกี่ยวกับ พลเมืองและมีความรู้รับผิดชอบ ต่อสังคม","มีความรู้ ความเข้าใจเกี่ยวกับ พลเมืองและมีความรู้รับผิดชอบ ต่อสังคม","มีความรู้ ความเข้าใจเกี่ยวกับ พลเมืองและมีความรู้รับผิดชอบ ต่อสังคม","มีความรู้ ความเข้าใจเกี่ยวกับ พลเมืองและมีความรู้รับผิดชอบ ต่อสังคม",null,null,4,null,"ป.6/4","มีความรู้ ความเข้าใจเกี่ยวกับพลเมืองและมีความรู้รับผิดชอบต่อสังคม","มีความรู้ ความเข้าใจเกี่ยวกับ พลเมืองและมีความรู้รับผิดชอบ ต่อสังคม","มีความรู้ ความเข้าใจเกี่ยวกับ พลเมืองและมีความรู้รับผิดชอบ ต่อสังคม","มีความรู้ ความเข้าใจเกี่ยวกับ พลเมืองและมีความรู้รับผิดชอบ ต่อสังคม","มีความรู้ ความเข้าใจเกี่ยวกับ พลเมืองและมีความรู้รับผิดชอบ ต่อสังคม"]
[null,5,null,"ป.1/5","สามารถคิดแยกแยะระหว่างผลประโยชน์ส่วนตนและผลประโยชน์ส่วนรวมได้",null,null,null,null,null,null,5,null,"ป.2/5","สามารถคิดแยกแยะระหว่างผลประโยชน์ส่วนตนและผลประโยชน์ส่วนรวมได้",null,null,null,null,null,null,5,null,"ป.3/5","สามารถคิดแยกแยะระหว่างผลประโยชน์ส่วนตนและผลประโยชน์ส่วนรวมได้",null,null,null,null,null,null,5,null,"ป.4/5","สามารถคิดแยกแยะระหว่างผลประโยชน์ส่วนตนและผลประโยชน์ส่วนรวมได้",null,null,null,null,null,null,5,null,"ป.5/5","สามารถคิดแยกแยะระหว่างผลประโยชน์ส่วนตนและผลประโยชน์ส่วนรวมได้",null,null,null,null,null,null,5,null,"ป.6/5","สามารถคิดแยกแยะระหว่างผลประโยชน์ส่วนตนและผลประโยชน์ส่วนรวมได้"]
[null,6,null,"ป.1/6","ปฏิบัติตนเป็นผู้ละอายและไม่ทนต่อการทุจริตทุกรูปแบบ","ปฏิบัติตนเป็น ผู้ละอายและไม่ทนต่อการทุจริตทุกรูปแบบ","ปฏิบัติตนเป็น ผู้ละอายและไม่ทนต่อการทุจริตทุกรูปแบบ","ปฏิบัติตนเป็น ผู้ละอายและไม่ทนต่อการทุจริตทุกรูปแบบ","ปฏิบัติตนเป็น ผู้ละอายและไม่ทนต่อการทุจริตทุกรูปแบบ",null,null,6,null,"ป.2/6","ปฏิบัติตนเป็นผู้ละอายและไม่ทนต่อการทุจริตทุกรูปแบบ","ปฏิบัติตนเป็น ผู้ละอายและไม่ทนต่อการทุจริตทุกรูปแบบ","ปฏิบัติตนเป็น ผู้ละอายและไม่ทนต่อการทุจริตทุกรูปแบบ","ปฏิบัติตนเป็น ผู้ละอายและไม่ทนต่อการทุจริตทุกรูปแบบ","ปฏิบัติตนเป็น ผู้ละอายและไม่ทนต่อการทุจริตทุกรูปแบบ",null,null,6,null,"ป.3/6","ปฏิบัติตนเป็นผู้ละอายและไม่ทนต่อการทุจริตทุกรูปแบบ","ปฏิบัติตนเป็น ผู้ละอายและไม่ทนต่อการทุจริตทุกรูปแบบ","ปฏิบัติตนเป็น ผู้ละอายและไม่ทนต่อการทุจริตทุกรูปแบบ","ปฏิบัติตนเป็น ผู้ละอายและไม่ทนต่อการทุจริตทุกรูปแบบ","ปฏิบัติตนเป็น ผู้ละอายและไม่ทนต่อการทุจริตทุกรูปแบบ",null,null,6,null,"ป.4/6","ปฏิบัติตนเป็นผู้ละอายและไม่ทนต่อการทุจริตทุกรูปแบบ","ปฏิบัติตนเป็น ผู้ละอายและไม่ทนต่อการทุจริตทุกรูปแบบ","ปฏิบัติตนเป็น ผู้ละอายและไม่ทนต่อการทุจริตทุกรูปแบบ","ปฏิบัติตนเป็น ผู้ละอายและไม่ทนต่อการทุจริตทุกรูปแบบ","ปฏิบัติตนเป็น ผู้ละอายและไม่ทนต่อการทุจริตทุกรูปแบบ",null,null,6,null,"ป.5/6","ปฏิบัติตนเป็นผู้ละอายและไม่ทนต่อการทุจริตทุกรูปแบบ","ปฏิบัติตนเป็น ผู้ละอายและไม่ทนต่อการทุจริตทุกรูปแบบ","ปฏิบัติตนเป็น ผู้ละอายและไม่ทนต่อการทุจริตทุกรูปแบบ","ปฏิบัติตนเป็น ผู้ละอายและไม่ทนต่อการทุจริตทุกรูปแบบ","ปฏิบัติตนเป็น ผู้ละอายและไม่ทนต่อการทุจริตทุกรูปแบบ",null,null,6,null,"ป.6/6","ปฏิบัติตนเป็นผู้ละอายและไม่ทนต่อการทุจริตทุกรูปแบบ","ปฏิบัติตนเป็น ผู้ละอายและไม่ทนต่อการทุจริตทุกรูปแบบ","ปฏิบัติตนเป็น ผู้ละอายและไม่ทนต่อการทุจริตทุกรูปแบบ","ปฏิบัติตนเป็น ผู้ละอายและไม่ทนต่อการทุจริตทุกรูปแบบ","ปฏิบัติตนเป็น ผู้ละอายและไม่ทนต่อการทุจริตทุกรูปแบบ"]
[null,7,null,"ป.1/7","ปฏิบัติตนเป็นผู้ที่ STRONG  :   จิตพอเพียงต้านทุจริต ","ปฏิบัติตนเป็นผู้ที่ STRONG  :   จิตพอเพียงต้านทุจริต ","ปฏิบัติตนเป็นผู้ที่ STRONG  :   จิตพอเพียงต้านทุจริต ","ปฏิบัติตนเป็นผู้ที่ STRONG  :   จิตพอเพียงต้านทุจริต ","ปฏิบัติตนเป็นผู้ที่ STRONG  :   จิตพอเพียงต้านทุจริต ",null,null,7,null,"ป.2/7","ปฏิบัติตนเป็นผู้ที่ STRONG  :   จิตพอเพียงต้านทุจริต ","ปฏิบัติตนเป็นผู้ที่ STRONG  :   จิตพอเพียงต้านทุจริต ","ปฏิบัติตนเป็นผู้ที่ STRONG  :   จิตพอเพียงต้านทุจริต ","ปฏิบัติตนเป็นผู้ที่ STRONG  :   จิตพอเพียงต้านทุจริต ","ปฏิบัติตนเป็นผู้ที่ STRONG  :   จิตพอเพียงต้านทุจริต ",null,null,7,null,"ป.3/7","ปฏิบัติตนเป็นผู้ที่ STRONG  :   จิตพอเพียงต้านทุจริต ","ปฏิบัติตนเป็นผู้ที่ STRONG  :   จิตพอเพียงต้านทุจริต ","ปฏิบัติตนเป็นผู้ที่ STRONG  :   จิตพอเพียงต้านทุจริต ","ปฏิบัติตนเป็นผู้ที่ STRONG  :   จิตพอเพียงต้านทุจริต ","ปฏิบัติตนเป็นผู้ที่ STRONG  :   จิตพอเพียงต้านทุจริต ",null,null,7,null,"ป.4/7","ปฏิบัติตนเป็นผู้ที่ STRONG  :   จิตพอเพียงต้านทุจริต ","ปฏิบัติตนเป็นผู้ที่ STRONG  :   จิตพอเพียงต้านทุจริต ","ปฏิบัติตนเป็นผู้ที่ STRONG  :   จิตพอเพียงต้านทุจริต ","ปฏิบัติตนเป็นผู้ที่ STRONG  :   จิตพอเพียงต้านทุจริต ","ปฏิบัติตนเป็นผู้ที่ STRONG  :   จิตพอเพียงต้านทุจริต ",null,null,7,null,"ป.5/7","ปฏิบัติตนเป็นผู้ที่ STRONG  :   จิตพอเพียงต้านทุจริต ","ปฏิบัติตนเป็นผู้ที่ STRONG  :   จิตพอเพียงต้านทุจริต ","ปฏิบัติตนเป็นผู้ที่ STRONG  :   จิตพอเพียงต้านทุจริต ","ปฏิบัติตนเป็นผู้ที่ STRONG  :   จิตพอเพียงต้านทุจริต ","ปฏิบัติตนเป็นผู้ที่ STRONG  :   จิตพอเพียงต้านทุจริต ",null,null,7,null,"ป.6/7","ปฏิบัติตนเป็นผู้ที่ STRONG  :   จิตพอเพียงต้านทุจริต ","ปฏิบัติตนเป็นผู้ที่ STRONG  :   จิตพอเพียงต้านทุจริต ","ปฏิบัติตนเป็นผู้ที่ STRONG  :   จิตพอเพียงต้านทุจริต ","ปฏิบัติตนเป็นผู้ที่ STRONG  :   จิตพอเพียงต้านทุจริต ","ปฏิบัติตนเป็นผู้ที่ STRONG  :   จิตพอเพียงต้านทุจริต "]
[null,8,null,"ป.1/8","ปฏิบัติตนตาม หน้าที่พลเมืองและมีความรู้รับผิดชอบ ต่อสังคม","ปฏิบัติตนตาม หน้าที่พลเมืองและมีความรู้รับผิดชอบ ต่อสังคม","ปฏิบัติตนตาม หน้าที่พลเมืองและมีความรู้รับผิดชอบ ต่อสังคม","ปฏิบัติตนตาม หน้าที่พลเมืองและมีความรู้รับผิดชอบ ต่อสังคม","ปฏิบัติตนตาม หน้าที่พลเมืองและมีความรู้รับผิดชอบ ต่อสังคม",null,null,8,null,"ป.2/8","ปฏิบัติตนตาม หน้าที่พลเมืองและมีความรู้รับผิดชอบ ต่อสังคม","ปฏิบัติตนตาม หน้าที่พลเมืองและมีความรู้รับผิดชอบ ต่อสังคม","ปฏิบัติตนตาม หน้าที่พลเมืองและมีความรู้รับผิดชอบ ต่อสังคม","ปฏิบัติตนตาม หน้าที่พลเมืองและมีความรู้รับผิดชอบ ต่อสังคม","ปฏิบัติตนตาม หน้าที่พลเมืองและมีความรู้รับผิดชอบ ต่อสังคม",null,null,8,null,"ป.3/8","ปฏิบัติตนตาม หน้าที่พลเมืองและมีความรู้รับผิดชอบ ต่อสังคม","ปฏิบัติตนตาม หน้าที่พลเมืองและมีความรู้รับผิดชอบ ต่อสังคม","ปฏิบัติตนตาม หน้าที่พลเมืองและมีความรู้รับผิดชอบ ต่อสังคม","ปฏิบัติตนตาม หน้าที่พลเมืองและมีความรู้รับผิดชอบ ต่อสังคม","ปฏิบัติตนตาม หน้าที่พลเมืองและมีความรู้รับผิดชอบ ต่อสังคม",null,null,8,null,"ป.4/8","ปฏิบัติตนตาม หน้าที่พลเมืองและมีความรู้รับผิดชอบ ต่อสังคม","ปฏิบัติตนตาม หน้าที่พลเมืองและมีความรู้รับผิดชอบ ต่อสังคม","ปฏิบัติตนตาม หน้าที่พลเมืองและมีความรู้รับผิดชอบ ต่อสังคม","ปฏิบัติตนตาม หน้าที่พลเมืองและมีความรู้รับผิดชอบ ต่อสังคม","ปฏิบัติตนตาม หน้าที่พลเมืองและมีความรู้รับผิดชอบ ต่อสังคม",null,null,8,null,"ป.5/8","ปฏิบัติตนตาม หน้าที่พลเมืองและมีความรู้รับผิดชอบ ต่อสังคม","ปฏิบัติตนตาม หน้าที่พลเมืองและมีความรู้รับผิดชอบ ต่อสังคม","ปฏิบัติตนตาม หน้าที่พลเมืองและมีความรู้รับผิดชอบ ต่อสังคม","ปฏิบัติตนตาม หน้าที่พลเมืองและมีความรู้รับผิดชอบ ต่อสังคม","ปฏิบัติตนตาม หน้าที่พลเมืองและมีความรู้รับผิดชอบ ต่อสังคม",null,null,8,null,"ป.6/8","ปฏิบัติตนตาม หน้าที่พลเมืองและมีความรู้รับผิดชอบ ต่อสังคม","ปฏิบัติตนตาม หน้าที่พลเมืองและมีความรู้รับผิดชอบ ต่อสังคม","ปฏิบัติตนตาม หน้าที่พลเมืองและมีความรู้รับผิดชอบ ต่อสังคม","ปฏิบัติตนตาม หน้าที่พลเมืองและมีความรู้รับผิดชอบ ต่อสังคม","ปฏิบัติตนตาม หน้าที่พลเมืองและมีความรู้รับผิดชอบ ต่อสังคม"]
[null,9,null,"ป.1/9","ตระหนักและเห็นความสำคัญ ของการต่อต้านและป้องกันการทุจริต","ตระหนักและเห็นความสำคัญ ของการต่อต้านและป้องกันการทุจริต","ตระหนักและเห็นความสำคัญ ของการต่อต้านและป้องกันการทุจริต","ตระหนักและเห็นความสำคัญ ของการต่อต้านและป้องกันการทุจริต","ตระหนักและเห็นความสำคัญ ของการต่อต้านและป้องกันการทุจริต",null,null,9,null,"ป.2/9","ตระหนักและเห็นความสำคัญ ของการต่อต้านและป้องกันการทุจริต","ตระหนักและเห็นความสำคัญ ของการต่อต้านและป้องกันการทุจริต","ตระหนักและเห็นความสำคัญ ของการต่อต้านและป้องกันการทุจริต","ตระหนักและเห็นความสำคัญ ของการต่อต้านและป้องกันการทุจริต","ตระหนักและเห็นความสำคัญ ของการต่อต้านและป้องกันการทุจริต",null,null,9,null,"ป.3/9","ตระหนักและเห็นความสำคัญ ของการต่อต้านและป้องกันการทุจริต","ตระหนักและเห็นความสำคัญ ของการต่อต้านและป้องกันการทุจริต","ตระหนักและเห็นความสำคัญ ของการต่อต้านและป้องกันการทุจริต","ตระหนักและเห็นความสำคัญ ของการต่อต้านและป้องกันการทุจริต","ตระหนักและเห็นความสำคัญ ของการต่อต้านและป้องกันการทุจริต",null,null,9,null,"ป.4/9","ตระหนักและเห็นความสำคัญ ของการต่อต้านและป้องกันการทุจริต","ตระหนักและเห็นความสำคัญ ของการต่อต้านและป้องกันการทุจริต","ตระหนักและเห็นความสำคัญ ของการต่อต้านและป้องกันการทุจริต","ตระหนักและเห็นความสำคัญ ของการต่อต้านและป้องกันการทุจริต","ตระหนักและเห็นความสำคัญ ของการต่อต้านและป้องกันการทุจริต",null,null,9,null,"ป.5/9","ตระหนักและเห็นความสำคัญ ของการต่อต้านและป้องกันการทุจริต","ตระหนักและเห็นความสำคัญ ของการต่อต้านและป้องกันการทุจริต","ตระหนักและเห็นความสำคัญ ของการต่อต้านและป้องกันการทุจริต","ตระหนักและเห็นความสำคัญ ของการต่อต้านและป้องกันการทุจริต","ตระหนักและเห็นความสำคัญ ของการต่อต้านและป้องกันการทุจริต",null,null,9,null,"ป.6/9","ตระหนักและเห็นความสำคัญ ของการต่อต้านและป้องกันการทุจริต","ตระหนักและเห็นความสำคัญ ของการต่อต้านและป้องกันการทุจริต","ตระหนักและเห็นความสำคัญ ของการต่อต้านและป้องกันการทุจริต","ตระหนักและเห็นความสำคัญ ของการต่อต้านและป้องกันการทุจริต","ตระหนักและเห็นความสำคัญ ของการต่อต้านและป้องกันการทุจริต"]

{"sheet":"ตชว.อิสลามศึกษา","index":31,"n_rows":14,"n_cols":55,"rows_kept":14,"cut":false,"hidden":false,"merged":[[1,1,1,8],[1,11,1,18],[1,21,1,28],[1,31,1,38],[1,41,1,48],[1,51,1,58],[4,4,4,8],[4,14,4,18],[4,24,4,28],[4,34,4,38],[4,44,4,48],[4,54,4,58],[3,1,3,8],[3,11,3,18],[3,21,3,28],[3,31,3,38],[3,41,3,48],[3,51,3,58],[6,4,6,8],[6,14,6,18],[6,24,6,28],[6,34,6,38],[6,44,6,48],[6,54,6,58],[5,4,5,8],[5,14,5,18],[5,24,5,28],[5,34,5,38],[5,44,5,48],[5,54,5,58],[8,4,8,8],[8,14,8,18],[8,24,8,28],[8,34,8,38],[8,44,8,48],[8,54,8,58],[7,4,7,8],[7,14,7,18],[7,24,7,28],[7,34,7,38],[7,44,7,48],[7,54,7,58],[10,4,10,8],[10,14,10,18],[10,24,10,28],[10,34,10,38],[10,44,10,48],[10,54,10,58],[9,4,9,8],[9,14,9,18],[9,24,9,28],[9,34,9,38],[9,44,9,48],[9,54,9,58],[12,4,12,8],[12,14,12,18],[12,24,12,28],[12,34,12,38],[12,44,12,48],[12,54,12,58],[11,4,11,8],[11,24,11,28],[11,34,11,38],[11,44,11,48],[11,54,11,58],[14,4,14,8],[14,14,14,18],[14,24,14,28],[14,34,14,38],[14,44,14,48],[14,54,14,58],[13,4,13,8],[13,14,13,18],[13,24,13,28],[13,34,13,38],[13,44,13,48],[13,54,13,58],[16,4,16,8],[16,14,16,18],[16,24,16,28],[16,34,16,38],[16,44,16,48],[16,54,16,58],[15,4,15,8],[15,14,15,18],[15,24,15,28],[15,34,15,38],[15,44,15,48],[15,54,15,58],[18,4,18,8],[18,14,18,18],[18,24,18,28],[18,34,18,38],[18,44,18,48],[18,54,18,58],[17,4,17,8],[17,14,17,18],[17,24,17,28],[17,34,17,38],[17,44,17,48],[17,54,17,58],[20,4,20,8],[20,14,20,18],[20,24,20,28],[20,34,20,38],[20,44,20,48],[20,54,20,58],[19,4,19,8],[19,14,19,18],[19,24,19,28],[19,34,19,38],[19,44,19,48],[19,54,19,58],[22,4,22,8],[22,14,22,18],[22,24,22,28],[22,34,22,38],[22,44,22,48],[22,54,22,58],[21,4,21,8],[21,14,21,18],[21,24,21,28],[21,34,21,38],[21,44,21,48],[21,54,21,58],[24,4,24,8],[24,14,24,18],[24,24,24,28],[24,34,24,38],[24,44,24,48],[24,54,24,58],[23,4,23,8],[23,14,23,18],[23,24,23,28],[23,34,23,38],[23,44,23,48],[23,54,23,58],[26,4,26,8],[26,14,26,18],[26,24,26,28],[26,34,26,38],[26,44,26,48],[26,54,26,58],[25,4,25,8],[25,14,25,18],[25,24,25,28],[25,34,25,38],[25,44,25,48],[25,54,25,58],[28,4,28,8],[28,14,28,18],[28,24,28,28],[28,34,28,38],[28,44,28,48],[28,54,28,58],[27,4,27,8],[27,14,27,18],[27,24,27,28],[27,34,27,38],[27,44,27,48],[27,54,27,58],[30,4,30,8],[30,14,30,18],[30,24,30,28],[30,34,30,38],[30,44,30,48],[30,54,30,58],[29,4,29,8],[29,14,29,18],[29,24,29,28],[29,34,29,38],[29,44,29,48],[29,54,29,58],[32,4,32,8],[32,14,32,18],[32,24,32,28],[32,34,32,38],[32,44,32,48],[32,54,32,58],[31,4,31,8],[31,14,31,18],[31,24,31,28],[31,34,31,38],[31,44,31,48],[31,54,31,58],[34,4,34,8],[34,14,34,18],[34,24,34,28],[34,34,34,38],[34,44,34,48],[34,54,34,58],[33,4,33,8],[33,14,33,18],[33,24,33,28],[33,34,33,38],[33,44,33,48],[33,54,33,58],[36,4,36,8],[36,14,36,18],[36,24,36,28],[36,34,36,38],[36,44,36,48],[36,54,36,58],[35,4,35,8],[35,14,35,18],[35,24,35,28],[35,34,35,38],[35,44,35,48],[35,54,35,58],[38,4,38,8],[38,14,38,18],[38,24,38,28],[38,34,38,38],[38,44,38,48],[38,54,38,58],[37,4,37,8],[37,14,37,18],[37,24,37,28],[37,34,37,38],[37,44,37,48],[37,54,37,58],[40,4,40,8],[40,14,40,18],[40,24,40,28],[40,34,40,38],[40,44,40,48],[40,54,40,58],[39,4,39,8],[39,14,39,18],[39,24,39,28],[39,34,39,38],[39,44,39,48],[39,54,39,58],[42,4,42,8],[42,14,42,18],[42,24,42,28],[42,34,42,38],[42,44,42,48],[42,54,42,58],[41,4,41,8],[41,14,41,18],[41,24,41,28],[41,34,41,38],[41,44,41,48],[41,54,41,58]]}
["อิสลามศึกษา"]
[null,{"$f":"\"ตัวชี้วัดรายวิชา\"&ตชว.อิสลามศึกษา!$A$1&\"  ชั้น ป.1\"","v":"ตัวชี้วัดรายวิชาอิสลามศึกษา  ชั้น ป.1"},null,null,null,null,null,null,null,null,null,{"$f":"\"ตัวชี้วัดรายวิชา\"&ตชว.อิสลามศึกษา!$A$1&\"  ชั้น ป.2\"","v":"ตัวชี้วัดรายวิชาอิสลามศึกษา  ชั้น ป.2"},null,null,null,null,null,null,null,null,null,{"$f":"\"ตัวชี้วัดรายวิชา\"&ตชว.อิสลามศึกษา!$A$1&\"  ชั้น ป.3\"","v":"ตัวชี้วัดรายวิชาอิสลามศึกษา  ชั้น ป.3"},null,null,null,null,null,null,null,null,null,{"$f":"\"ตัวชี้วัดรายวิชา\"&ตชว.อิสลามศึกษา!$A$1&\"  ชั้น ป.4\"","v":"ตัวชี้วัดรายวิชาอิสลามศึกษา  ชั้น ป.4"},null,null,null,null,null,null,null,null,null,{"$f":"\"ตัวชี้วัดรายวิชา\"&ตชว.อิสลามศึกษา!$A$1&\"  ชั้น ป.5\"","v":"ตัวชี้วัดรายวิชาอิสลามศึกษา  ชั้น ป.5"},null,null,null,null,null,null,null,null,null,{"$f":"\"ตัวชี้วัดรายวิชา\"&ตชว.อิสลามศึกษา!$A$1&\"  ชั้น ป.6\"","v":"ตัวชี้วัดรายวิชาอิสลามศึกษา  ชั้น ป.6"}]
[null,"ข้อที่","มาตรฐาน","ชั้น/ข้อ","เรื่อง",null,null,null,null,null,null,"ข้อที่","มาตรฐาน","ชั้น/ข้อ","เรื่อง",null,null,null,null,null,null,"ข้อที่","มาตรฐาน","ชั้น/ข้อ","เรื่อง",null,null,null,null,null,null,"ข้อที่","มาตรฐาน","ชั้น/ข้อ","เรื่อง",null,null,null,null,null,null,"ข้อที่","มาตรฐาน","ชั้น/ข้อ","เรื่อง",null,null,null,null,null,null,"ข้อที่","มาตรฐาน","ชั้น/ข้อ","เรื่อง"]
[null,"ตัวชี้วัด",null,null,null,null,null,null,null,null,null,"ตัวชี้วัด",null,null,null,null,null,null,null,null,null,"ตัวชี้วัด",null,null,null,null,null,null,null,null,null,"ตัวชี้วัด",null,null,null,null,null,null,null,null,null,"ตัวชี้วัด",null,null,null,null,null,null,null,null,null,"ตัวชี้วัด"]
[null,1,"ส 1.1","ป.1/1","บอกความหมาย ความเป็นมาความสำคัญของโครงสร้างอิสลามและพระนามของอัลลอฮฺ สุบหานะฮุวะตะอาลา ที่กำหนด",null,null,null,null,null,null,1,"ส 1.1","ป.2/1","บอกความหมาย ความสำคัญของโครงสร้างอิสลามและพระนามของอัลลอฮฺ สุบหานะฮุวะตะอาลาที่กำหนด",null,null,null,null,null,null,1,"ส 1.1","ป.3/1","อธิบายโครงสร้างอิสลามและบอกพระนามของอัลลอฮฺ สุบหานะฮุวะตะอาลา ที่กำหนด",null,null,null,null,null,null,1,"ส 1.1","ป.4/1","อธิบายการศรัทธาต่ออัลลอฮฺ สุบหานะฮุวะตะอาลา และบอกพระนามของอัลลอฮฺ สุบหานะฮุวะตะอาลา ที่กำหนด พร้อมความหมาย",null,null,null,null,null,null,1,"ส 1.1","ป.5/1","อธิบายการศรัทธาต่ออัลลอฮฺ สุบหานะฮุวะตะอาลา บอกพระนามและคุณลักษณะของอัลลอฮฺสุบหานะฮุวะตะอาลา ที่กำหนด",null,null,null,null,null,null,1,"ส 1.1","ป.6/1","บอกพระนามของอัลลอฮฺ สุบหานะฮุวะตะอาลา ที่กำหนด และคุณลักษณะมุสตะฮีล ญาอิซ"]
[null,2,"ส 1.1","ป.1/2","บอกประเภทของน้ำสะอาดและวิธีการอาบน้ำละหมาด\n\nบอกประเภทของน้ำสะอาดและวิธีการอาบน้ำละหมาด",null,null,null,null,null,null,2,"ส 1.1","ป.2/2","บอกความหมาย ความสำคัญตามบทบัญญัติอิสลามที่กำหนด",null,null,null,null,null,null,2,"ส 1.1","ป.3/2","บอกชื่อของบรรดารสูลและประวัติของนบีมุฮัมมัด ศ็อลลัลลอฮุอะลัยฮิวะสัลลัม ตั้งแต่สมรสจนถึงการรับวะหฺยู",null,null,null,null,null,null,2,"ส 1.1","ป.4/2","อธิบายการศรัทธาต่อมลาอิกะฮฺ จำนวน ชื่อ และหน้าที่",null,null,null,null,null,null,2,"ส 1.1","ป.5/2","อธิบายการศรัทธาต่อคัมภีร์การศรัทธาต่อนบีและรสูล",null,null,null,null,null,null,2,"ส 1.1","ป.6/2","อธิบายการศรัทธาต่ออาคิเราะฮฺ เกาะฎออฺและเกาะดัร"]
[null,3,"ส 1.1","ป.1/3","บอกเวลาและวิธีการละหมาดฟัรฎุ",null,null,null,null,null,null,3,"ส 1.1","ป.2/3","บอกประวัติของนบีมุฮัมมัด ศ็อลลัลลอฮุอะลัยฮิวะสัลลัม ตั้งแต่เกิดจนถึงการสมรสกับท่านหญิงเคาะดีญะฮฺ",null,null,null,null,null,null,3,"ส 1.2","ป.3/1","ปฏิบัติตนตามบทบัญญัติอิสลาม",null,null,null,null,null,null,3,"ส 1.1","ป.4/3","อธิบายความหมาย ความสำคัญ เห็นคุณค่าและปฏิบัติตามบทบัญญัติอิสลาม",null,null,null,null,null,null,3,"ส 1.1","ป.5/3","อธิบายความหมาย ความสำคัญ และเห็นคุณค่าของบทบัญญัติอิสลาม",null,null,null,null,null,null,3,"ส 1.1","ป.6/3","อธิบายการชิรกฺต่ออัลลอฮฺ สุบหานะฮุวะตะอาลา และการสิ้นสภาพจากการเป็นมุสลิม"]
[null,4,"ส 1.1","ป.1/4","บอกประวัติของนบีมุฮัมมัด ศ็อลลัลลอฮุอะลัยฮิวะสัลลัม โดยสังเขป",null,null,null,null,null,null,4,"ส 1.2","ป.2/1","ปฏิบัติตนตามบทบัญญัติอิสลาม",null,null,null,null,null,null,4,"ส 1.2","ป.3/2","ปฏิบัติตนเป็นมุสลิมที่ดี มีคุณธรรม จริยธรรมตามแบบอย่างของนบีมุฮัมมัด ศ็อลลัลลอฮุอะลัยฮิวะสัลลัม",null,null,null,null,null,null,4,"ส 1.1","ป.4/4","สรุปประวัติการเผยแผ่อิสลาม ณ นครมักกะฮฺของนบีมุฮัมมัด ศ็อลลัลลอฮุอะลัยฮิวะสัลลัม",null,null,null,null,null,null,4,"ส 1.1","ป.5/4","สรุปประวัติเหตุการณ์ต่าง ๆ ในช่วงการอพยพของนบีมุฮัมมัด ศ็อลลัลลอฮุอะลัยฮิวะสัลลัม",null,null,null,null,null,null,4,"ส 1.1","ป.6/4","อธิบายและเห็นคุณค่าความสำคัญของบทบัญญัติอิสลาม"]
[null,5,"ส 1.2","ป.1/1","ปฏิบัติตนตามบทบัญญัติอิสลาม",null,null,null,null,null,null,5,"ส 1.2","ป.2/2","ปฏิบัติตนเป็นมุสลิมที่ดี มีคุณธรรม จริยธรรมตามแบบอย่างของนบีมุฮัมมัด ศ็อลลัลลอฮุอะลัยฮิวะสัลลัม",null,null,null,null,null,null,5,"ส 1.2","ป.3/3","ตระหนักถึงความสำคัญของมารยาทและปฏิบัติตนตามมารยาทที่กำหนด",null,null,null,null,null,null,5,"ส 1.1","ป.4/5","เห็นคุณค่าและประพฤติตนตามแบบอย่างของนบีมุฮัมมัด ศ็อลลัลลอฮุอะลัยฮิวะสัลลัม",null,null,null,null,null,null,5,"ส 1.1","ป.5/5","เห็นคุณค่าและประพฤติตนตามแบบอย่างการดำเนินชีวิตของนบีมุฮัมมัด ศ็อลลัลลอฮุอะลัยฮิวะสัลลัม และเคาะลีฟะฮฺทั้ง 4",null,null,null,null,null,null,5,"ส 1.1","ป.6/5","สรุปประวัติของนบีมุฮัมมัด ศ็อลลัลลอฮุอะลัยฮิวะสัลลัม ตั้งแต่อพยพจนถึงการเสียชีวิต"]
[null,6,"ส 1.2","ป.1/2","ปฏิบัติตนเป็นมุสลิมที่ดีมีคุณธรรม จริยธรรมตามแบบอย่างของนบีมุฮัมมัด ศ็อลลัลลอฮุอะลัยฮิวะสัลลัม",null,null,null,null,null,null,6,"ส 1.2","ป.2/3","การปฏิบัติตนในวันสำคัญทางศาสนา",null,null,null,null,null,null,null,null,null,null,null,null,null,null,null,null,6,"ส 1.2","ป.4/1","ปฏิบัติตนตามบทบัญญัติอิสลาม",null,null,null,null,null,null,6,"ส 1.2","ป.5/1","ปฏิบัติตนตามบทบัญญัติอิสลาม",null,null,null,null,null,null,6,"ส 1.1","ป.6/6","เห็นคุณค่าและประพฤติตนตามแบบอย่างการดำเนินชีวิตของนบีมุฮัมมัด ศ็อลลัลลอฮุอะลัยฮิวะสัลลัม และเคาะลีฟะฮฺทั้ง 4"]
[null,7,"ส 1.2","ป.1/3","การปฏิบัติตนในวันสำคัญทางศาสนา",null,null,null,null,null,null,null,null,null,null,null,null,null,null,null,null,null,null,null,null,null,null,null,null,null,null,7,"ส 1.2","ป.4/2","ปฏิบัติตนเป็นมุสลิมที่ดี มีคุณธรรม จริยธรรมตามแบบอย่างของนบีมุฮัมมัด ศ็อลลัลลอฮุอะลัยฮิวะสัลลัม",null,null,null,null,null,null,7,"ส 1.2","ป.5/2"," อภิปรายพฤติกรรม เห็นคุณค่าและปฏิบัติตนเป็นมุสลิมที่ดี มีคุณธรรม จริยธรรมตามแบบอย่างของนบีมุฮัมมัด ศ็อลลัลลอฮุอะลัยฮิวะสัลลัม",null,null,null,null,null,null,7,"ส 1.2","ป.6/1","ปฏิบัติตนตามบทบัญญัติอิสลาม"]
[null,null,null,null,null,null,null,null,null,null,null,null,null,null,null,null,null,null,null,null,null,null,null,null,null,null,null,null,null,null,null,8,"ส 1.2","ป.4/3","อภิปรายความสำคัญและการมีส่วนร่วมในการทำนุบำรุงศาสนสถาน",null,null,null,null,null,null,8,"ส 1.2","ป.5/3","อภิปรายความสำคัญและการมีส่วนร่วมในการทำนุบำรุงศาสนสถาน",null,null,null,null,null,null,8,"ส 1.2","ป.6/2","ปฏิบัติตนเป็นมุสลิมที่ดี มีคุณธรรม จริยธรรมตามแบบอย่างของนบีมุฮัมมัด ศ็อลลัลลอฮุอะลัยฮิวะสัลลัม"]
[null,null,null,null,null,null,null,null,null,null,null,null,null,null,null,null,null,null,null,null,null,null,null,null,null,null,null,null,null,null,null,null,null,null,null,null,null,null,null,null,null,null,null,null,null,null,null,null,null,null,null,9,"ส 1.2","ป.6/3","อภิปรายความสำคัญและการมีส่วนร่วมในการทำนุบำรุงศาสนสถาน"]
[null,null,null,null,null,null,null,null,null,null,null,null,null,null,null,null,null,null,null,null,null,null,null,null,null,null,null,null,null,null,null,null,null,null,null,null,null,null,null,null,null,null,null,null,null,null,null,null,null,null,null,10,"ส 1.2","ป.6/4","แสดงตนเป็นพุทธมามกะหรือแสดงตนเป็นศาสนิกชนของศาสนาที่ตนนับถือ"]