{"text_format":"1","workbook":"xlsx","n_sheets":14,"sheets":["ใส่ชื่อ","ใบรายชื่อ","กำหนดอัตราส่วนคะแนน","เวลาเรียน","ปก","ประเมินผลการเรียนเทอม1","ประเมินผลการเรียนเทอม2","คุณลักษณะอันพึงประสงค์","อ่าน คิด วิเคราะห์","สรุปผลสัมฤทธิ์","กำหนดชิ้นงานฯ","แผนภูมิสรุป","โครงสร้างรายวิชา","Sheet1"],"not_rendered":{"charts":3,"images":54,"macros":1,"external_links":4,"defined_names":17,"comments":4,"pivot_tables":0},"unopened":[],"bounds":{"document_bytes":16777216,"sheet_cells":100000,"rows_first":2000,"rows_last":500,"rows_between":2000,"halvings":0,"cell_chars":16384,"cell_head_chars":4096},"cells_cut":0,"cells_raw":0,"read":"whole","date_system":"1900"}

{"sheet":"ใส่ชื่อ","index":0,"n_rows":51,"n_cols":16,"rows_kept":51,"cut":false,"hidden":false,"merged":[[3,157,3,163],[3,164,3,170],[4,157,4,163],[4,164,4,170],[51,0,51,5]]}
["เลขที่","StudentID","เลขประจำตัว","คำนำหน้า","ชื่อ","นามสกุล",{"$f":"COUNTIF(D2:D51,\"ด.ช.\")","v":0},{"$f":"COUNTIF(D2:D51,\"ด.ญ.\")","v":0}]
[null,null,null,null,null,null,{"$f":"COUNTIF(D2:D51,\"นาย\")","v":0},{"$f":"COUNTIF(D2:D51,\"นางสาว\")","v":0}]
[null,null,null,null,null,null,{"$f":"COUNTIF(D2:D51,\"เด็กชาย\")","v":0},{"$f":"COUNTIF(D2:D51,\"เด็กหญิง\")","v":0}]
[null,null,null,null,null,null,{"$f":"SUM(G1:G3)","v":0},{"$f":"SUM(H1:H3)","v":0},null,null,null,"สรุปจำนวนนักเรียน",null,"ชาย",{"$f":"G4","v":0},"คน"]
[null,null,null,null,null,null,null,null,null,null,null,null,null,"หญิง",{"$f":"H4","v":0},"คน"]
[null,null,null,null,null,null,null,null,null,null,null,null,null,"รวม",{"$f":"SUM(O4:O5)","v":0},"คน"]
[]
[]
[null,null,null,null,null,null,null,null,null,null,"การบันทึกชื่อไฟล์ ปถ.05"]
[]
[null,null,null,null,null,null,null,null,null,null,"1. คัดลอกไฟล์ ปถ.05 ไปใช้ตามห้องที่สอน เพราะทำรายชื่อแล้ว เช่น"]
[null,null,null,null,null,null,null,null,null,null,null,"ป1-1 คือ ป.1 ห้อง 1"]
[null,null,null,null,null,null,null,null,null,null,null,"ป2-1 คือ ป.2 ห้อง 1"]
[null,null,null,null,null,null,null,null,null,null,null,"ป3-1 คือ ป.3 ห้อง 1"]
[null,null,null,null,null,null,null,null,null,null,null,"ป1-EP คือ  ป.1 กลุ่มเรียนองค์ลิชโปรแกรม"]
[null,null,null,null,null,null,null,null,null,null,null,"ป2-วิทย์คณิต คือ  ป.2 กลุ่มเน้นวิทย์-คณิต"]
[null,null,null,null,null,null,null,null,null,null,null,"เป็นต้น"]
[null,null,null,null,null,null,null,null,null,null,"2. เปลี่ยนชื่อไฟล์ ปถ.05 ซึ่งประกอบด้วย รหัสวิชา ชื่อห้องเรียน  "]
[null,null,null,null,null,null,null,null,null,null,"ชื่อผู้สอน เช่น"]
[null,null,null,null,null,null,null,null,null,null,null,"ป1-1 เปลี่ยนเป็น ว11102 ป1-1 ครูสอนศรี ศรีสถาน"]
[null,null,null,null,null,null,null,null,null,null,null,"ป3-2 เปลี่ยนเป็น ท13101 ป3-1 ครูสุนทร สอนคำไทย"]
[]
[]
[null,null,null,null,null,null,{"$f":"#REF!","v":{"$error":"#REF!"}},{"$f":"#REF!","v":{"$error":"#REF!"}}]
[null,null,null,null,null,null,{"$f":"#REF!","v":{"$error":"#REF!"}},{"$f":"#REF!","v":{"$error":"#REF!"}}]
[null,null,null,null,null,null,{"$f":"#REF!","v":{"$error":"#REF!"}},{"$f":"#REF!","v":{"$error":"#REF!"}}]
[null,null,null,null,null,null,{"$f":"#REF!","v":{"$error":"#REF!"}},{"$f":"#REF!","v":{"$error":"#REF!"}}]
[null,null,null,null,null,null,{"$f":"#REF!","v":{"$error":"#REF!"}},{"$f":"#REF!","v":{"$error":"#REF!"}}]
[null,null,null,null,null,null,{"$f":"#REF!","v":{"$error":"#REF!"}},{"$f":"#REF!","v":{"$error":"#REF!"}}]
[null,null,null,null,null,null,{"$f":"#REF!","v":{"$error":"#REF!"}},{"$f":"#REF!","v":{"$error":"#REF!"}}]
[null,null,null,null,null,null,{"$f":"#REF!","v":{"$error":"#REF!"}},{"$f":"#REF!","v":{"$error":"#REF!"}}]
[null,null,null,null,null,null,{"$f":"#REF!","v":{"$error":"#REF!"}},{"$f":"#REF!","v":{"$error":"#REF!"}}]
[null,null,null,null,null,null,{"$f":"#REF!","v":{"$error":"#REF!"}},{"$f":"#REF!","v":{"$error":"#REF!"}}]
[null,null,null,null,null,null,{"$f":"#REF!","v":{"$error":"#REF!"}},{"$f":"#REF!","v":{"$error":"#REF!"}}]
[null,null,null,null,null,null,{"$f":"#REF!","v":{"$error":"#REF!"}},{"$f":"#REF!","v":{"$error":"#REF!"}}]
[null,null,null,null,null,null,{"$f":"#REF!","v":{"$error":"#REF!"}},{"$f":"#REF!","v":{"$error":"#REF!"}}]
[null,null,null,null,null,null,{"$f":"#REF!","v":{"$error":"#REF!"}},{"$f":"#REF!","v":{"$error":"#REF!"}}]
[null,null,null,null,null,null,{"$f":"#REF!","v":{"$error":"#REF!"}},{"$f":"#REF!","v":{"$error":"#REF!"}}]
[null,null,null,null,null,null,{"$f":"#REF!","v":{"$error":"#REF!"}},{"$f":"#REF!","v":{"$error":"#REF!"}}]
[null,null,null,null,null,null,{"$f":"#REF!","v":{"$error":"#REF!"}},{"$f":"#REF!","v":{"$error":"#REF!"}}]
[null,null,null,null,null,null,{"$f":"#REF!","v":{"$error":"#REF!"}},{"$f":"#REF!","v":{"$error":"#REF!"}}]
[null,null,null,null,null,null,{"$f":"#REF!","v":{"$error":"#REF!"}},{"$f":"#REF!","v":{"$error":"#REF!"}}]
[null,null,null,null,null,null,{"$f":"#REF!","v":{"$error":"#REF!"}},{"$f":"#REF!","v":{"$error":"#REF!"}}]
[null,null,null,null,null,null,{"$f":"#REF!","v":{"$error":"#REF!"}},{"$f":"#REF!","v":{"$error":"#REF!"}}]
[null,null,null,null,null,null,{"$f":"#REF!","v":{"$error":"#REF!"}},{"$f":"#REF!","v":{"$error":"#REF!"}}]
[null,null,null,null,null,null,{"$f":"#REF!","v":{"$error":"#REF!"}},{"$f":"#REF!","v":{"$error":"#REF!"}}]
[null,null,null,null,null,null,{"$f":"#REF!","v":{"$error":"#REF!"}},{"$f":"#REF!","v":{"$error":"#REF!"}}]
[null,null,null,null,null,null,{"$f":"#REF!","v":{"$error":"#REF!"}},{"$f":"#REF!","v":{"$error":"#REF!"}}]
[null,null,null,null,null,null,{"$f":"#REF!","v":{"$error":"#REF!"}},{"$f":"#REF!","v":{"$error":"#REF!"}}]
[null,null,null,null,null,null,{"$f":"#REF!","v":{"$error":"#REF!"}},{"$f":"#REF!","v":{"$error":"#REF!"}}]
[null,null,null,null,null,null,{"$f":"#REF!","v":{"$error":"#REF!"}},{"$f":"#REF!","v":{"$error":"#REF!"}}]

{"sheet":"ใบรายชื่อ","index":1,"n_rows":56,"n_cols":28,"rows_kept":56,"cut":false,"hidden":false,"merged":[[24,27,25,38],[1,0,1,24],[4,0,4,24],[2,0,2,24],[5,39,5,62],[3,0,3,24],[5,2,5,3]]}
[]
[{"$f":"AB25&ปก!AL11","v":"รายชื่อนักเรียนชั้นประถมศึกษาปีที่{{โปรดกรอกข้อมูล}}"}]
[{"$f":"CONCATENATE(ปก!C5&\"  \"&\"สังกัด\",IF(ปก!C8=\"\",\"{{โปรดกรอกข้อมูลต้นสังกัด}}\",ปก!C8))","v":"โรงเรียนเทศบาลโพธิ์ประทับช้าง  สังกัดเทศบาลตำบลโพธิ์ประทับช้าง"}]
[{"$f":"\"รายวิชา\"&ปก!AC15&\"    \"&\"รหัสวิชา\"&\" \"&ปก!AS15&\"  \"&\"  \"&\"ปีการศึกษา\"&\" \"&ปก!C16","v":"รายวิชา{{โปรดกรอกข้อมูลรายวิชา}}    รหัสวิชา {{โปรดกรอกรหัสวิชา}}    ปีการศึกษา 2567"}]
[{"$f":"\"ครูประจำชั้น : \"&ปก!AF19&\"\"&ปก!AQ19&\" จำนวนนักเรียน ชาย \"&ใส่ชื่อ!O4&\" คน หญิง \"&ใส่ชื่อ!O5&\" คน รวม \"&ใส่ชื่อ!O6&\" คน.\"","v":"ครูประจำชั้น : {{โปรดกรอกข้อมลครูประจำชั้น}} จำนวนนักเรียน ชาย 0 คน หญิง 0 คน รวม 0 คน."}]
["เลขที่","เลขประจำตัว","ชื่อ-นามสกุล"]
[1,{"$f":"ใส่ชื่อ!C2","v":0},{"$f":"CONCATENATE(ใส่ชื่อ!D2&ใส่ชื่อ!E2)","v":""},{"$f":"ใส่ชื่อ!F2","v":0}]
[2,{"$f":"ใส่ชื่อ!C3","v":0},{"$f":"CONCATENATE(ใส่ชื่อ!D3&ใส่ชื่อ!E3)","v":""},{"$f":"ใส่ชื่อ!F3","v":0}]
[3,{"$f":"ใส่ชื่อ!C4","v":0},{"$f":"CONCATENATE(ใส่ชื่อ!D4&ใส่ชื่อ!E4)","v":""},{"$f":"ใส่ชื่อ!F4","v":0}]
[4,{"$f":"ใส่ชื่อ!C5","v":0},{"$f":"CONCATENATE(ใส่ชื่อ!D5&ใส่ชื่อ!E5)","v":""},{"$f":"ใส่ชื่อ!F5","v":0}]
[5,{"$f":"ใส่ชื่อ!C6","v":0},{"$f":"CONCATENATE(ใส่ชื่อ!D6&ใส่ชื่อ!E6)","v":""},{"$f":"ใส่ชื่อ!F6","v":0}]
[6,{"$f":"ใส่ชื่อ!C7","v":0},{"$f":"CONCATENATE(ใส่ชื่อ!D7&ใส่ชื่อ!E7)","v":""},{"$f":"ใส่ชื่อ!F7","v":0}]
[7,{"$f":"ใส่ชื่อ!C8","v":0},{"$f":"CONCATENATE(ใส่ชื่อ!D8&ใส่ชื่อ!E8)","v":""},{"$f":"ใส่ชื่อ!F8","v":0}]
[8,{"$f":"ใส่ชื่อ!C9","v":0},{"$f":"CONCATENATE(ใส่ชื่อ!D9&ใส่ชื่อ!E9)","v":""},{"$f":"ใส่ชื่อ!F9","v":0}]
[9,{"$f":"ใส่ชื่อ!C10","v":0},{"$f":"CONCATENATE(ใส่ชื่อ!D10&ใส่ชื่อ!E10)","v":""},{"$f":"ใส่ชื่อ!F10","v":0}]
[10,{"$f":"ใส่ชื่อ!C11","v":0},{"$f":"CONCATENATE(ใส่ชื่อ!D11&ใส่ชื่อ!E11)","v":""},{"$f":"ใส่ชื่อ!F11","v":0}]
[11,{"$f":"ใส่ชื่อ!C12","v":0},{"$f":"CONCATENATE(ใส่ชื่อ!D12&ใส่ชื่อ!E12)","v":""},{"$f":"ใส่ชื่อ!F12","v":0}]
[12,{"$f":"ใส่ชื่อ!C13","v":0},{"$f":"CONCATENATE(ใส่ชื่อ!D13&ใส่ชื่อ!E13)","v":""},{"$f":"ใส่ชื่อ!F13","v":0}]
[13,{"$f":"ใส่ชื่อ!C14","v":0},{"$f":"CONCATENATE(ใส่ชื่อ!D14&ใส่ชื่อ!E14)","v":""},{"$f":"ใส่ชื่อ!F14","v":0}]
[14,{"$f":"ใส่ชื่อ!C15","v":0},{"$f":"CONCATENATE(ใส่ชื่อ!D15&ใส่ชื่อ!E15)","v":""},{"$f":"ใส่ชื่อ!F15","v":0}]
[15,{"$f":"ใส่ชื่อ!C16","v":0},{"$f":"CONCATENATE(ใส่ชื่อ!D16&ใส่ชื่อ!E16)","v":""},{"$f":"ใส่ชื่อ!F16","v":0}]
[16,{"$f":"ใส่ชื่อ!C17","v":0},{"$f":"CONCATENATE(ใส่ชื่อ!D17&ใส่ชื่อ!E17)","v":""},{"$f":"ใส่ชื่อ!F17","v":0}]
[17,{"$f":"ใส่ชื่อ!C18","v":0},{"$f":"CONCATENATE(ใส่ชื่อ!D18&ใส่ชื่อ!E18)","v":""},{"$f":"ใส่ชื่อ!F18","v":0}]
[18,{"$f":"ใส่ชื่อ!C19","v":0},{"$f":"CONCATENATE(ใส่ชื่อ!D19&ใส่ชื่อ!E19)","v":""},{"$f":"ใส่ชื่อ!F19","v":0}]
[19,{"$f":"ใส่ชื่อ!C20","v":0},{"$f":"CONCATENATE(ใส่ชื่อ!D20&ใส่ชื่อ!E20)","v":""},{"$f":"ใส่ชื่อ!F20","v":0},null,null,null,null,null,null,null,null,null,null,null,null,null,null,null,null,null,null,null,null,null,null,null,"รายชื่อนักเรียน"]
[20,{"$f":"ใส่ชื่อ!C21","v":0},{"$f":"CONCATENATE(ใส่ชื่อ!D21&ใส่ชื่อ!E21)","v":""},{"$f":"ใส่ชื่อ!F21","v":0}]
[21,{"$f":"ใส่ชื่อ!C22","v":0},{"$f":"CONCATENATE(ใส่ชื่อ!D22&ใส่ชื่อ!E22)","v":""},{"$f":"ใส่ชื่อ!F22","v":0}]
[22,{"$f":"ใส่ชื่อ!C23","v":0},{"$f":"CONCATENATE(ใส่ชื่อ!D23&ใส่ชื่อ!E23)","v":""},{"$f":"ใส่ชื่อ!F23","v":0}]
[23,{"$f":"ใส่ชื่อ!C24","v":0},{"$f":"CONCATENATE(ใส่ชื่อ!D24&ใส่ชื่อ!E24)","v":""},{"$f":"ใส่ชื่อ!F24","v":0}]
[24,{"$f":"ใส่ชื่อ!C25","v":0},{"$f":"CONCATENATE(ใส่ชื่อ!D25&ใส่ชื่อ!E25)","v":""},{"$f":"ใส่ชื่อ!F25","v":0}]
[25,{"$f":"ใส่ชื่อ!C26","v":0},{"$f":"CONCATENATE(ใส่ชื่อ!D26&ใส่ชื่อ!E26)","v":""},{"$f":"ใส่ชื่อ!F26","v":0}]
[26,{"$f":"ใส่ชื่อ!C27","v":0},{"$f":"CONCATENATE(ใส่ชื่อ!D27&ใส่ชื่อ!E27)","v":""},{"$f":"ใส่ชื่อ!F27","v":0}]
[27,{"$f":"ใส่ชื่อ!C28","v":0},{"$f":"CONCATENATE(ใส่ชื่อ!D28&ใส่ชื่อ!E28)","v":""},{"$f":"ใส่ชื่อ!F28","v":0}]
[28,{"$f":"ใส่ชื่อ!C29","v":0},{"$f":"CONCATENATE(ใส่ชื่อ!D29&ใส่ชื่อ!E29)","v":""},{"$f":"ใส่ชื่อ!F29","v":0}]
[29,{"$f":"ใส่ชื่อ!C30","v":0},{"$f":"CONCATENATE(ใส่ชื่อ!D30&ใส่ชื่อ!E30)","v":""},{"$f":"ใส่ชื่อ!F30","v":0}]
[30,{"$f":"ใส่ชื่อ!C31","v":0},{"$f":"CONCATENATE(ใส่ชื่อ!D31&ใส่ชื่อ!E31)","v":""},{"$f":"ใส่ชื่อ!F31","v":0}]
[31,{"$f":"ใส่ชื่อ!C32","v":0},{"$f":"CONCATENATE(ใส่ชื่อ!D32&ใส่ชื่อ!E32)","v":""},{"$f":"ใส่ชื่อ!F32","v":0}]
[32,{"$f":"ใส่ชื่อ!C33","v":0},{"$f":"CONCATENATE(ใส่ชื่อ!D33&ใส่ชื่อ!E33)","v":""},{"$f":"ใส่ชื่อ!F33","v":0}]
[33,{"$f":"ใส่ชื่อ!C34","v":0},{"$f":"CONCATENATE(ใส่ชื่อ!D34&ใส่ชื่อ!E34)","v":""},{"$f":"ใส่ชื่อ!F34","v":0}]
[34,{"$f":"ใส่ชื่อ!C35","v":0},{"$f":"CONCATENATE(ใส่ชื่อ!D35&ใส่ชื่อ!E35)","v":""},{"$f":"ใส่ชื่อ!F35","v":0}]
[35,{"$f":"ใส่ชื่อ!C36","v":0},{"$f":"CONCATENATE(ใส่ชื่อ!D36&ใส่ชื่อ!E36)","v":""},{"$f":"ใส่ชื่อ!F36","v":0}]
[36,{"$f":"ใส่ชื่อ!C37","v":0},{"$f":"CONCATENATE(ใส่ชื่อ!D37&ใส่ชื่อ!E37)","v":""},{"$f":"ใส่ชื่อ!F37","v":0}]
[37,{"$f":"ใส่ชื่อ!C38","v":0},{"$f":"CONCATENATE(ใส่ชื่อ!D38&ใส่ชื่อ!E38)","v":""},{"$f":"ใส่ชื่อ!F38","v":0}]
[38,{"$f":"ใส่ชื่อ!C39","v":0},{"$f":"CONCATENATE(ใส่ชื่อ!D39&ใส่ชื่อ!E39)","v":""},{"$f":"ใส่ชื่อ!F39","v":0}]
[39,{"$f":"ใส่ชื่อ!C40","v":0},{"$f":"CONCATENATE(ใส่ชื่อ!D40&ใส่ชื่อ!E40)","v":""},{"$f":"ใส่ชื่อ!F40","v":0}]
[40,{"$f":"ใส่ชื่อ!C41","v":0},{"$f":"CONCATENATE(ใส่ชื่อ!D41&ใส่ชื่อ!E41)","v":""},{"$f":"ใส่ชื่อ!F41","v":0}]
[41,{"$f":"ใส่ชื่อ!C42","v":0},{"$f":"CONCATENATE(ใส่ชื่อ!D42&ใส่ชื่อ!E42)","v":""},{"$f":"ใส่ชื่อ!F42","v":0}]
[42,{"$f":"ใส่ชื่อ!C43","v":0},{"$f":"CONCATENATE(ใส่ชื่อ!D43&ใส่ชื่อ!E43)","v":""},{"$f":"ใส่ชื่อ!F43","v":0}]
[43,{"$f":"ใส่ชื่อ!C44","v":0},{"$f":"CONCATENATE(ใส่ชื่อ!D44&ใส่ชื่อ!E44)","v":""},{"$f":"ใส่ชื่อ!F44","v":0}]
[44,{"$f":"ใส่ชื่อ!C45","v":0},{"$f":"CONCATENATE(ใส่ชื่อ!D45&ใส่ชื่อ!E45)","v":""},{"$f":"ใส่ชื่อ!F45","v":0}]
[45,{"$f":"ใส่ชื่อ!C46","v":0},{"$f":"CONCATENATE(ใส่ชื่อ!D46&ใส่ชื่อ!E46)","v":""},{"$f":"ใส่ชื่อ!F46","v":0}]
[46,{"$f":"ใส่ชื่อ!C47","v":0},{"$f":"CONCATENATE(ใส่ชื่อ!D47&ใส่ชื่อ!E47)","v":""},{"$f":"ใส่ชื่อ!F47","v":0}]
[47,{"$f":"ใส่ชื่อ!C48","v":0},{"$f":"CONCATENATE(ใส่ชื่อ!D48&ใส่ชื่อ!E48)","v":""},{"$f":"ใส่ชื่อ!F48","v":0}]
[48,{"$f":"ใส่ชื่อ!C49","v":0},{"$f":"CONCATENATE(ใส่ชื่อ!D49&ใส่ชื่อ!E49)","v":""},{"$f":"ใส่ชื่อ!F49","v":0}]
[49,{"$f":"ใส่ชื่อ!C50","v":0},{"$f":"CONCATENATE(ใส่ชื่อ!D50&ใส่ชื่อ!E50)","v":""},{"$f":"ใส่ชื่อ!F50","v":0}]
[50,{"$f":"ใส่ชื่อ!C51","v":0},{"$f":"CONCATENATE(ใส่ชื่อ!D51&ใส่ชื่อ!E51)","v":""},{"$f":"ใส่ชื่อ!F51","v":0}]

{"sheet":"กำหนดอัตราส่วนคะแนน","index":2,"n_rows":257,"n_cols":23,"rows_kept":257,"cut":false,"hidden":true,"merged":[[152,1,152,5],[19,1,19,3],[21,1,21,3],[19,7,21,7],[25,0,25,8],[152,14,152,18],[12,23,17,23],[19,23,21,23],[25,13,25,21],[8,1,8,7],[8,14,8,20],[10,1,10,7],[14,1,14,3],[12,1,12,3],[12,7,14,7],[10,14,10,20],[12,14,12,16],[12,20,14,20],[14,14,14,16],[17,1,17,7],[19,10,21,10],[1,14,1,23],[27,7,28,7],[27,20,28,20],[19,20,21,20],[21,14,21,16],[12,10,17,10],[17,14,17,20],[19,14,19,16],[3,14,3,19]]}
[]
[null,null,null,null,null,null,null,null,null,null,null,null,null,null,{"$f":"IF(ปก!C25=\"พื้นฐาน\",\"กำหนดเกณฑ์การประเมินผ่านตัวชี้วัดของสถานศึกษา\",IF(ปก!C25=\"เพิ่มเติม\",\"กำหนดเกณฑ์การประเมินผ่านผลการเรียนรู้ของสถานศึกษา\"))","v":false}]
[]
[null,null,null,null,null,null,null,null,null,null,null,null,null,null,{"$f":"IF(ปก!C25=\"พื้นฐาน\",\"ผู้เรียนต้องได้คะแนนแต่ละตัวชี้วัดคิดเป็นร้อยละ\",IF(ปก!C25=\"เพิ่มเติม\",\"ผู้เรียนต้องได้คะแนนแต่ละผลการเรียนรู้คิดเป็นร้อยละ\"))","v":false},null,null,null,null,null,50,null,"ของคะแนนเต็ม"]
[]
[]
[]
[]
[null,{"$f":"IF(ปก!C15=1,\"คะแนนภาคเรียนที่ 1\",IF(ปก!C15=2,\"คะแนนภาคเรียนที่ 2\"))","v":false}]
[]
[null,"กำหนดคะแนนระหว่างภาค"]
[]
[null,{"$f":"IF(ปก!C25=\"พื้นฐาน\",\"คะแนนเก็บ(ตัวชี้วัด)\",IF(ปก!C25=\"เพิ่มเติม\",\"คะแนนเก็บ(ผลการเรียนรู้)\"))","v":false},null,null,null,null,null,{"$f":"SUM(F13,F15)","v":0},null,null,"คะแนนรวม\nตลอดภาคเรียน\nต้องได้=100"]
[]
[null,"คะแนนสอบกลางภาค"]
[]
[]
[null,"กำหนดคะแนนสอบปลายภาค"]
[]
[null,"คะแนนสอบปรนัย",null,null,null,null,null,{"$f":"SUM(F20,F22)","v":0},null,null,{"$f":"H13+H20","v":0}]
[]
[null,"คะแนนสอบอัตนัย"]
[]
[]
[]
[{"$f":"IF(ปก!C25=\"พื้นฐาน\",\"กำหนดคะแนนตัวชี้วัด\",IF(ปก!C25=\"เพิ่มเติม\",\"กำหนดคะแนนผลการเรียนรู้\"))","v":false}]
[]
[null,{"$f":"IF(ปก!C25=\"พื้นฐาน\",\"ตัวชี้วัด\",IF(ปก!C25=\"เพิ่มเติม\",\"ผลการเรียนรู้\"))","v":false},null,"สาระ",null,{"$f":"IF(ปก!C25=\"พื้นฐาน\",\"\",IF(ปก!C25=\"เพิ่มเติม\",\"ผลการ\"))","v":false},null,"คะแนนเต็ม"]
[null,"ที่",null,"มาตรฐาน",null,{"$f":"IF(ปก!C25=\"พื้นฐาน\",\"ตัวชี้วัด\",IF(ปก!C25=\"เพิ่มเติม\",\"เรียนรู้\"))","v":false}]
[]
[]
[]
[]
[]
[]
[]
[]
[]
[]
[]
[]
[]
[]
[]
[]
[]
[]
[]
[]
[]
[]
[]
[]
[]
[]
[]
[]
[]
[]
[]
[]
[]
[]
[]
[]
[]
[]
[]
[]
[]
[]
[]
[]
[]
[]
[]
[]
[]
[]
[]
[]
[]
[]
[]
[]
[]
[]
[]
[]
[]
[]
[]
[]
[]
[]
[]
[]
[]
[]
[]
[]
[]
[]
[]
[]
[]
[]
[]
[]
[]
[]
[]
[]
[]
[]
[]
[]
[]
[]
[]
[]
[]
[]
[]
[]
[]
[]
[]
[]
[]
[]
[]
[]
[]
[]
[]
[]
[]
[]
[]
[]
[]
[]
[]
[]
[]
[]
[]
[]
[]
[]
[]
[null,{"$f":"IF(ปก!C25=\"พื้นฐาน\",\"รวมตัวชี้วัด\",IF(ปก!C25=\"เพิ่มเติม\",\"รวมผลการเรียนรู้\"))","v":false},null,null,null,null,null,{"$f":"COUNT(B31,B33,B35,B37,B39,B41,B43,B45,B47,B49,B51,B53,B55,B57,B59,B61,B63,B65,B67,B69,B71,B73,B75,B77,B79,B81,B83,B85,B87,B89,B91,B93,B95,B97,B99,B101,B103,B105,B107,B109,B111,B113,B115,B117,B119,B121,B123,B125,B127,B129,B131,B133,B135,B137,B139,B141,B143,B145,B147,B149)","v":0}]
[]
[]
[]
[]
[null,null,null,"ท 1.1",null,"ป.1/1",null,null,null,null,null,null,null,null,null,null,"ท 1.1",null,"ม.1/1"]
[null,null,null,"ท 2.1",null,"ป.1/2",null,null,null,null,null,null,null,null,null,null,"ท 2.1",null,"ม.1/2"]
[null,null,null,"ท 3.1",null,"ป.1/3",null,null,null,null,null,null,null,null,null,null,"ท 3.1",null,"ม.1/3"]
[null,null,null,"ท 4.1",null,"ป.1/4",null,null,null,null,null,null,null,null,null,null,"ท 4.1",null,"ม.1/4"]
[null,null,null,"ท 5.1",null,"ป.1/5",null,null,null,null,null,null,null,null,null,null,"ท 5.1",null,"ม.1/5"]
[null,null,null,"ค 1.1",null,"ป.1/6",null,null,null,null,null,null,null,null,null,null,"ค 1.1",null,"ม.1/6"]
[null,null,null,"ค 1.2",null,"ป.1/7",null,null,null,null,null,null,null,null,null,null,"ค 1.2",null,"ม.1/7"]
[null,null,null,"ค 1.3",null,"ป.1/8",null,null,null,null,null,null,null,null,null,null,"ค 1.3",null,"ม.1/8"]
[null,null,null,"ค 1.4",null,"ป.1/9",null,null,null,null,null,null,null,null,null,null,"ค 1.4",null,"ม.1/9"]
[null,null,null,"ค 2.1",null,"ป.1/10",null,null,null,null,null,null,null,null,null,null,"ค 2.1",null,"ม.1/10"]
[null,null,null,"ค 2.2",null,"ป.2/1",null,null,null,null,null,null,null,null,null,null,"ค 2.2",null,"ม.2/1"]
[null,null,null,"ค 3.1",null,"ป.2/2",null,null,null,null,null,null,null,null,null,null,"ค 3.1",null,"ม.2/2"]
[null,null,null,"ค 3.2",null,"ป.2/3",null,null,null,null,null,null,null,null,null,null,"ค 3.2",null,"ม.2/3"]
[null,null,null,"ค 4.1",null,"ป.2/4",null,null,null,null,null,null,null,null,null,null,"ค 4.1",null,"ม.2/4"]
[null,null,null,"ค 4.2",null,"ป.2/5",null,null,null,null,null,null,null,null,null,null,"ค 4.2",null,"ม.2/5"]
[null,null,null,"ค 5.1",null,"ป.2/6",null,null,null,null,null,null,null,null,null,null,"ค 5.1",null,"ม.2/6"]
[null,null,null,"ค 5.2",null,"ป.2/7",null,null,null,null,null,null,null,null,null,null,"ค 5.2",null,"ม.2/7"]
[null,null,null,"ค 5.3",null,"ป.2/8",null,null,null,null,null,null,null,null,null,null,"ค 5.3",null,"ม.2/8"]
[null,null,null,"ค 6.1",null,"ป.2/9",null,null,null,null,null,null,null,null,null,null,"ค 6.1",null,"ม.2/9"]
[null,null,null,"ว 1.1",null,"ป.2/10",null,null,null,null,null,null,null,null,null,null,"ว 1.1",null,"ม.2/10"]
[null,null,null,"ว 1.2",null,"ป.3/1",null,null,null,null,null,null,null,null,null,null,"ว 1.2",null,"ม.3/1"]
[null,null,null,"ว 2.1",null,"ป.3/2",null,null,null,null,null,null,null,null,null,null,"ว 2.1",null,"ม.3/2"]
[null,null,null,"ว 2.2",null,"ป.3/3",null,null,null,null,null,null,null,null,null,null,"ว 2.2",null,"ม.3/3"]
[null,null,null,"ว 3.1",null,"ป.3/4",null,null,null,null,null,null,null,null,null,null,"ว 3.1",null,"ม.3/4"]
[null,null,null,"ว 3.2",null,"ป.3/5",null,null,null,null,null,null,null,null,null,null,"ว 3.2",null,"ม.3/5"]
[null,null,null,"ว 4.1",null,"ป.3/6",null,null,null,null,null,null,null,null,null,null,"ว 4.1",null,"ม.3/6"]
[null,null,null,"ว 4.2",null,"ป.3/7",null,null,null,null,null,null,null,null,null,null,"ว 4.2",null,"ม.3/7"]
[null,null,null,"ว 5.1",null,"ป.3/8",null,null,null,null,null,null,null,null,null,null,"ว 5.1",null,"ม.3/8"]
[null,null,null,"ว 6.1",null,"ป.3/9",null,null,null,null,null,null,null,null,null,null,"ว 6.1",null,"ม.3/9"]
[null,null,null,"ว 7.1",null,"ป.3/10",null,null,null,null,null,null,null,null,null,null,"ว 7.1",null,"ม.3/10"]
[null,null,null,"ว 7.2",null,"ป.4/1",null,null,null,null,null,null,null,null,null,null,"ว 7.2",null,"ม.4-6/1"]
[null,null,null,"ว 8.1",null,"ป.4/2",null,null,null,null,null,null,null,null,null,null,"ว 8.1",null,"ม.4-6/2"]
[null,null,null,"ส 1.1",null,"ป.4/3",null,null,null,null,null,null,null,null,null,null,"ส 1.1",null,"ม.4-6/3"]
[null,null,null,"ส 1.2",null,"ป.4/4",null,null,null,null,null,null,null,null,null,null,"ส 1.2",null,"ม.4-6/4"]
[null,null,null,"ส 2.1",null,"ป.4/5",null,null,null,null,null,null,null,null,null,null,"ส 2.1",null,"ม.4-6/5"]
[null,null,null,"ส 2.2",null,"ป.4/6",null,null,null,null,null,null,null,null,null,null,"ส 2.2",null,"ม.4-6/6"]
[null,null,null,"ส 3.1",null,"ป.4/7",null,null,null,null,null,null,null,null,null,null,"ส 3.1",null,"ม.4-6/7"]
[null,null,null,"ส 3.2",null,"ป.4/8",null,null,null,null,null,null,null,null,null,null,"ส 3.2",null,"ม.4-6/8"]
[null,null,null,"ส 4.1",null,"ป.4/9",null,null,null,null,null,null,null,null,null,null,"ส 4.1",null,"ม.4-6/9"]
[null,null,null,"ส 4.2",null,"ป.4/10",null,null,null,null,null,null,null,null,null,null,"ส 4.2",null,"ม.4-6/10"]
[null,null,null,"ส 4.2",null,"ป.5/1",null,null,null,null,null,null,null,null,null,null,"ส 4.2",null,"ม.4-6/11"]
[null,null,null,"ส 5.1",null,"ป.5/2",null,null,null,null,null,null,null,null,null,null,"ส 5.1",null,"ม.4-6/12"]
[null,null,null,"ส 5.2",null,"ป.5/3",null,null,null,null,null,null,null,null,null,null,"ส 5.2",null,"ม.4-6/13"]
[null,null,null,"พ 1.1",null,"ป.5/4",null,null,null,null,null,null,null,null,null,null,"พ 1.1",null,"ม.4-6/14"]
[null,null,null,"พ 2.1",null,"ป.5/5",null,null,null,null,null,null,null,null,null,null,"พ 2.1",null,"ม.4-6/15"]
[null,null,null,"พ 3.1",null,"ป.5/6",null,null,null,null,null,null,null,null,null,null,"พ 3.1",null,"ม.4-6/16"]
[null,null,null,"พ 3.2",null,"ป.5/7",null,null,null,null,null,null,null,null,null,null,"พ 3.2",null,"ม.4-6/17"]
[null,null,null,"พ 4.1",null,"ป.5/8",null,null,null,null,null,null,null,null,null,null,"พ 4.1",null,"ม.4-6/18"]
[null,null,null,"พ 5.1",null,"ป.5/9",null,null,null,null,null,null,null,null,null,null,"พ 5.1",null,"ม.4-6/19"]
[null,null,null,"ศ. 1.1",null,"ป.5/10",null,null,null,null,null,null,null,null,null,null,"ศ. 1.1",null,"ม.4-6/20"]
[null,null,null,"ศ 1.2",null,"ม.6/1",null,null,null,null,null,null,null,null,null,null,"ศ 1.2",null,"ม.4-6/21"]
[null,null,null,"ศ 2.1",null,"ม.6/2",null,null,null,null,null,null,null,null,null,null,"ศ 2.1",null,"ม.4-6/22"]
[null,null,null,"ศ 2.2",null,"ม.6/3",null,null,null,null,null,null,null,null,null,null,"ศ 2.2",null,"ม.4-6/23"]
[null,null,null,"ศ 3.1",null,"ม.6/4",null,null,null,null,null,null,null,null,null,null,"ศ 3.1",null,"ม.4-6/24"]
[null,null,null,"ศ 3.2",null,"ม.6/5",null,null,null,null,null,null,null,null,null,null,"ศ 3.2",null,"ม.4-6/25"]
[null,null,null,"ง 1.1",null,"ม.6/6",null,null,null,null,null,null,null,null,null,null,"ง 1.1",null,"ม.4-6/26"]
[null,null,null,"ง 2.1",null,"ม.6/7",null,null,null,null,null,null,null,null,null,null,"ง 2.1",null,"ม.4-6/27"]
[null,null,null,"ง 3.1",null,"ม.6/8",null,null,null,null,null,null,null,null,null,null,"ง 3.1",null,"ม.4-6/28"]
[null,null,null,"ง 4.1",null,"ม.6/9",null,null,null,null,null,null,null,null,null,null,"ง 4.1",null,"ม.4-6/29"]
[null,null,null,"ต 1.1",null,"ม.6/10",null,null,null,null,null,null,null,null,null,null,"ต 1.1",null,"ม.4-6/30"]
[null,null,null,"ต 1.2",null,"ข้อ 1",null,null,null,null,null,null,null,null,null,null,"ต 1.2",null,"ข้อ 1"]
[null,null,null,"ต 1.3",null,"ข้อ 2",null,null,null,null,null,null,null,null,null,null,"ต 1.3",null,"ข้อ 2"]
[null,null,null,"ต 2.1",null,"ข้อ 3",null,null,null,null,null,null,null,null,null,null,"ต 2.1",null,"ข้อ 3"]
[null,null,null,"ต 2.2",null,"ข้อ 4",null,null,null,null,null,null,null,null,null,null,"ต 2.2",null,"ข้อ 4"]
[null,null,null,"ต 3.1",null,"ข้อ 5",null,null,null,null,null,null,null,null,null,null,"ต 3.1",null,"ข้อ 5"]
[null,null,null,"ต 4.1",null,"ข้อ 6",null,null,null,null,null,null,null,null,null,null,"ต 4.1",null,"ข้อ 6"]
[null,null,null,"ต 4.2",null,"ข้อ 7",null,null,null,null,null,null,null,null,null,null,"ต 4.2",null,"ข้อ 7"]
[null,null,null,null,null,"ข้อ 8",null,null,null,null,null,null,null,null,null,null," -",null,"ข้อ 8"]
[null,null,null,null,null,"ข้อ 9",null,null,null,null,null,null,null,null,null,null,null,null,"ข้อ 9"]
[null,null,null,null,null,"ข้อ 10",null,null,null,null,null,null,null,null,null,null,null,null,"ข้อ 10"]
[null,null,null,null,null,"ข้อ 11",null,null,null,null,null,null,null,null,null,null,null,null,"ข้อ 11"]
[null,null,null,null,null,"ข้อ 12",null,null,null,null,null,null,null,null,null,null,null,null,"ข้อ 12"]
[null,null,null,null,null,"ข้อ 13",null,null,null,null,null,null,null,null,null,null,null,null,"ข้อ 13"]
[null,null,null,null,null,"ข้อ 14",null,null,null,null,null,null,null,null,null,null,null,null,"ข้อ 14"]
[null,null,null,null,null,"ข้อ 15",null,null,null,null,null,null,null,null,null,null,null,null,"ข้อ 15"]
[null,null,null,null,null,"ข้อ 16",null,null,null,null,null,null,null,null,null,null,null,null,"ข้อ 16"]
[null,null,null,null,null,"ข้อ 17",null,null,null,null,null,null,null,null,null,null,null,null,"ข้อ 17"]
[null,null,null,null,null,"ข้อ 18",null,null,null,null,null,null,null,null,null,null,null,null,"ข้อ 18"]
[null,null,null,null,null,"ข้อ 19",null,null,null,null,null,null,null,null,null,null,null,null,"ข้อ 19"]
[null,null,null,null,null,"ข้อ 20",null,null,null,null,null,null,null,null,null,null,null,null,"ข้อ 20"]
[null,null,null,null,null,"ข้อ 21",null,null,null,null,null,null,null,null,null,null,null,null,"ข้อ 21"]
[null,null,null,null,null,"ข้อ 22",null,null,null,null,null,null,null,null,null,null,null,null,"ข้อ 22"]
[null,null,null,null,null,"ข้อ 23",null,null,null,null,null,null,null,null,null,null,null,null,"ข้อ 23"]
[null,null,null,null,null,"ข้อ 24",null,null,null,null,null,null,null,null,null,null,null,null,"ข้อ 24"]
[null,null,null,null,null,"ข้อ 25",null,null,null,null,null,null,null,null,null,null,null,null,"ข้อ 25"]
[null,null,null,null,null,"ข้อ 26",null,null,null,null,null,null,null,null,null,null,null,null,"ข้อ 26"]
[null,null,null,null,null,"ข้อ 27",null,null,null,null,null,null,null,null,null,null,null,null,"ข้อ 27"]
[null,null,null,null,null,"ข้อ 28",null,null,null,null,null,null,null,null,null,null,null,null,"ข้อ 28"]
[null,null,null,null,null,"ข้อ 29",null,null,null,null,null,null,null,null,null,null,null,null,"ข้อ 29"]
[null,null,null,null,null,"ข้อ 30",null,null,null,null,null,null,null,null,null,null,null,null,"ข้อ 30"]
[null,null,null,null,null,null,null,null,null,null,null,null,null,null,null,null,null,null,"ข้อ 31"]
[null,null,null,null,null,null,null,null,null,null,null,null,null,null,null,null,null,null,"ข้อ 32"]
[null,null,null,null,null,null,null,null,null,null,null,null,null,null,null,null,null,null,"ข้อ 33"]
[null,null,null,null,null,null,null,null,null,null,null,null,null,null,null,null,null,null,"ข้อ 34"]
[null,null,null,null,null,null,null,null,null,null,null,null,null,null,null,null,null,null,"ข้อ 35"]
[null,null,null,null,null,null,null,null,null,null,null,null,null,null,null,null,null,null,"ข้อ 36"]
[null,null,null,null,null,null,null,null,null,null,null,null,null,null,null,null,null,null,"ข้อ 37"]
[null,null,null,null,null,null,null,null,null,null,null,null,null,null,null,null,null,null,"ข้อ 38"]
[null,null,null,null,null,null,null,null,null,null,null,null,null,null,null,null,null,null,"ข้อ 39"]
[null,null,null,null,null,null,null,null,null,null,null,null,null,null,null,null,null,null,"ข้อ 40"]

{"sheet":"เวลาเรียน","index":3,"n_rows":59,"n_cols":13,"rows_kept":59,"cut":false,"hidden":false,"merged":[[0,0,0,11],[1,0,1,11],[2,12,6,12],[5,5,6,5],[5,6,6,6],[2,3,4,6],[2,11,6,11],[2,7,4,10],[5,7,6,7],[5,8,6,8],[5,9,6,9],[5,10,6,10],[2,0,7,0],[2,1,7,1],[2,2,7,2],[5,3,6,3],[5,4,6,4],[2,50,4,53],[2,54,4,57],[2,58,6,58],[2,59,6,59],[5,50,6,50],[5,51,6,51],[5,52,6,52],[5,53,6,53],[5,54,6,54],[5,55,6,55],[5,56,6,56],[5,57,6,57]]}
[{"$f":"\"บันทึกเวลาเรียน   รายวิชา\"&ปก!C26&\"     \"&\"รหัสวิชา\"&\"  \"&ปก!C27","v":"บันทึกเวลาเรียน   รายวิชา     รหัสวิชา  "},null,null,null,null,null,null,null,null,null,null,null,"หน้า 1"]
[{"$f":"ปก!AL11&\"    \"&\"ปีการศึกษา\"&ปก!C16&\"  (เวลาเรียน\"&\"  \"&\"\"&ปก!C28&\" \"&\"ชั่วโมง : ปี)\"","v":"ชั้นประถมศึกษาปีที่{{โปรดกรอกข้อมูล}}    ปีการศึกษา2567  (เวลาเรียน  120 ชั่วโมง : ปี)"}]
["เลขที่","เลขประจำตัว","ชื่อ - ชื่อสกุล","รวมเวลาเรียน\nภาคเรียนที่ 1 \n(ชั่วโมง)",null,null,null,"รวมเวลาเรียน\nตลอดปีการศึกษา(ชั่วโมง)",null,null,null,"มาเรียน\nร้อยละ\n(เวลาเรียน\nตลอดปี)","สถานะ\nนักเรียน\nปัจจุบัน"]
[]
[]
[null,null,null,"มา","ขาด","ลา","ป่วย","มา","ขาด","ลา","ป่วย"]
[]
[]
[{"$f":"ใส่ชื่อ!A2","v":0},{"$f":"ใส่ชื่อ!C2","v":0},{"$f":"CONCATENATE(ใส่ชื่อ!D2&ใส่ชื่อ!E2&\"  \"&ใส่ชื่อ!F2)","v":"  "},{"$f":"IF(C9=\"\",\"\",IF(M9=\"\",\"\",IF(M9<>\"ปกติ\",0,$D$59-E9-F9-G9)))","v":60},null,null,null,{"$f":"IF(C9=\"\",\"\",IF(M9=\"\",\"\",IF(M9<>\"ปกติ\",0,$H$59-I9-J9-K9)))","v":120},null,null,null,{"$f":"IF(ปก!$C$28=0,\"-\",IF(M9=\"\",\"\",SUM(H9*100)/ปก!$C$28))","v":100},"ปกติ"]
[{"$f":"ใส่ชื่อ!A3","v":0},{"$f":"ใส่ชื่อ!C3","v":0},{"$f":"CONCATENATE(ใส่ชื่อ!D3&ใส่ชื่อ!E3&\"  \"&ใส่ชื่อ!F3)","v":"  "},60,null,null,null,{"$f":"IF(C10=\"\",\"\",IF(M10=\"\",\"\",IF(M10<>\"ปกติ\",0,$H$59-I10-J10-K10)))","v":120},null,null,null,{"$f":"IF(ปก!$C$28=0,\"-\",IF(M10=\"\",\"\",SUM(H10*100)/ปก!$C$28))","v":100},"ปกติ"]
[{"$f":"ใส่ชื่อ!A4","v":0},{"$f":"ใส่ชื่อ!C4","v":0},{"$f":"CONCATENATE(ใส่ชื่อ!D4&ใส่ชื่อ!E4&\"  \"&ใส่ชื่อ!F4)","v":"  "},60,null,null,null,120,null,null,null,{"$f":"IF(ปก!$C$28=0,\"-\",IF(M11=\"\",\"\",SUM(H11*100)/ปก!$C$28))","v":100},"ปกติ"]
[{"$f":"ใส่ชื่อ!A5","v":0},{"$f":"ใส่ชื่อ!C5","v":0},{"$f":"CONCATENATE(ใส่ชื่อ!D5&ใส่ชื่อ!E5&\"  \"&ใส่ชื่อ!F5)","v":"  "},60,null,null,null,120,null,null,null,{"$f":"IF(ปก!$C$28=0,\"-\",IF(M12=\"\",\"\",SUM(H12*100)/ปก!$C$28))","v":100},"ปกติ"]
[{"$f":"ใส่ชื่อ!A6","v":0},{"$f":"ใส่ชื่อ!C6","v":0},{"$f":"CONCATENATE(ใส่ชื่อ!D6&ใส่ชื่อ!E6&\"  \"&ใส่ชื่อ!F6)","v":"  "},60,null,null,null,120,null,null,null,{"$f":"IF(ปก!$C$28=0,\"-\",IF(M13=\"\",\"\",SUM(H13*100)/ปก!$C$28))","v":100},"ปกติ"]
[{"$f":"ใส่ชื่อ!A7","v":0},{"$f":"ใส่ชื่อ!C7","v":0},{"$f":"CONCATENATE(ใส่ชื่อ!D7&ใส่ชื่อ!E7&\"  \"&ใส่ชื่อ!F7)","v":"  "},60,null,null,null,120,null,null,null,{"$f":"IF(ปก!$C$28=0,\"-\",IF(M14=\"\",\"\",SUM(H14*100)/ปก!$C$28))","v":100},"ปกติ"]
[{"$f":"ใส่ชื่อ!A8","v":0},{"$f":"ใส่ชื่อ!C8","v":0},{"$f":"CONCATENATE(ใส่ชื่อ!D8&ใส่ชื่อ!E8&\"  \"&ใส่ชื่อ!F8)","v":"  "},60,null,null,null,120,null,null,null,{"$f":"IF(ปก!$C$28=0,\"-\",IF(M15=\"\",\"\",SUM(H15*100)/ปก!$C$28))","v":100},"ปกติ"]
[{"$f":"ใส่ชื่อ!A9","v":0},{"$f":"ใส่ชื่อ!C9","v":0},{"$f":"CONCATENATE(ใส่ชื่อ!D9&ใส่ชื่อ!E9&\"  \"&ใส่ชื่อ!F9)","v":"  "},60,null,null,null,120,null,null,null,{"$f":"IF(ปก!$C$28=0,\"-\",IF(M16=\"\",\"\",SUM(H16*100)/ปก!$C$28))","v":100},"ปกติ"]
[{"$f":"ใส่ชื่อ!A10","v":0},{"$f":"ใส่ชื่อ!C10","v":0},{"$f":"CONCATENATE(ใส่ชื่อ!D10&ใส่ชื่อ!E10&\"  \"&ใส่ชื่อ!F10)","v":"  "},60,null,null,null,120,null,null,null,{"$f":"IF(ปก!$C$28=0,\"-\",IF(M17=\"\",\"\",SUM(H17*100)/ปก!$C$28))","v":100},"ปกติ"]
[{"$f":"ใส่ชื่อ!A11","v":0},{"$f":"ใส่ชื่อ!C11","v":0},{"$f":"CONCATENATE(ใส่ชื่อ!D11&ใส่ชื่อ!E11&\"  \"&ใส่ชื่อ!F11)","v":"  "},60,null,null,null,120,null,null,null,{"$f":"IF(ปก!$C$28=0,\"-\",IF(M18=\"\",\"\",SUM(H18*100)/ปก!$C$28))","v":100},"ปกติ"]
[{"$f":"ใส่ชื่อ!A12","v":0},{"$f":"ใส่ชื่อ!C12","v":0},{"$f":"CONCATENATE(ใส่ชื่อ!D12&ใส่ชื่อ!E12&\"  \"&ใส่ชื่อ!F12)","v":"  "},60,null,null,null,120,null,null,null,{"$f":"IF(ปก!$C$28=0,\"-\",IF(M19=\"\",\"\",SUM(H19*100)/ปก!$C$28))","v":100},"ปกติ"]
[{"$f":"ใส่ชื่อ!A13","v":0},{"$f":"ใส่ชื่อ!C13","v":0},{"$f":"CONCATENATE(ใส่ชื่อ!D13&ใส่ชื่อ!E13&\"  \"&ใส่ชื่อ!F13)","v":"  "},60,null,null,null,120,null,null,null,{"$f":"IF(ปก!$C$28=0,\"-\",IF(M20=\"\",\"\",SUM(H20*100)/ปก!$C$28))","v":100},"ปกติ"]
[{"$f":"ใส่ชื่อ!A14","v":0},{"$f":"ใส่ชื่อ!C14","v":0},{"$f":"CONCATENATE(ใส่ชื่อ!D14&ใส่ชื่อ!E14&\"  \"&ใส่ชื่อ!F14)","v":"  "},60,null,null,null,120,null,null,null,{"$f":"IF(ปก!$C$28=0,\"-\",IF(M21=\"\",\"\",SUM(H21*100)/ปก!$C$28))","v":100},"ปกติ"]
[{"$f":"ใส่ชื่อ!A15","v":0},{"$f":"ใส่ชื่อ!C15","v":0},{"$f":"CONCATENATE(ใส่ชื่อ!D15&ใส่ชื่อ!E15&\"  \"&ใส่ชื่อ!F15)","v":"  "},60,null,null,null,120,null,null,null,{"$f":"IF(ปก!$C$28=0,\"-\",IF(M22=\"\",\"\",SUM(H22*100)/ปก!$C$28))","v":100},"ปกติ"]
[{"$f":"ใส่ชื่อ!A16","v":0},{"$f":"ใส่ชื่อ!C16","v":0},{"$f":"CONCATENATE(ใส่ชื่อ!D16&ใส่ชื่อ!E16&\"  \"&ใส่ชื่อ!F16)","v":"  "},60,null,null,null,120,null,null,null,{"$f":"IF(ปก!$C$28=0,\"-\",IF(M23=\"\",\"\",SUM(H23*100)/ปก!$C$28))","v":100},"ปกติ"]
[{"$f":"ใส่ชื่อ!A17","v":0},{"$f":"ใส่ชื่อ!C17","v":0},{"$f":"CONCATENATE(ใส่ชื่อ!D17&ใส่ชื่อ!E17&\"  \"&ใส่ชื่อ!F17)","v":"  "},60,null,null,null,120,null,null,null,{"$f":"IF(ปก!$C$28=0,\"-\",IF(M24=\"\",\"\",SUM(H24*100)/ปก!$C$28))","v":100},"ปกติ"]
[{"$f":"ใส่ชื่อ!A18","v":0},{"$f":"ใส่ชื่อ!C18","v":0},{"$f":"CONCATENATE(ใส่ชื่อ!D18&ใส่ชื่อ!E18&\"  \"&ใส่ชื่อ!F18)","v":"  "},60,null,null,null,120,null,null,null,{"$f":"IF(ปก!$C$28=0,\"-\",IF(M25=\"\",\"\",SUM(H25*100)/ปก!$C$28))","v":100},"ปกติ"]
[{"$f":"ใส่ชื่อ!A19","v":0},{"$f":"ใส่ชื่อ!C19","v":0},{"$f":"CONCATENATE(ใส่ชื่อ!D19&ใส่ชื่อ!E19&\"  \"&ใส่ชื่อ!F19)","v":"  "},60,null,null,null,120,null,null,null,{"$f":"IF(ปก!$C$28=0,\"-\",IF(M26=\"\",\"\",SUM(H26*100)/ปก!$C$28))","v":100},"ปกติ"]
[{"$f":"ใส่ชื่อ!A20","v":0},{"$f":"ใส่ชื่อ!C20","v":0},{"$f":"CONCATENATE(ใส่ชื่อ!D20&ใส่ชื่อ!E20&\"  \"&ใส่ชื่อ!F20)","v":"  "},60,null,null,null,120,null,null,null,{"$f":"IF(ปก!$C$28=0,\"-\",IF(M27=\"\",\"\",SUM(H27*100)/ปก!$C$28))","v":100},"ปกติ"]
[{"$f":"ใส่ชื่อ!A21","v":0},{"$f":"ใส่ชื่อ!C21","v":0},{"$f":"CONCATENATE(ใส่ชื่อ!D21&ใส่ชื่อ!E21&\"  \"&ใส่ชื่อ!F21)","v":"  "},60,null,null,null,120,null,null,null,{"$f":"IF(ปก!$C$28=0,\"-\",IF(M28=\"\",\"\",SUM(H28*100)/ปก!$C$28))","v":100},"ปกติ"]
[{"$f":"ใส่ชื่อ!A22","v":0},{"$f":"ใส่ชื่อ!C22","v":0},{"$f":"CONCATENATE(ใส่ชื่อ!D22&ใส่ชื่อ!E22&\"  \"&ใส่ชื่อ!F22)","v":"  "},60,null,null,null,120,null,null,null,{"$f":"IF(ปก!$C$28=0,\"-\",IF(M29=\"\",\"\",SUM(H29*100)/ปก!$C$28))","v":100},"ปกติ"]
[{"$f":"ใส่ชื่อ!A23","v":0},{"$f":"ใส่ชื่อ!C23","v":0},{"$f":"CONCATENATE(ใส่ชื่อ!D23&ใส่ชื่อ!E23&\"       \"&ใส่ชื่อ!F23)","v":"       "},60,null,null,null,120,null,null,null,{"$f":"IF(ปก!$C$28=0,\"-\",IF(M30=\"\",\"\",SUM(H30*100)/ปก!$C$28))","v":100},"ปกติ"]
[{"$f":"ใส่ชื่อ!A24","v":0},{"$f":"ใส่ชื่อ!C24","v":0},{"$f":"CONCATENATE(ใส่ชื่อ!D24&ใส่ชื่อ!E24&\"       \"&ใส่ชื่อ!F24)","v":"       "},"",null,null,null,"",null,null,null,{"$f":"IF(ปก!$C$28=0,\"-\",IF(M31=\"\",\"\",SUM(H31*100)/ปก!$C$28))","v":""}]
[{"$f":"ใส่ชื่อ!A25","v":0},{"$f":"ใส่ชื่อ!C25","v":0},{"$f":"CONCATENATE(ใส่ชื่อ!D25&ใส่ชื่อ!E25&\"       \"&ใส่ชื่อ!F25)","v":"       "},"",null,null,null,"",null,null,null,{"$f":"IF(ปก!$C$28=0,\"-\",IF(M32=\"\",\"\",SUM(H32*100)/ปก!$C$28))","v":""}]
[{"$f":"ใส่ชื่อ!A26","v":0},{"$f":"ใส่ชื่อ!C26","v":0},{"$f":"CONCATENATE(ใส่ชื่อ!D26&ใส่ชื่อ!E26&\"       \"&ใส่ชื่อ!F26)","v":"       "},"",null,null,null,"",null,null,null,{"$f":"IF(ปก!$C$28=0,\"-\",IF(M33=\"\",\"\",SUM(H33*100)/ปก!$C$28))","v":""}]
[{"$f":"ใส่ชื่อ!A27","v":0},{"$f":"ใส่ชื่อ!C27","v":0},{"$f":"CONCATENATE(ใส่ชื่อ!D27&ใส่ชื่อ!E27&\"       \"&ใส่ชื่อ!F27)","v":"       "},"",null,null,null,"",null,null,null,{"$f":"IF(ปก!$C$28=0,\"-\",IF(M34=\"\",\"\",SUM(H34*100)/ปก!$C$28))","v":""}]
[{"$f":"ใส่ชื่อ!A28","v":0},{"$f":"ใส่ชื่อ!C28","v":0},{"$f":"CONCATENATE(ใส่ชื่อ!D28&ใส่ชื่อ!E28&\"       \"&ใส่ชื่อ!F28)","v":"       "},"",null,null,null,"",null,null,null,{"$f":"IF(ปก!$C$28=0,\"-\",IF(M35=\"\",\"\",SUM(H35*100)/ปก!$C$28))","v":""}]
[{"$f":"ใส่ชื่อ!A29","v":0},{"$f":"ใส่ชื่อ!C29","v":0},{"$f":"CONCATENATE(ใส่ชื่อ!D29&ใส่ชื่อ!E29&\"       \"&ใส่ชื่อ!F29)","v":"       "},"",null,null,null,"",null,null,null,{"$f":"IF(ปก!$C$28=0,\"-\",IF(M36=\"\",\"\",SUM(H36*100)/ปก!$C$28))","v":""}]
[{"$f":"ใส่ชื่อ!A30","v":0},{"$f":"ใส่ชื่อ!C30","v":0},{"$f":"CONCATENATE(ใส่ชื่อ!D30&ใส่ชื่อ!E30&\"       \"&ใส่ชื่อ!F30)","v":"       "},"",null,null,null,"",null,null,null,{"$f":"IF(ปก!$C$28=0,\"-\",IF(M37=\"\",\"\",SUM(H37*100)/ปก!$C$28))","v":""}]
[{"$f":"ใส่ชื่อ!A31","v":0},{"$f":"ใส่ชื่อ!C31","v":0},{"$f":"CONCATENATE(ใส่ชื่อ!D31&ใส่ชื่อ!E31&\"       \"&ใส่ชื่อ!F31)","v":"       "},"",null,null,null,"",null,null,null,{"$f":"IF(ปก!$C$28=0,\"-\",IF(M38=\"\",\"\",SUM(H38*100)/ปก!$C$28))","v":""}]
[{"$f":"ใส่ชื่อ!A32","v":0},{"$f":"ใส่ชื่อ!C32","v":0},{"$f":"CONCATENATE(ใส่ชื่อ!D32&ใส่ชื่อ!E32&\"       \"&ใส่ชื่อ!F32)","v":"       "},"",null,null,null,"",null,null,null,{"$f":"IF(ปก!$C$28=0,\"-\",IF(M39=\"\",\"\",SUM(H39*100)/ปก!$C$28))","v":""}]
[{"$f":"ใส่ชื่อ!A33","v":0},{"$f":"ใส่ชื่อ!C33","v":0},{"$f":"CONCATENATE(ใส่ชื่อ!D33&ใส่ชื่อ!E33&\"       \"&ใส่ชื่อ!F33)","v":"       "},"",null,null,null,"",null,null,null,{"$f":"IF(ปก!$C$28=0,\"-\",IF(M40=\"\",\"\",SUM(H40*100)/ปก!$C$28))","v":""}]
[{"$f":"ใส่ชื่อ!A34","v":0},{"$f":"ใส่ชื่อ!C34","v":0},{"$f":"CONCATENATE(ใส่ชื่อ!D34&ใส่ชื่อ!E34&\"       \"&ใส่ชื่อ!F34)","v":"       "},"",null,null,null,"",null,null,null,{"$f":"IF(ปก!$C$28=0,\"-\",IF(M41=\"\",\"\",SUM(H41*100)/ปก!$C$28))","v":""}]
[{"$f":"ใส่ชื่อ!A35","v":0},{"$f":"ใส่ชื่อ!C35","v":0},{"$f":"CONCATENATE(ใส่ชื่อ!D35&ใส่ชื่อ!E35&\"       \"&ใส่ชื่อ!F35)","v":"       "},"",null,null,null,"",null,null,null,{"$f":"IF(ปก!$C$28=0,\"-\",IF(M42=\"\",\"\",SUM(H42*100)/ปก!$C$28))","v":""}]
[{"$f":"ใส่ชื่อ!A36","v":0},{"$f":"ใส่ชื่อ!C36","v":0},{"$f":"CONCATENATE(ใส่ชื่อ!D36&ใส่ชื่อ!E36&\"       \"&ใส่ชื่อ!F36)","v":"       "},"",null,null,null,"",null,null,null,{"$f":"IF(ปก!$C$28=0,\"-\",IF(M43=\"\",\"\",SUM(H43*100)/ปก!$C$28))","v":""}]
[{"$f":"ใส่ชื่อ!A37","v":0},{"$f":"ใส่ชื่อ!C37","v":0},{"$f":"CONCATENATE(ใส่ชื่อ!D37&ใส่ชื่อ!E37&\"       \"&ใส่ชื่อ!F37)","v":"       "},"",null,null,null,"",null,null,null,{"$f":"IF(ปก!$C$28=0,\"-\",IF(M44=\"\",\"\",SUM(H44*100)/ปก!$C$28))","v":""}]
[{"$f":"ใส่ชื่อ!A38","v":0},{"$f":"ใส่ชื่อ!C38","v":0},{"$f":"CONCATENATE(ใส่ชื่อ!D38&ใส่ชื่อ!E38&\"       \"&ใส่ชื่อ!F38)","v":"       "},"",null,null,null,"",null,null,null,{"$f":"IF(ปก!$C$28=0,\"-\",IF(M45=\"\",\"\",SUM(H45*100)/ปก!$C$28))","v":""}]
[{"$f":"ใส่ชื่อ!A39","v":0},{"$f":"ใส่ชื่อ!C39","v":0},{"$f":"CONCATENATE(ใส่ชื่อ!D39&ใส่ชื่อ!E39&\"       \"&ใส่ชื่อ!F39)","v":"       "},"",null,null,null,"",null,null,null,{"$f":"IF(ปก!$C$28=0,\"-\",IF(M46=\"\",\"\",SUM(H46*100)/ปก!$C$28))","v":""}]
[{"$f":"ใส่ชื่อ!A40","v":0},{"$f":"ใส่ชื่อ!C40","v":0},{"$f":"CONCATENATE(ใส่ชื่อ!D40&ใส่ชื่อ!E40&\"       \"&ใส่ชื่อ!F40)","v":"       "},"",null,null,null,"",null,null,null,{"$f":"IF(ปก!$C$28=0,\"-\",IF(M47=\"\",\"\",SUM(H47*100)/ปก!$C$28))","v":""}]
[{"$f":"ใส่ชื่อ!A41","v":0},{"$f":"ใส่ชื่อ!C41","v":0},{"$f":"CONCATENATE(ใส่ชื่อ!D41&ใส่ชื่อ!E41&\"       \"&ใส่ชื่อ!F41)","v":"       "},"",null,null,null,"",null,null,null,{"$f":"IF(ปก!$C$28=0,\"-\",IF(M48=\"\",\"\",SUM(H48*100)/ปก!$C$28))","v":""}]
[{"$f":"ใส่ชื่อ!A42","v":0},{"$f":"ใส่ชื่อ!C42","v":0},{"$f":"CONCATENATE(ใส่ชื่อ!D42&ใส่ชื่อ!E42&\"       \"&ใส่ชื่อ!F42)","v":"       "},"",null,null,null,"",null,null,null,{"$f":"IF(ปก!$C$28=0,\"-\",IF(M49=\"\",\"\",SUM(H49*100)/ปก!$C$28))","v":""}]
[{"$f":"ใส่ชื่อ!A43","v":0},{"$f":"ใส่ชื่อ!C43","v":0},{"$f":"CONCATENATE(ใส่ชื่อ!D43&ใส่ชื่อ!E43&\"       \"&ใส่ชื่อ!F43)","v":"       "},"",null,null,null,"",null,null,null,{"$f":"IF(ปก!$C$28=0,\"-\",IF(M50=\"\",\"\",SUM(H50*100)/ปก!$C$28))","v":""}]
[{"$f":"ใส่ชื่อ!A44","v":0},{"$f":"ใส่ชื่อ!C44","v":0},{"$f":"CONCATENATE(ใส่ชื่อ!D44&ใส่ชื่อ!E44&\"       \"&ใส่ชื่อ!F44)","v":"       "},"",null,null,null,"",null,null,null,{"$f":"IF(ปก!$C$28=0,\"-\",IF(M51=\"\",\"\",SUM(H51*100)/ปก!$C$28))","v":""}]
[{"$f":"ใส่ชื่อ!A45","v":0},{"$f":"ใส่ชื่อ!C45","v":0},{"$f":"CONCATENATE(ใส่ชื่อ!D45&ใส่ชื่อ!E45&\"       \"&ใส่ชื่อ!F45)","v":"       "},"",null,null,null,"",null,null,null,{"$f":"IF(ปก!$C$28=0,\"-\",IF(M52=\"\",\"\",SUM(H52*100)/ปก!$C$28))","v":""}]
[{"$f":"ใส่ชื่อ!A46","v":0},{"$f":"ใส่ชื่อ!C46","v":0},{"$f":"CONCATENATE(ใส่ชื่อ!D46&ใส่ชื่อ!E46&\"       \"&ใส่ชื่อ!F46)","v":"       "},"",null,null,null,"",null,null,null,{"$f":"IF(ปก!$C$28=0,\"-\",IF(M53=\"\",\"\",SUM(H53*100)/ปก!$C$28))","v":""}]
[{"$f":"ใส่ชื่อ!A47","v":0},{"$f":"ใส่ชื่อ!C47","v":0},{"$f":"CONCATENATE(ใส่ชื่อ!D47&ใส่ชื่อ!E47&\"       \"&ใส่ชื่อ!F47)","v":"       "},"",null,null,null,"",null,null,null,{"$f":"IF(ปก!$C$28=0,\"-\",IF(M54=\"\",\"\",SUM(H54*100)/ปก!$C$28))","v":""}]
[{"$f":"ใส่ชื่อ!A48","v":0},{"$f":"ใส่ชื่อ!C48","v":0},{"$f":"CONCATENATE(ใส่ชื่อ!D48&ใส่ชื่อ!E48&\"       \"&ใส่ชื่อ!F48)","v":"       "},"",null,null,null,"",null,null,null,{"$f":"IF(ปก!$C$28=0,\"-\",IF(M55=\"\",\"\",SUM(H55*100)/ปก!$C$28))","v":""}]
[{"$f":"ใส่ชื่อ!A49","v":0},{"$f":"ใส่ชื่อ!C49","v":0},{"$f":"CONCATENATE(ใส่ชื่อ!D49&ใส่ชื่อ!E49&\"       \"&ใส่ชื่อ!F49)","v":"       "},"",null,null,null,"",null,null,null,{"$f":"IF(ปก!$C$28=0,\"-\",IF(M56=\"\",\"\",SUM(H56*100)/ปก!$C$28))","v":""}]
[{"$f":"ใส่ชื่อ!A50","v":0},{"$f":"ใส่ชื่อ!C50","v":0},{"$f":"CONCATENATE(ใส่ชื่อ!D50&ใส่ชื่อ!E50&\"       \"&ใส่ชื่อ!F50)","v":"       "},"",null,null,null,"",null,null,null,{"$f":"IF(ปก!$C$28=0,\"-\",IF(M57=\"\",\"\",SUM(H57*100)/ปก!$C$28))","v":""}]
[{"$f":"ใส่ชื่อ!A51","v":0},{"$f":"ใส่ชื่อ!C51","v":0},{"$f":"CONCATENATE(ใส่ชื่อ!D51&ใส่ชื่อ!E51&\"       \"&ใส่ชื่อ!F51)","v":"       "},"",null,null,null,"",null,null,null,{"$f":"IF(ปก!$C$28=0,\"-\",IF(M58=\"\",\"\",SUM(H58*100)/ปก!$C$28))","v":""}]
[null,null,null,{"$f":"ปก!C28/2","v":60},null,null,null,{"$f":"ปก!C28","v":120},null,null,null,{"$f":"IF($F$1=0,\"\",SUM(D59*100)/$F$1)","v":""}]

{"sheet":"ปก","index":4,"n_rows":54,"n_cols":53,"rows_kept":54,"cut":false,"hidden":false,"merged":[[37,1,39,22],[25,17,25,22],[26,17,26,22],[20,29,20,46],[21,29,21,46],[15,44,15,45],[23,39,23,40],[24,29,24,30],[24,25,24,28],[29,17,29,22],[30,17,30,22],[24,16,24,22],[30,2,30,13],[27,2,27,5],[24,2,24,13],[26,2,26,13],[33,1,36,22],[29,31,29,33],[30,43,30,45],[22,43,22,44],[28,46,28,48],[40,1,40,22],[29,2,29,13],[27,17,27,22],[28,17,28,22],[30,34,30,36],[5,24,5,52],[13,2,13,13],[20,2,20,13],[21,2,21,13],[16,2,16,13],[17,2,17,13],[15,2,15,13],[23,37,23,38],[6,24,6,52],[20,47,22,51],[13,31,13,40],[14,28,14,40],[22,29,22,30],[22,31,22,32],[15,28,15,29],[9,39,9,42],[22,41,22,42],[22,33,22,34],[22,35,22,36],[2,1,3,13],[12,2,12,13],[7,1,8,1],[25,2,25,13],[28,2,28,13],[4,2,4,13],[5,2,5,13],[6,2,6,13],[9,2,9,13],[10,2,10,13],[11,2,11,13],[7,2,8,13],[16,1,17,1],[18,2,19,13],[18,1,19,1],[12,1,13,1],[14,2,14,13],[22,2,22,3],[22,8,22,13],[22,4,22,7],[23,2,23,13],[26,49,26,51],[26,47,26,48],[25,37,25,38],[25,25,25,36],[23,29,23,30],[23,31,23,32],[30,28,30,30],[29,25,29,27],[30,25,30,27],[29,28,29,30],[28,31,28,33],[23,35,23,36],[23,25,23,28],[28,25,28,27],[28,28,28,30],[26,25,26,36],[27,25,27,27],[25,47,25,48],[24,31,24,32],[29,34,29,36],[23,33,23,34],[30,46,30,48],[1,49,1,51],[26,37,26,38],[24,35,24,36],[24,33,24,34],[24,37,24,38],[24,39,24,40],[24,41,24,42],[24,43,24,44],[24,45,24,46],[23,41,23,42],[23,43,23,44],[25,39,25,46],[26,39,26,46],[23,45,23,46],[7,24,7,52],[11,32,11,37],[17,31,17,40],[20,25,22,28],[22,45,22,46],[22,37,22,38],[22,39,22,40],[24,47,24,51],[23,47,23,51],[25,49,25,51],[41,40,41,46],[29,37,29,39],[29,40,29,42],[29,43,29,45],[29,46,29,48],[39,25,39,38],[39,39,39,51],[28,40,28,42],[27,40,27,51],[28,43,28,45],[27,28,27,39],[28,34,28,36],[28,37,28,39],[29,49,29,51],[30,31,30,33],[32,24,32,52],[30,37,30,39],[30,40,30,42],[30,49,30,51],[40,40,40,47],[28,49,28,51],[40,26,40,32],[41,26,41,32]]}
["                           "]
[null,null,null,null,null,null,null,null,null,null,null,null,null,null,null,null,null,null,null,null,null,null,null,null,null,null,null,null,null,null,null,null,null,null,null,null,null,null,null,null,null,null,null,null,null,null,null,null,null,"ปถ.05:",null,null,"ป"]
[null,"ข้อมูลพื้นฐานสถานศึกษา"]
[]
[null,"ชื่อสถานศึกษา :","โรงเรียนเทศบาลโพธิ์ประทับช้าง"]
[null,"อำเภอ :","โพธิ์ประทับช้าง",null,null,null,null,null,null,null,null,null,null,null,null,null,null,null,null,null,null,null,null,null,"แบบบันทึกผลการพัฒนาคุณภาพผู้เรียนรายวิชา"]
[null,"จังหวัด :","พิจิตร",null,null,null,null,null,null,null,null,null,null,null,null,null,null,null,null,null,null,null,null,null,{"$f":"IF(C5=\"\",\"\",C5)","v":"โรงเรียนเทศบาลโพธิ์ประทับช้าง"}]
[null,"สังกัด (ชื่อ อปท.) :","เทศบาลตำบลโพธิ์ประทับช้าง",null,null,null,null,null,null,null,null,null,null,null,null,null,null,null,null,null,null,null,null,null,{"$f":"IF(COUNTIF(C6:C8,\"\"),\"{{โปรดกรอกข้อมูลที่อยู่และต้นสังกัดให้ครบถ้วน}}\",\"อำเภอ\"&C6&\"  \"&\"จังหวัด\"&C7&\"   สังกัด\"&C8)","v":"อำเภอโพธิ์ประทับช้าง  จังหวัดพิจิตร   สังกัดเทศบาลตำบลโพธิ์ประทับช้าง"}]
[]
[null,"ชื่อผู้อำนวยการฯ :","นายธวัช  ขาวผ่อง",null,null,null,null,null,null,null,null,null,null,null,null,null,null,null,null,null,null,null,null,null,null,null,null,null,null,null,null,null,null,null,null,null,"ปีการศึกษา",null,null,{"$f":"IF(C16=\"\",\"\",C16)","v":2567}]
[null,"ชื่อรองผู้อำนวยการฯ :","นายนิธิโรจน์  วัฒนาบัวยิ้ม",null,null,null,null,null,null,null,null,null,null,null,null,null,null,null,null,null,null,null,null,null,null,null,null,null,null,null,null,null,null,null,null,null,null,{"$f":"IF(C21=\"\",\"ชั้นประถมศึกษาปีที่{{โปรดกรอกข้อมูล}}\",\"ชั้นประถมศึกษาปีที่ \"&C21&\"/\"&C22)","v":"ชั้นประถมศึกษาปีที่{{โปรดกรอกข้อมูล}}"},null,{"$f":"IF(C18=\"\",\"ระดับ{{โปรดเลือกข้อมูล}}\",\"ระดับ\"&ปก!C18)","v":"ระดับประถมศึกษาตอนต้น(ป.1-3)"}]
[null,"ตำแหน่งครูวัดผล :","หัวหน้างานวัดผลและประเมินผล",null,null,null,null,null,null,null,null,null,null,null,null,null,null,null,null,null,null,null,null,null,null,null,null,null,null,null,null,null,{"$f":"IF(I23=\"\",\"\",\"แผนการเรียน\")","v":""},null,null,null,null,null,null,{"$f":"IF(I23=\"\",\"\",I23)","v":""}]
[null,"ตำแหน่งครูฝ่ายวิชาการ :"]
[null,null,"หัวหน้าฝ่ายวิชาการ",null,null,null,null,null,null,null,null,null,null,null,null,null,null,null,null,null,null,null,null,null,null,"กลุ่มสาระการเรียนรู้",null,null,null,null,null,{"$f":"IF(C24=\"\",\"{{โปรดเลือกกลุ่มสาระการเรียนรู้}}\",C24)","v":"{{โปรดเลือกกลุ่มสาระการเรียนรู้}}"},null,null,null,null,null,null,null,null,null,{"$f":"IF(C25=\"\",\"สาระการเรียนรู้{{โปรดเลือกข้อมูล}}\",\"สาระการเรียนรู้\"&C25)","v":"สาระการเรียนรู้{{โปรดเลือกข้อมูล}}"}]
[null,"ภาคเรียนที่","1 - 2",null,null,null,null,null,null,null,null,null,null,null,null,null,null,{"$f":"IF(C31=\"\",\"\",IF(COUNTA(C31),\",\"))","v":""},null,null,null,null,null,null,null,"รายวิชา",null,null,{"$f":"IF(C26=\"\",\"{{โปรดกรอกข้อมูลรายวิชา}}\",C26)","v":"{{โปรดกรอกข้อมูลรายวิชา}}"},null,null,null,null,null,null,null,null,null,null,null,null,"รหัสวิชา",null,null,{"$f":"IF(C27=\"\",\"{{โปรดกรอกรหัสวิชา}}\",C27)","v":"{{โปรดกรอกรหัสวิชา}}"}]
[null,"ปีการศึกษา :",2567,null,null,null,null,null,null,null,null,null,null,null,null,null,null,null,null,null,null,null,null,null,null,"เวลาเรียน",null,null,{"$f":"C28","v":120},null,"ชั่วโมงต่อปี",null,null,null,null,null,null,null,null,null,null,"เวลาเรียน",null,null,{"$f":"IF(AC16=0,\"\",IF(COUNTIF($AC$16,\"40\"),1,IF(COUNTIF($AC$16,\"80\"),2,IF(COUNTIF($AC$16,\"120\"),3,IF(COUNTIF($AC$16,\"160\"),4,IF(COUNTIF($AC$16,\"200\"),5))))))","v":3},null,"ชั่วโมงต่อสัปดาห์"]
[null,"ระดับ :"]
[null,null,"ประถมศึกษาตอนต้น(ป.1-3)",null,null,null,null,null,null,null,null,null,null,null,null,null,null,null,null,null,null,null,null,null,null,null,null,"ครูผู้สอน",null,null,null,{"$f":"IF(C29=\"\",\"{{โปรดกรอกข้อมูลครูผู้สอน}}\",C29)","v":"{{โปรดกรอกข้อมูลครูผู้สอน}}"}]
[null,null,null,null,null,null,null,null,null,null,null,null,null,null,null,null,null,null,null,null,null,null,null,null,null,null,null,"ครูประจำชั้น",null,null,null,{"$f":"IF(C30=\"\",\"{{โปรดกรอกข้อมลครูประจำชั้น}}\",C30&O30&\"    \"&C31)","v":"{{โปรดกรอกข้อมลครูประจำชั้น}}"}]
[]
[null,"ชั้นประถมศึกษาปีที่ :",null,null,null,null,null,null,null,null,null,null,null,null,null,null,null,null,null,null,null,null,null,null,null,"จำนวนนักเรียนทั้งหมด",null,null,null,"สรุปผลการพัฒนาคุณภาพผู้เรียน",null,null,null,null,null,null,null,null,null,null,null,null,null,null,null,null,null,"หมายเหตุ"]
[null,"ห้อง / ทับ :",null,null,null,null,null,null,null,null,null,null,null,null,null,null,null,null,null,null,null,null,null,null,null,null,null,null,null,"จำนวนนักเรียนที่ได้ระดับผลการเรียน"]
[null,"แผนการเรียน :",null,null,"ชื่อแผนการเรียน",null,null,null,null,null,null,null,null,null,null,null,null,null,null,null,null,null,null,null,null,null,null,null,null,4,null,3.5,null,3,null,2.5,null,2,null,1.5,null,1,null,0,null,"มส"]
[null,"กลุ่มสาระการเรียนรู้ :",null,null,null,null,null,null,null,null,null,null,null,null,null,null,null,null,null,null,null,null,null,null,null,{"$f":"SUM(AD24:AW24)","v":0},null,null,null,{"$f":"ประเมินผลการเรียนเทอม2!DY9","v":0},null,{"$f":"ประเมินผลการเรียนเทอม2!DZ9","v":0},null,{"$f":"ประเมินผลการเรียนเทอม2!EA9","v":0},null,{"$f":"ประเมินผลการเรียนเทอม2!EB9","v":0},null,{"$f":"ประเมินผลการเรียนเทอม2!EC9","v":0},null,{"$f":"ประเมินผลการเรียนเทอม2!ED9","v":0},null,{"$f":"ประเมินผลการเรียนเทอม2!EE9","v":0},null,{"$f":"ประเมินผลการเรียนเทอม2!EF9","v":0},null,{"$f":"ประเมินผลการเรียนเทอม2!EH9","v":0}]
[null,"ประเภทวิชา :",null,null,null,null,null,null,null,null,null,null,null,null,null,null,null,null,null,null,null,null,null,null,null,"คิดเป็นร้อยละ",null,null,null,{"$f":"IF(AD24=0,\"\",(AD24*100)/$Z$24)","v":""},null,{"$f":"IF(AF24=0,\"\",(AF24*100)/$Z$24)","v":""},null,{"$f":"IF(AH24=0,\"\",(AH24*100)/$Z$24)","v":""},null,{"$f":"IF(AJ24=0,\"\",(AJ24*100)/$Z$24)","v":""},null,{"$f":"IF(AL24=0,\"\",(AL24*100)/$Z$24)","v":""},null,{"$f":"IF(AN24=0,\"\",(AN24*100)/$Z$24)","v":""},null,{"$f":"IF(AP24=0,\"\",(AP24*100)/$Z$24)","v":""},null,{"$f":"IF(AR24=0,\"\",(AR24*100)/$Z$24)","v":""},null,{"$f":"IF(AT24=0,\"\",(AT24*100)/$Z$24)","v":""}]
[null,"ชื่อวิชา :",null,null,null,null,null,null,null,null,null,null,null,null,null,null,null,null,null,null,null,null,null,null,null,"ร้อยละของนักเรียนที่ได้ผลการเรียนระดับดี(3) ขึ้นไป",null,null,null,null,null,null,null,null,null,null,null,{"$f":"SUM(AD25:AI25)","v":0},null,"ผลการเรียนเฉลี่ยของรายวิชา",null,null,null,null,null,null,null,null,null,{"$f":"IF(Z24=0,\"\",((AD24*4)+(AF24*3.5)+(AH24*3)+(AJ24*2.5)+(AL24*2)+(AN24*1.5)+(AP24*1)+(AR24*0))/Z24)","v":""}]
[null,"รหัสวิชา :",null,null,null,null,null,null,null,null,null,null,null,null,null,null,null,null,null,null,null,null,null,null,null,"ร้อยละของนักเรียนที่ไม่ผ่านการประเมิน",null,null,null,null,null,null,null,null,null,null,null,{"$f":"SUM(AR25:AW25)","v":0},null,"ส่วนเบี่ยงเบนมาตรฐาน",null,null,null,null,null,null,null,null,null,{"$f":"IF(Z24=0,\"\",STDEV(ประเมินผลการเรียนเทอม2!DR7:DR56))","v":""}]
[null,"เวลาเรียน",120,null,null,null,"ชั่วโมงต่อปี",null,null,null,null,null,null,null,null,null,null,null,null,null,null,null,null,null,null,null,null,null,"ผลการประเมินการอ่าน คิด วิเคราะห์ และเขียน",null,null,null,null,null,null,null,null,null,null,null,"ผลการประเมินคุณลักษณะอันพึงประสงค์"]
[null,"ชื่อครูผู้สอน :",null,null,null,null,null,null,null,null,null,null,null,null,null,null,null,null,null,null,null,null,null,null,null,"ผลการประเมิน",null,null,"ดีเยี่ยม",null,null,"ดี",null,null,"ผ่าน",null,null,"ไม่ผ่าน",null,null,"ดีเยี่ยม",null,null,"ดี",null,null,"ผ่าน",null,null,"ไม่ผ่าน"]
[null,"ครูประจำชั้นคนที่ 1 :",null,null,null,null,null,null,null,null,null,null,null,null,null,null,null,null,null,null,null,null,null,null,null,"จำนวนที่ได้",null,null,{"$f":"ประเมินผลการเรียนเทอม2!CJ57","v":0},null,null,{"$f":"ประเมินผลการเรียนเทอม2!CM57","v":0},null,null,{"$f":"ประเมินผลการเรียนเทอม2!CP57","v":0},null,null,{"$f":"ประเมินผลการเรียนเทอม2!CS57","v":0},null,null,{"$f":"ประเมินผลการเรียนเทอม2!CR57","v":0},null,null,{"$f":"ประเมินผลการเรียนเทอม2!CU57","v":0},null,null,{"$f":"ประเมินผลการเรียนเทอม2!CX57","v":0},null,null,{"$f":"ประเมินผลการเรียนเทอม2!DA57","v":0}]
[null,"ครูประจำชั้นคนที่ 2 :",null,null,null,null,null,null,null,null,null,null,null,null,null,null,null,null,null,null,null,null,null,null,null,"คิดเป็นร้อยละ",null,null,{"$f":"IF(Z24=0,\"\",IF(AC30=0,\"\",(AC30*100)/$Z$24))","v":""},null,null,{"$f":"IF(Z24=0,\"\",IF(AF30=0,\"\",(AF30*100)/$Z$24))","v":""},null,null,{"$f":"IF(Z24=0,\"\",IF(AI30=0,\"\",(AI30*100)/$Z$24))","v":""},null,null,{"$f":"IF(Z24=0,\"\",IF(AL30=0,\"\",(AL30*100)/$Z$24))","v":""},null,null,{"$f":"IF(Z24=0,\"\",IF(AO30=0,\"\",(AO30*100)/$Z$24))","v":""},null,null,{"$f":"IF(Z24=0,\"\",IF(AR30=0,\"\",(AR30*100)/$Z$24))","v":""},null,null,{"$f":"IF(Z24=0,\"\",IF(AU30=0,\"\",(AU30*100)/$Z$24))","v":""},null,null,{"$f":"IF(Z24=0,\"\",IF(AX30=0,\"\",(AX30*100)/$Z$24))","v":""}]
[]
[null,null,null,null,null,null,null,null,null,null,null,null,null,null,null,null,null,null,null,null,null,null,null,null,"การอนุมัติผลการพัฒนาคุณภาพผู้เรียน"]
[null,"ระบบจัดทำแบบบันทึกผลการพัฒนาคุณภาพผู้เรียนรายวิชา (ระดับประถมศึกษา)  YEAR2565\nตามหลักสูตรแกนกลางการศึกษาขั้นพื้นฐาน 2551  สำหรับโอนผลการเรียนลงโปรแกรม  Local School\n(ใช้รูปแบบการประเมินโดยเน้นการให้คะแนนชิ้นงาน/ภาระงาน รองรับนักเรียนไม่เกิน 50 คน ใช้กระดาษ A4)",null,null,null,null,null,null,null,null,null,null,null,null,null,null,null,null,null,null,null,null,null,null,null,"ลงชื่อ..............................................ครูผู้สอน",null,null,null,null,null,null,null,null,null,null,null,null,null,null,"ลงชื่อ...........................................หัวหน้ากลุ่มสาระการเรียนรู้"]
[null,null,null,null,null,null,null,null,null,null,null,null,null,null,null,null,null,null,null,null,null,null,null,null,null,{"$f":"IF(C12=\"\",\"ลงชื่อ..............................................{{ใส่ข้อมูลครูวัดผล}}\",\"ลงชื่อ..............................................\"&C12)","v":"ลงชื่อ..............................................หัวหน้างานวัดผลและประเมินผล"},null,null,null,null,null,null,null,null,null,null,null,null,null,null,{"$f":"IF(C14=\"\",\"ลงชื่อ............................................{{กรอกข้อมูลฝ่ายวิชาการ}}\",\"ลงชื่อ............................................\"&C14)","v":"ลงชื่อ............................................หัวหน้าฝ่ายวิชาการ"}]
[]
[null,null,null,null,null,null,null,null,null,null,null,null,null,null,null,null,null,null,null,null,null,null,null,null,null,"เรียนเสนอเพื่อโปรดพิจารณา",null,null,null,null,null,null,null,null,null,null,null,null,null,"การพิจารณา/สั่งการ"]
[null,"จัดทำและพัฒนาโดย : นายพุทธรัตน์ นัยวิกุล ผู้อำนวยการสถานศึกษาโรงเรียนเทศบาล ๒ (วัดสมอราย)\nสังกัดเทศบาลนครนครราชสีมา (คณะทำงานกำหนดแนวทางการวัดและประเมินผล กรมส่งเสริมการปกครองท้องถิ่น)",null,null,null,null,null,null,null,null,null,null,null,null,null,null,null,null,null,null,null,null,null,null,null,"m","เห็นควรควรอนุมัติ",null,null,null,null,"m","เห็นควรนำไปปรับปรุงแก้ไข",null,null,null,null,null,null,"m","อนุมัติ",null,null,"m","ไม่อนุมัติ/ให้นำไปปรับปรุงแก้ไข"]
[]
[null,null,null,null,null,null,null,null,null,null,null,null,null,null,null,null,null,null,null,null,null,null,null,null,null,"ลงชื่อ...........................................รองผู้อำนวยการสถานศึกษา",null,null,null,null,null,null,null,null,null,null,null,null,null,"ลงชื่อ...........................................ผู้อำนวยการสถานศึกษา"]
[null,"สอบถามและเสนอแนะได้ที่ : โทรศัพท์ : 089 846 7383  Line ID : Rongpum  facebook : puttarat naivikul\n\n\n\n\n\n\n\n\n\n\n\n\n\n\n\n\n\n\n  /  facebook : แบบปถ.05 โรงเรียนสังกัด อปท.",null,null,null,null,null,null,null,null,null,null,null,null,null,null,null,null,null,null,null,null,null,null,null,".",{"$f":"IF(C11=\"\",\"{{กรอกชื่อ-สกุลรองผู้อำนวยการ}}\",\"(\"&C11&\")\")","v":"(นายนิธิโรจน์  วัฒนาบัวยิ้ม)"},null,null,null,null,null,null,null,null,null,null,null,null,null,{"$f":"IF(C10=\"\",\"{{กรอกชื่อ-สกุลผู้อำนวยการ}}\",\"(\"&C10&\")\")","v":"(นายธวัช  ขาวผ่อง)"}]
[null,{"$f":"\"ม.\"&C21&\"0\"&C22","v":"ม.0"},{"$f":"IF(C23=\"มัธยมศึกษาตอนต้นทั่วไป\",1,IF(C23=\"วิทย์-คณิต\",1,IF(C23=\"ภาษา-สังคม\",2,IF(C23=\"วิชาชีพ(หลักสูตรคู่ขนาน)\",3))))","v":false}," UPDATE : 18 Sep 2022  สงวนลิขสิทธิ์@2022",null,null,null,null,null,null,null,null,null,null,null,null,null,null,null,null,null,null,null,null,null,null,"   ........../.........../..........",null,null,null,null,null,null,null,null,null,null,null,null,null,"   ........../.........../.........."]
[]
[]
[]
[null,"ลงชื่อ...........................................รองผู้อำนวยการสถานศึกษา",null,null,null,null,null,null,null,null,null,null,"ลงชื่อ...........................................ผู้อำนวยการสถานศึกษา"]
[null,"ลงชื่อ...........................................ปฏิบัติหน้าที่รองผู้อำนวยการฯ",null,null,null,null,null,null,null,null,null,null,"ลงชื่อ...........................................รก.ผู้อำนวยการสถานศึกษา"]
[null,"ลงชื่อ...........................................รักษาการรองผู้อำนวยการฯ"]
[null,"ลงชื่อ...........................................ผู้ช่วยผู้อำนวยการฯ"]
[null,"ลงชื่อ...........................................หัวหน้าฝ่ายวิชาการ"]
[null,"ลงชื่อ...........................................หัวหน้าฝ่ายบริหารวิชาการ"]
[null,"ลงชื่อ...........................................หัวหน้ากลุ่มวิชาการ"]
[null,"ลงชื่อ...........................................หัวหน้ากลุ่มบริหารวิชาการ"]
[null,"ลงชื่อ...........................................ผู้ตรวจสอบ"]

{"sheet":"ประเมินผลการเรียนเทอม1","index":5,"n_rows":164,"n_cols":235,"rows_kept":164,"cut":false,"hidden":false,"merged":[[2,247,4,247],[4,159,5,159],[4,182,5,182],[4,191,5,191],[4,193,5,193],[4,201,5,201],[4,238,5,238],[2,240,4,240],[2,241,4,241],[2,242,4,242],[2,243,4,243],[2,244,4,244],[2,246,4,246],[4,168,5,168],[4,169,5,169],[4,188,5,188],[4,189,5,189],[4,194,5,194],[4,178,5,178],[4,179,5,179],[2,221,3,221],[2,202,3,202],[4,195,5,195],[4,196,5,196],[0,205,0,222],[0,223,0,239],[2,138,5,138],[2,139,5,139],[2,141,2,160],[2,162,3,162],[2,164,2,183],[2,184,3,184],[2,185,3,185],[2,186,3,186],[2,187,2,201],[2,203,3,203],[2,204,3,204],[2,205,2,219],[2,223,2,227],[2,228,3,228],[2,229,3,229],[2,230,4,230],[2,231,2,238],[2,239,4,239],[0,141,0,163],[0,164,0,186],[0,187,0,204],[4,237,5,237],[1,0,5,0],[1,1,5,1],[2,5,2,24],[2,26,3,26],[2,3,5,3],[2,2,5,2],[4,20,5,20],[4,21,5,21],[2,51,2,65],[3,4,4,4],[4,28,5,28],[4,29,5,29],[4,30,5,30],[4,31,5,31],[4,32,5,32],[4,33,5,33],[4,39,5,39],[4,40,5,40],[4,41,5,41],[4,42,5,42],[4,43,5,43],[4,34,5,34],[4,46,5,46],[4,47,5,47],[4,101,5,101],[4,102,5,102],[4,57,5,57],[4,58,5,58],[0,5,0,27],[0,28,0,50],[0,87,0,103],[0,51,0,68],[0,69,0,86],[2,28,2,47],[4,35,5,35],[4,36,5,36],[4,37,5,37],[4,38,5,38],[4,44,5,44],[4,48,5,48],[4,45,5,45],[2,25,4,25],[2,27,4,27],[2,84,4,84],[2,86,4,86],[4,22,5,22],[4,23,5,23],[4,24,5,24],[7,121,7,122],[7,123,8,123],[2,104,4,104],[2,105,4,105],[2,110,4,110],[2,111,4,111],[2,106,4,106],[2,107,4,107],[2,108,4,108],[2,113,4,113],[2,115,4,115],[2,112,4,112],[2,119,4,119],[4,158,5,158],[4,160,5,160],[4,166,5,166],[4,167,5,167],[4,164,5,164],[4,156,5,156],[4,157,5,157],[4,170,5,170],[4,171,5,171],[4,100,5,100],[4,66,5,66],[4,68,5,68],[2,48,3,48],[4,172,5,172],[4,173,5,173],[4,174,5,174],[4,165,5,165],[4,175,5,175],[2,49,3,49],[2,50,3,50],[2,87,2,91],[2,68,3,68],[2,69,2,83],[2,85,3,85],[2,92,3,92],[2,95,2,102],[2,94,4,94],[2,66,3,66],[2,67,3,67],[2,93,3,93],[4,93,5,93],[4,50,5,50],[4,62,5,62],[4,51,5,51],[4,52,5,52],[4,53,5,53],[4,54,5,54],[4,55,5,55],[4,56,5,56],[4,92,5,92],[4,87,5,87],[4,88,5,88],[4,89,5,89],[4,90,5,90],[4,91,5,91],[4,64,5,64],[4,65,5,65],[4,63,5,63],[4,59,5,59],[4,60,5,60],[4,61,5,61],[0,244,0,255],[2,161,4,161],[2,163,4,163],[2,220,4,220],[2,222,4,222],[2,248,4,248],[2,249,4,249],[2,251,4,251],[2,253,4,253],[2,255,4,255],[4,234,5,234],[4,235,5,235],[4,236,5,236],[4,181,5,181],[4,183,5,183],[4,190,5,190],[4,192,5,192],[4,200,5,200],[4,224,5,224],[4,225,5,225],[4,226,5,226],[4,227,5,227],[4,228,5,228],[4,204,5,204],[4,229,5,229],[4,231,5,231],[4,232,5,232],[4,233,5,233],[4,95,5,95],[4,96,5,96],[4,97,5,97],[4,98,5,98],[0,108,0,119],[3,140,4,140],[4,202,5,202],[4,177,5,177],[4,180,5,180],[4,184,5,184],[4,186,5,186],[4,187,5,187],[4,197,5,197],[4,198,5,198],[4,199,5,199],[4,223,5,223],[4,176,5,176],[2,117,4,117],[2,103,4,103],[4,99,5,99]]}
[null,null,null,"อัตราส่วนคะแนน =","70 : 30",{"$f":"\"คะแนนประเมินผลสัมฤทธิ์ ภาคเรียนที่1 \"&\"  วิชา \"&ปก!AS15&\"   \"&\"ชั้น ป.\"&ปก!$C$21&\"/\"&ปก!$C$22&\"  หน้า 2\"","v":"คะแนนประเมินผลสัมฤทธิ์ ภาคเรียนที่1   วิชา {{โปรดกรอกรหัสวิชา}}   ชั้น ป./  หน้า 2"},null,null,null,null,null,null,null,null,null,null,null,null,null,null,null,null,null,null,null,null,null,null,{"$f":"\"คะแนนประเมินผลสัมฤทธิ์ ภาคเรียนที่1 \"&\"  วิชา \"&ปก!AS15&\"   \"&\"ชั้น ป.\"&ปก!$C$21&\"/\"&ปก!$C$22&\"  หน้า 10\"","v":"คะแนนประเมินผลสัมฤทธิ์ ภาคเรียนที่1   วิชา {{โปรดกรอกรหัสวิชา}}   ชั้น ป./  หน้า 10"},null,null,null,null,null,null,null,null,null,null,null,null,null,null,null,null,null,null,null,null,null,null,{"$f":"\"คะแนนประเมินผลสัมฤทธิ์ ภาคเรียนที่1 \"&\"  วิชา \"&ปก!AS15&\"   \"&\"ชั้น ป.\"&ปก!$C$21&\"/\"&ปก!$C$22&\"  หน้า 11\"","v":"คะแนนประเมินผลสัมฤทธิ์ ภาคเรียนที่1   วิชา {{โปรดกรอกรหัสวิชา}}   ชั้น ป./  หน้า 11"},null,null,null,null,null,null,null,null,null,null,null,null,null,null,null,null,null,{"$f":"\"คะแนนประเมินผลสัมฤทธิ์ ภาคเรียนที่1 \"&\"  วิชา \"&ปก!AS15&\"   \"&\"ชั้น ป.\"&ปก!$C$21&\"/\"&ปก!$C$22&\"  หน้า 3\"","v":"คะแนนประเมินผลสัมฤทธิ์ ภาคเรียนที่1   วิชา {{โปรดกรอกรหัสวิชา}}   ชั้น ป./  หน้า 3"},null,null,null,null,null,null,null,null,null,null,null,null,null,null,null,null,null,{"$f":"\"คะแนนประเมินผลสัมฤทธิ์ ภาคเรียนที่1 \"&\"  วิชา \"&ปก!AS15&\"   \"&\"ชั้น ป.\"&ปก!$C$21&\"/\"&ปก!$C$22&\"  หน้า 4\"","v":"คะแนนประเมินผลสัมฤทธิ์ ภาคเรียนที่1   วิชา {{โปรดกรอกรหัสวิชา}}   ชั้น ป./  หน้า 4"},null,null,null,null,null,null,null,null,null,null,null,null,null,null,null,null,"ระหว่างภาค",null,null,null,{"$f":"\"ผลสัมฤทธิ์ทางการเรียน ภาคเรียนที่1 \"&\"  วิชา \"&ปก!AS15&\"   \"&\"ชั้น ป.\"&ปก!$C$21&\"/\"&ปก!$C$22&\"  หน้า 5\"","v":"ผลสัมฤทธิ์ทางการเรียน ภาคเรียนที่1   วิชา {{โปรดกรอกรหัสวิชา}}   ชั้น ป./  หน้า 5"}]
[null,null,null,null,null,null,null,null,null,null,null,null,null,null,null,null,null,null,null,null,null,null,null,null,null,{"$f":"กำหนดอัตราส่วนคะแนน!B41","v":0},null,null,null,null,null,null,null,null,null,null,null,null,null,null,null,null,null,null,null,null,null,null,{"$f":"กำหนดอัตราส่วนคะแนน!Y41","v":0},null,null,null,null,null,null,null,null,null,null,null,null,null,null,null,null,null,{"$f":"กำหนดอัตราส่วนคะแนน!BQ41","v":0},null,null,null,null,null,null,null,null,null,null,null,null,null,null,null,null,null,{"$f":"กำหนดอัตราส่วนคะแนน!CN41","v":0},null,null,null,null,null,null,null,{"$f":"กำหนดอัตราส่วนคะแนน!AH41","v":0}]
[null,null,"เลข\nประจำ\nตัว\nนักเรียน","ชื่อ - นามสกุล","การประเมิน","คะแนน ชิ้นงาน ภาระงาน การสอบ การวัดผล ระหว่างภาค",null,null,null,null,null,null,null,null,null,null,null,null,null,null,null,null,null,null,null,"คะแนนรวม",null,"คะแนนเต็ม",{"$f":"IF(ปก!$C$25=\"\",\"{{ข้อมูล ERROR โปรดกลับไปเลือกประเภทวิชาที่หน้าปก}}\",IF(ปก!$C$25=\"พื้นฐาน\",\"การประเมินตัวชี้วัด หลังกลางภาค\",IF(ปก!$C$25=\"เพิ่มเติม\",\"การประเมินผลการเรียนรู้ หลังกลางภาค\")))","v":"{{ข้อมูล ERROR โปรดกลับไปเลือกประเภทวิชาที่หน้าปก}}"},null,null,null,null,null,null,null,null,null,null,null,null,null,null,null,null,null,null,null,"คะแนนรวม",null,"คะแนนเต็ม","การประเมินผลกลางภาคเรียน(สอบกลางภาค)",null,null,null,null,null,null,null,null,null,null,null,null,null,null,"คะแนนรวม",null,"คะแนนเต็ม","การประเมินผลปลายภาคเรียน(สอบปลายภาคเรียน)",null,null,null,null,null,null,null,null,null,null,null,null,null,null,"คะแนนรวม",null,"คะแนนเต็ม","การอ่าน คิดวิเคราะห์ และเขียน",null,null,null,null,"คะแนนรวม","คะแนนเต็ม","ระดับคุณภาพ","คุณลักษณะอันพึงประสงค์",null,null,null,null,null,null,null,"ระดับคุณภาพ","ก่อนกลางภาค","หลังกลางภาค","สอบกลางภาค","สอบแก้ตัว","ระหว่างภาค 1",null,"สอบปลายภาค 1","สอบแก้ตัว(ซ่อม)",null,"รวมตลอดภาคเรียน",null,"ลงคะแนน นร.ย้ายเข้า",null,"คะแนนภาคเรียนที่ 1",null,"สถานะ\nนักเรียน\nปัจจุบัน"]
[null,null,null,null,"ชิ้นงาน/ภาระงาน/การสอบ",null,null,null,null,null,null,null,null,null,null,null,null,null,null,null,null,null,18,19,20,null,null,null,null,null,null,null,null,null,null,null,null,null,null,null,null,null,null,null,null,18,19,20,null,null,null,null,null,null,null,null,null,null,null,null,null,null,null,null,null,null,null,null,null,null,null,null,null,null,null,null,null,null,null,null,null,null,null,null,null,null,null,1,2,3,4,5,null,null,null,1,2,3,4,5,6,7,8]
[null,null,null,null,null,null,null,null,null,null,null,null,null,null,null,null,null,null,null,null,null,null,null,null,null,null,{"$f":"$Z$6/$AB$6","v":0},null,null,null,null,null,null,null,null,null,null,null,null,null,null,null,null,null,null,null,null,null,{"$f":"SUM(AC5,AD5,AE5,AF5,AG5,AH5,AI5,AJ5,AK5,AL5,AM5,AN5,AO5,AP5,AQ5,AR5,AS5,AT5,AU5,AV5)","v":0},{"$f":"$AW$5/$AY$5","v":{"$error":"#DIV/0!"}},null,null,null,null,null,null,null,null,null,null,null,null,null,null,null,null,{"$f":"SUM(AZ5,BA5,BB5,BC5,BD5,BE5,BF5,BG5,BH5,BI5,BJ5,BK5,BL5,BM5,BN5)","v":0},{"$f":"$BO$5/$BQ$5","v":{"$error":"#DIV/0!"}},null,null,null,null,null,null,null,null,null,null,null,null,null,null,null,null,null,{"$f":"$CG$6/$CI$6","v":0},null,3,3,3,3,3,{"$f":"SUM(CJ5,CK5,CL5,CM5,CN5)","v":15},3,null,3,3,3,3,3,3,3,3]
[null,null,null,null,"คะแนน",null,null,null,null,null,null,null,null,null,null,null,null,null,null,null,null,null,null,null,null,{"$f":"SUM(F6,G6,H6,I6,J6,K6,L6,M6,N6,O6,P6,Q6,R6,S6,T6,U6,V6,W6,X6,Y6)","v":0},null,{"$f":"IF(E1=\"50 : 50\",50,IF(E1=\"60 : 40\",60,IF(E1=\"70 : 30\",70,IF(E1=\"80 : 20\",80,IF(E1=\"90 : 10\",90)))))","v":70},null,null,null,null,null,null,null,null,null,null,null,null,null,null,null,null,null,null,null,null,null,null,null,null,null,null,null,null,null,null,null,null,null,null,null,null,null,null,null,null,null,null,null,null,null,null,null,null,null,null,null,null,null,null,null,null,{"$f":"SUM(BR6,BS6,BT6,BU6,BV6,BW6,BX6,BY6,BZ6,CA6,CB6,CC6,CD6,CE6,CF6)","v":0},null,{"$f":"IF(E1=\"50 : 50\",50,IF(E1=\"60 : 40\",40,IF(E1=\"70 : 30\",30,IF(E1=\"80 : 20\",20,IF(E1=\"90 : 10\",10)))))","v":30},null,null,null,null,null,null,null,null,null,null,null,null,null,null,null,null,null,{"$f":"AB5","v":0},{"$f":"AY5","v":0},{"$f":"BQ5","v":0},null,{"$f":"AB6","v":70},null,{"$f":"CI6","v":30},{"$f":"DG6/2","v":15},null,{"$f":"IF(DE6+DG6<>100,\"ERROR\",SUM(DE6,DG6))","v":100},null,100,null,{"$f":"DJ6/2","v":50}]
[1,null,{"$f":"CONCATENATE(ใส่ชื่อ!C2)","v":""},{"$f":"CONCATENATE(ใส่ชื่อ!D2&ใส่ชื่อ!E2&\"  \"&ใส่ชื่อ!F2)","v":"  "},{"$f":"ใส่ชื่อ!A2","v":0},null,null,null,null,null,null,null,null,null,null,null,null,null,null,null,null,null,null,null,null,{"$f":"IF(ใส่ชื่อ!D2=\"\",\"\",IF(DP7=\"ปกติ\",SUM(F7,G7,H7,I7,J7,K7,L7,M7,N7,O7,P7,Q7,R7,S7,T7,U7,V7,W7,X7,Y7),\"-\"))","v":""},null,{"$f":"IF(Z7=\"\",\"\",IF(Z7=\"-\",\"-\",IF(Z7=0,\"\",IF($Z$6=0,\"\",ROUND(Z7/$AA$5,0)))))","v":""},null,null,null,null,null,null,null,null,null,null,null,null,null,null,null,null,null,null,null,null,{"$f":"IF(ใส่ชื่อ!D2=\"\",\"\",IF(COUNTIF(AC7:AS7,0),\"มผ\",IF(DP7=\"ปกติ\",SUM(AC7,AD7,AE7,AF7,AG7,AH7,AI7,AJ7,AK7,AL7,AM7,AN7,AO7,AP7,AQ7,AR7,AS7),\"-\")))","v":""},null,{"$f":"IF(AW7=\"\",\"\",IF(AW7=\"-\",\"-\",IF(AW7=\"มผ\",\"มผ\",IF(AW7=0,\"\",IF($AW$5=0,\"\",ROUND(AW7/$AX$5,0))))))","v":""},null,null,null,null,null,null,null,null,null,null,null,null,null,null,null,{"$f":"IF(ใส่ชื่อ!D2=\"\",\"\",IF(COUNTIF(AZ7:BN7,0),\"มผ\",IF(DP7=\"ปกติ\",SUM(AZ7,BA7,BB7,BC7,BD7,BE7,BF7,BG7,BH7,BI7,BJ7,BK7,BL7,BM7,BN7),\"-\")))","v":""},null,{"$f":"IF(BO7=\"\",\"\",IF(BO7=\"-\",\"-\",IF(BO7=\"มผ\",\"มผ\",IF(BO7=0,\"\",IF($BO$5=0,\"\",ROUND(BO7/$BP$5,0))))))","v":""},null,null,null,null,null,null,null,null,null,null,null,null,null,null,null,{"$f":"IF(ใส่ชื่อ!D2=\"\",\"\",IF(DP7=\"ปกติ\",SUM(BR7,BS7,BT7,BU7,BV7,BW7,BX7,BY7,BZ7,CA7,CB7,CC7,CD7,CE7,CF7),\"-\"))","v":""},null,{"$f":"IF(CG7=\"\",\"\",IF(CG7=\"-\",\"-\",IF(CG7=0,\"\",IF($CG$6=0,\"\",ROUND(CG7/$CH$5,0)))))","v":""},null,null,null,null,null,null,null,null,null,null,null,null,null,null,null,null,{"$f":"IF(CR7=\"\",\"\",(IF(CS7=\"\",\"\",(IF(CT7=\"\",\"\",(IF(CU7=\"\",\"\",(IF(CV7=\"\",\"\",(IF(CW7=\"\",\"\",IF(CX7=\"\",\"\",(IF(CY7=\"\",\"\",(IF(COUNTIF(CR7:CY7,0)>0,\"มผ\",IF(AND(COUNTIF(CR7:CY7,3)>=5,COUNTIF(CR7:CY7,\"<2\")=0),\"ดย\",IF(OR(AND(AND(COUNTIF(CR7:CY7,3)>=1,COUNTIF(CR7:CY7,3)<=4),COUNTIF(CR7:CY7,\"<2\")=0),COUNTIF(CR7:CY7,2)=8,AND(COUNTIF(CR7:CY7,\">=2\")>=5,COUNTIF(CR7:CY7,1)>0)),\"ด\",IF(OR(COUNTIF(CR7:CY7,1)=8,AND(COUNTIF(CR7:CY7,\">=2\")>=1,COUNTIF(CR7:CY7,\">=2\")<=4)),\"ผ\",\"มผ\")))))))))))))))))))","v":""},{"$f":"AB7","v":""},{"$f":"AY7","v":""},{"$f":"BQ7","v":""},null,{"$f":"IF(ใส่ชื่อ!D2=\"\",\"\",IF(COUNTIF(DA7:DC7,\"มผ\"),\"มผ\",IF(DC7=\"มผ\",\"มผ\",IF(DP7=\"ปกติ\",SUM(DA7:DB7,IF(DD7=\"\",DC7,DD7)),\"-\"))))","v":""},null,{"$f":"CI7","v":""},null,null,{"$f":"IF(ใส่ชื่อ!D2=\"\",\"\",IF(DE7=\"\",\"\",IF(COUNTIF(DA7:DH7,\"มผ\"),\"มผ\",IF(COUNTIF(DA7:DH7,\"-\"),\"-\",IF(DP7=\"ปกติ\",SUM(DE7,IF(DH7=\"\",DG7,DH7)))))))","v":""},null,null,null,{"$f":"IF(ใส่ชื่อ!A2=\"\",\"\",IF(DJ7=\"-\",\"-\",IF(DJ7=0,\"\",IF(DP7=\"ปกติ\",MAXA(DJ7/2,DL7/2)))))","v":""},null,{"$f":"IF(เวลาเรียน!M9=\"\",\"\",เวลาเรียน!M9)","v":"ปกติ"}]
[2,2498,{"$f":"CONCATENATE(ใส่ชื่อ!C3)","v":""},{"$f":"CONCATENATE(ใส่ชื่อ!D3&ใส่ชื่อ!E3&\"  \"&ใส่ชื่อ!F3)","v":"  "},{"$f":"ใส่ชื่อ!A3","v":0},null,null,null,null,null,null,null,null,null,null,null,null,null,null,null,null,null,null,null,null,{"$f":"IF(ใส่ชื่อ!D3=\"\",\"\",IF(DP8=\"ปกติ\",SUM(F8,G8,H8,I8,J8,K8,L8,M8,N8,O8,P8,Q8,R8,S8,T8,U8,V8,W8,X8,Y8),\"-\"))","v":""},null,{"$f":"IF(Z8=\"\",\"\",IF(Z8=\"-\",\"-\",IF(Z8=0,\"\",IF($Z$6=0,\"\",ROUND(Z8/$AA$5,0)))))","v":""},null,null,null,null,null,null,null,null,null,null,null,null,null,null,null,null,null,null,null,null,{"$f":"IF(ใส่ชื่อ!D3=\"\",\"\",IF(COUNTIF(AC8:AS8,0),\"มผ\",IF(DP8=\"ปกติ\",SUM(AC8,AD8,AE8,AF8,AG8,AH8,AI8,AJ8,AK8,AL8,AM8,AN8,AO8,AP8,AQ8,AR8,AS8),\"-\")))","v":""},null,{"$f":"IF(AW8=\"\",\"\",IF(AW8=\"-\",\"-\",IF(AW8=\"มผ\",\"มผ\",IF(AW8=0,\"\",IF($AW$5=0,\"\",ROUND(AW8/$AX$5,0))))))","v":""},null,null,null,null,null,null,null,null,null,null,null,null,null,null,null,{"$f":"IF(ใส่ชื่อ!D3=\"\",\"\",IF(COUNTIF(AZ8:BN8,0),\"มผ\",IF(DP8=\"ปกติ\",SUM(AZ8,BA8,BB8,BC8,BD8,BE8,BF8,BG8,BH8,BI8,BJ8,BK8,BL8,BM8,BN8),\"-\")))","v":""},null,{"$f":"IF(BO8=\"\",\"\",IF(BO8=\"-\",\"-\",IF(BO8=\"มผ\",\"มผ\",IF(BO8=0,\"\",IF($BO$5=0,\"\",ROUND(BO8/$BP$5,0))))))","v":""},null,null,null,null,null,null,null,null,null,null,null,null,null,null,null,{"$f":"IF(ใส่ชื่อ!D3=\"\",\"\",IF(DP8=\"ปกติ\",SUM(BR8,BS8,BT8,BU8,BV8,BW8,BX8,BY8,BZ8,CA8,CB8,CC8,CD8,CE8,CF8),\"-\"))","v":""},null,{"$f":"IF(CG8=\"\",\"\",IF(CG8=\"-\",\"-\",IF(CG8=0,\"\",IF($CG$6=0,\"\",ROUND(CG8/$CH$5,0)))))","v":""},null,null,null,null,null,null,null,null,null,null,null,null,null,null,null,null,{"$f":"IF(CR8=\"\",\"\",(IF(CS8=\"\",\"\",(IF(CT8=\"\",\"\",(IF(CU8=\"\",\"\",(IF(CV8=\"\",\"\",(IF(CW8=\"\",\"\",IF(CX8=\"\",\"\",(IF(CY8=\"\",\"\",(IF(COUNTIF(CR8:CY8,0)>0,\"มผ\",IF(AND(COUNTIF(CR8:CY8,3)>=5,COUNTIF(CR8:CY8,\"<2\")=0),\"ดย\",IF(OR(AND(AND(COUNTIF(CR8:CY8,3)>=1,COUNTIF(CR8:CY8,3)<=4),COUNTIF(CR8:CY8,\"<2\")=0),COUNTIF(CR8:CY8,2)=8,AND(COUNTIF(CR8:CY8,\">=2\")>=5,COUNTIF(CR8:CY8,1)>0)),\"ด\",IF(OR(COUNTIF(CR8:CY8,1)=8,AND(COUNTIF(CR8:CY8,\">=2\")>=1,COUNTIF(CR8:CY8,\">=2\")<=4)),\"ผ\",\"มผ\")))))))))))))))))))","v":""},"","","",null,{"$f":"IF(ใส่ชื่อ!D3=\"\",\"\",IF(COUNTIF(DA8:DC8,\"มผ\"),\"มผ\",IF(DC8=\"มผ\",\"มผ\",IF(DP8=\"ปกติ\",SUM(DA8:DB8,IF(DD8=\"\",DC8,DD8)),\"-\"))))","v":""},null,"",null,null,{"$f":"IF(ใส่ชื่อ!D3=\"\",\"\",IF(DE8=\"\",\"\",IF(COUNTIF(DA8:DH8,\"มผ\"),\"มผ\",IF(COUNTIF(DA8:DH8,\"-\"),\"-\",IF(DP8=\"ปกติ\",SUM(DE8,IF(DH8=\"\",DG8,DH8)))))))","v":""},null,null,null,{"$f":"IF(ใส่ชื่อ!A3=\"\",\"\",IF(DJ8=\"-\",\"-\",IF(DJ8=0,\"\",IF(DP8=\"ปกติ\",MAXA(DJ8/2,DL8/2)))))","v":""},null,{"$f":"IF(เวลาเรียน!M10=\"\",\"\",เวลาเรียน!M10)","v":"ปกติ"},null,"ช่วงคะแนน",null,"เกรด",null,4,3.5,3,2.5,2,1.5,1,0,"ร","มส"]
[3,2499,{"$f":"CONCATENATE(ใส่ชื่อ!C4)","v":""},{"$f":"CONCATENATE(ใส่ชื่อ!D4&ใส่ชื่อ!E4&\"  \"&ใส่ชื่อ!F4)","v":"  "},{"$f":"ใส่ชื่อ!A4","v":0},null,null,null,null,null,null,null,null,null,null,null,null,null,null,null,null,null,null,null,null,{"$f":"IF(ใส่ชื่อ!D4=\"\",\"\",IF(DP9=\"ปกติ\",SUM(F9,G9,H9,I9,J9,K9,L9,M9,N9,O9,P9,Q9,R9,S9,T9,U9,V9,W9,X9,Y9),\"-\"))","v":""},null,"",null,null,null,null,null,null,null,null,null,null,null,null,null,null,null,null,null,null,null,null,{"$f":"IF(ใส่ชื่อ!D4=\"\",\"\",IF(COUNTIF(AC9:AS9,0),\"มผ\",IF(DP9=\"ปกติ\",SUM(AC9,AD9,AE9,AF9,AG9,AH9,AI9,AJ9,AK9,AL9,AM9,AN9,AO9,AP9,AQ9,AR9,AS9),\"-\")))","v":""},null,"",null,null,null,null,null,null,null,null,null,null,null,null,null,null,null,{"$f":"IF(ใส่ชื่อ!D4=\"\",\"\",IF(COUNTIF(AZ9:BN9,0),\"มผ\",IF(DP9=\"ปกติ\",SUM(AZ9,BA9,BB9,BC9,BD9,BE9,BF9,BG9,BH9,BI9,BJ9,BK9,BL9,BM9,BN9),\"-\")))","v":""},null,"",null,null,null,null,null,null,null,null,null,null,null,null,null,null,null,{"$f":"IF(ใส่ชื่อ!D4=\"\",\"\",IF(DP9=\"ปกติ\",SUM(BR9,BS9,BT9,BU9,BV9,BW9,BX9,BY9,BZ9,CA9,CB9,CC9,CD9,CE9,CF9),\"-\"))","v":""},null,"",null,null,null,null,null,null,null,null,null,null,null,null,null,null,null,null,"","","","",null,{"$f":"IF(ใส่ชื่อ!D4=\"\",\"\",IF(COUNTIF(DA9:DC9,\"มผ\"),\"มผ\",IF(DC9=\"มผ\",\"มผ\",IF(DP9=\"ปกติ\",SUM(DA9:DB9,IF(DD9=\"\",DC9,DD9)),\"-\"))))","v":""},null,"",null,null,{"$f":"IF(ใส่ชื่อ!D4=\"\",\"\",IF(DE9=\"\",\"\",IF(COUNTIF(DA9:DH9,\"มผ\"),\"มผ\",IF(COUNTIF(DA9:DH9,\"-\"),\"-\",IF(DP9=\"ปกติ\",SUM(DE9,IF(DH9=\"\",DG9,DH9)))))))","v":""},null,null,null,{"$f":"IF(ใส่ชื่อ!A4=\"\",\"\",IF(DJ9=\"-\",\"-\",IF(DJ9=0,\"\",IF(DP9=\"ปกติ\",MAXA(DJ9/2,DL9/2)))))","v":""},null,{"$f":"IF(เวลาเรียน!M11=\"\",\"\",เวลาเรียน!M11)","v":"ปกติ"},null,"จาก","ถึง",null,null,{"$f":"COUNTIF($DL$7:$DL$56,DV8)","v":0},{"$f":"COUNTIF($DL$7:$DL$56,DW8)","v":0},0,0,0,0,0,0,0,0]
[4,2500,{"$f":"CONCATENATE(ใส่ชื่อ!C5)","v":""},{"$f":"CONCATENATE(ใส่ชื่อ!D5&ใส่ชื่อ!E5&\"  \"&ใส่ชื่อ!F5)","v":"  "},{"$f":"ใส่ชื่อ!A5","v":0},null,null,null,null,null,null,null,null,null,null,null,null,null,null,null,null,null,null,null,null,{"$f":"IF(ใส่ชื่อ!D5=\"\",\"\",IF(DP10=\"ปกติ\",SUM(F10,G10,H10,I10,J10,K10,L10,M10,N10,O10,P10,Q10,R10,S10,T10,U10,V10,W10,X10,Y10),\"-\"))","v":""},null,"",null,null,null,null,null,null,null,null,null,null,null,null,null,null,null,null,null,null,null,null,{"$f":"IF(ใส่ชื่อ!D5=\"\",\"\",IF(COUNTIF(AC10:AS10,0),\"มผ\",IF(DP10=\"ปกติ\",SUM(AC10,AD10,AE10,AF10,AG10,AH10,AI10,AJ10,AK10,AL10,AM10,AN10,AO10,AP10,AQ10,AR10,AS10),\"-\")))","v":""},null,"",null,null,null,null,null,null,null,null,null,null,null,null,null,null,null,{"$f":"IF(ใส่ชื่อ!D5=\"\",\"\",IF(COUNTIF(AZ10:BN10,0),\"มผ\",IF(DP10=\"ปกติ\",SUM(AZ10,BA10,BB10,BC10,BD10,BE10,BF10,BG10,BH10,BI10,BJ10,BK10,BL10,BM10,BN10),\"-\")))","v":""},null,"",null,null,null,null,null,null,null,null,null,null,null,null,null,null,null,{"$f":"IF(ใส่ชื่อ!D5=\"\",\"\",IF(DP10=\"ปกติ\",SUM(BR10,BS10,BT10,BU10,BV10,BW10,BX10,BY10,BZ10,CA10,CB10,CC10,CD10,CE10,CF10),\"-\"))","v":""},null,"",null,null,null,null,null,null,null,null,null,null,null,null,null,null,null,null,"","","","",null,{"$f":"IF(ใส่ชื่อ!D5=\"\",\"\",IF(COUNTIF(DA10:DC10,\"มผ\"),\"มผ\",IF(DC10=\"มผ\",\"มผ\",IF(DP10=\"ปกติ\",SUM(DA10:DB10,IF(DD10=\"\",DC10,DD10)),\"-\"))))","v":""},null,"",null,null,{"$f":"IF(ใส่ชื่อ!D5=\"\",\"\",IF(DE10=\"\",\"\",IF(COUNTIF(DA10:DH10,\"มผ\"),\"มผ\",IF(COUNTIF(DA10:DH10,\"-\"),\"-\",IF(DP10=\"ปกติ\",SUM(DE10,IF(DH10=\"\",DG10,DH10)))))))","v":""},null,null,null,{"$f":"IF(ใส่ชื่อ!A5=\"\",\"\",IF(DJ10=\"-\",\"-\",IF(DJ10=0,\"\",IF(DP10=\"ปกติ\",MAXA(DJ10/2,DL10/2)))))","v":""},null,{"$f":"IF(เวลาเรียน!M12=\"\",\"\",เวลาเรียน!M12)","v":"ปกติ"},null,0,49,0]
[5,2501,{"$f":"CONCATENATE(ใส่ชื่อ!C6)","v":""},{"$f":"CONCATENATE(ใส่ชื่อ!D6&ใส่ชื่อ!E6&\"  \"&ใส่ชื่อ!F6)","v":"  "},{"$f":"ใส่ชื่อ!A6","v":0},null,null,null,null,null,null,null,null,null,null,null,null,null,null,null,null,null,null,null,null,{"$f":"IF(ใส่ชื่อ!D6=\"\",\"\",IF(DP11=\"ปกติ\",SUM(F11,G11,H11,I11,J11,K11,L11,M11,N11,O11,P11,Q11,R11,S11,T11,U11,V11,W11,X11,Y11),\"-\"))","v":""},null,"",null,null,null,null,null,null,null,null,null,null,null,null,null,null,null,null,null,null,null,null,{"$f":"IF(ใส่ชื่อ!D6=\"\",\"\",IF(COUNTIF(AC11:AS11,0),\"มผ\",IF(DP11=\"ปกติ\",SUM(AC11,AD11,AE11,AF11,AG11,AH11,AI11,AJ11,AK11,AL11,AM11,AN11,AO11,AP11,AQ11,AR11,AS11),\"-\")))","v":""},null,"",null,null,null,null,null,null,null,null,null,null,null,null,null,null,null,{"$f":"IF(ใส่ชื่อ!D6=\"\",\"\",IF(COUNTIF(AZ11:BN11,0),\"มผ\",IF(DP11=\"ปกติ\",SUM(AZ11,BA11,BB11,BC11,BD11,BE11,BF11,BG11,BH11,BI11,BJ11,BK11,BL11,BM11,BN11),\"-\")))","v":""},null,"",null,null,null,null,null,null,null,null,null,null,null,null,null,null,null,{"$f":"IF(ใส่ชื่อ!D6=\"\",\"\",IF(DP11=\"ปกติ\",SUM(BR11,BS11,BT11,BU11,BV11,BW11,BX11,BY11,BZ11,CA11,CB11,CC11,CD11,CE11,CF11),\"-\"))","v":""},null,"",null,null,null,null,null,null,null,null,null,null,null,null,null,null,null,null,"","","","",null,{"$f":"IF(ใส่ชื่อ!D6=\"\",\"\",IF(COUNTIF(DA11:DC11,\"มผ\"),\"มผ\",IF(DC11=\"มผ\",\"มผ\",IF(DP11=\"ปกติ\",SUM(DA11:DB11,IF(DD11=\"\",DC11,DD11)),\"-\"))))","v":""},null,"",null,null,{"$f":"IF(ใส่ชื่อ!D6=\"\",\"\",IF(DE11=\"\",\"\",IF(COUNTIF(DA11:DH11,\"มผ\"),\"มผ\",IF(COUNTIF(DA11:DH11,\"-\"),\"-\",IF(DP11=\"ปกติ\",SUM(DE11,IF(DH11=\"\",DG11,DH11)))))))","v":""},null,null,null,{"$f":"IF(ใส่ชื่อ!A6=\"\",\"\",IF(DJ11=\"-\",\"-\",IF(DJ11=0,\"\",IF(DP11=\"ปกติ\",MAXA(DJ11/2,DL11/2)))))","v":""},null,{"$f":"IF(เวลาเรียน!M13=\"\",\"\",เวลาเรียน!M13)","v":"ปกติ"},null,50,54,1]
[6,2502,{"$f":"CONCATENATE(ใส่ชื่อ!C7)","v":""},{"$f":"CONCATENATE(ใส่ชื่อ!D7&ใส่ชื่อ!E7&\"  \"&ใส่ชื่อ!F7)","v":"  "},{"$f":"ใส่ชื่อ!A7","v":0},null,null,null,null,null,null,null,null,null,null,null,null,null,null,null,null,null,null,null,null,{"$f":"IF(ใส่ชื่อ!D7=\"\",\"\",IF(DP12=\"ปกติ\",SUM(F12,G12,H12,I12,J12,K12,L12,M12,N12,O12,P12,Q12,R12,S12,T12,U12,V12,W12,X12,Y12),\"-\"))","v":""},null,"",null,null,null,null,null,null,null,null,null,null,null,null,null,null,null,null,null,null,null,null,{"$f":"IF(ใส่ชื่อ!D7=\"\",\"\",IF(COUNTIF(AC12:AS12,0),\"มผ\",IF(DP12=\"ปกติ\",SUM(AC12,AD12,AE12,AF12,AG12,AH12,AI12,AJ12,AK12,AL12,AM12,AN12,AO12,AP12,AQ12,AR12,AS12),\"-\")))","v":""},null,"",null,null,null,null,null,null,null,null,null,null,null,null,null,null,null,{"$f":"IF(ใส่ชื่อ!D7=\"\",\"\",IF(COUNTIF(AZ12:BN12,0),\"มผ\",IF(DP12=\"ปกติ\",SUM(AZ12,BA12,BB12,BC12,BD12,BE12,BF12,BG12,BH12,BI12,BJ12,BK12,BL12,BM12,BN12),\"-\")))","v":""},null,"",null,null,null,null,null,null,null,null,null,null,null,null,null,null,null,{"$f":"IF(ใส่ชื่อ!D7=\"\",\"\",IF(DP12=\"ปกติ\",SUM(BR12,BS12,BT12,BU12,BV12,BW12,BX12,BY12,BZ12,CA12,CB12,CC12,CD12,CE12,CF12),\"-\"))","v":""},null,"",null,null,null,null,null,null,null,null,null,null,null,null,null,null,null,null,"","","","",null,{"$f":"IF(ใส่ชื่อ!D7=\"\",\"\",IF(COUNTIF(DA12:DC12,\"มผ\"),\"มผ\",IF(DC12=\"มผ\",\"มผ\",IF(DP12=\"ปกติ\",SUM(DA12:DB12,IF(DD12=\"\",DC12,DD12)),\"-\"))))","v":""},null,"",null,null,{"$f":"IF(ใส่ชื่อ!D7=\"\",\"\",IF(DE12=\"\",\"\",IF(COUNTIF(DA12:DH12,\"มผ\"),\"มผ\",IF(COUNTIF(DA12:DH12,\"-\"),\"-\",IF(DP12=\"ปกติ\",SUM(DE12,IF(DH12=\"\",DG12,DH12)))))))","v":""},null,null,null,{"$f":"IF(ใส่ชื่อ!A7=\"\",\"\",IF(DJ12=\"-\",\"-\",IF(DJ12=0,\"\",IF(DP12=\"ปกติ\",MAXA(DJ12/2,DL12/2)))))","v":""},null,{"$f":"IF(เวลาเรียน!M14=\"\",\"\",เวลาเรียน!M14)","v":"ปกติ"},null,55,59,1.5]
[7,2503,{"$f":"CONCATENATE(ใส่ชื่อ!C8)","v":""},{"$f":"CONCATENATE(ใส่ชื่อ!D8&ใส่ชื่อ!E8&\"  \"&ใส่ชื่อ!F8)","v":"  "},{"$f":"ใส่ชื่อ!A8","v":0},null,null,null,null,null,null,null,null,null,null,null,null,null,null,null,null,null,null,null,null,{"$f":"SUM(F13:Y13)","v":0},null,"",null,null,null,null,null,null,null,null,null,null,null,null,null,null,null,null,null,null,null,null,null,null,null,null,null,null,null,null,null,null,null,null,null,null,null,null,null,null,null,null,null,null,null,null,null,null,null,null,null,null,null,null,null,null,null,null,{"$f":"IF(ใส่ชื่อ!D8=\"\",\"\",IF(DP13=\"ปกติ\",SUM(BR13,BS13,BT13,BU13,BV13,BW13,BX13,BY13,BZ13,CA13,CB13,CC13,CD13,CE13,CF13),\"-\"))","v":""},null,{"$f":"IF(CG13=\"\",\"\",IF(CG13=\"-\",\"-\",IF(CG13=0,\"\",IF($CG$6=0,\"\",ROUND(CG13/$CH$5,0)))))","v":""},null,null,null,null,null,null,null,null,null,null,null,null,null,null,null,null,{"$f":"IF(CR13=\"\",\"\",(IF(CS13=\"\",\"\",(IF(CT13=\"\",\"\",(IF(CU13=\"\",\"\",(IF(CV13=\"\",\"\",(IF(CW13=\"\",\"\",IF(CX13=\"\",\"\",(IF(CY13=\"\",\"\",(IF(COUNTIF(CR13:CY13,0)>0,\"มผ\",IF(AND(COUNTIF(CR13:CY13,3)>=5,COUNTIF(CR13:CY13,\"<2\")=0),\"ดย\",IF(OR(AND(AND(COUNTIF(CR13:CY13,3)>=1,COUNTIF(CR13:CY13,3)<=4),COUNTIF(CR13:CY13,\"<2\")=0),COUNTIF(CR13:CY13,2)=8,AND(COUNTIF(CR13:CY13,\">=2\")>=5,COUNTIF(CR13:CY13,1)>0)),\"ด\",IF(OR(COUNTIF(CR13:CY13,1)=8,AND(COUNTIF(CR13:CY13,\">=2\")>=1,COUNTIF(CR13:CY13,\">=2\")<=4)),\"ผ\",\"มผ\")))))))))))))))))))","v":""},{"$f":"AB13","v":""},{"$f":"AY13","v":0},{"$f":"BQ13","v":0},null,{"$f":"IF(ใส่ชื่อ!D8=\"\",\"\",IF(COUNTIF(DA13:DC13,\"มผ\"),\"มผ\",IF(DC13=\"มผ\",\"มผ\",IF(DP13=\"ปกติ\",SUM(DA13:DB13,IF(DD13=\"\",DC13,DD13)),\"-\"))))","v":""},null,"",null,null,{"$f":"IF(ใส่ชื่อ!D8=\"\",\"\",IF(DE13=\"\",\"\",IF(COUNTIF(DA13:DH13,\"มผ\"),\"มผ\",IF(COUNTIF(DA13:DH13,\"-\"),\"-\",IF(DP13=\"ปกติ\",SUM(DE13,IF(DH13=\"\",DG13,DH13)))))))","v":""},null,null,null,{"$f":"IF(ใส่ชื่อ!A8=\"\",\"\",IF(DJ13=\"-\",\"-\",IF(DJ13=0,\"\",IF(DP13=\"ปกติ\",MAXA(DJ13/2,DL13/2)))))","v":""},null,{"$f":"IF(เวลาเรียน!M15=\"\",\"\",เวลาเรียน!M15)","v":"ปกติ"},null,60,64,2]
[8,2504,{"$f":"CONCATENATE(ใส่ชื่อ!C9)","v":""},{"$f":"CONCATENATE(ใส่ชื่อ!D9&ใส่ชื่อ!E9&\"  \"&ใส่ชื่อ!F9)","v":"  "},{"$f":"ใส่ชื่อ!A9","v":0},null,null,null,null,null,null,null,null,null,null,null,null,null,null,null,null,null,null,null,null,{"$f":"IF(ใส่ชื่อ!D9=\"\",\"\",IF(DP14=\"ปกติ\",SUM(F14,G14,H14,I14,J14,K14,L14,M14,N14,O14,P14,Q14,R14,S14,T14,U14,V14,W14,X14,Y14),\"-\"))","v":""},null,"",null,null,null,null,null,null,null,null,null,null,null,null,null,null,null,null,null,null,null,null,{"$f":"IF(ใส่ชื่อ!D9=\"\",\"\",IF(COUNTIF(AC14:AS14,0),\"มผ\",IF(DP14=\"ปกติ\",SUM(AC14,AD14,AE14,AF14,AG14,AH14,AI14,AJ14,AK14,AL14,AM14,AN14,AO14,AP14,AQ14,AR14,AS14),\"-\")))","v":""},null,"",null,null,null,null,null,null,null,null,null,null,null,null,null,null,null,{"$f":"IF(ใส่ชื่อ!D9=\"\",\"\",IF(COUNTIF(AZ14:BN14,0),\"มผ\",IF(DP14=\"ปกติ\",SUM(AZ14,BA14,BB14,BC14,BD14,BE14,BF14,BG14,BH14,BI14,BJ14,BK14,BL14,BM14,BN14),\"-\")))","v":""},null,"",null,null,null,null,null,null,null,null,null,null,null,null,null,null,null,{"$f":"IF(ใส่ชื่อ!D9=\"\",\"\",IF(DP14=\"ปกติ\",SUM(BR14,BS14,BT14,BU14,BV14,BW14,BX14,BY14,BZ14,CA14,CB14,CC14,CD14,CE14,CF14),\"-\"))","v":""},null,"",null,null,null,null,null,null,null,null,null,null,null,null,null,null,null,null,"","","","",null,{"$f":"IF(ใส่ชื่อ!D9=\"\",\"\",IF(COUNTIF(DA14:DC14,\"มผ\"),\"มผ\",IF(DC14=\"มผ\",\"มผ\",IF(DP14=\"ปกติ\",SUM(DA14:DB14,IF(DD14=\"\",DC14,DD14)),\"-\"))))","v":""},null,"",null,null,{"$f":"IF(ใส่ชื่อ!D9=\"\",\"\",IF(DE14=\"\",\"\",IF(COUNTIF(DA14:DH14,\"มผ\"),\"มผ\",IF(COUNTIF(DA14:DH14,\"-\"),\"-\",IF(DP14=\"ปกติ\",SUM(DE14,IF(DH14=\"\",DG14,DH14)))))))","v":""},null,null,null,{"$f":"IF(ใส่ชื่อ!A9=\"\",\"\",IF(DJ14=\"-\",\"-\",IF(DJ14=0,\"\",IF(DP14=\"ปกติ\",MAXA(DJ14/2,DL14/2)))))","v":""},null,{"$f":"IF(เวลาเรียน!M16=\"\",\"\",เวลาเรียน!M16)","v":"ปกติ"},null,65,69,2.5]
[9,2505,{"$f":"CONCATENATE(ใส่ชื่อ!C10)","v":""},{"$f":"CONCATENATE(ใส่ชื่อ!D10&ใส่ชื่อ!E10&\"  \"&ใส่ชื่อ!F10)","v":"  "},{"$f":"ใส่ชื่อ!A10","v":0},null,null,null,null,null,null,null,null,null,null,null,null,null,null,null,null,null,null,null,null,{"$f":"IF(ใส่ชื่อ!D10=\"\",\"\",IF(DP15=\"ปกติ\",SUM(F15,G15,H15,I15,J15,K15,L15,M15,N15,O15,P15,Q15,R15,S15,T15,U15,V15,W15,X15,Y15),\"-\"))","v":""},null,"",null,null,null,null,null,null,null,null,null,null,null,null,null,null,null,null,null,null,null,null,{"$f":"IF(ใส่ชื่อ!D10=\"\",\"\",IF(COUNTIF(AC15:AS15,0),\"มผ\",IF(DP15=\"ปกติ\",SUM(AC15,AD15,AE15,AF15,AG15,AH15,AI15,AJ15,AK15,AL15,AM15,AN15,AO15,AP15,AQ15,AR15,AS15),\"-\")))","v":""},null,"",null,null,null,null,null,null,null,null,null,null,null,null,null,null,null,{"$f":"IF(ใส่ชื่อ!D10=\"\",\"\",IF(COUNTIF(AZ15:BN15,0),\"มผ\",IF(DP15=\"ปกติ\",SUM(AZ15,BA15,BB15,BC15,BD15,BE15,BF15,BG15,BH15,BI15,BJ15,BK15,BL15,BM15,BN15),\"-\")))","v":""},null,"",null,null,null,null,null,null,null,null,null,null,null,null,null,null,null,{"$f":"IF(ใส่ชื่อ!D10=\"\",\"\",IF(DP15=\"ปกติ\",SUM(BR15,BS15,BT15,BU15,BV15,BW15,BX15,BY15,BZ15,CA15,CB15,CC15,CD15,CE15,CF15),\"-\"))","v":""},null,"",null,null,null,null,null,null,null,null,null,null,null,null,null,null,null,null,"","","","",null,{"$f":"IF(ใส่ชื่อ!D10=\"\",\"\",IF(COUNTIF(DA15:DC15,\"มผ\"),\"มผ\",IF(DC15=\"มผ\",\"มผ\",IF(DP15=\"ปกติ\",SUM(DA15:DB15,IF(DD15=\"\",DC15,DD15)),\"-\"))))","v":""},null,"",null,null,{"$f":"IF(ใส่ชื่อ!D10=\"\",\"\",IF(DE15=\"\",\"\",IF(COUNTIF(DA15:DH15,\"มผ\"),\"มผ\",IF(COUNTIF(DA15:DH15,\"-\"),\"-\",IF(DP15=\"ปกติ\",SUM(DE15,IF(DH15=\"\",DG15,DH15)))))))","v":""},null,null,null,{"$f":"IF(ใส่ชื่อ!A10=\"\",\"\",IF(DJ15=\"-\",\"-\",IF(DJ15=0,\"\",IF(DP15=\"ปกติ\",MAXA(DJ15/2,DL15/2)))))","v":""},null,{"$f":"IF(เวลาเรียน!M17=\"\",\"\",เวลาเรียน!M17)","v":"ปกติ"},null,70,74,3]
[10,2506,{"$f":"CONCATENATE(ใส่ชื่อ!C11)","v":""},{"$f":"CONCATENATE(ใส่ชื่อ!D11&ใส่ชื่อ!E11&\"  \"&ใส่ชื่อ!F11)","v":"  "},{"$f":"ใส่ชื่อ!A11","v":0},null,null,null,null,null,null,null,null,null,null,null,null,null,null,null,null,null,null,null,null,{"$f":"IF(ใส่ชื่อ!D11=\"\",\"\",IF(DP16=\"ปกติ\",SUM(F16,G16,H16,I16,J16,K16,L16,M16,N16,O16,P16,Q16,R16,S16,T16,U16,V16,W16,X16,Y16),\"-\"))","v":""},null,"",null,null,null,null,null,null,null,null,null,null,null,null,null,null,null,null,null,null,null,null,{"$f":"IF(ใส่ชื่อ!D11=\"\",\"\",IF(COUNTIF(AC16:AS16,0),\"มผ\",IF(DP16=\"ปกติ\",SUM(AC16,AD16,AE16,AF16,AG16,AH16,AI16,AJ16,AK16,AL16,AM16,AN16,AO16,AP16,AQ16,AR16,AS16),\"-\")))","v":""},null,"",null,null,null,null,null,null,null,null,null,null,null,null,null,null,null,{"$f":"IF(ใส่ชื่อ!D11=\"\",\"\",IF(COUNTIF(AZ16:BN16,0),\"มผ\",IF(DP16=\"ปกติ\",SUM(AZ16,BA16,BB16,BC16,BD16,BE16,BF16,BG16,BH16,BI16,BJ16,BK16,BL16,BM16,BN16),\"-\")))","v":""},null,"",null,null,null,null,null,null,null,null,null,null,null,null,null,null,null,{"$f":"IF(ใส่ชื่อ!D11=\"\",\"\",IF(DP16=\"ปกติ\",SUM(BR16,BS16,BT16,BU16,BV16,BW16,BX16,BY16,BZ16,CA16,CB16,CC16,CD16,CE16,CF16),\"-\"))","v":""},null,"",null,null,null,null,null,null,null,null,null,null,null,null,null,null,null,null,"","","","",null,{"$f":"IF(ใส่ชื่อ!D11=\"\",\"\",IF(COUNTIF(DA16:DC16,\"มผ\"),\"มผ\",IF(DC16=\"มผ\",\"มผ\",IF(DP16=\"ปกติ\",SUM(DA16:DB16,IF(DD16=\"\",DC16,DD16)),\"-\"))))","v":""},null,"",null,null,{"$f":"IF(ใส่ชื่อ!D11=\"\",\"\",IF(DE16=\"\",\"\",IF(COUNTIF(DA16:DH16,\"มผ\"),\"มผ\",IF(COUNTIF(DA16:DH16,\"-\"),\"-\",IF(DP16=\"ปกติ\",SUM(DE16,IF(DH16=\"\",DG16,DH16)))))))","v":""},null,null,null,{"$f":"IF(ใส่ชื่อ!A11=\"\",\"\",IF(DJ16=\"-\",\"-\",IF(DJ16=0,\"\",IF(DP16=\"ปกติ\",MAXA(DJ16/2,DL16/2)))))","v":""},null,{"$f":"IF(เวลาเรียน!M18=\"\",\"\",เวลาเรียน!M18)","v":"ปกติ"},null,75,79,3.5]
[11,2507,{"$f":"CONCATENATE(ใส่ชื่อ!C12)","v":""},{"$f":"CONCATENATE(ใส่ชื่อ!D12&ใส่ชื่อ!E12&\"  \"&ใส่ชื่อ!F12)","v":"  "},{"$f":"ใส่ชื่อ!A12","v":0},null,null,null,null,null,null,null,null,null,null,null,null,null,null,null,null,null,null,null,null,{"$f":"IF(ใส่ชื่อ!D12=\"\",\"\",IF(DP17=\"ปกติ\",SUM(F17,G17,H17,I17,J17,K17,L17,M17,N17,O17,P17,Q17,R17,S17,T17,U17,V17,W17,X17,Y17),\"-\"))","v":""},null,"",null,null,null,null,null,null,null,null,null,null,null,null,null,null,null,null,null,null,null,null,{"$f":"IF(ใส่ชื่อ!D12=\"\",\"\",IF(COUNTIF(AC17:AS17,0),\"มผ\",IF(DP17=\"ปกติ\",SUM(AC17,AD17,AE17,AF17,AG17,AH17,AI17,AJ17,AK17,AL17,AM17,AN17,AO17,AP17,AQ17,AR17,AS17),\"-\")))","v":""},null,"",null,null,null,null,null,null,null,null,null,null,null,null,null,null,null,{"$f":"IF(ใส่ชื่อ!D12=\"\",\"\",IF(COUNTIF(AZ17:BN17,0),\"มผ\",IF(DP17=\"ปกติ\",SUM(AZ17,BA17,BB17,BC17,BD17,BE17,BF17,BG17,BH17,BI17,BJ17,BK17,BL17,BM17,BN17),\"-\")))","v":""},null,"",null,null,null,null,null,null,null,null,null,null,null,null,null,null,null,{"$f":"IF(ใส่ชื่อ!D12=\"\",\"\",IF(DP17=\"ปกติ\",SUM(BR17,BS17,BT17,BU17,BV17,BW17,BX17,BY17,BZ17,CA17,CB17,CC17,CD17,CE17,CF17),\"-\"))","v":""},null,"",null,null,null,null,null,null,null,null,null,null,null,null,null,null,null,null,"","","","",null,{"$f":"IF(ใส่ชื่อ!D12=\"\",\"\",IF(COUNTIF(DA17:DC17,\"มผ\"),\"มผ\",IF(DC17=\"มผ\",\"มผ\",IF(DP17=\"ปกติ\",SUM(DA17:DB17,IF(DD17=\"\",DC17,DD17)),\"-\"))))","v":""},null,"",null,null,{"$f":"IF(ใส่ชื่อ!D12=\"\",\"\",IF(DE17=\"\",\"\",IF(COUNTIF(DA17:DH17,\"มผ\"),\"มผ\",IF(COUNTIF(DA17:DH17,\"-\"),\"-\",IF(DP17=\"ปกติ\",SUM(DE17,IF(DH17=\"\",DG17,DH17)))))))","v":""},null,null,null,{"$f":"IF(ใส่ชื่อ!A12=\"\",\"\",IF(DJ17=\"-\",\"-\",IF(DJ17=0,\"\",IF(DP17=\"ปกติ\",MAXA(DJ17/2,DL17/2)))))","v":""},null,{"$f":"IF(เวลาเรียน!M19=\"\",\"\",เวลาเรียน!M19)","v":"ปกติ"},null,80,100,4]
[12,2508,{"$f":"CONCATENATE(ใส่ชื่อ!C13)","v":""},{"$f":"CONCATENATE(ใส่ชื่อ!D13&ใส่ชื่อ!E13&\"  \"&ใส่ชื่อ!F13)","v":"  "},{"$f":"ใส่ชื่อ!A13","v":0},null,null,null,null,null,null,null,null,null,null,null,null,null,null,null,null,null,null,null,null,{"$f":"IF(ใส่ชื่อ!D13=\"\",\"\",IF(DP18=\"ปกติ\",SUM(F18,G18,H18,I18,J18,K18,L18,M18,N18,O18,P18,Q18,R18,S18,T18,U18,V18,W18,X18,Y18),\"-\"))","v":""},null,"",null,null,null,null,null,null,null,null,null,null,null,null,null,null,null,null,null,null,null,null,{"$f":"IF(ใส่ชื่อ!D13=\"\",\"\",IF(COUNTIF(AC18:AS18,0),\"มผ\",IF(DP18=\"ปกติ\",SUM(AC18,AD18,AE18,AF18,AG18,AH18,AI18,AJ18,AK18,AL18,AM18,AN18,AO18,AP18,AQ18,AR18,AS18),\"-\")))","v":""},null,"",null,null,null,null,null,null,null,null,null,null,null,null,null,null,null,{"$f":"IF(ใส่ชื่อ!D13=\"\",\"\",IF(COUNTIF(AZ18:BN18,0),\"มผ\",IF(DP18=\"ปกติ\",SUM(AZ18,BA18,BB18,BC18,BD18,BE18,BF18,BG18,BH18,BI18,BJ18,BK18,BL18,BM18,BN18),\"-\")))","v":""},null,"",null,null,null,null,null,null,null,null,null,null,null,null,null,null,null,{"$f":"IF(ใส่ชื่อ!D13=\"\",\"\",IF(DP18=\"ปกติ\",SUM(BR18,BS18,BT18,BU18,BV18,BW18,BX18,BY18,BZ18,CA18,CB18,CC18,CD18,CE18,CF18),\"-\"))","v":""},null,"",null,null,null,null,null,null,null,null,null,null,null,null,null,null,null,null,"","","","",null,{"$f":"IF(ใส่ชื่อ!D13=\"\",\"\",IF(COUNTIF(DA18:DC18,\"มผ\"),\"มผ\",IF(DC18=\"มผ\",\"มผ\",IF(DP18=\"ปกติ\",SUM(DA18:DB18,IF(DD18=\"\",DC18,DD18)),\"-\"))))","v":""},null,"",null,null,{"$f":"IF(ใส่ชื่อ!D13=\"\",\"\",IF(DE18=\"\",\"\",IF(COUNTIF(DA18:DH18,\"มผ\"),\"มผ\",IF(COUNTIF(DA18:DH18,\"-\"),\"-\",IF(DP18=\"ปกติ\",SUM(DE18,IF(DH18=\"\",DG18,DH18)))))))","v":""},null,null,null,{"$f":"IF(ใส่ชื่อ!A13=\"\",\"\",IF(DJ18=\"-\",\"-\",IF(DJ18=0,\"\",IF(DP18=\"ปกติ\",MAXA(DJ18/2,DL18/2)))))","v":""},null,{"$f":"IF(เวลาเรียน!M20=\"\",\"\",เวลาเรียน!M20)","v":"ปกติ"}]
[13,2509,{"$f":"CONCATENATE(ใส่ชื่อ!C14)","v":""},{"$f":"CONCATENATE(ใส่ชื่อ!D14&ใส่ชื่อ!E14&\"  \"&ใส่ชื่อ!F14)","v":"  "},{"$f":"ใส่ชื่อ!A14","v":0},null,null,null,null,null,null,null,null,null,null,null,null,null,null,null,null,null,null,null,null,{"$f":"IF(ใส่ชื่อ!D14=\"\",\"\",IF(DP19=\"ปกติ\",SUM(F19,G19,H19,I19,J19,K19,L19,M19,N19,O19,P19,Q19,R19,S19,T19,U19,V19,W19,X19,Y19),\"-\"))","v":""},null,"",null,null,null,null,null,null,null,null,null,null,null,null,null,null,null,null,null,null,null,null,{"$f":"IF(ใส่ชื่อ!D14=\"\",\"\",IF(COUNTIF(AC19:AS19,0),\"มผ\",IF(DP19=\"ปกติ\",SUM(AC19,AD19,AE19,AF19,AG19,AH19,AI19,AJ19,AK19,AL19,AM19,AN19,AO19,AP19,AQ19,AR19,AS19),\"-\")))","v":""},null,"",null,null,null,null,null,null,null,null,null,null,null,null,null,null,null,{"$f":"IF(ใส่ชื่อ!D14=\"\",\"\",IF(COUNTIF(AZ19:BN19,0),\"มผ\",IF(DP19=\"ปกติ\",SUM(AZ19,BA19,BB19,BC19,BD19,BE19,BF19,BG19,BH19,BI19,BJ19,BK19,BL19,BM19,BN19),\"-\")))","v":""},null,"",null,null,null,null,null,null,null,null,null,null,null,null,null,null,null,{"$f":"IF(ใส่ชื่อ!D14=\"\",\"\",IF(DP19=\"ปกติ\",SUM(BR19,BS19,BT19,BU19,BV19,BW19,BX19,BY19,BZ19,CA19,CB19,CC19,CD19,CE19,CF19),\"-\"))","v":""},null,"",null,null,null,null,null,null,null,null,null,null,null,null,null,null,null,null,"","","","",null,{"$f":"IF(ใส่ชื่อ!D14=\"\",\"\",IF(COUNTIF(DA19:DC19,\"มผ\"),\"มผ\",IF(DC19=\"มผ\",\"มผ\",IF(DP19=\"ปกติ\",SUM(DA19:DB19,IF(DD19=\"\",DC19,DD19)),\"-\"))))","v":""},null,"",null,null,{"$f":"IF(ใส่ชื่อ!D14=\"\",\"\",IF(DE19=\"\",\"\",IF(COUNTIF(DA19:DH19,\"มผ\"),\"มผ\",IF(COUNTIF(DA19:DH19,\"-\"),\"-\",IF(DP19=\"ปกติ\",SUM(DE19,IF(DH19=\"\",DG19,DH19)))))))","v":""},null,null,null,{"$f":"IF(ใส่ชื่อ!A14=\"\",\"\",IF(DJ19=\"-\",\"-\",IF(DJ19=0,\"\",IF(DP19=\"ปกติ\",MAXA(DJ19/2,DL19/2)))))","v":""},null,{"$f":"IF(เวลาเรียน!M21=\"\",\"\",เวลาเรียน!M21)","v":"ปกติ"},null,0,50,0]
[14,2510,{"$f":"CONCATENATE(ใส่ชื่อ!C15)","v":""},{"$f":"CONCATENATE(ใส่ชื่อ!D15&ใส่ชื่อ!E15&\"  \"&ใส่ชื่อ!F15)","v":"  "},{"$f":"ใส่ชื่อ!A15","v":0},null,null,null,null,null,null,null,null,null,null,null,null,null,null,null,null,null,null,null,null,{"$f":"IF(ใส่ชื่อ!D15=\"\",\"\",IF(DP20=\"ปกติ\",SUM(F20,G20,H20,I20,J20,K20,L20,M20,N20,O20,P20,Q20,R20,S20,T20,U20,V20,W20,X20,Y20),\"-\"))","v":""},null,"",null,null,null,null,null,null,null,null,null,null,null,null,null,null,null,null,null,null,null,null,{"$f":"IF(ใส่ชื่อ!D15=\"\",\"\",IF(COUNTIF(AC20:AS20,0),\"มผ\",IF(DP20=\"ปกติ\",SUM(AC20,AD20,AE20,AF20,AG20,AH20,AI20,AJ20,AK20,AL20,AM20,AN20,AO20,AP20,AQ20,AR20,AS20),\"-\")))","v":""},null,"",null,null,null,null,null,null,null,null,null,null,null,null,null,null,null,{"$f":"IF(ใส่ชื่อ!D15=\"\",\"\",IF(COUNTIF(AZ20:BN20,0),\"มผ\",IF(DP20=\"ปกติ\",SUM(AZ20,BA20,BB20,BC20,BD20,BE20,BF20,BG20,BH20,BI20,BJ20,BK20,BL20,BM20,BN20),\"-\")))","v":""},null,"",null,null,null,null,null,null,null,null,null,null,null,null,null,null,null,{"$f":"IF(ใส่ชื่อ!D15=\"\",\"\",IF(DP20=\"ปกติ\",SUM(BR20,BS20,BT20,BU20,BV20,BW20,BX20,BY20,BZ20,CA20,CB20,CC20,CD20,CE20,CF20),\"-\"))","v":""},null,"",null,null,null,null,null,null,null,null,null,null,null,null,null,null,null,null,"","","","",null,{"$f":"IF(ใส่ชื่อ!D15=\"\",\"\",IF(COUNTIF(DA20:DC20,\"มผ\"),\"มผ\",IF(DC20=\"มผ\",\"มผ\",IF(DP20=\"ปกติ\",SUM(DA20:DB20,IF(DD20=\"\",DC20,DD20)),\"-\"))))","v":""},null,"",null,null,{"$f":"IF(ใส่ชื่อ!D15=\"\",\"\",IF(DE20=\"\",\"\",IF(COUNTIF(DA20:DH20,\"มผ\"),\"มผ\",IF(COUNTIF(DA20:DH20,\"-\"),\"-\",IF(DP20=\"ปกติ\",SUM(DE20,IF(DH20=\"\",DG20,DH20)))))))","v":""},null,null,null,{"$f":"IF(ใส่ชื่อ!A15=\"\",\"\",IF(DJ20=\"-\",\"-\",IF(DJ20=0,\"\",IF(DP20=\"ปกติ\",MAXA(DJ20/2,DL20/2)))))","v":""},null,{"$f":"IF(เวลาเรียน!M22=\"\",\"\",เวลาเรียน!M22)","v":"ปกติ"},null,50,55,1]
[15,2511,{"$f":"CONCATENATE(ใส่ชื่อ!C16)","v":""},{"$f":"CONCATENATE(ใส่ชื่อ!D16&ใส่ชื่อ!E16&\"  \"&ใส่ชื่อ!F16)","v":"  "},{"$f":"ใส่ชื่อ!A16","v":0},null,null,null,null,null,null,null,null,null,null,null,null,null,null,null,null,null,null,null,null,{"$f":"IF(ใส่ชื่อ!D16=\"\",\"\",IF(DP21=\"ปกติ\",SUM(F21,G21,H21,I21,J21,K21,L21,M21,N21,O21,P21,Q21,R21,S21,T21,U21,V21,W21,X21,Y21),\"-\"))","v":""},null,"",null,null,null,null,null,null,null,null,null,null,null,null,null,null,null,null,null,null,null,null,{"$f":"IF(ใส่ชื่อ!D16=\"\",\"\",IF(COUNTIF(AC21:AS21,0),\"มผ\",IF(DP21=\"ปกติ\",SUM(AC21,AD21,AE21,AF21,AG21,AH21,AI21,AJ21,AK21,AL21,AM21,AN21,AO21,AP21,AQ21,AR21,AS21),\"-\")))","v":""},null,"",null,null,null,null,null,null,null,null,null,null,null,null,null,null,null,{"$f":"IF(ใส่ชื่อ!D16=\"\",\"\",IF(COUNTIF(AZ21:BN21,0),\"มผ\",IF(DP21=\"ปกติ\",SUM(AZ21,BA21,BB21,BC21,BD21,BE21,BF21,BG21,BH21,BI21,BJ21,BK21,BL21,BM21,BN21),\"-\")))","v":""},null,"",null,null,null,null,null,null,null,null,null,null,null,null,null,null,null,{"$f":"IF(ใส่ชื่อ!D16=\"\",\"\",IF(DP21=\"ปกติ\",SUM(BR21,BS21,BT21,BU21,BV21,BW21,BX21,BY21,BZ21,CA21,CB21,CC21,CD21,CE21,CF21),\"-\"))","v":""},null,"",null,null,null,null,null,null,null,null,null,null,null,null,null,null,null,null,"","","","",null,{"$f":"IF(ใส่ชื่อ!D16=\"\",\"\",IF(COUNTIF(DA21:DC21,\"มผ\"),\"มผ\",IF(DC21=\"มผ\",\"มผ\",IF(DP21=\"ปกติ\",SUM(DA21:DB21,IF(DD21=\"\",DC21,DD21)),\"-\"))))","v":""},null,"",null,null,{"$f":"IF(ใส่ชื่อ!D16=\"\",\"\",IF(DE21=\"\",\"\",IF(COUNTIF(DA21:DH21,\"มผ\"),\"มผ\",IF(COUNTIF(DA21:DH21,\"-\"),\"-\",IF(DP21=\"ปกติ\",SUM(DE21,IF(DH21=\"\",DG21,DH21)))))))","v":""},null,null,null,{"$f":"IF(ใส่ชื่อ!A16=\"\",\"\",IF(DJ21=\"-\",\"-\",IF(DJ21=0,\"\",IF(DP21=\"ปกติ\",MAXA(DJ21/2,DL21/2)))))","v":""},null,{"$f":"IF(เวลาเรียน!M23=\"\",\"\",เวลาเรียน!M23)","v":"ปกติ"},null,55,60,1.5]
[16,2512,{"$f":"CONCATENATE(ใส่ชื่อ!C17)","v":""},{"$f":"CONCATENATE(ใส่ชื่อ!D17&ใส่ชื่อ!E17&\"  \"&ใส่ชื่อ!F17)","v":"  "},{"$f":"ใส่ชื่อ!A17","v":0},null,null,null,null,null,null,null,null,null,null,null,null,null,null,null,null,null,null,null,null,{"$f":"IF(ใส่ชื่อ!D17=\"\",\"\",IF(DP22=\"ปกติ\",SUM(F22,G22,H22,I22,J22,K22,L22,M22,N22,O22,P22,Q22,R22,S22,T22,U22,V22,W22,X22,Y22),\"-\"))","v":""},null,{"$f":"IF(Z22=\"\",\"\",IF(Z22=\"-\",\"-\",IF(Z22=0,\"\",IF($Z$6=0,\"\",ROUND(Z22/$AA$5,0)))))","v":""},null,null,null,null,null,null,null,null,null,null,null,null,null,null,null,null,null,null,null,null,{"$f":"IF(ใส่ชื่อ!D17=\"\",\"\",IF(COUNTIF(AC22:AS22,0),\"มผ\",IF(DP22=\"ปกติ\",SUM(AC22,AD22,AE22,AF22,AG22,AH22,AI22,AJ22,AK22,AL22,AM22,AN22,AO22,AP22,AQ22,AR22,AS22),\"-\")))","v":""},null,"",null,null,null,null,null,null,null,null,null,null,null,null,null,null,null,{"$f":"IF(ใส่ชื่อ!D17=\"\",\"\",IF(COUNTIF(AZ22:BN22,0),\"มผ\",IF(DP22=\"ปกติ\",SUM(AZ22,BA22,BB22,BC22,BD22,BE22,BF22,BG22,BH22,BI22,BJ22,BK22,BL22,BM22,BN22),\"-\")))","v":""},null,"",null,null,null,null,null,null,null,null,null,null,null,null,null,null,null,{"$f":"IF(ใส่ชื่อ!D17=\"\",\"\",IF(DP22=\"ปกติ\",SUM(BR22,BS22,BT22,BU22,BV22,BW22,BX22,BY22,BZ22,CA22,CB22,CC22,CD22,CE22,CF22),\"-\"))","v":""},null,"",null,null,null,null,null,null,null,null,null,null,null,null,null,null,null,null,"","","","",null,{"$f":"IF(ใส่ชื่อ!D17=\"\",\"\",IF(COUNTIF(DA22:DC22,\"มผ\"),\"มผ\",IF(DC22=\"มผ\",\"มผ\",IF(DP22=\"ปกติ\",SUM(DA22:DB22,IF(DD22=\"\",DC22,DD22)),\"-\"))))","v":""},null,"",null,null,{"$f":"IF(ใส่ชื่อ!D17=\"\",\"\",IF(DE22=\"\",\"\",IF(COUNTIF(DA22:DH22,\"มผ\"),\"มผ\",IF(COUNTIF(DA22:DH22,\"-\"),\"-\",IF(DP22=\"ปกติ\",SUM(DE22,IF(DH22=\"\",DG22,DH22)))))))","v":""},null,null,null,{"$f":"IF(ใส่ชื่อ!A17=\"\",\"\",IF(DJ22=\"-\",\"-\",IF(DJ22=0,\"\",IF(DP22=\"ปกติ\",MAXA(DJ22/2,DL22/2)))))","v":""},null,{"$f":"IF(เวลาเรียน!M24=\"\",\"\",เวลาเรียน!M24)","v":"ปกติ"},null,60,65,2]
[17,2513,{"$f":"CONCATENATE(ใส่ชื่อ!C18)","v":""},{"$f":"CONCATENATE(ใส่ชื่อ!D18&ใส่ชื่อ!E18&\"  \"&ใส่ชื่อ!F18)","v":"  "},{"$f":"ใส่ชื่อ!A18","v":0},null,null,null,null,null,null,null,null,null,null,null,null,null,null,null,null,null,null,null,null,{"$f":"IF(ใส่ชื่อ!D18=\"\",\"\",IF(DP23=\"ปกติ\",SUM(F23,G23,H23,I23,J23,K23,L23,M23,N23,O23,P23,Q23,R23,S23,T23,U23,V23,W23,X23,Y23),\"-\"))","v":""},null,"",null,null,null,null,null,null,null,null,null,null,null,null,null,null,null,null,null,null,null,null,{"$f":"IF(ใส่ชื่อ!D18=\"\",\"\",IF(COUNTIF(AC23:AS23,0),\"มผ\",IF(DP23=\"ปกติ\",SUM(AC23,AD23,AE23,AF23,AG23,AH23,AI23,AJ23,AK23,AL23,AM23,AN23,AO23,AP23,AQ23,AR23,AS23),\"-\")))","v":""},null,"",null,null,null,null,null,null,null,null,null,null,null,null,null,null,null,{"$f":"IF(ใส่ชื่อ!D18=\"\",\"\",IF(COUNTIF(AZ23:BN23,0),\"มผ\",IF(DP23=\"ปกติ\",SUM(AZ23,BA23,BB23,BC23,BD23,BE23,BF23,BG23,BH23,BI23,BJ23,BK23,BL23,BM23,BN23),\"-\")))","v":""},null,"",null,null,null,null,null,null,null,null,null,null,null,null,null,null,null,{"$f":"IF(ใส่ชื่อ!D18=\"\",\"\",IF(DP23=\"ปกติ\",SUM(BR23,BS23,BT23,BU23,BV23,BW23,BX23,BY23,BZ23,CA23,CB23,CC23,CD23,CE23,CF23),\"-\"))","v":""},null,"",null,null,null,null,null,null,null,null,null,null,null,null,null,null,null,null,"","","","",null,{"$f":"IF(ใส่ชื่อ!D18=\"\",\"\",IF(COUNTIF(DA23:DC23,\"มผ\"),\"มผ\",IF(DC23=\"มผ\",\"มผ\",IF(DP23=\"ปกติ\",SUM(DA23:DB23,IF(DD23=\"\",DC23,DD23)),\"-\"))))","v":""},null,"",null,null,{"$f":"IF(ใส่ชื่อ!D18=\"\",\"\",IF(DE23=\"\",\"\",IF(COUNTIF(DA23:DH23,\"มผ\"),\"มผ\",IF(COUNTIF(DA23:DH23,\"-\"),\"-\",IF(DP23=\"ปกติ\",SUM(DE23,IF(DH23=\"\",DG23,DH23)))))))","v":""},null,null,null,{"$f":"IF(ใส่ชื่อ!A18=\"\",\"\",IF(DJ23=\"-\",\"-\",IF(DJ23=0,\"\",IF(DP23=\"ปกติ\",MAXA(DJ23/2,DL23/2)))))","v":""},null,{"$f":"IF(เวลาเรียน!M25=\"\",\"\",เวลาเรียน!M25)","v":"ปกติ"},null,65,70,2.5]
[18,2514,{"$f":"CONCATENATE(ใส่ชื่อ!C19)","v":""},{"$f":"CONCATENATE(ใส่ชื่อ!D19&ใส่ชื่อ!E19&\"  \"&ใส่ชื่อ!F19)","v":"  "},{"$f":"ใส่ชื่อ!A19","v":0},null,null,null,null,null,null,null,null,null,null,null,null,null,null,null,null,null,null,null,null,{"$f":"IF(ใส่ชื่อ!D19=\"\",\"\",IF(DP24=\"ปกติ\",SUM(F24,G24,H24,I24,J24,K24,L24,M24,N24,O24,P24,Q24,R24,S24,T24,U24,V24,W24,X24,Y24),\"-\"))","v":""},null,"",null,null,null,null,null,null,null,null,null,null,null,null,null,null,null,null,null,null,null,null,{"$f":"IF(ใส่ชื่อ!D19=\"\",\"\",IF(COUNTIF(AC24:AS24,0),\"มผ\",IF(DP24=\"ปกติ\",SUM(AC24,AD24,AE24,AF24,AG24,AH24,AI24,AJ24,AK24,AL24,AM24,AN24,AO24,AP24,AQ24,AR24,AS24),\"-\")))","v":""},null,"",null,null,null,null,null,null,null,null,null,null,null,null,null,null,null,{"$f":"IF(ใส่ชื่อ!D19=\"\",\"\",IF(COUNTIF(AZ24:BN24,0),\"มผ\",IF(DP24=\"ปกติ\",SUM(AZ24,BA24,BB24,BC24,BD24,BE24,BF24,BG24,BH24,BI24,BJ24,BK24,BL24,BM24,BN24),\"-\")))","v":""},null,"",null,null,null,null,null,null,null,null,null,null,null,null,null,null,null,{"$f":"IF(ใส่ชื่อ!D19=\"\",\"\",IF(DP24=\"ปกติ\",SUM(BR24,BS24,BT24,BU24,BV24,BW24,BX24,BY24,BZ24,CA24,CB24,CC24,CD24,CE24,CF24),\"-\"))","v":""},null,"",null,null,null,null,null,null,null,null,null,null,null,null,null,null,null,null,"","","","",null,{"$f":"IF(ใส่ชื่อ!D19=\"\",\"\",IF(COUNTIF(DA24:DC24,\"มผ\"),\"มผ\",IF(DC24=\"มผ\",\"มผ\",IF(DP24=\"ปกติ\",SUM(DA24:DB24,IF(DD24=\"\",DC24,DD24)),\"-\"))))","v":""},null,"",null,null,{"$f":"IF(ใส่ชื่อ!D19=\"\",\"\",IF(DE24=\"\",\"\",IF(COUNTIF(DA24:DH24,\"มผ\"),\"มผ\",IF(COUNTIF(DA24:DH24,\"-\"),\"-\",IF(DP24=\"ปกติ\",SUM(DE24,IF(DH24=\"\",DG24,DH24)))))))","v":""},null,null,null,{"$f":"IF(ใส่ชื่อ!A19=\"\",\"\",IF(DJ24=\"-\",\"-\",IF(DJ24=0,\"\",IF(DP24=\"ปกติ\",MAXA(DJ24/2,DL24/2)))))","v":""},null,{"$f":"IF(เวลาเรียน!M26=\"\",\"\",เวลาเรียน!M26)","v":"ปกติ"},null,70,75,3]
[19,2515,{"$f":"CONCATENATE(ใส่ชื่อ!C20)","v":""},{"$f":"CONCATENATE(ใส่ชื่อ!D20&ใส่ชื่อ!E20&\"  \"&ใส่ชื่อ!F20)","v":"  "},{"$f":"ใส่ชื่อ!A20","v":0},null,null,null,null,null,null,null,null,null,null,null,null,null,null,null,null,null,null,null,null,{"$f":"IF(ใส่ชื่อ!D20=\"\",\"\",IF(DP25=\"ปกติ\",SUM(F25,G25,H25,I25,J25,K25,L25,M25,N25,O25,P25,Q25,R25,S25,T25,U25,V25,W25,X25,Y25),\"-\"))","v":""},null,"",null,null,null,null,null,null,null,null,null,null,null,null,null,null,null,null,null,null,null,null,{"$f":"IF(ใส่ชื่อ!D20=\"\",\"\",IF(COUNTIF(AC25:AS25,0),\"มผ\",IF(DP25=\"ปกติ\",SUM(AC25,AD25,AE25,AF25,AG25,AH25,AI25,AJ25,AK25,AL25,AM25,AN25,AO25,AP25,AQ25,AR25,AS25),\"-\")))","v":""},null,"",null,null,null,null,null,null,null,null,null,null,null,null,null,null,null,{"$f":"IF(ใส่ชื่อ!D20=\"\",\"\",IF(COUNTIF(AZ25:BN25,0),\"มผ\",IF(DP25=\"ปกติ\",SUM(AZ25,BA25,BB25,BC25,BD25,BE25,BF25,BG25,BH25,BI25,BJ25,BK25,BL25,BM25,BN25),\"-\")))","v":""},null,"",null,null,null,null,null,null,null,null,null,null,null,null,null,null,null,{"$f":"IF(ใส่ชื่อ!D20=\"\",\"\",IF(DP25=\"ปกติ\",SUM(BR25,BS25,BT25,BU25,BV25,BW25,BX25,BY25,BZ25,CA25,CB25,CC25,CD25,CE25,CF25),\"-\"))","v":""},null,"",null,null,null,null,null,null,null,null,null,null,null,null,null,null,null,null,"","","","",null,{"$f":"IF(ใส่ชื่อ!D20=\"\",\"\",IF(COUNTIF(DA25:DC25,\"มผ\"),\"มผ\",IF(DC25=\"มผ\",\"มผ\",IF(DP25=\"ปกติ\",SUM(DA25:DB25,IF(DD25=\"\",DC25,DD25)),\"-\"))))","v":""},null,"",null,null,{"$f":"IF(ใส่ชื่อ!D20=\"\",\"\",IF(DE25=\"\",\"\",IF(COUNTIF(DA25:DH25,\"มผ\"),\"มผ\",IF(COUNTIF(DA25:DH25,\"-\"),\"-\",IF(DP25=\"ปกติ\",SUM(DE25,IF(DH25=\"\",DG25,DH25)))))))","v":""},null,null,null,{"$f":"IF(ใส่ชื่อ!A20=\"\",\"\",IF(DJ25=\"-\",\"-\",IF(DJ25=0,\"\",IF(DP25=\"ปกติ\",MAXA(DJ25/2,DL25/2)))))","v":""},null,{"$f":"IF(เวลาเรียน!M27=\"\",\"\",เวลาเรียน!M27)","v":"ปกติ"},null,75,80,3.5]
[20,2516,{"$f":"CONCATENATE(ใส่ชื่อ!C21)","v":""},{"$f":"CONCATENATE(ใส่ชื่อ!D21&ใส่ชื่อ!E21&\"  \"&ใส่ชื่อ!F21)","v":"  "},{"$f":"ใส่ชื่อ!A21","v":0},null,null,null,null,null,null,null,null,null,null,null,null,null,null,null,null,null,null,null,null,{"$f":"IF(ใส่ชื่อ!D21=\"\",\"\",IF(DP26=\"ปกติ\",SUM(F26,G26,H26,I26,J26,K26,L26,M26,N26,O26,P26,Q26,R26,S26,T26,U26,V26,W26,X26,Y26),\"-\"))","v":""},null,"",null,null,null,null,null,null,null,null,null,null,null,null,null,null,null,null,null,null,null,null,{"$f":"IF(ใส่ชื่อ!D21=\"\",\"\",IF(COUNTIF(AC26:AS26,0),\"มผ\",IF(DP26=\"ปกติ\",SUM(AC26,AD26,AE26,AF26,AG26,AH26,AI26,AJ26,AK26,AL26,AM26,AN26,AO26,AP26,AQ26,AR26,AS26),\"-\")))","v":""},null,"",null,null,null,null,null,null,null,null,null,null,null,null,null,null,null,{"$f":"IF(ใส่ชื่อ!D21=\"\",\"\",IF(COUNTIF(AZ26:BN26,0),\"มผ\",IF(DP26=\"ปกติ\",SUM(AZ26,BA26,BB26,BC26,BD26,BE26,BF26,BG26,BH26,BI26,BJ26,BK26,BL26,BM26,BN26),\"-\")))","v":""},null,"",null,null,null,null,null,null,null,null,null,null,null,null,null,null,null,{"$f":"IF(ใส่ชื่อ!D21=\"\",\"\",IF(DP26=\"ปกติ\",SUM(BR26,BS26,BT26,BU26,BV26,BW26,BX26,BY26,BZ26,CA26,CB26,CC26,CD26,CE26,CF26),\"-\"))","v":""},null,"",null,null,null,null,null,null,null,null,null,null,null,null,null,null,null,null,"","","","",null,{"$f":"IF(ใส่ชื่อ!D21=\"\",\"\",IF(COUNTIF(DA26:DC26,\"มผ\"),\"มผ\",IF(DC26=\"มผ\",\"มผ\",IF(DP26=\"ปกติ\",SUM(DA26:DB26,IF(DD26=\"\",DC26,DD26)),\"-\"))))","v":""},null,"",null,null,{"$f":"IF(ใส่ชื่อ!D21=\"\",\"\",IF(DE26=\"\",\"\",IF(COUNTIF(DA26:DH26,\"มผ\"),\"มผ\",IF(COUNTIF(DA26:DH26,\"-\"),\"-\",IF(DP26=\"ปกติ\",SUM(DE26,IF(DH26=\"\",DG26,DH26)))))))","v":""},null,null,null,{"$f":"IF(ใส่ชื่อ!A21=\"\",\"\",IF(DJ26=\"-\",\"-\",IF(DJ26=0,\"\",IF(DP26=\"ปกติ\",MAXA(DJ26/2,DL26/2)))))","v":""},null,{"$f":"IF(เวลาเรียน!M28=\"\",\"\",เวลาเรียน!M28)","v":"ปกติ"},null,80,100,4]
[21,2517,{"$f":"CONCATENATE(ใส่ชื่อ!C22)","v":""},{"$f":"CONCATENATE(ใส่ชื่อ!D22&ใส่ชื่อ!E22&\"  \"&ใส่ชื่อ!F22)","v":"  "},{"$f":"ใส่ชื่อ!A22","v":0},null,null,null,null,null,null,null,null,null,null,null,null,null,null,null,null,null,null,null,null,{"$f":"SUM(F27:S27)","v":0},null,"",null,null,null,null,null,null,null,null,null,null,null,null,null,null,null,null,null,null,null,null,null,null,null,null,null,null,null,null,null,null,null,null,null,null,null,null,null,null,null,null,null,null,null,null,null,null,null,null,null,null,null,null,null,null,null,null,{"$f":"IF(ใส่ชื่อ!D22=\"\",\"\",IF(DP27=\"ปกติ\",SUM(BR27,BS27,BT27,BU27,BV27,BW27,BX27,BY27,BZ27,CA27,CB27,CC27,CD27,CE27,CF27),\"-\"))","v":""},null,{"$f":"IF(CG27=\"\",\"\",IF(CG27=\"-\",\"-\",IF(CG27=0,\"\",IF($CG$6=0,\"\",ROUND(CG27/$CH$5,0)))))","v":""},null,null,null,null,null,null,null,null,null,null,null,null,null,null,null,null,"","",0,0,null,{"$f":"IF(ใส่ชื่อ!D22=\"\",\"\",IF(COUNTIF(DA27:DC27,\"มผ\"),\"มผ\",IF(DC27=\"มผ\",\"มผ\",IF(DP27=\"ปกติ\",SUM(DA27:DB27,IF(DD27=\"\",DC27,DD27)),\"-\"))))","v":""},null,"",null,null,{"$f":"IF(ใส่ชื่อ!D22=\"\",\"\",IF(DE27=\"\",\"\",IF(COUNTIF(DA27:DH27,\"มผ\"),\"มผ\",IF(COUNTIF(DA27:DH27,\"-\"),\"-\",IF(DP27=\"ปกติ\",SUM(DE27,IF(DH27=\"\",DG27,DH27)))))))","v":""},null,null,null,{"$f":"IF(ใส่ชื่อ!A22=\"\",\"\",IF(DJ27=\"-\",\"-\",IF(DJ27=0,\"\",IF(DP27=\"ปกติ\",MAXA(DJ27/2,DL27/2)))))","v":""},null,{"$f":"IF(เวลาเรียน!M29=\"\",\"\",เวลาเรียน!M29)","v":"ปกติ"}]
[22,2518,{"$f":"CONCATENATE(ใส่ชื่อ!C23)","v":""},{"$f":"CONCATENATE(ใส่ชื่อ!D23&ใส่ชื่อ!E23&\"  \"&ใส่ชื่อ!F23)","v":"  "},{"$f":"ใส่ชื่อ!A23","v":0},null,null,null,null,null,null,null,null,null,null,null,null,null,null,null,null,null,null,null,null,0,null,"",null,null,null,null,null,null,null,null,null,null,null,null,null,null,null,null,null,null,null,null,null,null,null,null,null,null,null,null,null,null,null,null,null,null,null,null,null,null,null,null,null,null,null,null,null,null,null,null,null,null,null,null,null,null,null,null,{"$f":"IF(ใส่ชื่อ!D23=\"\",\"\",IF(DP28=\"ปกติ\",SUM(BR28,BS28,BT28,BU28,BV28,BW28,BX28,BY28,BZ28,CA28,CB28,CC28,CD28,CE28,CF28),\"-\"))","v":""},null,"",null,null,null,null,null,null,null,null,null,null,null,null,null,null,null,null,"","",0,0,null,{"$f":"IF(ใส่ชื่อ!D23=\"\",\"\",IF(COUNTIF(DA28:DC28,\"มผ\"),\"มผ\",IF(DC28=\"มผ\",\"มผ\",IF(DP28=\"ปกติ\",SUM(DA28:DB28,IF(DD28=\"\",DC28,DD28)),\"-\"))))","v":""},null,"",null,null,{"$f":"IF(ใส่ชื่อ!D23=\"\",\"\",IF(DE28=\"\",\"\",IF(COUNTIF(DA28:DH28,\"มผ\"),\"มผ\",IF(COUNTIF(DA28:DH28,\"-\"),\"-\",IF(DP28=\"ปกติ\",SUM(DE28,IF(DH28=\"\",DG28,DH28)))))))","v":""},null,null,null,{"$f":"IF(ใส่ชื่อ!A23=\"\",\"\",IF(DJ28=\"-\",\"-\",IF(DJ28=0,\"\",IF(DP28=\"ปกติ\",MAXA(DJ28/2,DL28/2)))))","v":""},null,{"$f":"IF(เวลาเรียน!M30=\"\",\"\",เวลาเรียน!M30)","v":"ปกติ"}]
[23,2519,{"$f":"CONCATENATE(ใส่ชื่อ!C24)","v":""},{"$f":"CONCATENATE(ใส่ชื่อ!D24&ใส่ชื่อ!E24&\"  \"&ใส่ชื่อ!F24)","v":"  "},{"$f":"ใส่ชื่อ!A24","v":0},null,null,null,null,null,null,null,null,null,null,null,null,null,null,null,null,null,null,null,null,null,null,null,null,null,null,null,null,null,null,null,null,null,null,null,null,null,null,null,null,null,null,null,null,null,null,null,null,null,null,null,null,null,null,null,null,null,null,null,null,null,null,null,null,null,null,null,null,null,null,null,null,null,null,null,null,null,null,null,null,null,null,null,null,null,null,null,null,null,null,null,null,null,null,null,null,null,null,null,0,0,0,null,{"$f":"IF(ใส่ชื่อ!D24=\"\",\"\",IF(COUNTIF(DA29:DC29,\"มผ\"),\"มผ\",IF(DC29=\"มผ\",\"มผ\",IF(DP29=\"ปกติ\",SUM(DA29:DB29,IF(DD29=\"\",DC29,DD29)),\"-\"))))","v":""},null,0,null,null,{"$f":"IF(ใส่ชื่อ!D24=\"\",\"\",IF(DE29=\"\",\"\",IF(COUNTIF(DA29:DH29,\"มผ\"),\"มผ\",IF(COUNTIF(DA29:DH29,\"-\"),\"-\",IF(DP29=\"ปกติ\",SUM(DE29,IF(DH29=\"\",DG29,DH29)))))))","v":""},null,null,null,{"$f":"IF(ใส่ชื่อ!A24=\"\",\"\",IF(DJ29=\"-\",\"-\",IF(DJ29=0,\"\",IF(DP29=\"ปกติ\",MAXA(DJ29/2,DL29/2)))))","v":""},null,"                                                  "]
[24,2520,{"$f":"CONCATENATE(ใส่ชื่อ!C25)","v":""},{"$f":"CONCATENATE(ใส่ชื่อ!D25&ใส่ชื่อ!E25&\"  \"&ใส่ชื่อ!F25)","v":"  "},{"$f":"ใส่ชื่อ!A25","v":0},null,null,null,null,null,null,null,null,null,null,null,null,null,null,null,null,null,null,null,null,null,null,null,null,null,null,null,null,null,null,null,null,null,null,null,null,null,null,null,null,null,null,null,null,null,null,null,null,null,null,null,null,null,null,null,null,null,null,null,null,null,null,null,null,null,null,null,null,null,null,null,null,null,null,null,null,null,null,null,null,null,null,null,null,null,null,null,null,null,null,null,null,null,null,null,null,null,null,null,0,0,0,null,{"$f":"IF(ใส่ชื่อ!D25=\"\",\"\",IF(COUNTIF(DA30:DC30,\"มผ\"),\"มผ\",IF(DC30=\"มผ\",\"มผ\",IF(DP30=\"ปกติ\",SUM(DA30:DB30,IF(DD30=\"\",DC30,DD30)),\"-\"))))","v":""},null,0,null,null,{"$f":"IF(ใส่ชื่อ!D25=\"\",\"\",IF(DE30=\"\",\"\",IF(COUNTIF(DA30:DH30,\"มผ\"),\"มผ\",IF(COUNTIF(DA30:DH30,\"-\"),\"-\",IF(DP30=\"ปกติ\",SUM(DE30,IF(DH30=\"\",DG30,DH30)))))))","v":""},null,null,null,{"$f":"IF(ใส่ชื่อ!A25=\"\",\"\",IF(DJ30=\"-\",\"-\",IF(DJ30=0,\"\",IF(DP30=\"ปกติ\",MAXA(DJ30/2,DL30/2)))))","v":""},null,{"$f":"IF(เวลาเรียน!M32=\"\",\"\",เวลาเรียน!M32)","v":""}]
[25,2521,{"$f":"CONCATENATE(ใส่ชื่อ!C26)","v":""},{"$f":"CONCATENATE(ใส่ชื่อ!D26&ใส่ชื่อ!E26&\"  \"&ใส่ชื่อ!F26)","v":"  "},{"$f":"ใส่ชื่อ!A26","v":0},null,null,null,null,null,null,null,null,null,null,null,null,null,null,null,null,null,null,null,null,null,null,null,null,null,null,null,null,null,null,null,null,null,null,null,null,null,null,null,null,null,null,null,null,null,null,null,null,null,null,null,null,null,null,null,null,null,null,null,null,null,null,null,null,null,null,null,null,null,null,null,null,null,null,null,null,null,null,null,null,null,null,null,null,null,null,null,null,null,null,null,null,null,null,null,null,null,null,null,0,0,0,null,{"$f":"IF(ใส่ชื่อ!D26=\"\",\"\",IF(COUNTIF(DA31:DC31,\"มผ\"),\"มผ\",IF(DC31=\"มผ\",\"มผ\",IF(DP31=\"ปกติ\",SUM(DA31:DB31,IF(DD31=\"\",DC31,DD31)),\"-\"))))","v":""},null,0,null,null,{"$f":"IF(ใส่ชื่อ!D26=\"\",\"\",IF(DE31=\"\",\"\",IF(COUNTIF(DA31:DH31,\"มผ\"),\"มผ\",IF(COUNTIF(DA31:DH31,\"-\"),\"-\",IF(DP31=\"ปกติ\",SUM(DE31,IF(DH31=\"\",DG31,DH31)))))))","v":""},null,null,null,{"$f":"IF(ใส่ชื่อ!A26=\"\",\"\",IF(DJ31=\"-\",\"-\",IF(DJ31=0,\"\",IF(DP31=\"ปกติ\",MAXA(DJ31/2,DL31/2)))))","v":""},null,{"$f":"IF(เวลาเรียน!M33=\"\",\"\",เวลาเรียน!M33)","v":""}]
[26,2522,{"$f":"CONCATENATE(ใส่ชื่อ!C27)","v":""},{"$f":"CONCATENATE(ใส่ชื่อ!D27&ใส่ชื่อ!E27&\"  \"&ใส่ชื่อ!F27)","v":"  "},{"$f":"ใส่ชื่อ!A27","v":0},null,null,null,null,null,null,null,null,null,null,null,null,null,null,null,null,null,null,null,null,null,null,null,null,null,null,null,null,null,null,null,null,null,null,null,null,null,null,null,null,null,null,null,null,null,null,null,null,null,null,null,null,null,null,null,null,null,null,null,null,null,null,null,null,null,null,null,null,null,null,null,null,null,null,null,null,null,null,null,null,null,null,null,null,null,null,null,null,null,null,null,null,null,null,null,null,null,null,null,0,0,0,null,{"$f":"IF(ใส่ชื่อ!D27=\"\",\"\",IF(COUNTIF(DA32:DC32,\"มผ\"),\"มผ\",IF(DC32=\"มผ\",\"มผ\",IF(DP32=\"ปกติ\",SUM(DA32:DB32,IF(DD32=\"\",DC32,DD32)),\"-\"))))","v":""},null,0,null,null,{"$f":"IF(ใส่ชื่อ!D27=\"\",\"\",IF(DE32=\"\",\"\",IF(COUNTIF(DA32:DH32,\"มผ\"),\"มผ\",IF(COUNTIF(DA32:DH32,\"-\"),\"-\",IF(DP32=\"ปกติ\",SUM(DE32,IF(DH32=\"\",DG32,DH32)))))))","v":""},null,null,null,{"$f":"IF(ใส่ชื่อ!A27=\"\",\"\",IF(DJ32=\"-\",\"-\",IF(DJ32=0,\"\",IF(DP32=\"ปกติ\",MAXA(DJ32/2,DL32/2)))))","v":""},null,{"$f":"IF(เวลาเรียน!M34=\"\",\"\",เวลาเรียน!M34)","v":""}]
[27,2523,{"$f":"CONCATENATE(ใส่ชื่อ!C28)","v":""},{"$f":"CONCATENATE(ใส่ชื่อ!D28&ใส่ชื่อ!E28&\"  \"&ใส่ชื่อ!F28)","v":"  "},{"$f":"ใส่ชื่อ!A28","v":0},null,null,null,null,null,null,null,null,null,null,null,null,null,null,null,null,null,null,null,null,null,null,null,null,null,null,null,null,null,null,null,null,null,null,null,null,null,null,null,null,null,null,null,null,null,null,null,null,null,null,null,null,null,null,null,null,null,null,null,null,null,null,null,null,null,null,null,null,null,null,null,null,null,null,null,null,null,null,null,null,null,null,null,null,null,null,null,null,null,null,null,null,null,null,null,null,null,null,null,0,0,0,null,{"$f":"IF(ใส่ชื่อ!D28=\"\",\"\",IF(COUNTIF(DA33:DC33,\"มผ\"),\"มผ\",IF(DC33=\"มผ\",\"มผ\",IF(DP33=\"ปกติ\",SUM(DA33:DB33,IF(DD33=\"\",DC33,DD33)),\"-\"))))","v":""},null,0,null,null,{"$f":"IF(ใส่ชื่อ!D28=\"\",\"\",IF(DE33=\"\",\"\",IF(COUNTIF(DA33:DH33,\"มผ\"),\"มผ\",IF(COUNTIF(DA33:DH33,\"-\"),\"-\",IF(DP33=\"ปกติ\",SUM(DE33,IF(DH33=\"\",DG33,DH33)))))))","v":""},null,null,null,{"$f":"IF(ใส่ชื่อ!A28=\"\",\"\",IF(DJ33=\"-\",\"-\",IF(DJ33=0,\"\",IF(DP33=\"ปกติ\",MAXA(DJ33/2,DL33/2)))))","v":""},null,{"$f":"IF(เวลาเรียน!M35=\"\",\"\",เวลาเรียน!M35)","v":""}]
[28,2524,{"$f":"CONCATENATE(ใส่ชื่อ!C29)","v":""},{"$f":"CONCATENATE(ใส่ชื่อ!D29&ใส่ชื่อ!E29&\"  \"&ใส่ชื่อ!F29)","v":"  "},{"$f":"ใส่ชื่อ!A29","v":0},null,null,null,null,null,null,null,null,null,null,null,null,null,null,null,null,null,null,null,null,null,null,null,null,null,null,null,null,null,null,null,null,null,null,null,null,null,null,null,null,null,null,null,null,null,null,null,null,null,null,null,null,null,null,null,null,null,null,null,null,null,null,null,null,null,null,null,null,null,null,null,null,null,null,null,null,null,null,null,null,null,null,null,null,null,null,null,null,null,null,null,null,null,null,null,null,null,null,null,0,0,0,null,{"$f":"IF(ใส่ชื่อ!D29=\"\",\"\",IF(COUNTIF(DA34:DC34,\"มผ\"),\"มผ\",IF(DC34=\"มผ\",\"มผ\",IF(DP34=\"ปกติ\",SUM(DA34:DB34,IF(DD34=\"\",DC34,DD34)),\"-\"))))","v":""},null,0,null,null,{"$f":"IF(ใส่ชื่อ!D29=\"\",\"\",IF(DE34=\"\",\"\",IF(COUNTIF(DA34:DH34,\"มผ\"),\"มผ\",IF(COUNTIF(DA34:DH34,\"-\"),\"-\",IF(DP34=\"ปกติ\",SUM(DE34,IF(DH34=\"\",DG34,DH34)))))))","v":""},null,null,null,{"$f":"IF(ใส่ชื่อ!A29=\"\",\"\",IF(DJ34=\"-\",\"-\",IF(DJ34=0,\"\",IF(DP34=\"ปกติ\",MAXA(DJ34/2,DL34/2)))))","v":""},null,{"$f":"IF(เวลาเรียน!M36=\"\",\"\",เวลาเรียน!M36)","v":""}]
[29,2525,{"$f":"CONCATENATE(ใส่ชื่อ!C30)","v":""},{"$f":"CONCATENATE(ใส่ชื่อ!D30&ใส่ชื่อ!E30&\"  \"&ใส่ชื่อ!F30)","v":"  "},{"$f":"ใส่ชื่อ!A30","v":0},null,null,null,null,null,null,null,null,null,null,null,null,null,null,null,null,null,null,null,null,null,null,null,null,null,null,null,null,null,null,null,null,null,null,null,null,null,null,null,null,null,null,null,null,null,null,null,null,null,null,null,null,null,null,null,null,null,null,null,null,null,null,null,null,null,null,null,null,null,null,null,null,null,null,null,null,null,null,null,null,null,null,null,null,null,null,null,null,null,null,null,null,null,null,null,null,null,null,null,0,0,0,null,{"$f":"IF(ใส่ชื่อ!D30=\"\",\"\",IF(COUNTIF(DA35:DC35,\"มผ\"),\"มผ\",IF(DC35=\"มผ\",\"มผ\",IF(DP35=\"ปกติ\",SUM(DA35:DB35,IF(DD35=\"\",DC35,DD35)),\"-\"))))","v":""},null,0,null,null,{"$f":"IF(ใส่ชื่อ!D30=\"\",\"\",IF(DE35=\"\",\"\",IF(COUNTIF(DA35:DH35,\"มผ\"),\"มผ\",IF(COUNTIF(DA35:DH35,\"-\"),\"-\",IF(DP35=\"ปกติ\",SUM(DE35,IF(DH35=\"\",DG35,DH35)))))))","v":""},null,null,null,{"$f":"IF(ใส่ชื่อ!A30=\"\",\"\",IF(DJ35=\"-\",\"-\",IF(DJ35=0,\"\",IF(DP35=\"ปกติ\",MAXA(DJ35/2,DL35/2)))))","v":""},null,{"$f":"IF(เวลาเรียน!M37=\"\",\"\",เวลาเรียน!M37)","v":""}]
[30,2526,{"$f":"CONCATENATE(ใส่ชื่อ!C31)","v":""},{"$f":"CONCATENATE(ใส่ชื่อ!D31&ใส่ชื่อ!E31&\"  \"&ใส่ชื่อ!F31)","v":"  "},{"$f":"ใส่ชื่อ!A31","v":0},null,null,null,null,null,null,null,null,null,null,null,null,null,null,null,null,null,null,null,null,null,null,null,null,null,null,null,null,null,null,null,null,null,null,null,null,null,null,null,null,null,null,null,null,null,null,null,null,null,null,null,null,null,null,null,null,null,null,null,null,null,null,null,null,null,null,null,null,null,null,null,null,null,null,null,null,null,null,null,null,null,null,null,null,null,null,null,null,null,null,null,null,null,null,null,null,null,null,null,0,0,0,null,{"$f":"IF(ใส่ชื่อ!D31=\"\",\"\",IF(COUNTIF(DA36:DC36,\"มผ\"),\"มผ\",IF(DC36=\"มผ\",\"มผ\",IF(DP36=\"ปกติ\",SUM(DA36:DB36,IF(DD36=\"\",DC36,DD36)),\"-\"))))","v":""},null,0,null,null,{"$f":"IF(ใส่ชื่อ!D31=\"\",\"\",IF(DE36=\"\",\"\",IF(COUNTIF(DA36:DH36,\"มผ\"),\"มผ\",IF(COUNTIF(DA36:DH36,\"-\"),\"-\",IF(DP36=\"ปกติ\",SUM(DE36,IF(DH36=\"\",DG36,DH36)))))))","v":""},null,null,null,{"$f":"IF(ใส่ชื่อ!A31=\"\",\"\",IF(DJ36=\"-\",\"-\",IF(DJ36=0,\"\",IF(DP36=\"ปกติ\",MAXA(DJ36/2,DL36/2)))))","v":""},null,{"$f":"IF(เวลาเรียน!M38=\"\",\"\",เวลาเรียน!M38)","v":""}]
[31,2528,{"$f":"CONCATENATE(ใส่ชื่อ!C32)","v":""},{"$f":"CONCATENATE(ใส่ชื่อ!D32&ใส่ชื่อ!E32&\"  \"&ใส่ชื่อ!F32)","v":"  "},{"$f":"ใส่ชื่อ!A32","v":0},null,null,null,null,null,null,null,null,null,null,null,null,null,null,null,null,null,null,null,null,null,null,null,null,null,null,null,null,null,null,null,null,null,null,null,null,null,null,null,null,null,null,null,null,null,null,null,null,null,null,null,null,null,null,null,null,null,null,null,null,null,null,null,null,null,null,null,null,null,null,null,null,null,null,null,null,null,null,null,null,null,null,null,null,null,null,null,null,null,null,null,null,null,null,null,null,null,null,null,0,0,0,null,{"$f":"IF(ใส่ชื่อ!D32=\"\",\"\",IF(COUNTIF(DA37:DC37,\"มผ\"),\"มผ\",IF(DC37=\"มผ\",\"มผ\",IF(DP37=\"ปกติ\",SUM(DA37:DB37,IF(DD37=\"\",DC37,DD37)),\"-\"))))","v":""},null,0,null,null,{"$f":"IF(ใส่ชื่อ!D32=\"\",\"\",IF(DE37=\"\",\"\",IF(COUNTIF(DA37:DH37,\"มผ\"),\"มผ\",IF(COUNTIF(DA37:DH37,\"-\"),\"-\",IF(DP37=\"ปกติ\",SUM(DE37,IF(DH37=\"\",DG37,DH37)))))))","v":""},null,null,null,{"$f":"IF(ใส่ชื่อ!A32=\"\",\"\",IF(DJ37=\"-\",\"-\",IF(DJ37=0,\"\",IF(DP37=\"ปกติ\",MAXA(DJ37/2,DL37/2)))))","v":""},null,{"$f":"IF(เวลาเรียน!M39=\"\",\"\",เวลาเรียน!M39)","v":""}]
[32,2529,{"$f":"CONCATENATE(ใส่ชื่อ!C33)","v":""},{"$f":"CONCATENATE(ใส่ชื่อ!D33&ใส่ชื่อ!E33&\"  \"&ใส่ชื่อ!F33)","v":"  "},{"$f":"ใส่ชื่อ!A33","v":0},null,null,null,null,null,null,null,null,null,null,null,null,null,null,null,null,null,null,null,null,{"$f":"IF(ใส่ชื่อ!D33=\"\",\"\",IF(DP38=\"ปกติ\",SUM(F38,G38,H38,I38,J38,K38,L38,M38,N38,O38,P38,Q38,R38,S38,T38,U38,V38,W38,X38,Y38),\"-\"))","v":""},null,"",null,null,null,null,null,null,null,null,null,null,null,null,null,null,null,null,null,null,null,null,{"$f":"IF(ใส่ชื่อ!D33=\"\",\"\",IF(COUNTIF(AC38:AS38,0),\"มผ\",IF(DP38=\"ปกติ\",SUM(AC38,AD38,AE38,AF38,AG38,AH38,AI38,AJ38,AK38,AL38,AM38,AN38,AO38,AP38,AQ38,AR38,AS38),\"-\")))","v":""},null,"",null,null,null,null,null,null,null,null,null,null,null,null,null,null,null,{"$f":"IF(ใส่ชื่อ!D33=\"\",\"\",IF(COUNTIF(AZ38:BN38,0),\"มผ\",IF(DP38=\"ปกติ\",SUM(AZ38,BA38,BB38,BC38,BD38,BE38,BF38,BG38,BH38,BI38,BJ38,BK38,BL38,BM38,BN38),\"-\")))","v":""},null,"",null,null,null,null,null,null,null,null,null,null,null,null,null,null,null,{"$f":"IF(ใส่ชื่อ!D33=\"\",\"\",IF(DP38=\"ปกติ\",SUM(BR38,BS38,BT38,BU38,BV38,BW38,BX38,BY38,BZ38,CA38,CB38,CC38,CD38,CE38,CF38),\"-\"))","v":""},null,"",null,null,null,null,null,{"$f":"IF(ใส่ชื่อ!D33=\"\",\"\",IF(CJ38=\"\",\"\",(IF(CK38=\"\",\"\",(IF(CL38=\"\",\"\",(IF(CM38=\"\",\"\",(IF(CN38=\"\",\"\",(SUM(CJ38:CN38))))))))))))","v":""},{"$f":"IF(CO38=\"\",\"\",IF(CO38=\"-\",\"-\",IF(CO38=\"ร\",\"ร\",IF(CO38=0,0,IF($CO$5=0,\"\",ROUND(CO38/5,0))))))","v":""},{"$f":"IF(CP38=\"\",\"\",(IF(CP38>=2.5,\"ดย\",(IF(CP38>=1.5,\"ด\",(IF(CP38>=0.6,\"ผ\",(IF(CP38<=0.4,\"มผ\")))))))))","v":""},null,null,null,null,null,null,null,null,"","","","",null,{"$f":"IF(ใส่ชื่อ!D33=\"\",\"\",IF(COUNTIF(DA38:DC38,\"มผ\"),\"มผ\",IF(DC38=\"มผ\",\"มผ\",IF(DP38=\"ปกติ\",SUM(DA38:DB38,IF(DD38=\"\",DC38,DD38)),\"-\"))))","v":""},null,"",null,null,{"$f":"IF(ใส่ชื่อ!D33=\"\",\"\",IF(DE38=\"\",\"\",IF(COUNTIF(DA38:DH38,\"มผ\"),\"มผ\",IF(COUNTIF(DA38:DH38,\"-\"),\"-\",IF(DP38=\"ปกติ\",SUM(DE38,IF(DH38=\"\",DG38,DH38)))))))","v":""},null,null,null,{"$f":"IF(ใส่ชื่อ!A33=\"\",\"\",IF(DJ38=\"-\",\"-\",IF(DJ38=0,\"\",IF(DP38=\"ปกติ\",MAXA(DJ38/2,DL38/2)))))","v":""},null,{"$f":"IF(เวลาเรียน!M40=\"\",\"\",เวลาเรียน!M40)","v":""}]
[33,0,{"$f":"CONCATENATE(ใส่ชื่อ!C34)","v":""},{"$f":"CONCATENATE(ใส่ชื่อ!D34&ใส่ชื่อ!E34&\"  \"&ใส่ชื่อ!F34)","v":"  "},{"$f":"ใส่ชื่อ!A34","v":0},null,null,null,null,null,null,null,null,null,null,null,null,null,null,null,null,null,null,null,null,{"$f":"IF(ใส่ชื่อ!D34=\"\",\"\",IF(DP39=\"ปกติ\",SUM(F39,G39,H39,I39,J39,K39,L39,M39,N39,O39,P39,Q39,R39,S39,T39,U39,V39,W39,X39,Y39),\"-\"))","v":""},null,"",null,null,null,null,null,null,null,null,null,null,null,null,null,null,null,null,null,null,null,null,{"$f":"IF(ใส่ชื่อ!D34=\"\",\"\",IF(COUNTIF(AC39:AS39,0),\"มผ\",IF(DP39=\"ปกติ\",SUM(AC39,AD39,AE39,AF39,AG39,AH39,AI39,AJ39,AK39,AL39,AM39,AN39,AO39,AP39,AQ39,AR39,AS39),\"-\")))","v":""},null,"",null,null,null,null,null,null,null,null,null,null,null,null,null,null,null,{"$f":"IF(ใส่ชื่อ!D34=\"\",\"\",IF(COUNTIF(AZ39:BN39,0),\"มผ\",IF(DP39=\"ปกติ\",SUM(AZ39,BA39,BB39,BC39,BD39,BE39,BF39,BG39,BH39,BI39,BJ39,BK39,BL39,BM39,BN39),\"-\")))","v":""},null,"",null,null,null,null,null,null,null,null,null,null,null,null,null,null,null,{"$f":"IF(ใส่ชื่อ!D34=\"\",\"\",IF(DP39=\"ปกติ\",SUM(BR39,BS39,BT39,BU39,BV39,BW39,BX39,BY39,BZ39,CA39,CB39,CC39,CD39,CE39,CF39),\"-\"))","v":""},null,"",null,null,null,null,null,{"$f":"IF(ใส่ชื่อ!D34=\"\",\"\",IF(CJ39=\"\",\"\",(IF(CK39=\"\",\"\",(IF(CL39=\"\",\"\",(IF(CM39=\"\",\"\",(IF(CN39=\"\",\"\",(SUM(CJ39:CN39))))))))))))","v":""},"","",null,null,null,null,null,null,null,null,"",{"$f":"AB39","v":""},{"$f":"AY39","v":""},{"$f":"BQ39","v":""},null,{"$f":"IF(ใส่ชื่อ!D34=\"\",\"\",IF(COUNTIF(DA39:DC39,\"มผ\"),\"มผ\",IF(DC39=\"มผ\",\"มผ\",IF(DP39=\"ปกติ\",SUM(DA39:DB39,IF(DD39=\"\",DC39,DD39)),\"-\"))))","v":""},null,{"$f":"CI39","v":""},null,null,{"$f":"IF(ใส่ชื่อ!D34=\"\",\"\",IF(DE39=\"\",\"\",IF(COUNTIF(DA39:DH39,\"มผ\"),\"มผ\",IF(COUNTIF(DA39:DH39,\"-\"),\"-\",IF(DP39=\"ปกติ\",SUM(DE39,IF(DH39=\"\",DG39,DH39)))))))","v":""},null,null,null,{"$f":"IF(ใส่ชื่อ!A34=\"\",\"\",IF(DJ39=\"-\",\"-\",IF(DJ39=0,\"\",IF(DP39=\"ปกติ\",MAXA(DJ39/2,DL39/2)))))","v":""},null,{"$f":"IF(เวลาเรียน!M41=\"\",\"\",เวลาเรียน!M41)","v":""}]
[34,0,{"$f":"CONCATENATE(ใส่ชื่อ!C35)","v":""},{"$f":"CONCATENATE(ใส่ชื่อ!D35&ใส่ชื่อ!E35&\"  \"&ใส่ชื่อ!F35)","v":"  "},{"$f":"ใส่ชื่อ!A35","v":0},null,null,null,null,null,null,null,null,null,null,null,null,null,null,null,null,null,null,null,null,{"$f":"IF(ใส่ชื่อ!D35=\"\",\"\",IF(DP40=\"ปกติ\",SUM(F40,G40,H40,I40,J40,K40,L40,M40,N40,O40,P40,Q40,R40,S40,T40,U40,V40,W40,X40,Y40),\"-\"))","v":""},null,"",null,null,null,null,null,null,null,null,null,null,null,null,null,null,null,null,null,null,null,null,{"$f":"IF(ใส่ชื่อ!D35=\"\",\"\",IF(COUNTIF(AC40:AS40,0),\"มผ\",IF(DP40=\"ปกติ\",SUM(AC40,AD40,AE40,AF40,AG40,AH40,AI40,AJ40,AK40,AL40,AM40,AN40,AO40,AP40,AQ40,AR40,AS40),\"-\")))","v":""},null,"",null,null,null,null,null,null,null,null,null,null,null,null,null,null,null,{"$f":"IF(ใส่ชื่อ!D35=\"\",\"\",IF(COUNTIF(AZ40:BN40,0),\"มผ\",IF(DP40=\"ปกติ\",SUM(AZ40,BA40,BB40,BC40,BD40,BE40,BF40,BG40,BH40,BI40,BJ40,BK40,BL40,BM40,BN40),\"-\")))","v":""},null,"",null,null,null,null,null,null,null,null,null,null,null,null,null,null,null,{"$f":"IF(ใส่ชื่อ!D35=\"\",\"\",IF(DP40=\"ปกติ\",SUM(BR40,BS40,BT40,BU40,BV40,BW40,BX40,BY40,BZ40,CA40,CB40,CC40,CD40,CE40,CF40),\"-\"))","v":""},null,"",null,null,null,null,null,{"$f":"IF(ใส่ชื่อ!D35=\"\",\"\",IF(CJ40=\"\",\"\",(IF(CK40=\"\",\"\",(IF(CL40=\"\",\"\",(IF(CM40=\"\",\"\",(IF(CN40=\"\",\"\",(SUM(CJ40:CN40))))))))))))","v":""},"","",null,null,null,null,null,null,null,null,"","","","",null,{"$f":"IF(ใส่ชื่อ!D35=\"\",\"\",IF(COUNTIF(DA40:DC40,\"มผ\"),\"มผ\",IF(DC40=\"มผ\",\"มผ\",IF(DP40=\"ปกติ\",SUM(DA40:DB40,IF(DD40=\"\",DC40,DD40)),\"-\"))))","v":""},null,"",null,null,{"$f":"IF(ใส่ชื่อ!D35=\"\",\"\",IF(DE40=\"\",\"\",IF(COUNTIF(DA40:DH40,\"มผ\"),\"มผ\",IF(COUNTIF(DA40:DH40,\"-\"),\"-\",IF(DP40=\"ปกติ\",SUM(DE40,IF(DH40=\"\",DG40,DH40)))))))","v":""},null,null,null,{"$f":"IF(ใส่ชื่อ!A35=\"\",\"\",IF(DJ40=\"-\",\"-\",IF(DJ40=0,\"\",IF(DP40=\"ปกติ\",MAXA(DJ40/2,DL40/2)))))","v":""},null,{"$f":"IF(เวลาเรียน!M42=\"\",\"\",เวลาเรียน!M42)","v":""}]
[35,0,{"$f":"CONCATENATE(ใส่ชื่อ!C36)","v":""},{"$f":"CONCATENATE(ใส่ชื่อ!D36&ใส่ชื่อ!E36&\"  \"&ใส่ชื่อ!F36)","v":"  "},{"$f":"ใส่ชื่อ!A36","v":0},null,null,null,null,null,null,null,null,null,null,null,null,null,null,null,null,null,null,null,null,{"$f":"IF(ใส่ชื่อ!D36=\"\",\"\",IF(DP41=\"ปกติ\",SUM(F41,G41,H41,I41,J41,K41,L41,M41,N41,O41,P41,Q41,R41,S41,T41,U41,V41,W41,X41,Y41),\"-\"))","v":""},null,"",null,null,null,null,null,null,null,null,null,null,null,null,null,null,null,null,null,null,null,null,{"$f":"IF(ใส่ชื่อ!D36=\"\",\"\",IF(COUNTIF(AC41:AS41,0),\"มผ\",IF(DP41=\"ปกติ\",SUM(AC41,AD41,AE41,AF41,AG41,AH41,AI41,AJ41,AK41,AL41,AM41,AN41,AO41,AP41,AQ41,AR41,AS41),\"-\")))","v":""},null,"",null,null,null,null,null,null,null,null,null,null,null,null,null,null,null,{"$f":"IF(ใส่ชื่อ!D36=\"\",\"\",IF(COUNTIF(AZ41:BN41,0),\"มผ\",IF(DP41=\"ปกติ\",SUM(AZ41,BA41,BB41,BC41,BD41,BE41,BF41,BG41,BH41,BI41,BJ41,BK41,BL41,BM41,BN41),\"-\")))","v":""},null,"",null,null,null,null,null,null,null,null,null,null,null,null,null,null,null,{"$f":"IF(ใส่ชื่อ!D36=\"\",\"\",IF(DP41=\"ปกติ\",SUM(BR41,BS41,BT41,BU41,BV41,BW41,BX41,BY41,BZ41,CA41,CB41,CC41,CD41,CE41,CF41),\"-\"))","v":""},null,"",null,null,null,null,null,{"$f":"IF(ใส่ชื่อ!D36=\"\",\"\",IF(CJ41=\"\",\"\",(IF(CK41=\"\",\"\",(IF(CL41=\"\",\"\",(IF(CM41=\"\",\"\",(IF(CN41=\"\",\"\",(SUM(CJ41:CN41))))))))))))","v":""},"","",null,null,null,null,null,null,null,null,"","","","",null,{"$f":"IF(ใส่ชื่อ!D36=\"\",\"\",IF(COUNTIF(DA41:DC41,\"มผ\"),\"มผ\",IF(DC41=\"มผ\",\"มผ\",IF(DP41=\"ปกติ\",SUM(DA41:DB41,IF(DD41=\"\",DC41,DD41)),\"-\"))))","v":""},null,"",null,null,{"$f":"IF(ใส่ชื่อ!D36=\"\",\"\",IF(DE41=\"\",\"\",IF(COUNTIF(DA41:DH41,\"มผ\"),\"มผ\",IF(COUNTIF(DA41:DH41,\"-\"),\"-\",IF(DP41=\"ปกติ\",SUM(DE41,IF(DH41=\"\",DG41,DH41)))))))","v":""},null,null,null,{"$f":"IF(ใส่ชื่อ!A36=\"\",\"\",IF(DJ41=\"-\",\"-\",IF(DJ41=0,\"\",IF(DP41=\"ปกติ\",MAXA(DJ41/2,DL41/2)))))","v":""},null,{"$f":"IF(เวลาเรียน!M43=\"\",\"\",เวลาเรียน!M43)","v":""}]
[36,0,{"$f":"CONCATENATE(ใส่ชื่อ!C37)","v":""},{"$f":"CONCATENATE(ใส่ชื่อ!D37&ใส่ชื่อ!E37&\"  \"&ใส่ชื่อ!F37)","v":"  "},{"$f":"ใส่ชื่อ!A37","v":0},null,null,null,null,null,null,null,null,null,null,null,null,null,null,null,null,null,null,null,null,{"$f":"IF(ใส่ชื่อ!D37=\"\",\"\",IF(DP42=\"ปกติ\",SUM(F42,G42,H42,I42,J42,K42,L42,M42,N42,O42,P42,Q42,R42,S42,T42,U42,V42,W42,X42,Y42),\"-\"))","v":""},null,"",null,null,null,null,null,null,null,null,null,null,null,null,null,null,null,null,null,null,null,null,{"$f":"IF(ใส่ชื่อ!D37=\"\",\"\",IF(COUNTIF(AC42:AS42,0),\"มผ\",IF(DP42=\"ปกติ\",SUM(AC42,AD42,AE42,AF42,AG42,AH42,AI42,AJ42,AK42,AL42,AM42,AN42,AO42,AP42,AQ42,AR42,AS42),\"-\")))","v":""},null,"",null,null,null,null,null,null,null,null,null,null,null,null,null,null,null,{"$f":"IF(ใส่ชื่อ!D37=\"\",\"\",IF(COUNTIF(AZ42:BN42,0),\"มผ\",IF(DP42=\"ปกติ\",SUM(AZ42,BA42,BB42,BC42,BD42,BE42,BF42,BG42,BH42,BI42,BJ42,BK42,BL42,BM42,BN42),\"-\")))","v":""},null,"",null,null,null,null,null,null,null,null,null,null,null,null,null,null,null,{"$f":"IF(ใส่ชื่อ!D37=\"\",\"\",IF(DP42=\"ปกติ\",SUM(BR42,BS42,BT42,BU42,BV42,BW42,BX42,BY42,BZ42,CA42,CB42,CC42,CD42,CE42,CF42),\"-\"))","v":""},null,"",null,null,null,null,null,{"$f":"IF(ใส่ชื่อ!D37=\"\",\"\",IF(CJ42=\"\",\"\",(IF(CK42=\"\",\"\",(IF(CL42=\"\",\"\",(IF(CM42=\"\",\"\",(IF(CN42=\"\",\"\",(SUM(CJ42:CN42))))))))))))","v":""},"","",null,null,null,null,null,null,null,null,"","","","",null,{"$f":"IF(ใส่ชื่อ!D37=\"\",\"\",IF(COUNTIF(DA42:DC42,\"มผ\"),\"มผ\",IF(DC42=\"มผ\",\"มผ\",IF(DP42=\"ปกติ\",SUM(DA42:DB42,IF(DD42=\"\",DC42,DD42)),\"-\"))))","v":""},null,"",null,null,{"$f":"IF(ใส่ชื่อ!D37=\"\",\"\",IF(DE42=\"\",\"\",IF(COUNTIF(DA42:DH42,\"มผ\"),\"มผ\",IF(COUNTIF(DA42:DH42,\"-\"),\"-\",IF(DP42=\"ปกติ\",SUM(DE42,IF(DH42=\"\",DG42,DH42)))))))","v":""},null,null,null,{"$f":"IF(ใส่ชื่อ!A37=\"\",\"\",IF(DJ42=\"-\",\"-\",IF(DJ42=0,\"\",IF(DP42=\"ปกติ\",MAXA(DJ42/2,DL42/2)))))","v":""},null,{"$f":"IF(เวลาเรียน!M44=\"\",\"\",เวลาเรียน!M44)","v":""}]
[37,0,{"$f":"CONCATENATE(ใส่ชื่อ!C38)","v":""},{"$f":"CONCATENATE(ใส่ชื่อ!D38&ใส่ชื่อ!E38&\"  \"&ใส่ชื่อ!F38)","v":"  "},{"$f":"ใส่ชื่อ!A38","v":0},null,null,null,null,null,null,null,null,null,null,null,null,null,null,null,null,null,null,null,null,{"$f":"IF(ใส่ชื่อ!D38=\"\",\"\",IF(DP43=\"ปกติ\",SUM(F43,G43,H43,I43,J43,K43,L43,M43,N43,O43,P43,Q43,R43,S43,T43,U43,V43,W43,X43,Y43),\"-\"))","v":""},null,"",null,null,null,null,null,null,null,null,null,null,null,null,null,null,null,null,null,null,null,null,{"$f":"IF(ใส่ชื่อ!D38=\"\",\"\",IF(COUNTIF(AC43:AS43,0),\"มผ\",IF(DP43=\"ปกติ\",SUM(AC43,AD43,AE43,AF43,AG43,AH43,AI43,AJ43,AK43,AL43,AM43,AN43,AO43,AP43,AQ43,AR43,AS43),\"-\")))","v":""},null,"",null,null,null,null,null,null,null,null,null,null,null,null,null,null,null,{"$f":"IF(ใส่ชื่อ!D38=\"\",\"\",IF(COUNTIF(AZ43:BN43,0),\"มผ\",IF(DP43=\"ปกติ\",SUM(AZ43,BA43,BB43,BC43,BD43,BE43,BF43,BG43,BH43,BI43,BJ43,BK43,BL43,BM43,BN43),\"-\")))","v":""},null,"",null,null,null,null,null,null,null,null,null,null,null,null,null,null,null,{"$f":"IF(ใส่ชื่อ!D38=\"\",\"\",IF(DP43=\"ปกติ\",SUM(BR43,BS43,BT43,BU43,BV43,BW43,BX43,BY43,BZ43,CA43,CB43,CC43,CD43,CE43,CF43),\"-\"))","v":""},null,"",null,null,null,null,null,{"$f":"IF(ใส่ชื่อ!D38=\"\",\"\",IF(CJ43=\"\",\"\",(IF(CK43=\"\",\"\",(IF(CL43=\"\",\"\",(IF(CM43=\"\",\"\",(IF(CN43=\"\",\"\",(SUM(CJ43:CN43))))))))))))","v":""},"","",null,null,null,null,null,null,null,null,"","","","",null,{"$f":"IF(ใส่ชื่อ!D38=\"\",\"\",IF(COUNTIF(DA43:DC43,\"มผ\"),\"มผ\",IF(DC43=\"มผ\",\"มผ\",IF(DP43=\"ปกติ\",SUM(DA43:DB43,IF(DD43=\"\",DC43,DD43)),\"-\"))))","v":""},null,"",null,null,{"$f":"IF(ใส่ชื่อ!D38=\"\",\"\",IF(DE43=\"\",\"\",IF(COUNTIF(DA43:DH43,\"มผ\"),\"มผ\",IF(COUNTIF(DA43:DH43,\"-\"),\"-\",IF(DP43=\"ปกติ\",SUM(DE43,IF(DH43=\"\",DG43,DH43)))))))","v":""},null,null,null,{"$f":"IF(ใส่ชื่อ!A38=\"\",\"\",IF(DJ43=\"-\",\"-\",IF(DJ43=0,\"\",IF(DP43=\"ปกติ\",MAXA(DJ43/2,DL43/2)))))","v":""},null,{"$f":"IF(เวลาเรียน!M45=\"\",\"\",เวลาเรียน!M45)","v":""}]
[38,0,{"$f":"CONCATENATE(ใส่ชื่อ!C39)","v":""},{"$f":"CONCATENATE(ใส่ชื่อ!D39&ใส่ชื่อ!E39&\"  \"&ใส่ชื่อ!F39)","v":"  "},{"$f":"ใส่ชื่อ!A39","v":0},null,null,null,null,null,null,null,null,null,null,null,null,null,null,null,null,null,null,null,null,{"$f":"IF(ใส่ชื่อ!D39=\"\",\"\",IF(DP44=\"ปกติ\",SUM(F44,G44,H44,I44,J44,K44,L44,M44,N44,O44,P44,Q44,R44,S44,T44,U44,V44,W44,X44,Y44),\"-\"))","v":""},null,"",null,null,null,null,null,null,null,null,null,null,null,null,null,null,null,null,null,null,null,null,{"$f":"IF(ใส่ชื่อ!D39=\"\",\"\",IF(COUNTIF(AC44:AS44,0),\"มผ\",IF(DP44=\"ปกติ\",SUM(AC44,AD44,AE44,AF44,AG44,AH44,AI44,AJ44,AK44,AL44,AM44,AN44,AO44,AP44,AQ44,AR44,AS44),\"-\")))","v":""},null,"",null,null,null,null,null,null,null,null,null,null,null,null,null,null,null,{"$f":"IF(ใส่ชื่อ!D39=\"\",\"\",IF(COUNTIF(AZ44:BN44,0),\"มผ\",IF(DP44=\"ปกติ\",SUM(AZ44,BA44,BB44,BC44,BD44,BE44,BF44,BG44,BH44,BI44,BJ44,BK44,BL44,BM44,BN44),\"-\")))","v":""},null,"",null,null,null,null,null,null,null,null,null,null,null,null,null,null,null,{"$f":"IF(ใส่ชื่อ!D39=\"\",\"\",IF(DP44=\"ปกติ\",SUM(BR44,BS44,BT44,BU44,BV44,BW44,BX44,BY44,BZ44,CA44,CB44,CC44,CD44,CE44,CF44),\"-\"))","v":""},null,"",null,null,null,null,null,{"$f":"IF(ใส่ชื่อ!D39=\"\",\"\",IF(CJ44=\"\",\"\",(IF(CK44=\"\",\"\",(IF(CL44=\"\",\"\",(IF(CM44=\"\",\"\",(IF(CN44=\"\",\"\",(SUM(CJ44:CN44))))))))))))","v":""},"","",null,null,null,null,null,null,null,null,"","","","",null,{"$f":"IF(ใส่ชื่อ!D39=\"\",\"\",IF(COUNTIF(DA44:DC44,\"มผ\"),\"มผ\",IF(DC44=\"มผ\",\"มผ\",IF(DP44=\"ปกติ\",SUM(DA44:DB44,IF(DD44=\"\",DC44,DD44)),\"-\"))))","v":""},null,"",null,null,{"$f":"IF(ใส่ชื่อ!D39=\"\",\"\",IF(DE44=\"\",\"\",IF(COUNTIF(DA44:DH44,\"มผ\"),\"มผ\",IF(COUNTIF(DA44:DH44,\"-\"),\"-\",IF(DP44=\"ปกติ\",SUM(DE44,IF(DH44=\"\",DG44,DH44)))))))","v":""},null,null,null,{"$f":"IF(ใส่ชื่อ!A39=\"\",\"\",IF(DJ44=\"-\",\"-\",IF(DJ44=0,\"\",IF(DP44=\"ปกติ\",MAXA(DJ44/2,DL44/2)))))","v":""},null,{"$f":"IF(เวลาเรียน!M46=\"\",\"\",เวลาเรียน!M46)","v":""}]
[39,0,{"$f":"CONCATENATE(ใส่ชื่อ!C40)","v":""},{"$f":"CONCATENATE(ใส่ชื่อ!D40&ใส่ชื่อ!E40&\"  \"&ใส่ชื่อ!F40)","v":"  "},{"$f":"ใส่ชื่อ!A40","v":0},null,null,null,null,null,null,null,null,null,null,null,null,null,null,null,null,null,null,null,null,{"$f":"IF(ใส่ชื่อ!D40=\"\",\"\",IF(DP45=\"ปกติ\",SUM(F45,G45,H45,I45,J45,K45,L45,M45,N45,O45,P45,Q45,R45,S45,T45,U45,V45,W45,X45,Y45),\"-\"))","v":""},null,"",null,null,null,null,null,null,null,null,null,null,null,null,null,null,null,null,null,null,null,null,{"$f":"IF(ใส่ชื่อ!D40=\"\",\"\",IF(COUNTIF(AC45:AS45,0),\"มผ\",IF(DP45=\"ปกติ\",SUM(AC45,AD45,AE45,AF45,AG45,AH45,AI45,AJ45,AK45,AL45,AM45,AN45,AO45,AP45,AQ45,AR45,AS45),\"-\")))","v":""},null,"",null,null,null,null,null,null,null,null,null,null,null,null,null,null,null,{"$f":"IF(ใส่ชื่อ!D40=\"\",\"\",IF(COUNTIF(AZ45:BN45,0),\"มผ\",IF(DP45=\"ปกติ\",SUM(AZ45,BA45,BB45,BC45,BD45,BE45,BF45,BG45,BH45,BI45,BJ45,BK45,BL45,BM45,BN45),\"-\")))","v":""},null,"",null,null,null,null,null,null,null,null,null,null,null,null,null,null,null,{"$f":"IF(ใส่ชื่อ!D40=\"\",\"\",IF(DP45=\"ปกติ\",SUM(BR45,BS45,BT45,BU45,BV45,BW45,BX45,BY45,BZ45,CA45,CB45,CC45,CD45,CE45,CF45),\"-\"))","v":""},null,"",null,null,null,null,null,{"$f":"IF(ใส่ชื่อ!D40=\"\",\"\",IF(CJ45=\"\",\"\",(IF(CK45=\"\",\"\",(IF(CL45=\"\",\"\",(IF(CM45=\"\",\"\",(IF(CN45=\"\",\"\",(SUM(CJ45:CN45))))))))))))","v":""},"","",null,null,null,null,null,null,null,null,"","","","",null,{"$f":"IF(ใส่ชื่อ!D40=\"\",\"\",IF(COUNTIF(DA45:DC45,\"มผ\"),\"มผ\",IF(DC45=\"มผ\",\"มผ\",IF(DP45=\"ปกติ\",SUM(DA45:DB45,IF(DD45=\"\",DC45,DD45)),\"-\"))))","v":""},null,"",null,null,{"$f":"IF(ใส่ชื่อ!D40=\"\",\"\",IF(DE45=\"\",\"\",IF(COUNTIF(DA45:DH45,\"มผ\"),\"มผ\",IF(COUNTIF(DA45:DH45,\"-\"),\"-\",IF(DP45=\"ปกติ\",SUM(DE45,IF(DH45=\"\",DG45,DH45)))))))","v":""},null,null,null,{"$f":"IF(ใส่ชื่อ!A40=\"\",\"\",IF(DJ45=\"-\",\"-\",IF(DJ45=0,\"\",IF(DP45=\"ปกติ\",MAXA(DJ45/2,DL45/2)))))","v":""},null,{"$f":"IF(เวลาเรียน!M47=\"\",\"\",เวลาเรียน!M47)","v":""}]
[40,0,{"$f":"CONCATENATE(ใส่ชื่อ!C41)","v":""},{"$f":"CONCATENATE(ใส่ชื่อ!D41&ใส่ชื่อ!E41&\"  \"&ใส่ชื่อ!F41)","v":"  "},{"$f":"ใส่ชื่อ!A41","v":0},null,null,null,null,null,null,null,null,null,null,null,null,null,null,null,null,null,null,null,null,{"$f":"IF(ใส่ชื่อ!D41=\"\",\"\",IF(DP46=\"ปกติ\",SUM(F46,G46,H46,I46,J46,K46,L46,M46,N46,O46,P46,Q46,R46,S46,T46,U46,V46,W46,X46,Y46),\"-\"))","v":""},null,"",null,null,null,null,null,null,null,null,null,null,null,null,null,null,null,null,null,null,null,null,{"$f":"IF(ใส่ชื่อ!D41=\"\",\"\",IF(COUNTIF(AC46:AS46,0),\"มผ\",IF(DP46=\"ปกติ\",SUM(AC46,AD46,AE46,AF46,AG46,AH46,AI46,AJ46,AK46,AL46,AM46,AN46,AO46,AP46,AQ46,AR46,AS46),\"-\")))","v":""},null,"",null,null,null,null,null,null,null,null,null,null,null,null,null,null,null,{"$f":"IF(ใส่ชื่อ!D41=\"\",\"\",IF(COUNTIF(AZ46:BN46,0),\"มผ\",IF(DP46=\"ปกติ\",SUM(AZ46,BA46,BB46,BC46,BD46,BE46,BF46,BG46,BH46,BI46,BJ46,BK46,BL46,BM46,BN46),\"-\")))","v":""},null,"",null,null,null,null,null,null,null,null,null,null,null,null,null,null,null,{"$f":"IF(ใส่ชื่อ!D41=\"\",\"\",IF(DP46=\"ปกติ\",SUM(BR46,BS46,BT46,BU46,BV46,BW46,BX46,BY46,BZ46,CA46,CB46,CC46,CD46,CE46,CF46),\"-\"))","v":""},null,"",null,null,null,null,null,{"$f":"IF(ใส่ชื่อ!D41=\"\",\"\",IF(CJ46=\"\",\"\",(IF(CK46=\"\",\"\",(IF(CL46=\"\",\"\",(IF(CM46=\"\",\"\",(IF(CN46=\"\",\"\",(SUM(CJ46:CN46))))))))))))","v":""},"","",null,null,null,null,null,null,null,null,"","","","",null,{"$f":"IF(ใส่ชื่อ!D41=\"\",\"\",IF(COUNTIF(DA46:DC46,\"มผ\"),\"มผ\",IF(DC46=\"มผ\",\"มผ\",IF(DP46=\"ปกติ\",SUM(DA46:DB46,IF(DD46=\"\",DC46,DD46)),\"-\"))))","v":""},null,"",null,null,{"$f":"IF(ใส่ชื่อ!D41=\"\",\"\",IF(DE46=\"\",\"\",IF(COUNTIF(DA46:DH46,\"มผ\"),\"มผ\",IF(COUNTIF(DA46:DH46,\"-\"),\"-\",IF(DP46=\"ปกติ\",SUM(DE46,IF(DH46=\"\",DG46,DH46)))))))","v":""},null,null,null,{"$f":"IF(ใส่ชื่อ!A41=\"\",\"\",IF(DJ46=\"-\",\"-\",IF(DJ46=0,\"\",IF(DP46=\"ปกติ\",MAXA(DJ46/2,DL46/2)))))","v":""},null,{"$f":"IF(เวลาเรียน!M48=\"\",\"\",เวลาเรียน!M48)","v":""}]
[36,0,{"$f":"CONCATENATE(ใส่ชื่อ!C42)","v":""},{"$f":"CONCATENATE(ใส่ชื่อ!D42&ใส่ชื่อ!E42&\"  \"&ใส่ชื่อ!F42)","v":"  "},{"$f":"ใส่ชื่อ!A42","v":0},null,null,null,null,null,null,null,null,null,null,null,null,null,null,null,null,null,null,null,null,{"$f":"IF(ใส่ชื่อ!D42=\"\",\"\",IF(DP47=\"ปกติ\",SUM(F47,G47,H47,I47,J47,K47,L47,M47,N47,O47,P47,Q47,R47,S47,T47,U47,V47,W47,X47,Y47),\"-\"))","v":""},null,"",null,null,null,null,null,null,null,null,null,null,null,null,null,null,null,null,null,null,null,null,{"$f":"IF(ใส่ชื่อ!D42=\"\",\"\",IF(COUNTIF(AC47:AS47,0),\"มผ\",IF(DP47=\"ปกติ\",SUM(AC47,AD47,AE47,AF47,AG47,AH47,AI47,AJ47,AK47,AL47,AM47,AN47,AO47,AP47,AQ47,AR47,AS47),\"-\")))","v":""},null,"",null,null,null,null,null,null,null,null,null,null,null,null,null,null,null,{"$f":"IF(ใส่ชื่อ!D42=\"\",\"\",IF(COUNTIF(AZ47:BN47,0),\"มผ\",IF(DP47=\"ปกติ\",SUM(AZ47,BA47,BB47,BC47,BD47,BE47,BF47,BG47,BH47,BI47,BJ47,BK47,BL47,BM47,BN47),\"-\")))","v":""},null,"",null,null,null,null,null,null,null,null,null,null,null,null,null,null,null,{"$f":"IF(ใส่ชื่อ!D42=\"\",\"\",IF(DP47=\"ปกติ\",SUM(BR47,BS47,BT47,BU47,BV47,BW47,BX47,BY47,BZ47,CA47,CB47,CC47,CD47,CE47,CF47),\"-\"))","v":""},null,"",null,null,null,null,null,{"$f":"IF(ใส่ชื่อ!D42=\"\",\"\",IF(CJ47=\"\",\"\",(IF(CK47=\"\",\"\",(IF(CL47=\"\",\"\",(IF(CM47=\"\",\"\",(IF(CN47=\"\",\"\",(SUM(CJ47:CN47))))))))))))","v":""},"","",null,null,null,null,null,null,null,null,"","","","",null,{"$f":"IF(ใส่ชื่อ!D42=\"\",\"\",IF(COUNTIF(DA47:DC47,\"มผ\"),\"มผ\",IF(DC47=\"มผ\",\"มผ\",IF(DP47=\"ปกติ\",SUM(DA47:DB47,IF(DD47=\"\",DC47,DD47)),\"-\"))))","v":""},null,"",null,null,{"$f":"IF(ใส่ชื่อ!D42=\"\",\"\",IF(DE47=\"\",\"\",IF(COUNTIF(DA47:DH47,\"มผ\"),\"มผ\",IF(COUNTIF(DA47:DH47,\"-\"),\"-\",IF(DP47=\"ปกติ\",SUM(DE47,IF(DH47=\"\",DG47,DH47)))))))","v":""},null,null,null,{"$f":"IF(ใส่ชื่อ!A42=\"\",\"\",IF(DJ47=\"-\",\"-\",IF(DJ47=0,\"\",IF(DP47=\"ปกติ\",MAXA(DJ47/2,DL47/2)))))","v":""},null,{"$f":"IF(เวลาเรียน!M49=\"\",\"\",เวลาเรียน!M49)","v":""}]
[37,0,{"$f":"CONCATENATE(ใส่ชื่อ!C43)","v":""},{"$f":"CONCATENATE(ใส่ชื่อ!D43&ใส่ชื่อ!E43&\"  \"&ใส่ชื่อ!F43)","v":"  "},{"$f":"ใส่ชื่อ!A43","v":0},null,null,null,null,null,null,null,null,null,null,null,null,null,null,null,null,null,null,null,null,{"$f":"IF(ใส่ชื่อ!D43=\"\",\"\",IF(DP48=\"ปกติ\",SUM(F48,G48,H48,I48,J48,K48,L48,M48,N48,O48,P48,Q48,R48,S48,T48,U48,V48,W48,X48,Y48),\"-\"))","v":""},null,"",null,null,null,null,null,null,null,null,null,null,null,null,null,null,null,null,null,null,null,null,{"$f":"IF(ใส่ชื่อ!D43=\"\",\"\",IF(COUNTIF(AC48:AS48,0),\"มผ\",IF(DP48=\"ปกติ\",SUM(AC48,AD48,AE48,AF48,AG48,AH48,AI48,AJ48,AK48,AL48,AM48,AN48,AO48,AP48,AQ48,AR48,AS48),\"-\")))","v":""},null,"",null,null,null,null,null,null,null,null,null,null,null,null,null,null,null,{"$f":"IF(ใส่ชื่อ!D43=\"\",\"\",IF(COUNTIF(AZ48:BN48,0),\"มผ\",IF(DP48=\"ปกติ\",SUM(AZ48,BA48,BB48,BC48,BD48,BE48,BF48,BG48,BH48,BI48,BJ48,BK48,BL48,BM48,BN48),\"-\")))","v":""},null,"",null,null,null,null,null,null,null,null,null,null,null,null,null,null,null,{"$f":"IF(ใส่ชื่อ!D43=\"\",\"\",IF(DP48=\"ปกติ\",SUM(BR48,BS48,BT48,BU48,BV48,BW48,BX48,BY48,BZ48,CA48,CB48,CC48,CD48,CE48,CF48),\"-\"))","v":""},null,"",null,null,null,null,null,{"$f":"IF(ใส่ชื่อ!D43=\"\",\"\",IF(CJ48=\"\",\"\",(IF(CK48=\"\",\"\",(IF(CL48=\"\",\"\",(IF(CM48=\"\",\"\",(IF(CN48=\"\",\"\",(SUM(CJ48:CN48))))))))))))","v":""},"","",null,null,null,null,null,null,null,null,"","","","",null,{"$f":"IF(ใส่ชื่อ!D43=\"\",\"\",IF(COUNTIF(DA48:DC48,\"มผ\"),\"มผ\",IF(DC48=\"มผ\",\"มผ\",IF(DP48=\"ปกติ\",SUM(DA48:DB48,IF(DD48=\"\",DC48,DD48)),\"-\"))))","v":""},null,"",null,null,{"$f":"IF(ใส่ชื่อ!D43=\"\",\"\",IF(DE48=\"\",\"\",IF(COUNTIF(DA48:DH48,\"มผ\"),\"มผ\",IF(COUNTIF(DA48:DH48,\"-\"),\"-\",IF(DP48=\"ปกติ\",SUM(DE48,IF(DH48=\"\",DG48,DH48)))))))","v":""},null,null,null,{"$f":"IF(ใส่ชื่อ!A43=\"\",\"\",IF(DJ48=\"-\",\"-\",IF(DJ48=0,\"\",IF(DP48=\"ปกติ\",MAXA(DJ48/2,DL48/2)))))","v":""},null,{"$f":"IF(เวลาเรียน!M50=\"\",\"\",เวลาเรียน!M50)","v":""}]
[38,0,{"$f":"CONCATENATE(ใส่ชื่อ!C44)","v":""},{"$f":"CONCATENATE(ใส่ชื่อ!D44&ใส่ชื่อ!E44&\"  \"&ใส่ชื่อ!F44)","v":"  "},{"$f":"ใส่ชื่อ!A44","v":0},null,null,null,null,null,null,null,null,null,null,null,null,null,null,null,null,null,null,null,null,{"$f":"IF(ใส่ชื่อ!D44=\"\",\"\",IF(DP49=\"ปกติ\",SUM(F49,G49,H49,I49,J49,K49,L49,M49,N49,O49,P49,Q49,R49,S49,T49,U49,V49,W49,X49,Y49),\"-\"))","v":""},null,"",null,null,null,null,null,null,null,null,null,null,null,null,null,null,null,null,null,null,null,null,{"$f":"IF(ใส่ชื่อ!D44=\"\",\"\",IF(COUNTIF(AC49:AS49,0),\"มผ\",IF(DP49=\"ปกติ\",SUM(AC49,AD49,AE49,AF49,AG49,AH49,AI49,AJ49,AK49,AL49,AM49,AN49,AO49,AP49,AQ49,AR49,AS49),\"-\")))","v":""},null,"",null,null,null,null,null,null,null,null,null,null,null,null,null,null,null,{"$f":"IF(ใส่ชื่อ!D44=\"\",\"\",IF(COUNTIF(AZ49:BN49,0),\"มผ\",IF(DP49=\"ปกติ\",SUM(AZ49,BA49,BB49,BC49,BD49,BE49,BF49,BG49,BH49,BI49,BJ49,BK49,BL49,BM49,BN49),\"-\")))","v":""},null,"",null,null,null,null,null,null,null,null,null,null,null,null,null,null,null,{"$f":"IF(ใส่ชื่อ!D44=\"\",\"\",IF(DP49=\"ปกติ\",SUM(BR49,BS49,BT49,BU49,BV49,BW49,BX49,BY49,BZ49,CA49,CB49,CC49,CD49,CE49,CF49),\"-\"))","v":""},null,"",null,null,null,null,null,{"$f":"IF(ใส่ชื่อ!D44=\"\",\"\",IF(CJ49=\"\",\"\",(IF(CK49=\"\",\"\",(IF(CL49=\"\",\"\",(IF(CM49=\"\",\"\",(IF(CN49=\"\",\"\",(SUM(CJ49:CN49))))))))))))","v":""},"","",null,null,null,null,null,null,null,null,"","","","",null,{"$f":"IF(ใส่ชื่อ!D44=\"\",\"\",IF(COUNTIF(DA49:DC49,\"มผ\"),\"มผ\",IF(DC49=\"มผ\",\"มผ\",IF(DP49=\"ปกติ\",SUM(DA49:DB49,IF(DD49=\"\",DC49,DD49)),\"-\"))))","v":""},null,"",null,null,{"$f":"IF(ใส่ชื่อ!D44=\"\",\"\",IF(DE49=\"\",\"\",IF(COUNTIF(DA49:DH49,\"มผ\"),\"มผ\",IF(COUNTIF(DA49:DH49,\"-\"),\"-\",IF(DP49=\"ปกติ\",SUM(DE49,IF(DH49=\"\",DG49,DH49)))))))","v":""},null,null,null,{"$f":"IF(ใส่ชื่อ!A44=\"\",\"\",IF(DJ49=\"-\",\"-\",IF(DJ49=0,\"\",IF(DP49=\"ปกติ\",MAXA(DJ49/2,DL49/2)))))","v":""},null,{"$f":"IF(เวลาเรียน!M51=\"\",\"\",เวลาเรียน!M51)","v":""}]
[39,0,{"$f":"CONCATENATE(ใส่ชื่อ!C45)","v":""},{"$f":"CONCATENATE(ใส่ชื่อ!D45&ใส่ชื่อ!E45&\"  \"&ใส่ชื่อ!F45)","v":"  "},{"$f":"ใส่ชื่อ!A45","v":0},null,null,null,null,null,null,null,null,null,null,null,null,null,null,null,null,null,null,null,null,{"$f":"IF(ใส่ชื่อ!D45=\"\",\"\",IF(DP50=\"ปกติ\",SUM(F50,G50,H50,I50,J50,K50,L50,M50,N50,O50,P50,Q50,R50,S50,T50,U50,V50,W50,X50,Y50),\"-\"))","v":""},null,"",null,null,null,null,null,null,null,null,null,null,null,null,null,null,null,null,null,null,null,null,{"$f":"IF(ใส่ชื่อ!D45=\"\",\"\",IF(COUNTIF(AC50:AS50,0),\"มผ\",IF(DP50=\"ปกติ\",SUM(AC50,AD50,AE50,AF50,AG50,AH50,AI50,AJ50,AK50,AL50,AM50,AN50,AO50,AP50,AQ50,AR50,AS50),\"-\")))","v":""},null,"",null,null,null,null,null,null,null,null,null,null,null,null,null,null,null,{"$f":"IF(ใส่ชื่อ!D45=\"\",\"\",IF(COUNTIF(AZ50:BN50,0),\"มผ\",IF(DP50=\"ปกติ\",SUM(AZ50,BA50,BB50,BC50,BD50,BE50,BF50,BG50,BH50,BI50,BJ50,BK50,BL50,BM50,BN50),\"-\")))","v":""},null,"",null,null,null,null,null,null,null,null,null,null,null,null,null,null,null,{"$f":"IF(ใส่ชื่อ!D45=\"\",\"\",IF(DP50=\"ปกติ\",SUM(BR50,BS50,BT50,BU50,BV50,BW50,BX50,BY50,BZ50,CA50,CB50,CC50,CD50,CE50,CF50),\"-\"))","v":""},null,"",null,null,null,null,null,{"$f":"IF(ใส่ชื่อ!D45=\"\",\"\",IF(CJ50=\"\",\"\",(IF(CK50=\"\",\"\",(IF(CL50=\"\",\"\",(IF(CM50=\"\",\"\",(IF(CN50=\"\",\"\",(SUM(CJ50:CN50))))))))))))","v":""},"","",null,null,null,null,null,null,null,null,"","","","",null,{"$f":"IF(ใส่ชื่อ!D45=\"\",\"\",IF(COUNTIF(DA50:DC50,\"มผ\"),\"มผ\",IF(DC50=\"มผ\",\"มผ\",IF(DP50=\"ปกติ\",SUM(DA50:DB50,IF(DD50=\"\",DC50,DD50)),\"-\"))))","v":""},null,"",null,null,{"$f":"IF(ใส่ชื่อ!D45=\"\",\"\",IF(DE50=\"\",\"\",IF(COUNTIF(DA50:DH50,\"มผ\"),\"มผ\",IF(COUNTIF(DA50:DH50,\"-\"),\"-\",IF(DP50=\"ปกติ\",SUM(DE50,IF(DH50=\"\",DG50,DH50)))))))","v":""},null,null,null,{"$f":"IF(ใส่ชื่อ!A45=\"\",\"\",IF(DJ50=\"-\",\"-\",IF(DJ50=0,\"\",IF(DP50=\"ปกติ\",MAXA(DJ50/2,DL50/2)))))","v":""},null,{"$f":"IF(เวลาเรียน!M52=\"\",\"\",เวลาเรียน!M52)","v":""}]
[40,0,{"$f":"CONCATENATE(ใส่ชื่อ!C46)","v":""},{"$f":"CONCATENATE(ใส่ชื่อ!D46&ใส่ชื่อ!E46&\"  \"&ใส่ชื่อ!F46)","v":"  "},{"$f":"ใส่ชื่อ!A46","v":0},null,null,null,null,null,null,null,null,null,null,null,null,null,null,null,null,null,null,null,null,{"$f":"IF(ใส่ชื่อ!D46=\"\",\"\",IF(DP51=\"ปกติ\",SUM(F51,G51,H51,I51,J51,K51,L51,M51,N51,O51,P51,Q51,R51,S51,T51,U51,V51,W51,X51,Y51),\"-\"))","v":""},null,"",null,null,null,null,null,null,null,null,null,null,null,null,null,null,null,null,null,null,null,null,{"$f":"IF(ใส่ชื่อ!D46=\"\",\"\",IF(COUNTIF(AC51:AS51,0),\"มผ\",IF(DP51=\"ปกติ\",SUM(AC51,AD51,AE51,AF51,AG51,AH51,AI51,AJ51,AK51,AL51,AM51,AN51,AO51,AP51,AQ51,AR51,AS51),\"-\")))","v":""},null,"",null,null,null,null,null,null,null,null,null,null,null,null,null,null,null,{"$f":"IF(ใส่ชื่อ!D46=\"\",\"\",IF(COUNTIF(AZ51:BN51,0),\"มผ\",IF(DP51=\"ปกติ\",SUM(AZ51,BA51,BB51,BC51,BD51,BE51,BF51,BG51,BH51,BI51,BJ51,BK51,BL51,BM51,BN51),\"-\")))","v":""},null,"",null,null,null,null,null,null,null,null,null,null,null,null,null,null,null,{"$f":"IF(ใส่ชื่อ!D46=\"\",\"\",IF(DP51=\"ปกติ\",SUM(BR51,BS51,BT51,BU51,BV51,BW51,BX51,BY51,BZ51,CA51,CB51,CC51,CD51,CE51,CF51),\"-\"))","v":""},null,"",null,null,null,null,null,{"$f":"IF(ใส่ชื่อ!D46=\"\",\"\",IF(CJ51=\"\",\"\",(IF(CK51=\"\",\"\",(IF(CL51=\"\",\"\",(IF(CM51=\"\",\"\",(IF(CN51=\"\",\"\",(SUM(CJ51:CN51))))))))))))","v":""},"","",null,null,null,null,null,null,null,null,"","","","",null,{"$f":"IF(ใส่ชื่อ!D46=\"\",\"\",IF(COUNTIF(DA51:DC51,\"มผ\"),\"มผ\",IF(DC51=\"มผ\",\"มผ\",IF(DP51=\"ปกติ\",SUM(DA51:DB51,IF(DD51=\"\",DC51,DD51)),\"-\"))))","v":""},null,"",null,null,{"$f":"IF(ใส่ชื่อ!D46=\"\",\"\",IF(DE51=\"\",\"\",IF(COUNTIF(DA51:DH51,\"มผ\"),\"มผ\",IF(COUNTIF(DA51:DH51,\"-\"),\"-\",IF(DP51=\"ปกติ\",SUM(DE51,IF(DH51=\"\",DG51,DH51)))))))","v":""},null,null,null,{"$f":"IF(ใส่ชื่อ!A46=\"\",\"\",IF(DJ51=\"-\",\"-\",IF(DJ51=0,\"\",IF(DP51=\"ปกติ\",MAXA(DJ51/2,DL51/2)))))","v":""},null,{"$f":"IF(เวลาเรียน!M53=\"\",\"\",เวลาเรียน!M53)","v":""}]
[36,0,{"$f":"CONCATENATE(ใส่ชื่อ!C47)","v":""},{"$f":"CONCATENATE(ใส่ชื่อ!D47&ใส่ชื่อ!E47&\"  \"&ใส่ชื่อ!F47)","v":"  "},{"$f":"ใส่ชื่อ!A47","v":0},null,null,null,null,null,null,null,null,null,null,null,null,null,null,null,null,null,null,null,null,{"$f":"IF(ใส่ชื่อ!D47=\"\",\"\",IF(DP52=\"ปกติ\",SUM(F52,G52,H52,I52,J52,K52,L52,M52,N52,O52,P52,Q52,R52,S52,T52,U52,V52,W52,X52,Y52),\"-\"))","v":""},null,"",null,null,null,null,null,null,null,null,null,null,null,null,null,null,null,null,null,null,null,null,{"$f":"IF(ใส่ชื่อ!D47=\"\",\"\",IF(COUNTIF(AC52:AS52,0),\"มผ\",IF(DP52=\"ปกติ\",SUM(AC52,AD52,AE52,AF52,AG52,AH52,AI52,AJ52,AK52,AL52,AM52,AN52,AO52,AP52,AQ52,AR52,AS52),\"-\")))","v":""},null,"",null,null,null,null,null,null,null,null,null,null,null,null,null,null,null,{"$f":"IF(ใส่ชื่อ!D47=\"\",\"\",IF(COUNTIF(AZ52:BN52,0),\"มผ\",IF(DP52=\"ปกติ\",SUM(AZ52,BA52,BB52,BC52,BD52,BE52,BF52,BG52,BH52,BI52,BJ52,BK52,BL52,BM52,BN52),\"-\")))","v":""},null,"",null,null,null,null,null,null,null,null,null,null,null,null,null,null,null,{"$f":"IF(ใส่ชื่อ!D47=\"\",\"\",IF(DP52=\"ปกติ\",SUM(BR52,BS52,BT52,BU52,BV52,BW52,BX52,BY52,BZ52,CA52,CB52,CC52,CD52,CE52,CF52),\"-\"))","v":""},null,"",null,null,null,null,null,{"$f":"IF(ใส่ชื่อ!D47=\"\",\"\",IF(CJ52=\"\",\"\",(IF(CK52=\"\",\"\",(IF(CL52=\"\",\"\",(IF(CM52=\"\",\"\",(IF(CN52=\"\",\"\",(SUM(CJ52:CN52))))))))))))","v":""},"","",null,null,null,null,null,null,null,null,"","","","",null,{"$f":"IF(ใส่ชื่อ!D47=\"\",\"\",IF(COUNTIF(DA52:DC52,\"มผ\"),\"มผ\",IF(DC52=\"มผ\",\"มผ\",IF(DP52=\"ปกติ\",SUM(DA52:DB52,IF(DD52=\"\",DC52,DD52)),\"-\"))))","v":""},null,"",null,null,{"$f":"IF(ใส่ชื่อ!D47=\"\",\"\",IF(DE52=\"\",\"\",IF(COUNTIF(DA52:DH52,\"มผ\"),\"มผ\",IF(COUNTIF(DA52:DH52,\"-\"),\"-\",IF(DP52=\"ปกติ\",SUM(DE52,IF(DH52=\"\",DG52,DH52)))))))","v":""},null,null,null,{"$f":"IF(ใส่ชื่อ!A47=\"\",\"\",IF(DJ52=\"-\",\"-\",IF(DJ52=0,\"\",IF(DP52=\"ปกติ\",MAXA(DJ52/2,DL52/2)))))","v":""},null,{"$f":"IF(เวลาเรียน!M54=\"\",\"\",เวลาเรียน!M54)","v":""}]
[37,0,{"$f":"CONCATENATE(ใส่ชื่อ!C48)","v":""},{"$f":"CONCATENATE(ใส่ชื่อ!D48&ใส่ชื่อ!E48&\"  \"&ใส่ชื่อ!F48)","v":"  "},{"$f":"ใส่ชื่อ!A48","v":0},null,null,null,null,null,null,null,null,null,null,null,null,null,null,null,null,null,null,null,null,{"$f":"IF(ใส่ชื่อ!D48=\"\",\"\",IF(DP53=\"ปกติ\",SUM(F53,G53,H53,I53,J53,K53,L53,M53,N53,O53,P53,Q53,R53,S53,T53,U53,V53,W53,X53,Y53),\"-\"))","v":""},null,"",null,null,null,null,null,null,null,null,null,null,null,null,null,null,null,null,null,null,null,null,{"$f":"IF(ใส่ชื่อ!D48=\"\",\"\",IF(COUNTIF(AC53:AS53,0),\"มผ\",IF(DP53=\"ปกติ\",SUM(AC53,AD53,AE53,AF53,AG53,AH53,AI53,AJ53,AK53,AL53,AM53,AN53,AO53,AP53,AQ53,AR53,AS53),\"-\")))","v":""},null,"",null,null,null,null,null,null,null,null,null,null,null,null,null,null,null,{"$f":"IF(ใส่ชื่อ!D48=\"\",\"\",IF(COUNTIF(AZ53:BN53,0),\"มผ\",IF(DP53=\"ปกติ\",SUM(AZ53,BA53,BB53,BC53,BD53,BE53,BF53,BG53,BH53,BI53,BJ53,BK53,BL53,BM53,BN53),\"-\")))","v":""},null,"",null,null,null,null,null,null,null,null,null,null,null,null,null,null,null,{"$f":"IF(ใส่ชื่อ!D48=\"\",\"\",IF(DP53=\"ปกติ\",SUM(BR53,BS53,BT53,BU53,BV53,BW53,BX53,BY53,BZ53,CA53,CB53,CC53,CD53,CE53,CF53),\"-\"))","v":""},null,"",null,null,null,null,null,{"$f":"IF(ใส่ชื่อ!D48=\"\",\"\",IF(CJ53=\"\",\"\",(IF(CK53=\"\",\"\",(IF(CL53=\"\",\"\",(IF(CM53=\"\",\"\",(IF(CN53=\"\",\"\",(SUM(CJ53:CN53))))))))))))","v":""},"","",null,null,null,null,null,null,null,null,"","","","",null,{"$f":"IF(ใส่ชื่อ!D48=\"\",\"\",IF(COUNTIF(DA53:DC53,\"มผ\"),\"มผ\",IF(DC53=\"มผ\",\"มผ\",IF(DP53=\"ปกติ\",SUM(DA53:DB53,IF(DD53=\"\",DC53,DD53)),\"-\"))))","v":""},null,"",null,null,{"$f":"IF(ใส่ชื่อ!D48=\"\",\"\",IF(DE53=\"\",\"\",IF(COUNTIF(DA53:DH53,\"มผ\"),\"มผ\",IF(COUNTIF(DA53:DH53,\"-\"),\"-\",IF(DP53=\"ปกติ\",SUM(DE53,IF(DH53=\"\",DG53,DH53)))))))","v":""},null,null,null,{"$f":"IF(ใส่ชื่อ!A48=\"\",\"\",IF(DJ53=\"-\",\"-\",IF(DJ53=0,\"\",IF(DP53=\"ปกติ\",MAXA(DJ53/2,DL53/2)))))","v":""},null,{"$f":"IF(เวลาเรียน!M55=\"\",\"\",เวลาเรียน!M55)","v":""}]
[38,0,{"$f":"CONCATENATE(ใส่ชื่อ!C49)","v":""},{"$f":"CONCATENATE(ใส่ชื่อ!D49&ใส่ชื่อ!E49&\"  \"&ใส่ชื่อ!F49)","v":"  "},{"$f":"ใส่ชื่อ!A49","v":0},null,null,null,null,null,null,null,null,null,null,null,null,null,null,null,null,null,null,null,null,{"$f":"IF(ใส่ชื่อ!D49=\"\",\"\",IF(DP54=\"ปกติ\",SUM(F54,G54,H54,I54,J54,K54,L54,M54,N54,O54,P54,Q54,R54,S54,T54,U54,V54,W54,X54,Y54),\"-\"))","v":""},null,"",null,null,null,null,null,null,null,null,null,null,null,null,null,null,null,null,null,null,null,null,{"$f":"IF(ใส่ชื่อ!D49=\"\",\"\",IF(COUNTIF(AC54:AS54,0),\"มผ\",IF(DP54=\"ปกติ\",SUM(AC54,AD54,AE54,AF54,AG54,AH54,AI54,AJ54,AK54,AL54,AM54,AN54,AO54,AP54,AQ54,AR54,AS54),\"-\")))","v":""},null,"",null,null,null,null,null,null,null,null,null,null,null,null,null,null,null,{"$f":"IF(ใส่ชื่อ!D49=\"\",\"\",IF(COUNTIF(AZ54:BN54,0),\"มผ\",IF(DP54=\"ปกติ\",SUM(AZ54,BA54,BB54,BC54,BD54,BE54,BF54,BG54,BH54,BI54,BJ54,BK54,BL54,BM54,BN54),\"-\")))","v":""},null,"",null,null,null,null,null,null,null,null,null,null,null,null,null,null,null,{"$f":"IF(ใส่ชื่อ!D49=\"\",\"\",IF(DP54=\"ปกติ\",SUM(BR54,BS54,BT54,BU54,BV54,BW54,BX54,BY54,BZ54,CA54,CB54,CC54,CD54,CE54,CF54),\"-\"))","v":""},null,"",null,null,null,null,null,{"$f":"IF(ใส่ชื่อ!D49=\"\",\"\",IF(CJ54=\"\",\"\",(IF(CK54=\"\",\"\",(IF(CL54=\"\",\"\",(IF(CM54=\"\",\"\",(IF(CN54=\"\",\"\",(SUM(CJ54:CN54))))))))))))","v":""},"","",null,null,null,null,null,null,null,null,"","","","",null,{"$f":"IF(ใส่ชื่อ!D49=\"\",\"\",IF(COUNTIF(DA54:DC54,\"มผ\"),\"มผ\",IF(DC54=\"มผ\",\"มผ\",IF(DP54=\"ปกติ\",SUM(DA54:DB54,IF(DD54=\"\",DC54,DD54)),\"-\"))))","v":""},null,"",null,null,{"$f":"IF(ใส่ชื่อ!D49=\"\",\"\",IF(DE54=\"\",\"\",IF(COUNTIF(DA54:DH54,\"มผ\"),\"มผ\",IF(COUNTIF(DA54:DH54,\"-\"),\"-\",IF(DP54=\"ปกติ\",SUM(DE54,IF(DH54=\"\",DG54,DH54)))))))","v":""},null,null,null,{"$f":"IF(ใส่ชื่อ!A49=\"\",\"\",IF(DJ54=\"-\",\"-\",IF(DJ54=0,\"\",IF(DP54=\"ปกติ\",MAXA(DJ54/2,DL54/2)))))","v":""},null,{"$f":"IF(เวลาเรียน!M56=\"\",\"\",เวลาเรียน!M56)","v":""}]
[39,0,{"$f":"CONCATENATE(ใส่ชื่อ!C50)","v":""},{"$f":"CONCATENATE(ใส่ชื่อ!D50&ใส่ชื่อ!E50&\"  \"&ใส่ชื่อ!F50)","v":"  "},{"$f":"ใส่ชื่อ!A50","v":0},null,null,null,null,null,null,null,null,null,null,null,null,null,null,null,null,null,null,null,null,{"$f":"IF(ใส่ชื่อ!D50=\"\",\"\",IF(DP55=\"ปกติ\",SUM(F55,G55,H55,I55,J55,K55,L55,M55,N55,O55,P55,Q55,R55,S55,T55,U55,V55,W55,X55,Y55),\"-\"))","v":""},null,"",null,null,null,null,null,null,null,null,null,null,null,null,null,null,null,null,null,null,null,null,{"$f":"IF(ใส่ชื่อ!D50=\"\",\"\",IF(COUNTIF(AC55:AS55,0),\"มผ\",IF(DP55=\"ปกติ\",SUM(AC55,AD55,AE55,AF55,AG55,AH55,AI55,AJ55,AK55,AL55,AM55,AN55,AO55,AP55,AQ55,AR55,AS55),\"-\")))","v":""},null,"",null,null,null,null,null,null,null,null,null,null,null,null,null,null,null,{"$f":"IF(ใส่ชื่อ!D50=\"\",\"\",IF(COUNTIF(AZ55:BN55,0),\"มผ\",IF(DP55=\"ปกติ\",SUM(AZ55,BA55,BB55,BC55,BD55,BE55,BF55,BG55,BH55,BI55,BJ55,BK55,BL55,BM55,BN55),\"-\")))","v":""},null,"",null,null,null,null,null,null,null,null,null,null,null,null,null,null,null,{"$f":"IF(ใส่ชื่อ!D50=\"\",\"\",IF(DP55=\"ปกติ\",SUM(BR55,BS55,BT55,BU55,BV55,BW55,BX55,BY55,BZ55,CA55,CB55,CC55,CD55,CE55,CF55),\"-\"))","v":""},null,"",null,null,null,null,null,{"$f":"IF(ใส่ชื่อ!D50=\"\",\"\",IF(CJ55=\"\",\"\",(IF(CK55=\"\",\"\",(IF(CL55=\"\",\"\",(IF(CM55=\"\",\"\",(IF(CN55=\"\",\"\",(SUM(CJ55:CN55))))))))))))","v":""},"","",null,null,null,null,null,null,null,null,"","","","",null,{"$f":"IF(ใส่ชื่อ!D50=\"\",\"\",IF(COUNTIF(DA55:DC55,\"มผ\"),\"มผ\",IF(DC55=\"มผ\",\"มผ\",IF(DP55=\"ปกติ\",SUM(DA55:DB55,IF(DD55=\"\",DC55,DD55)),\"-\"))))","v":""},null,"",null,null,{"$f":"IF(ใส่ชื่อ!D50=\"\",\"\",IF(DE55=\"\",\"\",IF(COUNTIF(DA55:DH55,\"มผ\"),\"มผ\",IF(COUNTIF(DA55:DH55,\"-\"),\"-\",IF(DP55=\"ปกติ\",SUM(DE55,IF(DH55=\"\",DG55,DH55)))))))","v":""},null,null,null,{"$f":"IF(ใส่ชื่อ!A50=\"\",\"\",IF(DJ55=\"-\",\"-\",IF(DJ55=0,\"\",IF(DP55=\"ปกติ\",MAXA(DJ55/2,DL55/2)))))","v":""},null,{"$f":"IF(เวลาเรียน!M57=\"\",\"\",เวลาเรียน!M57)","v":""}]
[40,0,{"$f":"CONCATENATE(ใส่ชื่อ!C51)","v":""},{"$f":"CONCATENATE(ใส่ชื่อ!D51&ใส่ชื่อ!E51&\"  \"&ใส่ชื่อ!F51)","v":"  "},{"$f":"ใส่ชื่อ!A51","v":0},null,null,null,null,null,null,null,null,null,null,null,null,null,null,null,null,null,null,null,null,{"$f":"IF(ใส่ชื่อ!D51=\"\",\"\",IF(DP56=\"ปกติ\",SUM(F56,G56,H56,I56,J56,K56,L56,M56,N56,O56,P56,Q56,R56,S56,T56,U56,V56,W56,X56,Y56),\"-\"))","v":""},null,"",null,null,null,null,null,null,null,null,null,null,null,null,null,null,null,null,null,null,null,null,{"$f":"IF(ใส่ชื่อ!D51=\"\",\"\",IF(COUNTIF(AC56:AS56,0),\"มผ\",IF(DP56=\"ปกติ\",SUM(AC56,AD56,AE56,AF56,AG56,AH56,AI56,AJ56,AK56,AL56,AM56,AN56,AO56,AP56,AQ56,AR56,AS56),\"-\")))","v":""},null,"",null,null,null,null,null,null,null,null,null,null,null,null,null,null,null,{"$f":"IF(ใส่ชื่อ!D51=\"\",\"\",IF(COUNTIF(AZ56:BN56,0),\"มผ\",IF(DP56=\"ปกติ\",SUM(AZ56,BA56,BB56,BC56,BD56,BE56,BF56,BG56,BH56,BI56,BJ56,BK56,BL56,BM56,BN56),\"-\")))","v":""},null,"",null,null,null,null,null,null,null,null,null,null,null,null,null,null,null,{"$f":"IF(ใส่ชื่อ!D51=\"\",\"\",IF(DP56=\"ปกติ\",SUM(BR56,BS56,BT56,BU56,BV56,BW56,BX56,BY56,BZ56,CA56,CB56,CC56,CD56,CE56,CF56),\"-\"))","v":""},null,"",null,null,null,null,null,{"$f":"IF(ใส่ชื่อ!D51=\"\",\"\",IF(CJ56=\"\",\"\",(IF(CK56=\"\",\"\",(IF(CL56=\"\",\"\",(IF(CM56=\"\",\"\",(IF(CN56=\"\",\"\",(SUM(CJ56:CN56))))))))))))","v":""},"","",null,null,null,null,null,null,null,null,"","","","",null,{"$f":"IF(ใส่ชื่อ!D51=\"\",\"\",IF(COUNTIF(DA56:DC56,\"มผ\"),\"มผ\",IF(DC56=\"มผ\",\"มผ\",IF(DP56=\"ปกติ\",SUM(DA56:DB56,IF(DD56=\"\",DC56,DD56)),\"-\"))))","v":""},null,"",null,null,{"$f":"IF(ใส่ชื่อ!D51=\"\",\"\",IF(DE56=\"\",\"\",IF(COUNTIF(DA56:DH56,\"มผ\"),\"มผ\",IF(COUNTIF(DA56:DH56,\"-\"),\"-\",IF(DP56=\"ปกติ\",SUM(DE56,IF(DH56=\"\",DG56,DH56)))))))","v":""},null,null,null,{"$f":"IF(ใส่ชื่อ!A51=\"\",\"\",IF(DJ56=\"-\",\"-\",IF(DJ56=0,\"\",IF(DP56=\"ปกติ\",MAXA(DJ56/2,DL56/2)))))","v":""},null,{"$f":"IF(เวลาเรียน!M58=\"\",\"\",เวลาเรียน!M58)","v":""}]
[null,null,{"$f":"กำหนดอัตราส่วนคะแนน!U4","v":50},null,null,null,null,null,null,null,null,null,null,null,null,null,null,null,null,null,null,null,null,null,null,null,null,null,null,null,null,null,null,null,null,null,null,null,null,null,null,null,null,null,null,null,null,null,null,null,null,null,null,null,null,null,null,null,null,null,null,null,null,null,null,null,null,null,null,null,null,null,null,null,null,null,null,null,null,null,null,null,null,null,null,null,null,{"$f":"COUNTIF($CQ$7:$CQ$56,\"ดย\")","v":0},{"$f":"COUNTIF($CQ$7:$CQ$56,\"ด\")","v":0},{"$f":"COUNTIF($CQ$7:$CQ$56,\"ผ\")","v":0},{"$f":"COUNTIF($CQ$7:$CQ$56,\"มผ\")","v":0},null,null,null,null,{"$f":"COUNTIF($CZ$7:$CZ$56,\"ดย\")","v":0},{"$f":"COUNTIF($CZ$7:$CZ$56,\"ด\")","v":0},{"$f":"COUNTIF($CZ$7:$CZ$56,\"ผ\")","v":0},{"$f":"COUNTIF($CZ$7:$CZ$56,\"มผ\")","v":0},null,null,null,null,null,null,null,null,null,null,null,null,null,null,null,null,null,null,null,null,null,null,null,null,null,null,null,null,null,null,null,null,null,null,null,null,null,null,null,{"$f":"กำหนดอัตราส่วนคะแนน!FA4","v":0},null,null,null,null,null,null,null,null,null,null,null,null,null,null,null,null,null,null,null,null,null,null,null,null,null,null,null,null,null,null,null,null,null,null,null,null,null,null,null,null,null,null,null,null,null,null,null,null,null,null,null,null,null,null,null,null,null,null,null,null,null,null,null,null,null,null,null,null,null,null,null,null,null,null,null,null,null,null,null,null,null,null,null,null,{"$f":"COUNTIF($CQ$7:$CQ$56,\"3\")","v":0},{"$f":"COUNTIF($CQ$7:$CQ$56,\"2\")","v":0},{"$f":"COUNTIF($CQ$7:$CQ$56,\"1\")","v":0},{"$f":"COUNTIF($CQ$7:$CQ$56,\"0\")","v":0},null,null,null,null,{"$f":"COUNTIF($CZ$7:$CZ$56,\"3\")","v":0},{"$f":"COUNTIF($CZ$7:$CZ$56,\"2\")","v":0},{"$f":"COUNTIF($CZ$7:$CZ$56,\"1\")","v":0},{"$f":"COUNTIF($CZ$7:$CZ$56,\"0\")","v":0}]
[]
[]
[]
[null,null,null,null,null,null,null,null,null,null,null,null,null,null,null,null,null,null,null,null,null,null,null,null,null,null,null,null,null,null,null,null,null,null,null,null,null,null,null,null,null,null,null,null,null,null,null,null,null,null,null,null,null,null,null,null,null,null,null,null,null,null,null,null,null,null,null,null,null,"ตอนที่",null,"ป.1/1",null,1]
[null,null,null,null,null,null,null,null,null,null,null,null,null,null,null,null,null,null,null,null,null,null,null,null,null,null,null,null,null,null,null,null,null,null,null,null,null,null,null,null,null,null,null,null,null,null,null,null,null,null,null,null,null,null,null,null,null,null,null,null,null,null,null,null,null,null,null,null,null,"ท 1.1",null,"ป.1/2",null,2]
[null,null,null,null,null,null,null,null,null,null,null,null,null,null,null,null,null,null,null,null,null,null,null,null,null,null,null,null,null,null,null,null,null,null,null,null,null,null,null,null,null,null,null,null,null,null,null,null,null,null,null,null,null,null,null,null,null,null,null,null,null,null,null,null,null,null,null,null,null,"ท 2.1",null,"ป.1/3",null,3]
[null,null,null,null,null,null,null,null,null,null,null,null,null,null,null,null,null,null,null,null,null,null,null,null,null,null,null,null,null,null,null,null,null,null,null,null,null,null,null,null,null,null,null,null,null,null,null,null,null,null,null,null,null,null,null,null,null,null,null,null,null,null,null,null,null,null,null,null,null,"ท 3.1",null,"ป.1/4",null,4]
[null,null,null,null,null,null,null,null,null,null,null,null,null,null,null,null,null,null,null,null,null,null,null,null,null,null,null,null,null,null,null,null,null,null,null,null,null,null,null,null,null,null,null,null,null,null,null,null,null,null,null,null,null,null,null,null,null,null,null,null,null,null,null,null,null,null,null,null,null,"ท 4.1",null,"ป.1/5",null,5]
[null,null,null,null,null,null,null,null,null,null,null,null,null,null,null,null,null,null,null,null,null,null,null,null,null,null,null,null,null,null,null,null,null,null,null,null,null,null,null,null,null,null,null,null,null,null,null,null,null,null,null,null,null,null,null,null,null,null,null,null,null,null,null,null,null,null,null,null,null,"ท 5.1",null,"ป.1/6",null,"-"]
[null,null,null,null,null,null,null,null,null,null,null,null,null,null,null,null,null,null,null,null,null,null,null,null,null,null,null,null,null,null,null,null,null,null,null,null,null,null,null,null,null,null,null,null,null,null,null,null,null,null,null,null,null,null,null,null,null,null,null,null,null,null,null,null,null,null,null,null,null,"ค 1.1",null,"ป.1/7",null,"ป.1/1"]
[null,null,null,null,null,null,null,null,null,null,null,null,null,null,null,null,null,null,null,null,null,null,null,null,null,null,null,null,null,null,null,null,null,null,null,null,null,null,null,null,null,null,null,null,null,null,null,null,null,null,null,null,null,null,null,null,null,null,null,null,null,null,null,null,null,null,null,null,null,"ค 1.2",null,"ป.1/8",null,"ป.1/2"]
[null,null,null,null,null,null,null,null,null,null,null,null,null,null,null,null,null,null,null,null,null,null,null,null,null,null,null,null,null,null,null,null,null,null,null,null,null,null,null,null,null,null,null,null,null,null,null,null,null,null,null,null,null,null,null,null,null,null,null,null,null,null,null,null,null,null,null,null,null,"ค 1.3",null,"ป.1/9",null,"ป.1/3"]
[null,null,null,null,null,null,null,null,null,null,null,null,null,null,null,null,null,null,null,null,null,null,null,null,null,null,null,null,null,null,null,null,null,null,null,null,null,null,null,null,null,null,null,null,null,null,null,null,null,null,null,null,null,null,null,null,null,null,null,null,null,null,null,null,null,null,null,null,null,"ค 2.1",null,"ป.1/10",null,"ป.1/4"]
[null,null,null,null,null,null,null,null,null,null,null,null,null,null,null,null,null,null,null,null,null,null,null,null,null,null,null,null,null,null,null,null,null,null,null,null,null,null,null,null,null,null,null,null,null,null,null,null,null,null,null,null,null,null,null,null,null,null,null,null,null,null,null,null,null,null,null,null,null,"ค 2.2",null,"ป.2/1",null,"ป.1/5"]
[null,null,null,null,null,null,null,null,null,null,null,null,null,null,null,null,null,null,null,null,null,null,null,null,null,null,null,null,null,null,null,null,null,null,null,null,null,null,null,null,null,null,null,null,null,null,null,null,null,null,null,null,null,null,null,null,null,null,null,null,null,null,null,null,null,null,null,null,null,"ค 3.1",null,"ป.2/2",null,"ป.1/6"]
[null,null,null,null,null,null,null,null,null,null,null,null,null,null,null,null,null,null,null,null,null,null,null,null,null,null,null,null,null,null,null,null,null,null,null,null,null,null,null,null,null,null,null,null,null,null,null,null,null,null,null,null,null,null,null,null,null,null,null,null,null,null,null,null,null,null,null,null,null,"ค 3.2",null,"ป.2/3",null,"ป.1/7"]
[null,null,null,null,null,null,null,null,null,null,null,null,null,null,null,null,null,null,null,null,null,null,null,null,null,null,null,null,null,null,null,null,null,null,null,null,null,null,null,null,null,null,null,null,null,null,null,null,null,null,null,null,null,null,null,null,null,null,null,null,null,null,null,null,null,null,null,null,null,"ว 1.1",null,"ป.2/4",null,"ป.1/8"]
[null,null,null,null,null,null,null,null,null,null,null,null,null,null,null,null,null,null,null,null,null,null,null,null,null,null,null,null,null,null,null,null,null,null,null,null,null,null,null,null,null,null,null,null,null,null,null,null,null,null,null,null,null,null,null,null,null,null,null,null,null,null,null,null,null,null,null,null,null,"ว 1.2",null,"ป.2/5",null,"ป.1/9"]
[null,null,null,null,null,null,null,null,null,null,null,null,null,null,null,null,null,null,null,null,null,null,null,null,null,null,null,null,null,null,null,null,null,null,null,null,null,null,null,null,null,null,null,null,null,null,null,null,null,null,null,null,null,null,null,null,null,null,null,null,null,null,null,null,null,null,null,null,null,"ว 1.3",null,"ป.2/6",null,"ป.1/10"]
[null,null,null,null,null,null,null,null,null,null,null,null,null,null,null,null,null,null,null,null,null,null,null,null,null,null,null,null,null,null,null,null,null,null,null,null,null,null,null,null,null,null,null,null,null,null,null,null,null,null,null,null,null,null,null,null,null,null,null,null,null,null,null,null,null,null,null,null,null,"ว 2.1",null,"ป.2/7",null,"ป.1/11"]
[null,null,null,null,null,null,null,null,null,null,null,null,null,null,null,null,null,null,null,null,null,null,null,null,null,null,null,null,null,null,null,null,null,null,null,null,null,null,null,null,null,null,null,null,null,null,null,null,null,null,null,null,null,null,null,null,null,null,null,null,null,null,null,null,null,null,null,null,null,"ว 2.2",null,"ป.2/8",null,"ป.1/12"]
[null,null,null,null,null,null,null,null,null,null,null,null,null,null,null,null,null,null,null,null,null,null,null,null,null,null,null,null,null,null,null,null,null,null,null,null,null,null,null,null,null,null,null,null,null,null,null,null,null,null,null,null,null,null,null,null,null,null,null,null,null,null,null,null,null,null,null,null,null,"ว 2.3",null,"ป.2/9",null,"ป.1/13"]
[null,null,null,null,null,null,null,null,null,null,null,null,null,null,null,null,null,null,null,null,null,null,null,null,null,null,null,null,null,null,null,null,null,null,null,null,null,null,null,null,null,null,null,null,null,null,null,null,null,null,null,null,null,null,null,null,null,null,null,null,null,null,null,null,null,null,null,null,null,"ว 3.1",null,"ป.2/10",null,"ป.1/14"]
[null,null,null,null,null,null,null,null,null,null,null,null,null,null,null,null,null,null,null,null,null,null,null,null,null,null,null,null,null,null,null,null,null,null,null,null,null,null,null,null,null,null,null,null,null,null,null,null,null,null,null,null,null,null,null,null,null,null,null,null,null,null,null,null,null,null,null,null,null,"ว 3.2",null,"ป.3/1",null,"ป.1/15"]
[null,null,null,null,null,null,null,null,null,null,null,null,null,null,null,null,null,null,null,null,null,null,null,null,null,null,null,null,null,null,null,null,null,null,null,null,null,null,null,null,null,null,null,null,null,null,null,null,null,null,null,null,null,null,null,null,null,null,null,null,null,null,null,null,null,null,null,null,null,"ว 4.1",null,null,null,"ป.2/1"]
[null,null,null,null,null,null,null,null,null,null,null,null,null,null,null,null,null,null,null,null,null,null,null,null,null,null,null,null,null,null,null,null,null,null,null,null,null,null,null,null,null,null,null,null,null,null,null,null,null,null,null,null,null,null,null,null,null,null,null,null,null,null,null,null,null,null,null,null,null,"ว 4.2",null,"ป.3/2",null,"ป.2/2"]
[null,null,null,null,null,null,null,null,null,null,null,null,null,null,null,null,null,null,null,null,null,null,null,null,null,null,null,null,null,null,null,null,null,null,null,null,null,null,null,null,null,null,null,null,null,null,null,null,null,null,null,null,null,null,null,null,null,null,null,null,null,null,null,null,null,null,null,null,null,"ส 1.1",null,"ป.3/3",null,"ป.2/3"]
[null,null,null,null,null,null,null,null,null,null,null,null,null,null,null,null,null,null,null,null,null,null,null,null,null,null,null,null,null,null,null,null,null,null,null,null,null,null,null,null,null,null,null,null,null,null,null,null,null,null,null,null,null,null,null,null,null,null,null,null,null,null,null,null,null,null,null,null,null,"ส 1.2",null,null,null,"ป.2/4"]
[null,null,null,null,null,null,null,null,null,null,null,null,null,null,null,null,null,null,null,null,null,null,null,null,null,null,null,null,null,null,null,null,null,null,null,null,null,null,null,null,null,null,null,null,null,null,null,null,null,null,null,null,null,null,null,null,null,null,null,null,null,null,null,null,null,null,null,null,null,"ส 2.1",null,"ป.3/4",null,"ป.2/5"]
[null,null,null,null,null,null,null,null,null,null,null,null,null,null,null,null,null,null,null,null,null,null,null,null,null,null,null,null,null,null,null,null,null,null,null,null,null,null,null,null,null,null,null,null,null,null,null,null,null,null,null,null,null,null,null,null,null,null,null,null,null,null,null,null,null,null,null,null,null,"ส 2.2",null,"ป.3/5",null,"ป.2/6"]
[null,null,null,null,null,null,null,null,null,null,null,null,null,null,null,null,null,null,null,null,null,null,null,null,null,null,null,null,null,null,null,null,null,null,null,null,null,null,null,null,null,null,null,null,null,null,null,null,null,null,null,null,null,null,null,null,null,null,null,null,null,null,null,null,null,null,null,null,null,"ส 3.1",null,"ป.3/6",null,"ป.2/7"]
[null,null,null,null,null,null,null,null,null,null,null,null,null,null,null,null,null,null,null,null,null,null,null,null,null,null,null,null,null,null,null,null,null,null,null,null,null,null,null,null,null,null,null,null,null,null,null,null,null,null,null,null,null,null,null,null,null,null,null,null,null,null,null,null,null,null,null,null,null,"ส 3.2",null,"ป.3/7",null,"ป.2/8"]
[null,null,null,null,null,null,null,null,null,null,null,null,null,null,null,null,null,null,null,null,null,null,null,null,null,null,null,null,null,null,null,null,null,null,null,null,null,null,null,null,null,null,null,null,null,null,null,null,null,null,null,null,null,null,null,null,null,null,null,null,null,null,null,null,null,null,null,null,null,"ส 4.1",null,"ป.3/8",null,"ป.2/9"]
[null,null,null,null,null,null,null,null,null,null,null,null,null,null,null,null,null,null,null,null,null,null,null,null,null,null,null,null,null,null,null,null,null,null,null,null,null,null,null,null,null,null,null,null,null,null,null,null,null,null,null,null,null,null,null,null,null,null,null,null,null,null,null,null,null,null,null,null,null,"ส 4.2",null,"ป.3/9",null,"ป.2/10"]
[null,null,null,null,null,null,null,null,null,null,null,null,null,null,null,null,null,null,null,null,null,null,null,null,null,null,null,null,null,null,null,null,null,null,null,null,null,null,null,null,null,null,null,null,null,null,null,null,null,null,null,null,null,null,null,null,null,null,null,null,null,null,null,null,null,null,null,null,null,"ส 4.2",null,"ป.3/10",null,"ป.2/11"]
[null,null,null,null,null,null,null,null,null,null,null,null,null,null,null,null,null,null,null,null,null,null,null,null,null,null,null,null,null,null,null,null,null,null,null,null,null,null,null,null,null,null,null,null,null,null,null,null,null,null,null,null,null,null,null,null,null,null,null,null,null,null,null,null,null,null,null,null,null,"ส 4.3",null,"ป.4/1",null,"ป.2/12"]
[null,null,null,null,null,null,null,null,null,null,null,null,null,null,null,null,null,null,null,null,null,null,null,null,null,null,null,null,null,null,null,null,null,null,null,null,null,null,null,null,null,null,null,null,null,null,null,null,null,null,null,null,null,null,null,null,null,null,null,null,null,null,null,null,null,null,null,null,null,"ส 5.1",null,"ป.4/2",null,"ป.2/13"]
[null,null,null,null,null,null,null,null,null,null,null,null,null,null,null,null,null,null,null,null,null,null,null,null,null,null,null,null,null,null,null,null,null,null,null,null,null,null,null,null,null,null,null,null,null,null,null,null,null,null,null,null,null,null,null,null,null,null,null,null,null,null,null,null,null,null,null,null,null,"ส 5.2",null,"ป.4/3",null,"ป.2/14"]
[null,null,null,null,null,null,null,null,null,null,null,null,null,null,null,null,null,null,null,null,null,null,null,null,null,null,null,null,null,null,null,null,null,null,null,null,null,null,null,null,null,null,null,null,null,null,null,null,null,null,null,null,null,null,null,null,null,null,null,null,null,null,null,null,null,null,null,null,null,"พ 1.1",null,"ป.4/4",null,"ป.2/15"]
[null,null,null,null,null,null,null,null,null,null,null,null,null,null,null,null,null,null,null,null,null,null,null,null,null,null,null,null,null,null,null,null,null,null,null,null,null,null,null,null,null,null,null,null,null,null,null,null,null,null,null,null,null,null,null,null,null,null,null,null,null,null,null,null,null,null,null,null,null,"พ 2.1",null,"ป.4/5",null,"ป.3/1"]
[null,"ท 1.1",null,null,"ม.1/1",null,null,null,null,null,null,null,null,null,null,null,null,null,null,null,null,null,null,null,null,null,null,null,null,null,null,null,null,null,null,null,null,null,null,null,null,null,null,null,null,null,null,null,null,null,null,null,null,null,null,null,null,null,null,null,null,null,null,null,null,null,null,null,null,"พ 3.1",null,"ป.4/6",null,"ป.3/2",null,null,null,null,null,null,null,null,null,null,null,null,null,null,null,null,null,null,null,null,null,null,null,null,null,null,null,null,null,null,null,null,null,null,null,null,null,null,null,null,null,null,null,null,null,null,null,null,null,null,null,null,null,null,null,null,null,null,null,null,null,null,null,null,null,null,"ม.1/1"]
[null,"ท 2.1",null,null,"ม.1/2",null,null,null,null,null,null,null,null,null,null,null,null,null,null,null,null,null,null,null,null,null,null,null,null,null,null,null,null,null,null,null,null,null,null,null,null,null,null,null,null,null,null,null,null,null,null,null,null,null,null,null,null,null,null,null,null,null,null,null,null,null,null,null,null,"พ 3.2",null,"ป.4/7",null,"ป.3/3",null,null,null,null,null,null,null,null,null,null,null,null,null,null,null,null,null,null,null,null,null,null,null,null,null,null,null,null,null,null,null,null,null,null,null,null,null,null,null,null,null,null,null,null,null,null,null,null,null,null,null,null,null,null,null,null,null,null,null,null,null,null,null,null,null,null,"ม.1/2"]
[null,"ท 3.1",null,null,"ม.1/3",null,null,null,null,null,null,null,null,null,null,null,null,null,null,null,null,null,null,null,null,null,null,null,null,null,null,null,null,null,null,null,null,null,null,null,null,null,null,null,null,null,null,null,null,null,null,null,null,null,null,null,null,null,null,null,null,null,null,null,null,null,null,null,null,"พ 4.1",null,"ป.4/8",null,"ป.3/4",null,null,null,null,null,null,null,null,null,null,null,null,null,null,null,null,null,null,null,null,null,null,null,null,null,null,null,null,null,null,null,null,null,null,null,null,null,null,null,null,null,null,null,null,null,null,null,null,null,null,null,null,null,null,null,null,null,null,null,null,null,null,null,null,null,null,"ม.1/3"]
[null,"ท 4.1",null,null,"ม.1/4",null,null,null,null,null,null,null,null,null,null,null,null,null,null,null,null,null,null,null,null,null,null,null,null,null,null,null,null,null,null,null,null,null,null,null,null,null,null,null,null,null,null,null,null,null,null,null,null,null,null,null,null,null,null,null,null,null,null,null,null,null,null,null,null,"พ 5.1",null,"ป.4/9",null,"ป.3/5",null,null,null,null,null,null,null,null,null,null,null,null,null,null,null,null,null,null,null,null,null,null,null,null,null,null,null,null,null,null,null,null,null,null,null,null,null,null,null,null,null,null,null,null,null,null,null,null,null,null,null,null,null,null,null,null,null,null,null,null,null,null,null,null,null,null,"ม.1/4"]
[null,"ท 5.1",null,null,"ม.1/5",null,null,null,null,null,null,null,null,null,null,null,null,null,null,null,null,null,null,null,null,null,null,null,null,null,null,null,null,null,null,null,null,null,null,null,null,null,null,null,null,null,null,null,null,null,null,null,null,null,null,null,null,null,null,null,null,null,null,null,null,null,null,null,null,"ศ 1.1",null,"ป.4/10",null,"ป.3/6",null,null,null,null,null,null,null,null,null,null,null,null,null,null,null,null,null,null,null,null,null,null,null,null,null,null,null,null,null,null,null,null,null,null,null,null,null,null,null,null,null,null,null,null,null,null,null,null,null,null,null,null,null,null,null,null,null,null,null,null,null,null,null,null,null,null,"ม.1/5"]
[null,"ค 1.1",null,null,"ม.1/6",null,null,null,null,null,null,null,null,null,null,null,null,null,null,null,null,null,null,null,null,null,null,null,null,null,null,null,null,null,null,null,null,null,null,null,null,null,null,null,null,null,null,null,null,null,null,null,null,null,null,null,null,null,null,null,null,null,null,null,null,null,null,null,null,"ศ 1.2",null,"ป.5/1",null,"ป.3/7",null,null,null,null,null,null,null,null,null,null,null,null,null,null,null,null,null,null,null,null,null,null,null,null,null,null,null,null,null,null,null,null,null,null,null,null,null,null,null,null,null,null,null,null,null,null,null,null,null,null,null,null,null,null,null,null,null,null,null,null,null,null,null,null,null,null,"ม.1/6"]
[null,"ค 1.2",null,null,"ม.1/7",null,null,null,null,null,null,null,null,null,null,null,null,null,null,null,null,null,null,null,null,null,null,null,null,null,null,null,null,null,null,null,null,null,null,null,null,null,null,null,null,null,null,null,null,null,null,null,null,null,null,null,null,null,null,null,null,null,null,null,null,null,null,null,null,"ศ 2.1",null,"ป.5/2",null,"ป.3/8",null,null,null,null,null,null,null,null,null,null,null,null,null,null,null,null,null,null,null,null,null,null,null,null,null,null,null,null,null,null,null,null,null,null,null,null,null,null,null,null,null,null,null,null,null,null,null,null,null,null,null,null,null,null,null,null,null,null,null,null,null,null,null,null,null,null,"ม.1/7"]
[null,"ค 1.3",null,null,"ม.1/8",null,null,null,null,null,null,null,null,null,null,null,null,null,null,null,null,null,null,null,null,null,null,null,null,null,null,null,null,null,null,null,null,null,null,null,null,null,null,null,null,null,null,null,null,null,null,null,null,null,null,null,null,null,null,null,null,null,null,null,null,null,null,null,null,"ศ 2.2",null,"ป.5/3",null,"ป.3/9",null,null,null,null,null,null,null,null,null,null,null,null,null,null,null,null,null,null,null,null,null,null,null,null,null,null,null,null,null,null,null,null,null,null,null,null,null,null,null,null,null,null,null,null,null,null,null,null,null,null,null,null,null,null,null,null,null,null,null,null,null,null,null,null,null,null,"ม.1/8"]
[null,"ค 1.4",null,null,"ม.1/9",null,null,null,null,null,null,null,null,null,null,null,null,null,null,null,null,null,null,null,null,null,null,null,null,null,null,null,null,null,null,null,null,null,null,null,null,null,null,null,null,null,null,null,null,null,null,null,null,null,null,null,null,null,null,null,null,null,null,null,null,null,null,null,null,"ศ 3.1",null,"ป.5/4",null,"ป.3/10",null,null,null,null,null,null,null,null,null,null,null,null,null,null,null,null,null,null,null,null,null,null,null,null,null,null,null,null,null,null,null,null,null,null,null,null,null,null,null,null,null,null,null,null,null,null,null,null,null,null,null,null,null,null,null,null,null,null,null,null,null,null,null,null,null,null,"ม.1/9"]
[null,"ค 2.1",null,null,"ม.1/10",null,null,null,null,null,null,null,null,null,null,null,null,null,null,null,null,null,null,null,null,null,null,null,null,null,null,null,null,null,null,null,null,null,null,null,null,null,null,null,null,null,null,null,null,null,null,null,null,null,null,null,null,null,null,null,null,null,null,null,null,null,null,null,null,"ศ 3.2",null,"ป.5/5",null,"ป.3/11",null,null,null,null,null,null,null,null,null,null,null,null,null,null,null,null,null,null,null,null,null,null,null,null,null,null,null,null,null,null,null,null,null,null,null,null,null,null,null,null,null,null,null,null,null,null,null,null,null,null,null,null,null,null,null,null,null,null,null,null,null,null,null,null,null,null,"ม.1/10"]
[null,"ค 2.2",null,null,"ม.2/1",null,null,null,null,null,null,null,null,null,null,null,null,null,null,null,null,null,null,null,null,null,null,null,null,null,null,null,null,null,null,null,null,null,null,null,null,null,null,null,null,null,null,null,null,null,null,null,null,null,null,null,null,null,null,null,null,null,null,null,null,null,null,null,null,"ง 1.1",null,"ป.5/6",null,"ป.3/12",null,null,null,null,null,null,null,null,null,null,null,null,null,null,null,null,null,null,null,null,null,null,null,null,null,null,null,null,null,null,null,null,null,null,null,null,null,null,null,null,null,null,null,null,null,null,null,null,null,null,null,null,null,null,null,null,null,null,null,null,null,null,null,null,null,null,"ม.2/1"]
[null,"ค 3.1",null,null,"ม.2/2",null,null,null,null,null,null,null,null,null,null,null,null,null,null,null,null,null,null,null,null,null,null,null,null,null,null,null,null,null,null,null,null,null,null,null,null,null,null,null,null,null,null,null,null,null,null,null,null,null,null,null,null,null,null,null,null,null,null,null,null,null,null,null,null," ง 2.1",null,"ป.5/7",null,"ป.3/13",null,null,null,null,null,null,null,null,null,null,null,null,null,null,null,null,null,null,null,null,null,null,null,null,null,null,null,null,null,null,null,null,null,null,null,null,null,null,null,null,null,null,null,null,null,null,null,null,null,null,null,null,null,null,null,null,null,null,null,null,null,null,null,null,null,null,"ม.2/2"]
[null,"ค 3.2",null,null,"ม.2/3",null,null,null,null,null,null,null,null,null,null,null,null,null,null,null,null,null,null,null,null,null,null,null,null,null,null,null,null,null,null,null,null,null,null,null,null,null,null,null,null,null,null,null,null,null,null,null,null,null,null,null,null,null,null,null,null,null,null,null,null,null,null,null,null,"ง 3.1",null,"ป.5/8",null,"ป.3/14",null,null,null,null,null,null,null,null,null,null,null,null,null,null,null,null,null,null,null,null,null,null,null,null,null,null,null,null,null,null,null,null,null,null,null,null,null,null,null,null,null,null,null,null,null,null,null,null,null,null,null,null,null,null,null,null,null,null,null,null,null,null,null,null,null,null,"ม.2/3"]
[null,"ค 4.1",null,null,"ม.2/4",null,null,null,null,null,null,null,null,null,null,null,null,null,null,null,null,null,null,null,null,null,null,null,null,null,null,null,null,null,null,null,null,null,null,null,null,null,null,null,null,null,null,null,null,null,null,null,null,null,null,null,null,null,null,null,null,null,null,null,null,null,null,null,null,"ง 4.1",null,"ป.5/9",null,"ป.3/15",null,null,null,null,null,null,null,null,null,null,null,null,null,null,null,null,null,null,null,null,null,null,null,null,null,null,null,null,null,null,null,null,null,null,null,null,null,null,null,null,null,null,null,null,null,null,null,null,null,null,null,null,null,null,null,null,null,null,null,null,null,null,null,null,null,null,"ม.2/4"]
[null,"ค 4.2",null,null,"ม.2/5",null,null,null,null,null,null,null,null,null,null,null,null,null,null,null,null,null,null,null,null,null,null,null,null,null,null,null,null,null,null,null,null,null,null,null,null,null,null,null,null,null,null,null,null,null,null,null,null,null,null,null,null,null,null,null,null,null,null,null,null,null,null,null,null,"ต 1.1",null,"ป.5/10",null,"ป.4/1",null,null,null,null,null,null,null,null,null,null,null,null,null,null,null,null,null,null,null,null,null,null,null,null,null,null,null,null,null,null,null,null,null,null,null,null,null,null,null,null,null,null,null,null,null,null,null,null,null,null,null,null,null,null,null,null,null,null,null,null,null,null,null,null,null,null,"ม.2/5"]
[null,"ค 5.1",null,null,"ม.2/6",null,null,null,null,null,null,null,null,null,null,null,null,null,null,null,null,null,null,null,null,null,null,null,null,null,null,null,null,null,null,null,null,null,null,null,null,null,null,null,null,null,null,null,null,null,null,null,null,null,null,null,null,null,null,null,null,null,null,null,null,null,null,null,null,"ต 1.2",null,"ป.6/1",null,"ป.4/2",null,null,null,null,null,null,null,null,null,null,null,null,null,null,null,null,null,null,null,null,null,null,null,null,null,null,null,null,null,null,null,null,null,null,null,null,null,null,null,null,null,null,null,null,null,null,null,null,null,null,null,null,null,null,null,null,null,null,null,null,null,null,null,null,null,null,"ม.2/6"]
[null,"ค 5.2",null,null,"ม.2/7",null,null,null,null,null,null,null,null,null,null,null,null,null,null,null,null,null,null,null,null,null,null,null,null,null,null,null,null,null,null,null,null,null,null,null,null,null,null,null,null,null,null,null,null,null,null,null,null,null,null,null,null,null,null,null,null,null,null,null,null,null,null,null,null,"ต 1.3",null,"ป.6/2",null,"ป.4/3",null,null,null,null,null,null,null,null,null,null,null,null,null,null,null,null,null,null,null,null,null,null,null,null,null,null,null,null,null,null,null,null,null,null,null,null,null,null,null,null,null,null,null,null,null,null,null,null,null,null,null,null,null,null,null,null,null,null,null,null,null,null,null,null,null,null,"ม.2/7"]
[null,"ค 5.3",null,null,"ม.2/8",null,null,null,null,null,null,null,null,null,null,null,null,null,null,null,null,null,null,null,null,null,null,null,null,null,null,null,null,null,null,null,null,null,null,null,null,null,null,null,null,null,null,null,null,null,null,null,null,null,null,null,null,null,null,null,null,null,null,null,null,null,null,null,null,"ต 2.1",null,"ป.6/3",null,"ป.4/4",null,null,null,null,null,null,null,null,null,null,null,null,null,null,null,null,null,null,null,null,null,null,null,null,null,null,null,null,null,null,null,null,null,null,null,null,null,null,null,null,null,null,null,null,null,null,null,null,null,null,null,null,null,null,null,null,null,null,null,null,null,null,null,null,null,null,"ม.2/8"]
[null,"ค 6.1",null,null,"ม.2/9",null,null,null,null,null,null,null,null,null,null,null,null,null,null,null,null,null,null,null,null,null,null,null,null,null,null,null,null,null,null,null,null,null,null,null,null,null,null,null,null,null,null,null,null,null,null,null,null,null,null,null,null,null,null,null,null,null,null,null,null,null,null,null,null,"ต 2.2",null,"ป.6/4",null,"ป.4/5",null,null,null,null,null,null,null,null,null,null,null,null,null,null,null,null,null,null,null,null,null,null,null,null,null,null,null,null,null,null,null,null,null,null,null,null,null,null,null,null,null,null,null,null,null,null,null,null,null,null,null,null,null,null,null,null,null,null,null,null,null,null,null,null,null,null,"ม.2/9"]
[null,"ว 1.1",null,null,"ม.2/10",null,null,null,null,null,null,null,null,null,null,null,null,null,null,null,null,null,null,null,null,null,null,null,null,null,null,null,null,null,null,null,null,null,null,null,null,null,null,null,null,null,null,null,null,null,null,null,null,null,null,null,null,null,null,null,null,null,null,null,null,null,null,null,null,"ต 3.1",null,"ป.6/5",null,"ป.4/6",null,null,null,null,null,null,null,null,null,null,null,null,null,null,null,null,null,null,null,null,null,null,null,null,null,null,null,null,null,null,null,null,null,null,null,null,null,null,null,null,null,null,null,null,null,null,null,null,null,null,null,null,null,null,null,null,null,null,null,null,null,null,null,null,null,null,"ม.2/10"]
[null,"ว 1.2",null,null,"ม.3/1",null,null,null,null,null,null,null,null,null,null,null,null,null,null,null,null,null,null,null,null,null,null,null,null,null,null,null,null,null,null,null,null,null,null,null,null,null,null,null,null,null,null,null,null,null,null,null,null,null,null,null,null,null,null,null,null,null,null,null,null,null,null,null,null,"ต 4.1",null,"ป.6/6",null,"ป.4/7",null,null,null,null,null,null,null,null,null,null,null,null,null,null,null,null,null,null,null,null,null,null,null,null,null,null,null,null,null,null,null,null,null,null,null,null,null,null,null,null,null,null,null,null,null,null,null,null,null,null,null,null,null,null,null,null,null,null,null,null,null,null,null,null,null,null,"ม.3/1"]
[null,"ว 2.1",null,null,"ม.3/2",null,null,null,null,null,null,null,null,null,null,null,null,null,null,null,null,null,null,null,null,null,null,null,null,null,null,null,null,null,null,null,null,null,null,null,null,null,null,null,null,null,null,null,null,null,null,null,null,null,null,null,null,null,null,null,null,null,null,null,null,null,null,null,null,"ต 4.2",null,"ป.6/7",null,"ป.4/8",null,null,null,null,null,null,null,null,null,null,null,null,null,null,null,null,null,null,null,null,null,null,null,null,null,null,null,null,null,null,null,null,null,null,null,null,null,null,null,null,null,null,null,null,null,null,null,null,null,null,null,null,null,null,null,null,null,null,null,null,null,null,null,null,null,null,"ม.3/2"]
[null,"ว 2.2",null,null,"ม.3/3",null,null,null,null,null,null,null,null,null,null,null,null,null,null,null,null,null,null,null,null,null,null,null,null,null,null,null,null,null,null,null,null,null,null,null,null,null,null,null,null,null,null,null,null,null,null,null,null,null,null,null,null,null,null,null,null,null,null,null,null,null,null,null,null,"ข้อ 1",null,"ป.6/8",null,"ป.4/9",null,null,null,null,null,null,null,null,null,null,null,null,null,null,null,null,null,null,null,null,null,null,null,null,null,null,null,null,null,null,null,null,null,null,null,null,null,null,null,null,null,null,null,null,null,null,null,null,null,null,null,null,null,null,null,null,null,null,null,null,null,null,null,null,null,null,"ม.3/3"]
[null,"ว 3.1",null,null,"ม.3/4",null,null,null,null,null,null,null,null,null,null,null,null,null,null,null,null,null,null,null,null,null,null,null,null,null,null,null,null,null,null,null,null,null,null,null,null,null,null,null,null,null,null,null,null,null,null,null,null,null,null,null,null,null,null,null,null,null,null,null,null,null,null,null,null,"ข้อ 2",null,"ป.6/9",null,"ป.4/10",null,null,null,null,null,null,null,null,null,null,null,null,null,null,null,null,null,null,null,null,null,null,null,null,null,null,null,null,null,null,null,null,null,null,null,null,null,null,null,null,null,null,null,null,null,null,null,null,null,null,null,null,null,null,null,null,null,null,null,null,null,null,null,null,null,null,"ม.3/4"]
[null,"ว 3.2",null,null,"ม.3/5",null,null,null,null,null,null,null,null,null,null,null,null,null,null,null,null,null,null,null,null,null,null,null,null,null,null,null,null,null,null,null,null,null,null,null,null,null,null,null,null,null,null,null,null,null,null,null,null,null,null,null,null,null,null,null,null,null,null,null,null,null,null,null,null,"ข้อ 3",null,"ป.6/10",null,"ป.4/11",null,null,null,null,null,null,null,null,null,null,null,null,null,null,null,null,null,null,null,null,null,null,null,null,null,null,null,null,null,null,null,null,null,null,null,null,null,null,null,null,null,null,null,null,null,null,null,null,null,null,null,null,null,null,null,null,null,null,null,null,null,null,null,null,null,null,"ม.3/5"]
[null,"ว 4.1",null,null,"ม.3/6",null,null,null,null,null,null,null,null,null,null,null,null,null,null,null,null,null,null,null,null,null,null,null,null,null,null,null,null,null,null,null,null,null,null,null,null,null,null,null,null,null,null,null,null,null,null,null,null,null,null,null,null,null,null,null,null,null,null,null,null,null,null,null,null,"ข้อ 4",null,"ข้อ1",null,"ป.4/12",null,null,null,null,null,null,null,null,null,null,null,null,null,null,null,null,null,null,null,null,null,null,null,null,null,null,null,null,null,null,null,null,null,null,null,null,null,null,null,null,null,null,null,null,null,null,null,null,null,null,null,null,null,null,null,null,null,null,null,null,null,null,null,null,null,null,"ม.3/6"]
[null,"ว 4.2",null,null,"ม.3/7",null,null,null,null,null,null,null,null,null,null,null,null,null,null,null,null,null,null,null,null,null,null,null,null,null,null,null,null,null,null,null,null,null,null,null,null,null,null,null,null,null,null,null,null,null,null,null,null,null,null,null,null,null,null,null,null,null,null,null,null,null,null,null,null,"ข้อ 5",null,"ข้อ2",null,"ป.4/13",null,null,null,null,null,null,null,null,null,null,null,null,null,null,null,null,null,null,null,null,null,null,null,null,null,null,null,null,null,null,null,null,null,null,null,null,null,null,null,null,null,null,null,null,null,null,null,null,null,null,null,null,null,null,null,null,null,null,null,null,null,null,null,null,null,null,"ม.3/7"]
[null,"ว 5.1",null,null,"ม.3/8",null,null,null,null,null,null,null,null,null,null,null,null,null,null,null,null,null,null,null,null,null,null,null,null,null,null,null,null,null,null,null,null,null,null,null,null,null,null,null,null,null,null,null,null,null,null,null,null,null,null,null,null,null,null,null,null,null,null,null,null,null,null,null,null,"ข้อ 6",null,"ข้อ3",null,"ป.4/14",null,null,null,null,null,null,null,null,null,null,null,null,null,null,null,null,null,null,null,null,null,null,null,null,null,null,null,null,null,null,null,null,null,null,null,null,null,null,null,null,null,null,null,null,null,null,null,null,null,null,null,null,null,null,null,null,null,null,null,null,null,null,null,null,null,null,"ม.3/8"]
[null,"ว 6.1",null,null,"ม.3/9",null,null,null,null,null,null,null,null,null,null,null,null,null,null,null,null,null,null,null,null,null,null,null,null,null,null,null,null,null,null,null,null,null,null,null,null,null,null,null,null,null,null,null,null,null,null,null,null,null,null,null,null,null,null,null,null,null,null,null,null,null,null,null,null,"ข้อ 7",null,"ข้อ4",null,"ป.4/15",null,null,null,null,null,null,null,null,null,null,null,null,null,null,null,null,null,null,null,null,null,null,null,null,null,null,null,null,null,null,null,null,null,null,null,null,null,null,null,null,null,null,null,null,null,null,null,null,null,null,null,null,null,null,null,null,null,null,null,null,null,null,null,null,null,null,"ม.3/9"]
[null,"ว 7.1",null,null,"ม.3/10",null,null,null,null,null,null,null,null,null,null,null,null,null,null,null,null,null,null,null,null,null,null,null,null,null,null,null,null,null,null,null,null,null,null,null,null,null,null,null,null,null,null,null,null,null,null,null,null,null,null,null,null,null,null,null,null,null,null,null,null,null,null,null,null,"ข้อ 8",null,"ข้อ5",null,"ป.4/16",null,null,null,null,null,null,null,null,null,null,null,null,null,null,null,null,null,null,null,null,null,null,null,null,null,null,null,null,null,null,null,null,null,null,null,null,null,null,null,null,null,null,null,null,null,null,null,null,null,null,null,null,null,null,null,null,null,null,null,null,null,null,null,null,null,null,"ม.3/10"]
[null,"ว 7.2",null,null,"ม.4-6/1",null,null,null,null,null,null,null,null,null,null,null,null,null,null,null,null,null,null,null,null,null,null,null,null,null,null,null,null,null,null,null,null,null,null,null,null,null,null,null,null,null,null,null,null,null,null,null,null,null,null,null,null,null,null,null,null,null,null,null,null,null,null,null,null,"ข้อ 9",null,"ข้อ6",null,"ป.5/1",null,null,null,null,null,null,null,null,null,null,null,null,null,null,null,null,null,null,null,null,null,null,null,null,null,null,null,null,null,null,null,null,null,null,null,null,null,null,null,null,null,null,null,null,null,null,null,null,null,null,null,null,null,null,null,null,null,null,null,null,null,null,null,null,null,null,"ม.4-6/1"]
[null,"ว 8.1",null,null,"ม.4-6/2",null,null,null,null,null,null,null,null,null,null,null,null,null,null,null,null,null,null,null,null,null,null,null,null,null,null,null,null,null,null,null,null,null,null,null,null,null,null,null,null,null,null,null,null,null,null,null,null,null,null,null,null,null,null,null,null,null,null,null,null,null,null,null,null,"ข้อ 10",null,"ข้อ7",null,"ป.5/2",null,null,null,null,null,null,null,null,null,null,null,null,null,null,null,null,null,null,null,null,null,null,null,null,null,null,null,null,null,null,null,null,null,null,null,null,null,null,null,null,null,null,null,null,null,null,null,null,null,null,null,null,null,null,null,null,null,null,null,null,null,null,null,null,null,null,"ม.4-6/2"]
[null,"ส 1.1",null,null,"ม.4-6/3",null,null,null,null,null,null,null,null,null,null,null,null,null,null,null,null,null,null,null,null,null,null,null,null,null,null,null,null,null,null,null,null,null,null,null,null,null,null,null,null,null,null,null,null,null,null,null,null,null,null,null,null,null,null,null,null,null,null,null,null,null,null,null,null,"ข้อ 11",null,"ข้อ8",null,"ป.5/3",null,null,null,null,null,null,null,null,null,null,null,null,null,null,null,null,null,null,null,null,null,null,null,null,null,null,null,null,null,null,null,null,null,null,null,null,null,null,null,null,null,null,null,null,null,null,null,null,null,null,null,null,null,null,null,null,null,null,null,null,null,null,null,null,null,null,"ม.4-6/3"]
[null,"ส 1.2",null,null,"ม.4-6/4",null,null,null,null,null,null,null,null,null,null,null,null,null,null,null,null,null,null,null,null,null,null,null,null,null,null,null,null,null,null,null,null,null,null,null,null,null,null,null,null,null,null,null,null,null,null,null,null,null,null,null,null,null,null,null,null,null,null,null,null,null,null,null,null,"ข้อ 12",null,"ข้อ9",null,"ป.5/4",null,null,null,null,null,null,null,null,null,null,null,null,null,null,null,null,null,null,null,null,null,null,null,null,null,null,null,null,null,null,null,null,null,null,null,null,null,null,null,null,null,null,null,null,null,null,null,null,null,null,null,null,null,null,null,null,null,null,null,null,null,null,null,null,null,null,"ม.4-6/4"]
[null,"ส 2.1",null,null,"ม.4-6/5",null,null,null,null,null,null,null,null,null,null,null,null,null,null,null,null,null,null,null,null,null,null,null,null,null,null,null,null,null,null,null,null,null,null,null,null,null,null,null,null,null,null,null,null,null,null,null,null,null,null,null,null,null,null,null,null,null,null,null,null,null,null,null,null,"ข้อ 13",null,"ข้อ10",null,"ป.5/5",null,null,null,null,null,null,null,null,null,null,null,null,null,null,null,null,null,null,null,null,null,null,null,null,null,null,null,null,null,null,null,null,null,null,null,null,null,null,null,null,null,null,null,null,null,null,null,null,null,null,null,null,null,null,null,null,null,null,null,null,null,null,null,null,null,null,"ม.4-6/5"]
[null,"ส 2.2",null,null,"ม.4-6/6",null,null,null,null,null,null,null,null,null,null,null,null,null,null,null,null,null,null,null,null,null,null,null,null,null,null,null,null,null,null,null,null,null,null,null,null,null,null,null,null,null,null,null,null,null,null,null,null,null,null,null,null,null,null,null,null,null,null,null,null,null,null,null,null,"ข้อ 14",null,"ข้อ11",null,"ป.5/6",null,null,null,null,null,null,null,null,null,null,null,null,null,null,null,null,null,null,null,null,null,null,null,null,null,null,null,null,null,null,null,null,null,null,null,null,null,null,null,null,null,null,null,null,null,null,null,null,null,null,null,null,null,null,null,null,null,null,null,null,null,null,null,null,null,null,"ม.4-6/6"]
[null,"ส 3.1",null,null,"ม.4-6/7",null,null,null,null,null,null,null,null,null,null,null,null,null,null,null,null,null,null,null,null,null,null,null,null,null,null,null,null,null,null,null,null,null,null,null,null,null,null,null,null,null,null,null,null,null,null,null,null,null,null,null,null,null,null,null,null,null,null,null,null,null,null,null,null,"ข้อ 15",null,"ข้อ12",null,"ป.5/7",null,null,null,null,null,null,null,null,null,null,null,null,null,null,null,null,null,null,null,null,null,null,null,null,null,null,null,null,null,null,null,null,null,null,null,null,null,null,null,null,null,null,null,null,null,null,null,null,null,null,null,null,null,null,null,null,null,null,null,null,null,null,null,null,null,null,"ม.4-6/7"]
[null,"ส 3.2",null,null,"ม.4-6/8",null,null,null,null,null,null,null,null,null,null,null,null,null,null,null,null,null,null,null,null,null,null,null,null,null,null,null,null,null,null,null,null,null,null,null,null,null,null,null,null,null,null,null,null,null,null,null,null,null,null,null,null,null,null,null,null,null,null,null,null,null,null,null,null,"ข้อ 16",null,"ข้อ13",null,"ป.5/8",null,null,null,null,null,null,null,null,null,null,null,null,null,null,null,null,null,null,null,null,null,null,null,null,null,null,null,null,null,null,null,null,null,null,null,null,null,null,null,null,null,null,null,null,null,null,null,null,null,null,null,null,null,null,null,null,null,null,null,null,null,null,null,null,null,null,"ม.4-6/8"]
[null,"ส 4.1",null,null,"ม.4-6/9",null,null,null,null,null,null,null,null,null,null,null,null,null,null,null,null,null,null,null,null,null,null,null,null,null,null,null,null,null,null,null,null,null,null,null,null,null,null,null,null,null,null,null,null,null,null,null,null,null,null,null,null,null,null,null,null,null,null,null,null,null,null,null,null,"ข้อ 17",null,"ข้อ14",null,"ป.5/9",null,null,null,null,null,null,null,null,null,null,null,null,null,null,null,null,null,null,null,null,null,null,null,null,null,null,null,null,null,null,null,null,null,null,null,null,null,null,null,null,null,null,null,null,null,null,null,null,null,null,null,null,null,null,null,null,null,null,null,null,null,null,null,null,null,null,"ม.4-6/9"]
[null,"ส 4.2",null,null,"ม.4-6/10",null,null,null,null,null,null,null,null,null,null,null,null,null,null,null,null,null,null,null,null,null,null,null,null,null,null,null,null,null,null,null,null,null,null,null,null,null,null,null,null,null,null,null,null,null,null,null,null,null,null,null,null,null,null,null,null,null,null,null,null,null,null,null,null,"ข้อ 18",null,"ข้อ15",null,"ป.5/10",null,null,null,null,null,null,null,null,null,null,null,null,null,null,null,null,null,null,null,null,null,null,null,null,null,null,null,null,null,null,null,null,null,null,null,null,null,null,null,null,null,null,null,null,null,null,null,null,null,null,null,null,null,null,null,null,null,null,null,null,null,null,null,null,null,null,"ม.4-6/10"]
[null,"ส 4.2",null,null,"ม.4-6/11",null,null,null,null,null,null,null,null,null,null,null,null,null,null,null,null,null,null,null,null,null,null,null,null,null,null,null,null,null,null,null,null,null,null,null,null,null,null,null,null,null,null,null,null,null,null,null,null,null,null,null,null,null,null,null,null,null,null,null,null,null,null,null,null,"ข้อ 19",null,"ข้อ16",null,"ป.5/11",null,null,null,null,null,null,null,null,null,null,null,null,null,null,null,null,null,null,null,null,null,null,null,null,null,null,null,null,null,null,null,null,null,null,null,null,null,null,null,null,null,null,null,null,null,null,null,null,null,null,null,null,null,null,null,null,null,null,null,null,null,null,null,null,null,null,"ม.4-6/11"]
[null,"ส 5.1",null,null,"ม.4-6/12",null,null,null,null,null,null,null,null,null,null,null,null,null,null,null,null,null,null,null,null,null,null,null,null,null,null,null,null,null,null,null,null,null,null,null,null,null,null,null,null,null,null,null,null,null,null,null,null,null,null,null,null,null,null,null,null,null,null,null,null,null,null,null,null,"ข้อ 20",null,"ข้อ17",null,"ป.5/12",null,null,null,null,null,null,null,null,null,null,null,null,null,null,null,null,null,null,null,null,null,null,null,null,null,null,null,null,null,null,null,null,null,null,null,null,null,null,null,null,null,null,null,null,null,null,null,null,null,null,null,null,null,null,null,null,null,null,null,null,null,null,null,null,null,null,"ม.4-6/12"]
[null,"ส 5.2",null,null,"ม.4-6/13",null,null,null,null,null,null,null,null,null,null,null,null,null,null,null,null,null,null,null,null,null,null,null,null,null,null,null,null,null,null,null,null,null,null,null,null,null,null,null,null,null,null,null,null,null,null,null,null,null,null,null,null,null,null,null,null,null,null,null,null,null,null,null,null,"ข้อ 21",null,"ข้อ18",null,"ป.5/13",null,null,null,null,null,null,null,null,null,null,null,null,null,null,null,null,null,null,null,null,null,null,null,null,null,null,null,null,null,null,null,null,null,null,null,null,null,null,null,null,null,null,null,null,null,null,null,null,null,null,null,null,null,null,null,null,null,null,null,null,null,null,null,null,null,null,"ม.4-6/13"]
[null,"พ 1.1",null,null,"ม.4-6/14",null,null,null,null,null,null,null,null,null,null,null,null,null,null,null,null,null,null,null,null,null,null,null,null,null,null,null,null,null,null,null,null,null,null,null,null,null,null,null,null,null,null,null,null,null,null,null,null,null,null,null,null,null,null,null,null,null,null,null,null,null,null,null,null,"ข้อ 22",null,"ข้อ19",null,"ป.5/14",null,null,null,null,null,null,null,null,null,null,null,null,null,null,null,null,null,null,null,null,null,null,null,null,null,null,null,null,null,null,null,null,null,null,null,null,null,null,null,null,null,null,null,null,null,null,null,null,null,null,null,null,null,null,null,null,null,null,null,null,null,null,null,null,null,null,"ม.4-6/14"]
[null,"พ 2.1",null,null,"ม.4-6/15",null,null,null,null,null,null,null,null,null,null,null,null,null,null,null,null,null,null,null,null,null,null,null,null,null,null,null,null,null,null,null,null,null,null,null,null,null,null,null,null,null,null,null,null,null,null,null,null,null,null,null,null,null,null,null,null,null,null,null,null,null,null,null,null,"ข้อ 23",null,"ข้อ20",null,"ป.5/15",null,null,null,null,null,null,null,null,null,null,null,null,null,null,null,null,null,null,null,null,null,null,null,null,null,null,null,null,null,null,null,null,null,null,null,null,null,null,null,null,null,null,null,null,null,null,null,null,null,null,null,null,null,null,null,null,null,null,null,null,null,null,null,null,null,null,"ม.4-6/15"]
[null,"พ 3.1",null,null,"ม.4-6/16",null,null,null,null,null,null,null,null,null,null,null,null,null,null,null,null,null,null,null,null,null,null,null,null,null,null,null,null,null,null,null,null,null,null,null,null,null,null,null,null,null,null,null,null,null,null,null,null,null,null,null,null,null,null,null,null,null,null,null,null,null,null,null,null,"ข้อ 24",null,"ข้อ21",null,"ป.6/1",null,null,null,null,null,null,null,null,null,null,null,null,null,null,null,null,null,null,null,null,null,null,null,null,null,null,null,null,null,null,null,null,null,null,null,null,null,null,null,null,null,null,null,null,null,null,null,null,null,null,null,null,null,null,null,null,null,null,null,null,null,null,null,null,null,null,"ม.4-6/16"]
[null,"พ 3.2",null,null,"ม.4-6/17",null,null,null,null,null,null,null,null,null,null,null,null,null,null,null,null,null,null,null,null,null,null,null,null,null,null,null,null,null,null,null,null,null,null,null,null,null,null,null,null,null,null,null,null,null,null,null,null,null,null,null,null,null,null,null,null,null,null,null,null,null,null,null,null,"ข้อ 25",null,"ข้อ22",null,"ป.6/2",null,null,null,null,null,null,null,null,null,null,null,null,null,null,null,null,null,null,null,null,null,null,null,null,null,null,null,null,null,null,null,null,null,null,null,null,null,null,null,null,null,null,null,null,null,null,null,null,null,null,null,null,null,null,null,null,null,null,null,null,null,null,null,null,null,null,"ม.4-6/17"]
[null,"พ 4.1",null,null,"ม.4-6/18",null,null,null,null,null,null,null,null,null,null,null,null,null,null,null,null,null,null,null,null,null,null,null,null,null,null,null,null,null,null,null,null,null,null,null,null,null,null,null,null,null,null,null,null,null,null,null,null,null,null,null,null,null,null,null,null,null,null,null,null,null,null,null,null,"ข้อ 26",null,"ข้อ23",null,"ป.6/3",null,null,null,null,null,null,null,null,null,null,null,null,null,null,null,null,null,null,null,null,null,null,null,null,null,null,null,null,null,null,null,null,null,null,null,null,null,null,null,null,null,null,null,null,null,null,null,null,null,null,null,null,null,null,null,null,null,null,null,null,null,null,null,null,null,null,"ม.4-6/18"]
[null,"พ 5.1",null,null,"ม.4-6/19",null,null,null,null,null,null,null,null,null,null,null,null,null,null,null,null,null,null,null,null,null,null,null,null,null,null,null,null,null,null,null,null,null,null,null,null,null,null,null,null,null,null,null,null,null,null,null,null,null,null,null,null,null,null,null,null,null,null,null,null,null,null,null,null,"ข้อ 27",null,"ข้อ24",null,"ป.6/4",null,null,null,null,null,null,null,null,null,null,null,null,null,null,null,null,null,null,null,null,null,null,null,null,null,null,null,null,null,null,null,null,null,null,null,null,null,null,null,null,null,null,null,null,null,null,null,null,null,null,null,null,null,null,null,null,null,null,null,null,null,null,null,null,null,null,"ม.4-6/19"]
[null,"ศ. 1.1",null,null,"ม.4-6/20",null,null,null,null,null,null,null,null,null,null,null,null,null,null,null,null,null,null,null,null,null,null,null,null,null,null,null,null,null,null,null,null,null,null,null,null,null,null,null,null,null,null,null,null,null,null,null,null,null,null,null,null,null,null,null,null,null,null,null,null,null,null,null,null,"ข้อ 28",null,"ข้อ25",null,"ป.6/5",null,null,null,null,null,null,null,null,null,null,null,null,null,null,null,null,null,null,null,null,null,null,null,null,null,null,null,null,null,null,null,null,null,null,null,null,null,null,null,null,null,null,null,null,null,null,null,null,null,null,null,null,null,null,null,null,null,null,null,null,null,null,null,null,null,null,"ม.4-6/20"]
[null,"ศ 1.2",null,null,"ม.4-6/21",null,null,null,null,null,null,null,null,null,null,null,null,null,null,null,null,null,null,null,null,null,null,null,null,null,null,null,null,null,null,null,null,null,null,null,null,null,null,null,null,null,null,null,null,null,null,null,null,null,null,null,null,null,null,null,null,null,null,null,null,null,null,null,null,"ข้อ 29",null,"ข้อ26",null,"ป.6/6",null,null,null,null,null,null,null,null,null,null,null,null,null,null,null,null,null,null,null,null,null,null,null,null,null,null,null,null,null,null,null,null,null,null,null,null,null,null,null,null,null,null,null,null,null,null,null,null,null,null,null,null,null,null,null,null,null,null,null,null,null,null,null,null,null,null,"ม.4-6/21"]
[null,"ศ 2.1",null,null,"ม.4-6/22",null,null,null,null,null,null,null,null,null,null,null,null,null,null,null,null,null,null,null,null,null,null,null,null,null,null,null,null,null,null,null,null,null,null,null,null,null,null,null,null,null,null,null,null,null,null,null,null,null,null,null,null,null,null,null,null,null,null,null,null,null,null,null,null,"ข้อ 30",null,"ข้อ27",null,"ป.6/7",null,null,null,null,null,null,null,null,null,null,null,null,null,null,null,null,null,null,null,null,null,null,null,null,null,null,null,null,null,null,null,null,null,null,null,null,null,null,null,null,null,null,null,null,null,null,null,null,null,null,null,null,null,null,null,null,null,null,null,null,null,null,null,null,null,null,"ม.4-6/22"]
[null,"ศ 2.2",null,null,"ม.4-6/23",null,null,null,null,null,null,null,null,null,null,null,null,null,null,null,null,null,null,null,null,null,null,null,null,null,null,null,null,null,null,null,null,null,null,null,null,null,null,null,null,null,null,null,null,null,null,null,null,null,null,null,null,null,null,null,null,null,null,null,null,null,null,null,null,null,null,"ข้อ28",null,"ป.6/8",null,null,null,null,null,null,null,null,null,null,null,null,null,null,null,null,null,null,null,null,null,null,null,null,null,null,null,null,null,null,null,null,null,null,null,null,null,null,null,null,null,null,null,null,null,null,null,null,null,null,null,null,null,null,null,null,null,null,null,null,null,null,null,null,null,null,"ม.4-6/23"]
[null,"ศ 3.1",null,null,"ม.4-6/24",null,null,null,null,null,null,null,null,null,null,null,null,null,null,null,null,null,null,null,null,null,null,null,null,null,null,null,null,null,null,null,null,null,null,null,null,null,null,null,null,null,null,null,null,null,null,null,null,null,null,null,null,null,null,null,null,null,null,null,null,null,null,null,null,null,null,"ข้อ29",null,"ป.6/9",null,null,null,null,null,null,null,null,null,null,null,null,null,null,null,null,null,null,null,null,null,null,null,null,null,null,null,null,null,null,null,null,null,null,null,null,null,null,null,null,null,null,null,null,null,null,null,null,null,null,null,null,null,null,null,null,null,null,null,null,null,null,null,null,null,null,"ม.4-6/24"]
[null,"ศ 3.2",null,null,"ม.4-6/25",null,null,null,null,null,null,null,null,null,null,null,null,null,null,null,null,null,null,null,null,null,null,null,null,null,null,null,null,null,null,null,null,null,null,null,null,null,null,null,null,null,null,null,null,null,null,null,null,null,null,null,null,null,null,null,null,null,null,null,null,null,null,null,null,null,null,"ข้อ30",null,"ป.6/10",null,null,null,null,null,null,null,null,null,null,null,null,null,null,null,null,null,null,null,null,null,null,null,null,null,null,null,null,null,null,null,null,null,null,null,null,null,null,null,null,null,null,null,null,null,null,null,null,null,null,null,null,null,null,null,null,null,null,null,null,null,null,null,null,null,null,"ม.4-6/25"]
[null,"ง 1.1",null,null,"ม.4-6/26",null,null,null,null,null,null,null,null,null,null,null,null,null,null,null,null,null,null,null,null,null,null,null,null,null,null,null,null,null,null,null,null,null,null,null,null,null,null,null,null,null,null,null,null,null,null,null,null,null,null,null,null,null,null,null,null,null,null,null,null,null,null,null,null,null,null,"-",null,"ป.6/11",null,null,null,null,null,null,null,null,null,null,null,null,null,null,null,null,null,null,null,null,null,null,null,null,null,null,null,null,null,null,null,null,null,null,null,null,null,null,null,null,null,null,null,null,null,null,null,null,null,null,null,null,null,null,null,null,null,null,null,null,null,null,null,null,null,null,"ม.4-6/26"]
[null,"ง 2.1",null,null,"ม.4-6/27",null,null,null,null,null,null,null,null,null,null,null,null,null,null,null,null,null,null,null,null,null,null,null,null,null,null,null,null,null,null,null,null,null,null,null,null,null,null,null,null,null,null,null,null,null,null,null,null,null,null,null,null,null,null,null,null,null,null,null,null,null,null,null,null,null,null,1,null,"ป.6/12",null,null,null,null,null,null,null,null,null,null,null,null,null,null,null,null,null,null,null,null,null,null,null,null,null,null,null,null,null,null,null,null,null,null,null,null,null,null,null,null,null,null,null,null,null,null,null,null,null,null,null,null,null,null,null,null,null,null,null,null,null,null,null,null,null,null,"ม.4-6/27"]
[null,"ง 3.1",null,null,"ม.4-6/28",null,null,null,null,null,null,null,null,null,null,null,null,null,null,null,null,null,null,null,null,null,null,null,null,null,null,null,null,null,null,null,null,null,null,null,null,null,null,null,null,null,null,null,null,null,null,null,null,null,null,null,null,null,null,null,null,null,null,null,null,null,null,null,null,null,null,2,null,"ป.6/13",null,null,null,null,null,null,null,null,null,null,null,null,null,null,null,null,null,null,null,null,null,null,null,null,null,null,null,null,null,null,null,null,null,null,null,null,null,null,null,null,null,null,null,null,null,null,null,null,null,null,null,null,null,null,null,null,null,null,null,null,null,null,null,null,null,null,"ม.4-6/28"]
[null,"ง 4.1",null,null,"ม.4-6/29",null,null,null,null,null,null,null,null,null,null,null,null,null,null,null,null,null,null,null,null,null,null,null,null,null,null,null,null,null,null,null,null,null,null,null,null,null,null,null,null,null,null,null,null,null,null,null,null,null,null,null,null,null,null,null,null,null,null,null,null,null,null,null,null,null,null,3,null,"ป.6/14",null,null,null,null,null,null,null,null,null,null,null,null,null,null,null,null,null,null,null,null,null,null,null,null,null,null,null,null,null,null,null,null,null,null,null,null,null,null,null,null,null,null,null,null,null,null,null,null,null,null,null,null,null,null,null,null,null,null,null,null,null,null,null,null,null,null,"ม.4-6/29"]
[null,"ต 1.1",null,null,"ม.4-6/30",null,null,null,null,null,null,null,null,null,null,null,null,null,null,null,null,null,null,null,null,null,null,null,null,null,null,null,null,null,null,null,null,null,null,null,null,null,null,null,null,null,null,null,null,null,null,null,null,null,null,null,null,null,null,null,null,null,null,null,null,null,null,null,null,null,null,4,null,"ป.6/15",null,null,null,null,null,null,null,null,null,null,null,null,null,null,null,null,null,null,null,null,null,null,null,null,null,null,null,null,null,null,null,null,null,null,null,null,null,null,null,null,null,null,null,null,null,null,null,null,null,null,null,null,null,null,null,null,null,null,null,null,null,null,null,null,null,null,"ม.4-6/30"]
[null,"ต 1.2",null,null,null,null,null,null,null,null,null,null,null,null,null,null,null,null,null,null,null,null,null,null,null,null,null,null,null,null,null,null,null,null,null,null,null,null,null,null,null,null,null,null,null,null,null,null,null,null,null,null,null,null,null,null,null,null,null,null,null,null,null,null,null,null,null,null,null,null,null,5]
[null,"ต 1.3"]
[null,"ต 2.1"]
[null,"ต 2.2"]
[null,"ต 3.1"]
[null,"ต 4.1"]
[null,"ต 4.2"]

{"sheet":"ประเมินผลการเรียนเทอม2","index":6,"n_rows":164,"n_cols":238,"rows_kept":164,"cut":false,"hidden":false,"merged":[[7,124,7,125],[7,126,8,126],[4,232,5,232],[4,234,5,234],[4,235,5,235],[4,236,5,236],[4,237,5,237],[4,238,5,238],[4,226,5,226],[4,227,5,227],[4,228,5,228],[4,229,5,229],[4,230,5,230],[4,231,5,231],[4,198,5,198],[4,199,5,199],[4,187,5,187],[4,189,5,189],[4,190,5,190],[4,191,5,191],[4,192,5,192],[4,193,5,193],[4,207,5,207],[4,200,5,200],[4,183,5,183],[4,175,5,175],[4,176,5,176],[4,177,5,177],[4,178,5,178],[4,179,5,179],[4,180,5,180],[4,196,5,196],[4,197,5,197],[4,186,5,186],[4,194,5,194],[4,195,5,195],[4,99,5,99],[4,100,5,100],[4,101,5,101],[4,102,5,102],[4,87,5,87],[4,88,5,88],[4,89,5,89],[4,90,5,90],[2,107,4,107],[4,95,5,95],[4,96,5,96],[4,97,5,97],[4,98,5,98],[2,104,4,104],[2,105,4,105],[2,106,4,106],[4,21,5,21],[4,22,5,22],[4,23,5,23],[4,24,5,24],[4,40,5,40],[4,41,5,41],[4,42,5,42],[4,34,5,34],[4,35,5,35],[4,36,5,36],[4,37,5,37],[4,38,5,38],[4,39,5,39],[4,28,5,28],[4,29,5,29],[4,30,5,30],[4,31,5,31],[2,26,3,26],[2,28,2,47],[2,48,3,48],[2,49,3,49],[2,50,3,50],[2,85,3,85],[2,250,4,250],[2,233,4,233],[2,234,2,241],[2,242,4,242],[2,243,4,243],[2,244,4,244],[2,245,4,245],[2,246,4,246],[2,247,4,247],[2,249,4,249],[2,205,3,205],[2,206,3,206],[2,207,3,207],[2,208,2,222],[2,165,3,165],[2,167,2,186],[2,187,3,187],[4,43,5,43],[4,60,5,60],[4,61,5,61],[4,62,5,62],[4,63,5,63],[4,64,5,64],[4,58,5,58],[4,46,5,46],[4,47,5,47],[2,69,2,83],[4,50,5,50],[4,51,5,51],[4,52,5,52],[4,48,5,48],[4,169,5,169],[4,170,5,170],[4,171,5,171],[4,172,5,172],[4,173,5,173],[4,174,5,174],[4,184,5,184],[4,185,5,185],[1,0,5,0],[1,1,5,1],[2,2,5,2],[2,3,5,3],[2,5,2,24],[2,51,2,65],[2,66,3,66],[2,67,3,67],[2,68,3,68],[4,20,5,20],[4,32,5,32],[4,33,5,33],[4,65,5,65],[4,66,5,66],[4,68,5,68],[4,59,5,59],[0,144,0,166],[0,167,0,189],[0,190,0,207],[0,208,0,225],[0,226,0,242],[2,144,2,163],[2,226,2,230],[2,231,3,231],[2,232,3,232],[2,189,3,189],[2,190,2,204],[2,188,3,188],[4,239,5,239],[4,240,5,240],[4,241,5,241],[2,224,3,224],[2,122,4,122],[2,108,4,108],[2,110,4,110],[2,111,4,111],[2,141,5,141],[2,142,5,142],[4,159,5,159],[4,160,5,160],[4,161,5,161],[4,162,5,162],[4,163,5,163],[4,167,5,167],[4,168,5,168],[4,181,5,181],[4,182,5,182],[4,201,5,201],[4,202,5,202],[4,203,5,203],[4,204,5,204],[4,205,5,205],[2,252,4,252],[2,254,4,254],[2,256,4,256],[0,5,0,27],[0,28,0,50],[0,51,0,68],[0,69,0,86],[0,87,0,103],[2,87,2,91],[2,92,3,92],[2,93,3,93],[2,94,4,94],[4,91,5,91],[4,92,5,92],[4,93,5,93],[2,95,2,102],[2,103,4,103],[4,44,5,44],[4,45,5,45],[4,53,5,53],[4,54,5,54],[4,55,5,55],[4,56,5,56],[4,57,5,57],[0,247,0,262],[2,257,4,257],[2,259,4,259],[2,261,5,261],[2,262,4,262],[3,4,4,4],[3,143,4,143],[2,117,4,117],[2,120,4,120],[2,121,5,121],[0,108,0,122],[2,25,4,25],[2,27,4,27],[2,84,4,84],[2,86,4,86],[2,112,4,112],[2,113,4,113],[2,115,4,115],[2,118,4,118],[2,164,4,164],[2,166,4,166],[2,223,4,223],[2,225,4,225],[2,251,4,251]]}
[null,null,null,"อัตราส่วนคะแนน =",{"$f":"ประเมินผลการเรียนเทอม1!E1","v":"70 : 30"},{"$f":"\"คะแนนประเมินผลสัมฤทธิ์ ภาคเรียนที่2 \"&\"  วิชา \"&ปก!AS15&\"   \"&\"ชั้น ป.\"&ปก!$C$21&\"/\"&ปก!$C$22&\"  หน้า 6\"","v":"คะแนนประเมินผลสัมฤทธิ์ ภาคเรียนที่2   วิชา {{โปรดกรอกรหัสวิชา}}   ชั้น ป./  หน้า 6"},null,null,null,null,null,null,null,null,null,null,null,null,null,null,null,null,null,null,null,null,null,null,{"$f":"\"คะแนนประเมินผลสัมฤทธิ์ ภาคเรียนที่1 \"&\"  วิชา \"&ปก!AS15&\"   \"&\"ชั้น ป.\"&ปก!$C$21&\"/\"&ปก!$C$22&\"  หน้า 10\"","v":"คะแนนประเมินผลสัมฤทธิ์ ภาคเรียนที่1   วิชา {{โปรดกรอกรหัสวิชา}}   ชั้น ป./  หน้า 10"},null,null,null,null,null,null,null,null,null,null,null,null,null,null,null,null,null,null,null,null,null,null,{"$f":"\"คะแนนประเมินผลสัมฤทธิ์ ภาคเรียนที่1 \"&\"  วิชา \"&ปก!AS15&\"   \"&\"ชั้น ป.\"&ปก!$C$21&\"/\"&ปก!$C$22&\"  หน้า 11\"","v":"คะแนนประเมินผลสัมฤทธิ์ ภาคเรียนที่1   วิชา {{โปรดกรอกรหัสวิชา}}   ชั้น ป./  หน้า 11"},null,null,null,null,null,null,null,null,null,null,null,null,null,null,null,null,null,{"$f":"\"คะแนนประเมินผลสัมฤทธิ์ ภาคเรียนที่2 \"&\"  วิชา \"&ปก!AS15&\"   \"&\"ชั้น ป.\"&ปก!$C$21&\"/\"&ปก!$C$22&\"  หน้า 7\"","v":"คะแนนประเมินผลสัมฤทธิ์ ภาคเรียนที่2   วิชา {{โปรดกรอกรหัสวิชา}}   ชั้น ป./  หน้า 7"},null,null,null,null,null,null,null,null,null,null,null,null,null,null,null,null,null,{"$f":"\"คะแนนประเมินผลสัมฤทธิ์ ภาคเรียนที่2 \"&\"  วิชา \"&ปก!AS15&\"   \"&\"ชั้น ป.\"&ปก!$C$21&\"/\"&ปก!$C$22&\"  หน้า 8\"","v":"คะแนนประเมินผลสัมฤทธิ์ ภาคเรียนที่2   วิชา {{โปรดกรอกรหัสวิชา}}   ชั้น ป./  หน้า 8"},null,null,null,null,null,null,null,null,null,null,null,null,null,null,null,null,"ระหว่างภาค",null,null,null,{"$f":"\"ผลสัมฤทธิ์ทางการเรียน ภาคเรียนที่2 \"&\"  วิชา \"&ปก!AS15&\"   \"&\"ชั้น ป.\"&ปก!$C$21&\"/\"&ปก!$C$22&\"  หน้า 9\"","v":"ผลสัมฤทธิ์ทางการเรียน ภาคเรียนที่2   วิชา {{โปรดกรอกรหัสวิชา}}   ชั้น ป./  หน้า 9"}]
[null,null,null,null,null,null,null,null,null,null,null,null,null,null,null,null,null,null,null,null,null,null,null,null,null,{"$f":"กำหนดอัตราส่วนคะแนน!B41","v":0},null,null,null,null,null,null,null,null,null,null,null,null,null,null,null,null,null,null,null,null,null,null,{"$f":"กำหนดอัตราส่วนคะแนน!Y41","v":0},null,null,null,null,null,null,null,null,null,null,null,null,null,null,null,null,null,{"$f":"กำหนดอัตราส่วนคะแนน!BQ41","v":0},null,null,null,null,null,null,null,null,null,null,null,null,null,null,null,null,null,{"$f":"กำหนดอัตราส่วนคะแนน!CN41","v":0},null,null,null,null,null,null,null,{"$f":"กำหนดอัตราส่วนคะแนน!AH41","v":0}]
[null,null,"เลข\nประจำ\nตัว\nนักเรียน","ชื่อ - นามสกุล","การประเมิน","คะแนน ชิ้นงาน ภาระงาน การสอบ การวัดผล ระหว่างภาค",null,null,null,null,null,null,null,null,null,null,null,null,null,null,null,null,null,null,null,"คะแนนรวม",null,"คะแนนเต็ม",{"$f":"IF(ปก!$C$25=\"\",\"{{ข้อมูล ERROR โปรดกลับไปเลือกประเภทวิชาที่หน้าปก}}\",IF(ปก!$C$25=\"พื้นฐาน\",\"การประเมินตัวชี้วัด หลังกลางภาค\",IF(ปก!$C$25=\"เพิ่มเติม\",\"การประเมินผลการเรียนรู้ หลังกลางภาค\")))","v":"{{ข้อมูล ERROR โปรดกลับไปเลือกประเภทวิชาที่หน้าปก}}"},null,null,null,null,null,null,null,null,null,null,null,null,null,null,null,null,null,null,null,"คะแนนรวม",null,"คะแนนเต็ม","การประเมินผลกลางภาคเรียน(สอบกลางภาค)",null,null,null,null,null,null,null,null,null,null,null,null,null,null,"คะแนนรวม",null,"คะแนนเต็ม","การประเมินผลปลายภาคเรียน(สอบปลายภาคเรียน)",null,null,null,null,null,null,null,null,null,null,null,null,null,null,"คะแนนรวม",null,"คะแนนเต็ม","การอ่าน คิดวิเคราะห์ และเขียน",null,null,null,null,"คะแนนรวม","คะแนนเต็ม","ระดับคุณภาพ","คุณลักษณะอันพึงประสงค์",null,null,null,null,null,null,null,"ระดับคุณภาพ","ก่อนกลางภาค","หลังกลางภาค","สอบกลางภาค","สอบแก้ตัว","ระหว่างภาค 2",null,"สอบปลายภาค 2","สอบแก้ตัว(ซ่อม)",null,"รวมตลอดภาคเรียน",null,"ลงคะแนน นร.ย้ายเข้า",null,"คะแนนภาคเรียนที่ 1","คะแนนภาคเรียนที่ 2",null,"คะแนนรวมตลอดปี","ระดับผลการเรียน(เกรด)","สถานะ\nนักเรียน\nปัจจุบัน"]
[null,null,null,null,"ชิ้นงาน/ภาระงาน/การสอบ",null,null,null,null,null,null,null,null,null,null,null,null,null,null,null,null,null,18,19,20,null,null,null,null,null,null,null,null,null,null,null,null,null,null,null,null,null,null,null,null,18,19,20,null,null,null,null,null,null,null,null,null,null,null,null,null,null,null,null,null,null,null,null,null,null,null,null,null,null,null,null,null,null,null,null,null,null,null,null,null,null,null,1,2,3,4,5,null,null,null,1,2,3,4,5,6,7,8]
[null,null,null,null,null,null,null,null,null,null,null,null,null,null,null,null,null,null,null,null,null,null,null,null,null,null,{"$f":"$Z$6/$AB$6","v":0},null,null,null,null,null,null,null,null,null,null,null,null,null,null,null,null,null,null,null,null,null,{"$f":"SUM(AC5,AD5,AE5,AF5,AG5,AH5,AI5,AJ5,AK5,AL5,AM5,AN5,AO5,AP5,AQ5,AR5,AS5,AT5,AU5,AV5)","v":0},{"$f":"$AW$5/$AY$5","v":{"$error":"#DIV/0!"}},null,null,null,null,null,null,null,null,null,null,null,null,null,null,null,null,{"$f":"SUM(AZ5,BA5,BB5,BC5,BD5,BE5,BF5,BG5,BH5,BI5,BJ5,BK5,BL5,BM5,BN5)","v":0},{"$f":"$BO$5/$BQ$5","v":{"$error":"#DIV/0!"}},null,null,null,null,null,null,null,null,null,null,null,null,null,null,null,null,null,{"$f":"$CG$6/$CI$6","v":0},null,3,3,3,3,3,{"$f":"SUM(CJ5,CK5,CL5,CM5,CN5)","v":15},3,null,3,3,3,3,3,3,3,3]
[null,null,null,null,"คะแนน",null,null,null,null,null,null,null,null,null,null,null,null,null,null,null,null,null,null,null,null,{"$f":"SUM(F6,G6,H6,I6,J6,K6,L6,M6,N6,O6,P6,Q6,R6,S6,T6,U6,V6,W6,X6,Y6)","v":0},null,{"$f":"IF(E1=\"50 : 50\",50,IF(E1=\"60 : 40\",60,IF(E1=\"70 : 30\",70,IF(E1=\"80 : 20\",80,IF(E1=\"90 : 10\",90)))))","v":70},null,null,null,null,null,null,null,null,null,null,null,null,null,null,null,null,null,null,null,null,null,null,null,null,null,null,null,null,null,null,null,null,null,null,null,null,null,null,null,null,null,null,null,null,null,null,null,null,null,null,null,null,null,null,null,null,{"$f":"SUM(BR6,BS6,BT6,BU6,BV6,BW6,BX6,BY6,BZ6,CA6,CB6,CC6,CD6,CE6,CF6)","v":0},null,{"$f":"IF(E1=\"50 : 50\",50,IF(E1=\"60 : 40\",40,IF(E1=\"70 : 30\",30,IF(E1=\"80 : 20\",20,IF(E1=\"90 : 10\",10)))))","v":30},null,null,null,null,null,null,null,null,null,null,null,null,null,null,null,null,null,{"$f":"AB5","v":0},{"$f":"AY5","v":0},{"$f":"BQ5","v":0},null,{"$f":"AB6","v":70},null,{"$f":"CI6","v":30},{"$f":"DG6/2","v":15},null,{"$f":"IF(DE6+DG6<>100,\"ERROR\",SUM(DE6,DG6))","v":100},null,100,null,{"$f":"ประเมินผลการเรียนเทอม1!DN6","v":50},{"$f":"DJ6/2","v":50},null,100]
[1,null,{"$f":"CONCATENATE(ใส่ชื่อ!C2)","v":""},{"$f":"CONCATENATE(ใส่ชื่อ!D2&ใส่ชื่อ!E2&\"  \"&ใส่ชื่อ!F2)","v":"  "},{"$f":"ใส่ชื่อ!A2","v":0},null,null,null,null,null,null,null,null,null,null,null,null,null,null,null,null,null,null,null,null,{"$f":"IF(ใส่ชื่อ!D2=\"\",\"\",IF(DS7=\"ปกติ\",SUM(F7,G7,H7,I7,J7,K7,L7,M7,N7,O7,P7,Q7,R7,S7,T7,U7,V7,W7,X7,Y7),\"-\"))","v":""},null,{"$f":"IF(Z7=\"\",\"\",IF(Z7=\"-\",\"-\",IF(Z7=0,\"\",IF($Z$6=0,\"\",ROUND(Z7/$AA$5,0)))))","v":""},null,null,null,null,null,null,null,null,null,null,null,null,null,null,null,null,null,null,null,null,{"$f":"IF(ใส่ชื่อ!D2=\"\",\"\",IF(COUNTIF(AC7:AS7,0),\"มผ\",IF(DS7=\"ปกติ\",SUM(AC7,AD7,AE7,AF7,AG7,AH7,AI7,AJ7,AK7,AL7,AM7,AN7,AO7,AP7,AQ7,AR7,AS7),\"-\")))","v":""},null,{"$f":"IF(AW7=\"\",\"\",IF(AW7=\"-\",\"-\",IF(AW7=\"มผ\",\"มผ\",IF(AW7=0,\"\",IF($AW$5=0,\"\",ROUND(AW7/$AX$5,0))))))","v":""},null,null,null,null,null,null,null,null,null,null,null,null,null,null,null,{"$f":"IF(ใส่ชื่อ!D2=\"\",\"\",IF(COUNTIF(AZ7:BN7,0),\"มผ\",IF(DS7=\"ปกติ\",SUM(AZ7,BA7,BB7,BC7,BD7,BE7,BF7,BG7,BH7,BI7,BJ7,BK7,BL7,BM7,BN7),\"-\")))","v":""},null,{"$f":"IF(BO7=\"\",\"\",IF(BO7=\"-\",\"-\",IF(BO7=\"มผ\",\"มผ\",IF(BO7=0,\"\",IF($BO$5=0,\"\",ROUND(BO7/$BP$5,0))))))","v":""},null,null,null,null,null,null,null,null,null,null,null,null,null,null,null,{"$f":"IF(ใส่ชื่อ!D2=\"\",\"\",IF(DS7=\"ปกติ\",SUM(BR7,BS7,BT7,BU7,BV7,BW7,BX7,BY7,BZ7,CA7,CB7,CC7,CD7,CE7,CF7),\"-\"))","v":""},null,{"$f":"IF(CG7=\"\",\"\",IF(CG7=\"-\",\"-\",IF(CG7=0,\"\",IF($CG$6=0,\"\",ROUND(CG7/$CH$5,0)))))","v":""},null,null,null,null,null,null,null,null,null,null,null,null,null,null,null,null,{"$f":"IF(CR7=\"\",\"\",(IF(CS7=\"\",\"\",(IF(CT7=\"\",\"\",(IF(CU7=\"\",\"\",(IF(CV7=\"\",\"\",(IF(CW7=\"\",\"\",IF(CX7=\"\",\"\",(IF(CY7=\"\",\"\",(IF(COUNTIF(CR7:CY7,0)>0,\"มผ\",IF(AND(COUNTIF(CR7:CY7,3)>=5,COUNTIF(CR7:CY7,\"<2\")=0),\"ดย\",IF(OR(AND(AND(COUNTIF(CR7:CY7,3)>=1,COUNTIF(CR7:CY7,3)<=4),COUNTIF(CR7:CY7,\"<2\")=0),COUNTIF(CR7:CY7,2)=8,AND(COUNTIF(CR7:CY7,\">=2\")>=5,COUNTIF(CR7:CY7,1)>0)),\"ด\",IF(OR(COUNTIF(CR7:CY7,1)=8,AND(COUNTIF(CR7:CY7,\">=2\")>=1,COUNTIF(CR7:CY7,\">=2\")<=4)),\"ผ\",\"มผ\")))))))))))))))))))","v":""},{"$f":"AB7","v":""},{"$f":"AY7","v":""},{"$f":"BQ7","v":""},null,{"$f":"IF(ใส่ชื่อ!D2=\"\",\"\",IF(COUNTIF(DA7:DC7,\"มผ\"),\"มผ\",IF(DC7=\"มผ\",\"มผ\",IF(DS7=\"ปกติ\",SUM(DA7:DB7,IF(DD7=\"\",DC7,DD7)),\"-\"))))","v":""},null,{"$f":"CI7","v":""},null,null,{"$f":"IF(ใส่ชื่อ!D2=\"\",\"\",IF(DE7=\"\",\"\",IF(COUNTIF(DA7:DH7,\"มผ\"),\"มผ\",IF(COUNTIF(DA7:DH7,\"-\"),\"-\",IF(DS7=\"ปกติ\",SUM(DE7,IF(DH7=\"\",DG7,DH7)))))))","v":""},null,null,null,{"$f":"ประเมินผลการเรียนเทอม1!DN7","v":""},{"$f":"IF(ใส่ชื่อ!A2=\"\",\"\",IF(DJ7=\"-\",\"-\",IF(DJ7=0,\"\",IF(DS7=\"ปกติ\",MAXA(DJ7/2,DL7/2)))))","v":""},null,{"$f":"IF(เวลาเรียน!M9=\"\",\"\",IF(เวลาเรียน!M9=\"ย้าย\",\"-\",IF(เวลาเรียน!M9=\"จำหน่าย\",\"-\",IF(เวลาเรียน!M9=\"ขาดเรียนนาน\",\"-\",IF(DN7=\"\",\"\",IF(DO7=\"\",\"\",SUM(DN7+DO7)))))))","v":""},{"$f":"IF(เวลาเรียน!M9=\"\",\"\",IF(เวลาเรียน!M9=\"ย้าย\",\"-\",IF(เวลาเรียน!M9=\"จำหน่าย\",\"-\",IF(เวลาเรียน!M9=\"ขาดเรียนนาน\",\"-\",IF(เวลาเรียน!L9<80,\"มส\",IF(COUNTIF(DQ7,\"-\"),\"-\",IF(COUNTIF(DQ7,\"\"),\"\",VLOOKUP(DQ7,$DU$19:$DW$26,3))))))))","v":""},{"$f":"IF(เวลาเรียน!M9=\"\",\"\",เวลาเรียน!M9)","v":"ปกติ"}]
[2,2498,{"$f":"CONCATENATE(ใส่ชื่อ!C3)","v":""},{"$f":"CONCATENATE(ใส่ชื่อ!D3&ใส่ชื่อ!E3&\"  \"&ใส่ชื่อ!F3)","v":"  "},{"$f":"ใส่ชื่อ!A3","v":0},null,null,null,null,null,null,null,null,null,null,null,null,null,null,null,null,null,null,null,null,{"$f":"IF(ใส่ชื่อ!D3=\"\",\"\",IF(DS8=\"ปกติ\",SUM(F8,G8,H8,I8,J8,K8,L8,M8,N8,O8,P8,Q8,R8,S8,T8,U8,V8,W8,X8,Y8),\"-\"))","v":""},null,{"$f":"IF(Z8=\"\",\"\",IF(Z8=\"-\",\"-\",IF(Z8=0,\"\",IF($Z$6=0,\"\",ROUND(Z8/$AA$5,0)))))","v":""},null,null,null,null,null,null,null,null,null,null,null,null,null,null,null,null,null,null,null,null,{"$f":"IF(ใส่ชื่อ!D3=\"\",\"\",IF(COUNTIF(AC8:AS8,0),\"มผ\",IF(DS8=\"ปกติ\",SUM(AC8,AD8,AE8,AF8,AG8,AH8,AI8,AJ8,AK8,AL8,AM8,AN8,AO8,AP8,AQ8,AR8,AS8),\"-\")))","v":""},null,{"$f":"IF(AW8=\"\",\"\",IF(AW8=\"-\",\"-\",IF(AW8=\"มผ\",\"มผ\",IF(AW8=0,\"\",IF($AW$5=0,\"\",ROUND(AW8/$AX$5,0))))))","v":""},null,null,null,null,null,null,null,null,null,null,null,null,null,null,null,{"$f":"IF(ใส่ชื่อ!D3=\"\",\"\",IF(COUNTIF(AZ8:BN8,0),\"มผ\",IF(DS8=\"ปกติ\",SUM(AZ8,BA8,BB8,BC8,BD8,BE8,BF8,BG8,BH8,BI8,BJ8,BK8,BL8,BM8,BN8),\"-\")))","v":""},null,{"$f":"IF(BO8=\"\",\"\",IF(BO8=\"-\",\"-\",IF(BO8=\"มผ\",\"มผ\",IF(BO8=0,\"\",IF($BO$5=0,\"\",ROUND(BO8/$BP$5,0))))))","v":""},null,null,null,null,null,null,null,null,null,null,null,null,null,null,null,{"$f":"IF(ใส่ชื่อ!D3=\"\",\"\",IF(DS8=\"ปกติ\",SUM(BR8,BS8,BT8,BU8,BV8,BW8,BX8,BY8,BZ8,CA8,CB8,CC8,CD8,CE8,CF8),\"-\"))","v":""},null,{"$f":"IF(CG8=\"\",\"\",IF(CG8=\"-\",\"-\",IF(CG8=0,\"\",IF($CG$6=0,\"\",ROUND(CG8/$CH$5,0)))))","v":""},null,null,null,null,null,null,null,null,null,null,null,null,null,null,null,null,{"$f":"IF(CR8=\"\",\"\",(IF(CS8=\"\",\"\",(IF(CT8=\"\",\"\",(IF(CU8=\"\",\"\",(IF(CV8=\"\",\"\",(IF(CW8=\"\",\"\",IF(CX8=\"\",\"\",(IF(CY8=\"\",\"\",(IF(COUNTIF(CR8:CY8,0)>0,\"มผ\",IF(AND(COUNTIF(CR8:CY8,3)>=5,COUNTIF(CR8:CY8,\"<2\")=0),\"ดย\",IF(OR(AND(AND(COUNTIF(CR8:CY8,3)>=1,COUNTIF(CR8:CY8,3)<=4),COUNTIF(CR8:CY8,\"<2\")=0),COUNTIF(CR8:CY8,2)=8,AND(COUNTIF(CR8:CY8,\">=2\")>=5,COUNTIF(CR8:CY8,1)>0)),\"ด\",IF(OR(COUNTIF(CR8:CY8,1)=8,AND(COUNTIF(CR8:CY8,\">=2\")>=1,COUNTIF(CR8:CY8,\">=2\")<=4)),\"ผ\",\"มผ\")))))))))))))))))))","v":""},"","","",null,{"$f":"IF(ใส่ชื่อ!D3=\"\",\"\",IF(COUNTIF(DA8:DC8,\"มผ\"),\"มผ\",IF(DC8=\"มผ\",\"มผ\",IF(DS8=\"ปกติ\",SUM(DA8:DB8,IF(DD8=\"\",DC8,DD8)),\"-\"))))","v":""},null,"",null,null,{"$f":"IF(ใส่ชื่อ!D3=\"\",\"\",IF(DE8=\"\",\"\",IF(COUNTIF(DA8:DH8,\"มผ\"),\"มผ\",IF(COUNTIF(DA8:DH8,\"-\"),\"-\",IF(DS8=\"ปกติ\",SUM(DE8,IF(DH8=\"\",DG8,DH8)))))))","v":""},null,null,null,{"$f":"ประเมินผลการเรียนเทอม1!DN8","v":""},{"$f":"IF(ใส่ชื่อ!A3=\"\",\"\",IF(DJ8=\"-\",\"-\",IF(DJ8=0,\"\",IF(DS8=\"ปกติ\",MAXA(DJ8/2,DL8/2)))))","v":""},null,{"$f":"IF(เวลาเรียน!M10=\"\",\"\",IF(เวลาเรียน!M10=\"ย้าย\",\"-\",IF(เวลาเรียน!M10=\"จำหน่าย\",\"-\",IF(เวลาเรียน!M10=\"ขาดเรียนนาน\",\"-\",IF(DN8=\"\",\"\",IF(DO8=\"\",\"\",SUM(DN8+DO8)))))))","v":""},{"$f":"IF(เวลาเรียน!M10=\"\",\"\",IF(เวลาเรียน!M10=\"ย้าย\",\"-\",IF(เวลาเรียน!M10=\"จำหน่าย\",\"-\",IF(เวลาเรียน!M10=\"ขาดเรียนนาน\",\"-\",IF(เวลาเรียน!L10<80,\"มส\",IF(COUNTIF(DQ8,\"-\"),\"-\",IF(COUNTIF(DQ8,\"\"),\"\",VLOOKUP(DQ8,$DU$19:$DW$26,3))))))))","v":""},{"$f":"IF(เวลาเรียน!M10=\"\",\"\",เวลาเรียน!M10)","v":"ปกติ"},null,"ช่วงคะแนน",null,"เกรด",null,4,3.5,3,2.5,2,1.5,1,0,"ร","มส"]
[3,2499,{"$f":"CONCATENATE(ใส่ชื่อ!C4)","v":""},{"$f":"CONCATENATE(ใส่ชื่อ!D4&ใส่ชื่อ!E4&\"  \"&ใส่ชื่อ!F4)","v":"  "},{"$f":"ใส่ชื่อ!A4","v":0},null,null,null,null,null,null,null,null,null,null,null,null,null,null,null,null,null,null,null,null,{"$f":"IF(ใส่ชื่อ!D4=\"\",\"\",IF(DS9=\"ปกติ\",SUM(F9,G9,H9,I9,J9,K9,L9,M9,N9,O9,P9,Q9,R9,S9,T9,U9,V9,W9,X9,Y9),\"-\"))","v":""},null,"",null,null,null,null,null,null,null,null,null,null,null,null,null,null,null,null,null,null,null,null,{"$f":"IF(ใส่ชื่อ!D4=\"\",\"\",IF(COUNTIF(AC9:AS9,0),\"มผ\",IF(DS9=\"ปกติ\",SUM(AC9,AD9,AE9,AF9,AG9,AH9,AI9,AJ9,AK9,AL9,AM9,AN9,AO9,AP9,AQ9,AR9,AS9),\"-\")))","v":""},null,"",null,null,null,null,null,null,null,null,null,null,null,null,null,null,null,{"$f":"IF(ใส่ชื่อ!D4=\"\",\"\",IF(COUNTIF(AZ9:BN9,0),\"มผ\",IF(DS9=\"ปกติ\",SUM(AZ9,BA9,BB9,BC9,BD9,BE9,BF9,BG9,BH9,BI9,BJ9,BK9,BL9,BM9,BN9),\"-\")))","v":""},null,"",null,null,null,null,null,null,null,null,null,null,null,null,null,null,null,{"$f":"IF(ใส่ชื่อ!D4=\"\",\"\",IF(DS9=\"ปกติ\",SUM(BR9,BS9,BT9,BU9,BV9,BW9,BX9,BY9,BZ9,CA9,CB9,CC9,CD9,CE9,CF9),\"-\"))","v":""},null,"",null,null,null,null,null,null,null,null,null,null,null,null,null,null,null,null,"","","","",null,{"$f":"IF(ใส่ชื่อ!D4=\"\",\"\",IF(COUNTIF(DA9:DC9,\"มผ\"),\"มผ\",IF(DC9=\"มผ\",\"มผ\",IF(DS9=\"ปกติ\",SUM(DA9:DB9,IF(DD9=\"\",DC9,DD9)),\"-\"))))","v":""},null,"",null,null,{"$f":"IF(ใส่ชื่อ!D4=\"\",\"\",IF(DE9=\"\",\"\",IF(COUNTIF(DA9:DH9,\"มผ\"),\"มผ\",IF(COUNTIF(DA9:DH9,\"-\"),\"-\",IF(DS9=\"ปกติ\",SUM(DE9,IF(DH9=\"\",DG9,DH9)))))))","v":""},null,null,null,{"$f":"ประเมินผลการเรียนเทอม1!DN9","v":""},{"$f":"IF(ใส่ชื่อ!A4=\"\",\"\",IF(DJ9=\"-\",\"-\",IF(DJ9=0,\"\",IF(DS9=\"ปกติ\",MAXA(DJ9/2,DL9/2)))))","v":""},null,{"$f":"IF(เวลาเรียน!M11=\"\",\"\",IF(เวลาเรียน!M11=\"ย้าย\",\"-\",IF(เวลาเรียน!M11=\"จำหน่าย\",\"-\",IF(เวลาเรียน!M11=\"ขาดเรียนนาน\",\"-\",IF(DN9=\"\",\"\",IF(DO9=\"\",\"\",SUM(DN9+DO9)))))))","v":""},{"$f":"IF(เวลาเรียน!M11=\"\",\"\",IF(เวลาเรียน!M11=\"ย้าย\",\"-\",IF(เวลาเรียน!M11=\"จำหน่าย\",\"-\",IF(เวลาเรียน!M11=\"ขาดเรียนนาน\",\"-\",IF(เวลาเรียน!L11<80,\"มส\",IF(COUNTIF(DQ9,\"-\"),\"-\",IF(COUNTIF(DQ9,\"\"),\"\",VLOOKUP(DQ9,$DU$19:$DW$26,3))))))))","v":""},{"$f":"IF(เวลาเรียน!M11=\"\",\"\",เวลาเรียน!M11)","v":"ปกติ"},null,"จาก","ถึง",null,null,{"$f":"COUNTIF($DR$7:$DR$56,DY8)","v":0},{"$f":"COUNTIF($DR$7:$DR$56,DZ8)","v":0},0,0,0,0,0,0,0,0]
[4,2500,{"$f":"CONCATENATE(ใส่ชื่อ!C5)","v":""},{"$f":"CONCATENATE(ใส่ชื่อ!D5&ใส่ชื่อ!E5&\"  \"&ใส่ชื่อ!F5)","v":"  "},{"$f":"ใส่ชื่อ!A5","v":0},null,null,null,null,null,null,null,null,null,null,null,null,null,null,null,null,null,null,null,null,{"$f":"IF(ใส่ชื่อ!D5=\"\",\"\",IF(DS10=\"ปกติ\",SUM(F10,G10,H10,I10,J10,K10,L10,M10,N10,O10,P10,Q10,R10,S10,T10,U10,V10,W10,X10,Y10),\"-\"))","v":""},null,"",null,null,null,null,null,null,null,null,null,null,null,null,null,null,null,null,null,null,null,null,{"$f":"IF(ใส่ชื่อ!D5=\"\",\"\",IF(COUNTIF(AC10:AS10,0),\"มผ\",IF(DS10=\"ปกติ\",SUM(AC10,AD10,AE10,AF10,AG10,AH10,AI10,AJ10,AK10,AL10,AM10,AN10,AO10,AP10,AQ10,AR10,AS10),\"-\")))","v":""},null,"",null,null,null,null,null,null,null,null,null,null,null,null,null,null,null,{"$f":"IF(ใส่ชื่อ!D5=\"\",\"\",IF(COUNTIF(AZ10:BN10,0),\"มผ\",IF(DS10=\"ปกติ\",SUM(AZ10,BA10,BB10,BC10,BD10,BE10,BF10,BG10,BH10,BI10,BJ10,BK10,BL10,BM10,BN10),\"-\")))","v":""},null,"",null,null,null,null,null,null,null,null,null,null,null,null,null,null,null,{"$f":"IF(ใส่ชื่อ!D5=\"\",\"\",IF(DS10=\"ปกติ\",SUM(BR10,BS10,BT10,BU10,BV10,BW10,BX10,BY10,BZ10,CA10,CB10,CC10,CD10,CE10,CF10),\"-\"))","v":""},null,"",null,null,null,null,null,null,null,null,null,null,null,null,null,null,null,null,"","","","",null,{"$f":"IF(ใส่ชื่อ!D5=\"\",\"\",IF(COUNTIF(DA10:DC10,\"มผ\"),\"มผ\",IF(DC10=\"มผ\",\"มผ\",IF(DS10=\"ปกติ\",SUM(DA10:DB10,IF(DD10=\"\",DC10,DD10)),\"-\"))))","v":""},null,"",null,null,{"$f":"IF(ใส่ชื่อ!D5=\"\",\"\",IF(DE10=\"\",\"\",IF(COUNTIF(DA10:DH10,\"มผ\"),\"มผ\",IF(COUNTIF(DA10:DH10,\"-\"),\"-\",IF(DS10=\"ปกติ\",SUM(DE10,IF(DH10=\"\",DG10,DH10)))))))","v":""},null,null,null,{"$f":"ประเมินผลการเรียนเทอม1!DN10","v":""},{"$f":"IF(ใส่ชื่อ!A5=\"\",\"\",IF(DJ10=\"-\",\"-\",IF(DJ10=0,\"\",IF(DS10=\"ปกติ\",MAXA(DJ10/2,DL10/2)))))","v":""},null,{"$f":"IF(เวลาเรียน!M12=\"\",\"\",IF(เวลาเรียน!M12=\"ย้าย\",\"-\",IF(เวลาเรียน!M12=\"จำหน่าย\",\"-\",IF(เวลาเรียน!M12=\"ขาดเรียนนาน\",\"-\",IF(DN10=\"\",\"\",IF(DO10=\"\",\"\",SUM(DN10+DO10)))))))","v":""},{"$f":"IF(เวลาเรียน!M12=\"\",\"\",IF(เวลาเรียน!M12=\"ย้าย\",\"-\",IF(เวลาเรียน!M12=\"จำหน่าย\",\"-\",IF(เวลาเรียน!M12=\"ขาดเรียนนาน\",\"-\",IF(เวลาเรียน!L12<80,\"มส\",IF(COUNTIF(DQ10,\"-\"),\"-\",IF(COUNTIF(DQ10,\"\"),\"\",VLOOKUP(DQ10,$DU$19:$DW$26,3))))))))","v":""},{"$f":"IF(เวลาเรียน!M12=\"\",\"\",เวลาเรียน!M12)","v":"ปกติ"},null,0,49,0]
[5,2501,{"$f":"CONCATENATE(ใส่ชื่อ!C6)","v":""},{"$f":"CONCATENATE(ใส่ชื่อ!D6&ใส่ชื่อ!E6&\"  \"&ใส่ชื่อ!F6)","v":"  "},{"$f":"ใส่ชื่อ!A6","v":0},null,null,null,null,null,null,null,null,null,null,null,null,null,null,null,null,null,null,null,null,{"$f":"IF(ใส่ชื่อ!D6=\"\",\"\",IF(DS11=\"ปกติ\",SUM(F11,G11,H11,I11,J11,K11,L11,M11,N11,O11,P11,Q11,R11,S11,T11,U11,V11,W11,X11,Y11),\"-\"))","v":""},null,"",null,null,null,null,null,null,null,null,null,null,null,null,null,null,null,null,null,null,null,null,{"$f":"IF(ใส่ชื่อ!D6=\"\",\"\",IF(COUNTIF(AC11:AS11,0),\"มผ\",IF(DS11=\"ปกติ\",SUM(AC11,AD11,AE11,AF11,AG11,AH11,AI11,AJ11,AK11,AL11,AM11,AN11,AO11,AP11,AQ11,AR11,AS11),\"-\")))","v":""},null,"",null,null,null,null,null,null,null,null,null,null,null,null,null,null,null,{"$f":"IF(ใส่ชื่อ!D6=\"\",\"\",IF(COUNTIF(AZ11:BN11,0),\"มผ\",IF(DS11=\"ปกติ\",SUM(AZ11,BA11,BB11,BC11,BD11,BE11,BF11,BG11,BH11,BI11,BJ11,BK11,BL11,BM11,BN11),\"-\")))","v":""},null,"",null,null,null,null,null,null,null,null,null,null,null,null,null,null,null,{"$f":"IF(ใส่ชื่อ!D6=\"\",\"\",IF(DS11=\"ปกติ\",SUM(BR11,BS11,BT11,BU11,BV11,BW11,BX11,BY11,BZ11,CA11,CB11,CC11,CD11,CE11,CF11),\"-\"))","v":""},null,"",null,null,null,null,null,null,null,null,null,null,null,null,null,null,null,null,"","","","",null,{"$f":"IF(ใส่ชื่อ!D6=\"\",\"\",IF(COUNTIF(DA11:DC11,\"มผ\"),\"มผ\",IF(DC11=\"มผ\",\"มผ\",IF(DS11=\"ปกติ\",SUM(DA11:DB11,IF(DD11=\"\",DC11,DD11)),\"-\"))))","v":""},null,"",null,null,{"$f":"IF(ใส่ชื่อ!D6=\"\",\"\",IF(DE11=\"\",\"\",IF(COUNTIF(DA11:DH11,\"มผ\"),\"มผ\",IF(COUNTIF(DA11:DH11,\"-\"),\"-\",IF(DS11=\"ปกติ\",SUM(DE11,IF(DH11=\"\",DG11,DH11)))))))","v":""},null,null,null,{"$f":"ประเมินผลการเรียนเทอม1!DN11","v":""},{"$f":"IF(ใส่ชื่อ!A6=\"\",\"\",IF(DJ11=\"-\",\"-\",IF(DJ11=0,\"\",IF(DS11=\"ปกติ\",MAXA(DJ11/2,DL11/2)))))","v":""},null,{"$f":"IF(เวลาเรียน!M13=\"\",\"\",IF(เวลาเรียน!M13=\"ย้าย\",\"-\",IF(เวลาเรียน!M13=\"จำหน่าย\",\"-\",IF(เวลาเรียน!M13=\"ขาดเรียนนาน\",\"-\",IF(DN11=\"\",\"\",IF(DO11=\"\",\"\",SUM(DN11+DO11)))))))","v":""},{"$f":"IF(เวลาเรียน!M13=\"\",\"\",IF(เวลาเรียน!M13=\"ย้าย\",\"-\",IF(เวลาเรียน!M13=\"จำหน่าย\",\"-\",IF(เวลาเรียน!M13=\"ขาดเรียนนาน\",\"-\",IF(เวลาเรียน!L13<80,\"มส\",IF(COUNTIF(DQ11,\"-\"),\"-\",IF(COUNTIF(DQ11,\"\"),\"\",VLOOKUP(DQ11,$DU$19:$DW$26,3))))))))","v":""},{"$f":"IF(เวลาเรียน!M13=\"\",\"\",เวลาเรียน!M13)","v":"ปกติ"},null,50,54,1]
[6,2502,{"$f":"CONCATENATE(ใส่ชื่อ!C7)","v":""},{"$f":"CONCATENATE(ใส่ชื่อ!D7&ใส่ชื่อ!E7&\"  \"&ใส่ชื่อ!F7)","v":"  "},{"$f":"ใส่ชื่อ!A7","v":0},null,null,null,null,null,null,null,null,null,null,null,null,null,null,null,null,null,null,null,null,{"$f":"IF(ใส่ชื่อ!D7=\"\",\"\",IF(DS12=\"ปกติ\",SUM(F12,G12,H12,I12,J12,K12,L12,M12,N12,O12,P12,Q12,R12,S12,T12,U12,V12,W12,X12,Y12),\"-\"))","v":""},null,"",null,null,null,null,null,null,null,null,null,null,null,null,null,null,null,null,null,null,null,null,{"$f":"IF(ใส่ชื่อ!D7=\"\",\"\",IF(COUNTIF(AC12:AS12,0),\"มผ\",IF(DS12=\"ปกติ\",SUM(AC12,AD12,AE12,AF12,AG12,AH12,AI12,AJ12,AK12,AL12,AM12,AN12,AO12,AP12,AQ12,AR12,AS12),\"-\")))","v":""},null,"",null,null,null,null,null,null,null,null,null,null,null,null,null,null,null,{"$f":"IF(ใส่ชื่อ!D7=\"\",\"\",IF(COUNTIF(AZ12:BN12,0),\"มผ\",IF(DS12=\"ปกติ\",SUM(AZ12,BA12,BB12,BC12,BD12,BE12,BF12,BG12,BH12,BI12,BJ12,BK12,BL12,BM12,BN12),\"-\")))","v":""},null,"",null,null,null,null,null,null,null,null,null,null,null,null,null,null,null,{"$f":"IF(ใส่ชื่อ!D7=\"\",\"\",IF(DS12=\"ปกติ\",SUM(BR12,BS12,BT12,BU12,BV12,BW12,BX12,BY12,BZ12,CA12,CB12,CC12,CD12,CE12,CF12),\"-\"))","v":""},null,"",null,null,null,null,null,null,null,null,null,null,null,null,null,null,null,null,"","","","",null,{"$f":"IF(ใส่ชื่อ!D7=\"\",\"\",IF(COUNTIF(DA12:DC12,\"มผ\"),\"มผ\",IF(DC12=\"มผ\",\"มผ\",IF(DS12=\"ปกติ\",SUM(DA12:DB12,IF(DD12=\"\",DC12,DD12)),\"-\"))))","v":""},null,"",null,null,{"$f":"IF(ใส่ชื่อ!D7=\"\",\"\",IF(DE12=\"\",\"\",IF(COUNTIF(DA12:DH12,\"มผ\"),\"มผ\",IF(COUNTIF(DA12:DH12,\"-\"),\"-\",IF(DS12=\"ปกติ\",SUM(DE12,IF(DH12=\"\",DG12,DH12)))))))","v":""},null,null,null,{"$f":"ประเมินผลการเรียนเทอม1!DN12","v":""},{"$f":"IF(ใส่ชื่อ!A7=\"\",\"\",IF(DJ12=\"-\",\"-\",IF(DJ12=0,\"\",IF(DS12=\"ปกติ\",MAXA(DJ12/2,DL12/2)))))","v":""},null,{"$f":"IF(เวลาเรียน!M14=\"\",\"\",IF(เวลาเรียน!M14=\"ย้าย\",\"-\",IF(เวลาเรียน!M14=\"จำหน่าย\",\"-\",IF(เวลาเรียน!M14=\"ขาดเรียนนาน\",\"-\",IF(DN12=\"\",\"\",IF(DO12=\"\",\"\",SUM(DN12+DO12)))))))","v":""},{"$f":"IF(เวลาเรียน!M14=\"\",\"\",IF(เวลาเรียน!M14=\"ย้าย\",\"-\",IF(เวลาเรียน!M14=\"จำหน่าย\",\"-\",IF(เวลาเรียน!M14=\"ขาดเรียนนาน\",\"-\",IF(เวลาเรียน!L14<80,\"มส\",IF(COUNTIF(DQ12,\"-\"),\"-\",IF(COUNTIF(DQ12,\"\"),\"\",VLOOKUP(DQ12,$DU$19:$DW$26,3))))))))","v":""},{"$f":"IF(เวลาเรียน!M14=\"\",\"\",เวลาเรียน!M14)","v":"ปกติ"},null,55,59,1.5]
[7,2503,{"$f":"CONCATENATE(ใส่ชื่อ!C8)","v":""},{"$f":"CONCATENATE(ใส่ชื่อ!D8&ใส่ชื่อ!E8&\"  \"&ใส่ชื่อ!F8)","v":"  "},{"$f":"ใส่ชื่อ!A8","v":0},null,null,null,null,null,null,null,null,null,null,null,null,null,null,null,null,null,null,null,null,{"$f":"IF(ใส่ชื่อ!D8=\"\",\"\",IF(DS13=\"ปกติ\",SUM(F13,G13,H13,I13,J13,K13,L13,M13,N13,O13,P13,Q13,R13,S13,T13,U13,V13,W13,X13,Y13),\"-\"))","v":""},null,"",null,null,null,null,null,null,null,null,null,null,null,null,null,null,null,null,null,null,null,null,{"$f":"IF(ใส่ชื่อ!D8=\"\",\"\",IF(COUNTIF(AC13:AS13,0),\"มผ\",IF(DS13=\"ปกติ\",SUM(AC13,AD13,AE13,AF13,AG13,AH13,AI13,AJ13,AK13,AL13,AM13,AN13,AO13,AP13,AQ13,AR13,AS13),\"-\")))","v":""},null,"",null,null,null,null,null,null,null,null,null,null,null,null,null,null,null,{"$f":"IF(ใส่ชื่อ!D8=\"\",\"\",IF(COUNTIF(AZ13:BN13,0),\"มผ\",IF(DS13=\"ปกติ\",SUM(AZ13,BA13,BB13,BC13,BD13,BE13,BF13,BG13,BH13,BI13,BJ13,BK13,BL13,BM13,BN13),\"-\")))","v":""},null,"",null,null,null,null,null,null,null,null,null,null,null,null,null,null,null,{"$f":"IF(ใส่ชื่อ!D8=\"\",\"\",IF(DS13=\"ปกติ\",SUM(BR13,BS13,BT13,BU13,BV13,BW13,BX13,BY13,BZ13,CA13,CB13,CC13,CD13,CE13,CF13),\"-\"))","v":""},null,"",null,null,null,null,null,null,null,null,null,null,null,null,null,null,null,null,"","","","",null,{"$f":"IF(ใส่ชื่อ!D8=\"\",\"\",IF(COUNTIF(DA13:DC13,\"มผ\"),\"มผ\",IF(DC13=\"มผ\",\"มผ\",IF(DS13=\"ปกติ\",SUM(DA13:DB13,IF(DD13=\"\",DC13,DD13)),\"-\"))))","v":""},null,"",null,null,{"$f":"IF(ใส่ชื่อ!D8=\"\",\"\",IF(DE13=\"\",\"\",IF(COUNTIF(DA13:DH13,\"มผ\"),\"มผ\",IF(COUNTIF(DA13:DH13,\"-\"),\"-\",IF(DS13=\"ปกติ\",SUM(DE13,IF(DH13=\"\",DG13,DH13)))))))","v":""},null,null,null,{"$f":"ประเมินผลการเรียนเทอม1!DN13","v":""},{"$f":"IF(ใส่ชื่อ!A8=\"\",\"\",IF(DJ13=\"-\",\"-\",IF(DJ13=0,\"\",IF(DS13=\"ปกติ\",MAXA(DJ13/2,DL13/2)))))","v":""},null,{"$f":"IF(เวลาเรียน!M15=\"\",\"\",IF(เวลาเรียน!M15=\"ย้าย\",\"-\",IF(เวลาเรียน!M15=\"จำหน่าย\",\"-\",IF(เวลาเรียน!M15=\"ขาดเรียนนาน\",\"-\",IF(DN13=\"\",\"\",IF(DO13=\"\",\"\",SUM(DN13+DO13)))))))","v":""},{"$f":"IF(เวลาเรียน!M15=\"\",\"\",IF(เวลาเรียน!M15=\"ย้าย\",\"-\",IF(เวลาเรียน!M15=\"จำหน่าย\",\"-\",IF(เวลาเรียน!M15=\"ขาดเรียนนาน\",\"-\",IF(เวลาเรียน!L15<80,\"มส\",IF(COUNTIF(DQ13,\"-\"),\"-\",IF(COUNTIF(DQ13,\"\"),\"\",VLOOKUP(DQ13,$DU$19:$DW$26,3))))))))","v":""},{"$f":"IF(เวลาเรียน!M15=\"\",\"\",เวลาเรียน!M15)","v":"ปกติ"},null,60,64,2]
[8,2504,{"$f":"CONCATENATE(ใส่ชื่อ!C9)","v":""},{"$f":"CONCATENATE(ใส่ชื่อ!D9&ใส่ชื่อ!E9&\"  \"&ใส่ชื่อ!F9)","v":"  "},{"$f":"ใส่ชื่อ!A9","v":0},null,null,null,null,null,null,null,null,null,null,null,null,null,null,null,null,null,null,null,null,{"$f":"IF(ใส่ชื่อ!D9=\"\",\"\",IF(DS14=\"ปกติ\",SUM(F14,G14,H14,I14,J14,K14,L14,M14,N14,O14,P14,Q14,R14,S14,T14,U14,V14,W14,X14,Y14),\"-\"))","v":""},null,"",null,null,null,null,null,null,null,null,null,null,null,null,null,null,null,null,null,null,null,null,{"$f":"IF(ใส่ชื่อ!D9=\"\",\"\",IF(COUNTIF(AC14:AS14,0),\"มผ\",IF(DS14=\"ปกติ\",SUM(AC14,AD14,AE14,AF14,AG14,AH14,AI14,AJ14,AK14,AL14,AM14,AN14,AO14,AP14,AQ14,AR14,AS14),\"-\")))","v":""},null,"",null,null,null,null,null,null,null,null,null,null,null,null,null,null,null,{"$f":"IF(ใส่ชื่อ!D9=\"\",\"\",IF(COUNTIF(AZ14:BN14,0),\"มผ\",IF(DS14=\"ปกติ\",SUM(AZ14,BA14,BB14,BC14,BD14,BE14,BF14,BG14,BH14,BI14,BJ14,BK14,BL14,BM14,BN14),\"-\")))","v":""},null,"",null,null,null,null,null,null,null,null,null,null,null,null,null,null,null,{"$f":"IF(ใส่ชื่อ!D9=\"\",\"\",IF(DS14=\"ปกติ\",SUM(BR14,BS14,BT14,BU14,BV14,BW14,BX14,BY14,BZ14,CA14,CB14,CC14,CD14,CE14,CF14),\"-\"))","v":""},null,"",null,null,null,null,null,null,null,null,null,null,null,null,null,null,null,null,"","","","",null,{"$f":"IF(ใส่ชื่อ!D9=\"\",\"\",IF(COUNTIF(DA14:DC14,\"มผ\"),\"มผ\",IF(DC14=\"มผ\",\"มผ\",IF(DS14=\"ปกติ\",SUM(DA14:DB14,IF(DD14=\"\",DC14,DD14)),\"-\"))))","v":""},null,"",null,null,{"$f":"IF(ใส่ชื่อ!D9=\"\",\"\",IF(DE14=\"\",\"\",IF(COUNTIF(DA14:DH14,\"มผ\"),\"มผ\",IF(COUNTIF(DA14:DH14,\"-\"),\"-\",IF(DS14=\"ปกติ\",SUM(DE14,IF(DH14=\"\",DG14,DH14)))))))","v":""},null,null,null,{"$f":"ประเมินผลการเรียนเทอม1!DN14","v":""},{"$f":"IF(ใส่ชื่อ!A9=\"\",\"\",IF(DJ14=\"-\",\"-\",IF(DJ14=0,\"\",IF(DS14=\"ปกติ\",MAXA(DJ14/2,DL14/2)))))","v":""},null,{"$f":"IF(เวลาเรียน!M16=\"\",\"\",IF(เวลาเรียน!M16=\"ย้าย\",\"-\",IF(เวลาเรียน!M16=\"จำหน่าย\",\"-\",IF(เวลาเรียน!M16=\"ขาดเรียนนาน\",\"-\",IF(DN14=\"\",\"\",IF(DO14=\"\",\"\",SUM(DN14+DO14)))))))","v":""},{"$f":"IF(เวลาเรียน!M16=\"\",\"\",IF(เวลาเรียน!M16=\"ย้าย\",\"-\",IF(เวลาเรียน!M16=\"จำหน่าย\",\"-\",IF(เวลาเรียน!M16=\"ขาดเรียนนาน\",\"-\",IF(เวลาเรียน!L16<80,\"มส\",IF(COUNTIF(DQ14,\"-\"),\"-\",IF(COUNTIF(DQ14,\"\"),\"\",VLOOKUP(DQ14,$DU$19:$DW$26,3))))))))","v":""},{"$f":"IF(เวลาเรียน!M16=\"\",\"\",เวลาเรียน!M16)","v":"ปกติ"},null,65,69,2.5]
[9,2505,{"$f":"CONCATENATE(ใส่ชื่อ!C10)","v":""},{"$f":"CONCATENATE(ใส่ชื่อ!D10&ใส่ชื่อ!E10&\"  \"&ใส่ชื่อ!F10)","v":"  "},{"$f":"ใส่ชื่อ!A10","v":0},null,null,null,null,null,null,null,null,null,null,null,null,null,null,null,null,null,null,null,null,{"$f":"IF(ใส่ชื่อ!D10=\"\",\"\",IF(DS15=\"ปกติ\",SUM(F15,G15,H15,I15,J15,K15,L15,M15,N15,O15,P15,Q15,R15,S15,T15,U15,V15,W15,X15,Y15),\"-\"))","v":""},null,"",null,null,null,null,null,null,null,null,null,null,null,null,null,null,null,null,null,null,null,null,{"$f":"IF(ใส่ชื่อ!D10=\"\",\"\",IF(COUNTIF(AC15:AS15,0),\"มผ\",IF(DS15=\"ปกติ\",SUM(AC15,AD15,AE15,AF15,AG15,AH15,AI15,AJ15,AK15,AL15,AM15,AN15,AO15,AP15,AQ15,AR15,AS15),\"-\")))","v":""},null,"",null,null,null,null,null,null,null,null,null,null,null,null,null,null,null,{"$f":"IF(ใส่ชื่อ!D10=\"\",\"\",IF(COUNTIF(AZ15:BN15,0),\"มผ\",IF(DS15=\"ปกติ\",SUM(AZ15,BA15,BB15,BC15,BD15,BE15,BF15,BG15,BH15,BI15,BJ15,BK15,BL15,BM15,BN15),\"-\")))","v":""},null,"",null,null,null,null,null,null,null,null,null,null,null,null,null,null,null,{"$f":"IF(ใส่ชื่อ!D10=\"\",\"\",IF(DS15=\"ปกติ\",SUM(BR15,BS15,BT15,BU15,BV15,BW15,BX15,BY15,BZ15,CA15,CB15,CC15,CD15,CE15,CF15),\"-\"))","v":""},null,"",null,null,null,null,null,null,null,null,null,null,null,null,null,null,null,null,"","","","",null,{"$f":"IF(ใส่ชื่อ!D10=\"\",\"\",IF(COUNTIF(DA15:DC15,\"มผ\"),\"มผ\",IF(DC15=\"มผ\",\"มผ\",IF(DS15=\"ปกติ\",SUM(DA15:DB15,IF(DD15=\"\",DC15,DD15)),\"-\"))))","v":""},null,"",null,null,{"$f":"IF(ใส่ชื่อ!D10=\"\",\"\",IF(DE15=\"\",\"\",IF(COUNTIF(DA15:DH15,\"มผ\"),\"มผ\",IF(COUNTIF(DA15:DH15,\"-\"),\"-\",IF(DS15=\"ปกติ\",SUM(DE15,IF(DH15=\"\",DG15,DH15)))))))","v":""},null,null,null,{"$f":"ประเมินผลการเรียนเทอม1!DN15","v":""},{"$f":"IF(ใส่ชื่อ!A10=\"\",\"\",IF(DJ15=\"-\",\"-\",IF(DJ15=0,\"\",IF(DS15=\"ปกติ\",MAXA(DJ15/2,DL15/2)))))","v":""},null,{"$f":"IF(เวลาเรียน!M17=\"\",\"\",IF(เวลาเรียน!M17=\"ย้าย\",\"-\",IF(เวลาเรียน!M17=\"จำหน่าย\",\"-\",IF(เวลาเรียน!M17=\"ขาดเรียนนาน\",\"-\",IF(DN15=\"\",\"\",IF(DO15=\"\",\"\",SUM(DN15+DO15)))))))","v":""},{"$f":"IF(เวลาเรียน!M17=\"\",\"\",IF(เวลาเรียน!M17=\"ย้าย\",\"-\",IF(เวลาเรียน!M17=\"จำหน่าย\",\"-\",IF(เวลาเรียน!M17=\"ขาดเรียนนาน\",\"-\",IF(เวลาเรียน!L17<80,\"มส\",IF(COUNTIF(DQ15,\"-\"),\"-\",IF(COUNTIF(DQ15,\"\"),\"\",VLOOKUP(DQ15,$DU$19:$DW$26,3))))))))","v":""},{"$f":"IF(เวลาเรียน!M17=\"\",\"\",เวลาเรียน!M17)","v":"ปกติ"},null,70,74,3]
[10,2506,{"$f":"CONCATENATE(ใส่ชื่อ!C11)","v":""},{"$f":"CONCATENATE(ใส่ชื่อ!D11&ใส่ชื่อ!E11&\"  \"&ใส่ชื่อ!F11)","v":"  "},{"$f":"ใส่ชื่อ!A11","v":0},null,null,null,null,null,null,null,null,null,null,null,null,null,null,null,null,null,null,null,null,{"$f":"IF(ใส่ชื่อ!D11=\"\",\"\",IF(DS16=\"ปกติ\",SUM(F16,G16,H16,I16,J16,K16,L16,M16,N16,O16,P16,Q16,R16,S16,T16,U16,V16,W16,X16,Y16),\"-\"))","v":""},null,"",null,null,null,null,null,null,null,null,null,null,null,null,null,null,null,null,null,null,null,null,{"$f":"IF(ใส่ชื่อ!D11=\"\",\"\",IF(COUNTIF(AC16:AS16,0),\"มผ\",IF(DS16=\"ปกติ\",SUM(AC16,AD16,AE16,AF16,AG16,AH16,AI16,AJ16,AK16,AL16,AM16,AN16,AO16,AP16,AQ16,AR16,AS16),\"-\")))","v":""},null,"",null,null,null,null,null,null,null,null,null,null,null,null,null,null,null,{"$f":"IF(ใส่ชื่อ!D11=\"\",\"\",IF(COUNTIF(AZ16:BN16,0),\"มผ\",IF(DS16=\"ปกติ\",SUM(AZ16,BA16,BB16,BC16,BD16,BE16,BF16,BG16,BH16,BI16,BJ16,BK16,BL16,BM16,BN16),\"-\")))","v":""},null,"",null,null,null,null,null,null,null,null,null,null,null,null,null,null,null,{"$f":"IF(ใส่ชื่อ!D11=\"\",\"\",IF(DS16=\"ปกติ\",SUM(BR16,BS16,BT16,BU16,BV16,BW16,BX16,BY16,BZ16,CA16,CB16,CC16,CD16,CE16,CF16),\"-\"))","v":""},null,"",null,null,null,null,null,null,null,null,null,null,null,null,null,null,null,null,"","","","",null,{"$f":"IF(ใส่ชื่อ!D11=\"\",\"\",IF(COUNTIF(DA16:DC16,\"มผ\"),\"มผ\",IF(DC16=\"มผ\",\"มผ\",IF(DS16=\"ปกติ\",SUM(DA16:DB16,IF(DD16=\"\",DC16,DD16)),\"-\"))))","v":""},null,"",null,null,{"$f":"IF(ใส่ชื่อ!D11=\"\",\"\",IF(DE16=\"\",\"\",IF(COUNTIF(DA16:DH16,\"มผ\"),\"มผ\",IF(COUNTIF(DA16:DH16,\"-\"),\"-\",IF(DS16=\"ปกติ\",SUM(DE16,IF(DH16=\"\",DG16,DH16)))))))","v":""},null,null,null,{"$f":"ประเมินผลการเรียนเทอม1!DN16","v":""},{"$f":"IF(ใส่ชื่อ!A11=\"\",\"\",IF(DJ16=\"-\",\"-\",IF(DJ16=0,\"\",IF(DS16=\"ปกติ\",MAXA(DJ16/2,DL16/2)))))","v":""},null,{"$f":"IF(เวลาเรียน!M18=\"\",\"\",IF(เวลาเรียน!M18=\"ย้าย\",\"-\",IF(เวลาเรียน!M18=\"จำหน่าย\",\"-\",IF(เวลาเรียน!M18=\"ขาดเรียนนาน\",\"-\",IF(DN16=\"\",\"\",IF(DO16=\"\",\"\",SUM(DN16+DO16)))))))","v":""},{"$f":"IF(เวลาเรียน!M18=\"\",\"\",IF(เวลาเรียน!M18=\"ย้าย\",\"-\",IF(เวลาเรียน!M18=\"จำหน่าย\",\"-\",IF(เวลาเรียน!M18=\"ขาดเรียนนาน\",\"-\",IF(เวลาเรียน!L18<80,\"มส\",IF(COUNTIF(DQ16,\"-\"),\"-\",IF(COUNTIF(DQ16,\"\"),\"\",VLOOKUP(DQ16,$DU$19:$DW$26,3))))))))","v":""},{"$f":"IF(เวลาเรียน!M18=\"\",\"\",เวลาเรียน!M18)","v":"ปกติ"},null,75,79,3.5]
[11,2507,{"$f":"CONCATENATE(ใส่ชื่อ!C12)","v":""},{"$f":"CONCATENATE(ใส่ชื่อ!D12&ใส่ชื่อ!E12&\"  \"&ใส่ชื่อ!F12)","v":"  "},{"$f":"ใส่ชื่อ!A12","v":0},null,null,null,null,null,null,null,null,null,null,null,null,null,null,null,null,null,null,null,null,{"$f":"IF(ใส่ชื่อ!D12=\"\",\"\",IF(DS17=\"ปกติ\",SUM(F17,G17,H17,I17,J17,K17,L17,M17,N17,O17,P17,Q17,R17,S17,T17,U17,V17,W17,X17,Y17),\"-\"))","v":""},null,"",null,null,null,null,null,null,null,null,null,null,null,null,null,null,null,null,null,null,null,null,{"$f":"IF(ใส่ชื่อ!D12=\"\",\"\",IF(COUNTIF(AC17:AS17,0),\"มผ\",IF(DS17=\"ปกติ\",SUM(AC17,AD17,AE17,AF17,AG17,AH17,AI17,AJ17,AK17,AL17,AM17,AN17,AO17,AP17,AQ17,AR17,AS17),\"-\")))","v":""},null,"",null,null,null,null,null,null,null,null,null,null,null,null,null,null,null,{"$f":"IF(ใส่ชื่อ!D12=\"\",\"\",IF(COUNTIF(AZ17:BN17,0),\"มผ\",IF(DS17=\"ปกติ\",SUM(AZ17,BA17,BB17,BC17,BD17,BE17,BF17,BG17,BH17,BI17,BJ17,BK17,BL17,BM17,BN17),\"-\")))","v":""},null,"",null,null,null,null,null,null,null,null,null,null,null,null,null,null,null,{"$f":"IF(ใส่ชื่อ!D12=\"\",\"\",IF(DS17=\"ปกติ\",SUM(BR17,BS17,BT17,BU17,BV17,BW17,BX17,BY17,BZ17,CA17,CB17,CC17,CD17,CE17,CF17),\"-\"))","v":""},null,"",null,null,null,null,null,null,null,null,null,null,null,null,null,null,null,null,"","","","",null,{"$f":"IF(ใส่ชื่อ!D12=\"\",\"\",IF(COUNTIF(DA17:DC17,\"มผ\"),\"มผ\",IF(DC17=\"มผ\",\"มผ\",IF(DS17=\"ปกติ\",SUM(DA17:DB17,IF(DD17=\"\",DC17,DD17)),\"-\"))))","v":""},null,"",null,null,{"$f":"IF(ใส่ชื่อ!D12=\"\",\"\",IF(DE17=\"\",\"\",IF(COUNTIF(DA17:DH17,\"มผ\"),\"มผ\",IF(COUNTIF(DA17:DH17,\"-\"),\"-\",IF(DS17=\"ปกติ\",SUM(DE17,IF(DH17=\"\",DG17,DH17)))))))","v":""},null,null,null,{"$f":"ประเมินผลการเรียนเทอม1!DN17","v":""},{"$f":"IF(ใส่ชื่อ!A12=\"\",\"\",IF(DJ17=\"-\",\"-\",IF(DJ17=0,\"\",IF(DS17=\"ปกติ\",MAXA(DJ17/2,DL17/2)))))","v":""},null,{"$f":"IF(เวลาเรียน!M19=\"\",\"\",IF(เวลาเรียน!M19=\"ย้าย\",\"-\",IF(เวลาเรียน!M19=\"จำหน่าย\",\"-\",IF(เวลาเรียน!M19=\"ขาดเรียนนาน\",\"-\",IF(DN17=\"\",\"\",IF(DO17=\"\",\"\",SUM(DN17+DO17)))))))","v":""},{"$f":"IF(เวลาเรียน!M19=\"\",\"\",IF(เวลาเรียน!M19=\"ย้าย\",\"-\",IF(เวลาเรียน!M19=\"จำหน่าย\",\"-\",IF(เวลาเรียน!M19=\"ขาดเรียนนาน\",\"-\",IF(เวลาเรียน!L19<80,\"มส\",IF(COUNTIF(DQ17,\"-\"),\"-\",IF(COUNTIF(DQ17,\"\"),\"\",VLOOKUP(DQ17,$DU$19:$DW$26,3))))))))","v":""},{"$f":"IF(เวลาเรียน!M19=\"\",\"\",เวลาเรียน!M19)","v":"ปกติ"},null,80,100,4]
[12,2508,{"$f":"CONCATENATE(ใส่ชื่อ!C13)","v":""},{"$f":"CONCATENATE(ใส่ชื่อ!D13&ใส่ชื่อ!E13&\"  \"&ใส่ชื่อ!F13)","v":"  "},{"$f":"ใส่ชื่อ!A13","v":0},null,null,null,null,null,null,null,null,null,null,null,null,null,null,null,null,null,null,null,null,{"$f":"IF(ใส่ชื่อ!D13=\"\",\"\",IF(DS18=\"ปกติ\",SUM(F18,G18,H18,I18,J18,K18,L18,M18,N18,O18,P18,Q18,R18,S18,T18,U18,V18,W18,X18,Y18),\"-\"))","v":""},null,"",null,null,null,null,null,null,null,null,null,null,null,null,null,null,null,null,null,null,null,null,{"$f":"IF(ใส่ชื่อ!D13=\"\",\"\",IF(COUNTIF(AC18:AS18,0),\"มผ\",IF(DS18=\"ปกติ\",SUM(AC18,AD18,AE18,AF18,AG18,AH18,AI18,AJ18,AK18,AL18,AM18,AN18,AO18,AP18,AQ18,AR18,AS18),\"-\")))","v":""},null,"",null,null,null,null,null,null,null,null,null,null,null,null,null,null,null,{"$f":"IF(ใส่ชื่อ!D13=\"\",\"\",IF(COUNTIF(AZ18:BN18,0),\"มผ\",IF(DS18=\"ปกติ\",SUM(AZ18,BA18,BB18,BC18,BD18,BE18,BF18,BG18,BH18,BI18,BJ18,BK18,BL18,BM18,BN18),\"-\")))","v":""},null,"",null,null,null,null,null,null,null,null,null,null,null,null,null,null,null,{"$f":"IF(ใส่ชื่อ!D13=\"\",\"\",IF(DS18=\"ปกติ\",SUM(BR18,BS18,BT18,BU18,BV18,BW18,BX18,BY18,BZ18,CA18,CB18,CC18,CD18,CE18,CF18),\"-\"))","v":""},null,"",null,null,null,null,null,null,null,null,null,null,null,null,null,null,null,null,"","","","",null,{"$f":"IF(ใส่ชื่อ!D13=\"\",\"\",IF(COUNTIF(DA18:DC18,\"มผ\"),\"มผ\",IF(DC18=\"มผ\",\"มผ\",IF(DS18=\"ปกติ\",SUM(DA18:DB18,IF(DD18=\"\",DC18,DD18)),\"-\"))))","v":""},null,"",null,null,{"$f":"IF(ใส่ชื่อ!D13=\"\",\"\",IF(DE18=\"\",\"\",IF(COUNTIF(DA18:DH18,\"มผ\"),\"มผ\",IF(COUNTIF(DA18:DH18,\"-\"),\"-\",IF(DS18=\"ปกติ\",SUM(DE18,IF(DH18=\"\",DG18,DH18)))))))","v":""},null,null,null,{"$f":"ประเมินผลการเรียนเทอม1!DN18","v":""},{"$f":"IF(ใส่ชื่อ!A13=\"\",\"\",IF(DJ18=\"-\",\"-\",IF(DJ18=0,\"\",IF(DS18=\"ปกติ\",MAXA(DJ18/2,DL18/2)))))","v":""},null,{"$f":"IF(เวลาเรียน!M20=\"\",\"\",IF(เวลาเรียน!M20=\"ย้าย\",\"-\",IF(เวลาเรียน!M20=\"จำหน่าย\",\"-\",IF(เวลาเรียน!M20=\"ขาดเรียนนาน\",\"-\",IF(DN18=\"\",\"\",IF(DO18=\"\",\"\",SUM(DN18+DO18)))))))","v":""},{"$f":"IF(เวลาเรียน!M20=\"\",\"\",IF(เวลาเรียน!M20=\"ย้าย\",\"-\",IF(เวลาเรียน!M20=\"จำหน่าย\",\"-\",IF(เวลาเรียน!M20=\"ขาดเรียนนาน\",\"-\",IF(เวลาเรียน!L20<80,\"มส\",IF(COUNTIF(DQ18,\"-\"),\"-\",IF(COUNTIF(DQ18,\"\"),\"\",VLOOKUP(DQ18,$DU$19:$DW$26,3))))))))","v":""},{"$f":"IF(เวลาเรียน!M20=\"\",\"\",เวลาเรียน!M20)","v":"ปกติ"}]
[13,2509,{"$f":"CONCATENATE(ใส่ชื่อ!C14)","v":""},{"$f":"CONCATENATE(ใส่ชื่อ!D14&ใส่ชื่อ!E14&\"  \"&ใส่ชื่อ!F14)","v":"  "},{"$f":"ใส่ชื่อ!A14","v":0},null,null,null,null,null,null,null,null,null,null,null,null,null,null,null,null,null,null,null,null,{"$f":"IF(ใส่ชื่อ!D14=\"\",\"\",IF(DS19=\"ปกติ\",SUM(F19,G19,H19,I19,J19,K19,L19,M19,N19,O19,P19,Q19,R19,S19,T19,U19,V19,W19,X19,Y19),\"-\"))","v":""},null,"",null,null,null,null,null,null,null,null,null,null,null,null,null,null,null,null,null,null,null,null,{"$f":"IF(ใส่ชื่อ!D14=\"\",\"\",IF(COUNTIF(AC19:AS19,0),\"มผ\",IF(DS19=\"ปกติ\",SUM(AC19,AD19,AE19,AF19,AG19,AH19,AI19,AJ19,AK19,AL19,AM19,AN19,AO19,AP19,AQ19,AR19,AS19),\"-\")))","v":""},null,"",null,null,null,null,null,null,null,null,null,null,null,null,null,null,null,{"$f":"IF(ใส่ชื่อ!D14=\"\",\"\",IF(COUNTIF(AZ19:BN19,0),\"มผ\",IF(DS19=\"ปกติ\",SUM(AZ19,BA19,BB19,BC19,BD19,BE19,BF19,BG19,BH19,BI19,BJ19,BK19,BL19,BM19,BN19),\"-\")))","v":""},null,"",null,null,null,null,null,null,null,null,null,null,null,null,null,null,null,{"$f":"IF(ใส่ชื่อ!D14=\"\",\"\",IF(DS19=\"ปกติ\",SUM(BR19,BS19,BT19,BU19,BV19,BW19,BX19,BY19,BZ19,CA19,CB19,CC19,CD19,CE19,CF19),\"-\"))","v":""},null,"",null,null,null,null,null,null,null,null,null,null,null,null,null,null,null,null,"","","","",null,{"$f":"IF(ใส่ชื่อ!D14=\"\",\"\",IF(COUNTIF(DA19:DC19,\"มผ\"),\"มผ\",IF(DC19=\"มผ\",\"มผ\",IF(DS19=\"ปกติ\",SUM(DA19:DB19,IF(DD19=\"\",DC19,DD19)),\"-\"))))","v":""},null,"",null,null,{"$f":"IF(ใส่ชื่อ!D14=\"\",\"\",IF(DE19=\"\",\"\",IF(COUNTIF(DA19:DH19,\"มผ\"),\"มผ\",IF(COUNTIF(DA19:DH19,\"-\"),\"-\",IF(DS19=\"ปกติ\",SUM(DE19,IF(DH19=\"\",DG19,DH19)))))))","v":""},null,null,null,{"$f":"ประเมินผลการเรียนเทอม1!DN19","v":""},{"$f":"IF(ใส่ชื่อ!A14=\"\",\"\",IF(DJ19=\"-\",\"-\",IF(DJ19=0,\"\",IF(DS19=\"ปกติ\",MAXA(DJ19/2,DL19/2)))))","v":""},null,{"$f":"IF(เวลาเรียน!M21=\"\",\"\",IF(เวลาเรียน!M21=\"ย้าย\",\"-\",IF(เวลาเรียน!M21=\"จำหน่าย\",\"-\",IF(เวลาเรียน!M21=\"ขาดเรียนนาน\",\"-\",IF(DN19=\"\",\"\",IF(DO19=\"\",\"\",SUM(DN19+DO19)))))))","v":""},{"$f":"IF(เวลาเรียน!M21=\"\",\"\",IF(เวลาเรียน!M21=\"ย้าย\",\"-\",IF(เวลาเรียน!M21=\"จำหน่าย\",\"-\",IF(เวลาเรียน!M21=\"ขาดเรียนนาน\",\"-\",IF(เวลาเรียน!L21<80,\"มส\",IF(COUNTIF(DQ19,\"-\"),\"-\",IF(COUNTIF(DQ19,\"\"),\"\",VLOOKUP(DQ19,$DU$19:$DW$26,3))))))))","v":""},{"$f":"IF(เวลาเรียน!M21=\"\",\"\",เวลาเรียน!M21)","v":"ปกติ"},null,0,49.9,0]
[14,2510,{"$f":"CONCATENATE(ใส่ชื่อ!C15)","v":""},{"$f":"CONCATENATE(ใส่ชื่อ!D15&ใส่ชื่อ!E15&\"  \"&ใส่ชื่อ!F15)","v":"  "},{"$f":"ใส่ชื่อ!A15","v":0},null,null,null,null,null,null,null,null,null,null,null,null,null,null,null,null,null,null,null,null,{"$f":"IF(ใส่ชื่อ!D15=\"\",\"\",IF(DS20=\"ปกติ\",SUM(F20,G20,H20,I20,J20,K20,L20,M20,N20,O20,P20,Q20,R20,S20,T20,U20,V20,W20,X20,Y20),\"-\"))","v":""},null,"",null,null,null,null,null,null,null,null,null,null,null,null,null,null,null,null,null,null,null,null,{"$f":"IF(ใส่ชื่อ!D15=\"\",\"\",IF(COUNTIF(AC20:AS20,0),\"มผ\",IF(DS20=\"ปกติ\",SUM(AC20,AD20,AE20,AF20,AG20,AH20,AI20,AJ20,AK20,AL20,AM20,AN20,AO20,AP20,AQ20,AR20,AS20),\"-\")))","v":""},null,"",null,null,null,null,null,null,null,null,null,null,null,null,null,null,null,{"$f":"IF(ใส่ชื่อ!D15=\"\",\"\",IF(COUNTIF(AZ20:BN20,0),\"มผ\",IF(DS20=\"ปกติ\",SUM(AZ20,BA20,BB20,BC20,BD20,BE20,BF20,BG20,BH20,BI20,BJ20,BK20,BL20,BM20,BN20),\"-\")))","v":""},null,"",null,null,null,null,null,null,null,null,null,null,null,null,null,null,null,{"$f":"IF(ใส่ชื่อ!D15=\"\",\"\",IF(DS20=\"ปกติ\",SUM(BR20,BS20,BT20,BU20,BV20,BW20,BX20,BY20,BZ20,CA20,CB20,CC20,CD20,CE20,CF20),\"-\"))","v":""},null,"",null,null,null,null,null,null,null,null,null,null,null,null,null,null,null,null,"","","","",null,{"$f":"IF(ใส่ชื่อ!D15=\"\",\"\",IF(COUNTIF(DA20:DC20,\"มผ\"),\"มผ\",IF(DC20=\"มผ\",\"มผ\",IF(DS20=\"ปกติ\",SUM(DA20:DB20,IF(DD20=\"\",DC20,DD20)),\"-\"))))","v":""},null,"",null,null,{"$f":"IF(ใส่ชื่อ!D15=\"\",\"\",IF(DE20=\"\",\"\",IF(COUNTIF(DA20:DH20,\"มผ\"),\"มผ\",IF(COUNTIF(DA20:DH20,\"-\"),\"-\",IF(DS20=\"ปกติ\",SUM(DE20,IF(DH20=\"\",DG20,DH20)))))))","v":""},null,null,null,{"$f":"ประเมินผลการเรียนเทอม1!DN20","v":""},{"$f":"IF(ใส่ชื่อ!A15=\"\",\"\",IF(DJ20=\"-\",\"-\",IF(DJ20=0,\"\",IF(DS20=\"ปกติ\",MAXA(DJ20/2,DL20/2)))))","v":""},null,{"$f":"IF(เวลาเรียน!M22=\"\",\"\",IF(เวลาเรียน!M22=\"ย้าย\",\"-\",IF(เวลาเรียน!M22=\"จำหน่าย\",\"-\",IF(เวลาเรียน!M22=\"ขาดเรียนนาน\",\"-\",IF(DN20=\"\",\"\",IF(DO20=\"\",\"\",SUM(DN20+DO20)))))))","v":""},{"$f":"IF(เวลาเรียน!M22=\"\",\"\",IF(เวลาเรียน!M22=\"ย้าย\",\"-\",IF(เวลาเรียน!M22=\"จำหน่าย\",\"-\",IF(เวลาเรียน!M22=\"ขาดเรียนนาน\",\"-\",IF(เวลาเรียน!L22<80,\"มส\",IF(COUNTIF(DQ20,\"-\"),\"-\",IF(COUNTIF(DQ20,\"\"),\"\",VLOOKUP(DQ20,$DU$19:$DW$26,3))))))))","v":""},{"$f":"IF(เวลาเรียน!M22=\"\",\"\",เวลาเรียน!M22)","v":"ปกติ"},null,50,54.9,1]
[15,2511,{"$f":"CONCATENATE(ใส่ชื่อ!C16)","v":""},{"$f":"CONCATENATE(ใส่ชื่อ!D16&ใส่ชื่อ!E16&\"  \"&ใส่ชื่อ!F16)","v":"  "},{"$f":"ใส่ชื่อ!A16","v":0},null,null,null,null,null,null,null,null,null,null,null,null,null,null,null,null,null,null,null,null,{"$f":"IF(ใส่ชื่อ!D16=\"\",\"\",IF(DS21=\"ปกติ\",SUM(F21,G21,H21,I21,J21,K21,L21,M21,N21,O21,P21,Q21,R21,S21,T21,U21,V21,W21,X21,Y21),\"-\"))","v":""},null,"",null,null,null,null,null,null,null,null,null,null,null,null,null,null,null,null,null,null,null,null,{"$f":"IF(ใส่ชื่อ!D16=\"\",\"\",IF(COUNTIF(AC21:AS21,0),\"มผ\",IF(DS21=\"ปกติ\",SUM(AC21,AD21,AE21,AF21,AG21,AH21,AI21,AJ21,AK21,AL21,AM21,AN21,AO21,AP21,AQ21,AR21,AS21),\"-\")))","v":""},null,"",null,null,null,null,null,null,null,null,null,null,null,null,null,null,null,{"$f":"IF(ใส่ชื่อ!D16=\"\",\"\",IF(COUNTIF(AZ21:BN21,0),\"มผ\",IF(DS21=\"ปกติ\",SUM(AZ21,BA21,BB21,BC21,BD21,BE21,BF21,BG21,BH21,BI21,BJ21,BK21,BL21,BM21,BN21),\"-\")))","v":""},null,"",null,null,null,null,null,null,null,null,null,null,null,null,null,null,null,{"$f":"IF(ใส่ชื่อ!D16=\"\",\"\",IF(DS21=\"ปกติ\",SUM(BR21,BS21,BT21,BU21,BV21,BW21,BX21,BY21,BZ21,CA21,CB21,CC21,CD21,CE21,CF21),\"-\"))","v":""},null,"",null,null,null,null,null,null,null,null,null,null,null,null,null,null,null,null,"","","","",null,{"$f":"IF(ใส่ชื่อ!D16=\"\",\"\",IF(COUNTIF(DA21:DC21,\"มผ\"),\"มผ\",IF(DC21=\"มผ\",\"มผ\",IF(DS21=\"ปกติ\",SUM(DA21:DB21,IF(DD21=\"\",DC21,DD21)),\"-\"))))","v":""},null,"",null,null,{"$f":"IF(ใส่ชื่อ!D16=\"\",\"\",IF(DE21=\"\",\"\",IF(COUNTIF(DA21:DH21,\"มผ\"),\"มผ\",IF(COUNTIF(DA21:DH21,\"-\"),\"-\",IF(DS21=\"ปกติ\",SUM(DE21,IF(DH21=\"\",DG21,DH21)))))))","v":""},null,null,null,{"$f":"ประเมินผลการเรียนเทอม1!DN21","v":""},{"$f":"IF(ใส่ชื่อ!A16=\"\",\"\",IF(DJ21=\"-\",\"-\",IF(DJ21=0,\"\",IF(DS21=\"ปกติ\",MAXA(DJ21/2,DL21/2)))))","v":""},null,{"$f":"IF(เวลาเรียน!M23=\"\",\"\",IF(เวลาเรียน!M23=\"ย้าย\",\"-\",IF(เวลาเรียน!M23=\"จำหน่าย\",\"-\",IF(เวลาเรียน!M23=\"ขาดเรียนนาน\",\"-\",IF(DN21=\"\",\"\",IF(DO21=\"\",\"\",SUM(DN21+DO21)))))))","v":""},{"$f":"IF(เวลาเรียน!M23=\"\",\"\",IF(เวลาเรียน!M23=\"ย้าย\",\"-\",IF(เวลาเรียน!M23=\"จำหน่าย\",\"-\",IF(เวลาเรียน!M23=\"ขาดเรียนนาน\",\"-\",IF(เวลาเรียน!L23<80,\"มส\",IF(COUNTIF(DQ21,\"-\"),\"-\",IF(COUNTIF(DQ21,\"\"),\"\",VLOOKUP(DQ21,$DU$19:$DW$26,3))))))))","v":""},{"$f":"IF(เวลาเรียน!M23=\"\",\"\",เวลาเรียน!M23)","v":"ปกติ"},null,55,59.9,1.5]
[16,2512,{"$f":"CONCATENATE(ใส่ชื่อ!C17)","v":""},{"$f":"CONCATENATE(ใส่ชื่อ!D17&ใส่ชื่อ!E17&\"  \"&ใส่ชื่อ!F17)","v":"  "},{"$f":"ใส่ชื่อ!A17","v":0},null,null,null,null,null,null,null,null,null,null,null,null,null,null,null,null,null,null,null,null,{"$f":"IF(ใส่ชื่อ!D17=\"\",\"\",IF(DS22=\"ปกติ\",SUM(F22,G22,H22,I22,J22,K22,L22,M22,N22,O22,P22,Q22,R22,S22,T22,U22,V22,W22,X22,Y22),\"-\"))","v":""},null,"",null,null,null,null,null,null,null,null,null,null,null,null,null,null,null,null,null,null,null,null,{"$f":"IF(ใส่ชื่อ!D17=\"\",\"\",IF(COUNTIF(AC22:AS22,0),\"มผ\",IF(DS22=\"ปกติ\",SUM(AC22,AD22,AE22,AF22,AG22,AH22,AI22,AJ22,AK22,AL22,AM22,AN22,AO22,AP22,AQ22,AR22,AS22),\"-\")))","v":""},null,"",null,null,null,null,null,null,null,null,null,null,null,null,null,null,null,{"$f":"IF(ใส่ชื่อ!D17=\"\",\"\",IF(COUNTIF(AZ22:BN22,0),\"มผ\",IF(DS22=\"ปกติ\",SUM(AZ22,BA22,BB22,BC22,BD22,BE22,BF22,BG22,BH22,BI22,BJ22,BK22,BL22,BM22,BN22),\"-\")))","v":""},null,"",null,null,null,null,null,null,null,null,null,null,null,null,null,null,null,{"$f":"IF(ใส่ชื่อ!D17=\"\",\"\",IF(DS22=\"ปกติ\",SUM(BR22,BS22,BT22,BU22,BV22,BW22,BX22,BY22,BZ22,CA22,CB22,CC22,CD22,CE22,CF22),\"-\"))","v":""},null,"",null,null,null,null,null,null,null,null,null,null,null,null,null,null,null,null,"","","","",null,{"$f":"IF(ใส่ชื่อ!D17=\"\",\"\",IF(COUNTIF(DA22:DC22,\"มผ\"),\"มผ\",IF(DC22=\"มผ\",\"มผ\",IF(DS22=\"ปกติ\",SUM(DA22:DB22,IF(DD22=\"\",DC22,DD22)),\"-\"))))","v":""},null,"",null,null,{"$f":"IF(ใส่ชื่อ!D17=\"\",\"\",IF(DE22=\"\",\"\",IF(COUNTIF(DA22:DH22,\"มผ\"),\"มผ\",IF(COUNTIF(DA22:DH22,\"-\"),\"-\",IF(DS22=\"ปกติ\",SUM(DE22,IF(DH22=\"\",DG22,DH22)))))))","v":""},null,null,null,{"$f":"ประเมินผลการเรียนเทอม1!DN22","v":""},{"$f":"IF(ใส่ชื่อ!A17=\"\",\"\",IF(DJ22=\"-\",\"-\",IF(DJ22=0,\"\",IF(DS22=\"ปกติ\",MAXA(DJ22/2,DL22/2)))))","v":""},null,{"$f":"IF(เวลาเรียน!M24=\"\",\"\",IF(เวลาเรียน!M24=\"ย้าย\",\"-\",IF(เวลาเรียน!M24=\"จำหน่าย\",\"-\",IF(เวลาเรียน!M24=\"ขาดเรียนนาน\",\"-\",IF(DN22=\"\",\"\",IF(DO22=\"\",\"\",SUM(DN22+DO22)))))))","v":""},{"$f":"IF(เวลาเรียน!M24=\"\",\"\",IF(เวลาเรียน!M24=\"ย้าย\",\"-\",IF(เวลาเรียน!M24=\"จำหน่าย\",\"-\",IF(เวลาเรียน!M24=\"ขาดเรียนนาน\",\"-\",IF(เวลาเรียน!L24<80,\"มส\",IF(COUNTIF(DQ22,\"-\"),\"-\",IF(COUNTIF(DQ22,\"\"),\"\",VLOOKUP(DQ22,$DU$19:$DW$26,3))))))))","v":""},{"$f":"IF(เวลาเรียน!M24=\"\",\"\",เวลาเรียน!M24)","v":"ปกติ"},null,60,64.900000000000006,2]
[17,2513,{"$f":"CONCATENATE(ใส่ชื่อ!C18)","v":""},{"$f":"CONCATENATE(ใส่ชื่อ!D18&ใส่ชื่อ!E18&\"  \"&ใส่ชื่อ!F18)","v":"  "},{"$f":"ใส่ชื่อ!A18","v":0},null,null,null,null,null,null,null,null,null,null,null,null,null,null,null,null,null,null,null,null,{"$f":"IF(ใส่ชื่อ!D18=\"\",\"\",IF(DS23=\"ปกติ\",SUM(F23,G23,H23,I23,J23,K23,L23,M23,N23,O23,P23,Q23,R23,S23,T23,U23,V23,W23,X23,Y23),\"-\"))","v":""},null,"",null,null,null,null,null,null,null,null,null,null,null,null,null,null,null,null,null,null,null,null,{"$f":"IF(ใส่ชื่อ!D18=\"\",\"\",IF(COUNTIF(AC23:AS23,0),\"มผ\",IF(DS23=\"ปกติ\",SUM(AC23,AD23,AE23,AF23,AG23,AH23,AI23,AJ23,AK23,AL23,AM23,AN23,AO23,AP23,AQ23,AR23,AS23),\"-\")))","v":""},null,"",null,null,null,null,null,null,null,null,null,null,null,null,null,null,null,{"$f":"IF(ใส่ชื่อ!D18=\"\",\"\",IF(COUNTIF(AZ23:BN23,0),\"มผ\",IF(DS23=\"ปกติ\",SUM(AZ23,BA23,BB23,BC23,BD23,BE23,BF23,BG23,BH23,BI23,BJ23,BK23,BL23,BM23,BN23),\"-\")))","v":""},null,"",null,null,null,null,null,null,null,null,null,null,null,null,null,null,null,{"$f":"IF(ใส่ชื่อ!D18=\"\",\"\",IF(DS23=\"ปกติ\",SUM(BR23,BS23,BT23,BU23,BV23,BW23,BX23,BY23,BZ23,CA23,CB23,CC23,CD23,CE23,CF23),\"-\"))","v":""},null,"",null,null,null,null,null,null,null,null,null,null,null,null,null,null,null,null,"","","","",null,{"$f":"IF(ใส่ชื่อ!D18=\"\",\"\",IF(COUNTIF(DA23:DC23,\"มผ\"),\"มผ\",IF(DC23=\"มผ\",\"มผ\",IF(DS23=\"ปกติ\",SUM(DA23:DB23,IF(DD23=\"\",DC23,DD23)),\"-\"))))","v":""},null,"",null,null,{"$f":"IF(ใส่ชื่อ!D18=\"\",\"\",IF(DE23=\"\",\"\",IF(COUNTIF(DA23:DH23,\"มผ\"),\"มผ\",IF(COUNTIF(DA23:DH23,\"-\"),\"-\",IF(DS23=\"ปกติ\",SUM(DE23,IF(DH23=\"\",DG23,DH23)))))))","v":""},null,null,null,{"$f":"ประเมินผลการเรียนเทอม1!DN23","v":""},{"$f":"IF(ใส่ชื่อ!A18=\"\",\"\",IF(DJ23=\"-\",\"-\",IF(DJ23=0,\"\",IF(DS23=\"ปกติ\",MAXA(DJ23/2,DL23/2)))))","v":""},null,{"$f":"IF(เวลาเรียน!M25=\"\",\"\",IF(เวลาเรียน!M25=\"ย้าย\",\"-\",IF(เวลาเรียน!M25=\"จำหน่าย\",\"-\",IF(เวลาเรียน!M25=\"ขาดเรียนนาน\",\"-\",IF(DN23=\"\",\"\",IF(DO23=\"\",\"\",SUM(DN23+DO23)))))))","v":""},{"$f":"IF(เวลาเรียน!M25=\"\",\"\",IF(เวลาเรียน!M25=\"ย้าย\",\"-\",IF(เวลาเรียน!M25=\"จำหน่าย\",\"-\",IF(เวลาเรียน!M25=\"ขาดเรียนนาน\",\"-\",IF(เวลาเรียน!L25<80,\"มส\",IF(COUNTIF(DQ23,\"-\"),\"-\",IF(COUNTIF(DQ23,\"\"),\"\",VLOOKUP(DQ23,$DU$19:$DW$26,3))))))))","v":""},{"$f":"IF(เวลาเรียน!M25=\"\",\"\",เวลาเรียน!M25)","v":"ปกติ"},null,65,69.900000000000006,2.5]
[18,2514,{"$f":"CONCATENATE(ใส่ชื่อ!C19)","v":""},{"$f":"CONCATENATE(ใส่ชื่อ!D19&ใส่ชื่อ!E19&\"  \"&ใส่ชื่อ!F19)","v":"  "},{"$f":"ใส่ชื่อ!A19","v":0},null,null,null,null,null,null,null,null,null,null,null,null,null,null,null,null,null,null,null,null,{"$f":"IF(ใส่ชื่อ!D19=\"\",\"\",IF(DS24=\"ปกติ\",SUM(F24,G24,H24,I24,J24,K24,L24,M24,N24,O24,P24,Q24,R24,S24,T24,U24,V24,W24,X24,Y24),\"-\"))","v":""},null,"",null,null,null,null,null,null,null,null,null,null,null,null,null,null,null,null,null,null,null,null,{"$f":"IF(ใส่ชื่อ!D19=\"\",\"\",IF(COUNTIF(AC24:AS24,0),\"มผ\",IF(DS24=\"ปกติ\",SUM(AC24,AD24,AE24,AF24,AG24,AH24,AI24,AJ24,AK24,AL24,AM24,AN24,AO24,AP24,AQ24,AR24,AS24),\"-\")))","v":""},null,"",null,null,null,null,null,null,null,null,null,null,null,null,null,null,null,{"$f":"IF(ใส่ชื่อ!D19=\"\",\"\",IF(COUNTIF(AZ24:BN24,0),\"มผ\",IF(DS24=\"ปกติ\",SUM(AZ24,BA24,BB24,BC24,BD24,BE24,BF24,BG24,BH24,BI24,BJ24,BK24,BL24,BM24,BN24),\"-\")))","v":""},null,"",null,null,null,null,null,null,null,null,null,null,null,null,null,null,null,{"$f":"IF(ใส่ชื่อ!D19=\"\",\"\",IF(DS24=\"ปกติ\",SUM(BR24,BS24,BT24,BU24,BV24,BW24,BX24,BY24,BZ24,CA24,CB24,CC24,CD24,CE24,CF24),\"-\"))","v":""},null,"",null,null,null,null,null,null,null,null,null,null,null,null,null,null,null,null,"","","","",null,{"$f":"IF(ใส่ชื่อ!D19=\"\",\"\",IF(COUNTIF(DA24:DC24,\"มผ\"),\"มผ\",IF(DC24=\"มผ\",\"มผ\",IF(DS24=\"ปกติ\",SUM(DA24:DB24,IF(DD24=\"\",DC24,DD24)),\"-\"))))","v":""},null,"",null,null,{"$f":"IF(ใส่ชื่อ!D19=\"\",\"\",IF(DE24=\"\",\"\",IF(COUNTIF(DA24:DH24,\"มผ\"),\"มผ\",IF(COUNTIF(DA24:DH24,\"-\"),\"-\",IF(DS24=\"ปกติ\",SUM(DE24,IF(DH24=\"\",DG24,DH24)))))))","v":""},null,null,null,{"$f":"ประเมินผลการเรียนเทอม1!DN24","v":""},{"$f":"IF(ใส่ชื่อ!A19=\"\",\"\",IF(DJ24=\"-\",\"-\",IF(DJ24=0,\"\",IF(DS24=\"ปกติ\",MAXA(DJ24/2,DL24/2)))))","v":""},null,{"$f":"IF(เวลาเรียน!M26=\"\",\"\",IF(เวลาเรียน!M26=\"ย้าย\",\"-\",IF(เวลาเรียน!M26=\"จำหน่าย\",\"-\",IF(เวลาเรียน!M26=\"ขาดเรียนนาน\",\"-\",IF(DN24=\"\",\"\",IF(DO24=\"\",\"\",SUM(DN24+DO24)))))))","v":""},{"$f":"IF(เวลาเรียน!M26=\"\",\"\",IF(เวลาเรียน!M26=\"ย้าย\",\"-\",IF(เวลาเรียน!M26=\"จำหน่าย\",\"-\",IF(เวลาเรียน!M26=\"ขาดเรียนนาน\",\"-\",IF(เวลาเรียน!L26<80,\"มส\",IF(COUNTIF(DQ24,\"-\"),\"-\",IF(COUNTIF(DQ24,\"\"),\"\",VLOOKUP(DQ24,$DU$19:$DW$26,3))))))))","v":""},{"$f":"IF(เวลาเรียน!M26=\"\",\"\",เวลาเรียน!M26)","v":"ปกติ"},null,70,74.900000000000006,3]
[19,2515,{"$f":"CONCATENATE(ใส่ชื่อ!C20)","v":""},{"$f":"CONCATENATE(ใส่ชื่อ!D20&ใส่ชื่อ!E20&\"  \"&ใส่ชื่อ!F20)","v":"  "},{"$f":"ใส่ชื่อ!A20","v":0},null,null,null,null,null,null,null,null,null,null,null,null,null,null,null,null,null,null,null,null,{"$f":"IF(ใส่ชื่อ!D20=\"\",\"\",IF(DS25=\"ปกติ\",SUM(F25,G25,H25,I25,J25,K25,L25,M25,N25,O25,P25,Q25,R25,S25,T25,U25,V25,W25,X25,Y25),\"-\"))","v":""},null,"",null,null,null,null,null,null,null,null,null,null,null,null,null,null,null,null,null,null,null,null,{"$f":"IF(ใส่ชื่อ!D20=\"\",\"\",IF(COUNTIF(AC25:AS25,0),\"มผ\",IF(DS25=\"ปกติ\",SUM(AC25,AD25,AE25,AF25,AG25,AH25,AI25,AJ25,AK25,AL25,AM25,AN25,AO25,AP25,AQ25,AR25,AS25),\"-\")))","v":""},null,"",null,null,null,null,null,null,null,null,null,null,null,null,null,null,null,{"$f":"IF(ใส่ชื่อ!D20=\"\",\"\",IF(COUNTIF(AZ25:BN25,0),\"มผ\",IF(DS25=\"ปกติ\",SUM(AZ25,BA25,BB25,BC25,BD25,BE25,BF25,BG25,BH25,BI25,BJ25,BK25,BL25,BM25,BN25),\"-\")))","v":""},null,"",null,null,null,null,null,null,null,null,null,null,null,null,null,null,null,{"$f":"IF(ใส่ชื่อ!D20=\"\",\"\",IF(DS25=\"ปกติ\",SUM(BR25,BS25,BT25,BU25,BV25,BW25,BX25,BY25,BZ25,CA25,CB25,CC25,CD25,CE25,CF25),\"-\"))","v":""},null,"",null,null,null,null,null,null,null,null,null,null,null,null,null,null,null,null,"","","","",null,{"$f":"IF(ใส่ชื่อ!D20=\"\",\"\",IF(COUNTIF(DA25:DC25,\"มผ\"),\"มผ\",IF(DC25=\"มผ\",\"มผ\",IF(DS25=\"ปกติ\",SUM(DA25:DB25,IF(DD25=\"\",DC25,DD25)),\"-\"))))","v":""},null,"",null,null,{"$f":"IF(ใส่ชื่อ!D20=\"\",\"\",IF(DE25=\"\",\"\",IF(COUNTIF(DA25:DH25,\"มผ\"),\"มผ\",IF(COUNTIF(DA25:DH25,\"-\"),\"-\",IF(DS25=\"ปกติ\",SUM(DE25,IF(DH25=\"\",DG25,DH25)))))))","v":""},null,null,null,{"$f":"ประเมินผลการเรียนเทอม1!DN25","v":""},{"$f":"IF(ใส่ชื่อ!A20=\"\",\"\",IF(DJ25=\"-\",\"-\",IF(DJ25=0,\"\",IF(DS25=\"ปกติ\",MAXA(DJ25/2,DL25/2)))))","v":""},null,{"$f":"IF(เวลาเรียน!M27=\"\",\"\",IF(เวลาเรียน!M27=\"ย้าย\",\"-\",IF(เวลาเรียน!M27=\"จำหน่าย\",\"-\",IF(เวลาเรียน!M27=\"ขาดเรียนนาน\",\"-\",IF(DN25=\"\",\"\",IF(DO25=\"\",\"\",SUM(DN25+DO25)))))))","v":""},{"$f":"IF(เวลาเรียน!M27=\"\",\"\",IF(เวลาเรียน!M27=\"ย้าย\",\"-\",IF(เวลาเรียน!M27=\"จำหน่าย\",\"-\",IF(เวลาเรียน!M27=\"ขาดเรียนนาน\",\"-\",IF(เวลาเรียน!L27<80,\"มส\",IF(COUNTIF(DQ25,\"-\"),\"-\",IF(COUNTIF(DQ25,\"\"),\"\",VLOOKUP(DQ25,$DU$19:$DW$26,3))))))))","v":""},{"$f":"IF(เวลาเรียน!M27=\"\",\"\",เวลาเรียน!M27)","v":"ปกติ"},null,75,79.900000000000006,3.5]
[20,2516,{"$f":"CONCATENATE(ใส่ชื่อ!C21)","v":""},{"$f":"CONCATENATE(ใส่ชื่อ!D21&ใส่ชื่อ!E21&\"  \"&ใส่ชื่อ!F21)","v":"  "},{"$f":"ใส่ชื่อ!A21","v":0},null,null,null,null,null,null,null,null,null,null,null,null,null,null,null,null,null,null,null,null,{"$f":"IF(ใส่ชื่อ!D21=\"\",\"\",IF(DS26=\"ปกติ\",SUM(F26,G26,H26,I26,J26,K26,L26,M26,N26,O26,P26,Q26,R26,S26,T26,U26,V26,W26,X26,Y26),\"-\"))","v":""},null,"",null,null,null,null,null,null,null,null,null,null,null,null,null,null,null,null,null,null,null,null,{"$f":"IF(ใส่ชื่อ!D21=\"\",\"\",IF(COUNTIF(AC26:AS26,0),\"มผ\",IF(DS26=\"ปกติ\",SUM(AC26,AD26,AE26,AF26,AG26,AH26,AI26,AJ26,AK26,AL26,AM26,AN26,AO26,AP26,AQ26,AR26,AS26),\"-\")))","v":""},null,"",null,null,null,null,null,null,null,null,null,null,null,null,null,null,null,{"$f":"IF(ใส่ชื่อ!D21=\"\",\"\",IF(COUNTIF(AZ26:BN26,0),\"มผ\",IF(DS26=\"ปกติ\",SUM(AZ26,BA26,BB26,BC26,BD26,BE26,BF26,BG26,BH26,BI26,BJ26,BK26,BL26,BM26,BN26),\"-\")))","v":""},null,"",null,null,null,null,null,null,null,null,null,null,null,null,null,null,null,{"$f":"IF(ใส่ชื่อ!D21=\"\",\"\",IF(DS26=\"ปกติ\",SUM(BR26,BS26,BT26,BU26,BV26,BW26,BX26,BY26,BZ26,CA26,CB26,CC26,CD26,CE26,CF26),\"-\"))","v":""},null,"",null,null,null,null,null,null,null,null,null,null,null,null,null,null,null,null,"","","","",null,{"$f":"IF(ใส่ชื่อ!D21=\"\",\"\",IF(COUNTIF(DA26:DC26,\"มผ\"),\"มผ\",IF(DC26=\"มผ\",\"มผ\",IF(DS26=\"ปกติ\",SUM(DA26:DB26,IF(DD26=\"\",DC26,DD26)),\"-\"))))","v":""},null,"",null,null,{"$f":"IF(ใส่ชื่อ!D21=\"\",\"\",IF(DE26=\"\",\"\",IF(COUNTIF(DA26:DH26,\"มผ\"),\"มผ\",IF(COUNTIF(DA26:DH26,\"-\"),\"-\",IF(DS26=\"ปกติ\",SUM(DE26,IF(DH26=\"\",DG26,DH26)))))))","v":""},null,null,null,{"$f":"ประเมินผลการเรียนเทอม1!DN26","v":""},{"$f":"IF(ใส่ชื่อ!A21=\"\",\"\",IF(DJ26=\"-\",\"-\",IF(DJ26=0,\"\",IF(DS26=\"ปกติ\",MAXA(DJ26/2,DL26/2)))))","v":""},null,{"$f":"IF(เวลาเรียน!M28=\"\",\"\",IF(เวลาเรียน!M28=\"ย้าย\",\"-\",IF(เวลาเรียน!M28=\"จำหน่าย\",\"-\",IF(เวลาเรียน!M28=\"ขาดเรียนนาน\",\"-\",IF(DN26=\"\",\"\",IF(DO26=\"\",\"\",SUM(DN26+DO26)))))))","v":""},{"$f":"IF(เวลาเรียน!M28=\"\",\"\",IF(เวลาเรียน!M28=\"ย้าย\",\"-\",IF(เวลาเรียน!M28=\"จำหน่าย\",\"-\",IF(เวลาเรียน!M28=\"ขาดเรียนนาน\",\"-\",IF(เวลาเรียน!L28<80,\"มส\",IF(COUNTIF(DQ26,\"-\"),\"-\",IF(COUNTIF(DQ26,\"\"),\"\",VLOOKUP(DQ26,$DU$19:$DW$26,3))))))))","v":""},{"$f":"IF(เวลาเรียน!M28=\"\",\"\",เวลาเรียน!M28)","v":"ปกติ"},null,80,100,4]
[21,2517,{"$f":"CONCATENATE(ใส่ชื่อ!C22)","v":""},{"$f":"CONCATENATE(ใส่ชื่อ!D22&ใส่ชื่อ!E22&\"  \"&ใส่ชื่อ!F22)","v":"  "},{"$f":"ใส่ชื่อ!A22","v":0},null,null,null,null,null,null,null,null,null,null,null,null,null,null,null,null,null,null,null,null,{"$f":"IF(ใส่ชื่อ!D22=\"\",\"\",IF(DS27=\"ปกติ\",SUM(F27,G27,H27,I27,J27,K27,L27,M27,N27,O27,P27,Q27,R27,S27,T27,U27,V27,W27,X27,Y27),\"-\"))","v":""},null,"",null,null,null,null,null,null,null,null,null,null,null,null,null,null,null,null,null,null,null,null,{"$f":"IF(ใส่ชื่อ!D22=\"\",\"\",IF(COUNTIF(AC27:AS27,0),\"มผ\",IF(DS27=\"ปกติ\",SUM(AC27,AD27,AE27,AF27,AG27,AH27,AI27,AJ27,AK27,AL27,AM27,AN27,AO27,AP27,AQ27,AR27,AS27),\"-\")))","v":""},null,"",null,null,null,null,null,null,null,null,null,null,null,null,null,null,null,{"$f":"IF(ใส่ชื่อ!D22=\"\",\"\",IF(COUNTIF(AZ27:BN27,0),\"มผ\",IF(DS27=\"ปกติ\",SUM(AZ27,BA27,BB27,BC27,BD27,BE27,BF27,BG27,BH27,BI27,BJ27,BK27,BL27,BM27,BN27),\"-\")))","v":""},null,"",null,null,null,null,null,null,null,null,null,null,null,null,null,null,null,{"$f":"IF(ใส่ชื่อ!D22=\"\",\"\",IF(DS27=\"ปกติ\",SUM(BR27,BS27,BT27,BU27,BV27,BW27,BX27,BY27,BZ27,CA27,CB27,CC27,CD27,CE27,CF27),\"-\"))","v":""},null,"",null,null,null,null,null,null,null,null,null,null,null,null,null,null,null,null,"","","","",null,{"$f":"IF(ใส่ชื่อ!D22=\"\",\"\",IF(COUNTIF(DA27:DC27,\"มผ\"),\"มผ\",IF(DC27=\"มผ\",\"มผ\",IF(DS27=\"ปกติ\",SUM(DA27:DB27,IF(DD27=\"\",DC27,DD27)),\"-\"))))","v":""},null,"",null,null,{"$f":"IF(ใส่ชื่อ!D22=\"\",\"\",IF(DE27=\"\",\"\",IF(COUNTIF(DA27:DH27,\"มผ\"),\"มผ\",IF(COUNTIF(DA27:DH27,\"-\"),\"-\",IF(DS27=\"ปกติ\",SUM(DE27,IF(DH27=\"\",DG27,DH27)))))))","v":""},null,null,null,{"$f":"ประเมินผลการเรียนเทอม1!DN27","v":""},{"$f":"IF(ใส่ชื่อ!A22=\"\",\"\",IF(DJ27=\"-\",\"-\",IF(DJ27=0,\"\",IF(DS27=\"ปกติ\",MAXA(DJ27/2,DL27/2)))))","v":""},null,{"$f":"IF(เวลาเรียน!M29=\"\",\"\",IF(เวลาเรียน!M29=\"ย้าย\",\"-\",IF(เวลาเรียน!M29=\"จำหน่าย\",\"-\",IF(เวลาเรียน!M29=\"ขาดเรียนนาน\",\"-\",IF(DN27=\"\",\"\",IF(DO27=\"\",\"\",SUM(DN27+DO27)))))))","v":""},{"$f":"IF(เวลาเรียน!M29=\"\",\"\",IF(เวลาเรียน!M29=\"ย้าย\",\"-\",IF(เวลาเรียน!M29=\"จำหน่าย\",\"-\",IF(เวลาเรียน!M29=\"ขาดเรียนนาน\",\"-\",IF(เวลาเรียน!L29<80,\"มส\",IF(COUNTIF(DQ27,\"-\"),\"-\",IF(COUNTIF(DQ27,\"\"),\"\",VLOOKUP(DQ27,$DU$19:$DW$26,3))))))))","v":""},{"$f":"IF(เวลาเรียน!M29=\"\",\"\",เวลาเรียน!M29)","v":"ปกติ"}]
[22,2518,{"$f":"CONCATENATE(ใส่ชื่อ!C23)","v":""},{"$f":"CONCATENATE(ใส่ชื่อ!D23&ใส่ชื่อ!E23&\"  \"&ใส่ชื่อ!F23)","v":"  "},{"$f":"ใส่ชื่อ!A23","v":0},null,null,null,null,null,null,null,null,null,null,null,null,null,null,null,null,null,null,null,null,{"$f":"IF(ใส่ชื่อ!D23=\"\",\"\",IF(DS28=\"ปกติ\",SUM(F28,G28,H28,I28,J28,K28,L28,M28,N28,O28,P28,Q28,R28,S28,T28,U28,V28,W28,X28,Y28),\"-\"))","v":""},null,"",null,null,null,null,null,null,null,null,null,null,null,null,null,null,null,null,null,null,null,null,{"$f":"IF(ใส่ชื่อ!D23=\"\",\"\",IF(COUNTIF(AC28:AS28,0),\"มผ\",IF(DS28=\"ปกติ\",SUM(AC28,AD28,AE28,AF28,AG28,AH28,AI28,AJ28,AK28,AL28,AM28,AN28,AO28,AP28,AQ28,AR28,AS28),\"-\")))","v":""},null,"",null,null,null,null,null,null,null,null,null,null,null,null,null,null,null,{"$f":"IF(ใส่ชื่อ!D23=\"\",\"\",IF(COUNTIF(AZ28:BN28,0),\"มผ\",IF(DS28=\"ปกติ\",SUM(AZ28,BA28,BB28,BC28,BD28,BE28,BF28,BG28,BH28,BI28,BJ28,BK28,BL28,BM28,BN28),\"-\")))","v":""},null,"",null,null,null,null,null,null,null,null,null,null,null,null,null,null,null,{"$f":"IF(ใส่ชื่อ!D23=\"\",\"\",IF(DS28=\"ปกติ\",SUM(BR28,BS28,BT28,BU28,BV28,BW28,BX28,BY28,BZ28,CA28,CB28,CC28,CD28,CE28,CF28),\"-\"))","v":""},null,"",null,null,null,null,null,null,null,null,null,null,null,null,null,null,null,null,"","","","",null,{"$f":"IF(ใส่ชื่อ!D23=\"\",\"\",IF(COUNTIF(DA28:DC28,\"มผ\"),\"มผ\",IF(DC28=\"มผ\",\"มผ\",IF(DS28=\"ปกติ\",SUM(DA28:DB28,IF(DD28=\"\",DC28,DD28)),\"-\"))))","v":""},null,"",null,null,{"$f":"IF(ใส่ชื่อ!D23=\"\",\"\",IF(DE28=\"\",\"\",IF(COUNTIF(DA28:DH28,\"มผ\"),\"มผ\",IF(COUNTIF(DA28:DH28,\"-\"),\"-\",IF(DS28=\"ปกติ\",SUM(DE28,IF(DH28=\"\",DG28,DH28)))))))","v":""},null,null,null,{"$f":"ประเมินผลการเรียนเทอม1!DN28","v":""},{"$f":"IF(ใส่ชื่อ!A23=\"\",\"\",IF(DJ28=\"-\",\"-\",IF(DJ28=0,\"\",IF(DS28=\"ปกติ\",MAXA(DJ28/2,DL28/2)))))","v":""},null,{"$f":"IF(เวลาเรียน!M30=\"\",\"\",IF(เวลาเรียน!M30=\"ย้าย\",\"-\",IF(เวลาเรียน!M30=\"จำหน่าย\",\"-\",IF(เวลาเรียน!M30=\"ขาดเรียนนาน\",\"-\",IF(DN28=\"\",\"\",IF(DO28=\"\",\"\",SUM(DN28+DO28)))))))","v":""},{"$f":"IF(เวลาเรียน!M30=\"\",\"\",IF(เวลาเรียน!M30=\"ย้าย\",\"-\",IF(เวลาเรียน!M30=\"จำหน่าย\",\"-\",IF(เวลาเรียน!M30=\"ขาดเรียนนาน\",\"-\",IF(เวลาเรียน!L30<80,\"มส\",IF(COUNTIF(DQ28,\"-\"),\"-\",IF(COUNTIF(DQ28,\"\"),\"\",VLOOKUP(DQ28,$DU$19:$DW$26,3))))))))","v":""},{"$f":"IF(เวลาเรียน!M30=\"\",\"\",เวลาเรียน!M30)","v":"ปกติ"}]
[23,2519,{"$f":"CONCATENATE(ใส่ชื่อ!C24)","v":""},{"$f":"CONCATENATE(ใส่ชื่อ!D24&ใส่ชื่อ!E24&\"  \"&ใส่ชื่อ!F24)","v":"  "},{"$f":"ใส่ชื่อ!A24","v":0},null,null,null,null,null,null,null,null,null,null,null,null,null,null,null,null,null,null,null,null,{"$f":"IF(ใส่ชื่อ!D24=\"\",\"\",IF(DS29=\"ปกติ\",SUM(F29,G29,H29,I29,J29,K29,L29,M29,N29,O29,P29,Q29,R29,S29,T29,U29,V29,W29,X29,Y29),\"-\"))","v":""},null,"",null,null,null,null,null,null,null,null,null,null,null,null,null,null,null,null,null,null,null,null,{"$f":"IF(ใส่ชื่อ!D24=\"\",\"\",IF(COUNTIF(AC29:AS29,0),\"มผ\",IF(DS29=\"ปกติ\",SUM(AC29,AD29,AE29,AF29,AG29,AH29,AI29,AJ29,AK29,AL29,AM29,AN29,AO29,AP29,AQ29,AR29,AS29),\"-\")))","v":""},null,"",null,null,null,null,null,null,null,null,null,null,null,null,null,null,null,{"$f":"IF(ใส่ชื่อ!D24=\"\",\"\",IF(COUNTIF(AZ29:BN29,0),\"มผ\",IF(DS29=\"ปกติ\",SUM(AZ29,BA29,BB29,BC29,BD29,BE29,BF29,BG29,BH29,BI29,BJ29,BK29,BL29,BM29,BN29),\"-\")))","v":""},null,"",null,null,null,null,null,null,null,null,null,null,null,null,null,null,null,{"$f":"IF(ใส่ชื่อ!D24=\"\",\"\",IF(DS29=\"ปกติ\",SUM(BR29,BS29,BT29,BU29,BV29,BW29,BX29,BY29,BZ29,CA29,CB29,CC29,CD29,CE29,CF29),\"-\"))","v":""},null,"",null,null,null,null,null,null,null,null,null,null,null,null,null,null,null,null,"","","","",null,{"$f":"IF(ใส่ชื่อ!D24=\"\",\"\",IF(COUNTIF(DA29:DC29,\"มผ\"),\"มผ\",IF(DC29=\"มผ\",\"มผ\",IF(DS29=\"ปกติ\",SUM(DA29:DB29,IF(DD29=\"\",DC29,DD29)),\"-\"))))","v":""},null,"",null,null,{"$f":"IF(ใส่ชื่อ!D24=\"\",\"\",IF(DE29=\"\",\"\",IF(COUNTIF(DA29:DH29,\"มผ\"),\"มผ\",IF(COUNTIF(DA29:DH29,\"-\"),\"-\",IF(DS29=\"ปกติ\",SUM(DE29,IF(DH29=\"\",DG29,DH29)))))))","v":""},null,null,null,{"$f":"ประเมินผลการเรียนเทอม1!DN29","v":""},{"$f":"IF(ใส่ชื่อ!A24=\"\",\"\",IF(DJ29=\"-\",\"-\",IF(DJ29=0,\"\",IF(DS29=\"ปกติ\",MAXA(DJ29/2,DL29/2)))))","v":""},null,{"$f":"IF(เวลาเรียน!M31=\"\",\"\",IF(เวลาเรียน!M31=\"ย้าย\",\"-\",IF(เวลาเรียน!M31=\"จำหน่าย\",\"-\",IF(เวลาเรียน!M31=\"ขาดเรียนนาน\",\"-\",IF(DN29=\"\",\"\",IF(DO29=\"\",\"\",SUM(DN29+DO29)))))))","v":""},{"$f":"IF(เวลาเรียน!M31=\"\",\"\",IF(เวลาเรียน!M31=\"ย้าย\",\"-\",IF(เวลาเรียน!M31=\"จำหน่าย\",\"-\",IF(เวลาเรียน!M31=\"ขาดเรียนนาน\",\"-\",IF(เวลาเรียน!L31<80,\"มส\",IF(COUNTIF(DQ29,\"-\"),\"-\",IF(COUNTIF(DQ29,\"\"),\"\",VLOOKUP(DQ29,$DU$19:$DW$26,3))))))))","v":""},{"$f":"IF(เวลาเรียน!M31=\"\",\"\",เวลาเรียน!M31)","v":""}]
[24,2520,{"$f":"CONCATENATE(ใส่ชื่อ!C25)","v":""},{"$f":"CONCATENATE(ใส่ชื่อ!D25&ใส่ชื่อ!E25&\"  \"&ใส่ชื่อ!F25)","v":"  "},{"$f":"ใส่ชื่อ!A25","v":0},null,null,null,null,null,null,null,null,null,null,null,null,null,null,null,null,null,null,null,null,{"$f":"IF(ใส่ชื่อ!D25=\"\",\"\",IF(DS30=\"ปกติ\",SUM(F30,G30,H30,I30,J30,K30,L30,M30,N30,O30,P30,Q30,R30,S30,T30,U30,V30,W30,X30,Y30),\"-\"))","v":""},null,"",null,null,null,null,null,null,null,null,null,null,null,null,null,null,null,null,null,null,null,null,{"$f":"IF(ใส่ชื่อ!D25=\"\",\"\",IF(COUNTIF(AC30:AS30,0),\"มผ\",IF(DS30=\"ปกติ\",SUM(AC30,AD30,AE30,AF30,AG30,AH30,AI30,AJ30,AK30,AL30,AM30,AN30,AO30,AP30,AQ30,AR30,AS30),\"-\")))","v":""},null,"",null,null,null,null,null,null,null,null,null,null,null,null,null,null,null,{"$f":"IF(ใส่ชื่อ!D25=\"\",\"\",IF(COUNTIF(AZ30:BN30,0),\"มผ\",IF(DS30=\"ปกติ\",SUM(AZ30,BA30,BB30,BC30,BD30,BE30,BF30,BG30,BH30,BI30,BJ30,BK30,BL30,BM30,BN30),\"-\")))","v":""},null,"",null,null,null,null,null,null,null,null,null,null,null,null,null,null,null,{"$f":"IF(ใส่ชื่อ!D25=\"\",\"\",IF(DS30=\"ปกติ\",SUM(BR30,BS30,BT30,BU30,BV30,BW30,BX30,BY30,BZ30,CA30,CB30,CC30,CD30,CE30,CF30),\"-\"))","v":""},null,"",null,null,null,null,null,null,null,null,null,null,null,null,null,null,null,null,"","","","",null,{"$f":"IF(ใส่ชื่อ!D25=\"\",\"\",IF(COUNTIF(DA30:DC30,\"มผ\"),\"มผ\",IF(DC30=\"มผ\",\"มผ\",IF(DS30=\"ปกติ\",SUM(DA30:DB30,IF(DD30=\"\",DC30,DD30)),\"-\"))))","v":""},null,"",null,null,{"$f":"IF(ใส่ชื่อ!D25=\"\",\"\",IF(DE30=\"\",\"\",IF(COUNTIF(DA30:DH30,\"มผ\"),\"มผ\",IF(COUNTIF(DA30:DH30,\"-\"),\"-\",IF(DS30=\"ปกติ\",SUM(DE30,IF(DH30=\"\",DG30,DH30)))))))","v":""},null,null,null,{"$f":"ประเมินผลการเรียนเทอม1!DN30","v":""},{"$f":"IF(ใส่ชื่อ!A25=\"\",\"\",IF(DJ30=\"-\",\"-\",IF(DJ30=0,\"\",IF(DS30=\"ปกติ\",MAXA(DJ30/2,DL30/2)))))","v":""},null,{"$f":"IF(เวลาเรียน!M32=\"\",\"\",IF(เวลาเรียน!M32=\"ย้าย\",\"-\",IF(เวลาเรียน!M32=\"จำหน่าย\",\"-\",IF(เวลาเรียน!M32=\"ขาดเรียนนาน\",\"-\",IF(DN30=\"\",\"\",IF(DO30=\"\",\"\",SUM(DN30+DO30)))))))","v":""},{"$f":"IF(เวลาเรียน!M32=\"\",\"\",IF(เวลาเรียน!M32=\"ย้าย\",\"-\",IF(เวลาเรียน!M32=\"จำหน่าย\",\"-\",IF(เวลาเรียน!M32=\"ขาดเรียนนาน\",\"-\",IF(เวลาเรียน!L32<80,\"มส\",IF(COUNTIF(DQ30,\"-\"),\"-\",IF(COUNTIF(DQ30,\"\"),\"\",VLOOKUP(DQ30,$DU$19:$DW$26,3))))))))","v":""},{"$f":"IF(เวลาเรียน!M32=\"\",\"\",เวลาเรียน!M32)","v":""}]
[25,2521,{"$f":"CONCATENATE(ใส่ชื่อ!C26)","v":""},{"$f":"CONCATENATE(ใส่ชื่อ!D26&ใส่ชื่อ!E26&\"  \"&ใส่ชื่อ!F26)","v":"  "},{"$f":"ใส่ชื่อ!A26","v":0},null,null,null,null,null,null,null,null,null,null,null,null,null,null,null,null,null,null,null,null,{"$f":"IF(ใส่ชื่อ!D26=\"\",\"\",IF(DS31=\"ปกติ\",SUM(F31,G31,H31,I31,J31,K31,L31,M31,N31,O31,P31,Q31,R31,S31,T31,U31,V31,W31,X31,Y31),\"-\"))","v":""},null,"",null,null,null,null,null,null,null,null,null,null,null,null,null,null,null,null,null,null,null,null,{"$f":"IF(ใส่ชื่อ!D26=\"\",\"\",IF(COUNTIF(AC31:AS31,0),\"มผ\",IF(DS31=\"ปกติ\",SUM(AC31,AD31,AE31,AF31,AG31,AH31,AI31,AJ31,AK31,AL31,AM31,AN31,AO31,AP31,AQ31,AR31,AS31),\"-\")))","v":""},null,"",null,null,null,null,null,null,null,null,null,null,null,null,null,null,null,{"$f":"IF(ใส่ชื่อ!D26=\"\",\"\",IF(COUNTIF(AZ31:BN31,0),\"มผ\",IF(DS31=\"ปกติ\",SUM(AZ31,BA31,BB31,BC31,BD31,BE31,BF31,BG31,BH31,BI31,BJ31,BK31,BL31,BM31,BN31),\"-\")))","v":""},null,"",null,null,null,null,null,null,null,null,null,null,null,null,null,null,null,{"$f":"IF(ใส่ชื่อ!D26=\"\",\"\",IF(DS31=\"ปกติ\",SUM(BR31,BS31,BT31,BU31,BV31,BW31,BX31,BY31,BZ31,CA31,CB31,CC31,CD31,CE31,CF31),\"-\"))","v":""},null,"",null,null,null,null,null,null,null,null,null,null,null,null,null,null,null,null,"","","","",null,{"$f":"IF(ใส่ชื่อ!D26=\"\",\"\",IF(COUNTIF(DA31:DC31,\"มผ\"),\"มผ\",IF(DC31=\"มผ\",\"มผ\",IF(DS31=\"ปกติ\",SUM(DA31:DB31,IF(DD31=\"\",DC31,DD31)),\"-\"))))","v":""},null,"",null,null,{"$f":"IF(ใส่ชื่อ!D26=\"\",\"\",IF(DE31=\"\",\"\",IF(COUNTIF(DA31:DH31,\"มผ\"),\"มผ\",IF(COUNTIF(DA31:DH31,\"-\"),\"-\",IF(DS31=\"ปกติ\",SUM(DE31,IF(DH31=\"\",DG31,DH31)))))))","v":""},null,null,null,{"$f":"ประเมินผลการเรียนเทอม1!DN31","v":""},{"$f":"IF(ใส่ชื่อ!A26=\"\",\"\",IF(DJ31=\"-\",\"-\",IF(DJ31=0,\"\",IF(DS31=\"ปกติ\",MAXA(DJ31/2,DL31/2)))))","v":""},null,{"$f":"IF(เวลาเรียน!M33=\"\",\"\",IF(เวลาเรียน!M33=\"ย้าย\",\"-\",IF(เวลาเรียน!M33=\"จำหน่าย\",\"-\",IF(เวลาเรียน!M33=\"ขาดเรียนนาน\",\"-\",IF(DN31=\"\",\"\",IF(DO31=\"\",\"\",SUM(DN31+DO31)))))))","v":""},{"$f":"IF(เวลาเรียน!M33=\"\",\"\",IF(เวลาเรียน!M33=\"ย้าย\",\"-\",IF(เวลาเรียน!M33=\"จำหน่าย\",\"-\",IF(เวลาเรียน!M33=\"ขาดเรียนนาน\",\"-\",IF(เวลาเรียน!L33<80,\"มส\",IF(COUNTIF(DQ31,\"-\"),\"-\",IF(COUNTIF(DQ31,\"\"),\"\",VLOOKUP(DQ31,$DU$19:$DW$26,3))))))))","v":""},{"$f":"IF(เวลาเรียน!M33=\"\",\"\",เวลาเรียน!M33)","v":""}]
[26,2522,{"$f":"CONCATENATE(ใส่ชื่อ!C27)","v":""},{"$f":"CONCATENATE(ใส่ชื่อ!D27&ใส่ชื่อ!E27&\"  \"&ใส่ชื่อ!F27)","v":"  "},{"$f":"ใส่ชื่อ!A27","v":0},null,null,null,null,null,null,null,null,null,null,null,null,null,null,null,null,null,null,null,null,{"$f":"IF(ใส่ชื่อ!D27=\"\",\"\",IF(DS32=\"ปกติ\",SUM(F32,G32,H32,I32,J32,K32,L32,M32,N32,O32,P32,Q32,R32,S32,T32,U32,V32,W32,X32,Y32),\"-\"))","v":""},null,"",null,null,null,null,null,null,null,null,null,null,null,null,null,null,null,null,null,null,null,null,{"$f":"IF(ใส่ชื่อ!D27=\"\",\"\",IF(COUNTIF(AC32:AS32,0),\"มผ\",IF(DS32=\"ปกติ\",SUM(AC32,AD32,AE32,AF32,AG32,AH32,AI32,AJ32,AK32,AL32,AM32,AN32,AO32,AP32,AQ32,AR32,AS32),\"-\")))","v":""},null,"",null,null,null,null,null,null,null,null,null,null,null,null,null,null,null,{"$f":"IF(ใส่ชื่อ!D27=\"\",\"\",IF(COUNTIF(AZ32:BN32,0),\"มผ\",IF(DS32=\"ปกติ\",SUM(AZ32,BA32,BB32,BC32,BD32,BE32,BF32,BG32,BH32,BI32,BJ32,BK32,BL32,BM32,BN32),\"-\")))","v":""},null,"",null,null,null,null,null,null,null,null,null,null,null,null,null,null,null,{"$f":"IF(ใส่ชื่อ!D27=\"\",\"\",IF(DS32=\"ปกติ\",SUM(BR32,BS32,BT32,BU32,BV32,BW32,BX32,BY32,BZ32,CA32,CB32,CC32,CD32,CE32,CF32),\"-\"))","v":""},null,"",null,null,null,null,null,null,null,null,null,null,null,null,null,null,null,null,"","","","",null,{"$f":"IF(ใส่ชื่อ!D27=\"\",\"\",IF(COUNTIF(DA32:DC32,\"มผ\"),\"มผ\",IF(DC32=\"มผ\",\"มผ\",IF(DS32=\"ปกติ\",SUM(DA32:DB32,IF(DD32=\"\",DC32,DD32)),\"-\"))))","v":""},null,"",null,null,{"$f":"IF(ใส่ชื่อ!D27=\"\",\"\",IF(DE32=\"\",\"\",IF(COUNTIF(DA32:DH32,\"มผ\"),\"มผ\",IF(COUNTIF(DA32:DH32,\"-\"),\"-\",IF(DS32=\"ปกติ\",SUM(DE32,IF(DH32=\"\",DG32,DH32)))))))","v":""},null,null,null,{"$f":"ประเมินผลการเรียนเทอม1!DN32","v":""},{"$f":"IF(ใส่ชื่อ!A27=\"\",\"\",IF(DJ32=\"-\",\"-\",IF(DJ32=0,\"\",IF(DS32=\"ปกติ\",MAXA(DJ32/2,DL32/2)))))","v":""},null,{"$f":"IF(เวลาเรียน!M34=\"\",\"\",IF(เวลาเรียน!M34=\"ย้าย\",\"-\",IF(เวลาเรียน!M34=\"จำหน่าย\",\"-\",IF(เวลาเรียน!M34=\"ขาดเรียนนาน\",\"-\",IF(DN32=\"\",\"\",IF(DO32=\"\",\"\",SUM(DN32+DO32)))))))","v":""},{"$f":"IF(เวลาเรียน!M34=\"\",\"\",IF(เวลาเรียน!M34=\"ย้าย\",\"-\",IF(เวลาเรียน!M34=\"จำหน่าย\",\"-\",IF(เวลาเรียน!M34=\"ขาดเรียนนาน\",\"-\",IF(เวลาเรียน!L34<80,\"มส\",IF(COUNTIF(DQ32,\"-\"),\"-\",IF(COUNTIF(DQ32,\"\"),\"\",VLOOKUP(DQ32,$DU$19:$DW$26,3))))))))","v":""},{"$f":"IF(เวลาเรียน!M34=\"\",\"\",เวลาเรียน!M34)","v":""}]
[27,2523,{"$f":"CONCATENATE(ใส่ชื่อ!C28)","v":""},{"$f":"CONCATENATE(ใส่ชื่อ!D28&ใส่ชื่อ!E28&\"  \"&ใส่ชื่อ!F28)","v":"  "},{"$f":"ใส่ชื่อ!A28","v":0},null,null,null,null,null,null,null,null,null,null,null,null,null,null,null,null,null,null,null,null,{"$f":"IF(ใส่ชื่อ!D28=\"\",\"\",IF(DS33=\"ปกติ\",SUM(F33,G33,H33,I33,J33,K33,L33,M33,N33,O33,P33,Q33,R33,S33,T33,U33,V33,W33,X33,Y33),\"-\"))","v":""},null,"",null,null,null,null,null,null,null,null,null,null,null,null,null,null,null,null,null,null,null,null,{"$f":"IF(ใส่ชื่อ!D28=\"\",\"\",IF(COUNTIF(AC33:AS33,0),\"มผ\",IF(DS33=\"ปกติ\",SUM(AC33,AD33,AE33,AF33,AG33,AH33,AI33,AJ33,AK33,AL33,AM33,AN33,AO33,AP33,AQ33,AR33,AS33),\"-\")))","v":""},null,"",null,null,null,null,null,null,null,null,null,null,null,null,null,null,null,{"$f":"IF(ใส่ชื่อ!D28=\"\",\"\",IF(COUNTIF(AZ33:BN33,0),\"มผ\",IF(DS33=\"ปกติ\",SUM(AZ33,BA33,BB33,BC33,BD33,BE33,BF33,BG33,BH33,BI33,BJ33,BK33,BL33,BM33,BN33),\"-\")))","v":""},null,"",null,null,null,null,null,null,null,null,null,null,null,null,null,null,null,{"$f":"IF(ใส่ชื่อ!D28=\"\",\"\",IF(DS33=\"ปกติ\",SUM(BR33,BS33,BT33,BU33,BV33,BW33,BX33,BY33,BZ33,CA33,CB33,CC33,CD33,CE33,CF33),\"-\"))","v":""},null,"",null,null,null,null,null,{"$f":"IF(ใส่ชื่อ!D28=\"\",\"\",IF(CJ33=\"\",\"\",(IF(CK33=\"\",\"\",(IF(CL33=\"\",\"\",(IF(CM33=\"\",\"\",(IF(CN33=\"\",\"\",(SUM(CJ33:CN33))))))))))))","v":""},{"$f":"IF(CO33=\"\",\"\",IF(CO33=\"-\",\"-\",IF(CO33=\"ร\",\"ร\",IF(CO33=0,0,IF($CO$5=0,\"\",ROUND(CO33/5,0))))))","v":""},{"$f":"IF(CP33=\"\",\"\",(IF(CP33>=2.5,\"ดย\",(IF(CP33>=1.5,\"ด\",(IF(CP33>=0.6,\"ผ\",(IF(CP33<=0.4,\"มผ\")))))))))","v":""},null,null,null,null,null,null,null,null,"","","","",null,{"$f":"IF(ใส่ชื่อ!D28=\"\",\"\",IF(COUNTIF(DA33:DC33,\"มผ\"),\"มผ\",IF(DC33=\"มผ\",\"มผ\",IF(DS33=\"ปกติ\",SUM(DA33:DB33,IF(DD33=\"\",DC33,DD33)),\"-\"))))","v":""},null,"",null,null,{"$f":"IF(ใส่ชื่อ!D28=\"\",\"\",IF(DE33=\"\",\"\",IF(COUNTIF(DA33:DH33,\"มผ\"),\"มผ\",IF(COUNTIF(DA33:DH33,\"-\"),\"-\",IF(DS33=\"ปกติ\",SUM(DE33,IF(DH33=\"\",DG33,DH33)))))))","v":""},null,null,null,{"$f":"ประเมินผลการเรียนเทอม1!DN33","v":""},{"$f":"IF(ใส่ชื่อ!A28=\"\",\"\",IF(DJ33=\"-\",\"-\",IF(DJ33=0,\"\",IF(DS33=\"ปกติ\",MAXA(DJ33/2,DL33/2)))))","v":""},null,{"$f":"IF(เวลาเรียน!M35=\"\",\"\",IF(เวลาเรียน!M35=\"ย้าย\",\"-\",IF(เวลาเรียน!M35=\"จำหน่าย\",\"-\",IF(เวลาเรียน!M35=\"ขาดเรียนนาน\",\"-\",IF(DN33=\"\",\"\",IF(DO33=\"\",\"\",SUM(DN33+DO33)))))))","v":""},{"$f":"IF(เวลาเรียน!M35=\"\",\"\",IF(เวลาเรียน!M35=\"ย้าย\",\"-\",IF(เวลาเรียน!M35=\"จำหน่าย\",\"-\",IF(เวลาเรียน!M35=\"ขาดเรียนนาน\",\"-\",IF(เวลาเรียน!L35<80,\"มส\",IF(COUNTIF(DQ33,\"-\"),\"-\",IF(COUNTIF(DQ33,\"\"),\"\",VLOOKUP(DQ33,$DU$19:$DW$26,3))))))))","v":""},{"$f":"IF(เวลาเรียน!M35=\"\",\"\",เวลาเรียน!M35)","v":""}]
[28,2524,{"$f":"CONCATENATE(ใส่ชื่อ!C29)","v":""},{"$f":"CONCATENATE(ใส่ชื่อ!D29&ใส่ชื่อ!E29&\"  \"&ใส่ชื่อ!F29)","v":"  "},{"$f":"ใส่ชื่อ!A29","v":0},null,null,null,null,null,null,null,null,null,null,null,null,null,null,null,null,null,null,null,null,{"$f":"IF(ใส่ชื่อ!D29=\"\",\"\",IF(DS34=\"ปกติ\",SUM(F34,G34,H34,I34,J34,K34,L34,M34,N34,O34,P34,Q34,R34,S34,T34,U34,V34,W34,X34,Y34),\"-\"))","v":""},null,"",null,null,null,null,null,null,null,null,null,null,null,null,null,null,null,null,null,null,null,null,{"$f":"IF(ใส่ชื่อ!D29=\"\",\"\",IF(COUNTIF(AC34:AS34,0),\"มผ\",IF(DS34=\"ปกติ\",SUM(AC34,AD34,AE34,AF34,AG34,AH34,AI34,AJ34,AK34,AL34,AM34,AN34,AO34,AP34,AQ34,AR34,AS34),\"-\")))","v":""},null,"",null,null,null,null,null,null,null,null,null,null,null,null,null,null,null,{"$f":"IF(ใส่ชื่อ!D29=\"\",\"\",IF(COUNTIF(AZ34:BN34,0),\"มผ\",IF(DS34=\"ปกติ\",SUM(AZ34,BA34,BB34,BC34,BD34,BE34,BF34,BG34,BH34,BI34,BJ34,BK34,BL34,BM34,BN34),\"-\")))","v":""},null,"",null,null,null,null,null,null,null,null,null,null,null,null,null,null,null,{"$f":"IF(ใส่ชื่อ!D29=\"\",\"\",IF(DS34=\"ปกติ\",SUM(BR34,BS34,BT34,BU34,BV34,BW34,BX34,BY34,BZ34,CA34,CB34,CC34,CD34,CE34,CF34),\"-\"))","v":""},null,"",null,null,null,null,null,{"$f":"IF(ใส่ชื่อ!D29=\"\",\"\",IF(CJ34=\"\",\"\",(IF(CK34=\"\",\"\",(IF(CL34=\"\",\"\",(IF(CM34=\"\",\"\",(IF(CN34=\"\",\"\",(SUM(CJ34:CN34))))))))))))","v":""},"","",null,null,null,null,null,null,null,null,"","","","",null,{"$f":"IF(ใส่ชื่อ!D29=\"\",\"\",IF(COUNTIF(DA34:DC34,\"มผ\"),\"มผ\",IF(DC34=\"มผ\",\"มผ\",IF(DS34=\"ปกติ\",SUM(DA34:DB34,IF(DD34=\"\",DC34,DD34)),\"-\"))))","v":""},null,"",null,null,{"$f":"IF(ใส่ชื่อ!D29=\"\",\"\",IF(DE34=\"\",\"\",IF(COUNTIF(DA34:DH34,\"มผ\"),\"มผ\",IF(COUNTIF(DA34:DH34,\"-\"),\"-\",IF(DS34=\"ปกติ\",SUM(DE34,IF(DH34=\"\",DG34,DH34)))))))","v":""},null,null,null,{"$f":"ประเมินผลการเรียนเทอม1!DN34","v":""},{"$f":"IF(ใส่ชื่อ!A29=\"\",\"\",IF(DJ34=\"-\",\"-\",IF(DJ34=0,\"\",IF(DS34=\"ปกติ\",MAXA(DJ34/2,DL34/2)))))","v":""},null,{"$f":"IF(เวลาเรียน!M36=\"\",\"\",IF(เวลาเรียน!M36=\"ย้าย\",\"-\",IF(เวลาเรียน!M36=\"จำหน่าย\",\"-\",IF(เวลาเรียน!M36=\"ขาดเรียนนาน\",\"-\",IF(DN34=\"\",\"\",IF(DO34=\"\",\"\",SUM(DN34+DO34)))))))","v":""},{"$f":"IF(เวลาเรียน!M36=\"\",\"\",IF(เวลาเรียน!M36=\"ย้าย\",\"-\",IF(เวลาเรียน!M36=\"จำหน่าย\",\"-\",IF(เวลาเรียน!M36=\"ขาดเรียนนาน\",\"-\",IF(เวลาเรียน!L36<80,\"มส\",IF(COUNTIF(DQ34,\"-\"),\"-\",IF(COUNTIF(DQ34,\"\"),\"\",VLOOKUP(DQ34,$DU$19:$DW$26,3))))))))","v":""},{"$f":"IF(เวลาเรียน!M36=\"\",\"\",เวลาเรียน!M36)","v":""}]
[29,2525,{"$f":"CONCATENATE(ใส่ชื่อ!C30)","v":""},{"$f":"CONCATENATE(ใส่ชื่อ!D30&ใส่ชื่อ!E30&\"  \"&ใส่ชื่อ!F30)","v":"  "},{"$f":"ใส่ชื่อ!A30","v":0},null,null,null,null,null,null,null,null,null,null,null,null,null,null,null,null,null,null,null,null,{"$f":"IF(ใส่ชื่อ!D30=\"\",\"\",IF(DS35=\"ปกติ\",SUM(F35,G35,H35,I35,J35,K35,L35,M35,N35,O35,P35,Q35,R35,S35,T35,U35,V35,W35,X35,Y35),\"-\"))","v":""},null,"",null,null,null,null,null,null,null,null,null,null,null,null,null,null,null,null,null,null,null,null,{"$f":"IF(ใส่ชื่อ!D30=\"\",\"\",IF(COUNTIF(AC35:AS35,0),\"มผ\",IF(DS35=\"ปกติ\",SUM(AC35,AD35,AE35,AF35,AG35,AH35,AI35,AJ35,AK35,AL35,AM35,AN35,AO35,AP35,AQ35,AR35,AS35),\"-\")))","v":""},null,"",null,null,null,null,null,null,null,null,null,null,null,null,null,null,null,{"$f":"IF(ใส่ชื่อ!D30=\"\",\"\",IF(COUNTIF(AZ35:BN35,0),\"มผ\",IF(DS35=\"ปกติ\",SUM(AZ35,BA35,BB35,BC35,BD35,BE35,BF35,BG35,BH35,BI35,BJ35,BK35,BL35,BM35,BN35),\"-\")))","v":""},null,"",null,null,null,null,null,null,null,null,null,null,null,null,null,null,null,{"$f":"IF(ใส่ชื่อ!D30=\"\",\"\",IF(DS35=\"ปกติ\",SUM(BR35,BS35,BT35,BU35,BV35,BW35,BX35,BY35,BZ35,CA35,CB35,CC35,CD35,CE35,CF35),\"-\"))","v":""},null,"",null,null,null,null,null,{"$f":"IF(ใส่ชื่อ!D30=\"\",\"\",IF(CJ35=\"\",\"\",(IF(CK35=\"\",\"\",(IF(CL35=\"\",\"\",(IF(CM35=\"\",\"\",(IF(CN35=\"\",\"\",(SUM(CJ35:CN35))))))))))))","v":""},"","",null,null,null,null,null,null,null,null,"","","","",null,{"$f":"IF(ใส่ชื่อ!D30=\"\",\"\",IF(COUNTIF(DA35:DC35,\"มผ\"),\"มผ\",IF(DC35=\"มผ\",\"มผ\",IF(DS35=\"ปกติ\",SUM(DA35:DB35,IF(DD35=\"\",DC35,DD35)),\"-\"))))","v":""},null,"",null,null,{"$f":"IF(ใส่ชื่อ!D30=\"\",\"\",IF(DE35=\"\",\"\",IF(COUNTIF(DA35:DH35,\"มผ\"),\"มผ\",IF(COUNTIF(DA35:DH35,\"-\"),\"-\",IF(DS35=\"ปกติ\",SUM(DE35,IF(DH35=\"\",DG35,DH35)))))))","v":""},null,null,null,{"$f":"ประเมินผลการเรียนเทอม1!DN35","v":""},{"$f":"IF(ใส่ชื่อ!A30=\"\",\"\",IF(DJ35=\"-\",\"-\",IF(DJ35=0,\"\",IF(DS35=\"ปกติ\",MAXA(DJ35/2,DL35/2)))))","v":""},null,{"$f":"IF(เวลาเรียน!M37=\"\",\"\",IF(เวลาเรียน!M37=\"ย้าย\",\"-\",IF(เวลาเรียน!M37=\"จำหน่าย\",\"-\",IF(เวลาเรียน!M37=\"ขาดเรียนนาน\",\"-\",IF(DN35=\"\",\"\",IF(DO35=\"\",\"\",SUM(DN35+DO35)))))))","v":""},{"$f":"IF(เวลาเรียน!M37=\"\",\"\",IF(เวลาเรียน!M37=\"ย้าย\",\"-\",IF(เวลาเรียน!M37=\"จำหน่าย\",\"-\",IF(เวลาเรียน!M37=\"ขาดเรียนนาน\",\"-\",IF(เวลาเรียน!L37<80,\"มส\",IF(COUNTIF(DQ35,\"-\"),\"-\",IF(COUNTIF(DQ35,\"\"),\"\",VLOOKUP(DQ35,$DU$19:$DW$26,3))))))))","v":""},{"$f":"IF(เวลาเรียน!M37=\"\",\"\",เวลาเรียน!M37)","v":""}]
[30,2526,{"$f":"CONCATENATE(ใส่ชื่อ!C31)","v":""},{"$f":"CONCATENATE(ใส่ชื่อ!D31&ใส่ชื่อ!E31&\"  \"&ใส่ชื่อ!F31)","v":"  "},{"$f":"ใส่ชื่อ!A31","v":0},null,null,null,null,null,null,null,null,null,null,null,null,null,null,null,null,null,null,null,null,{"$f":"IF(ใส่ชื่อ!D31=\"\",\"\",IF(DS36=\"ปกติ\",SUM(F36,G36,H36,I36,J36,K36,L36,M36,N36,O36,P36,Q36,R36,S36,T36,U36,V36,W36,X36,Y36),\"-\"))","v":""},null,"",null,null,null,null,null,null,null,null,null,null,null,null,null,null,null,null,null,null,null,null,{"$f":"IF(ใส่ชื่อ!D31=\"\",\"\",IF(COUNTIF(AC36:AS36,0),\"มผ\",IF(DS36=\"ปกติ\",SUM(AC36,AD36,AE36,AF36,AG36,AH36,AI36,AJ36,AK36,AL36,AM36,AN36,AO36,AP36,AQ36,AR36,AS36),\"-\")))","v":""},null,"",null,null,null,null,null,null,null,null,null,null,null,null,null,null,null,{"$f":"IF(ใส่ชื่อ!D31=\"\",\"\",IF(COUNTIF(AZ36:BN36,0),\"มผ\",IF(DS36=\"ปกติ\",SUM(AZ36,BA36,BB36,BC36,BD36,BE36,BF36,BG36,BH36,BI36,BJ36,BK36,BL36,BM36,BN36),\"-\")))","v":""},null,"",null,null,null,null,null,null,null,null,null,null,null,null,null,null,null,{"$f":"IF(ใส่ชื่อ!D31=\"\",\"\",IF(DS36=\"ปกติ\",SUM(BR36,BS36,BT36,BU36,BV36,BW36,BX36,BY36,BZ36,CA36,CB36,CC36,CD36,CE36,CF36),\"-\"))","v":""},null,"",null,null,null,null,null,{"$f":"IF(ใส่ชื่อ!D31=\"\",\"\",IF(CJ36=\"\",\"\",(IF(CK36=\"\",\"\",(IF(CL36=\"\",\"\",(IF(CM36=\"\",\"\",(IF(CN36=\"\",\"\",(SUM(CJ36:CN36))))))))))))","v":""},"","",null,null,null,null,null,null,null,null,"","","","",null,{"$f":"IF(ใส่ชื่อ!D31=\"\",\"\",IF(COUNTIF(DA36:DC36,\"มผ\"),\"มผ\",IF(DC36=\"มผ\",\"มผ\",IF(DS36=\"ปกติ\",SUM(DA36:DB36,IF(DD36=\"\",DC36,DD36)),\"-\"))))","v":""},null,"",null,null,{"$f":"IF(ใส่ชื่อ!D31=\"\",\"\",IF(DE36=\"\",\"\",IF(COUNTIF(DA36:DH36,\"มผ\"),\"มผ\",IF(COUNTIF(DA36:DH36,\"-\"),\"-\",IF(DS36=\"ปกติ\",SUM(DE36,IF(DH36=\"\",DG36,DH36)))))))","v":""},null,null,null,{"$f":"ประเมินผลการเรียนเทอม1!DN36","v":""},{"$f":"IF(ใส่ชื่อ!A31=\"\",\"\",IF(DJ36=\"-\",\"-\",IF(DJ36=0,\"\",IF(DS36=\"ปกติ\",MAXA(DJ36/2,DL36/2)))))","v":""},null,{"$f":"IF(เวลาเรียน!M38=\"\",\"\",IF(เวลาเรียน!M38=\"ย้าย\",\"-\",IF(เวลาเรียน!M38=\"จำหน่าย\",\"-\",IF(เวลาเรียน!M38=\"ขาดเรียนนาน\",\"-\",IF(DN36=\"\",\"\",IF(DO36=\"\",\"\",SUM(DN36+DO36)))))))","v":""},{"$f":"IF(เวลาเรียน!M38=\"\",\"\",IF(เวลาเรียน!M38=\"ย้าย\",\"-\",IF(เวลาเรียน!M38=\"จำหน่าย\",\"-\",IF(เวลาเรียน!M38=\"ขาดเรียนนาน\",\"-\",IF(เวลาเรียน!L38<80,\"มส\",IF(COUNTIF(DQ36,\"-\"),\"-\",IF(COUNTIF(DQ36,\"\"),\"\",VLOOKUP(DQ36,$DU$19:$DW$26,3))))))))","v":""},{"$f":"IF(เวลาเรียน!M38=\"\",\"\",เวลาเรียน!M38)","v":""}]
[31,2528,{"$f":"CONCATENATE(ใส่ชื่อ!C32)","v":""},{"$f":"CONCATENATE(ใส่ชื่อ!D32&ใส่ชื่อ!E32&\"  \"&ใส่ชื่อ!F32)","v":"  "},{"$f":"ใส่ชื่อ!A32","v":0},null,null,null,null,null,null,null,null,null,null,null,null,null,null,null,null,null,null,null,null,{"$f":"IF(ใส่ชื่อ!D32=\"\",\"\",IF(DS37=\"ปกติ\",SUM(F37,G37,H37,I37,J37,K37,L37,M37,N37,O37,P37,Q37,R37,S37,T37,U37,V37,W37,X37,Y37),\"-\"))","v":""},null,"",null,null,null,null,null,null,null,null,null,null,null,null,null,null,null,null,null,null,null,null,{"$f":"IF(ใส่ชื่อ!D32=\"\",\"\",IF(COUNTIF(AC37:AS37,0),\"มผ\",IF(DS37=\"ปกติ\",SUM(AC37,AD37,AE37,AF37,AG37,AH37,AI37,AJ37,AK37,AL37,AM37,AN37,AO37,AP37,AQ37,AR37,AS37),\"-\")))","v":""},null,"",null,null,null,null,null,null,null,null,null,null,null,null,null,null,null,{"$f":"IF(ใส่ชื่อ!D32=\"\",\"\",IF(COUNTIF(AZ37:BN37,0),\"มผ\",IF(DS37=\"ปกติ\",SUM(AZ37,BA37,BB37,BC37,BD37,BE37,BF37,BG37,BH37,BI37,BJ37,BK37,BL37,BM37,BN37),\"-\")))","v":""},null,"",null,null,null,null,null,null,null,null,null,null,null,null,null,null,null,{"$f":"IF(ใส่ชื่อ!D32=\"\",\"\",IF(DS37=\"ปกติ\",SUM(BR37,BS37,BT37,BU37,BV37,BW37,BX37,BY37,BZ37,CA37,CB37,CC37,CD37,CE37,CF37),\"-\"))","v":""},null,"",null,null,null,null,null,{"$f":"IF(ใส่ชื่อ!D32=\"\",\"\",IF(CJ37=\"\",\"\",(IF(CK37=\"\",\"\",(IF(CL37=\"\",\"\",(IF(CM37=\"\",\"\",(IF(CN37=\"\",\"\",(SUM(CJ37:CN37))))))))))))","v":""},"","",null,null,null,null,null,null,null,null,"","","","",null,{"$f":"IF(ใส่ชื่อ!D32=\"\",\"\",IF(COUNTIF(DA37:DC37,\"มผ\"),\"มผ\",IF(DC37=\"มผ\",\"มผ\",IF(DS37=\"ปกติ\",SUM(DA37:DB37,IF(DD37=\"\",DC37,DD37)),\"-\"))))","v":""},null,"",null,null,{"$f":"IF(ใส่ชื่อ!D32=\"\",\"\",IF(DE37=\"\",\"\",IF(COUNTIF(DA37:DH37,\"มผ\"),\"มผ\",IF(COUNTIF(DA37:DH37,\"-\"),\"-\",IF(DS37=\"ปกติ\",SUM(DE37,IF(DH37=\"\",DG37,DH37)))))))","v":""},null,null,null,{"$f":"ประเมินผลการเรียนเทอม1!DN37","v":""},{"$f":"IF(ใส่ชื่อ!A32=\"\",\"\",IF(DJ37=\"-\",\"-\",IF(DJ37=0,\"\",IF(DS37=\"ปกติ\",MAXA(DJ37/2,DL37/2)))))","v":""},null,{"$f":"IF(เวลาเรียน!M39=\"\",\"\",IF(เวลาเรียน!M39=\"ย้าย\",\"-\",IF(เวลาเรียน!M39=\"จำหน่าย\",\"-\",IF(เวลาเรียน!M39=\"ขาดเรียนนาน\",\"-\",IF(DN37=\"\",\"\",IF(DO37=\"\",\"\",SUM(DN37+DO37)))))))","v":""},{"$f":"IF(เวลาเรียน!M39=\"\",\"\",IF(เวลาเรียน!M39=\"ย้าย\",\"-\",IF(เวลาเรียน!M39=\"จำหน่าย\",\"-\",IF(เวลาเรียน!M39=\"ขาดเรียนนาน\",\"-\",IF(เวลาเรียน!L39<80,\"มส\",IF(COUNTIF(DQ37,\"-\"),\"-\",IF(COUNTIF(DQ37,\"\"),\"\",VLOOKUP(DQ37,$DU$19:$DW$26,3))))))))","v":""},{"$f":"IF(เวลาเรียน!M39=\"\",\"\",เวลาเรียน!M39)","v":""}]
[32,2529,{"$f":"CONCATENATE(ใส่ชื่อ!C33)","v":""},{"$f":"CONCATENATE(ใส่ชื่อ!D33&ใส่ชื่อ!E33&\"  \"&ใส่ชื่อ!F33)","v":"  "},{"$f":"ใส่ชื่อ!A33","v":0},null,null,null,null,null,null,null,null,null,null,null,null,null,null,null,null,null,null,null,null,{"$f":"IF(ใส่ชื่อ!D33=\"\",\"\",IF(DS38=\"ปกติ\",SUM(F38,G38,H38,I38,J38,K38,L38,M38,N38,O38,P38,Q38,R38,S38,T38,U38,V38,W38,X38,Y38),\"-\"))","v":""},null,"",null,null,null,null,null,null,null,null,null,null,null,null,null,null,null,null,null,null,null,null,{"$f":"IF(ใส่ชื่อ!D33=\"\",\"\",IF(COUNTIF(AC38:AS38,0),\"มผ\",IF(DS38=\"ปกติ\",SUM(AC38,AD38,AE38,AF38,AG38,AH38,AI38,AJ38,AK38,AL38,AM38,AN38,AO38,AP38,AQ38,AR38,AS38),\"-\")))","v":""},null,"",null,null,null,null,null,null,null,null,null,null,null,null,null,null,null,{"$f":"IF(ใส่ชื่อ!D33=\"\",\"\",IF(COUNTIF(AZ38:BN38,0),\"มผ\",IF(DS38=\"ปกติ\",SUM(AZ38,BA38,BB38,BC38,BD38,BE38,BF38,BG38,BH38,BI38,BJ38,BK38,BL38,BM38,BN38),\"-\")))","v":""},null,"",null,null,null,null,null,null,null,null,null,null,null,null,null,null,null,{"$f":"IF(ใส่ชื่อ!D33=\"\",\"\",IF(DS38=\"ปกติ\",SUM(BR38,BS38,BT38,BU38,BV38,BW38,BX38,BY38,BZ38,CA38,CB38,CC38,CD38,CE38,CF38),\"-\"))","v":""},null,"",null,null,null,null,null,{"$f":"IF(ใส่ชื่อ!D33=\"\",\"\",IF(CJ38=\"\",\"\",(IF(CK38=\"\",\"\",(IF(CL38=\"\",\"\",(IF(CM38=\"\",\"\",(IF(CN38=\"\",\"\",(SUM(CJ38:CN38))))))))))))","v":""},"","",null,null,null,null,null,null,null,null,"","","","",null,{"$f":"IF(ใส่ชื่อ!D33=\"\",\"\",IF(COUNTIF(DA38:DC38,\"มผ\"),\"มผ\",IF(DC38=\"มผ\",\"มผ\",IF(DS38=\"ปกติ\",SUM(DA38:DB38,IF(DD38=\"\",DC38,DD38)),\"-\"))))","v":""},null,"",null,null,{"$f":"IF(ใส่ชื่อ!D33=\"\",\"\",IF(DE38=\"\",\"\",IF(COUNTIF(DA38:DH38,\"มผ\"),\"มผ\",IF(COUNTIF(DA38:DH38,\"-\"),\"-\",IF(DS38=\"ปกติ\",SUM(DE38,IF(DH38=\"\",DG38,DH38)))))))","v":""},null,null,null,{"$f":"ประเมินผลการเรียนเทอม1!DN38","v":""},{"$f":"IF(ใส่ชื่อ!A33=\"\",\"\",IF(DJ38=\"-\",\"-\",IF(DJ38=0,\"\",IF(DS38=\"ปกติ\",MAXA(DJ38/2,DL38/2)))))","v":""},null,{"$f":"IF(เวลาเรียน!M40=\"\",\"\",IF(เวลาเรียน!M40=\"ย้าย\",\"-\",IF(เวลาเรียน!M40=\"จำหน่าย\",\"-\",IF(เวลาเรียน!M40=\"ขาดเรียนนาน\",\"-\",IF(DN38=\"\",\"\",IF(DO38=\"\",\"\",SUM(DN38+DO38)))))))","v":""},{"$f":"IF(เวลาเรียน!M40=\"\",\"\",IF(เวลาเรียน!M40=\"ย้าย\",\"-\",IF(เวลาเรียน!M40=\"จำหน่าย\",\"-\",IF(เวลาเรียน!M40=\"ขาดเรียนนาน\",\"-\",IF(เวลาเรียน!L40<80,\"มส\",IF(COUNTIF(DQ38,\"-\"),\"-\",IF(COUNTIF(DQ38,\"\"),\"\",VLOOKUP(DQ38,$DU$19:$DW$26,3))))))))","v":""},{"$f":"IF(เวลาเรียน!M40=\"\",\"\",เวลาเรียน!M40)","v":""}]
[33,0,{"$f":"CONCATENATE(ใส่ชื่อ!C34)","v":""},{"$f":"CONCATENATE(ใส่ชื่อ!D34&ใส่ชื่อ!E34&\"  \"&ใส่ชื่อ!F34)","v":"  "},{"$f":"ใส่ชื่อ!A34","v":0},null,null,null,null,null,null,null,null,null,null,null,null,null,null,null,null,null,null,null,null,{"$f":"IF(ใส่ชื่อ!D34=\"\",\"\",IF(DS39=\"ปกติ\",SUM(F39,G39,H39,I39,J39,K39,L39,M39,N39,O39,P39,Q39,R39,S39,T39,U39,V39,W39,X39,Y39),\"-\"))","v":""},null,"",null,null,null,null,null,null,null,null,null,null,null,null,null,null,null,null,null,null,null,null,{"$f":"IF(ใส่ชื่อ!D34=\"\",\"\",IF(COUNTIF(AC39:AS39,0),\"มผ\",IF(DS39=\"ปกติ\",SUM(AC39,AD39,AE39,AF39,AG39,AH39,AI39,AJ39,AK39,AL39,AM39,AN39,AO39,AP39,AQ39,AR39,AS39),\"-\")))","v":""},null,"",null,null,null,null,null,null,null,null,null,null,null,null,null,null,null,{"$f":"IF(ใส่ชื่อ!D34=\"\",\"\",IF(COUNTIF(AZ39:BN39,0),\"มผ\",IF(DS39=\"ปกติ\",SUM(AZ39,BA39,BB39,BC39,BD39,BE39,BF39,BG39,BH39,BI39,BJ39,BK39,BL39,BM39,BN39),\"-\")))","v":""},null,"",null,null,null,null,null,null,null,null,null,null,null,null,null,null,null,{"$f":"IF(ใส่ชื่อ!D34=\"\",\"\",IF(DS39=\"ปกติ\",SUM(BR39,BS39,BT39,BU39,BV39,BW39,BX39,BY39,BZ39,CA39,CB39,CC39,CD39,CE39,CF39),\"-\"))","v":""},null,"",null,null,null,null,null,{"$f":"IF(ใส่ชื่อ!D34=\"\",\"\",IF(CJ39=\"\",\"\",(IF(CK39=\"\",\"\",(IF(CL39=\"\",\"\",(IF(CM39=\"\",\"\",(IF(CN39=\"\",\"\",(SUM(CJ39:CN39))))))))))))","v":""},"","",null,null,null,null,null,null,null,null,"","","","",null,{"$f":"IF(ใส่ชื่อ!D34=\"\",\"\",IF(COUNTIF(DA39:DC39,\"มผ\"),\"มผ\",IF(DC39=\"มผ\",\"มผ\",IF(DS39=\"ปกติ\",SUM(DA39:DB39,IF(DD39=\"\",DC39,DD39)),\"-\"))))","v":""},null,"",null,null,{"$f":"IF(ใส่ชื่อ!D34=\"\",\"\",IF(DE39=\"\",\"\",IF(COUNTIF(DA39:DH39,\"มผ\"),\"มผ\",IF(COUNTIF(DA39:DH39,\"-\"),\"-\",IF(DS39=\"ปกติ\",SUM(DE39,IF(DH39=\"\",DG39,DH39)))))))","v":""},null,null,null,{"$f":"ประเมินผลการเรียนเทอม1!DN39","v":""},{"$f":"IF(ใส่ชื่อ!A34=\"\",\"\",IF(DJ39=\"-\",\"-\",IF(DJ39=0,\"\",IF(DS39=\"ปกติ\",MAXA(DJ39/2,DL39/2)))))","v":""},null,{"$f":"IF(เวลาเรียน!M41=\"\",\"\",IF(เวลาเรียน!M41=\"ย้าย\",\"-\",IF(เวลาเรียน!M41=\"จำหน่าย\",\"-\",IF(เวลาเรียน!M41=\"ขาดเรียนนาน\",\"-\",IF(DN39=\"\",\"\",IF(DO39=\"\",\"\",SUM(DN39+DO39)))))))","v":""},{"$f":"IF(เวลาเรียน!M41=\"\",\"\",IF(เวลาเรียน!M41=\"ย้าย\",\"-\",IF(เวลาเรียน!M41=\"จำหน่าย\",\"-\",IF(เวลาเรียน!M41=\"ขาดเรียนนาน\",\"-\",IF(เวลาเรียน!L41<80,\"มส\",IF(COUNTIF(DQ39,\"-\"),\"-\",IF(COUNTIF(DQ39,\"\"),\"\",VLOOKUP(DQ39,$DU$19:$DW$26,3))))))))","v":""},{"$f":"IF(เวลาเรียน!M41=\"\",\"\",เวลาเรียน!M41)","v":""}]
[34,0,{"$f":"CONCATENATE(ใส่ชื่อ!C35)","v":""},{"$f":"CONCATENATE(ใส่ชื่อ!D35&ใส่ชื่อ!E35&\"  \"&ใส่ชื่อ!F35)","v":"  "},{"$f":"ใส่ชื่อ!A35","v":0},null,null,null,null,null,null,null,null,null,null,null,null,null,null,null,null,null,null,null,null,{"$f":"IF(ใส่ชื่อ!D35=\"\",\"\",IF(DS40=\"ปกติ\",SUM(F40,G40,H40,I40,J40,K40,L40,M40,N40,O40,P40,Q40,R40,S40,T40,U40,V40,W40,X40,Y40),\"-\"))","v":""},null,"",null,null,null,null,null,null,null,null,null,null,null,null,null,null,null,null,null,null,null,null,{"$f":"IF(ใส่ชื่อ!D35=\"\",\"\",IF(COUNTIF(AC40:AS40,0),\"มผ\",IF(DS40=\"ปกติ\",SUM(AC40,AD40,AE40,AF40,AG40,AH40,AI40,AJ40,AK40,AL40,AM40,AN40,AO40,AP40,AQ40,AR40,AS40),\"-\")))","v":""},null,"",null,null,null,null,null,null,null,null,null,null,null,null,null,null,null,{"$f":"IF(ใส่ชื่อ!D35=\"\",\"\",IF(COUNTIF(AZ40:BN40,0),\"มผ\",IF(DS40=\"ปกติ\",SUM(AZ40,BA40,BB40,BC40,BD40,BE40,BF40,BG40,BH40,BI40,BJ40,BK40,BL40,BM40,BN40),\"-\")))","v":""},null,"",null,null,null,null,null,null,null,null,null,null,null,null,null,null,null,{"$f":"IF(ใส่ชื่อ!D35=\"\",\"\",IF(DS40=\"ปกติ\",SUM(BR40,BS40,BT40,BU40,BV40,BW40,BX40,BY40,BZ40,CA40,CB40,CC40,CD40,CE40,CF40),\"-\"))","v":""},null,"",null,null,null,null,null,{"$f":"IF(ใส่ชื่อ!D35=\"\",\"\",IF(CJ40=\"\",\"\",(IF(CK40=\"\",\"\",(IF(CL40=\"\",\"\",(IF(CM40=\"\",\"\",(IF(CN40=\"\",\"\",(SUM(CJ40:CN40))))))))))))","v":""},"","",null,null,null,null,null,null,null,null,"","","","",null,{"$f":"IF(ใส่ชื่อ!D35=\"\",\"\",IF(COUNTIF(DA40:DC40,\"มผ\"),\"มผ\",IF(DC40=\"มผ\",\"มผ\",IF(DS40=\"ปกติ\",SUM(DA40:DB40,IF(DD40=\"\",DC40,DD40)),\"-\"))))","v":""},null,"",null,null,{"$f":"IF(ใส่ชื่อ!D35=\"\",\"\",IF(DE40=\"\",\"\",IF(COUNTIF(DA40:DH40,\"มผ\"),\"มผ\",IF(COUNTIF(DA40:DH40,\"-\"),\"-\",IF(DS40=\"ปกติ\",SUM(DE40,IF(DH40=\"\",DG40,DH40)))))))","v":""},null,null,null,{"$f":"ประเมินผลการเรียนเทอม1!DN40","v":""},{"$f":"IF(ใส่ชื่อ!A35=\"\",\"\",IF(DJ40=\"-\",\"-\",IF(DJ40=0,\"\",IF(DS40=\"ปกติ\",MAXA(DJ40/2,DL40/2)))))","v":""},null,{"$f":"IF(เวลาเรียน!M42=\"\",\"\",IF(เวลาเรียน!M42=\"ย้าย\",\"-\",IF(เวลาเรียน!M42=\"จำหน่าย\",\"-\",IF(เวลาเรียน!M42=\"ขาดเรียนนาน\",\"-\",IF(DN40=\"\",\"\",IF(DO40=\"\",\"\",SUM(DN40+DO40)))))))","v":""},{"$f":"IF(เวลาเรียน!M42=\"\",\"\",IF(เวลาเรียน!M42=\"ย้าย\",\"-\",IF(เวลาเรียน!M42=\"จำหน่าย\",\"-\",IF(เวลาเรียน!M42=\"ขาดเรียนนาน\",\"-\",IF(เวลาเรียน!L42<80,\"มส\",IF(COUNTIF(DQ40,\"-\"),\"-\",IF(COUNTIF(DQ40,\"\"),\"\",VLOOKUP(DQ40,$DU$19:$DW$26,3))))))))","v":""},{"$f":"IF(เวลาเรียน!M42=\"\",\"\",เวลาเรียน!M42)","v":""}]
[35,0,{"$f":"CONCATENATE(ใส่ชื่อ!C36)","v":""},{"$f":"CONCATENATE(ใส่ชื่อ!D36&ใส่ชื่อ!E36&\"  \"&ใส่ชื่อ!F36)","v":"  "},{"$f":"ใส่ชื่อ!A36","v":0},null,null,null,null,null,null,null,null,null,null,null,null,null,null,null,null,null,null,null,null,{"$f":"IF(ใส่ชื่อ!D36=\"\",\"\",IF(DS41=\"ปกติ\",SUM(F41,G41,H41,I41,J41,K41,L41,M41,N41,O41,P41,Q41,R41,S41,T41,U41,V41,W41,X41,Y41),\"-\"))","v":""},null,"",null,null,null,null,null,null,null,null,null,null,null,null,null,null,null,null,null,null,null,null,{"$f":"IF(ใส่ชื่อ!D36=\"\",\"\",IF(COUNTIF(AC41:AS41,0),\"มผ\",IF(DS41=\"ปกติ\",SUM(AC41,AD41,AE41,AF41,AG41,AH41,AI41,AJ41,AK41,AL41,AM41,AN41,AO41,AP41,AQ41,AR41,AS41),\"-\")))","v":""},null,"",null,null,null,null,null,null,null,null,null,null,null,null,null,null,null,{"$f":"IF(ใส่ชื่อ!D36=\"\",\"\",IF(COUNTIF(AZ41:BN41,0),\"มผ\",IF(DS41=\"ปกติ\",SUM(AZ41,BA41,BB41,BC41,BD41,BE41,BF41,BG41,BH41,BI41,BJ41,BK41,BL41,BM41,BN41),\"-\")))","v":""},null,"",null,null,null,null,null,null,null,null,null,null,null,null,null,null,null,{"$f":"IF(ใส่ชื่อ!D36=\"\",\"\",IF(DS41=\"ปกติ\",SUM(BR41,BS41,BT41,BU41,BV41,BW41,BX41,BY41,BZ41,CA41,CB41,CC41,CD41,CE41,CF41),\"-\"))","v":""},null,"",null,null,null,null,null,{"$f":"IF(ใส่ชื่อ!D36=\"\",\"\",IF(CJ41=\"\",\"\",(IF(CK41=\"\",\"\",(IF(CL41=\"\",\"\",(IF(CM41=\"\",\"\",(IF(CN41=\"\",\"\",(SUM(CJ41:CN41))))))))))))","v":""},"","",null,null,null,null,null,null,null,null,"","","","",null,{"$f":"IF(ใส่ชื่อ!D36=\"\",\"\",IF(COUNTIF(DA41:DC41,\"มผ\"),\"มผ\",IF(DC41=\"มผ\",\"มผ\",IF(DS41=\"ปกติ\",SUM(DA41:DB41,IF(DD41=\"\",DC41,DD41)),\"-\"))))","v":""},null,"",null,null,{"$f":"IF(ใส่ชื่อ!D36=\"\",\"\",IF(DE41=\"\",\"\",IF(COUNTIF(DA41:DH41,\"มผ\"),\"มผ\",IF(COUNTIF(DA41:DH41,\"-\"),\"-\",IF(DS41=\"ปกติ\",SUM(DE41,IF(DH41=\"\",DG41,DH41)))))))","v":""},null,null,null,{"$f":"ประเมินผลการเรียนเทอม1!DN41","v":""},{"$f":"IF(ใส่ชื่อ!A36=\"\",\"\",IF(DJ41=\"-\",\"-\",IF(DJ41=0,\"\",IF(DS41=\"ปกติ\",MAXA(DJ41/2,DL41/2)))))","v":""},null,{"$f":"IF(เวลาเรียน!M43=\"\",\"\",IF(เวลาเรียน!M43=\"ย้าย\",\"-\",IF(เวลาเรียน!M43=\"จำหน่าย\",\"-\",IF(เวลาเรียน!M43=\"ขาดเรียนนาน\",\"-\",IF(DN41=\"\",\"\",IF(DO41=\"\",\"\",SUM(DN41+DO41)))))))","v":""},{"$f":"IF(เวลาเรียน!M43=\"\",\"\",IF(เวลาเรียน!M43=\"ย้าย\",\"-\",IF(เวลาเรียน!M43=\"จำหน่าย\",\"-\",IF(เวลาเรียน!M43=\"ขาดเรียนนาน\",\"-\",IF(เวลาเรียน!L43<80,\"มส\",IF(COUNTIF(DQ41,\"-\"),\"-\",IF(COUNTIF(DQ41,\"\"),\"\",VLOOKUP(DQ41,$DU$19:$DW$26,3))))))))","v":""},{"$f":"IF(เวลาเรียน!M43=\"\",\"\",เวลาเรียน!M43)","v":""}]
[36,0,{"$f":"CONCATENATE(ใส่ชื่อ!C37)","v":""},{"$f":"CONCATENATE(ใส่ชื่อ!D37&ใส่ชื่อ!E37&\"  \"&ใส่ชื่อ!F37)","v":"  "},{"$f":"ใส่ชื่อ!A37","v":0},null,null,null,null,null,null,null,null,null,null,null,null,null,null,null,null,null,null,null,null,{"$f":"IF(ใส่ชื่อ!D37=\"\",\"\",IF(DS42=\"ปกติ\",SUM(F42,G42,H42,I42,J42,K42,L42,M42,N42,O42,P42,Q42,R42,S42,T42,U42,V42,W42,X42,Y42),\"-\"))","v":""},null,"",null,null,null,null,null,null,null,null,null,null,null,null,null,null,null,null,null,null,null,null,{"$f":"IF(ใส่ชื่อ!D37=\"\",\"\",IF(COUNTIF(AC42:AS42,0),\"มผ\",IF(DS42=\"ปกติ\",SUM(AC42,AD42,AE42,AF42,AG42,AH42,AI42,AJ42,AK42,AL42,AM42,AN42,AO42,AP42,AQ42,AR42,AS42),\"-\")))","v":""},null,"",null,null,null,null,null,null,null,null,null,null,null,null,null,null,null,{"$f":"IF(ใส่ชื่อ!D37=\"\",\"\",IF(COUNTIF(AZ42:BN42,0),\"มผ\",IF(DS42=\"ปกติ\",SUM(AZ42,BA42,BB42,BC42,BD42,BE42,BF42,BG42,BH42,BI42,BJ42,BK42,BL42,BM42,BN42),\"-\")))","v":""},null,"",null,null,null,null,null,null,null,null,null,null,null,null,null,null,null,{"$f":"IF(ใส่ชื่อ!D37=\"\",\"\",IF(DS42=\"ปกติ\",SUM(BR42,BS42,BT42,BU42,BV42,BW42,BX42,BY42,BZ42,CA42,CB42,CC42,CD42,CE42,CF42),\"-\"))","v":""},null,"",null,null,null,null,null,{"$f":"IF(ใส่ชื่อ!D37=\"\",\"\",IF(CJ42=\"\",\"\",(IF(CK42=\"\",\"\",(IF(CL42=\"\",\"\",(IF(CM42=\"\",\"\",(IF(CN42=\"\",\"\",(SUM(CJ42:CN42))))))))))))","v":""},"","",null,null,null,null,null,null,null,null,"","","","",null,{"$f":"IF(ใส่ชื่อ!D37=\"\",\"\",IF(COUNTIF(DA42:DC42,\"มผ\"),\"มผ\",IF(DC42=\"มผ\",\"มผ\",IF(DS42=\"ปกติ\",SUM(DA42:DB42,IF(DD42=\"\",DC42,DD42)),\"-\"))))","v":""},null,"",null,null,{"$f":"IF(ใส่ชื่อ!D37=\"\",\"\",IF(DE42=\"\",\"\",IF(COUNTIF(DA42:DH42,\"มผ\"),\"มผ\",IF(COUNTIF(DA42:DH42,\"-\"),\"-\",IF(DS42=\"ปกติ\",SUM(DE42,IF(DH42=\"\",DG42,DH42)))))))","v":""},null,null,null,{"$f":"ประเมินผลการเรียนเทอม1!DN42","v":""},{"$f":"IF(ใส่ชื่อ!A37=\"\",\"\",IF(DJ42=\"-\",\"-\",IF(DJ42=0,\"\",IF(DS42=\"ปกติ\",MAXA(DJ42/2,DL42/2)))))","v":""},null,{"$f":"IF(เวลาเรียน!M44=\"\",\"\",IF(เวลาเรียน!M44=\"ย้าย\",\"-\",IF(เวลาเรียน!M44=\"จำหน่าย\",\"-\",IF(เวลาเรียน!M44=\"ขาดเรียนนาน\",\"-\",IF(DN42=\"\",\"\",IF(DO42=\"\",\"\",SUM(DN42+DO42)))))))","v":""},{"$f":"IF(เวลาเรียน!M44=\"\",\"\",IF(เวลาเรียน!M44=\"ย้าย\",\"-\",IF(เวลาเรียน!M44=\"จำหน่าย\",\"-\",IF(เวลาเรียน!M44=\"ขาดเรียนนาน\",\"-\",IF(เวลาเรียน!L44<80,\"มส\",IF(COUNTIF(DQ42,\"-\"),\"-\",IF(COUNTIF(DQ42,\"\"),\"\",VLOOKUP(DQ42,$DU$19:$DW$26,3))))))))","v":""},{"$f":"IF(เวลาเรียน!M44=\"\",\"\",เวลาเรียน!M44)","v":""}]
[37,0,{"$f":"CONCATENATE(ใส่ชื่อ!C38)","v":""},{"$f":"CONCATENATE(ใส่ชื่อ!D38&ใส่ชื่อ!E38&\"  \"&ใส่ชื่อ!F38)","v":"  "},{"$f":"ใส่ชื่อ!A38","v":0},null,null,null,null,null,null,null,null,null,null,null,null,null,null,null,null,null,null,null,null,{"$f":"IF(ใส่ชื่อ!D38=\"\",\"\",IF(DS43=\"ปกติ\",SUM(F43,G43,H43,I43,J43,K43,L43,M43,N43,O43,P43,Q43,R43,S43,T43,U43,V43,W43,X43,Y43),\"-\"))","v":""},null,"",null,null,null,null,null,null,null,null,null,null,null,null,null,null,null,null,null,null,null,null,{"$f":"IF(ใส่ชื่อ!D38=\"\",\"\",IF(COUNTIF(AC43:AS43,0),\"มผ\",IF(DS43=\"ปกติ\",SUM(AC43,AD43,AE43,AF43,AG43,AH43,AI43,AJ43,AK43,AL43,AM43,AN43,AO43,AP43,AQ43,AR43,AS43),\"-\")))","v":""},null,"",null,null,null,null,null,null,null,null,null,null,null,null,null,null,null,{"$f":"IF(ใส่ชื่อ!D38=\"\",\"\",IF(COUNTIF(AZ43:BN43,0),\"มผ\",IF(DS43=\"ปกติ\",SUM(AZ43,BA43,BB43,BC43,BD43,BE43,BF43,BG43,BH43,BI43,BJ43,BK43,BL43,BM43,BN43),\"-\")))","v":""},null,"",null,null,null,null,null,null,null,null,null,null,null,null,null,null,null,{"$f":"IF(ใส่ชื่อ!D38=\"\",\"\",IF(DS43=\"ปกติ\",SUM(BR43,BS43,BT43,BU43,BV43,BW43,BX43,BY43,BZ43,CA43,CB43,CC43,CD43,CE43,CF43),\"-\"))","v":""},null,"",null,null,null,null,null,{"$f":"IF(ใส่ชื่อ!D38=\"\",\"\",IF(CJ43=\"\",\"\",(IF(CK43=\"\",\"\",(IF(CL43=\"\",\"\",(IF(CM43=\"\",\"\",(IF(CN43=\"\",\"\",(SUM(CJ43:CN43))))))))))))","v":""},"","",null,null,null,null,null,null,null,null,"","","","",null,{"$f":"IF(ใส่ชื่อ!D38=\"\",\"\",IF(COUNTIF(DA43:DC43,\"มผ\"),\"มผ\",IF(DC43=\"มผ\",\"มผ\",IF(DS43=\"ปกติ\",SUM(DA43:DB43,IF(DD43=\"\",DC43,DD43)),\"-\"))))","v":""},null,"",null,null,{"$f":"IF(ใส่ชื่อ!D38=\"\",\"\",IF(DE43=\"\",\"\",IF(COUNTIF(DA43:DH43,\"มผ\"),\"มผ\",IF(COUNTIF(DA43:DH43,\"-\"),\"-\",IF(DS43=\"ปกติ\",SUM(DE43,IF(DH43=\"\",DG43,DH43)))))))","v":""},null,null,null,{"$f":"ประเมินผลการเรียนเทอม1!DN43","v":""},{"$f":"IF(ใส่ชื่อ!A38=\"\",\"\",IF(DJ43=\"-\",\"-\",IF(DJ43=0,\"\",IF(DS43=\"ปกติ\",MAXA(DJ43/2,DL43/2)))))","v":""},null,{"$f":"IF(เวลาเรียน!M45=\"\",\"\",IF(เวลาเรียน!M45=\"ย้าย\",\"-\",IF(เวลาเรียน!M45=\"จำหน่าย\",\"-\",IF(เวลาเรียน!M45=\"ขาดเรียนนาน\",\"-\",IF(DN43=\"\",\"\",IF(DO43=\"\",\"\",SUM(DN43+DO43)))))))","v":""},{"$f":"IF(เวลาเรียน!M45=\"\",\"\",IF(เวลาเรียน!M45=\"ย้าย\",\"-\",IF(เวลาเรียน!M45=\"จำหน่าย\",\"-\",IF(เวลาเรียน!M45=\"ขาดเรียนนาน\",\"-\",IF(เวลาเรียน!L45<80,\"มส\",IF(COUNTIF(DQ43,\"-\"),\"-\",IF(COUNTIF(DQ43,\"\"),\"\",VLOOKUP(DQ43,$DU$19:$DW$26,3))))))))","v":""},{"$f":"IF(เวลาเรียน!M45=\"\",\"\",เวลาเรียน!M45)","v":""}]
[38,0,{"$f":"CONCATENATE(ใส่ชื่อ!C39)","v":""},{"$f":"CONCATENATE(ใส่ชื่อ!D39&ใส่ชื่อ!E39&\"  \"&ใส่ชื่อ!F39)","v":"  "},{"$f":"ใส่ชื่อ!A39","v":0},null,null,null,null,null,null,null,null,null,null,null,null,null,null,null,null,null,null,null,null,{"$f":"IF(ใส่ชื่อ!D39=\"\",\"\",IF(DS44=\"ปกติ\",SUM(F44,G44,H44,I44,J44,K44,L44,M44,N44,O44,P44,Q44,R44,S44,T44,U44,V44,W44,X44,Y44),\"-\"))","v":""},null,"",null,null,null,null,null,null,null,null,null,null,null,null,null,null,null,null,null,null,null,null,{"$f":"IF(ใส่ชื่อ!D39=\"\",\"\",IF(COUNTIF(AC44:AS44,0),\"มผ\",IF(DS44=\"ปกติ\",SUM(AC44,AD44,AE44,AF44,AG44,AH44,AI44,AJ44,AK44,AL44,AM44,AN44,AO44,AP44,AQ44,AR44,AS44),\"-\")))","v":""},null,"",null,null,null,null,null,null,null,null,null,null,null,null,null,null,null,{"$f":"IF(ใส่ชื่อ!D39=\"\",\"\",IF(COUNTIF(AZ44:BN44,0),\"มผ\",IF(DS44=\"ปกติ\",SUM(AZ44,BA44,BB44,BC44,BD44,BE44,BF44,BG44,BH44,BI44,BJ44,BK44,BL44,BM44,BN44),\"-\")))","v":""},null,"",null,null,null,null,null,null,null,null,null,null,null,null,null,null,null,{"$f":"IF(ใส่ชื่อ!D39=\"\",\"\",IF(DS44=\"ปกติ\",SUM(BR44,BS44,BT44,BU44,BV44,BW44,BX44,BY44,BZ44,CA44,CB44,CC44,CD44,CE44,CF44),\"-\"))","v":""},null,"",null,null,null,null,null,{"$f":"IF(ใส่ชื่อ!D39=\"\",\"\",IF(CJ44=\"\",\"\",(IF(CK44=\"\",\"\",(IF(CL44=\"\",\"\",(IF(CM44=\"\",\"\",(IF(CN44=\"\",\"\",(SUM(CJ44:CN44))))))))))))","v":""},"","",null,null,null,null,null,null,null,null,"","","","",null,{"$f":"IF(ใส่ชื่อ!D39=\"\",\"\",IF(COUNTIF(DA44:DC44,\"มผ\"),\"มผ\",IF(DC44=\"มผ\",\"มผ\",IF(DS44=\"ปกติ\",SUM(DA44:DB44,IF(DD44=\"\",DC44,DD44)),\"-\"))))","v":""},null,"",null,null,{"$f":"IF(ใส่ชื่อ!D39=\"\",\"\",IF(DE44=\"\",\"\",IF(COUNTIF(DA44:DH44,\"มผ\"),\"มผ\",IF(COUNTIF(DA44:DH44,\"-\"),\"-\",IF(DS44=\"ปกติ\",SUM(DE44,IF(DH44=\"\",DG44,DH44)))))))","v":""},null,null,null,{"$f":"ประเมินผลการเรียนเทอม1!DN44","v":""},{"$f":"IF(ใส่ชื่อ!A39=\"\",\"\",IF(DJ44=\"-\",\"-\",IF(DJ44=0,\"\",IF(DS44=\"ปกติ\",MAXA(DJ44/2,DL44/2)))))","v":""},null,{"$f":"IF(เวลาเรียน!M46=\"\",\"\",IF(เวลาเรียน!M46=\"ย้าย\",\"-\",IF(เวลาเรียน!M46=\"จำหน่าย\",\"-\",IF(เวลาเรียน!M46=\"ขาดเรียนนาน\",\"-\",IF(DN44=\"\",\"\",IF(DO44=\"\",\"\",SUM(DN44+DO44)))))))","v":""},{"$f":"IF(เวลาเรียน!M46=\"\",\"\",IF(เวลาเรียน!M46=\"ย้าย\",\"-\",IF(เวลาเรียน!M46=\"จำหน่าย\",\"-\",IF(เวลาเรียน!M46=\"ขาดเรียนนาน\",\"-\",IF(เวลาเรียน!L46<80,\"มส\",IF(COUNTIF(DQ44,\"-\"),\"-\",IF(COUNTIF(DQ44,\"\"),\"\",VLOOKUP(DQ44,$DU$19:$DW$26,3))))))))","v":""},{"$f":"IF(เวลาเรียน!M46=\"\",\"\",เวลาเรียน!M46)","v":""}]
[39,0,{"$f":"CONCATENATE(ใส่ชื่อ!C40)","v":""},{"$f":"CONCATENATE(ใส่ชื่อ!D40&ใส่ชื่อ!E40&\"  \"&ใส่ชื่อ!F40)","v":"  "},{"$f":"ใส่ชื่อ!A40","v":0},null,null,null,null,null,null,null,null,null,null,null,null,null,null,null,null,null,null,null,null,{"$f":"IF(ใส่ชื่อ!D40=\"\",\"\",IF(DS45=\"ปกติ\",SUM(F45,G45,H45,I45,J45,K45,L45,M45,N45,O45,P45,Q45,R45,S45,T45,U45,V45,W45,X45,Y45),\"-\"))","v":""},null,"",null,null,null,null,null,null,null,null,null,null,null,null,null,null,null,null,null,null,null,null,{"$f":"IF(ใส่ชื่อ!D40=\"\",\"\",IF(COUNTIF(AC45:AS45,0),\"มผ\",IF(DS45=\"ปกติ\",SUM(AC45,AD45,AE45,AF45,AG45,AH45,AI45,AJ45,AK45,AL45,AM45,AN45,AO45,AP45,AQ45,AR45,AS45),\"-\")))","v":""},null,"",null,null,null,null,null,null,null,null,null,null,null,null,null,null,null,{"$f":"IF(ใส่ชื่อ!D40=\"\",\"\",IF(COUNTIF(AZ45:BN45,0),\"มผ\",IF(DS45=\"ปกติ\",SUM(AZ45,BA45,BB45,BC45,BD45,BE45,BF45,BG45,BH45,BI45,BJ45,BK45,BL45,BM45,BN45),\"-\")))","v":""},null,"",null,null,null,null,null,null,null,null,null,null,null,null,null,null,null,{"$f":"IF(ใส่ชื่อ!D40=\"\",\"\",IF(DS45=\"ปกติ\",SUM(BR45,BS45,BT45,BU45,BV45,BW45,BX45,BY45,BZ45,CA45,CB45,CC45,CD45,CE45,CF45),\"-\"))","v":""},null,"",null,null,null,null,null,{"$f":"IF(ใส่ชื่อ!D40=\"\",\"\",IF(CJ45=\"\",\"\",(IF(CK45=\"\",\"\",(IF(CL45=\"\",\"\",(IF(CM45=\"\",\"\",(IF(CN45=\"\",\"\",(SUM(CJ45:CN45))))))))))))","v":""},"","",null,null,null,null,null,null,null,null,"","","","",null,{"$f":"IF(ใส่ชื่อ!D40=\"\",\"\",IF(COUNTIF(DA45:DC45,\"มผ\"),\"มผ\",IF(DC45=\"มผ\",\"มผ\",IF(DS45=\"ปกติ\",SUM(DA45:DB45,IF(DD45=\"\",DC45,DD45)),\"-\"))))","v":""},null,"",null,null,{"$f":"IF(ใส่ชื่อ!D40=\"\",\"\",IF(DE45=\"\",\"\",IF(COUNTIF(DA45:DH45,\"มผ\"),\"มผ\",IF(COUNTIF(DA45:DH45,\"-\"),\"-\",IF(DS45=\"ปกติ\",SUM(DE45,IF(DH45=\"\",DG45,DH45)))))))","v":""},null,null,null,{"$f":"ประเมินผลการเรียนเทอม1!DN45","v":""},{"$f":"IF(ใส่ชื่อ!A40=\"\",\"\",IF(DJ45=\"-\",\"-\",IF(DJ45=0,\"\",IF(DS45=\"ปกติ\",MAXA(DJ45/2,DL45/2)))))","v":""},null,{"$f":"IF(เวลาเรียน!M47=\"\",\"\",IF(เวลาเรียน!M47=\"ย้าย\",\"-\",IF(เวลาเรียน!M47=\"จำหน่าย\",\"-\",IF(เวลาเรียน!M47=\"ขาดเรียนนาน\",\"-\",IF(DN45=\"\",\"\",IF(DO45=\"\",\"\",SUM(DN45+DO45)))))))","v":""},{"$f":"IF(เวลาเรียน!M47=\"\",\"\",IF(เวลาเรียน!M47=\"ย้าย\",\"-\",IF(เวลาเรียน!M47=\"จำหน่าย\",\"-\",IF(เวลาเรียน!M47=\"ขาดเรียนนาน\",\"-\",IF(เวลาเรียน!L47<80,\"มส\",IF(COUNTIF(DQ45,\"-\"),\"-\",IF(COUNTIF(DQ45,\"\"),\"\",VLOOKUP(DQ45,$DU$19:$DW$26,3))))))))","v":""},{"$f":"IF(เวลาเรียน!M47=\"\",\"\",เวลาเรียน!M47)","v":""}]
[40,0,{"$f":"CONCATENATE(ใส่ชื่อ!C41)","v":""},{"$f":"CONCATENATE(ใส่ชื่อ!D41&ใส่ชื่อ!E41&\"  \"&ใส่ชื่อ!F41)","v":"  "},{"$f":"ใส่ชื่อ!A41","v":0},null,null,null,null,null,null,null,null,null,null,null,null,null,null,null,null,null,null,null,null,{"$f":"IF(ใส่ชื่อ!D41=\"\",\"\",IF(DS46=\"ปกติ\",SUM(F46,G46,H46,I46,J46,K46,L46,M46,N46,O46,P46,Q46,R46,S46,T46,U46,V46,W46,X46,Y46),\"-\"))","v":""},null,"",null,null,null,null,null,null,null,null,null,null,null,null,null,null,null,null,null,null,null,null,{"$f":"IF(ใส่ชื่อ!D41=\"\",\"\",IF(COUNTIF(AC46:AS46,0),\"มผ\",IF(DS46=\"ปกติ\",SUM(AC46,AD46,AE46,AF46,AG46,AH46,AI46,AJ46,AK46,AL46,AM46,AN46,AO46,AP46,AQ46,AR46,AS46),\"-\")))","v":""},null,"",null,null,null,null,null,null,null,null,null,null,null,null,null,null,null,{"$f":"IF(ใส่ชื่อ!D41=\"\",\"\",IF(COUNTIF(AZ46:BN46,0),\"มผ\",IF(DS46=\"ปกติ\",SUM(AZ46,BA46,BB46,BC46,BD46,BE46,BF46,BG46,BH46,BI46,BJ46,BK46,BL46,BM46,BN46),\"-\")))","v":""},null,"",null,null,null,null,null,null,null,null,null,null,null,null,null,null,null,{"$f":"IF(ใส่ชื่อ!D41=\"\",\"\",IF(DS46=\"ปกติ\",SUM(BR46,BS46,BT46,BU46,BV46,BW46,BX46,BY46,BZ46,CA46,CB46,CC46,CD46,CE46,CF46),\"-\"))","v":""},null,"",null,null,null,null,null,{"$f":"IF(ใส่ชื่อ!D41=\"\",\"\",IF(CJ46=\"\",\"\",(IF(CK46=\"\",\"\",(IF(CL46=\"\",\"\",(IF(CM46=\"\",\"\",(IF(CN46=\"\",\"\",(SUM(CJ46:CN46))))))))))))","v":""},"","",null,null,null,null,null,null,null,null,"","","","",null,{"$f":"IF(ใส่ชื่อ!D41=\"\",\"\",IF(COUNTIF(DA46:DC46,\"มผ\"),\"มผ\",IF(DC46=\"มผ\",\"มผ\",IF(DS46=\"ปกติ\",SUM(DA46:DB46,IF(DD46=\"\",DC46,DD46)),\"-\"))))","v":""},null,"",null,null,{"$f":"IF(ใส่ชื่อ!D41=\"\",\"\",IF(DE46=\"\",\"\",IF(COUNTIF(DA46:DH46,\"มผ\"),\"มผ\",IF(COUNTIF(DA46:DH46,\"-\"),\"-\",IF(DS46=\"ปกติ\",SUM(DE46,IF(DH46=\"\",DG46,DH46)))))))","v":""},null,null,null,{"$f":"ประเมินผลการเรียนเทอม1!DN46","v":""},{"$f":"IF(ใส่ชื่อ!A41=\"\",\"\",IF(DJ46=\"-\",\"-\",IF(DJ46=0,\"\",IF(DS46=\"ปกติ\",MAXA(DJ46/2,DL46/2)))))","v":""},null,{"$f":"IF(เวลาเรียน!M48=\"\",\"\",IF(เวลาเรียน!M48=\"ย้าย\",\"-\",IF(เวลาเรียน!M48=\"จำหน่าย\",\"-\",IF(เวลาเรียน!M48=\"ขาดเรียนนาน\",\"-\",IF(DN46=\"\",\"\",IF(DO46=\"\",\"\",SUM(DN46+DO46)))))))","v":""},{"$f":"IF(เวลาเรียน!M48=\"\",\"\",IF(เวลาเรียน!M48=\"ย้าย\",\"-\",IF(เวลาเรียน!M48=\"จำหน่าย\",\"-\",IF(เวลาเรียน!M48=\"ขาดเรียนนาน\",\"-\",IF(เวลาเรียน!L48<80,\"มส\",IF(COUNTIF(DQ46,\"-\"),\"-\",IF(COUNTIF(DQ46,\"\"),\"\",VLOOKUP(DQ46,$DU$19:$DW$26,3))))))))","v":""},{"$f":"IF(เวลาเรียน!M48=\"\",\"\",เวลาเรียน!M48)","v":""}]
[36,0,{"$f":"CONCATENATE(ใส่ชื่อ!C42)","v":""},{"$f":"CONCATENATE(ใส่ชื่อ!D42&ใส่ชื่อ!E42&\"  \"&ใส่ชื่อ!F42)","v":"  "},{"$f":"ใส่ชื่อ!A42","v":0},null,null,null,null,null,null,null,null,null,null,null,null,null,null,null,null,null,null,null,null,{"$f":"IF(ใส่ชื่อ!D42=\"\",\"\",IF(DS47=\"ปกติ\",SUM(F47,G47,H47,I47,J47,K47,L47,M47,N47,O47,P47,Q47,R47,S47,T47,U47,V47,W47,X47,Y47),\"-\"))","v":""},null,"",null,null,null,null,null,null,null,null,null,null,null,null,null,null,null,null,null,null,null,null,{"$f":"IF(ใส่ชื่อ!D42=\"\",\"\",IF(COUNTIF(AC47:AS47,0),\"มผ\",IF(DS47=\"ปกติ\",SUM(AC47,AD47,AE47,AF47,AG47,AH47,AI47,AJ47,AK47,AL47,AM47,AN47,AO47,AP47,AQ47,AR47,AS47),\"-\")))","v":""},null,"",null,null,null,null,null,null,null,null,null,null,null,null,null,null,null,{"$f":"IF(ใส่ชื่อ!D42=\"\",\"\",IF(COUNTIF(AZ47:BN47,0),\"มผ\",IF(DS47=\"ปกติ\",SUM(AZ47,BA47,BB47,BC47,BD47,BE47,BF47,BG47,BH47,BI47,BJ47,BK47,BL47,BM47,BN47),\"-\")))","v":""},null,"",null,null,null,null,null,null,null,null,null,null,null,null,null,null,null,{"$f":"IF(ใส่ชื่อ!D42=\"\",\"\",IF(DS47=\"ปกติ\",SUM(BR47,BS47,BT47,BU47,BV47,BW47,BX47,BY47,BZ47,CA47,CB47,CC47,CD47,CE47,CF47),\"-\"))","v":""},null,"",null,null,null,null,null,{"$f":"IF(ใส่ชื่อ!D42=\"\",\"\",IF(CJ47=\"\",\"\",(IF(CK47=\"\",\"\",(IF(CL47=\"\",\"\",(IF(CM47=\"\",\"\",(IF(CN47=\"\",\"\",(SUM(CJ47:CN47))))))))))))","v":""},"","",null,null,null,null,null,null,null,null,"","","","",null,{"$f":"IF(ใส่ชื่อ!D42=\"\",\"\",IF(COUNTIF(DA47:DC47,\"มผ\"),\"มผ\",IF(DC47=\"มผ\",\"มผ\",IF(DS47=\"ปกติ\",SUM(DA47:DB47,IF(DD47=\"\",DC47,DD47)),\"-\"))))","v":""},null,"",null,null,{"$f":"IF(ใส่ชื่อ!D42=\"\",\"\",IF(DE47=\"\",\"\",IF(COUNTIF(DA47:DH47,\"มผ\"),\"มผ\",IF(COUNTIF(DA47:DH47,\"-\"),\"-\",IF(DS47=\"ปกติ\",SUM(DE47,IF(DH47=\"\",DG47,DH47)))))))","v":""},null,null,null,{"$f":"ประเมินผลการเรียนเทอม1!DN47","v":""},{"$f":"IF(ใส่ชื่อ!A42=\"\",\"\",IF(DJ47=\"-\",\"-\",IF(DJ47=0,\"\",IF(DS47=\"ปกติ\",MAXA(DJ47/2,DL47/2)))))","v":""},null,{"$f":"IF(เวลาเรียน!M49=\"\",\"\",IF(เวลาเรียน!M49=\"ย้าย\",\"-\",IF(เวลาเรียน!M49=\"จำหน่าย\",\"-\",IF(เวลาเรียน!M49=\"ขาดเรียนนาน\",\"-\",IF(DN47=\"\",\"\",IF(DO47=\"\",\"\",SUM(DN47+DO47)))))))","v":""},{"$f":"IF(เวลาเรียน!M49=\"\",\"\",IF(เวลาเรียน!M49=\"ย้าย\",\"-\",IF(เวลาเรียน!M49=\"จำหน่าย\",\"-\",IF(เวลาเรียน!M49=\"ขาดเรียนนาน\",\"-\",IF(เวลาเรียน!L49<80,\"มส\",IF(COUNTIF(DQ47,\"-\"),\"-\",IF(COUNTIF(DQ47,\"\"),\"\",VLOOKUP(DQ47,$DU$19:$DW$26,3))))))))","v":""},{"$f":"IF(เวลาเรียน!M49=\"\",\"\",เวลาเรียน!M49)","v":""}]
[37,0,{"$f":"CONCATENATE(ใส่ชื่อ!C43)","v":""},{"$f":"CONCATENATE(ใส่ชื่อ!D43&ใส่ชื่อ!E43&\"  \"&ใส่ชื่อ!F43)","v":"  "},{"$f":"ใส่ชื่อ!A43","v":0},null,null,null,null,null,null,null,null,null,null,null,null,null,null,null,null,null,null,null,null,{"$f":"IF(ใส่ชื่อ!D43=\"\",\"\",IF(DS48=\"ปกติ\",SUM(F48,G48,H48,I48,J48,K48,L48,M48,N48,O48,P48,Q48,R48,S48,T48,U48,V48,W48,X48,Y48),\"-\"))","v":""},null,"",null,null,null,null,null,null,null,null,null,null,null,null,null,null,null,null,null,null,null,null,{"$f":"IF(ใส่ชื่อ!D43=\"\",\"\",IF(COUNTIF(AC48:AS48,0),\"มผ\",IF(DS48=\"ปกติ\",SUM(AC48,AD48,AE48,AF48,AG48,AH48,AI48,AJ48,AK48,AL48,AM48,AN48,AO48,AP48,AQ48,AR48,AS48),\"-\")))","v":""},null,"",null,null,null,null,null,null,null,null,null,null,null,null,null,null,null,{"$f":"IF(ใส่ชื่อ!D43=\"\",\"\",IF(COUNTIF(AZ48:BN48,0),\"มผ\",IF(DS48=\"ปกติ\",SUM(AZ48,BA48,BB48,BC48,BD48,BE48,BF48,BG48,BH48,BI48,BJ48,BK48,BL48,BM48,BN48),\"-\")))","v":""},null,"",null,null,null,null,null,null,null,null,null,null,null,null,null,null,null,{"$f":"IF(ใส่ชื่อ!D43=\"\",\"\",IF(DS48=\"ปกติ\",SUM(BR48,BS48,BT48,BU48,BV48,BW48,BX48,BY48,BZ48,CA48,CB48,CC48,CD48,CE48,CF48),\"-\"))","v":""},null,"",null,null,null,null,null,{"$f":"IF(ใส่ชื่อ!D43=\"\",\"\",IF(CJ48=\"\",\"\",(IF(CK48=\"\",\"\",(IF(CL48=\"\",\"\",(IF(CM48=\"\",\"\",(IF(CN48=\"\",\"\",(SUM(CJ48:CN48))))))))))))","v":""},"","",null,null,null,null,null,null,null,null,"","","","",null,{"$f":"IF(ใส่ชื่อ!D43=\"\",\"\",IF(COUNTIF(DA48:DC48,\"มผ\"),\"มผ\",IF(DC48=\"มผ\",\"มผ\",IF(DS48=\"ปกติ\",SUM(DA48:DB48,IF(DD48=\"\",DC48,DD48)),\"-\"))))","v":""},null,"",null,null,{"$f":"IF(ใส่ชื่อ!D43=\"\",\"\",IF(DE48=\"\",\"\",IF(COUNTIF(DA48:DH48,\"มผ\"),\"มผ\",IF(COUNTIF(DA48:DH48,\"-\"),\"-\",IF(DS48=\"ปกติ\",SUM(DE48,IF(DH48=\"\",DG48,DH48)))))))","v":""},null,null,null,{"$f":"ประเมินผลการเรียนเทอม1!DN48","v":""},{"$f":"IF(ใส่ชื่อ!A43=\"\",\"\",IF(DJ48=\"-\",\"-\",IF(DJ48=0,\"\",IF(DS48=\"ปกติ\",MAXA(DJ48/2,DL48/2)))))","v":""},null,{"$f":"IF(เวลาเรียน!M50=\"\",\"\",IF(เวลาเรียน!M50=\"ย้าย\",\"-\",IF(เวลาเรียน!M50=\"จำหน่าย\",\"-\",IF(เวลาเรียน!M50=\"ขาดเรียนนาน\",\"-\",IF(DN48=\"\",\"\",IF(DO48=\"\",\"\",SUM(DN48+DO48)))))))","v":""},{"$f":"IF(เวลาเรียน!M50=\"\",\"\",IF(เวลาเรียน!M50=\"ย้าย\",\"-\",IF(เวลาเรียน!M50=\"จำหน่าย\",\"-\",IF(เวลาเรียน!M50=\"ขาดเรียนนาน\",\"-\",IF(เวลาเรียน!L50<80,\"มส\",IF(COUNTIF(DQ48,\"-\"),\"-\",IF(COUNTIF(DQ48,\"\"),\"\",VLOOKUP(DQ48,$DU$19:$DW$26,3))))))))","v":""},{"$f":"IF(เวลาเรียน!M50=\"\",\"\",เวลาเรียน!M50)","v":""}]
[38,0,{"$f":"CONCATENATE(ใส่ชื่อ!C44)","v":""},{"$f":"CONCATENATE(ใส่ชื่อ!D44&ใส่ชื่อ!E44&\"  \"&ใส่ชื่อ!F44)","v":"  "},{"$f":"ใส่ชื่อ!A44","v":0},null,null,null,null,null,null,null,null,null,null,null,null,null,null,null,null,null,null,null,null,{"$f":"IF(ใส่ชื่อ!D44=\"\",\"\",IF(DS49=\"ปกติ\",SUM(F49,G49,H49,I49,J49,K49,L49,M49,N49,O49,P49,Q49,R49,S49,T49,U49,V49,W49,X49,Y49),\"-\"))","v":""},null,"",null,null,null,null,null,null,null,null,null,null,null,null,null,null,null,null,null,null,null,null,{"$f":"IF(ใส่ชื่อ!D44=\"\",\"\",IF(COUNTIF(AC49:AS49,0),\"มผ\",IF(DS49=\"ปกติ\",SUM(AC49,AD49,AE49,AF49,AG49,AH49,AI49,AJ49,AK49,AL49,AM49,AN49,AO49,AP49,AQ49,AR49,AS49),\"-\")))","v":""},null,"",null,null,null,null,null,null,null,null,null,null,null,null,null,null,null,{"$f":"IF(ใส่ชื่อ!D44=\"\",\"\",IF(COUNTIF(AZ49:BN49,0),\"มผ\",IF(DS49=\"ปกติ\",SUM(AZ49,BA49,BB49,BC49,BD49,BE49,BF49,BG49,BH49,BI49,BJ49,BK49,BL49,BM49,BN49),\"-\")))","v":""},null,"",null,null,null,null,null,null,null,null,null,null,null,null,null,null,null,{"$f":"IF(ใส่ชื่อ!D44=\"\",\"\",IF(DS49=\"ปกติ\",SUM(BR49,BS49,BT49,BU49,BV49,BW49,BX49,BY49,BZ49,CA49,CB49,CC49,CD49,CE49,CF49),\"-\"))","v":""},null,"",null,null,null,null,null,{"$f":"IF(ใส่ชื่อ!D44=\"\",\"\",IF(CJ49=\"\",\"\",(IF(CK49=\"\",\"\",(IF(CL49=\"\",\"\",(IF(CM49=\"\",\"\",(IF(CN49=\"\",\"\",(SUM(CJ49:CN49))))))))))))","v":""},"","",null,null,null,null,null,null,null,null,"","","","",null,{"$f":"IF(ใส่ชื่อ!D44=\"\",\"\",IF(COUNTIF(DA49:DC49,\"มผ\"),\"มผ\",IF(DC49=\"มผ\",\"มผ\",IF(DS49=\"ปกติ\",SUM(DA49:DB49,IF(DD49=\"\",DC49,DD49)),\"-\"))))","v":""},null,"",null,null,{"$f":"IF(ใส่ชื่อ!D44=\"\",\"\",IF(DE49=\"\",\"\",IF(COUNTIF(DA49:DH49,\"มผ\"),\"มผ\",IF(COUNTIF(DA49:DH49,\"-\"),\"-\",IF(DS49=\"ปกติ\",SUM(DE49,IF(DH49=\"\",DG49,DH49)))))))","v":""},null,null,null,{"$f":"ประเมินผลการเรียนเทอม1!DN49","v":""},{"$f":"IF(ใส่ชื่อ!A44=\"\",\"\",IF(DJ49=\"-\",\"-\",IF(DJ49=0,\"\",IF(DS49=\"ปกติ\",MAXA(DJ49/2,DL49/2)))))","v":""},null,{"$f":"IF(เวลาเรียน!M51=\"\",\"\",IF(เวลาเรียน!M51=\"ย้าย\",\"-\",IF(เวลาเรียน!M51=\"จำหน่าย\",\"-\",IF(เวลาเรียน!M51=\"ขาดเรียนนาน\",\"-\",IF(DN49=\"\",\"\",IF(DO49=\"\",\"\",SUM(DN49+DO49)))))))","v":""},{"$f":"IF(เวลาเรียน!M51=\"\",\"\",IF(เวลาเรียน!M51=\"ย้าย\",\"-\",IF(เวลาเรียน!M51=\"จำหน่าย\",\"-\",IF(เวลาเรียน!M51=\"ขาดเรียนนาน\",\"-\",IF(เวลาเรียน!L51<80,\"มส\",IF(COUNTIF(DQ49,\"-\"),\"-\",IF(COUNTIF(DQ49,\"\"),\"\",VLOOKUP(DQ49,$DU$19:$DW$26,3))))))))","v":""},{"$f":"IF(เวลาเรียน!M51=\"\",\"\",เวลาเรียน!M51)","v":""}]
[39,0,{"$f":"CONCATENATE(ใส่ชื่อ!C45)","v":""},{"$f":"CONCATENATE(ใส่ชื่อ!D45&ใส่ชื่อ!E45&\"  \"&ใส่ชื่อ!F45)","v":"  "},{"$f":"ใส่ชื่อ!A45","v":0},null,null,null,null,null,null,null,null,null,null,null,null,null,null,null,null,null,null,null,null,{"$f":"IF(ใส่ชื่อ!D45=\"\",\"\",IF(DS50=\"ปกติ\",SUM(F50,G50,H50,I50,J50,K50,L50,M50,N50,O50,P50,Q50,R50,S50,T50,U50,V50,W50,X50,Y50),\"-\"))","v":""},null,"",null,null,null,null,null,null,null,null,null,null,null,null,null,null,null,null,null,null,null,null,{"$f":"IF(ใส่ชื่อ!D45=\"\",\"\",IF(COUNTIF(AC50:AS50,0),\"มผ\",IF(DS50=\"ปกติ\",SUM(AC50,AD50,AE50,AF50,AG50,AH50,AI50,AJ50,AK50,AL50,AM50,AN50,AO50,AP50,AQ50,AR50,AS50),\"-\")))","v":""},null,"",null,null,null,null,null,null,null,null,null,null,null,null,null,null,null,{"$f":"IF(ใส่ชื่อ!D45=\"\",\"\",IF(COUNTIF(AZ50:BN50,0),\"มผ\",IF(DS50=\"ปกติ\",SUM(AZ50,BA50,BB50,BC50,BD50,BE50,BF50,BG50,BH50,BI50,BJ50,BK50,BL50,BM50,BN50),\"-\")))","v":""},null,"",null,null,null,null,null,null,null,null,null,null,null,null,null,null,null,{"$f":"IF(ใส่ชื่อ!D45=\"\",\"\",IF(DS50=\"ปกติ\",SUM(BR50,BS50,BT50,BU50,BV50,BW50,BX50,BY50,BZ50,CA50,CB50,CC50,CD50,CE50,CF50),\"-\"))","v":""},null,"",null,null,null,null,null,{"$f":"IF(ใส่ชื่อ!D45=\"\",\"\",IF(CJ50=\"\",\"\",(IF(CK50=\"\",\"\",(IF(CL50=\"\",\"\",(IF(CM50=\"\",\"\",(IF(CN50=\"\",\"\",(SUM(CJ50:CN50))))))))))))","v":""},"","",null,null,null,null,null,null,null,null,"","","","",null,{"$f":"IF(ใส่ชื่อ!D45=\"\",\"\",IF(COUNTIF(DA50:DC50,\"มผ\"),\"มผ\",IF(DC50=\"มผ\",\"มผ\",IF(DS50=\"ปกติ\",SUM(DA50:DB50,IF(DD50=\"\",DC50,DD50)),\"-\"))))","v":""},null,"",null,null,{"$f":"IF(ใส่ชื่อ!D45=\"\",\"\",IF(DE50=\"\",\"\",IF(COUNTIF(DA50:DH50,\"มผ\"),\"มผ\",IF(COUNTIF(DA50:DH50,\"-\"),\"-\",IF(DS50=\"ปกติ\",SUM(DE50,IF(DH50=\"\",DG50,DH50)))))))","v":""},null,null,null,{"$f":"ประเมินผลการเรียนเทอม1!DN50","v":""},{"$f":"IF(ใส่ชื่อ!A45=\"\",\"\",IF(DJ50=\"-\",\"-\",IF(DJ50=0,\"\",IF(DS50=\"ปกติ\",MAXA(DJ50/2,DL50/2)))))","v":""},null,{"$f":"IF(เวลาเรียน!M52=\"\",\"\",IF(เวลาเรียน!M52=\"ย้าย\",\"-\",IF(เวลาเรียน!M52=\"จำหน่าย\",\"-\",IF(เวลาเรียน!M52=\"ขาดเรียนนาน\",\"-\",IF(DN50=\"\",\"\",IF(DO50=\"\",\"\",SUM(DN50+DO50)))))))","v":""},{"$f":"IF(เวลาเรียน!M52=\"\",\"\",IF(เวลาเรียน!M52=\"ย้าย\",\"-\",IF(เวลาเรียน!M52=\"จำหน่าย\",\"-\",IF(เวลาเรียน!M52=\"ขาดเรียนนาน\",\"-\",IF(เวลาเรียน!L52<80,\"มส\",IF(COUNTIF(DQ50,\"-\"),\"-\",IF(COUNTIF(DQ50,\"\"),\"\",VLOOKUP(DQ50,$DU$19:$DW$26,3))))))))","v":""},{"$f":"IF(เวลาเรียน!M52=\"\",\"\",เวลาเรียน!M52)","v":""}]
[40,0,{"$f":"CONCATENATE(ใส่ชื่อ!C46)","v":""},{"$f":"CONCATENATE(ใส่ชื่อ!D46&ใส่ชื่อ!E46&\"  \"&ใส่ชื่อ!F46)","v":"  "},{"$f":"ใส่ชื่อ!A46","v":0},null,null,null,null,null,null,null,null,null,null,null,null,null,null,null,null,null,null,null,null,{"$f":"IF(ใส่ชื่อ!D46=\"\",\"\",IF(DS51=\"ปกติ\",SUM(F51,G51,H51,I51,J51,K51,L51,M51,N51,O51,P51,Q51,R51,S51,T51,U51,V51,W51,X51,Y51),\"-\"))","v":""},null,"",null,null,null,null,null,null,null,null,null,null,null,null,null,null,null,null,null,null,null,null,{"$f":"IF(ใส่ชื่อ!D46=\"\",\"\",IF(COUNTIF(AC51:AS51,0),\"มผ\",IF(DS51=\"ปกติ\",SUM(AC51,AD51,AE51,AF51,AG51,AH51,AI51,AJ51,AK51,AL51,AM51,AN51,AO51,AP51,AQ51,AR51,AS51),\"-\")))","v":""},null,"",null,null,null,null,null,null,null,null,null,null,null,null,null,null,null,{"$f":"IF(ใส่ชื่อ!D46=\"\",\"\",IF(COUNTIF(AZ51:BN51,0),\"มผ\",IF(DS51=\"ปกติ\",SUM(AZ51,BA51,BB51,BC51,BD51,BE51,BF51,BG51,BH51,BI51,BJ51,BK51,BL51,BM51,BN51),\"-\")))","v":""},null,"",null,null,null,null,null,null,null,null,null,null,null,null,null,null,null,{"$f":"IF(ใส่ชื่อ!D46=\"\",\"\",IF(DS51=\"ปกติ\",SUM(BR51,BS51,BT51,BU51,BV51,BW51,BX51,BY51,BZ51,CA51,CB51,CC51,CD51,CE51,CF51),\"-\"))","v":""},null,"",null,null,null,null,null,{"$f":"IF(ใส่ชื่อ!D46=\"\",\"\",IF(CJ51=\"\",\"\",(IF(CK51=\"\",\"\",(IF(CL51=\"\",\"\",(IF(CM51=\"\",\"\",(IF(CN51=\"\",\"\",(SUM(CJ51:CN51))))))))))))","v":""},"","",null,null,null,null,null,null,null,null,"","","","",null,{"$f":"IF(ใส่ชื่อ!D46=\"\",\"\",IF(COUNTIF(DA51:DC51,\"มผ\"),\"มผ\",IF(DC51=\"มผ\",\"มผ\",IF(DS51=\"ปกติ\",SUM(DA51:DB51,IF(DD51=\"\",DC51,DD51)),\"-\"))))","v":""},null,"",null,null,{"$f":"IF(ใส่ชื่อ!D46=\"\",\"\",IF(DE51=\"\",\"\",IF(COUNTIF(DA51:DH51,\"มผ\"),\"มผ\",IF(COUNTIF(DA51:DH51,\"-\"),\"-\",IF(DS51=\"ปกติ\",SUM(DE51,IF(DH51=\"\",DG51,DH51)))))))","v":""},null,null,null,{"$f":"ประเมินผลการเรียนเทอม1!DN51","v":""},{"$f":"IF(ใส่ชื่อ!A46=\"\",\"\",IF(DJ51=\"-\",\"-\",IF(DJ51=0,\"\",IF(DS51=\"ปกติ\",MAXA(DJ51/2,DL51/2)))))","v":""},null,{"$f":"IF(เวลาเรียน!M53=\"\",\"\",IF(เวลาเรียน!M53=\"ย้าย\",\"-\",IF(เวลาเรียน!M53=\"จำหน่าย\",\"-\",IF(เวลาเรียน!M53=\"ขาดเรียนนาน\",\"-\",IF(DN51=\"\",\"\",IF(DO51=\"\",\"\",SUM(DN51+DO51)))))))","v":""},{"$f":"IF(เวลาเรียน!M53=\"\",\"\",IF(เวลาเรียน!M53=\"ย้าย\",\"-\",IF(เวลาเรียน!M53=\"จำหน่าย\",\"-\",IF(เวลาเรียน!M53=\"ขาดเรียนนาน\",\"-\",IF(เวลาเรียน!L53<80,\"มส\",IF(COUNTIF(DQ51,\"-\"),\"-\",IF(COUNTIF(DQ51,\"\"),\"\",VLOOKUP(DQ51,$DU$19:$DW$26,3))))))))","v":""},{"$f":"IF(เวลาเรียน!M53=\"\",\"\",เวลาเรียน!M53)","v":""}]
[36,0,{"$f":"CONCATENATE(ใส่ชื่อ!C47)","v":""},{"$f":"CONCATENATE(ใส่ชื่อ!D47&ใส่ชื่อ!E47&\"  \"&ใส่ชื่อ!F47)","v":"  "},{"$f":"ใส่ชื่อ!A47","v":0},null,null,null,null,null,null,null,null,null,null,null,null,null,null,null,null,null,null,null,null,{"$f":"IF(ใส่ชื่อ!D47=\"\",\"\",IF(DS52=\"ปกติ\",SUM(F52,G52,H52,I52,J52,K52,L52,M52,N52,O52,P52,Q52,R52,S52,T52,U52,V52,W52,X52,Y52),\"-\"))","v":""},null,"",null,null,null,null,null,null,null,null,null,null,null,null,null,null,null,null,null,null,null,null,{"$f":"IF(ใส่ชื่อ!D47=\"\",\"\",IF(COUNTIF(AC52:AS52,0),\"มผ\",IF(DS52=\"ปกติ\",SUM(AC52,AD52,AE52,AF52,AG52,AH52,AI52,AJ52,AK52,AL52,AM52,AN52,AO52,AP52,AQ52,AR52,AS52),\"-\")))","v":""},null,"",null,null,null,null,null,null,null,null,null,null,null,null,null,null,null,{"$f":"IF(ใส่ชื่อ!D47=\"\",\"\",IF(COUNTIF(AZ52:BN52,0),\"มผ\",IF(DS52=\"ปกติ\",SUM(AZ52,BA52,BB52,BC52,BD52,BE52,BF52,BG52,BH52,BI52,BJ52,BK52,BL52,BM52,BN52),\"-\")))","v":""},null,"",null,null,null,null,null,null,null,null,null,null,null,null,null,null,null,{"$f":"IF(ใส่ชื่อ!D47=\"\",\"\",IF(DS52=\"ปกติ\",SUM(BR52,BS52,BT52,BU52,BV52,BW52,BX52,BY52,BZ52,CA52,CB52,CC52,CD52,CE52,CF52),\"-\"))","v":""},null,"",null,null,null,null,null,{"$f":"IF(ใส่ชื่อ!D47=\"\",\"\",IF(CJ52=\"\",\"\",(IF(CK52=\"\",\"\",(IF(CL52=\"\",\"\",(IF(CM52=\"\",\"\",(IF(CN52=\"\",\"\",(SUM(CJ52:CN52))))))))))))","v":""},"","",null,null,null,null,null,null,null,null,"","","","",null,{"$f":"IF(ใส่ชื่อ!D47=\"\",\"\",IF(COUNTIF(DA52:DC52,\"มผ\"),\"มผ\",IF(DC52=\"มผ\",\"มผ\",IF(DS52=\"ปกติ\",SUM(DA52:DB52,IF(DD52=\"\",DC52,DD52)),\"-\"))))","v":""},null,"",null,null,{"$f":"IF(ใส่ชื่อ!D47=\"\",\"\",IF(DE52=\"\",\"\",IF(COUNTIF(DA52:DH52,\"มผ\"),\"มผ\",IF(COUNTIF(DA52:DH52,\"-\"),\"-\",IF(DS52=\"ปกติ\",SUM(DE52,IF(DH52=\"\",DG52,DH52)))))))","v":""},null,null,null,{"$f":"ประเมินผลการเรียนเทอม1!DN52","v":""},{"$f":"IF(ใส่ชื่อ!A47=\"\",\"\",IF(DJ52=\"-\",\"-\",IF(DJ52=0,\"\",IF(DS52=\"ปกติ\",MAXA(DJ52/2,DL52/2)))))","v":""},null,{"$f":"IF(เวลาเรียน!M54=\"\",\"\",IF(เวลาเรียน!M54=\"ย้าย\",\"-\",IF(เวลาเรียน!M54=\"จำหน่าย\",\"-\",IF(เวลาเรียน!M54=\"ขาดเรียนนาน\",\"-\",IF(DN52=\"\",\"\",IF(DO52=\"\",\"\",SUM(DN52+DO52)))))))","v":""},{"$f":"IF(เวลาเรียน!M54=\"\",\"\",IF(เวลาเรียน!M54=\"ย้าย\",\"-\",IF(เวลาเรียน!M54=\"จำหน่าย\",\"-\",IF(เวลาเรียน!M54=\"ขาดเรียนนาน\",\"-\",IF(เวลาเรียน!L54<80,\"มส\",IF(COUNTIF(DQ52,\"-\"),\"-\",IF(COUNTIF(DQ52,\"\"),\"\",VLOOKUP(DQ52,$DU$19:$DW$26,3))))))))","v":""},{"$f":"IF(เวลาเรียน!M54=\"\",\"\",เวลาเรียน!M54)","v":""}]
[37,0,{"$f":"CONCATENATE(ใส่ชื่อ!C48)","v":""},{"$f":"CONCATENATE(ใส่ชื่อ!D48&ใส่ชื่อ!E48&\"  \"&ใส่ชื่อ!F48)","v":"  "},{"$f":"ใส่ชื่อ!A48","v":0},null,null,null,null,null,null,null,null,null,null,null,null,null,null,null,null,null,null,null,null,{"$f":"IF(ใส่ชื่อ!D48=\"\",\"\",IF(DS53=\"ปกติ\",SUM(F53,G53,H53,I53,J53,K53,L53,M53,N53,O53,P53,Q53,R53,S53,T53,U53,V53,W53,X53,Y53),\"-\"))","v":""},null,"",null,null,null,null,null,null,null,null,null,null,null,null,null,null,null,null,null,null,null,null,{"$f":"IF(ใส่ชื่อ!D48=\"\",\"\",IF(COUNTIF(AC53:AS53,0),\"มผ\",IF(DS53=\"ปกติ\",SUM(AC53,AD53,AE53,AF53,AG53,AH53,AI53,AJ53,AK53,AL53,AM53,AN53,AO53,AP53,AQ53,AR53,AS53),\"-\")))","v":""},null,"",null,null,null,null,null,null,null,null,null,null,null,null,null,null,null,{"$f":"IF(ใส่ชื่อ!D48=\"\",\"\",IF(COUNTIF(AZ53:BN53,0),\"มผ\",IF(DS53=\"ปกติ\",SUM(AZ53,BA53,BB53,BC53,BD53,BE53,BF53,BG53,BH53,BI53,BJ53,BK53,BL53,BM53,BN53),\"-\")))","v":""},null,"",null,null,null,null,null,null,null,null,null,null,null,null,null,null,null,{"$f":"IF(ใส่ชื่อ!D48=\"\",\"\",IF(DS53=\"ปกติ\",SUM(BR53,BS53,BT53,BU53,BV53,BW53,BX53,BY53,BZ53,CA53,CB53,CC53,CD53,CE53,CF53),\"-\"))","v":""},null,"",null,null,null,null,null,{"$f":"IF(ใส่ชื่อ!D48=\"\",\"\",IF(CJ53=\"\",\"\",(IF(CK53=\"\",\"\",(IF(CL53=\"\",\"\",(IF(CM53=\"\",\"\",(IF(CN53=\"\",\"\",(SUM(CJ53:CN53))))))))))))","v":""},"","",null,null,null,null,null,null,null,null,"","","","",null,{"$f":"IF(ใส่ชื่อ!D48=\"\",\"\",IF(COUNTIF(DA53:DC53,\"มผ\"),\"มผ\",IF(DC53=\"มผ\",\"มผ\",IF(DS53=\"ปกติ\",SUM(DA53:DB53,IF(DD53=\"\",DC53,DD53)),\"-\"))))","v":""},null,"",null,null,{"$f":"IF(ใส่ชื่อ!D48=\"\",\"\",IF(DE53=\"\",\"\",IF(COUNTIF(DA53:DH53,\"มผ\"),\"มผ\",IF(COUNTIF(DA53:DH53,\"-\"),\"-\",IF(DS53=\"ปกติ\",SUM(DE53,IF(DH53=\"\",DG53,DH53)))))))","v":""},null,null,null,{"$f":"ประเมินผลการเรียนเทอม1!DN53","v":""},{"$f":"IF(ใส่ชื่อ!A48=\"\",\"\",IF(DJ53=\"-\",\"-\",IF(DJ53=0,\"\",IF(DS53=\"ปกติ\",MAXA(DJ53/2,DL53/2)))))","v":""},null,{"$f":"IF(เวลาเรียน!M55=\"\",\"\",IF(เวลาเรียน!M55=\"ย้าย\",\"-\",IF(เวลาเรียน!M55=\"จำหน่าย\",\"-\",IF(เวลาเรียน!M55=\"ขาดเรียนนาน\",\"-\",IF(DN53=\"\",\"\",IF(DO53=\"\",\"\",SUM(DN53+DO53)))))))","v":""},{"$f":"IF(เวลาเรียน!M55=\"\",\"\",IF(เวลาเรียน!M55=\"ย้าย\",\"-\",IF(เวลาเรียน!M55=\"จำหน่าย\",\"-\",IF(เวลาเรียน!M55=\"ขาดเรียนนาน\",\"-\",IF(เวลาเรียน!L55<80,\"มส\",IF(COUNTIF(DQ53,\"-\"),\"-\",IF(COUNTIF(DQ53,\"\"),\"\",VLOOKUP(DQ53,$DU$19:$DW$26,3))))))))","v":""},{"$f":"IF(เวลาเรียน!M55=\"\",\"\",เวลาเรียน!M55)","v":""}]
[38,0,{"$f":"CONCATENATE(ใส่ชื่อ!C49)","v":""},{"$f":"CONCATENATE(ใส่ชื่อ!D49&ใส่ชื่อ!E49&\"  \"&ใส่ชื่อ!F49)","v":"  "},{"$f":"ใส่ชื่อ!A49","v":0},null,null,null,null,null,null,null,null,null,null,null,null,null,null,null,null,null,null,null,null,{"$f":"IF(ใส่ชื่อ!D49=\"\",\"\",IF(DS54=\"ปกติ\",SUM(F54,G54,H54,I54,J54,K54,L54,M54,N54,O54,P54,Q54,R54,S54,T54,U54,V54,W54,X54,Y54),\"-\"))","v":""},null,"",null,null,null,null,null,null,null,null,null,null,null,null,null,null,null,null,null,null,null,null,{"$f":"IF(ใส่ชื่อ!D49=\"\",\"\",IF(COUNTIF(AC54:AS54,0),\"มผ\",IF(DS54=\"ปกติ\",SUM(AC54,AD54,AE54,AF54,AG54,AH54,AI54,AJ54,AK54,AL54,AM54,AN54,AO54,AP54,AQ54,AR54,AS54),\"-\")))","v":""},null,"",null,null,null,null,null,null,null,null,null,null,null,null,null,null,null,{"$f":"IF(ใส่ชื่อ!D49=\"\",\"\",IF(COUNTIF(AZ54:BN54,0),\"มผ\",IF(DS54=\"ปกติ\",SUM(AZ54,BA54,BB54,BC54,BD54,BE54,BF54,BG54,BH54,BI54,BJ54,BK54,BL54,BM54,BN54),\"-\")))","v":""},null,"",null,null,null,null,null,null,null,null,null,null,null,null,null,null,null,{"$f":"IF(ใส่ชื่อ!D49=\"\",\"\",IF(DS54=\"ปกติ\",SUM(BR54,BS54,BT54,BU54,BV54,BW54,BX54,BY54,BZ54,CA54,CB54,CC54,CD54,CE54,CF54),\"-\"))","v":""},null,"",null,null,null,null,null,{"$f":"IF(ใส่ชื่อ!D49=\"\",\"\",IF(CJ54=\"\",\"\",(IF(CK54=\"\",\"\",(IF(CL54=\"\",\"\",(IF(CM54=\"\",\"\",(IF(CN54=\"\",\"\",(SUM(CJ54:CN54))))))))))))","v":""},"","",null,null,null,null,null,null,null,null,"","","","",null,{"$f":"IF(ใส่ชื่อ!D49=\"\",\"\",IF(COUNTIF(DA54:DC54,\"มผ\"),\"มผ\",IF(DC54=\"มผ\",\"มผ\",IF(DS54=\"ปกติ\",SUM(DA54:DB54,IF(DD54=\"\",DC54,DD54)),\"-\"))))","v":""},null,"",null,null,{"$f":"IF(ใส่ชื่อ!D49=\"\",\"\",IF(DE54=\"\",\"\",IF(COUNTIF(DA54:DH54,\"มผ\"),\"มผ\",IF(COUNTIF(DA54:DH54,\"-\"),\"-\",IF(DS54=\"ปกติ\",SUM(DE54,IF(DH54=\"\",DG54,DH54)))))))","v":""},null,null,null,{"$f":"ประเมินผลการเรียนเทอม1!DN54","v":""},{"$f":"IF(ใส่ชื่อ!A49=\"\",\"\",IF(DJ54=\"-\",\"-\",IF(DJ54=0,\"\",IF(DS54=\"ปกติ\",MAXA(DJ54/2,DL54/2)))))","v":""},null,{"$f":"IF(เวลาเรียน!M56=\"\",\"\",IF(เวลาเรียน!M56=\"ย้าย\",\"-\",IF(เวลาเรียน!M56=\"จำหน่าย\",\"-\",IF(เวลาเรียน!M56=\"ขาดเรียนนาน\",\"-\",IF(DN54=\"\",\"\",IF(DO54=\"\",\"\",SUM(DN54+DO54)))))))","v":""},{"$f":"IF(เวลาเรียน!M56=\"\",\"\",IF(เวลาเรียน!M56=\"ย้าย\",\"-\",IF(เวลาเรียน!M56=\"จำหน่าย\",\"-\",IF(เวลาเรียน!M56=\"ขาดเรียนนาน\",\"-\",IF(เวลาเรียน!L56<80,\"มส\",IF(COUNTIF(DQ54,\"-\"),\"-\",IF(COUNTIF(DQ54,\"\"),\"\",VLOOKUP(DQ54,$DU$19:$DW$26,3))))))))","v":""},{"$f":"IF(เวลาเรียน!M56=\"\",\"\",เวลาเรียน!M56)","v":""}]
[39,0,{"$f":"CONCATENATE(ใส่ชื่อ!C50)","v":""},{"$f":"CONCATENATE(ใส่ชื่อ!D50&ใส่ชื่อ!E50&\"  \"&ใส่ชื่อ!F50)","v":"  "},{"$f":"ใส่ชื่อ!A50","v":0},null,null,null,null,null,null,null,null,null,null,null,null,null,null,null,null,null,null,null,null,{"$f":"IF(ใส่ชื่อ!D50=\"\",\"\",IF(DS55=\"ปกติ\",SUM(F55,G55,H55,I55,J55,K55,L55,M55,N55,O55,P55,Q55,R55,S55,T55,U55,V55,W55,X55,Y55),\"-\"))","v":""},null,"",null,null,null,null,null,null,null,null,null,null,null,null,null,null,null,null,null,null,null,null,{"$f":"IF(ใส่ชื่อ!D50=\"\",\"\",IF(COUNTIF(AC55:AS55,0),\"มผ\",IF(DS55=\"ปกติ\",SUM(AC55,AD55,AE55,AF55,AG55,AH55,AI55,AJ55,AK55,AL55,AM55,AN55,AO55,AP55,AQ55,AR55,AS55),\"-\")))","v":""},null,"",null,null,null,null,null,null,null,null,null,null,null,null,null,null,null,{"$f":"IF(ใส่ชื่อ!D50=\"\",\"\",IF(COUNTIF(AZ55:BN55,0),\"มผ\",IF(DS55=\"ปกติ\",SUM(AZ55,BA55,BB55,BC55,BD55,BE55,BF55,BG55,BH55,BI55,BJ55,BK55,BL55,BM55,BN55),\"-\")))","v":""},null,"",null,null,null,null,null,null,null,null,null,null,null,null,null,null,null,{"$f":"IF(ใส่ชื่อ!D50=\"\",\"\",IF(DS55=\"ปกติ\",SUM(BR55,BS55,BT55,BU55,BV55,BW55,BX55,BY55,BZ55,CA55,CB55,CC55,CD55,CE55,CF55),\"-\"))","v":""},null,"",null,null,null,null,null,{"$f":"IF(ใส่ชื่อ!D50=\"\",\"\",IF(CJ55=\"\",\"\",(IF(CK55=\"\",\"\",(IF(CL55=\"\",\"\",(IF(CM55=\"\",\"\",(IF(CN55=\"\",\"\",(SUM(CJ55:CN55))))))))))))","v":""},"","",null,null,null,null,null,null,null,null,"","","","",null,{"$f":"IF(ใส่ชื่อ!D50=\"\",\"\",IF(COUNTIF(DA55:DC55,\"มผ\"),\"มผ\",IF(DC55=\"มผ\",\"มผ\",IF(DS55=\"ปกติ\",SUM(DA55:DB55,IF(DD55=\"\",DC55,DD55)),\"-\"))))","v":""},null,"",null,null,{"$f":"IF(ใส่ชื่อ!D50=\"\",\"\",IF(DE55=\"\",\"\",IF(COUNTIF(DA55:DH55,\"มผ\"),\"มผ\",IF(COUNTIF(DA55:DH55,\"-\"),\"-\",IF(DS55=\"ปกติ\",SUM(DE55,IF(DH55=\"\",DG55,DH55)))))))","v":""},null,null,null,{"$f":"ประเมินผลการเรียนเทอม1!DN55","v":""},{"$f":"IF(ใส่ชื่อ!A50=\"\",\"\",IF(DJ55=\"-\",\"-\",IF(DJ55=0,\"\",IF(DS55=\"ปกติ\",MAXA(DJ55/2,DL55/2)))))","v":""},null,{"$f":"IF(เวลาเรียน!M57=\"\",\"\",IF(เวลาเรียน!M57=\"ย้าย\",\"-\",IF(เวลาเรียน!M57=\"จำหน่าย\",\"-\",IF(เวลาเรียน!M57=\"ขาดเรียนนาน\",\"-\",IF(DN55=\"\",\"\",IF(DO55=\"\",\"\",SUM(DN55+DO55)))))))","v":""},{"$f":"IF(เวลาเรียน!M57=\"\",\"\",IF(เวลาเรียน!M57=\"ย้าย\",\"-\",IF(เวลาเรียน!M57=\"จำหน่าย\",\"-\",IF(เวลาเรียน!M57=\"ขาดเรียนนาน\",\"-\",IF(เวลาเรียน!L57<80,\"มส\",IF(COUNTIF(DQ55,\"-\"),\"-\",IF(COUNTIF(DQ55,\"\"),\"\",VLOOKUP(DQ55,$DU$19:$DW$26,3))))))))","v":""},{"$f":"IF(เวลาเรียน!M57=\"\",\"\",เวลาเรียน!M57)","v":""}]
[40,0,{"$f":"CONCATENATE(ใส่ชื่อ!C51)","v":""},{"$f":"CONCATENATE(ใส่ชื่อ!D51&ใส่ชื่อ!E51&\"  \"&ใส่ชื่อ!F51)","v":"  "},{"$f":"ใส่ชื่อ!A51","v":0},null,null,null,null,null,null,null,null,null,null,null,null,null,null,null,null,null,null,null,null,{"$f":"IF(ใส่ชื่อ!D51=\"\",\"\",IF(DS56=\"ปกติ\",SUM(F56,G56,H56,I56,J56,K56,L56,M56,N56,O56,P56,Q56,R56,S56,T56,U56,V56,W56,X56,Y56),\"-\"))","v":""},null,"",null,null,null,null,null,null,null,null,null,null,null,null,null,null,null,null,null,null,null,null,{"$f":"IF(ใส่ชื่อ!D51=\"\",\"\",IF(COUNTIF(AC56:AS56,0),\"มผ\",IF(DS56=\"ปกติ\",SUM(AC56,AD56,AE56,AF56,AG56,AH56,AI56,AJ56,AK56,AL56,AM56,AN56,AO56,AP56,AQ56,AR56,AS56),\"-\")))","v":""},null,"",null,null,null,null,null,null,null,null,null,null,null,null,null,null,null,{"$f":"IF(ใส่ชื่อ!D51=\"\",\"\",IF(COUNTIF(AZ56:BN56,0),\"มผ\",IF(DS56=\"ปกติ\",SUM(AZ56,BA56,BB56,BC56,BD56,BE56,BF56,BG56,BH56,BI56,BJ56,BK56,BL56,BM56,BN56),\"-\")))","v":""},null,"",null,null,null,null,null,null,null,null,null,null,null,null,null,null,null,{"$f":"IF(ใส่ชื่อ!D51=\"\",\"\",IF(DS56=\"ปกติ\",SUM(BR56,BS56,BT56,BU56,BV56,BW56,BX56,BY56,BZ56,CA56,CB56,CC56,CD56,CE56,CF56),\"-\"))","v":""},null,"",null,null,null,null,null,{"$f":"IF(ใส่ชื่อ!D51=\"\",\"\",IF(CJ56=\"\",\"\",(IF(CK56=\"\",\"\",(IF(CL56=\"\",\"\",(IF(CM56=\"\",\"\",(IF(CN56=\"\",\"\",(SUM(CJ56:CN56))))))))))))","v":""},"","",null,null,null,null,null,null,null,null,"","","","",null,{"$f":"IF(ใส่ชื่อ!D51=\"\",\"\",IF(COUNTIF(DA56:DC56,\"มผ\"),\"มผ\",IF(DC56=\"มผ\",\"มผ\",IF(DS56=\"ปกติ\",SUM(DA56:DB56,IF(DD56=\"\",DC56,DD56)),\"-\"))))","v":""},null,"",null,null,{"$f":"IF(ใส่ชื่อ!D51=\"\",\"\",IF(DE56=\"\",\"\",IF(COUNTIF(DA56:DH56,\"มผ\"),\"มผ\",IF(COUNTIF(DA56:DH56,\"-\"),\"-\",IF(DS56=\"ปกติ\",SUM(DE56,IF(DH56=\"\",DG56,DH56)))))))","v":""},null,null,null,{"$f":"ประเมินผลการเรียนเทอม1!DN56","v":""},{"$f":"IF(ใส่ชื่อ!A51=\"\",\"\",IF(DJ56=\"-\",\"-\",IF(DJ56=0,\"\",IF(DS56=\"ปกติ\",MAXA(DJ56/2,DL56/2)))))","v":""},null,{"$f":"IF(เวลาเรียน!M58=\"\",\"\",IF(เวลาเรียน!M58=\"ย้าย\",\"-\",IF(เวลาเรียน!M58=\"จำหน่าย\",\"-\",IF(เวลาเรียน!M58=\"ขาดเรียนนาน\",\"-\",IF(DN56=\"\",\"\",IF(DO56=\"\",\"\",SUM(DN56+DO56)))))))","v":""},{"$f":"IF(เวลาเรียน!M58=\"\",\"\",IF(เวลาเรียน!M58=\"ย้าย\",\"-\",IF(เวลาเรียน!M58=\"จำหน่าย\",\"-\",IF(เวลาเรียน!M58=\"ขาดเรียนนาน\",\"-\",IF(เวลาเรียน!L58<80,\"มส\",IF(COUNTIF(DQ56,\"-\"),\"-\",IF(COUNTIF(DQ56,\"\"),\"\",VLOOKUP(DQ56,$DU$19:$DW$26,3))))))))","v":""},{"$f":"IF(เวลาเรียน!M58=\"\",\"\",เวลาเรียน!M58)","v":""}]
[null,null,{"$f":"กำหนดอัตราส่วนคะแนน!U4","v":50},null,null,null,null,null,null,null,null,null,null,null,null,null,null,null,null,null,null,null,null,null,null,null,null,null,null,null,null,null,null,null,null,null,null,null,null,null,null,null,null,null,null,null,null,null,null,null,null,null,null,null,null,null,null,null,null,null,null,null,null,null,null,null,null,null,null,null,null,null,null,null,null,null,null,null,null,null,null,null,null,null,null,null,null,{"$f":"COUNTIF($CQ$7:$CQ$56,\"ดย\")","v":0},{"$f":"COUNTIF($CQ$7:$CQ$56,\"ด\")","v":0},{"$f":"COUNTIF($CQ$7:$CQ$56,\"ผ\")","v":0},{"$f":"COUNTIF($CQ$7:$CQ$56,\"มผ\")","v":0},null,null,null,null,{"$f":"COUNTIF($CZ$7:$CZ$56,\"ดย\")","v":0},{"$f":"COUNTIF($CZ$7:$CZ$56,\"ด\")","v":0},{"$f":"COUNTIF($CZ$7:$CZ$56,\"ผ\")","v":0},{"$f":"COUNTIF($CZ$7:$CZ$56,\"มผ\")","v":0},null,null,null,null,null,null,null,null,null,null,null,null,null,null,null,null,null,null,null,null,null,null,null,null,null,null,null,null,null,null,null,null,null,null,null,null,null,null,null,null,null,null,{"$f":"กำหนดอัตราส่วนคะแนน!FA4","v":0},null,null,null,null,null,null,null,null,null,null,null,null,null,null,null,null,null,null,null,null,null,null,null,null,null,null,null,null,null,null,null,null,null,null,null,null,null,null,null,null,null,null,null,null,null,null,null,null,null,null,null,null,null,null,null,null,null,null,null,null,null,null,null,null,null,null,null,null,null,null,null,null,null,null,null,null,null,null,null,null,null,null,null,null,{"$f":"COUNTIF($CQ$7:$CQ$56,\"3\")","v":0},{"$f":"COUNTIF($CQ$7:$CQ$56,\"2\")","v":0},{"$f":"COUNTIF($CQ$7:$CQ$56,\"1\")","v":0},{"$f":"COUNTIF($CQ$7:$CQ$56,\"0\")","v":0},null,null,null,null,{"$f":"COUNTIF($CZ$7:$CZ$56,\"3\")","v":0},{"$f":"COUNTIF($CZ$7:$CZ$56,\"2\")","v":0},{"$f":"COUNTIF($CZ$7:$CZ$56,\"1\")","v":0},{"$f":"COUNTIF($CZ$7:$CZ$56,\"0\")","v":0}]
[]
[]
[]
[null,null,null,null,null,null,null,null,null,null,null,null,null,null,null,null,null,null,null,null,null,null,null,null,null,null,null,null,null,null,null,null,null,null,null,null,null,null,null,null,null,null,null,null,null,null,null,null,null,null,null,null,null,null,null,null,null,null,null,null,null,null,null,null,null,null,null,null,null,"ตอนที่",null,"ป.1/1",null,1]
[null,null,null,null,null,null,null,null,null,null,null,null,null,null,null,null,null,null,null,null,null,null,null,null,null,null,null,null,null,null,null,null,null,null,null,null,null,null,null,null,null,null,null,null,null,null,null,null,null,null,null,null,null,null,null,null,null,null,null,null,null,null,null,null,null,null,null,null,null,"ท 1.1",null,"ป.1/2",null,2]
[null,null,null,null,null,null,null,null,null,null,null,null,null,null,null,null,null,null,null,null,null,null,null,null,null,null,null,null,null,null,null,null,null,null,null,null,null,null,null,null,null,null,null,null,null,null,null,null,null,null,null,null,null,null,null,null,null,null,null,null,null,null,null,null,null,null,null,null,null,"ท 2.1",null,"ป.1/3",null,3]
[null,null,null,null,null,null,null,null,null,null,null,null,null,null,null,null,null,null,null,null,null,null,null,null,null,null,null,null,null,null,null,null,null,null,null,null,null,null,null,null,null,null,null,null,null,null,null,null,null,null,null,null,null,null,null,null,null,null,null,null,null,null,null,null,null,null,null,null,null,"ท 3.1",null,"ป.1/4",null,4]
[null,null,null,null,null,null,null,null,null,null,null,null,null,null,null,null,null,null,null,null,null,null,null,null,null,null,null,null,null,null,null,null,null,null,null,null,null,null,null,null,null,null,null,null,null,null,null,null,null,null,null,null,null,null,null,null,null,null,null,null,null,null,null,null,null,null,null,null,null,"ท 4.1",null,"ป.1/5",null,5]
[null,null,null,null,null,null,null,null,null,null,null,null,null,null,null,null,null,null,null,null,null,null,null,null,null,null,null,null,null,null,null,null,null,null,null,null,null,null,null,null,null,null,null,null,null,null,null,null,null,null,null,null,null,null,null,null,null,null,null,null,null,null,null,null,null,null,null,null,null,"ท 5.1",null,"ป.1/6",null,"-"]
[null,null,null,null,null,null,null,null,null,null,null,null,null,null,null,null,null,null,null,null,null,null,null,null,null,null,null,null,null,null,null,null,null,null,null,null,null,null,null,null,null,null,null,null,null,null,null,null,null,null,null,null,null,null,null,null,null,null,null,null,null,null,null,null,null,null,null,null,null,"ค 1.1",null,"ป.1/7",null,"ป.1/1"]
[null,null,null,null,null,null,null,null,null,null,null,null,null,null,null,null,null,null,null,null,null,null,null,null,null,null,null,null,null,null,null,null,null,null,null,null,null,null,null,null,null,null,null,null,null,null,null,null,null,null,null,null,null,null,null,null,null,null,null,null,null,null,null,null,null,null,null,null,null,"ค 1.2",null,"ป.1/8",null,"ป.1/2"]
[null,null,null,null,null,null,null,null,null,null,null,null,null,null,null,null,null,null,null,null,null,null,null,null,null,null,null,null,null,null,null,null,null,null,null,null,null,null,null,null,null,null,null,null,null,null,null,null,null,null,null,null,null,null,null,null,null,null,null,null,null,null,null,null,null,null,null,null,null,"ค 1.3",null,"ป.1/9",null,"ป.1/3"]
[null,null,null,null,null,null,null,null,null,null,null,null,null,null,null,null,null,null,null,null,null,null,null,null,null,null,null,null,null,null,null,null,null,null,null,null,null,null,null,null,null,null,null,null,null,null,null,null,null,null,null,null,null,null,null,null,null,null,null,null,null,null,null,null,null,null,null,null,null,"ค 2.1",null,"ป.1/10",null,"ป.1/4"]
[null,null,null,null,null,null,null,null,null,null,null,null,null,null,null,null,null,null,null,null,null,null,null,null,null,null,null,null,null,null,null,null,null,null,null,null,null,null,null,null,null,null,null,null,null,null,null,null,null,null,null,null,null,null,null,null,null,null,null,null,null,null,null,null,null,null,null,null,null,"ค 2.2",null,"ป.2/1",null,"ป.1/5"]
[null,null,null,null,null,null,null,null,null,null,null,null,null,null,null,null,null,null,null,null,null,null,null,null,null,null,null,null,null,null,null,null,null,null,null,null,null,null,null,null,null,null,null,null,null,null,null,null,null,null,null,null,null,null,null,null,null,null,null,null,null,null,null,null,null,null,null,null,null,"ค 3.1",null,"ป.2/2",null,"ป.1/6"]
[null,null,null,null,null,null,null,null,null,null,null,null,null,null,null,null,null,null,null,null,null,null,null,null,null,null,null,null,null,null,null,null,null,null,null,null,null,null,null,null,null,null,null,null,null,null,null,null,null,null,null,null,null,null,null,null,null,null,null,null,null,null,null,null,null,null,null,null,null,"ค 3.2",null,"ป.2/3",null,"ป.1/7"]
[null,null,null,null,null,null,null,null,null,null,null,null,null,null,null,null,null,null,null,null,null,null,null,null,null,null,null,null,null,null,null,null,null,null,null,null,null,null,null,null,null,null,null,null,null,null,null,null,null,null,null,null,null,null,null,null,null,null,null,null,null,null,null,null,null,null,null,null,null,"ว 1.1",null,"ป.2/4",null,"ป.1/8"]
[null,null,null,null,null,null,null,null,null,null,null,null,null,null,null,null,null,null,null,null,null,null,null,null,null,null,null,null,null,null,null,null,null,null,null,null,null,null,null,null,null,null,null,null,null,null,null,null,null,null,null,null,null,null,null,null,null,null,null,null,null,null,null,null,null,null,null,null,null,"ว 1.2",null,"ป.2/5",null,"ป.1/9"]
[null,null,null,null,null,null,null,null,null,null,null,null,null,null,null,null,null,null,null,null,null,null,null,null,null,null,null,null,null,null,null,null,null,null,null,null,null,null,null,null,null,null,null,null,null,null,null,null,null,null,null,null,null,null,null,null,null,null,null,null,null,null,null,null,null,null,null,null,null,"ว 1.3",null,"ป.2/6",null,"ป.1/10"]
[null,null,null,null,null,null,null,null,null,null,null,null,null,null,null,null,null,null,null,null,null,null,null,null,null,null,null,null,null,null,null,null,null,null,null,null,null,null,null,null,null,null,null,null,null,null,null,null,null,null,null,null,null,null,null,null,null,null,null,null,null,null,null,null,null,null,null,null,null,"ว 2.1",null,"ป.2/7",null,"ป.1/11"]
[null,null,null,null,null,null,null,null,null,null,null,null,null,null,null,null,null,null,null,null,null,null,null,null,null,null,null,null,null,null,null,null,null,null,null,null,null,null,null,null,null,null,null,null,null,null,null,null,null,null,null,null,null,null,null,null,null,null,null,null,null,null,null,null,null,null,null,null,null,"ว 2.2",null,"ป.2/8",null,"ป.1/12"]
[null,null,null,null,null,null,null,null,null,null,null,null,null,null,null,null,null,null,null,null,null,null,null,null,null,null,null,null,null,null,null,null,null,null,null,null,null,null,null,null,null,null,null,null,null,null,null,null,null,null,null,null,null,null,null,null,null,null,null,null,null,null,null,null,null,null,null,null,null,"ว 2.3",null,"ป.2/9",null,"ป.1/13"]
[null,null,null,null,null,null,null,null,null,null,null,null,null,null,null,null,null,null,null,null,null,null,null,null,null,null,null,null,null,null,null,null,null,null,null,null,null,null,null,null,null,null,null,null,null,null,null,null,null,null,null,null,null,null,null,null,null,null,null,null,null,null,null,null,null,null,null,null,null,"ว 3.1",null,"ป.2/10",null,"ป.1/14"]
[null,null,null,null,null,null,null,null,null,null,null,null,null,null,null,null,null,null,null,null,null,null,null,null,null,null,null,null,null,null,null,null,null,null,null,null,null,null,null,null,null,null,null,null,null,null,null,null,null,null,null,null,null,null,null,null,null,null,null,null,null,null,null,null,null,null,null,null,null,"ว 3.2",null,"ป.3/1",null,"ป.1/15"]
[null,null,null,null,null,null,null,null,null,null,null,null,null,null,null,null,null,null,null,null,null,null,null,null,null,null,null,null,null,null,null,null,null,null,null,null,null,null,null,null,null,null,null,null,null,null,null,null,null,null,null,null,null,null,null,null,null,null,null,null,null,null,null,null,null,null,null,null,null,"ว 4.1",null,null,null,"ป.2/1"]
[null,null,null,null,null,null,null,null,null,null,null,null,null,null,null,null,null,null,null,null,null,null,null,null,null,null,null,null,null,null,null,null,null,null,null,null,null,null,null,null,null,null,null,null,null,null,null,null,null,null,null,null,null,null,null,null,null,null,null,null,null,null,null,null,null,null,null,null,null,"ว 4.2",null,"ป.3/2",null,"ป.2/2"]
[null,null,null,null,null,null,null,null,null,null,null,null,null,null,null,null,null,null,null,null,null,null,null,null,null,null,null,null,null,null,null,null,null,null,null,null,null,null,null,null,null,null,null,null,null,null,null,null,null,null,null,null,null,null,null,null,null,null,null,null,null,null,null,null,null,null,null,null,null,"ส 1.1",null,"ป.3/3",null,"ป.2/3"]
[null,null,null,null,null,null,null,null,null,null,null,null,null,null,null,null,null,null,null,null,null,null,null,null,null,null,null,null,null,null,null,null,null,null,null,null,null,null,null,null,null,null,null,null,null,null,null,null,null,null,null,null,null,null,null,null,null,null,null,null,null,null,null,null,null,null,null,null,null,"ส 1.2",null,null,null,"ป.2/4"]
[null,null,null,null,null,null,null,null,null,null,null,null,null,null,null,null,null,null,null,null,null,null,null,null,null,null,null,null,null,null,null,null,null,null,null,null,null,null,null,null,null,null,null,null,null,null,null,null,null,null,null,null,null,null,null,null,null,null,null,null,null,null,null,null,null,null,null,null,null,"ส 2.1",null,"ป.3/4",null,"ป.2/5"]
[null,null,null,null,null,null,null,null,null,null,null,null,null,null,null,null,null,null,null,null,null,null,null,null,null,null,null,null,null,null,null,null,null,null,null,null,null,null,null,null,null,null,null,null,null,null,null,null,null,null,null,null,null,null,null,null,null,null,null,null,null,null,null,null,null,null,null,null,null,"ส 2.2",null,"ป.3/5",null,"ป.2/6"]
[null,null,null,null,null,null,null,null,null,null,null,null,null,null,null,null,null,null,null,null,null,null,null,null,null,null,null,null,null,null,null,null,null,null,null,null,null,null,null,null,null,null,null,null,null,null,null,null,null,null,null,null,null,null,null,null,null,null,null,null,null,null,null,null,null,null,null,null,null,"ส 3.1",null,"ป.3/6",null,"ป.2/7"]
[null,null,null,null,null,null,null,null,null,null,null,null,null,null,null,null,null,null,null,null,null,null,null,null,null,null,null,null,null,null,null,null,null,null,null,null,null,null,null,null,null,null,null,null,null,null,null,null,null,null,null,null,null,null,null,null,null,null,null,null,null,null,null,null,null,null,null,null,null,"ส 3.2",null,"ป.3/7",null,"ป.2/8"]
[null,null,null,null,null,null,null,null,null,null,null,null,null,null,null,null,null,null,null,null,null,null,null,null,null,null,null,null,null,null,null,null,null,null,null,null,null,null,null,null,null,null,null,null,null,null,null,null,null,null,null,null,null,null,null,null,null,null,null,null,null,null,null,null,null,null,null,null,null,"ส 4.1",null,"ป.3/8",null,"ป.2/9"]
[null,null,null,null,null,null,null,null,null,null,null,null,null,null,null,null,null,null,null,null,null,null,null,null,null,null,null,null,null,null,null,null,null,null,null,null,null,null,null,null,null,null,null,null,null,null,null,null,null,null,null,null,null,null,null,null,null,null,null,null,null,null,null,null,null,null,null,null,null,"ส 4.2",null,"ป.3/9",null,"ป.2/10"]
[null,null,null,null,null,null,null,null,null,null,null,null,null,null,null,null,null,null,null,null,null,null,null,null,null,null,null,null,null,null,null,null,null,null,null,null,null,null,null,null,null,null,null,null,null,null,null,null,null,null,null,null,null,null,null,null,null,null,null,null,null,null,null,null,null,null,null,null,null,"ส 4.2",null,"ป.3/10",null,"ป.2/11"]
[null,null,null,null,null,null,null,null,null,null,null,null,null,null,null,null,null,null,null,null,null,null,null,null,null,null,null,null,null,null,null,null,null,null,null,null,null,null,null,null,null,null,null,null,null,null,null,null,null,null,null,null,null,null,null,null,null,null,null,null,null,null,null,null,null,null,null,null,null,"ส 5.1",null,"ป.4/1",null,"ป.2/12"]
[null,null,null,null,null,null,null,null,null,null,null,null,null,null,null,null,null,null,null,null,null,null,null,null,null,null,null,null,null,null,null,null,null,null,null,null,null,null,null,null,null,null,null,null,null,null,null,null,null,null,null,null,null,null,null,null,null,null,null,null,null,null,null,null,null,null,null,null,null,"ส 5.2",null,"ป.4/2",null,"ป.2/13"]
[null,null,null,null,null,null,null,null,null,null,null,null,null,null,null,null,null,null,null,null,null,null,null,null,null,null,null,null,null,null,null,null,null,null,null,null,null,null,null,null,null,null,null,null,null,null,null,null,null,null,null,null,null,null,null,null,null,null,null,null,null,null,null,null,null,null,null,null,null,"พ 1.1",null,"ป.4/3",null,"ป.2/14"]
[null,null,null,null,null,null,null,null,null,null,null,null,null,null,null,null,null,null,null,null,null,null,null,null,null,null,null,null,null,null,null,null,null,null,null,null,null,null,null,null,null,null,null,null,null,null,null,null,null,null,null,null,null,null,null,null,null,null,null,null,null,null,null,null,null,null,null,null,null,"พ 2.1",null,"ป.4/4",null,"ป.2/15"]
[null,null,null,null,null,null,null,null,null,null,null,null,null,null,null,null,null,null,null,null,null,null,null,null,null,null,null,null,null,null,null,null,null,null,null,null,null,null,null,null,null,null,null,null,null,null,null,null,null,null,null,null,null,null,null,null,null,null,null,null,null,null,null,null,null,null,null,null,null,"พ 3.1",null,"ป.4/5",null,"ป.3/1"]
[null,"ท 1.1",null,null,"ม.1/1",null,null,null,null,null,null,null,null,null,null,null,null,null,null,null,null,null,null,null,null,null,null,null,null,null,null,null,null,null,null,null,null,null,null,null,null,null,null,null,null,null,null,null,null,null,null,null,null,null,null,null,null,null,null,null,null,null,null,null,null,null,null,null,null,"พ 3.2",null,"ป.4/6",null,"ป.3/2",null,null,null,null,null,null,null,null,null,null,null,null,null,null,null,null,null,null,null,null,null,null,null,null,null,null,null,null,null,null,null,null,null,null,null,null,null,null,null,null,null,null,null,null,null,null,null,null,null,null,null,null,null,null,null,null,null,null,null,null,null,null,null,null,null,null,null,null,null,"ม.1/1"]
[null,"ท 2.1",null,null,"ม.1/2",null,null,null,null,null,null,null,null,null,null,null,null,null,null,null,null,null,null,null,null,null,null,null,null,null,null,null,null,null,null,null,null,null,null,null,null,null,null,null,null,null,null,null,null,null,null,null,null,null,null,null,null,null,null,null,null,null,null,null,null,null,null,null,null,"พ 4.1",null,"ป.4/7",null,"ป.3/3",null,null,null,null,null,null,null,null,null,null,null,null,null,null,null,null,null,null,null,null,null,null,null,null,null,null,null,null,null,null,null,null,null,null,null,null,null,null,null,null,null,null,null,null,null,null,null,null,null,null,null,null,null,null,null,null,null,null,null,null,null,null,null,null,null,null,null,null,null,"ม.1/2"]
[null,"ท 3.1",null,null,"ม.1/3",null,null,null,null,null,null,null,null,null,null,null,null,null,null,null,null,null,null,null,null,null,null,null,null,null,null,null,null,null,null,null,null,null,null,null,null,null,null,null,null,null,null,null,null,null,null,null,null,null,null,null,null,null,null,null,null,null,null,null,null,null,null,null,null,"พ 5.1",null,"ป.4/8",null,"ป.3/4",null,null,null,null,null,null,null,null,null,null,null,null,null,null,null,null,null,null,null,null,null,null,null,null,null,null,null,null,null,null,null,null,null,null,null,null,null,null,null,null,null,null,null,null,null,null,null,null,null,null,null,null,null,null,null,null,null,null,null,null,null,null,null,null,null,null,null,null,null,"ม.1/3"]
[null,"ท 4.1",null,null,"ม.1/4",null,null,null,null,null,null,null,null,null,null,null,null,null,null,null,null,null,null,null,null,null,null,null,null,null,null,null,null,null,null,null,null,null,null,null,null,null,null,null,null,null,null,null,null,null,null,null,null,null,null,null,null,null,null,null,null,null,null,null,null,null,null,null,null,"ศ 1.1",null,"ป.4/9",null,"ป.3/5",null,null,null,null,null,null,null,null,null,null,null,null,null,null,null,null,null,null,null,null,null,null,null,null,null,null,null,null,null,null,null,null,null,null,null,null,null,null,null,null,null,null,null,null,null,null,null,null,null,null,null,null,null,null,null,null,null,null,null,null,null,null,null,null,null,null,null,null,null,"ม.1/4"]
[null,"ท 5.1",null,null,"ม.1/5",null,null,null,null,null,null,null,null,null,null,null,null,null,null,null,null,null,null,null,null,null,null,null,null,null,null,null,null,null,null,null,null,null,null,null,null,null,null,null,null,null,null,null,null,null,null,null,null,null,null,null,null,null,null,null,null,null,null,null,null,null,null,null,null,"ศ 1.2",null,"ป.4/10",null,"ป.3/6",null,null,null,null,null,null,null,null,null,null,null,null,null,null,null,null,null,null,null,null,null,null,null,null,null,null,null,null,null,null,null,null,null,null,null,null,null,null,null,null,null,null,null,null,null,null,null,null,null,null,null,null,null,null,null,null,null,null,null,null,null,null,null,null,null,null,null,null,null,"ม.1/5"]
[null,"ค 1.1",null,null,"ม.1/6",null,null,null,null,null,null,null,null,null,null,null,null,null,null,null,null,null,null,null,null,null,null,null,null,null,null,null,null,null,null,null,null,null,null,null,null,null,null,null,null,null,null,null,null,null,null,null,null,null,null,null,null,null,null,null,null,null,null,null,null,null,null,null,null,"ศ 2.1",null,"ป.5/1",null,"ป.3/7",null,null,null,null,null,null,null,null,null,null,null,null,null,null,null,null,null,null,null,null,null,null,null,null,null,null,null,null,null,null,null,null,null,null,null,null,null,null,null,null,null,null,null,null,null,null,null,null,null,null,null,null,null,null,null,null,null,null,null,null,null,null,null,null,null,null,null,null,null,"ม.1/6"]
[null,"ค 1.2",null,null,"ม.1/7",null,null,null,null,null,null,null,null,null,null,null,null,null,null,null,null,null,null,null,null,null,null,null,null,null,null,null,null,null,null,null,null,null,null,null,null,null,null,null,null,null,null,null,null,null,null,null,null,null,null,null,null,null,null,null,null,null,null,null,null,null,null,null,null,"ศ 2.2",null,"ป.5/2",null,"ป.3/8",null,null,null,null,null,null,null,null,null,null,null,null,null,null,null,null,null,null,null,null,null,null,null,null,null,null,null,null,null,null,null,null,null,null,null,null,null,null,null,null,null,null,null,null,null,null,null,null,null,null,null,null,null,null,null,null,null,null,null,null,null,null,null,null,null,null,null,null,null,"ม.1/7"]
[null,"ค 1.3",null,null,"ม.1/8",null,null,null,null,null,null,null,null,null,null,null,null,null,null,null,null,null,null,null,null,null,null,null,null,null,null,null,null,null,null,null,null,null,null,null,null,null,null,null,null,null,null,null,null,null,null,null,null,null,null,null,null,null,null,null,null,null,null,null,null,null,null,null,null,"ศ 3.1",null,"ป.5/3",null,"ป.3/9",null,null,null,null,null,null,null,null,null,null,null,null,null,null,null,null,null,null,null,null,null,null,null,null,null,null,null,null,null,null,null,null,null,null,null,null,null,null,null,null,null,null,null,null,null,null,null,null,null,null,null,null,null,null,null,null,null,null,null,null,null,null,null,null,null,null,null,null,null,"ม.1/8"]
[null,"ค 1.4",null,null,"ม.1/9",null,null,null,null,null,null,null,null,null,null,null,null,null,null,null,null,null,null,null,null,null,null,null,null,null,null,null,null,null,null,null,null,null,null,null,null,null,null,null,null,null,null,null,null,null,null,null,null,null,null,null,null,null,null,null,null,null,null,null,null,null,null,null,null,"ศ 3.2",null,"ป.5/4",null,"ป.3/10",null,null,null,null,null,null,null,null,null,null,null,null,null,null,null,null,null,null,null,null,null,null,null,null,null,null,null,null,null,null,null,null,null,null,null,null,null,null,null,null,null,null,null,null,null,null,null,null,null,null,null,null,null,null,null,null,null,null,null,null,null,null,null,null,null,null,null,null,null,"ม.1/9"]
[null,"ค 2.1",null,null,"ม.1/10",null,null,null,null,null,null,null,null,null,null,null,null,null,null,null,null,null,null,null,null,null,null,null,null,null,null,null,null,null,null,null,null,null,null,null,null,null,null,null,null,null,null,null,null,null,null,null,null,null,null,null,null,null,null,null,null,null,null,null,null,null,null,null,null,"ง 1.1",null,"ป.5/5",null,"ป.3/11",null,null,null,null,null,null,null,null,null,null,null,null,null,null,null,null,null,null,null,null,null,null,null,null,null,null,null,null,null,null,null,null,null,null,null,null,null,null,null,null,null,null,null,null,null,null,null,null,null,null,null,null,null,null,null,null,null,null,null,null,null,null,null,null,null,null,null,null,null,"ม.1/10"]
[null,"ค 2.2",null,null,"ม.2/1",null,null,null,null,null,null,null,null,null,null,null,null,null,null,null,null,null,null,null,null,null,null,null,null,null,null,null,null,null,null,null,null,null,null,null,null,null,null,null,null,null,null,null,null,null,null,null,null,null,null,null,null,null,null,null,null,null,null,null,null,null,null,null,null," ง 2.1",null,"ป.5/6",null,"ป.3/12",null,null,null,null,null,null,null,null,null,null,null,null,null,null,null,null,null,null,null,null,null,null,null,null,null,null,null,null,null,null,null,null,null,null,null,null,null,null,null,null,null,null,null,null,null,null,null,null,null,null,null,null,null,null,null,null,null,null,null,null,null,null,null,null,null,null,null,null,null,"ม.2/1"]
[null,"ค 3.1",null,null,"ม.2/2",null,null,null,null,null,null,null,null,null,null,null,null,null,null,null,null,null,null,null,null,null,null,null,null,null,null,null,null,null,null,null,null,null,null,null,null,null,null,null,null,null,null,null,null,null,null,null,null,null,null,null,null,null,null,null,null,null,null,null,null,null,null,null,null,"ง 3.1",null,"ป.5/7",null,"ป.3/13",null,null,null,null,null,null,null,null,null,null,null,null,null,null,null,null,null,null,null,null,null,null,null,null,null,null,null,null,null,null,null,null,null,null,null,null,null,null,null,null,null,null,null,null,null,null,null,null,null,null,null,null,null,null,null,null,null,null,null,null,null,null,null,null,null,null,null,null,null,"ม.2/2"]
[null,"ค 3.2",null,null,"ม.2/3",null,null,null,null,null,null,null,null,null,null,null,null,null,null,null,null,null,null,null,null,null,null,null,null,null,null,null,null,null,null,null,null,null,null,null,null,null,null,null,null,null,null,null,null,null,null,null,null,null,null,null,null,null,null,null,null,null,null,null,null,null,null,null,null,"ง 4.1",null,"ป.5/8",null,"ป.3/14",null,null,null,null,null,null,null,null,null,null,null,null,null,null,null,null,null,null,null,null,null,null,null,null,null,null,null,null,null,null,null,null,null,null,null,null,null,null,null,null,null,null,null,null,null,null,null,null,null,null,null,null,null,null,null,null,null,null,null,null,null,null,null,null,null,null,null,null,null,"ม.2/3"]
[null,"ค 4.1",null,null,"ม.2/4",null,null,null,null,null,null,null,null,null,null,null,null,null,null,null,null,null,null,null,null,null,null,null,null,null,null,null,null,null,null,null,null,null,null,null,null,null,null,null,null,null,null,null,null,null,null,null,null,null,null,null,null,null,null,null,null,null,null,null,null,null,null,null,null,"ต 1.1",null,"ป.5/9",null,"ป.3/15",null,null,null,null,null,null,null,null,null,null,null,null,null,null,null,null,null,null,null,null,null,null,null,null,null,null,null,null,null,null,null,null,null,null,null,null,null,null,null,null,null,null,null,null,null,null,null,null,null,null,null,null,null,null,null,null,null,null,null,null,null,null,null,null,null,null,null,null,null,"ม.2/4"]
[null,"ค 4.2",null,null,"ม.2/5",null,null,null,null,null,null,null,null,null,null,null,null,null,null,null,null,null,null,null,null,null,null,null,null,null,null,null,null,null,null,null,null,null,null,null,null,null,null,null,null,null,null,null,null,null,null,null,null,null,null,null,null,null,null,null,null,null,null,null,null,null,null,null,null,"ต 1.2",null,"ป.5/10",null,"ป.4/1",null,null,null,null,null,null,null,null,null,null,null,null,null,null,null,null,null,null,null,null,null,null,null,null,null,null,null,null,null,null,null,null,null,null,null,null,null,null,null,null,null,null,null,null,null,null,null,null,null,null,null,null,null,null,null,null,null,null,null,null,null,null,null,null,null,null,null,null,null,"ม.2/5"]
[null,"ค 5.1",null,null,"ม.2/6",null,null,null,null,null,null,null,null,null,null,null,null,null,null,null,null,null,null,null,null,null,null,null,null,null,null,null,null,null,null,null,null,null,null,null,null,null,null,null,null,null,null,null,null,null,null,null,null,null,null,null,null,null,null,null,null,null,null,null,null,null,null,null,null,"ต 1.3",null,"ป.6/1",null,"ป.4/2",null,null,null,null,null,null,null,null,null,null,null,null,null,null,null,null,null,null,null,null,null,null,null,null,null,null,null,null,null,null,null,null,null,null,null,null,null,null,null,null,null,null,null,null,null,null,null,null,null,null,null,null,null,null,null,null,null,null,null,null,null,null,null,null,null,null,null,null,null,"ม.2/6"]
[null,"ค 5.2",null,null,"ม.2/7",null,null,null,null,null,null,null,null,null,null,null,null,null,null,null,null,null,null,null,null,null,null,null,null,null,null,null,null,null,null,null,null,null,null,null,null,null,null,null,null,null,null,null,null,null,null,null,null,null,null,null,null,null,null,null,null,null,null,null,null,null,null,null,null,"ต 2.1",null,"ป.6/2",null,"ป.4/3",null,null,null,null,null,null,null,null,null,null,null,null,null,null,null,null,null,null,null,null,null,null,null,null,null,null,null,null,null,null,null,null,null,null,null,null,null,null,null,null,null,null,null,null,null,null,null,null,null,null,null,null,null,null,null,null,null,null,null,null,null,null,null,null,null,null,null,null,null,"ม.2/7"]
[null,"ค 5.3",null,null,"ม.2/8",null,null,null,null,null,null,null,null,null,null,null,null,null,null,null,null,null,null,null,null,null,null,null,null,null,null,null,null,null,null,null,null,null,null,null,null,null,null,null,null,null,null,null,null,null,null,null,null,null,null,null,null,null,null,null,null,null,null,null,null,null,null,null,null,"ต 2.2",null,"ป.6/3",null,"ป.4/4",null,null,null,null,null,null,null,null,null,null,null,null,null,null,null,null,null,null,null,null,null,null,null,null,null,null,null,null,null,null,null,null,null,null,null,null,null,null,null,null,null,null,null,null,null,null,null,null,null,null,null,null,null,null,null,null,null,null,null,null,null,null,null,null,null,null,null,null,null,"ม.2/8"]
[null,"ค 6.1",null,null,"ม.2/9",null,null,null,null,null,null,null,null,null,null,null,null,null,null,null,null,null,null,null,null,null,null,null,null,null,null,null,null,null,null,null,null,null,null,null,null,null,null,null,null,null,null,null,null,null,null,null,null,null,null,null,null,null,null,null,null,null,null,null,null,null,null,null,null,"ต 3.1",null,"ป.6/4",null,"ป.4/5",null,null,null,null,null,null,null,null,null,null,null,null,null,null,null,null,null,null,null,null,null,null,null,null,null,null,null,null,null,null,null,null,null,null,null,null,null,null,null,null,null,null,null,null,null,null,null,null,null,null,null,null,null,null,null,null,null,null,null,null,null,null,null,null,null,null,null,null,null,"ม.2/9"]
[null,"ว 1.1",null,null,"ม.2/10",null,null,null,null,null,null,null,null,null,null,null,null,null,null,null,null,null,null,null,null,null,null,null,null,null,null,null,null,null,null,null,null,null,null,null,null,null,null,null,null,null,null,null,null,null,null,null,null,null,null,null,null,null,null,null,null,null,null,null,null,null,null,null,null,"ต 4.1",null,"ป.6/5",null,"ป.4/6",null,null,null,null,null,null,null,null,null,null,null,null,null,null,null,null,null,null,null,null,null,null,null,null,null,null,null,null,null,null,null,null,null,null,null,null,null,null,null,null,null,null,null,null,null,null,null,null,null,null,null,null,null,null,null,null,null,null,null,null,null,null,null,null,null,null,null,null,null,"ม.2/10"]
[null,"ว 1.2",null,null,"ม.3/1",null,null,null,null,null,null,null,null,null,null,null,null,null,null,null,null,null,null,null,null,null,null,null,null,null,null,null,null,null,null,null,null,null,null,null,null,null,null,null,null,null,null,null,null,null,null,null,null,null,null,null,null,null,null,null,null,null,null,null,null,null,null,null,null,"ต 4.2",null,"ป.6/6",null,"ป.4/7",null,null,null,null,null,null,null,null,null,null,null,null,null,null,null,null,null,null,null,null,null,null,null,null,null,null,null,null,null,null,null,null,null,null,null,null,null,null,null,null,null,null,null,null,null,null,null,null,null,null,null,null,null,null,null,null,null,null,null,null,null,null,null,null,null,null,null,null,null,"ม.3/1"]
[null,"ว 2.1",null,null,"ม.3/2",null,null,null,null,null,null,null,null,null,null,null,null,null,null,null,null,null,null,null,null,null,null,null,null,null,null,null,null,null,null,null,null,null,null,null,null,null,null,null,null,null,null,null,null,null,null,null,null,null,null,null,null,null,null,null,null,null,null,null,null,null,null,null,null,"ข้อ 1",null,"ป.6/7",null,"ป.4/8",null,null,null,null,null,null,null,null,null,null,null,null,null,null,null,null,null,null,null,null,null,null,null,null,null,null,null,null,null,null,null,null,null,null,null,null,null,null,null,null,null,null,null,null,null,null,null,null,null,null,null,null,null,null,null,null,null,null,null,null,null,null,null,null,null,null,null,null,null,"ม.3/2"]
[null,"ว 2.2",null,null,"ม.3/3",null,null,null,null,null,null,null,null,null,null,null,null,null,null,null,null,null,null,null,null,null,null,null,null,null,null,null,null,null,null,null,null,null,null,null,null,null,null,null,null,null,null,null,null,null,null,null,null,null,null,null,null,null,null,null,null,null,null,null,null,null,null,null,null,"ข้อ 2",null,"ป.6/8",null,"ป.4/9",null,null,null,null,null,null,null,null,null,null,null,null,null,null,null,null,null,null,null,null,null,null,null,null,null,null,null,null,null,null,null,null,null,null,null,null,null,null,null,null,null,null,null,null,null,null,null,null,null,null,null,null,null,null,null,null,null,null,null,null,null,null,null,null,null,null,null,null,null,"ม.3/3"]
[null,"ว 3.1",null,null,"ม.3/4",null,null,null,null,null,null,null,null,null,null,null,null,null,null,null,null,null,null,null,null,null,null,null,null,null,null,null,null,null,null,null,null,null,null,null,null,null,null,null,null,null,null,null,null,null,null,null,null,null,null,null,null,null,null,null,null,null,null,null,null,null,null,null,null,"ข้อ 3",null,"ป.6/9",null,"ป.4/10",null,null,null,null,null,null,null,null,null,null,null,null,null,null,null,null,null,null,null,null,null,null,null,null,null,null,null,null,null,null,null,null,null,null,null,null,null,null,null,null,null,null,null,null,null,null,null,null,null,null,null,null,null,null,null,null,null,null,null,null,null,null,null,null,null,null,null,null,null,"ม.3/4"]
[null,"ว 3.2",null,null,"ม.3/5",null,null,null,null,null,null,null,null,null,null,null,null,null,null,null,null,null,null,null,null,null,null,null,null,null,null,null,null,null,null,null,null,null,null,null,null,null,null,null,null,null,null,null,null,null,null,null,null,null,null,null,null,null,null,null,null,null,null,null,null,null,null,null,null,"ข้อ 4",null,"ป.6/10",null,"ป.4/11",null,null,null,null,null,null,null,null,null,null,null,null,null,null,null,null,null,null,null,null,null,null,null,null,null,null,null,null,null,null,null,null,null,null,null,null,null,null,null,null,null,null,null,null,null,null,null,null,null,null,null,null,null,null,null,null,null,null,null,null,null,null,null,null,null,null,null,null,null,"ม.3/5"]
[null,"ว 4.1",null,null,"ม.3/6",null,null,null,null,null,null,null,null,null,null,null,null,null,null,null,null,null,null,null,null,null,null,null,null,null,null,null,null,null,null,null,null,null,null,null,null,null,null,null,null,null,null,null,null,null,null,null,null,null,null,null,null,null,null,null,null,null,null,null,null,null,null,null,null,"ข้อ 5",null,"ข้อ1",null,"ป.4/12",null,null,null,null,null,null,null,null,null,null,null,null,null,null,null,null,null,null,null,null,null,null,null,null,null,null,null,null,null,null,null,null,null,null,null,null,null,null,null,null,null,null,null,null,null,null,null,null,null,null,null,null,null,null,null,null,null,null,null,null,null,null,null,null,null,null,null,null,null,"ม.3/6"]
[null,"ว 4.2",null,null,"ม.3/7",null,null,null,null,null,null,null,null,null,null,null,null,null,null,null,null,null,null,null,null,null,null,null,null,null,null,null,null,null,null,null,null,null,null,null,null,null,null,null,null,null,null,null,null,null,null,null,null,null,null,null,null,null,null,null,null,null,null,null,null,null,null,null,null,"ข้อ 6",null,"ข้อ2",null,"ป.4/13",null,null,null,null,null,null,null,null,null,null,null,null,null,null,null,null,null,null,null,null,null,null,null,null,null,null,null,null,null,null,null,null,null,null,null,null,null,null,null,null,null,null,null,null,null,null,null,null,null,null,null,null,null,null,null,null,null,null,null,null,null,null,null,null,null,null,null,null,null,"ม.3/7"]
[null,"ว 5.1",null,null,"ม.3/8",null,null,null,null,null,null,null,null,null,null,null,null,null,null,null,null,null,null,null,null,null,null,null,null,null,null,null,null,null,null,null,null,null,null,null,null,null,null,null,null,null,null,null,null,null,null,null,null,null,null,null,null,null,null,null,null,null,null,null,null,null,null,null,null,"ข้อ 7",null,"ข้อ3",null,"ป.4/14",null,null,null,null,null,null,null,null,null,null,null,null,null,null,null,null,null,null,null,null,null,null,null,null,null,null,null,null,null,null,null,null,null,null,null,null,null,null,null,null,null,null,null,null,null,null,null,null,null,null,null,null,null,null,null,null,null,null,null,null,null,null,null,null,null,null,null,null,null,"ม.3/8"]
[null,"ว 6.1",null,null,"ม.3/9",null,null,null,null,null,null,null,null,null,null,null,null,null,null,null,null,null,null,null,null,null,null,null,null,null,null,null,null,null,null,null,null,null,null,null,null,null,null,null,null,null,null,null,null,null,null,null,null,null,null,null,null,null,null,null,null,null,null,null,null,null,null,null,null,"ข้อ 8",null,"ข้อ4",null,"ป.4/15",null,null,null,null,null,null,null,null,null,null,null,null,null,null,null,null,null,null,null,null,null,null,null,null,null,null,null,null,null,null,null,null,null,null,null,null,null,null,null,null,null,null,null,null,null,null,null,null,null,null,null,null,null,null,null,null,null,null,null,null,null,null,null,null,null,null,null,null,null,"ม.3/9"]
[null,"ว 7.1",null,null,"ม.3/10",null,null,null,null,null,null,null,null,null,null,null,null,null,null,null,null,null,null,null,null,null,null,null,null,null,null,null,null,null,null,null,null,null,null,null,null,null,null,null,null,null,null,null,null,null,null,null,null,null,null,null,null,null,null,null,null,null,null,null,null,null,null,null,null,"ข้อ 9",null,"ข้อ5",null,"ป.5/1",null,null,null,null,null,null,null,null,null,null,null,null,null,null,null,null,null,null,null,null,null,null,null,null,null,null,null,null,null,null,null,null,null,null,null,null,null,null,null,null,null,null,null,null,null,null,null,null,null,null,null,null,null,null,null,null,null,null,null,null,null,null,null,null,null,null,null,null,null,"ม.3/10"]
[null,"ว 7.2",null,null,"ม.4-6/1",null,null,null,null,null,null,null,null,null,null,null,null,null,null,null,null,null,null,null,null,null,null,null,null,null,null,null,null,null,null,null,null,null,null,null,null,null,null,null,null,null,null,null,null,null,null,null,null,null,null,null,null,null,null,null,null,null,null,null,null,null,null,null,null,"ข้อ 10",null,"ข้อ6",null,"ป.5/2",null,null,null,null,null,null,null,null,null,null,null,null,null,null,null,null,null,null,null,null,null,null,null,null,null,null,null,null,null,null,null,null,null,null,null,null,null,null,null,null,null,null,null,null,null,null,null,null,null,null,null,null,null,null,null,null,null,null,null,null,null,null,null,null,null,null,null,null,null,"ม.4-6/1"]
[null,"ว 8.1",null,null,"ม.4-6/2",null,null,null,null,null,null,null,null,null,null,null,null,null,null,null,null,null,null,null,null,null,null,null,null,null,null,null,null,null,null,null,null,null,null,null,null,null,null,null,null,null,null,null,null,null,null,null,null,null,null,null,null,null,null,null,null,null,null,null,null,null,null,null,null,"ข้อ 11",null,"ข้อ7",null,"ป.5/3",null,null,null,null,null,null,null,null,null,null,null,null,null,null,null,null,null,null,null,null,null,null,null,null,null,null,null,null,null,null,null,null,null,null,null,null,null,null,null,null,null,null,null,null,null,null,null,null,null,null,null,null,null,null,null,null,null,null,null,null,null,null,null,null,null,null,null,null,null,"ม.4-6/2"]
[null,"ส 1.1",null,null,"ม.4-6/3",null,null,null,null,null,null,null,null,null,null,null,null,null,null,null,null,null,null,null,null,null,null,null,null,null,null,null,null,null,null,null,null,null,null,null,null,null,null,null,null,null,null,null,null,null,null,null,null,null,null,null,null,null,null,null,null,null,null,null,null,null,null,null,null,"ข้อ 12",null,"ข้อ8",null,"ป.5/4",null,null,null,null,null,null,null,null,null,null,null,null,null,null,null,null,null,null,null,null,null,null,null,null,null,null,null,null,null,null,null,null,null,null,null,null,null,null,null,null,null,null,null,null,null,null,null,null,null,null,null,null,null,null,null,null,null,null,null,null,null,null,null,null,null,null,null,null,null,"ม.4-6/3"]
[null,"ส 1.2",null,null,"ม.4-6/4",null,null,null,null,null,null,null,null,null,null,null,null,null,null,null,null,null,null,null,null,null,null,null,null,null,null,null,null,null,null,null,null,null,null,null,null,null,null,null,null,null,null,null,null,null,null,null,null,null,null,null,null,null,null,null,null,null,null,null,null,null,null,null,null,"ข้อ 13",null,"ข้อ9",null,"ป.5/5",null,null,null,null,null,null,null,null,null,null,null,null,null,null,null,null,null,null,null,null,null,null,null,null,null,null,null,null,null,null,null,null,null,null,null,null,null,null,null,null,null,null,null,null,null,null,null,null,null,null,null,null,null,null,null,null,null,null,null,null,null,null,null,null,null,null,null,null,null,"ม.4-6/4"]
[null,"ส 2.1",null,null,"ม.4-6/5",null,null,null,null,null,null,null,null,null,null,null,null,null,null,null,null,null,null,null,null,null,null,null,null,null,null,null,null,null,null,null,null,null,null,null,null,null,null,null,null,null,null,null,null,null,null,null,null,null,null,null,null,null,null,null,null,null,null,null,null,null,null,null,null,"ข้อ 14",null,"ข้อ10",null,"ป.5/6",null,null,null,null,null,null,null,null,null,null,null,null,null,null,null,null,null,null,null,null,null,null,null,null,null,null,null,null,null,null,null,null,null,null,null,null,null,null,null,null,null,null,null,null,null,null,null,null,null,null,null,null,null,null,null,null,null,null,null,null,null,null,null,null,null,null,null,null,null,"ม.4-6/5"]
[null,"ส 2.2",null,null,"ม.4-6/6",null,null,null,null,null,null,null,null,null,null,null,null,null,null,null,null,null,null,null,null,null,null,null,null,null,null,null,null,null,null,null,null,null,null,null,null,null,null,null,null,null,null,null,null,null,null,null,null,null,null,null,null,null,null,null,null,null,null,null,null,null,null,null,null,"ข้อ 15",null,"ข้อ11",null,"ป.5/7",null,null,null,null,null,null,null,null,null,null,null,null,null,null,null,null,null,null,null,null,null,null,null,null,null,null,null,null,null,null,null,null,null,null,null,null,null,null,null,null,null,null,null,null,null,null,null,null,null,null,null,null,null,null,null,null,null,null,null,null,null,null,null,null,null,null,null,null,null,"ม.4-6/6"]
[null,"ส 3.1",null,null,"ม.4-6/7",null,null,null,null,null,null,null,null,null,null,null,null,null,null,null,null,null,null,null,null,null,null,null,null,null,null,null,null,null,null,null,null,null,null,null,null,null,null,null,null,null,null,null,null,null,null,null,null,null,null,null,null,null,null,null,null,null,null,null,null,null,null,null,null,"ข้อ 16",null,"ข้อ12",null,"ป.5/8",null,null,null,null,null,null,null,null,null,null,null,null,null,null,null,null,null,null,null,null,null,null,null,null,null,null,null,null,null,null,null,null,null,null,null,null,null,null,null,null,null,null,null,null,null,null,null,null,null,null,null,null,null,null,null,null,null,null,null,null,null,null,null,null,null,null,null,null,null,"ม.4-6/7"]
[null,"ส 3.2",null,null,"ม.4-6/8",null,null,null,null,null,null,null,null,null,null,null,null,null,null,null,null,null,null,null,null,null,null,null,null,null,null,null,null,null,null,null,null,null,null,null,null,null,null,null,null,null,null,null,null,null,null,null,null,null,null,null,null,null,null,null,null,null,null,null,null,null,null,null,null,"ข้อ 17",null,"ข้อ13",null,"ป.5/9",null,null,null,null,null,null,null,null,null,null,null,null,null,null,null,null,null,null,null,null,null,null,null,null,null,null,null,null,null,null,null,null,null,null,null,null,null,null,null,null,null,null,null,null,null,null,null,null,null,null,null,null,null,null,null,null,null,null,null,null,null,null,null,null,null,null,null,null,null,"ม.4-6/8"]
[null,"ส 4.1",null,null,"ม.4-6/9",null,null,null,null,null,null,null,null,null,null,null,null,null,null,null,null,null,null,null,null,null,null,null,null,null,null,null,null,null,null,null,null,null,null,null,null,null,null,null,null,null,null,null,null,null,null,null,null,null,null,null,null,null,null,null,null,null,null,null,null,null,null,null,null,"ข้อ 18",null,"ข้อ14",null,"ป.5/10",null,null,null,null,null,null,null,null,null,null,null,null,null,null,null,null,null,null,null,null,null,null,null,null,null,null,null,null,null,null,null,null,null,null,null,null,null,null,null,null,null,null,null,null,null,null,null,null,null,null,null,null,null,null,null,null,null,null,null,null,null,null,null,null,null,null,null,null,null,"ม.4-6/9"]
[null,"ส 4.2",null,null,"ม.4-6/10",null,null,null,null,null,null,null,null,null,null,null,null,null,null,null,null,null,null,null,null,null,null,null,null,null,null,null,null,null,null,null,null,null,null,null,null,null,null,null,null,null,null,null,null,null,null,null,null,null,null,null,null,null,null,null,null,null,null,null,null,null,null,null,null,"ข้อ 19",null,"ข้อ15",null,"ป.5/11",null,null,null,null,null,null,null,null,null,null,null,null,null,null,null,null,null,null,null,null,null,null,null,null,null,null,null,null,null,null,null,null,null,null,null,null,null,null,null,null,null,null,null,null,null,null,null,null,null,null,null,null,null,null,null,null,null,null,null,null,null,null,null,null,null,null,null,null,null,"ม.4-6/10"]
[null,"ส 4.2",null,null,"ม.4-6/11",null,null,null,null,null,null,null,null,null,null,null,null,null,null,null,null,null,null,null,null,null,null,null,null,null,null,null,null,null,null,null,null,null,null,null,null,null,null,null,null,null,null,null,null,null,null,null,null,null,null,null,null,null,null,null,null,null,null,null,null,null,null,null,null,"ข้อ 20",null,"ข้อ16",null,"ป.5/12",null,null,null,null,null,null,null,null,null,null,null,null,null,null,null,null,null,null,null,null,null,null,null,null,null,null,null,null,null,null,null,null,null,null,null,null,null,null,null,null,null,null,null,null,null,null,null,null,null,null,null,null,null,null,null,null,null,null,null,null,null,null,null,null,null,null,null,null,null,"ม.4-6/11"]
[null,"ส 5.1",null,null,"ม.4-6/12",null,null,null,null,null,null,null,null,null,null,null,null,null,null,null,null,null,null,null,null,null,null,null,null,null,null,null,null,null,null,null,null,null,null,null,null,null,null,null,null,null,null,null,null,null,null,null,null,null,null,null,null,null,null,null,null,null,null,null,null,null,null,null,null,"ข้อ 21",null,"ข้อ17",null,"ป.5/13",null,null,null,null,null,null,null,null,null,null,null,null,null,null,null,null,null,null,null,null,null,null,null,null,null,null,null,null,null,null,null,null,null,null,null,null,null,null,null,null,null,null,null,null,null,null,null,null,null,null,null,null,null,null,null,null,null,null,null,null,null,null,null,null,null,null,null,null,null,"ม.4-6/12"]
[null,"ส 5.2",null,null,"ม.4-6/13",null,null,null,null,null,null,null,null,null,null,null,null,null,null,null,null,null,null,null,null,null,null,null,null,null,null,null,null,null,null,null,null,null,null,null,null,null,null,null,null,null,null,null,null,null,null,null,null,null,null,null,null,null,null,null,null,null,null,null,null,null,null,null,null,"ข้อ 22",null,"ข้อ18",null,"ป.5/14",null,null,null,null,null,null,null,null,null,null,null,null,null,null,null,null,null,null,null,null,null,null,null,null,null,null,null,null,null,null,null,null,null,null,null,null,null,null,null,null,null,null,null,null,null,null,null,null,null,null,null,null,null,null,null,null,null,null,null,null,null,null,null,null,null,null,null,null,null,"ม.4-6/13"]
[null,"พ 1.1",null,null,"ม.4-6/14",null,null,null,null,null,null,null,null,null,null,null,null,null,null,null,null,null,null,null,null,null,null,null,null,null,null,null,null,null,null,null,null,null,null,null,null,null,null,null,null,null,null,null,null,null,null,null,null,null,null,null,null,null,null,null,null,null,null,null,null,null,null,null,null,"ข้อ 23",null,"ข้อ19",null,"ป.5/15",null,null,null,null,null,null,null,null,null,null,null,null,null,null,null,null,null,null,null,null,null,null,null,null,null,null,null,null,null,null,null,null,null,null,null,null,null,null,null,null,null,null,null,null,null,null,null,null,null,null,null,null,null,null,null,null,null,null,null,null,null,null,null,null,null,null,null,null,null,"ม.4-6/14"]
[null,"พ 2.1",null,null,"ม.4-6/15",null,null,null,null,null,null,null,null,null,null,null,null,null,null,null,null,null,null,null,null,null,null,null,null,null,null,null,null,null,null,null,null,null,null,null,null,null,null,null,null,null,null,null,null,null,null,null,null,null,null,null,null,null,null,null,null,null,null,null,null,null,null,null,null,"ข้อ 24",null,"ข้อ20",null,"ป.6/1",null,null,null,null,null,null,null,null,null,null,null,null,null,null,null,null,null,null,null,null,null,null,null,null,null,null,null,null,null,null,null,null,null,null,null,null,null,null,null,null,null,null,null,null,null,null,null,null,null,null,null,null,null,null,null,null,null,null,null,null,null,null,null,null,null,null,null,null,null,"ม.4-6/15"]
[null,"พ 3.1",null,null,"ม.4-6/16",null,null,null,null,null,null,null,null,null,null,null,null,null,null,null,null,null,null,null,null,null,null,null,null,null,null,null,null,null,null,null,null,null,null,null,null,null,null,null,null,null,null,null,null,null,null,null,null,null,null,null,null,null,null,null,null,null,null,null,null,null,null,null,null,"ข้อ 25",null,"ข้อ21",null,"ป.6/2",null,null,null,null,null,null,null,null,null,null,null,null,null,null,null,null,null,null,null,null,null,null,null,null,null,null,null,null,null,null,null,null,null,null,null,null,null,null,null,null,null,null,null,null,null,null,null,null,null,null,null,null,null,null,null,null,null,null,null,null,null,null,null,null,null,null,null,null,null,"ม.4-6/16"]
[null,"พ 3.2",null,null,"ม.4-6/17",null,null,null,null,null,null,null,null,null,null,null,null,null,null,null,null,null,null,null,null,null,null,null,null,null,null,null,null,null,null,null,null,null,null,null,null,null,null,null,null,null,null,null,null,null,null,null,null,null,null,null,null,null,null,null,null,null,null,null,null,null,null,null,null,"ข้อ 26",null,"ข้อ22",null,"ป.6/3",null,null,null,null,null,null,null,null,null,null,null,null,null,null,null,null,null,null,null,null,null,null,null,null,null,null,null,null,null,null,null,null,null,null,null,null,null,null,null,null,null,null,null,null,null,null,null,null,null,null,null,null,null,null,null,null,null,null,null,null,null,null,null,null,null,null,null,null,null,"ม.4-6/17"]
[null,"พ 4.1",null,null,"ม.4-6/18",null,null,null,null,null,null,null,null,null,null,null,null,null,null,null,null,null,null,null,null,null,null,null,null,null,null,null,null,null,null,null,null,null,null,null,null,null,null,null,null,null,null,null,null,null,null,null,null,null,null,null,null,null,null,null,null,null,null,null,null,null,null,null,null,"ข้อ 27",null,"ข้อ23",null,"ป.6/4",null,null,null,null,null,null,null,null,null,null,null,null,null,null,null,null,null,null,null,null,null,null,null,null,null,null,null,null,null,null,null,null,null,null,null,null,null,null,null,null,null,null,null,null,null,null,null,null,null,null,null,null,null,null,null,null,null,null,null,null,null,null,null,null,null,null,null,null,null,"ม.4-6/18"]
[null,"พ 5.1",null,null,"ม.4-6/19",null,null,null,null,null,null,null,null,null,null,null,null,null,null,null,null,null,null,null,null,null,null,null,null,null,null,null,null,null,null,null,null,null,null,null,null,null,null,null,null,null,null,null,null,null,null,null,null,null,null,null,null,null,null,null,null,null,null,null,null,null,null,null,null,"ข้อ 28",null,"ข้อ24",null,"ป.6/5",null,null,null,null,null,null,null,null,null,null,null,null,null,null,null,null,null,null,null,null,null,null,null,null,null,null,null,null,null,null,null,null,null,null,null,null,null,null,null,null,null,null,null,null,null,null,null,null,null,null,null,null,null,null,null,null,null,null,null,null,null,null,null,null,null,null,null,null,null,"ม.4-6/19"]
[null,"ศ. 1.1",null,null,"ม.4-6/20",null,null,null,null,null,null,null,null,null,null,null,null,null,null,null,null,null,null,null,null,null,null,null,null,null,null,null,null,null,null,null,null,null,null,null,null,null,null,null,null,null,null,null,null,null,null,null,null,null,null,null,null,null,null,null,null,null,null,null,null,null,null,null,null,"ข้อ 29",null,"ข้อ25",null,"ป.6/6",null,null,null,null,null,null,null,null,null,null,null,null,null,null,null,null,null,null,null,null,null,null,null,null,null,null,null,null,null,null,null,null,null,null,null,null,null,null,null,null,null,null,null,null,null,null,null,null,null,null,null,null,null,null,null,null,null,null,null,null,null,null,null,null,null,null,null,null,null,"ม.4-6/20"]
[null,"ศ 1.2",null,null,"ม.4-6/21",null,null,null,null,null,null,null,null,null,null,null,null,null,null,null,null,null,null,null,null,null,null,null,null,null,null,null,null,null,null,null,null,null,null,null,null,null,null,null,null,null,null,null,null,null,null,null,null,null,null,null,null,null,null,null,null,null,null,null,null,null,null,null,null,"ข้อ 30",null,"ข้อ26",null,"ป.6/7",null,null,null,null,null,null,null,null,null,null,null,null,null,null,null,null,null,null,null,null,null,null,null,null,null,null,null,null,null,null,null,null,null,null,null,null,null,null,null,null,null,null,null,null,null,null,null,null,null,null,null,null,null,null,null,null,null,null,null,null,null,null,null,null,null,null,null,null,null,"ม.4-6/21"]
[null,"ศ 2.1",null,null,"ม.4-6/22",null,null,null,null,null,null,null,null,null,null,null,null,null,null,null,null,null,null,null,null,null,null,null,null,null,null,null,null,null,null,null,null,null,null,null,null,null,null,null,null,null,null,null,null,null,null,null,null,null,null,null,null,null,null,null,null,null,null,null,null,null,null,null,null,null,null,"ข้อ27",null,"ป.6/8",null,null,null,null,null,null,null,null,null,null,null,null,null,null,null,null,null,null,null,null,null,null,null,null,null,null,null,null,null,null,null,null,null,null,null,null,null,null,null,null,null,null,null,null,null,null,null,null,null,null,null,null,null,null,null,null,null,null,null,null,null,null,null,null,null,null,null,null,null,"ม.4-6/22"]
[null,"ศ 2.2",null,null,"ม.4-6/23",null,null,null,null,null,null,null,null,null,null,null,null,null,null,null,null,null,null,null,null,null,null,null,null,null,null,null,null,null,null,null,null,null,null,null,null,null,null,null,null,null,null,null,null,null,null,null,null,null,null,null,null,null,null,null,null,null,null,null,null,null,null,null,null,null,null,"ข้อ28",null,"ป.6/9",null,null,null,null,null,null,null,null,null,null,null,null,null,null,null,null,null,null,null,null,null,null,null,null,null,null,null,null,null,null,null,null,null,null,null,null,null,null,null,null,null,null,null,null,null,null,null,null,null,null,null,null,null,null,null,null,null,null,null,null,null,null,null,null,null,null,null,null,null,"ม.4-6/23"]
[null,"ศ 3.1",null,null,"ม.4-6/24",null,null,null,null,null,null,null,null,null,null,null,null,null,null,null,null,null,null,null,null,null,null,null,null,null,null,null,null,null,null,null,null,null,null,null,null,null,null,null,null,null,null,null,null,null,null,null,null,null,null,null,null,null,null,null,null,null,null,null,null,null,null,null,null,null,null,"ข้อ29",null,"ป.6/10",null,null,null,null,null,null,null,null,null,null,null,null,null,null,null,null,null,null,null,null,null,null,null,null,null,null,null,null,null,null,null,null,null,null,null,null,null,null,null,null,null,null,null,null,null,null,null,null,null,null,null,null,null,null,null,null,null,null,null,null,null,null,null,null,null,null,null,null,null,"ม.4-6/24"]
[null,"ศ 3.2",null,null,"ม.4-6/25",null,null,null,null,null,null,null,null,null,null,null,null,null,null,null,null,null,null,null,null,null,null,null,null,null,null,null,null,null,null,null,null,null,null,null,null,null,null,null,null,null,null,null,null,null,null,null,null,null,null,null,null,null,null,null,null,null,null,null,null,null,null,null,null,null,null,"ข้อ30",null,"ป.6/11",null,null,null,null,null,null,null,null,null,null,null,null,null,null,null,null,null,null,null,null,null,null,null,null,null,null,null,null,null,null,null,null,null,null,null,null,null,null,null,null,null,null,null,null,null,null,null,null,null,null,null,null,null,null,null,null,null,null,null,null,null,null,null,null,null,null,null,null,null,"ม.4-6/25"]
[null,"ง 1.1",null,null,"ม.4-6/26",null,null,null,null,null,null,null,null,null,null,null,null,null,null,null,null,null,null,null,null,null,null,null,null,null,null,null,null,null,null,null,null,null,null,null,null,null,null,null,null,null,null,null,null,null,null,null,null,null,null,null,null,null,null,null,null,null,null,null,null,null,null,null,null,null,null,"-",null,"ป.6/12",null,null,null,null,null,null,null,null,null,null,null,null,null,null,null,null,null,null,null,null,null,null,null,null,null,null,null,null,null,null,null,null,null,null,null,null,null,null,null,null,null,null,null,null,null,null,null,null,null,null,null,null,null,null,null,null,null,null,null,null,null,null,null,null,null,null,null,null,null,"ม.4-6/26"]
[null,"ง 2.1",null,null,"ม.4-6/27",null,null,null,null,null,null,null,null,null,null,null,null,null,null,null,null,null,null,null,null,null,null,null,null,null,null,null,null,null,null,null,null,null,null,null,null,null,null,null,null,null,null,null,null,null,null,null,null,null,null,null,null,null,null,null,null,null,null,null,null,null,null,null,null,null,null,1,null,"ป.6/13",null,null,null,null,null,null,null,null,null,null,null,null,null,null,null,null,null,null,null,null,null,null,null,null,null,null,null,null,null,null,null,null,null,null,null,null,null,null,null,null,null,null,null,null,null,null,null,null,null,null,null,null,null,null,null,null,null,null,null,null,null,null,null,null,null,null,null,null,null,"ม.4-6/27"]
[null,"ง 3.1",null,null,"ม.4-6/28",null,null,null,null,null,null,null,null,null,null,null,null,null,null,null,null,null,null,null,null,null,null,null,null,null,null,null,null,null,null,null,null,null,null,null,null,null,null,null,null,null,null,null,null,null,null,null,null,null,null,null,null,null,null,null,null,null,null,null,null,null,null,null,null,null,null,2,null,"ป.6/14",null,null,null,null,null,null,null,null,null,null,null,null,null,null,null,null,null,null,null,null,null,null,null,null,null,null,null,null,null,null,null,null,null,null,null,null,null,null,null,null,null,null,null,null,null,null,null,null,null,null,null,null,null,null,null,null,null,null,null,null,null,null,null,null,null,null,null,null,null,"ม.4-6/28"]
[null,"ง 4.1",null,null,"ม.4-6/29",null,null,null,null,null,null,null,null,null,null,null,null,null,null,null,null,null,null,null,null,null,null,null,null,null,null,null,null,null,null,null,null,null,null,null,null,null,null,null,null,null,null,null,null,null,null,null,null,null,null,null,null,null,null,null,null,null,null,null,null,null,null,null,null,null,null,3,null,"ป.6/15",null,null,null,null,null,null,null,null,null,null,null,null,null,null,null,null,null,null,null,null,null,null,null,null,null,null,null,null,null,null,null,null,null,null,null,null,null,null,null,null,null,null,null,null,null,null,null,null,null,null,null,null,null,null,null,null,null,null,null,null,null,null,null,null,null,null,null,null,null,"ม.4-6/29"]
[null,"ต 1.1",null,null,"ม.4-6/30",null,null,null,null,null,null,null,null,null,null,null,null,null,null,null,null,null,null,null,null,null,null,null,null,null,null,null,null,null,null,null,null,null,null,null,null,null,null,null,null,null,null,null,null,null,null,null,null,null,null,null,null,null,null,null,null,null,null,null,null,null,null,null,null,null,null,4,null,null,null,null,null,null,null,null,null,null,null,null,null,null,null,null,null,null,null,null,null,null,null,null,null,null,null,null,null,null,null,null,null,null,null,null,null,null,null,null,null,null,null,null,null,null,null,null,null,null,null,null,null,null,null,null,null,null,null,null,null,null,null,null,null,null,null,null,null,null,null,"ม.4-6/30"]
[null,"ต 1.2",null,null,null,null,null,null,null,null,null,null,null,null,null,null,null,null,null,null,null,null,null,null,null,null,null,null,null,null,null,null,null,null,null,null,null,null,null,null,null,null,null,null,null,null,null,null,null,null,null,null,null,null,null,null,null,null,null,null,null,null,null,null,null,null,null,null,null,null,null,5]
[null,"ต 1.3"]
[null,"ต 2.1"]
[null,"ต 2.2"]
[null,"ต 3.1"]
[null,"ต 4.1"]
[null,"ต 4.2"]

{"sheet":"คุณลักษณะอันพึงประสงค์","index":7,"n_rows":54,"n_cols":31,"rows_kept":54,"cut":false,"hidden":true,"merged":[[4,29,4,30],[2,0,3,0],[2,1,3,1],[5,28,6,28],[2,25,3,25],[1,0,1,2],[7,28,11,28],[12,28,14,28],[2,4,2,11],[2,13,3,13],[2,2,3,2],[2,3,3,3],[2,16,3,16],[2,17,2,24],[2,12,3,12],[2,26,3,26]]}
[null,null,"การประเมิน","คุณลักษณะอันพึงประสงค์ ภาคเรียนที่ 1",null,null,null,null,null,null,null,null,null,null,null,null,"คุณลักษณะอันพึงประสงค์"]
[{"$f":"\"นักเรียน\"&ปก!AF11&ปก!AL11","v":"นักเรียนชั้นประถมศึกษาปีที่{{โปรดกรอกข้อมูล}}"},null,null,{"$f":"ใบรายชื่อ!$A$4","v":"รายวิชา{{โปรดกรอกข้อมูลรายวิชา}}    รหัสวิชา {{โปรดกรอกรหัสวิชา}}    ปีการศึกษา 2567"},null,null,null,null,null,null,null,null,null,null,null,null,{"$f":"ใบรายชื่อ!$A$4","v":"รายวิชา{{โปรดกรอกข้อมูลรายวิชา}}    รหัสวิชา {{โปรดกรอกรหัสวิชา}}    ปีการศึกษา 2567"}]
["เลขที่","เลขประจำตัว","ชื่อ - ชื่อสกุล","เลขที่","คุณลักษณะอันพึงประสงค์ข้อที่",null,null,null,null,null,null,null,"ระดับผลการประเมิน","ผลการประเมิน\nภาคเรียนที่ 1",null,null,"เลขที่","คุณลักษณะอันพึงประสงค์ข้อที่",null,null,null,null,null,null,null,"ระดับผลการประเมิน","ผลการประเมิน"]
[null,null,null,null,1,2,3,4,5,6,7,8,null,null,null,null,null,1,2,3,4,5,6,7,8,null,null,null,"เกณฑ์การประเมินคุณลักษณะอันพึงประสงค์"]
[1,{"$f":"ใส่ชื่อ!C2","v":0},{"$f":"ใส่ชื่อ!D2&ใส่ชื่อ!#REF!&\"    \"&ใส่ชื่อ!#REF!","v":{"$error":"#REF!"}},1,null,null,null,null,null,null,null,null,{"$f":"IF(N5=\"\",\"\",IF(N5=\"ดีเยี่ยม\",3,IF(N5=\"ดี\",2,IF(N5=\"ผ่าน\",1,IF(N5=\"ไม่ผ่าน\",0)))))","v":""},{"$f":"IF(E5=\"\",\"\",(IF(F5=\"\",\"\",(IF(G5=\"\",\"\",(IF(H5=\"\",\"\",(IF(I5=\"\",\"\",(IF(J5=\"\",\"\",IF(K5=\"\",\"\",(IF(L5=\"\",\"\",(IF(COUNTIF(E5:L5,0)>0,\"ไม่ผ่าน\",IF(AND(COUNTIF(E5:L5,3)>=5,COUNTIF(E5:L5,\"<2\")=0),\"ดีเยี่ยม\",IF(OR(AND(AND(COUNTIF(E5:L5,3)>=1,COUNTIF(E5:L5,3)<=4),COUNTIF(E5:L5,\"<2\")=0),COUNTIF(E5:L5,2)=8,AND(COUNTIF(E5:L5,\">=2\")>=5,COUNTIF(E5:L5,1)>0)),\"ดี\",IF(OR(COUNTIF(E5:L5,1)=8,AND(COUNTIF(E5:L5,\">=2\")>=1,COUNTIF(E5:L5,\">=2\")<=4)),\"ผ่าน\",\"ไม่ผ่าน\")))))))))))))))))))","v":""},"เก็บ+กลาง",{"$f":"SUM(#REF!,#REF!)","v":{"$error":"#REF!"}},1,null,null,null,null,null,null,null,null,{"$f":"IF(AA5=\"\",\"\",IF(AA5=\"ดีเยี่ยม\",3,IF(AA5=\"ดี\",2,IF(AA5=\"ผ่าน\",1,IF(AA5=\"ไม่ผ่าน\",0)))))","v":""},{"$f":"IF(R5=\"\",\"\",(IF(S5=\"\",\"\",(IF(T5=\"\",\"\",(IF(U5=\"\",\"\",(IF(V5=\"\",\"\",(IF(W5=\"\",\"\",IF(X5=\"\",\"\",(IF(Y5=\"\",\"\",(IF(COUNTIF(R5:Y5,0)>0,\"ไม่ผ่าน\",IF(AND(COUNTIF(R5:Y5,3)>=5,COUNTIF(R5:Y5,\"<2\")=0),\"ดีเยี่ยม\",IF(OR(AND(AND(COUNTIF(R5:Y5,3)>=1,COUNTIF(R5:Y5,3)<=4),COUNTIF(R5:Y5,\"<2\")=0),COUNTIF(R5:Y5,2)=8,AND(COUNTIF(R5:Y5,\">=2\")>=5,COUNTIF(R5:Y5,1)>0)),\"ดี\",IF(OR(COUNTIF(R5:Y5,1)=8,AND(COUNTIF(R5:Y5,\">=2\")>=1,COUNTIF(R5:Y5,\">=2\")<=4)),\"ผ่าน\",\"ไม่ผ่าน\")))))))))))))))))))","v":""},null,"ระดับ","เกณฑ์การพิจรณา"]
[2,{"$f":"ใส่ชื่อ!C3","v":0},{"$f":"ใส่ชื่อ!D3&ใส่ชื่อ!#REF!&\"    \"&ใส่ชื่อ!#REF!","v":{"$error":"#REF!"}},2,null,null,null,null,null,null,null,null,{"$f":"IF(N6=\"\",\"\",IF(N6=\"ดีเยี่ยม\",3,IF(N6=\"ดี\",2,IF(N6=\"ผ่าน\",1,IF(N6=\"ไม่ผ่าน\",0)))))","v":""},{"$f":"IF(E6=\"\",\"\",(IF(F6=\"\",\"\",(IF(G6=\"\",\"\",(IF(H6=\"\",\"\",(IF(I6=\"\",\"\",(IF(J6=\"\",\"\",IF(K6=\"\",\"\",(IF(L6=\"\",\"\",(IF(COUNTIF(E6:L6,0)>0,\"ไม่ผ่าน\",IF(AND(COUNTIF(E6:L6,3)>=5,COUNTIF(E6:L6,\"<2\")=0),\"ดีเยี่ยม\",IF(OR(AND(AND(COUNTIF(E6:L6,3)>=1,COUNTIF(E6:L6,3)<=4),COUNTIF(E6:L6,\"<2\")=0),COUNTIF(E6:L6,2)=8,AND(COUNTIF(E6:L6,\">=2\")>=5,COUNTIF(E6:L6,1)>0)),\"ดี\",IF(OR(COUNTIF(E6:L6,1)=8,AND(COUNTIF(E6:L6,\">=2\")>=1,COUNTIF(E6:L6,\">=2\")<=4)),\"ผ่าน\",\"ไม่ผ่าน\")))))))))))))))))))","v":""},"ปลาย",{"$f":"#REF!","v":{"$error":"#REF!"}},2,null,null,null,null,null,null,null,null,{"$f":"IF(AA6=\"\",\"\",IF(AA6=\"ดีเยี่ยม\",3,IF(AA6=\"ดี\",2,IF(AA6=\"ผ่าน\",1,IF(AA6=\"ไม่ผ่าน\",0)))))","v":""},{"$f":"IF(R6=\"\",\"\",(IF(S6=\"\",\"\",(IF(T6=\"\",\"\",(IF(U6=\"\",\"\",(IF(V6=\"\",\"\",(IF(W6=\"\",\"\",IF(X6=\"\",\"\",(IF(Y6=\"\",\"\",(IF(COUNTIF(R6:Y6,0)>0,\"ไม่ผ่าน\",IF(AND(COUNTIF(R6:Y6,3)>=5,COUNTIF(R6:Y6,\"<2\")=0),\"ดีเยี่ยม\",IF(OR(AND(AND(COUNTIF(R6:Y6,3)>=1,COUNTIF(R6:Y6,3)<=4),COUNTIF(R6:Y6,\"<2\")=0),COUNTIF(R6:Y6,2)=8,AND(COUNTIF(R6:Y6,\">=2\")>=5,COUNTIF(R6:Y6,1)>0)),\"ดี\",IF(OR(COUNTIF(R6:Y6,1)=8,AND(COUNTIF(R6:Y6,\">=2\")>=1,COUNTIF(R6:Y6,\">=2\")<=4)),\"ผ่าน\",\"ไม่ผ่าน\")))))))))))))))))))","v":""},null,"ดีเยี่ยม(3)",1,"ได้ผลการประเมินระดับดีเยี่ยม จำนวน 5-8 คุณลักษณะ และไม่มีคุณลักษณะใด"]
[3,{"$f":"ใส่ชื่อ!C4","v":0},{"$f":"ใส่ชื่อ!D4&ใส่ชื่อ!#REF!&\"    \"&ใส่ชื่อ!#REF!","v":{"$error":"#REF!"}},3,null,null,null,null,null,null,null,null,"",{"$f":"IF(E7=\"\",\"\",(IF(F7=\"\",\"\",(IF(G7=\"\",\"\",(IF(H7=\"\",\"\",(IF(I7=\"\",\"\",(IF(J7=\"\",\"\",IF(K7=\"\",\"\",(IF(L7=\"\",\"\",(IF(COUNTIF(E7:L7,0)>0,\"ไม่ผ่าน\",IF(AND(COUNTIF(E7:L7,3)>=5,COUNTIF(E7:L7,\"<2\")=0),\"ดีเยี่ยม\",IF(OR(AND(AND(COUNTIF(E7:L7,3)>=1,COUNTIF(E7:L7,3)<=4),COUNTIF(E7:L7,\"<2\")=0),COUNTIF(E7:L7,2)=8,AND(COUNTIF(E7:L7,\">=2\")>=5,COUNTIF(E7:L7,1)>0)),\"ดี\",IF(OR(COUNTIF(E7:L7,1)=8,AND(COUNTIF(E7:L7,\">=2\")>=1,COUNTIF(E7:L7,\">=2\")<=4)),\"ผ่าน\",\"ไม่ผ่าน\")))))))))))))))))))","v":""},"รวม",{"$f":"SUM(P5+P6)","v":{"$error":"#REF!"}},3,null,null,null,null,null,null,null,null,"",{"$f":"IF(R7=\"\",\"\",(IF(S7=\"\",\"\",(IF(T7=\"\",\"\",(IF(U7=\"\",\"\",(IF(V7=\"\",\"\",(IF(W7=\"\",\"\",IF(X7=\"\",\"\",(IF(Y7=\"\",\"\",(IF(COUNTIF(R7:Y7,0)>0,\"ไม่ผ่าน\",IF(AND(COUNTIF(R7:Y7,3)>=5,COUNTIF(R7:Y7,\"<2\")=0),\"ดีเยี่ยม\",IF(OR(AND(AND(COUNTIF(R7:Y7,3)>=1,COUNTIF(R7:Y7,3)<=4),COUNTIF(R7:Y7,\"<2\")=0),COUNTIF(R7:Y7,2)=8,AND(COUNTIF(R7:Y7,\">=2\")>=5,COUNTIF(R7:Y7,1)>0)),\"ดี\",IF(OR(COUNTIF(R7:Y7,1)=8,AND(COUNTIF(R7:Y7,\">=2\")>=1,COUNTIF(R7:Y7,\">=2\")<=4)),\"ผ่าน\",\"ไม่ผ่าน\")))))))))))))))))))","v":""},null,null,null,"ได้ผลการประเมินต่ำกว่าระดับดี"]
[4,{"$f":"ใส่ชื่อ!C5","v":0},{"$f":"ใส่ชื่อ!D5&ใส่ชื่อ!#REF!&\"    \"&ใส่ชื่อ!#REF!","v":{"$error":"#REF!"}},4,null,null,null,null,null,null,null,null,"","",null,null,4,null,null,null,null,null,null,null,null,"","",null,"ดี(2)",1,"ได้ผลการประเมินระดับดีเยี่ยม จำนวน 1-4 คุณลักษณะ และไม่มีคุณลักษณะใด"]
[5,{"$f":"ใส่ชื่อ!C6","v":0},{"$f":"ใส่ชื่อ!D6&ใส่ชื่อ!#REF!&\"    \"&ใส่ชื่อ!#REF!","v":{"$error":"#REF!"}},5,null,null,null,null,null,null,null,null,"","",null,null,5,null,null,null,null,null,null,null,null,"","",null,null,null,"ได้ผลการประเมินต่ำกว่าระดับดี หรือ"]
[6,{"$f":"ใส่ชื่อ!C7","v":0},{"$f":"ใส่ชื่อ!D7&ใส่ชื่อ!#REF!&\"    \"&ใส่ชื่อ!#REF!","v":{"$error":"#REF!"}},6,null,null,null,null,null,null,null,null,"","",null,null,6,null,null,null,null,null,null,null,null,"","",null,null,2,"ได้ผลการประเมินระดับดี ทั้ง 8 คุณลักษณะ หรือ"]
[7,{"$f":"ใส่ชื่อ!C8","v":0},{"$f":"ใส่ชื่อ!D8&ใส่ชื่อ!#REF!&\"    \"&ใส่ชื่อ!#REF!","v":{"$error":"#REF!"}},7,null,null,null,null,null,null,null,null,"","",null,null,7,null,null,null,null,null,null,null,null,"","",null,null,3,"ได้ผลการประเมินตั้งแต่ระดับดีขึ้นไป จำนวน 5-7 คุณลักษณะ และมีบางคุณลักษณะ"]
[8,{"$f":"ใส่ชื่อ!C9","v":0},{"$f":"ใส่ชื่อ!D9&ใส่ชื่อ!#REF!&\"    \"&ใส่ชื่อ!#REF!","v":{"$error":"#REF!"}},8,null,null,null,null,null,null,null,null,"","",null,null,8,null,null,null,null,null,null,null,null,"","",null,null,null,"ได้ผลการประเมินระดับผ่าน"]
[9,{"$f":"ใส่ชื่อ!C10","v":0},{"$f":"ใส่ชื่อ!D10&ใส่ชื่อ!#REF!&\"    \"&ใส่ชื่อ!#REF!","v":{"$error":"#REF!"}},9,null,null,null,null,null,null,null,null,"","",null,null,9,null,null,null,null,null,null,null,null,"","",null,"ผ่าน(1)",1,"ได้ผลการประเมินระดับผ่าน ทั้ง 8 คุณลักษณะ หรือ"]
[10,{"$f":"ใส่ชื่อ!C11","v":0},{"$f":"ใส่ชื่อ!D11&ใส่ชื่อ!#REF!&\"    \"&ใส่ชื่อ!#REF!","v":{"$error":"#REF!"}},10,null,null,null,null,null,null,null,null,"","",null,null,10,null,null,null,null,null,null,null,null,"","",null,null,2,"ได้ผลการประเมินระดับดีขึ้นไป จำนวน 1-4 คุณลักษณะ และคุณลักษณะที่เหลือ"]
[11,{"$f":"ใส่ชื่อ!C12","v":0},{"$f":"ใส่ชื่อ!D12&ใส่ชื่อ!#REF!&\"    \"&ใส่ชื่อ!#REF!","v":{"$error":"#REF!"}},11,null,null,null,null,null,null,null,null,"","",null,null,11,null,null,null,null,null,null,null,null,"","",null,null,null,"ได้ผลการประเมินระดับผ่าน"]
[12,{"$f":"ใส่ชื่อ!C13","v":0},{"$f":"ใส่ชื่อ!D13&ใส่ชื่อ!#REF!&\"    \"&ใส่ชื่อ!#REF!","v":{"$error":"#REF!"}},12,null,null,null,null,null,null,null,null,"","",null,null,12,null,null,null,null,null,null,null,null,"","",null,"ไม่ผ่าน(0)",1,"ได้ผลการประเมินระดับไม่ผ่าน ตั้งแต่ 1 คุณลักษณะขึ้นไป"]
[13,{"$f":"ใส่ชื่อ!C14","v":0},{"$f":"ใส่ชื่อ!D14&ใส่ชื่อ!#REF!&\"    \"&ใส่ชื่อ!#REF!","v":{"$error":"#REF!"}},13,null,null,null,null,null,null,null,null,"","",null,null,13,null,null,null,null,null,null,null,null,"",""]
[14,{"$f":"ใส่ชื่อ!C15","v":0},{"$f":"ใส่ชื่อ!D15&ใส่ชื่อ!#REF!&\"    \"&ใส่ชื่อ!#REF!","v":{"$error":"#REF!"}},14,null,null,null,null,null,null,null,null,"","",null,null,14,null,null,null,null,null,null,null,null,"",""]
[15,{"$f":"ใส่ชื่อ!C16","v":0},{"$f":"ใส่ชื่อ!D16&ใส่ชื่อ!#REF!&\"    \"&ใส่ชื่อ!#REF!","v":{"$error":"#REF!"}},15,null,null,null,null,null,null,null,null,"","",null,null,15,null,null,null,null,null,null,null,null,"",""]
[16,{"$f":"ใส่ชื่อ!C17","v":0},{"$f":"ใส่ชื่อ!D17&ใส่ชื่อ!#REF!&\"    \"&ใส่ชื่อ!#REF!","v":{"$error":"#REF!"}},16,null,null,null,null,null,null,null,null,"","",null,null,16,null,null,null,null,null,null,null,null,"","",null,null,{"$f":"COUNTIF($AA$5:$AA$54,\"ไม่ผ่าน\")","v":0}]
[17,{"$f":"ใส่ชื่อ!C18","v":0},{"$f":"ใส่ชื่อ!D18&ใส่ชื่อ!#REF!&\"    \"&ใส่ชื่อ!#REF!","v":{"$error":"#REF!"}},17,null,null,null,null,null,null,null,null,"","",null,null,17,null,null,null,null,null,null,null,null,"","",null,null,{"$f":"COUNTIF($AA$5:$AA$54,\"ผ่าน\")","v":0}]
[18,{"$f":"ใส่ชื่อ!C19","v":0},{"$f":"ใส่ชื่อ!D19&ใส่ชื่อ!#REF!&\"    \"&ใส่ชื่อ!#REF!","v":{"$error":"#REF!"}},18,null,null,null,null,null,null,null,null,"","",null,null,18,null,null,null,null,null,null,null,null,"","",null,null,{"$f":"COUNTIF($AA$5:$AA$54,\"ดี\")","v":0}]
[19,{"$f":"ใส่ชื่อ!C20","v":0},{"$f":"ใส่ชื่อ!D20&ใส่ชื่อ!#REF!&\"    \"&ใส่ชื่อ!#REF!","v":{"$error":"#REF!"}},19,null,null,null,null,null,null,null,null,"","",null,null,19,null,null,null,null,null,null,null,null,"","",null,null,{"$f":"COUNTIF($AA$5:$AA$54,\"ดีเยี่ยม\")","v":0}]
[20,{"$f":"ใส่ชื่อ!C21","v":0},{"$f":"ใส่ชื่อ!D21&ใส่ชื่อ!#REF!&\"    \"&ใส่ชื่อ!#REF!","v":{"$error":"#REF!"}},20,null,null,null,null,null,null,null,null,"","",null,null,20,null,null,null,null,null,null,null,null,"",""]
[21,{"$f":"ใส่ชื่อ!C22","v":0},{"$f":"ใส่ชื่อ!D22&ใส่ชื่อ!#REF!&\"    \"&ใส่ชื่อ!#REF!","v":{"$error":"#REF!"}},21,null,null,null,null,null,null,null,null,"","",null,null,21,null,null,null,null,null,null,null,null,"",""]
[22,{"$f":"ใส่ชื่อ!C23","v":0},{"$f":"ใส่ชื่อ!D23&ใส่ชื่อ!#REF!&\"    \"&ใส่ชื่อ!#REF!","v":{"$error":"#REF!"}},22,null,null,null,null,null,null,null,null,"","",null,null,22,null,null,null,null,null,null,null,null,"",""]
[23,{"$f":"ใส่ชื่อ!C24","v":0},{"$f":"ใส่ชื่อ!D24&ใส่ชื่อ!#REF!&\"    \"&ใส่ชื่อ!#REF!","v":{"$error":"#REF!"}},23,null,null,null,null,null,null,null,null,"","",null,null,23,null,null,null,null,null,null,null,null,"",""]
[24,{"$f":"ใส่ชื่อ!C25","v":0},{"$f":"ใส่ชื่อ!D25&ใส่ชื่อ!#REF!&\"    \"&ใส่ชื่อ!#REF!","v":{"$error":"#REF!"}},24,null,null,null,null,null,null,null,null,"","",null,null,24,null,null,null,null,null,null,null,null,"",""]
[25,{"$f":"ใส่ชื่อ!C26","v":0},{"$f":"ใส่ชื่อ!D26&ใส่ชื่อ!#REF!&\"    \"&ใส่ชื่อ!#REF!","v":{"$error":"#REF!"}},25,null,null,null,null,null,null,null,null,"","",null,null,25,null,null,null,null,null,null,null,null,"",""]
[26,{"$f":"ใส่ชื่อ!C27","v":0},{"$f":"ใส่ชื่อ!D27&ใส่ชื่อ!#REF!&\"    \"&ใส่ชื่อ!#REF!","v":{"$error":"#REF!"}},26,null,null,null,null,null,null,null,null,"","",null,null,26,null,null,null,null,null,null,null,null,"",""]
[27,{"$f":"ใส่ชื่อ!C28","v":0},{"$f":"ใส่ชื่อ!D28&ใส่ชื่อ!#REF!&\"    \"&ใส่ชื่อ!#REF!","v":{"$error":"#REF!"}},27,null,null,null,null,null,null,null,null,"","",null,null,27,null,null,null,null,null,null,null,null,"",""]
[28,{"$f":"ใส่ชื่อ!C29","v":0},{"$f":"ใส่ชื่อ!D29&ใส่ชื่อ!#REF!&\"    \"&ใส่ชื่อ!#REF!","v":{"$error":"#REF!"}},28,null,null,null,null,null,null,null,null,"","",null,null,28,null,null,null,null,null,null,null,null,"",""]
[29,{"$f":"ใส่ชื่อ!C30","v":0},{"$f":"ใส่ชื่อ!D30&ใส่ชื่อ!#REF!&\"    \"&ใส่ชื่อ!#REF!","v":{"$error":"#REF!"}},29,null,null,null,null,null,null,null,null,"","",null,null,29,null,null,null,null,null,null,null,null,"",""]
[30,{"$f":"ใส่ชื่อ!C31","v":0},{"$f":"ใส่ชื่อ!D31&ใส่ชื่อ!#REF!&\"    \"&ใส่ชื่อ!#REF!","v":{"$error":"#REF!"}},30,null,null,null,null,null,null,null,null,"","",null,null,30,null,null,null,null,null,null,null,null,"",""]
[31,{"$f":"ใส่ชื่อ!C32","v":0},{"$f":"ใส่ชื่อ!D32&ใส่ชื่อ!#REF!&\"    \"&ใส่ชื่อ!#REF!","v":{"$error":"#REF!"}},31,null,null,null,null,null,null,null,null,"","",null,null,31,null,null,null,null,null,null,null,null,"",""]
[32,{"$f":"ใส่ชื่อ!C33","v":0},{"$f":"ใส่ชื่อ!D33&ใส่ชื่อ!#REF!&\"    \"&ใส่ชื่อ!#REF!","v":{"$error":"#REF!"}},32,null,null,null,null,null,null,null,null,"","",null,null,32,null,null,null,null,null,null,null,null,"",""]
[33,{"$f":"ใส่ชื่อ!C34","v":0},{"$f":"ใส่ชื่อ!D34&ใส่ชื่อ!#REF!&\"    \"&ใส่ชื่อ!#REF!","v":{"$error":"#REF!"}},33,null,null,null,null,null,null,null,null,"","",null,null,33,null,null,null,null,null,null,null,null,"",""]
[34,{"$f":"ใส่ชื่อ!C35","v":0},{"$f":"ใส่ชื่อ!D35&ใส่ชื่อ!#REF!&\"    \"&ใส่ชื่อ!#REF!","v":{"$error":"#REF!"}},34,null,null,null,null,null,null,null,null,"","",null,null,34,null,null,null,null,null,null,null,null,"",""]
[35,{"$f":"ใส่ชื่อ!C36","v":0},{"$f":"ใส่ชื่อ!D36&ใส่ชื่อ!#REF!&\"    \"&ใส่ชื่อ!#REF!","v":{"$error":"#REF!"}},35,null,null,null,null,null,null,null,null,"","",null,null,35,null,null,null,null,null,null,null,null,"",""]
[36,{"$f":"ใส่ชื่อ!C37","v":0},{"$f":"ใส่ชื่อ!D37&ใส่ชื่อ!#REF!&\"    \"&ใส่ชื่อ!#REF!","v":{"$error":"#REF!"}},36,null,null,null,null,null,null,null,null,"","",null,null,36,null,null,null,null,null,null,null,null,"",""]
[37,{"$f":"ใส่ชื่อ!C38","v":0},{"$f":"ใส่ชื่อ!D38&ใส่ชื่อ!#REF!&\"    \"&ใส่ชื่อ!#REF!","v":{"$error":"#REF!"}},37,null,null,null,null,null,null,null,null,"","",null,null,37,null,null,null,null,null,null,null,null,"",""]
[38,{"$f":"ใส่ชื่อ!C39","v":0},{"$f":"ใส่ชื่อ!D39&ใส่ชื่อ!#REF!&\"    \"&ใส่ชื่อ!#REF!","v":{"$error":"#REF!"}},38,null,null,null,null,null,null,null,null,"","",null,null,38,null,null,null,null,null,null,null,null,"",""]
[39,{"$f":"ใส่ชื่อ!C40","v":0},{"$f":"ใส่ชื่อ!D40&ใส่ชื่อ!#REF!&\"    \"&ใส่ชื่อ!#REF!","v":{"$error":"#REF!"}},39,null,null,null,null,null,null,null,null,"","",null,null,39,null,null,null,null,null,null,null,null,"",""]
[40,{"$f":"ใส่ชื่อ!C41","v":0},{"$f":"ใส่ชื่อ!D41&ใส่ชื่อ!#REF!&\"    \"&ใส่ชื่อ!#REF!","v":{"$error":"#REF!"}},40,null,null,null,null,null,null,null,null,"","",null,null,40,null,null,null,null,null,null,null,null,"",""]
[41,{"$f":"ใส่ชื่อ!C42","v":0},{"$f":"ใส่ชื่อ!D42&ใส่ชื่อ!#REF!&\"    \"&ใส่ชื่อ!#REF!","v":{"$error":"#REF!"}},41,null,null,null,null,null,null,null,null,"","",null,null,41,null,null,null,null,null,null,null,null,"",""]
[42,{"$f":"ใส่ชื่อ!C43","v":0},{"$f":"ใส่ชื่อ!D43&ใส่ชื่อ!#REF!&\"    \"&ใส่ชื่อ!#REF!","v":{"$error":"#REF!"}},42,null,null,null,null,null,null,null,null,"","",null,null,42,null,null,null,null,null,null,null,null,"",""]
[43,{"$f":"ใส่ชื่อ!C44","v":0},{"$f":"ใส่ชื่อ!D44&ใส่ชื่อ!#REF!&\"    \"&ใส่ชื่อ!#REF!","v":{"$error":"#REF!"}},43,null,null,null,null,null,null,null,null,"","",null,null,43,null,null,null,null,null,null,null,null,"",""]
[44,{"$f":"ใส่ชื่อ!C45","v":0},{"$f":"ใส่ชื่อ!D45&ใส่ชื่อ!#REF!&\"    \"&ใส่ชื่อ!#REF!","v":{"$error":"#REF!"}},44,null,null,null,null,null,null,null,null,"","",null,null,44,null,null,null,null,null,null,null,null,"",""]
[45,{"$f":"ใส่ชื่อ!C46","v":0},{"$f":"ใส่ชื่อ!D46&ใส่ชื่อ!#REF!&\"    \"&ใส่ชื่อ!#REF!","v":{"$error":"#REF!"}},45,null,null,null,null,null,null,null,null,"","",null,null,45,null,null,null,null,null,null,null,null,"",""]
[46,{"$f":"ใส่ชื่อ!C47","v":0},{"$f":"ใส่ชื่อ!D47&ใส่ชื่อ!#REF!&\"    \"&ใส่ชื่อ!#REF!","v":{"$error":"#REF!"}},46,null,null,null,null,null,null,null,null,"","",null,null,46,null,null,null,null,null,null,null,null,"",""]
[47,{"$f":"ใส่ชื่อ!C48","v":0},{"$f":"ใส่ชื่อ!D48&ใส่ชื่อ!#REF!&\"    \"&ใส่ชื่อ!#REF!","v":{"$error":"#REF!"}},47,null,null,null,null,null,null,null,null,"","",null,null,47,null,null,null,null,null,null,null,null,"",""]
[48,{"$f":"ใส่ชื่อ!C49","v":0},{"$f":"ใส่ชื่อ!D49&ใส่ชื่อ!#REF!&\"    \"&ใส่ชื่อ!#REF!","v":{"$error":"#REF!"}},48,null,null,null,null,null,null,null,null,"","",null,null,48,null,null,null,null,null,null,null,null,"",""]
[49,{"$f":"ใส่ชื่อ!C50","v":0},{"$f":"ใส่ชื่อ!D50&ใส่ชื่อ!#REF!&\"    \"&ใส่ชื่อ!#REF!","v":{"$error":"#REF!"}},49,null,null,null,null,null,null,null,null,"","",null,null,49,null,null,null,null,null,null,null,null,"",""]
[50,{"$f":"ใส่ชื่อ!C51","v":0},{"$f":"ใส่ชื่อ!D51&ใส่ชื่อ!#REF!&\"    \"&ใส่ชื่อ!#REF!","v":{"$error":"#REF!"}},50,null,null,null,null,null,null,null,null,"","",null,null,50,null,null,null,null,null,null,null,null,"",""]

{"sheet":"อ่าน คิด วิเคราะห์","index":8,"n_rows":54,"n_cols":26,"rows_kept":54,"cut":false,"hidden":true,"merged":[[3,22,3,25],[4,24,4,25],[5,23,6,23],[2,0,3,0],[2,1,3,1],[2,2,3,2],[2,4,2,8],[2,9,3,10],[2,13,3,13],[2,3,3,3],[2,14,2,18],[2,19,3,20],[5,25,6,25],[7,23,8,23],[9,23,10,23],[11,23,13,23],[7,25,8,25],[9,25,10,25],[11,25,13,25],[15,22,16,25],[21,23,22,25],[23,23,24,25],[25,23,26,25],[17,22,18,22],[19,22,20,22],[21,22,22,22],[23,22,24,22],[25,22,26,22],[19,23,20,25],[17,23,18,25]]}
[null,null,"การประเมินความสามารถ","ในการอ่าน คิดวิเคราะห์ และเขียน ภาคเรียนที่ 1",null,null,null,null,null,null,null,null,null,"ในการอ่าน คิดวิเคราะห์ และเขียน"]
[null,null,{"$f":"\"นักเรียน\"&ปก!AF11&ปก!AL11&\" \"","v":"นักเรียนชั้นประถมศึกษาปีที่{{โปรดกรอกข้อมูล}} "},{"$f":"ใบรายชื่อ!$A$4","v":"รายวิชา{{โปรดกรอกข้อมูลรายวิชา}}    รหัสวิชา {{โปรดกรอกรหัสวิชา}}    ปีการศึกษา 2567"},null,null,null,null,null,null,null,null,null,{"$f":"ใบรายชื่อ!$A$4","v":"รายวิชา{{โปรดกรอกข้อมูลรายวิชา}}    รหัสวิชา {{โปรดกรอกรหัสวิชา}}    ปีการศึกษา 2567"}]
["เลขที่","เลขประจำตัว","ชื่อ - ชื่อสกุล","เลขที่","ตัวชี้วัดความสามารถในการอ่าน คิดวิเคราะห์ และเขียน",null,null,null,null,"ผลการประเมิน\nภาคเรียนที่ 1",null,null,null,"เลขที่","ตัวชี้วัดความสามารถในการอ่าน คิดวิเคราะห์ และเขียน",null,null,null,null,"ผลการประเมิน"]
[null,null,null,null,1,2,3,4,5,null,null,null,null,null,1,2,3,4,5,null,null,null,"เกณฑ์การประเมินความสามารถในการอ่าน คิดวิเคราะห์ และเขียน"]
[1,{"$f":"ใส่ชื่อ!C2","v":0},{"$f":"ใส่ชื่อ!D2&ใส่ชื่อ!#REF!&\"   \"&ใส่ชื่อ!#REF!","v":{"$error":"#REF!"}},1,null,null,null,null,null,{"$f":"IF(E5=\"\",\"\",(IF(F5=\"\",\"\",(IF(G5=\"\",\"\",(IF(H5=\"\",\"\",(IF(I5=\"\",\"\",(SUM(E5:I5)/5))))))))))","v":""},{"$f":"IF(J5=\"\",\"\",(IF(J5>=2.5,\"ดีเยี่ยม\",(IF(J5>=1.5,\"ดี\",(IF(J5>=0.6,\"ผ่าน\",(IF(J5<=0.4,\"ไม่ผ่าน\")))))))))","v":""},"เก็บ+กลาง",{"$f":"SUM(#REF!,#REF!)","v":{"$error":"#REF!"}},1,null,null,null,null,null,{"$f":"IF(O5=\"\",\"\",(IF(P5=\"\",\"\",(IF(Q5=\"\",\"\",(IF(R5=\"\",\"\",(IF(S5=\"\",\"\",(SUM(O5:S5)/5))))))))))","v":""},{"$f":"IF(T5=\"\",\"\",(IF(T5>=2.5,\"ดีเยี่ยม\",(IF(T5>=1.5,\"ดี\",(IF(T5>=0.6,\"ผ่าน\",(IF(T5<=0.4,\"ไม่ผ่าน\")))))))))","v":""},null,null,"ระดับ","เกณฑ์การพิจรณา"]
[2,{"$f":"ใส่ชื่อ!C3","v":0},{"$f":"ใส่ชื่อ!D3&ใส่ชื่อ!#REF!&\"   \"&ใส่ชื่อ!#REF!","v":{"$error":"#REF!"}},2,null,null,null,null,null,{"$f":"IF(E6=\"\",\"\",(IF(F6=\"\",\"\",(IF(G6=\"\",\"\",(IF(H6=\"\",\"\",(IF(I6=\"\",\"\",(SUM(E6:I6)/5))))))))))","v":""},{"$f":"IF(J6=\"\",\"\",(IF(J6>=2.5,\"ดีเยี่ยม\",(IF(J6>=1.5,\"ดี\",(IF(J6>=0.6,\"ผ่าน\",(IF(J6<=0.4,\"ไม่ผ่าน\")))))))))","v":""},"ปลาย",{"$f":"#REF!","v":{"$error":"#REF!"}},2,null,null,null,null,null,{"$f":"IF(O6=\"\",\"\",(IF(P6=\"\",\"\",(IF(Q6=\"\",\"\",(IF(R6=\"\",\"\",(IF(S6=\"\",\"\",(SUM(O6:S6)/5))))))))))","v":""},{"$f":"IF(T6=\"\",\"\",(IF(T6>=2.5,\"ดีเยี่ยม\",(IF(T6>=1.5,\"ดี\",(IF(T6>=0.6,\"ผ่าน\",(IF(T6<=0.4,\"ไม่ผ่าน\")))))))))","v":""},null,null,"ดีเยี่ยม(3)",null,"มีผลงานที่แสดงถึงความสามารถในการอ่าน คิดวิเคราะห์ และเขียน ที่มีคุณภาพดีเลิศอยู่เสมอ"]
[3,{"$f":"ใส่ชื่อ!C4","v":0},{"$f":"ใส่ชื่อ!D4&ใส่ชื่อ!#REF!&\"   \"&ใส่ชื่อ!#REF!","v":{"$error":"#REF!"}},3,null,null,null,null,null,{"$f":"IF(E7=\"\",\"\",(IF(F7=\"\",\"\",(IF(G7=\"\",\"\",(IF(H7=\"\",\"\",(IF(I7=\"\",\"\",(SUM(E7:I7)/5))))))))))","v":""},"","รวม",{"$f":"SUM(M5+M6)","v":{"$error":"#REF!"}},3,null,null,null,null,null,{"$f":"IF(O7=\"\",\"\",(IF(P7=\"\",\"\",(IF(Q7=\"\",\"\",(IF(R7=\"\",\"\",(IF(S7=\"\",\"\",(SUM(O7:S7)/5))))))))))","v":""},""]
[4,{"$f":"ใส่ชื่อ!C5","v":0},{"$f":"ใส่ชื่อ!D5&ใส่ชื่อ!#REF!&\"   \"&ใส่ชื่อ!#REF!","v":{"$error":"#REF!"}},4,null,null,null,null,null,"","",null,null,4,null,null,null,null,null,"","",null,null,"ดี(2)",null,"มีผลงานที่แสดงถึงความสามารถในการอ่าน คิดวิเคราะห์ และเขียน เป็นที่ยอมรับ"]
[5,{"$f":"ใส่ชื่อ!C6","v":0},{"$f":"ใส่ชื่อ!D6&ใส่ชื่อ!#REF!&\"   \"&ใส่ชื่อ!#REF!","v":{"$error":"#REF!"}},5,null,null,null,null,null,"","",null,null,5,null,null,null,null,null,"",""]
[6,{"$f":"ใส่ชื่อ!C7","v":0},{"$f":"ใส่ชื่อ!D7&ใส่ชื่อ!#REF!&\"   \"&ใส่ชื่อ!#REF!","v":{"$error":"#REF!"}},6,null,null,null,null,null,"","",null,null,6,null,null,null,null,null,"","",null,null,"ผ่าน(1)",null,"มีผลงานที่แสดงถึงความสามารถในการอ่าน คิดวิเคราะห์ และเขียน ทีมีข้อบกพร่องบางประการ"]
[7,{"$f":"ใส่ชื่อ!C8","v":0},{"$f":"ใส่ชื่อ!D8&ใส่ชื่อ!#REF!&\"   \"&ใส่ชื่อ!#REF!","v":{"$error":"#REF!"}},7,null,null,null,null,null,"","",null,null,7,null,null,null,null,null,"",""]
[8,{"$f":"ใส่ชื่อ!C9","v":0},{"$f":"ใส่ชื่อ!D9&ใส่ชื่อ!#REF!&\"   \"&ใส่ชื่อ!#REF!","v":{"$error":"#REF!"}},8,null,null,null,null,null,"","",null,null,8,null,null,null,null,null,"","",null,null,"ไม่ผ่าน(0)",null,"ไม่มีผลงานที่แสดงถึงความสามารถในการอ่าน คิดวิเคราะห์ และเขียนหรือถ้ามีผลงาน\nผลงานนั้นยังมีข้อบกพร่องที่ต้องได้รับการปรับปรุงแก้ไขหลายประการ"]
[9,{"$f":"ใส่ชื่อ!C10","v":0},{"$f":"ใส่ชื่อ!D10&ใส่ชื่อ!#REF!&\"   \"&ใส่ชื่อ!#REF!","v":{"$error":"#REF!"}},9,null,null,null,null,null,"","",null,null,9,null,null,null,null,null,"",""]
[10,{"$f":"ใส่ชื่อ!C11","v":0},{"$f":"ใส่ชื่อ!D11&ใส่ชื่อ!#REF!&\"   \"&ใส่ชื่อ!#REF!","v":{"$error":"#REF!"}},10,null,null,null,null,null,"","",null,null,10,null,null,null,null,null,"",""]
[11,{"$f":"ใส่ชื่อ!C12","v":0},{"$f":"ใส่ชื่อ!D12&ใส่ชื่อ!#REF!&\"   \"&ใส่ชื่อ!#REF!","v":{"$error":"#REF!"}},11,null,null,null,null,null,"","",null,null,11,null,null,null,null,null,"",""]
[12,{"$f":"ใส่ชื่อ!C13","v":0},{"$f":"ใส่ชื่อ!D13&ใส่ชื่อ!#REF!&\"   \"&ใส่ชื่อ!#REF!","v":{"$error":"#REF!"}},12,null,null,null,null,null,"","",null,null,12,null,null,null,null,null,"","",null,{"$f":"\" \"&\"ตัวชี้วัดความสามารถในการอ่าน คิดวิคราะห์ และเขียน \"&\"ระดับชั้น\"&ปก!AN11&\" \"&IF(ปก!C19=3,\"(ม.1-3)\",IF(ปก!C19=4,\"(ม.4-6)\"))","v":" ตัวชี้วัดความสามารถในการอ่าน คิดวิคราะห์ และเขียน ระดับชั้นระดับประถมศึกษาตอนต้น(ป.1-3) FALSE"}]
[13,{"$f":"ใส่ชื่อ!C14","v":0},{"$f":"ใส่ชื่อ!D14&ใส่ชื่อ!#REF!&\"   \"&ใส่ชื่อ!#REF!","v":{"$error":"#REF!"}},13,null,null,null,null,null,"","",null,null,13,null,null,null,null,null,"",""]
[14,{"$f":"ใส่ชื่อ!C15","v":0},{"$f":"ใส่ชื่อ!D15&ใส่ชื่อ!#REF!&\"   \"&ใส่ชื่อ!#REF!","v":{"$error":"#REF!"}},14,null,null,null,null,null,"","",null,null,14,null,null,null,null,null,"","",null,"1.",{"$f":"IF(ปก!BA2=\"บ\",\"สามารถคัดสรรสื่อที่ต้องการอ่านเพื่อหาข้อมูลสารสนเทศได้ตามวัตถุประสงค์ สามารถสร้างความเข้าใจและประยุกต์ใช้ความรู้จากการอ่าน \",IF(ปก!BA2=\"พ\",\"สามารถอ่านเพื่อการศึกษาค้นคว้า เพิ่มพูนความรู้ ประสบการณ์ และการประยุกต์ใช้ในชีวิตประจำวัน\"))","v":false}]
[15,{"$f":"ใส่ชื่อ!C16","v":0},{"$f":"ใส่ชื่อ!D16&ใส่ชื่อ!#REF!&\"   \"&ใส่ชื่อ!#REF!","v":{"$error":"#REF!"}},15,null,null,null,null,null,"","",null,null,15,null,null,null,null,null,"",""]
[16,{"$f":"ใส่ชื่อ!C17","v":0},{"$f":"ใส่ชื่อ!D17&ใส่ชื่อ!#REF!&\"   \"&ใส่ชื่อ!#REF!","v":{"$error":"#REF!"}},16,null,null,null,null,null,"","",null,null,16,null,null,null,null,null,"","",null,"2.",{"$f":"IF(ปก!BA2=\"บ\",\"สามารถจับประเด็นสำคัญและประเด็นสนับสนุน โต้แย้ง\",IF(ปก!BA2=\"พ\",\"สามารถจับประเด็นสำคัญ ลำดับเหตุการณ์จากการอ่านสื่อที่มีความซับซ้อน\"))","v":false}]
[17,{"$f":"ใส่ชื่อ!C18","v":0},{"$f":"ใส่ชื่อ!D18&ใส่ชื่อ!#REF!&\"   \"&ใส่ชื่อ!#REF!","v":{"$error":"#REF!"}},17,null,null,null,null,null,"","",null,null,17,null,null,null,null,null,"",""]
[18,{"$f":"ใส่ชื่อ!C19","v":0},{"$f":"ใส่ชื่อ!D19&ใส่ชื่อ!#REF!&\"   \"&ใส่ชื่อ!#REF!","v":{"$error":"#REF!"}},18,null,null,null,null,null,"","",null,null,18,null,null,null,null,null,"","",null,"3.",{"$f":"IF(ปก!BA2=\"บ\",\"สามารถวิเคราะห์ วิจารณ์ ความสมเหตุสมผล ความน่าเชื่อถือ ลำดับความเป็นไปได้ของเรื่องที่อ่าน\",IF(ปก!BA2=\"พ\",\"สามารถวิเคราะห์สิ่งที่ผู้เขียนต้องการสื่อสารกับผู้อ่าน และสามารถวิพากษ์ ให้ข้อเสนอแนะในแง่มุมต่างๆ\"))","v":false}]
[19,{"$f":"ใส่ชื่อ!C20","v":0},{"$f":"ใส่ชื่อ!D20&ใส่ชื่อ!#REF!&\"   \"&ใส่ชื่อ!#REF!","v":{"$error":"#REF!"}},19,null,null,null,null,null,"","",null,null,19,null,null,null,null,null,"",""]
[20,{"$f":"ใส่ชื่อ!C21","v":0},{"$f":"ใส่ชื่อ!D21&ใส่ชื่อ!#REF!&\"   \"&ใส่ชื่อ!#REF!","v":{"$error":"#REF!"}},20,null,null,null,null,null,"","",null,null,20,null,null,null,null,null,"","",null,"4.",{"$f":"IF(ปก!BA2=\"บ\",\"สามารถสรุปคุณค่า แนวคิด แง่คิดที่ได้จากการอ่าน\",IF(ปก!BA2=\"พ\",\"สามารถประเมินความน่าเชื่อถือ คุณค่า แนวคิดที่ได้จากสิ่งที่อ่านอย่างหลากหลาย\"))","v":false}]
[21,{"$f":"ใส่ชื่อ!C22","v":0},{"$f":"ใส่ชื่อ!D22&ใส่ชื่อ!#REF!&\"   \"&ใส่ชื่อ!#REF!","v":{"$error":"#REF!"}},21,null,null,null,null,null,"","",null,null,21,null,null,null,null,null,"",""]
[22,{"$f":"ใส่ชื่อ!C23","v":0},{"$f":"ใส่ชื่อ!D23&ใส่ชื่อ!#REF!&\"   \"&ใส่ชื่อ!#REF!","v":{"$error":"#REF!"}},22,null,null,null,null,null,"","",null,null,22,null,null,null,null,null,"","",null,"5.",{"$f":"IF(ปก!BA2=\"บ\",\"สามารถสรุป อภิปราย ขยายความ แสดงความคิดเห็น โต้แย้ง สนันสนุน โน้มน้าว โดยการเขียนสื่อสารในรูปแบบต่างๆ เช่น ผังความคิด เป็นต้น\",IF(ปก!BA2=\"พ\",\"สามารถเขียนแสดงความคิดเห็น โต้แย้ง สรุป โดยมีข้อมูลอธิบายสนับสนุนอย่างเพียงพอ และสมเหตุสมผล\"))","v":false}]
[23,{"$f":"ใส่ชื่อ!C24","v":0},{"$f":"ใส่ชื่อ!D24&ใส่ชื่อ!#REF!&\"   \"&ใส่ชื่อ!#REF!","v":{"$error":"#REF!"}},23,null,null,null,null,null,"","",null,null,23,null,null,null,null,null,"",""]
[24,{"$f":"ใส่ชื่อ!C25","v":0},{"$f":"ใส่ชื่อ!D25&ใส่ชื่อ!#REF!&\"   \"&ใส่ชื่อ!#REF!","v":{"$error":"#REF!"}},24,null,null,null,null,null,"","",null,null,24,null,null,null,null,null,"",""]
[25,{"$f":"ใส่ชื่อ!C26","v":0},{"$f":"ใส่ชื่อ!D26&ใส่ชื่อ!#REF!&\"   \"&ใส่ชื่อ!#REF!","v":{"$error":"#REF!"}},25,null,null,null,null,null,"","",null,null,25,null,null,null,null,null,"",""]
[26,{"$f":"ใส่ชื่อ!C27","v":0},{"$f":"ใส่ชื่อ!D27&ใส่ชื่อ!#REF!&\"   \"&ใส่ชื่อ!#REF!","v":{"$error":"#REF!"}},26,null,null,null,null,null,"","",null,null,26,null,null,null,null,null,"","",null,null,{"$f":"COUNTIF($U$5:$U$54,\"ไม่ผ่าน\")","v":0}]
[27,{"$f":"ใส่ชื่อ!C28","v":0},{"$f":"ใส่ชื่อ!D28&ใส่ชื่อ!#REF!&\"   \"&ใส่ชื่อ!#REF!","v":{"$error":"#REF!"}},27,null,null,null,null,null,"","",null,null,27,null,null,null,null,null,"","",null,null,{"$f":"COUNTIF($U$5:$U$54,\"ผ่าน\")","v":0}]
[28,{"$f":"ใส่ชื่อ!C29","v":0},{"$f":"ใส่ชื่อ!D29&ใส่ชื่อ!#REF!&\"   \"&ใส่ชื่อ!#REF!","v":{"$error":"#REF!"}},28,null,null,null,null,null,"","",null,null,28,null,null,null,null,null,"","",null,null,{"$f":"COUNTIF($U$5:$U$54,\"ดี\")","v":0}]
[29,{"$f":"ใส่ชื่อ!C30","v":0},{"$f":"ใส่ชื่อ!D30&ใส่ชื่อ!#REF!&\"   \"&ใส่ชื่อ!#REF!","v":{"$error":"#REF!"}},29,null,null,null,null,null,"","",null,null,29,null,null,null,null,null,"","",null,null,{"$f":"COUNTIF($U$5:$U$54,\"ดีเยี่ยม\")","v":0}]
[30,{"$f":"ใส่ชื่อ!C31","v":0},{"$f":"ใส่ชื่อ!D31&ใส่ชื่อ!#REF!&\"   \"&ใส่ชื่อ!#REF!","v":{"$error":"#REF!"}},30,null,null,null,null,null,"","",null,null,30,null,null,null,null,null,"",""]
[31,{"$f":"ใส่ชื่อ!C32","v":0},{"$f":"ใส่ชื่อ!D32&ใส่ชื่อ!#REF!&\"   \"&ใส่ชื่อ!#REF!","v":{"$error":"#REF!"}},31,null,null,null,null,null,"","",null,null,31,null,null,null,null,null,"",""]
[32,{"$f":"ใส่ชื่อ!C33","v":0},{"$f":"ใส่ชื่อ!D33&ใส่ชื่อ!#REF!&\"   \"&ใส่ชื่อ!#REF!","v":{"$error":"#REF!"}},32,null,null,null,null,null,"","",null,null,32,null,null,null,null,null,"",""]
[33,{"$f":"ใส่ชื่อ!C34","v":0},{"$f":"ใส่ชื่อ!D34&ใส่ชื่อ!#REF!&\"   \"&ใส่ชื่อ!#REF!","v":{"$error":"#REF!"}},33,null,null,null,null,null,"",{"$f":"IF(J37=\"\",\"\",(IF(J37>=2.5,\"ดีเยี่ยม\",(IF(J37>=1.5,\"ดี\",(IF(J37>=0.6,\"ผ่าน\",(IF(J37<=0.4,\"ไม่ผ่าน\")))))))))","v":""},null,null,33,null,null,null,null,null,"",{"$f":"IF(T37=\"\",\"\",(IF(T37>=2.5,\"ดีเยี่ยม\",(IF(T37>=1.5,\"ดี\",(IF(T37>=0.6,\"ผ่าน\",(IF(T37<=0.4,\"ไม่ผ่าน\")))))))))","v":""}]
[34,{"$f":"ใส่ชื่อ!C35","v":0},{"$f":"ใส่ชื่อ!D35&ใส่ชื่อ!#REF!&\"   \"&ใส่ชื่อ!#REF!","v":{"$error":"#REF!"}},34,null,null,null,null,null,"","",null,null,34,null,null,null,null,null,"",{"$f":"IF(T38=\"\",\"\",(IF(T38>=2.5,\"ดีเยี่ยม\",(IF(T38>=1.5,\"ดี\",(IF(T38>=0.6,\"ผ่าน\",(IF(T38<=0.4,\"ไม่ผ่าน\")))))))))","v":""}]
[35,{"$f":"ใส่ชื่อ!C36","v":0},{"$f":"ใส่ชื่อ!D36&ใส่ชื่อ!#REF!&\"   \"&ใส่ชื่อ!#REF!","v":{"$error":"#REF!"}},35,null,null,null,null,null,"","",null,null,35,null,null,null,null,null,"",""]
[36,{"$f":"ใส่ชื่อ!C37","v":0},{"$f":"ใส่ชื่อ!D37&ใส่ชื่อ!#REF!&\"   \"&ใส่ชื่อ!#REF!","v":{"$error":"#REF!"}},36,null,null,null,null,null,"","",null,null,36,null,null,null,null,null,"",""]
[37,{"$f":"ใส่ชื่อ!C38","v":0},{"$f":"ใส่ชื่อ!D38&ใส่ชื่อ!#REF!&\"   \"&ใส่ชื่อ!#REF!","v":{"$error":"#REF!"}},37,null,null,null,null,null,"","",null,null,37,null,null,null,null,null,"",""]
[38,{"$f":"ใส่ชื่อ!C39","v":0},{"$f":"ใส่ชื่อ!D39&ใส่ชื่อ!#REF!&\"   \"&ใส่ชื่อ!#REF!","v":{"$error":"#REF!"}},38,null,null,null,null,null,"","",null,null,38,null,null,null,null,null,"",""]
[39,{"$f":"ใส่ชื่อ!C40","v":0},{"$f":"ใส่ชื่อ!D40&ใส่ชื่อ!#REF!&\"   \"&ใส่ชื่อ!#REF!","v":{"$error":"#REF!"}},39,null,null,null,null,null,"","",null,null,39,null,null,null,null,null,"",""]
[40,{"$f":"ใส่ชื่อ!C41","v":0},{"$f":"ใส่ชื่อ!D41&ใส่ชื่อ!#REF!&\"   \"&ใส่ชื่อ!#REF!","v":{"$error":"#REF!"}},40,null,null,null,null,null,"","",null,null,40,null,null,null,null,null,"",""]
[41,{"$f":"ใส่ชื่อ!C42","v":0},{"$f":"ใส่ชื่อ!D42&ใส่ชื่อ!#REF!&\"   \"&ใส่ชื่อ!#REF!","v":{"$error":"#REF!"}},41,null,null,null,null,null,{"$f":"IF(E45=\"\",\"\",(IF(F45=\"\",\"\",(IF(G45=\"\",\"\",(IF(H45=\"\",\"\",(IF(I45=\"\",\"\",(SUM(E45:I45)/5))))))))))","v":""},{"$f":"IF(J45=\"\",\"\",(IF(J45>=2.5,\"ดีเยี่ยม\",(IF(J45>=1.5,\"ดี\",(IF(J45>=0.6,\"ผ่าน\",(IF(J45<=0.4,\"ไม่ผ่าน\")))))))))","v":""},null,null,41,null,null,null,null,null,{"$f":"IF(O45=\"\",\"\",(IF(P45=\"\",\"\",(IF(Q45=\"\",\"\",(IF(R45=\"\",\"\",(IF(S45=\"\",\"\",(SUM(O45:S45)/5))))))))))","v":""},{"$f":"IF(T45=\"\",\"\",(IF(T45>=2.5,\"ดีเยี่ยม\",(IF(T45>=1.5,\"ดี\",(IF(T45>=0.6,\"ผ่าน\",(IF(T45<=0.4,\"ไม่ผ่าน\")))))))))","v":""}]
[42,{"$f":"ใส่ชื่อ!C43","v":0},{"$f":"ใส่ชื่อ!D43&ใส่ชื่อ!#REF!&\"   \"&ใส่ชื่อ!#REF!","v":{"$error":"#REF!"}},42,null,null,null,null,null,"","",null,null,42,null,null,null,null,null,"",""]
[43,{"$f":"ใส่ชื่อ!C44","v":0},{"$f":"ใส่ชื่อ!D44&ใส่ชื่อ!#REF!&\"   \"&ใส่ชื่อ!#REF!","v":{"$error":"#REF!"}},43,null,null,null,null,null,"","",null,null,43,null,null,null,null,null,"",""]
[44,{"$f":"ใส่ชื่อ!C45","v":0},{"$f":"ใส่ชื่อ!D45&ใส่ชื่อ!#REF!&\"   \"&ใส่ชื่อ!#REF!","v":{"$error":"#REF!"}},44,null,null,null,null,null,"","",null,null,44,null,null,null,null,null,"",""]
[45,{"$f":"ใส่ชื่อ!C46","v":0},{"$f":"ใส่ชื่อ!D46&ใส่ชื่อ!#REF!&\"   \"&ใส่ชื่อ!#REF!","v":{"$error":"#REF!"}},45,null,null,null,null,null,"","",null,null,45,null,null,null,null,null,"",""]
[46,{"$f":"ใส่ชื่อ!C47","v":0},{"$f":"ใส่ชื่อ!D47&ใส่ชื่อ!#REF!&\"   \"&ใส่ชื่อ!#REF!","v":{"$error":"#REF!"}},46,null,null,null,null,null,"","",null,null,46,null,null,null,null,null,"",""]
[47,{"$f":"ใส่ชื่อ!C48","v":0},{"$f":"ใส่ชื่อ!D48&ใส่ชื่อ!#REF!&\"   \"&ใส่ชื่อ!#REF!","v":{"$error":"#REF!"}},47,null,null,null,null,null,"","",null,null,47,null,null,null,null,null,"",""]
[48,{"$f":"ใส่ชื่อ!C49","v":0},{"$f":"ใส่ชื่อ!D49&ใส่ชื่อ!#REF!&\"   \"&ใส่ชื่อ!#REF!","v":{"$error":"#REF!"}},48,null,null,null,null,null,"","",null,null,48,null,null,null,null,null,"",""]
[49,{"$f":"ใส่ชื่อ!C50","v":0},{"$f":"ใส่ชื่อ!D50&ใส่ชื่อ!#REF!&\"   \"&ใส่ชื่อ!#REF!","v":{"$error":"#REF!"}},49,null,null,null,null,null,"","",null,null,49,null,null,null,null,null,"",""]
[50,{"$f":"ใส่ชื่อ!C51","v":0},{"$f":"ใส่ชื่อ!D51&ใส่ชื่อ!#REF!&\"   \"&ใส่ชื่อ!#REF!","v":{"$error":"#REF!"}},50,null,null,null,null,null,"","",null,null,50,null,null,null,null,null,"",""]

{"sheet":"สรุปผลสัมฤทธิ์","index":9,"n_rows":58,"n_cols":15,"rows_kept":58,"cut":false,"hidden":false,"merged":[[32,10,32,12],[38,10,38,12],[26,10,26,12],[29,10,29,12],[15,10,15,12],[9,10,9,12],[12,10,12,12],[4,10,6,12],[7,10,7,12],[0,0,0,12],[1,0,1,12],[2,0,2,12],[4,0,6,0],[4,1,6,1],[4,2,6,2],[4,9,6,9],[4,3,6,3],[4,4,4,6],[4,7,6,7],[4,8,6,8],[45,10,45,12],[46,10,46,12],[44,10,44,12],[47,10,47,12],[48,10,48,12],[56,10,56,12],[49,10,49,12],[50,10,50,12],[51,10,51,12],[55,10,55,12],[54,10,54,12]]}
[{"$f":"\"ผลการประเมินคุณภาพผู้เรียนระดับชั้นเรียน   \"&\"รายวิชา \"&ปก!C26&\"  รหัสวิชา \"&ปก!C27","v":"ผลการประเมินคุณภาพผู้เรียนระดับชั้นเรียน   รายวิชา   รหัสวิชา "}]
[{"$f":"\"ชั้นประถมศึกษาปีที่ \"&ปก!C21&\"/\"&ปก!C22&\"    ปีการศึกษา \"&ปก!C27","v":"ชั้นประถมศึกษาปีที่ /    ปีการศึกษา "}]
[{"$f":"ปก!C5&\"  สังกัด\"&ปก!C8&\"  อำเภอ\"&ปก!C6&\"  จังหวัด\"&ปก!C7","v":"โรงเรียนเทศบาลโพธิ์ประทับช้าง  สังกัดเทศบาลตำบลโพธิ์ประทับช้าง  อำเภอโพธิ์ประทับช้าง  จังหวัดพิจิตร"}]
[]
["เลขที่","เลขประจำตัว","ชื่อ - สกุล","เวลา\nเรียน\nร้อยละ","คะแนน",null,null,"ผลการเรียน","อ่าน คิด วิเคราะห์และเขียน","คุณลักษณะ\nอันพึงประสงค์","สรุปผลการพัฒนาคุณภาพ"]
[null,null,null,null,"ภาคเรียนที่ 1","ภาคเรียนที่ 2","รวมรายปี"]
[null,null,null,null,{"$f":"ประเมินผลการเรียนเทอม2!DN6","v":50},{"$f":"ประเมินผลการเรียนเทอม2!DO6","v":50},{"$f":"ประเมินผลการเรียนเทอม2!DQ6","v":100}]
[{"$f":"IF(ใส่ชื่อ!A2=\"\",\"\",ใส่ชื่อ!A2)","v":""},{"$f":"IF(ใส่ชื่อ!C2=\"\",\"\",ใบรายชื่อ!B7)","v":""},{"$f":"CONCATENATE(ใส่ชื่อ!D2,ใส่ชื่อ!E2&\"  \"&ใส่ชื่อ!F2)","v":"  "},{"$f":"IF(เวลาเรียน!L9=0,\"\",เวลาเรียน!L9)","v":100},{"$f":"IF(A8=\"\",\"\",ประเมินผลการเรียนเทอม2!DN7)","v":""},{"$f":"IF(A8=\"\",\"\",ประเมินผลการเรียนเทอม2!DO7)","v":""},{"$f":"IF(A8=\"\",\"\",ประเมินผลการเรียนเทอม2!DQ7)","v":""},{"$f":"ประเมินผลการเรียนเทอม2!DR7","v":""},{"$f":"ประเมินผลการเรียนเทอม2!CQ7","v":0},{"$f":"ประเมินผลการเรียนเทอม2!CZ7","v":""},"จำนวนนักเรียนทั้งหมด"]
[{"$f":"IF(ใส่ชื่อ!A3=\"\",\"\",ใส่ชื่อ!A3)","v":""},{"$f":"IF(ใส่ชื่อ!C3=\"\",\"\",ใบรายชื่อ!B8)","v":""},{"$f":"CONCATENATE(ใส่ชื่อ!D3,ใส่ชื่อ!E3&\"  \"&ใส่ชื่อ!F3)","v":"  "},{"$f":"IF(เวลาเรียน!L10=0,\"\",เวลาเรียน!L10)","v":100},{"$f":"IF(A9=\"\",\"\",ประเมินผลการเรียนเทอม2!DN8)","v":""},{"$f":"IF(A9=\"\",\"\",ประเมินผลการเรียนเทอม2!DO8)","v":""},{"$f":"IF(A9=\"\",\"\",ประเมินผลการเรียนเทอม2!DQ8)","v":""},{"$f":"ประเมินผลการเรียนเทอม2!DR8","v":""},{"$f":"ประเมินผลการเรียนเทอม2!CQ8","v":0},{"$f":"ประเมินผลการเรียนเทอม2!CZ8","v":""},"จำนวน",{"$f":"ปก!Z24","v":0},"คน"]
[{"$f":"IF(ใส่ชื่อ!A4=\"\",\"\",ใส่ชื่อ!A4)","v":""},{"$f":"IF(ใส่ชื่อ!C4=\"\",\"\",ใบรายชื่อ!B9)","v":""},{"$f":"CONCATENATE(ใส่ชื่อ!D4,ใส่ชื่อ!E4&\"  \"&ใส่ชื่อ!F4)","v":"  "},{"$f":"IF(เวลาเรียน!L11=0,\"\",เวลาเรียน!L11)","v":100},{"$f":"IF(A10=\"\",\"\",ประเมินผลการเรียนเทอม2!DN9)","v":""},{"$f":"IF(A10=\"\",\"\",ประเมินผลการเรียนเทอม2!DO9)","v":""},{"$f":"IF(A10=\"\",\"\",ประเมินผลการเรียนเทอม2!DQ9)","v":""},{"$f":"ประเมินผลการเรียนเทอม2!DR9","v":""},{"$f":"ประเมินผลการเรียนเทอม2!CQ9","v":0},{"$f":"ประเมินผลการเรียนเทอม2!CZ9","v":""},"นักเรียนที่ได้ระดับ ดี(3) ขึ้นไป"]
[{"$f":"IF(ใส่ชื่อ!A5=\"\",\"\",ใส่ชื่อ!A5)","v":""},{"$f":"IF(ใส่ชื่อ!C5=\"\",\"\",ใบรายชื่อ!B10)","v":""},{"$f":"CONCATENATE(ใส่ชื่อ!D5,ใส่ชื่อ!E5&\"  \"&ใส่ชื่อ!F5)","v":"  "},{"$f":"IF(เวลาเรียน!L12=0,\"\",เวลาเรียน!L12)","v":100},{"$f":"IF(A11=\"\",\"\",ประเมินผลการเรียนเทอม2!DN10)","v":""},{"$f":"IF(A11=\"\",\"\",ประเมินผลการเรียนเทอม2!DO10)","v":""},{"$f":"IF(A11=\"\",\"\",ประเมินผลการเรียนเทอม2!DQ10)","v":""},{"$f":"ประเมินผลการเรียนเทอม2!DR10","v":""},{"$f":"ประเมินผลการเรียนเทอม2!CQ10","v":0},{"$f":"ประเมินผลการเรียนเทอม2!CZ10","v":""},"จำนวน",{"$f":"ปก!AH24+ปก!AF24+ปก!AD24","v":0},"คน"]
[{"$f":"IF(ใส่ชื่อ!A6=\"\",\"\",ใส่ชื่อ!A6)","v":""},{"$f":"IF(ใส่ชื่อ!C6=\"\",\"\",ใบรายชื่อ!B11)","v":""},{"$f":"CONCATENATE(ใส่ชื่อ!D6,ใส่ชื่อ!E6&\"  \"&ใส่ชื่อ!F6)","v":"  "},{"$f":"IF(เวลาเรียน!L13=0,\"\",เวลาเรียน!L13)","v":100},{"$f":"IF(A12=\"\",\"\",ประเมินผลการเรียนเทอม2!DN11)","v":""},{"$f":"IF(A12=\"\",\"\",ประเมินผลการเรียนเทอม2!DO11)","v":""},{"$f":"IF(A12=\"\",\"\",ประเมินผลการเรียนเทอม2!DQ11)","v":""},{"$f":"ประเมินผลการเรียนเทอม2!DR11","v":""},{"$f":"ประเมินผลการเรียนเทอม2!CQ11","v":0},{"$f":"ประเมินผลการเรียนเทอม2!CZ11","v":""},"คิดเป็นร้อยละ",{"$f":"ปก!AL26","v":0}]
[{"$f":"IF(ใส่ชื่อ!A7=\"\",\"\",ใส่ชื่อ!A7)","v":""},{"$f":"IF(ใส่ชื่อ!C7=\"\",\"\",ใบรายชื่อ!B12)","v":""},{"$f":"CONCATENATE(ใส่ชื่อ!D7,ใส่ชื่อ!E7&\"  \"&ใส่ชื่อ!F7)","v":"  "},{"$f":"IF(เวลาเรียน!L14=0,\"\",เวลาเรียน!L14)","v":100},{"$f":"IF(A13=\"\",\"\",ประเมินผลการเรียนเทอม2!DN12)","v":""},{"$f":"IF(A13=\"\",\"\",ประเมินผลการเรียนเทอม2!DO12)","v":""},{"$f":"IF(A13=\"\",\"\",ประเมินผลการเรียนเทอม2!DQ12)","v":""},{"$f":"ประเมินผลการเรียนเทอม2!DR12","v":""},{"$f":"ประเมินผลการเรียนเทอม2!CQ12","v":0},{"$f":"ประเมินผลการเรียนเทอม2!CZ12","v":""},"นักเรียนที่ไม่ผ่านการประเมิน"]
[{"$f":"IF(ใส่ชื่อ!A8=\"\",\"\",ใส่ชื่อ!A8)","v":""},{"$f":"IF(ใส่ชื่อ!C8=\"\",\"\",ใบรายชื่อ!B13)","v":""},{"$f":"CONCATENATE(ใส่ชื่อ!D8,ใส่ชื่อ!E8&\"  \"&ใส่ชื่อ!F8)","v":"  "},{"$f":"IF(เวลาเรียน!L15=0,\"\",เวลาเรียน!L15)","v":100},{"$f":"IF(A14=\"\",\"\",ประเมินผลการเรียนเทอม2!DN13)","v":""},{"$f":"IF(A14=\"\",\"\",ประเมินผลการเรียนเทอม2!DO13)","v":""},{"$f":"IF(A14=\"\",\"\",ประเมินผลการเรียนเทอม2!DQ13)","v":""},{"$f":"ประเมินผลการเรียนเทอม2!DR13","v":""},{"$f":"ประเมินผลการเรียนเทอม2!CQ13","v":0},{"$f":"ประเมินผลการเรียนเทอม2!CZ13","v":""},"จำนวน",{"$f":"ปก!AT24+ปก!AR24","v":0},"คน"]
[{"$f":"IF(ใส่ชื่อ!A9=\"\",\"\",ใส่ชื่อ!A9)","v":""},{"$f":"IF(ใส่ชื่อ!C9=\"\",\"\",ใบรายชื่อ!B14)","v":""},{"$f":"CONCATENATE(ใส่ชื่อ!D9,ใส่ชื่อ!E9&\"  \"&ใส่ชื่อ!F9)","v":"  "},{"$f":"IF(เวลาเรียน!L16=0,\"\",เวลาเรียน!L16)","v":100},{"$f":"IF(A15=\"\",\"\",ประเมินผลการเรียนเทอม2!DN14)","v":""},{"$f":"IF(A15=\"\",\"\",ประเมินผลการเรียนเทอม2!DO14)","v":""},{"$f":"IF(A15=\"\",\"\",ประเมินผลการเรียนเทอม2!DQ14)","v":""},{"$f":"ประเมินผลการเรียนเทอม2!DR14","v":""},{"$f":"ประเมินผลการเรียนเทอม2!CQ14","v":0},{"$f":"ประเมินผลการเรียนเทอม2!CZ14","v":""},"คิดเป็นร้อยละ",{"$f":"ปก!AL27","v":0}]
[{"$f":"IF(ใส่ชื่อ!A10=\"\",\"\",ใส่ชื่อ!A10)","v":""},{"$f":"IF(ใส่ชื่อ!C10=\"\",\"\",ใบรายชื่อ!B15)","v":""},{"$f":"CONCATENATE(ใส่ชื่อ!D10,ใส่ชื่อ!E10&\"  \"&ใส่ชื่อ!F10)","v":"  "},{"$f":"IF(เวลาเรียน!L17=0,\"\",เวลาเรียน!L17)","v":100},{"$f":"IF(A16=\"\",\"\",ประเมินผลการเรียนเทอม2!DN15)","v":""},{"$f":"IF(A16=\"\",\"\",ประเมินผลการเรียนเทอม2!DO15)","v":""},{"$f":"IF(A16=\"\",\"\",ประเมินผลการเรียนเทอม2!DQ15)","v":""},{"$f":"ประเมินผลการเรียนเทอม2!DR15","v":""},{"$f":"ประเมินผลการเรียนเทอม2!CQ15","v":0},{"$f":"ประเมินผลการเรียนเทอม2!CZ15","v":""},"สรุปผลการเรียน"]
[{"$f":"IF(ใส่ชื่อ!A11=\"\",\"\",ใส่ชื่อ!A11)","v":""},{"$f":"IF(ใส่ชื่อ!C11=\"\",\"\",ใบรายชื่อ!B16)","v":""},{"$f":"CONCATENATE(ใส่ชื่อ!D11,ใส่ชื่อ!E11&\"  \"&ใส่ชื่อ!F11)","v":"  "},{"$f":"IF(เวลาเรียน!L18=0,\"\",เวลาเรียน!L18)","v":100},{"$f":"IF(A17=\"\",\"\",ประเมินผลการเรียนเทอม2!DN16)","v":""},{"$f":"IF(A17=\"\",\"\",ประเมินผลการเรียนเทอม2!DO16)","v":""},{"$f":"IF(A17=\"\",\"\",ประเมินผลการเรียนเทอม2!DQ16)","v":""},{"$f":"ประเมินผลการเรียนเทอม2!DR16","v":""},{"$f":"ประเมินผลการเรียนเทอม2!CQ16","v":0},{"$f":"ประเมินผลการเรียนเทอม2!CZ16","v":""},"ระดับฯ","จำนวน","ร้อยละ"]
[{"$f":"IF(ใส่ชื่อ!A12=\"\",\"\",ใส่ชื่อ!A12)","v":""},{"$f":"IF(ใส่ชื่อ!C12=\"\",\"\",ใบรายชื่อ!B17)","v":""},{"$f":"CONCATENATE(ใส่ชื่อ!D12,ใส่ชื่อ!E12&\"  \"&ใส่ชื่อ!F12)","v":"  "},{"$f":"IF(เวลาเรียน!L19=0,\"\",เวลาเรียน!L19)","v":100},{"$f":"IF(A18=\"\",\"\",ประเมินผลการเรียนเทอม2!DN17)","v":""},{"$f":"IF(A18=\"\",\"\",ประเมินผลการเรียนเทอม2!DO17)","v":""},{"$f":"IF(A18=\"\",\"\",ประเมินผลการเรียนเทอม2!DQ17)","v":""},{"$f":"ประเมินผลการเรียนเทอม2!DR17","v":""},{"$f":"ประเมินผลการเรียนเทอม2!CQ17","v":0},{"$f":"ประเมินผลการเรียนเทอม2!CZ17","v":""},4,{"$f":"ปก!AD24","v":0},{"$f":"ปก!AD25","v":""}]
[{"$f":"IF(ใส่ชื่อ!A13=\"\",\"\",ใส่ชื่อ!A13)","v":""},{"$f":"IF(ใส่ชื่อ!C13=\"\",\"\",ใบรายชื่อ!B18)","v":""},{"$f":"CONCATENATE(ใส่ชื่อ!D13,ใส่ชื่อ!E13&\"  \"&ใส่ชื่อ!F13)","v":"  "},{"$f":"IF(เวลาเรียน!L20=0,\"\",เวลาเรียน!L20)","v":100},{"$f":"IF(A19=\"\",\"\",ประเมินผลการเรียนเทอม2!DN18)","v":""},{"$f":"IF(A19=\"\",\"\",ประเมินผลการเรียนเทอม2!DO18)","v":""},{"$f":"IF(A19=\"\",\"\",ประเมินผลการเรียนเทอม2!DQ18)","v":""},{"$f":"ประเมินผลการเรียนเทอม2!DR18","v":""},{"$f":"ประเมินผลการเรียนเทอม2!CQ18","v":0},{"$f":"ประเมินผลการเรียนเทอม2!CZ18","v":""},3.5,{"$f":"ปก!AF24","v":0},{"$f":"ปก!AF25","v":""},{"$f":"SUM(#REF!)","v":{"$error":"#REF!"}},{"$f":"SUM(#REF!)","v":{"$error":"#REF!"}}]
[{"$f":"IF(ใส่ชื่อ!A14=\"\",\"\",ใส่ชื่อ!A14)","v":""},{"$f":"IF(ใส่ชื่อ!C14=\"\",\"\",ใบรายชื่อ!B19)","v":""},{"$f":"CONCATENATE(ใส่ชื่อ!D14,ใส่ชื่อ!E14&\"  \"&ใส่ชื่อ!F14)","v":"  "},{"$f":"IF(เวลาเรียน!L21=0,\"\",เวลาเรียน!L21)","v":100},{"$f":"IF(A20=\"\",\"\",ประเมินผลการเรียนเทอม2!DN19)","v":""},{"$f":"IF(A20=\"\",\"\",ประเมินผลการเรียนเทอม2!DO19)","v":""},{"$f":"IF(A20=\"\",\"\",ประเมินผลการเรียนเทอม2!DQ19)","v":""},{"$f":"ประเมินผลการเรียนเทอม2!DR19","v":""},{"$f":"ประเมินผลการเรียนเทอม2!CQ19","v":0},{"$f":"ประเมินผลการเรียนเทอม2!CZ19","v":""},3,{"$f":"ปก!AH24","v":0},{"$f":"ปก!AH25","v":""}]
[{"$f":"IF(ใส่ชื่อ!A15=\"\",\"\",ใส่ชื่อ!A15)","v":""},{"$f":"IF(ใส่ชื่อ!C15=\"\",\"\",ใบรายชื่อ!B20)","v":""},{"$f":"CONCATENATE(ใส่ชื่อ!D15,ใส่ชื่อ!E15&\"  \"&ใส่ชื่อ!F15)","v":"  "},{"$f":"IF(เวลาเรียน!L22=0,\"\",เวลาเรียน!L22)","v":100},{"$f":"IF(A21=\"\",\"\",ประเมินผลการเรียนเทอม2!DN20)","v":""},{"$f":"IF(A21=\"\",\"\",ประเมินผลการเรียนเทอม2!DO20)","v":""},{"$f":"IF(A21=\"\",\"\",ประเมินผลการเรียนเทอม2!DQ20)","v":""},{"$f":"ประเมินผลการเรียนเทอม2!DR20","v":""},{"$f":"ประเมินผลการเรียนเทอม2!CQ20","v":0},{"$f":"ประเมินผลการเรียนเทอม2!CZ20","v":""},2.5,{"$f":"ปก!AJ24","v":0},{"$f":"ปก!AJ25","v":""}]
[{"$f":"IF(ใส่ชื่อ!A16=\"\",\"\",ใส่ชื่อ!A16)","v":""},{"$f":"IF(ใส่ชื่อ!C16=\"\",\"\",ใบรายชื่อ!B21)","v":""},{"$f":"CONCATENATE(ใส่ชื่อ!D16,ใส่ชื่อ!E16&\"  \"&ใส่ชื่อ!F16)","v":"  "},{"$f":"IF(เวลาเรียน!L23=0,\"\",เวลาเรียน!L23)","v":100},{"$f":"IF(A22=\"\",\"\",ประเมินผลการเรียนเทอม2!DN21)","v":""},{"$f":"IF(A22=\"\",\"\",ประเมินผลการเรียนเทอม2!DO21)","v":""},{"$f":"IF(A22=\"\",\"\",ประเมินผลการเรียนเทอม2!DQ21)","v":""},{"$f":"ประเมินผลการเรียนเทอม2!DR21","v":""},{"$f":"ประเมินผลการเรียนเทอม2!CQ21","v":0},{"$f":"ประเมินผลการเรียนเทอม2!CZ21","v":""},2,{"$f":"ปก!AL24","v":0},{"$f":"ปก!AL25","v":""}]
[{"$f":"IF(ใส่ชื่อ!A17=\"\",\"\",ใส่ชื่อ!A17)","v":""},{"$f":"IF(ใส่ชื่อ!C17=\"\",\"\",ใบรายชื่อ!B22)","v":""},{"$f":"CONCATENATE(ใส่ชื่อ!D17,ใส่ชื่อ!E17&\"  \"&ใส่ชื่อ!F17)","v":"  "},{"$f":"IF(เวลาเรียน!L24=0,\"\",เวลาเรียน!L24)","v":100},{"$f":"IF(A23=\"\",\"\",ประเมินผลการเรียนเทอม2!DN22)","v":""},{"$f":"IF(A23=\"\",\"\",ประเมินผลการเรียนเทอม2!DO22)","v":""},{"$f":"IF(A23=\"\",\"\",ประเมินผลการเรียนเทอม2!DQ22)","v":""},{"$f":"ประเมินผลการเรียนเทอม2!DR22","v":""},{"$f":"ประเมินผลการเรียนเทอม2!CQ22","v":0},{"$f":"ประเมินผลการเรียนเทอม2!CZ22","v":""},1.5,{"$f":"ปก!AN24","v":0},{"$f":"ปก!AN25","v":""}]
[{"$f":"IF(ใส่ชื่อ!A18=\"\",\"\",ใส่ชื่อ!A18)","v":""},{"$f":"IF(ใส่ชื่อ!C18=\"\",\"\",ใบรายชื่อ!B23)","v":""},{"$f":"CONCATENATE(ใส่ชื่อ!D18,ใส่ชื่อ!E18&\"  \"&ใส่ชื่อ!F18)","v":"  "},{"$f":"IF(เวลาเรียน!L25=0,\"\",เวลาเรียน!L25)","v":100},{"$f":"IF(A24=\"\",\"\",ประเมินผลการเรียนเทอม2!DN23)","v":""},{"$f":"IF(A24=\"\",\"\",ประเมินผลการเรียนเทอม2!DO23)","v":""},{"$f":"IF(A24=\"\",\"\",ประเมินผลการเรียนเทอม2!DQ23)","v":""},{"$f":"ประเมินผลการเรียนเทอม2!DR23","v":""},{"$f":"ประเมินผลการเรียนเทอม2!CQ23","v":0},{"$f":"ประเมินผลการเรียนเทอม2!CZ23","v":""},1,{"$f":"ปก!AP24","v":0},{"$f":"ปก!AP25","v":""}]
[{"$f":"IF(ใส่ชื่อ!A19=\"\",\"\",ใส่ชื่อ!A19)","v":""},{"$f":"IF(ใส่ชื่อ!C19=\"\",\"\",ใบรายชื่อ!B24)","v":""},{"$f":"CONCATENATE(ใส่ชื่อ!D19,ใส่ชื่อ!E19&\"  \"&ใส่ชื่อ!F19)","v":"  "},{"$f":"IF(เวลาเรียน!L26=0,\"\",เวลาเรียน!L26)","v":100},{"$f":"IF(A25=\"\",\"\",ประเมินผลการเรียนเทอม2!DN24)","v":""},{"$f":"IF(A25=\"\",\"\",ประเมินผลการเรียนเทอม2!DO24)","v":""},{"$f":"IF(A25=\"\",\"\",ประเมินผลการเรียนเทอม2!DQ24)","v":""},{"$f":"ประเมินผลการเรียนเทอม2!DR24","v":""},{"$f":"ประเมินผลการเรียนเทอม2!CQ24","v":0},{"$f":"ประเมินผลการเรียนเทอม2!CZ24","v":""},0,{"$f":"ปก!AR24","v":0},{"$f":"ปก!AR25","v":""}]
[{"$f":"IF(ใส่ชื่อ!A20=\"\",\"\",ใส่ชื่อ!A20)","v":""},{"$f":"IF(ใส่ชื่อ!C20=\"\",\"\",ใบรายชื่อ!B25)","v":""},{"$f":"CONCATENATE(ใส่ชื่อ!D20,ใส่ชื่อ!E20&\"  \"&ใส่ชื่อ!F20)","v":"  "},{"$f":"IF(เวลาเรียน!L27=0,\"\",เวลาเรียน!L27)","v":100},{"$f":"IF(A26=\"\",\"\",ประเมินผลการเรียนเทอม2!DN25)","v":""},{"$f":"IF(A26=\"\",\"\",ประเมินผลการเรียนเทอม2!DO25)","v":""},{"$f":"IF(A26=\"\",\"\",ประเมินผลการเรียนเทอม2!DQ25)","v":""},{"$f":"ประเมินผลการเรียนเทอม2!DR25","v":""},{"$f":"ประเมินผลการเรียนเทอม2!CQ25","v":0},{"$f":"ประเมินผลการเรียนเทอม2!CZ25","v":""},"มส",{"$f":"ปก!AT24","v":0},{"$f":"ปก!AT25","v":""}]
[{"$f":"IF(ใส่ชื่อ!A21=\"\",\"\",ใส่ชื่อ!A21)","v":""},{"$f":"IF(ใส่ชื่อ!C21=\"\",\"\",ใบรายชื่อ!B26)","v":""},{"$f":"CONCATENATE(ใส่ชื่อ!D21,ใส่ชื่อ!E21&\"  \"&ใส่ชื่อ!F21)","v":"  "},{"$f":"IF(เวลาเรียน!L28=0,\"\",เวลาเรียน!L28)","v":100},{"$f":"IF(A27=\"\",\"\",ประเมินผลการเรียนเทอม2!DN26)","v":""},{"$f":"IF(A27=\"\",\"\",ประเมินผลการเรียนเทอม2!DO26)","v":""},{"$f":"IF(A27=\"\",\"\",ประเมินผลการเรียนเทอม2!DQ26)","v":""},{"$f":"ประเมินผลการเรียนเทอม2!DR26","v":""},{"$f":"ประเมินผลการเรียนเทอม2!CQ26","v":0},{"$f":"ประเมินผลการเรียนเทอม2!CZ26","v":""},"ผลการเรียนเฉลี่ยรายชั้นเรียน"]
[{"$f":"IF(ใส่ชื่อ!A22=\"\",\"\",ใส่ชื่อ!A22)","v":""},{"$f":"IF(ใส่ชื่อ!C22=\"\",\"\",ใบรายชื่อ!B27)","v":""},{"$f":"CONCATENATE(ใส่ชื่อ!D22,ใส่ชื่อ!E22&\"  \"&ใส่ชื่อ!F22)","v":"  "},{"$f":"IF(เวลาเรียน!L29=0,\"\",เวลาเรียน!L29)","v":100},{"$f":"IF(A28=\"\",\"\",ประเมินผลการเรียนเทอม2!DN27)","v":""},{"$f":"IF(A28=\"\",\"\",ประเมินผลการเรียนเทอม2!DO27)","v":""},{"$f":"IF(A28=\"\",\"\",ประเมินผลการเรียนเทอม2!DQ27)","v":""},{"$f":"ประเมินผลการเรียนเทอม2!DR27","v":""},{"$f":"ประเมินผลการเรียนเทอม2!CQ27","v":0},{"$f":"ประเมินผลการเรียนเทอม2!CZ27","v":""},"ร้อยละ",{"$f":"ปก!AX26","v":""}]
[{"$f":"IF(ใส่ชื่อ!A23=\"\",\"\",ใส่ชื่อ!A23)","v":""},{"$f":"IF(ใส่ชื่อ!C23=\"\",\"\",ใบรายชื่อ!B28)","v":""},{"$f":"CONCATENATE(ใส่ชื่อ!D23,ใส่ชื่อ!E23&\"  \"&ใส่ชื่อ!F23)","v":"  "},{"$f":"IF(เวลาเรียน!L30=0,\"\",เวลาเรียน!L30)","v":100},{"$f":"IF(A29=\"\",\"\",ประเมินผลการเรียนเทอม2!DN28)","v":""},{"$f":"IF(A29=\"\",\"\",ประเมินผลการเรียนเทอม2!DO28)","v":""},{"$f":"IF(A29=\"\",\"\",ประเมินผลการเรียนเทอม2!DQ28)","v":""},{"$f":"ประเมินผลการเรียนเทอม2!DR28","v":""},{"$f":"ประเมินผลการเรียนเทอม2!CQ28","v":0},{"$f":"ประเมินผลการเรียนเทอม2!CZ28","v":""},"SD",{"$f":"ปก!AX27","v":""}]
[{"$f":"IF(ใส่ชื่อ!A24=\"\",\"\",ใส่ชื่อ!A24)","v":""},{"$f":"IF(ใส่ชื่อ!C24=\"\",\"\",ใบรายชื่อ!B29)","v":""},{"$f":"CONCATENATE(ใส่ชื่อ!D24,ใส่ชื่อ!E24&\"  \"&ใส่ชื่อ!F24)","v":"  "},{"$f":"IF(เวลาเรียน!L31=0,\"\",เวลาเรียน!L31)","v":""},{"$f":"IF(A30=\"\",\"\",ประเมินผลการเรียนเทอม2!DN29)","v":""},{"$f":"IF(A30=\"\",\"\",ประเมินผลการเรียนเทอม2!DO29)","v":""},{"$f":"IF(A30=\"\",\"\",ประเมินผลการเรียนเทอม2!DQ29)","v":""},{"$f":"ประเมินผลการเรียนเทอม2!DR29","v":""},{"$f":"ประเมินผลการเรียนเทอม2!CQ29","v":0},{"$f":"ประเมินผลการเรียนเทอม2!CZ29","v":""},"คะแนนเฉลี่ยรายชั้นเรียน"]
[{"$f":"IF(ใส่ชื่อ!A25=\"\",\"\",ใส่ชื่อ!A25)","v":""},{"$f":"IF(ใส่ชื่อ!C25=\"\",\"\",ใบรายชื่อ!B30)","v":""},{"$f":"CONCATENATE(ใส่ชื่อ!D25,ใส่ชื่อ!E25&\"  \"&ใส่ชื่อ!F25)","v":"  "},{"$f":"IF(เวลาเรียน!L32=0,\"\",เวลาเรียน!L32)","v":""},{"$f":"IF(A31=\"\",\"\",ประเมินผลการเรียนเทอม2!DN30)","v":""},{"$f":"IF(A31=\"\",\"\",ประเมินผลการเรียนเทอม2!DO30)","v":""},{"$f":"IF(A31=\"\",\"\",ประเมินผลการเรียนเทอม2!DQ30)","v":""},{"$f":"ประเมินผลการเรียนเทอม2!DR30","v":""},{"$f":"ประเมินผลการเรียนเทอม2!CQ30","v":0},{"$f":"ประเมินผลการเรียนเทอม2!CZ30","v":""},"ภาคเรียนที่1","ภาคเรียนที่2","ปีการศึกษา",{"$f":"SUM(#REF!)","v":{"$error":"#REF!"}},{"$f":"SUM(#REF!)","v":{"$error":"#REF!"}}]
[{"$f":"IF(ใส่ชื่อ!A26=\"\",\"\",ใส่ชื่อ!A26)","v":""},{"$f":"IF(ใส่ชื่อ!C26=\"\",\"\",ใบรายชื่อ!B31)","v":""},{"$f":"CONCATENATE(ใส่ชื่อ!D26,ใส่ชื่อ!E26&\"  \"&ใส่ชื่อ!F26)","v":"  "},{"$f":"IF(เวลาเรียน!L33=0,\"\",เวลาเรียน!L33)","v":""},{"$f":"IF(A32=\"\",\"\",ประเมินผลการเรียนเทอม2!DN31)","v":""},{"$f":"IF(A32=\"\",\"\",ประเมินผลการเรียนเทอม2!DO31)","v":""},{"$f":"IF(A32=\"\",\"\",ประเมินผลการเรียนเทอม2!DQ31)","v":""},{"$f":"ประเมินผลการเรียนเทอม2!DR31","v":""},{"$f":"ประเมินผลการเรียนเทอม2!CQ31","v":0},{"$f":"ประเมินผลการเรียนเทอม2!CZ31","v":""},{"$f":"IF(E58=0,\"-\",AVERAGE(E8:E57))","v":"-"},{"$f":"IF(F58=0,\"-\",AVERAGE(F8:F57))","v":"-"},{"$f":"IF(G58=0,\"-\",AVERAGE(G8:G57))","v":"-"}]
[{"$f":"IF(ใส่ชื่อ!A27=\"\",\"\",ใส่ชื่อ!A27)","v":""},{"$f":"IF(ใส่ชื่อ!C27=\"\",\"\",ใบรายชื่อ!B32)","v":""},{"$f":"CONCATENATE(ใส่ชื่อ!D27,ใส่ชื่อ!E27&\"  \"&ใส่ชื่อ!F27)","v":"  "},{"$f":"IF(เวลาเรียน!L34=0,\"\",เวลาเรียน!L34)","v":""},{"$f":"IF(A33=\"\",\"\",ประเมินผลการเรียนเทอม2!DN32)","v":""},{"$f":"IF(A33=\"\",\"\",ประเมินผลการเรียนเทอม2!DO32)","v":""},{"$f":"IF(A33=\"\",\"\",ประเมินผลการเรียนเทอม2!DQ32)","v":""},{"$f":"ประเมินผลการเรียนเทอม2!DR32","v":""},{"$f":"ประเมินผลการเรียนเทอม2!CQ32","v":0},{"$f":"ประเมินผลการเรียนเทอม2!CZ32","v":""},"สรุปผลการอ่าน คิด วิเคราะห์ และเขียน"]
[{"$f":"IF(ใส่ชื่อ!A28=\"\",\"\",ใส่ชื่อ!A28)","v":""},{"$f":"IF(ใส่ชื่อ!C28=\"\",\"\",ใบรายชื่อ!B33)","v":""},{"$f":"CONCATENATE(ใส่ชื่อ!D28,ใส่ชื่อ!E28&\"  \"&ใส่ชื่อ!F28)","v":"  "},{"$f":"IF(เวลาเรียน!L35=0,\"\",เวลาเรียน!L35)","v":""},{"$f":"IF(A34=\"\",\"\",ประเมินผลการเรียนเทอม2!DN33)","v":""},{"$f":"IF(A34=\"\",\"\",ประเมินผลการเรียนเทอม2!DO33)","v":""},{"$f":"IF(A34=\"\",\"\",ประเมินผลการเรียนเทอม2!DQ33)","v":""},{"$f":"ประเมินผลการเรียนเทอม2!DR33","v":""},{"$f":"ประเมินผลการเรียนเทอม2!CQ33","v":""},{"$f":"ประเมินผลการเรียนเทอม2!CZ33","v":""},"ผลประเมิน","จำนวน","ร้อยละ"]
[{"$f":"IF(ใส่ชื่อ!A29=\"\",\"\",ใส่ชื่อ!A29)","v":""},{"$f":"IF(ใส่ชื่อ!C29=\"\",\"\",ใบรายชื่อ!B34)","v":""},{"$f":"CONCATENATE(ใส่ชื่อ!D29,ใส่ชื่อ!E29&\"  \"&ใส่ชื่อ!F29)","v":"  "},{"$f":"IF(เวลาเรียน!L36=0,\"\",เวลาเรียน!L36)","v":""},{"$f":"IF(A35=\"\",\"\",ประเมินผลการเรียนเทอม2!DN34)","v":""},{"$f":"IF(A35=\"\",\"\",ประเมินผลการเรียนเทอม2!DO34)","v":""},{"$f":"IF(A35=\"\",\"\",ประเมินผลการเรียนเทอม2!DQ34)","v":""},{"$f":"ประเมินผลการเรียนเทอม2!DR34","v":""},{"$f":"ประเมินผลการเรียนเทอม2!CQ34","v":""},{"$f":"ประเมินผลการเรียนเทอม2!CZ34","v":""},"ดีเยี่ยม",{"$f":"ปก!AC30","v":0},{"$f":"ปก!AC31","v":""}]
[{"$f":"IF(ใส่ชื่อ!A30=\"\",\"\",ใส่ชื่อ!A30)","v":""},{"$f":"IF(ใส่ชื่อ!C30=\"\",\"\",ใบรายชื่อ!B35)","v":""},{"$f":"CONCATENATE(ใส่ชื่อ!D30,ใส่ชื่อ!E30&\"  \"&ใส่ชื่อ!F30)","v":"  "},{"$f":"IF(เวลาเรียน!L37=0,\"\",เวลาเรียน!L37)","v":""},{"$f":"IF(A36=\"\",\"\",ประเมินผลการเรียนเทอม2!DN35)","v":""},{"$f":"IF(A36=\"\",\"\",ประเมินผลการเรียนเทอม2!DO35)","v":""},{"$f":"IF(A36=\"\",\"\",ประเมินผลการเรียนเทอม2!DQ35)","v":""},{"$f":"ประเมินผลการเรียนเทอม2!DR35","v":""},{"$f":"ประเมินผลการเรียนเทอม2!CQ35","v":""},{"$f":"ประเมินผลการเรียนเทอม2!CZ35","v":""},"ดี",{"$f":"ปก!AF30","v":0},{"$f":"ปก!AF31","v":""}]
[{"$f":"IF(ใส่ชื่อ!A31=\"\",\"\",ใส่ชื่อ!A31)","v":""},{"$f":"IF(ใส่ชื่อ!C31=\"\",\"\",ใบรายชื่อ!B36)","v":""},{"$f":"CONCATENATE(ใส่ชื่อ!D31,ใส่ชื่อ!E31&\"  \"&ใส่ชื่อ!F31)","v":"  "},{"$f":"IF(เวลาเรียน!L38=0,\"\",เวลาเรียน!L38)","v":""},{"$f":"IF(A37=\"\",\"\",ประเมินผลการเรียนเทอม2!DN36)","v":""},{"$f":"IF(A37=\"\",\"\",ประเมินผลการเรียนเทอม2!DO36)","v":""},{"$f":"IF(A37=\"\",\"\",ประเมินผลการเรียนเทอม2!DQ36)","v":""},{"$f":"ประเมินผลการเรียนเทอม2!DR36","v":""},{"$f":"ประเมินผลการเรียนเทอม2!CQ36","v":""},{"$f":"ประเมินผลการเรียนเทอม2!CZ36","v":""},"ผ่าน",{"$f":"ปก!AI30","v":0},{"$f":"ปก!AI31","v":""},{"$f":"SUM(#REF!)","v":{"$error":"#REF!"}},{"$f":"SUM(#REF!)","v":{"$error":"#REF!"}}]
[{"$f":"IF(ใส่ชื่อ!A32=\"\",\"\",ใส่ชื่อ!A32)","v":""},{"$f":"IF(ใส่ชื่อ!C32=\"\",\"\",ใบรายชื่อ!B37)","v":""},{"$f":"CONCATENATE(ใส่ชื่อ!D32,ใส่ชื่อ!E32&\"  \"&ใส่ชื่อ!F32)","v":"  "},{"$f":"IF(เวลาเรียน!L39=0,\"\",เวลาเรียน!L39)","v":""},{"$f":"IF(A38=\"\",\"\",ประเมินผลการเรียนเทอม2!DN37)","v":""},{"$f":"IF(A38=\"\",\"\",ประเมินผลการเรียนเทอม2!DO37)","v":""},{"$f":"IF(A38=\"\",\"\",ประเมินผลการเรียนเทอม2!DQ37)","v":""},{"$f":"ประเมินผลการเรียนเทอม2!DR37","v":""},{"$f":"ประเมินผลการเรียนเทอม2!CQ37","v":""},{"$f":"ประเมินผลการเรียนเทอม2!CZ37","v":""},"ไม่ผ่าน",{"$f":"ปก!AL30","v":0},{"$f":"ปก!AL31","v":""}]
[{"$f":"IF(ใส่ชื่อ!A33=\"\",\"\",ใส่ชื่อ!A33)","v":""},{"$f":"IF(ใส่ชื่อ!C33=\"\",\"\",ใบรายชื่อ!B38)","v":""},{"$f":"CONCATENATE(ใส่ชื่อ!D33,ใส่ชื่อ!E33&\"  \"&ใส่ชื่อ!F33)","v":"  "},{"$f":"IF(เวลาเรียน!L40=0,\"\",เวลาเรียน!L40)","v":""},{"$f":"IF(A39=\"\",\"\",ประเมินผลการเรียนเทอม2!DN38)","v":""},{"$f":"IF(A39=\"\",\"\",ประเมินผลการเรียนเทอม2!DO38)","v":""},{"$f":"IF(A39=\"\",\"\",ประเมินผลการเรียนเทอม2!DQ38)","v":""},{"$f":"ประเมินผลการเรียนเทอม2!DR38","v":""},{"$f":"ประเมินผลการเรียนเทอม2!CQ38","v":""},{"$f":"ประเมินผลการเรียนเทอม2!CZ38","v":""},"สรุปผลการประเมินคุณลักษณะอันพึงประสงค์"]
[{"$f":"IF(ใส่ชื่อ!A34=\"\",\"\",ใส่ชื่อ!A34)","v":""},{"$f":"IF(ใส่ชื่อ!C34=\"\",\"\",ใบรายชื่อ!B39)","v":""},{"$f":"CONCATENATE(ใส่ชื่อ!D34,ใส่ชื่อ!E34&\"  \"&ใส่ชื่อ!F34)","v":"  "},{"$f":"IF(เวลาเรียน!L41=0,\"\",เวลาเรียน!L41)","v":""},{"$f":"IF(A40=\"\",\"\",ประเมินผลการเรียนเทอม2!DN39)","v":""},{"$f":"IF(A40=\"\",\"\",ประเมินผลการเรียนเทอม2!DO39)","v":""},{"$f":"IF(A40=\"\",\"\",ประเมินผลการเรียนเทอม2!DQ39)","v":""},{"$f":"ประเมินผลการเรียนเทอม2!DR39","v":""},{"$f":"ประเมินผลการเรียนเทอม2!CQ39","v":""},{"$f":"ประเมินผลการเรียนเทอม2!CZ39","v":""},"ผลประเมิน","จำนวน","ร้อยละ"]
[{"$f":"IF(ใส่ชื่อ!A35=\"\",\"\",ใส่ชื่อ!A35)","v":""},{"$f":"IF(ใส่ชื่อ!C35=\"\",\"\",ใบรายชื่อ!B40)","v":""},{"$f":"CONCATENATE(ใส่ชื่อ!D35,ใส่ชื่อ!E35&\"  \"&ใส่ชื่อ!F35)","v":"  "},{"$f":"IF(เวลาเรียน!L42=0,\"\",เวลาเรียน!L42)","v":""},{"$f":"IF(A41=\"\",\"\",ประเมินผลการเรียนเทอม2!DN40)","v":""},{"$f":"IF(A41=\"\",\"\",ประเมินผลการเรียนเทอม2!DO40)","v":""},{"$f":"IF(A41=\"\",\"\",ประเมินผลการเรียนเทอม2!DQ40)","v":""},{"$f":"ประเมินผลการเรียนเทอม2!DR40","v":""},{"$f":"ประเมินผลการเรียนเทอม2!CQ40","v":""},{"$f":"ประเมินผลการเรียนเทอม2!CZ40","v":""},"ดีเยี่ยม",{"$f":"ปก!AO30","v":0},{"$f":"ปก!AO31","v":""}]
[{"$f":"IF(ใส่ชื่อ!A36=\"\",\"\",ใส่ชื่อ!A36)","v":""},{"$f":"IF(ใส่ชื่อ!C36=\"\",\"\",ใบรายชื่อ!B41)","v":""},{"$f":"CONCATENATE(ใส่ชื่อ!D36,ใส่ชื่อ!E36&\"  \"&ใส่ชื่อ!F36)","v":"  "},{"$f":"IF(เวลาเรียน!L43=0,\"\",เวลาเรียน!L43)","v":""},{"$f":"IF(A42=\"\",\"\",ประเมินผลการเรียนเทอม2!DN41)","v":""},{"$f":"IF(A42=\"\",\"\",ประเมินผลการเรียนเทอม2!DO41)","v":""},{"$f":"IF(A42=\"\",\"\",ประเมินผลการเรียนเทอม2!DQ41)","v":""},{"$f":"ประเมินผลการเรียนเทอม2!DR41","v":""},{"$f":"ประเมินผลการเรียนเทอม2!CQ41","v":""},{"$f":"ประเมินผลการเรียนเทอม2!CZ41","v":""},"ดี",{"$f":"ปก!AR30","v":0},{"$f":"ปก!AR31","v":""}]
[{"$f":"IF(ใส่ชื่อ!A37=\"\",\"\",ใส่ชื่อ!A37)","v":""},{"$f":"IF(ใส่ชื่อ!C37=\"\",\"\",ใบรายชื่อ!B42)","v":""},{"$f":"CONCATENATE(ใส่ชื่อ!D37,ใส่ชื่อ!E37&\"  \"&ใส่ชื่อ!F37)","v":"  "},{"$f":"IF(เวลาเรียน!L44=0,\"\",เวลาเรียน!L44)","v":""},{"$f":"IF(A43=\"\",\"\",ประเมินผลการเรียนเทอม2!DN42)","v":""},{"$f":"IF(A43=\"\",\"\",ประเมินผลการเรียนเทอม2!DO42)","v":""},{"$f":"IF(A43=\"\",\"\",ประเมินผลการเรียนเทอม2!DQ42)","v":""},{"$f":"ประเมินผลการเรียนเทอม2!DR42","v":""},{"$f":"ประเมินผลการเรียนเทอม2!CQ42","v":""},{"$f":"ประเมินผลการเรียนเทอม2!CZ42","v":""},"ผ่าน",{"$f":"ปก!AU30","v":0},{"$f":"ปก!AU31","v":""},{"$f":"SUM(#REF!)","v":{"$error":"#REF!"}},{"$f":"SUM(#REF!)","v":{"$error":"#REF!"}}]
[{"$f":"IF(ใส่ชื่อ!A38=\"\",\"\",ใส่ชื่อ!A38)","v":""},{"$f":"IF(ใส่ชื่อ!C38=\"\",\"\",ใบรายชื่อ!B43)","v":""},{"$f":"CONCATENATE(ใส่ชื่อ!D38,ใส่ชื่อ!E38&\"  \"&ใส่ชื่อ!F38)","v":"  "},{"$f":"IF(เวลาเรียน!L45=0,\"\",เวลาเรียน!L45)","v":""},{"$f":"IF(A44=\"\",\"\",ประเมินผลการเรียนเทอม2!DN43)","v":""},{"$f":"IF(A44=\"\",\"\",ประเมินผลการเรียนเทอม2!DO43)","v":""},{"$f":"IF(A44=\"\",\"\",ประเมินผลการเรียนเทอม2!DQ43)","v":""},{"$f":"ประเมินผลการเรียนเทอม2!DR43","v":""},{"$f":"ประเมินผลการเรียนเทอม2!CQ43","v":""},{"$f":"ประเมินผลการเรียนเทอม2!CZ43","v":""},"ไม่ผ่าน",{"$f":"ปก!AX30","v":0},{"$f":"ปก!AX31","v":""}]
[{"$f":"IF(ใส่ชื่อ!A39=\"\",\"\",ใส่ชื่อ!A39)","v":""},{"$f":"IF(ใส่ชื่อ!C39=\"\",\"\",ใบรายชื่อ!B44)","v":""},{"$f":"CONCATENATE(ใส่ชื่อ!D39,ใส่ชื่อ!E39&\"  \"&ใส่ชื่อ!F39)","v":"  "},{"$f":"IF(เวลาเรียน!L46=0,\"\",เวลาเรียน!L46)","v":""},{"$f":"IF(A45=\"\",\"\",ประเมินผลการเรียนเทอม2!DN44)","v":""},{"$f":"IF(A45=\"\",\"\",ประเมินผลการเรียนเทอม2!DO44)","v":""},{"$f":"IF(A45=\"\",\"\",ประเมินผลการเรียนเทอม2!DQ44)","v":""},{"$f":"ประเมินผลการเรียนเทอม2!DR44","v":""},{"$f":"ประเมินผลการเรียนเทอม2!CQ44","v":""},{"$f":"ประเมินผลการเรียนเทอม2!CZ44","v":""}]
[{"$f":"IF(ใส่ชื่อ!A40=\"\",\"\",ใส่ชื่อ!A40)","v":""},{"$f":"IF(ใส่ชื่อ!C40=\"\",\"\",ใบรายชื่อ!B45)","v":""},{"$f":"CONCATENATE(ใส่ชื่อ!D40,ใส่ชื่อ!E40&\"  \"&ใส่ชื่อ!F40)","v":"  "},{"$f":"IF(เวลาเรียน!L47=0,\"\",เวลาเรียน!L47)","v":""},{"$f":"IF(A46=\"\",\"\",ประเมินผลการเรียนเทอม2!DN45)","v":""},{"$f":"IF(A46=\"\",\"\",ประเมินผลการเรียนเทอม2!DO45)","v":""},{"$f":"IF(A46=\"\",\"\",ประเมินผลการเรียนเทอม2!DQ45)","v":""},{"$f":"ประเมินผลการเรียนเทอม2!DR45","v":""},{"$f":"ประเมินผลการเรียนเทอม2!CQ45","v":""},{"$f":"ประเมินผลการเรียนเทอม2!CZ45","v":""},"ลงชื่อ......................................................."]
[{"$f":"IF(ใส่ชื่อ!A41=\"\",\"\",ใส่ชื่อ!A41)","v":""},{"$f":"IF(ใส่ชื่อ!C41=\"\",\"\",ใบรายชื่อ!B46)","v":""},{"$f":"CONCATENATE(ใส่ชื่อ!D41,ใส่ชื่อ!E41&\"  \"&ใส่ชื่อ!F41)","v":"  "},{"$f":"IF(เวลาเรียน!L48=0,\"\",เวลาเรียน!L48)","v":""},{"$f":"IF(A47=\"\",\"\",ประเมินผลการเรียนเทอม2!DN46)","v":""},{"$f":"IF(A47=\"\",\"\",ประเมินผลการเรียนเทอม2!DO46)","v":""},{"$f":"IF(A47=\"\",\"\",ประเมินผลการเรียนเทอม2!DQ46)","v":""},{"$f":"ประเมินผลการเรียนเทอม2!DR46","v":""},{"$f":"ประเมินผลการเรียนเทอม2!CQ46","v":""},{"$f":"ประเมินผลการเรียนเทอม2!CZ46","v":""},{"$f":"IF(ปก!C29=\"\",\"\",(\"(\"&ปก!C29&\")\"))","v":""}]
[{"$f":"IF(ใส่ชื่อ!A42=\"\",\"\",ใส่ชื่อ!A42)","v":""},{"$f":"IF(ใส่ชื่อ!C42=\"\",\"\",ใบรายชื่อ!B47)","v":""},{"$f":"CONCATENATE(ใส่ชื่อ!D42,ใส่ชื่อ!E42&\"  \"&ใส่ชื่อ!F42)","v":"  "},{"$f":"IF(เวลาเรียน!L49=0,\"\",เวลาเรียน!L49)","v":""},{"$f":"IF(A48=\"\",\"\",ประเมินผลการเรียนเทอม2!DN47)","v":""},{"$f":"IF(A48=\"\",\"\",ประเมินผลการเรียนเทอม2!DO47)","v":""},{"$f":"IF(A48=\"\",\"\",ประเมินผลการเรียนเทอม2!DQ47)","v":""},{"$f":"ประเมินผลการเรียนเทอม2!DR47","v":""},{"$f":"ประเมินผลการเรียนเทอม2!CQ47","v":""},{"$f":"ประเมินผลการเรียนเทอม2!CZ47","v":""},"ครูผู้สอน"]
[{"$f":"IF(ใส่ชื่อ!A43=\"\",\"\",ใส่ชื่อ!A43)","v":""},{"$f":"IF(ใส่ชื่อ!C43=\"\",\"\",ใบรายชื่อ!B48)","v":""},{"$f":"CONCATENATE(ใส่ชื่อ!D43,ใส่ชื่อ!E43&\"  \"&ใส่ชื่อ!F43)","v":"  "},{"$f":"IF(เวลาเรียน!L50=0,\"\",เวลาเรียน!L50)","v":""},{"$f":"IF(A49=\"\",\"\",ประเมินผลการเรียนเทอม2!DN48)","v":""},{"$f":"IF(A49=\"\",\"\",ประเมินผลการเรียนเทอม2!DO48)","v":""},{"$f":"IF(A49=\"\",\"\",ประเมินผลการเรียนเทอม2!DQ48)","v":""},{"$f":"ประเมินผลการเรียนเทอม2!DR48","v":""},{"$f":"ประเมินผลการเรียนเทอม2!CQ48","v":""},{"$f":"ประเมินผลการเรียนเทอม2!CZ48","v":""},"หัวหน้ากลุ่มสาระฯ..............................................."]
[{"$f":"IF(ใส่ชื่อ!A44=\"\",\"\",ใส่ชื่อ!A44)","v":""},{"$f":"IF(ใส่ชื่อ!C44=\"\",\"\",ใบรายชื่อ!B49)","v":""},{"$f":"CONCATENATE(ใส่ชื่อ!D44,ใส่ชื่อ!E44&\"  \"&ใส่ชื่อ!F44)","v":"  "},{"$f":"IF(เวลาเรียน!L51=0,\"\",เวลาเรียน!L51)","v":""},{"$f":"IF(A50=\"\",\"\",ประเมินผลการเรียนเทอม2!DN49)","v":""},{"$f":"IF(A50=\"\",\"\",ประเมินผลการเรียนเทอม2!DO49)","v":""},{"$f":"IF(A50=\"\",\"\",ประเมินผลการเรียนเทอม2!DQ49)","v":""},{"$f":"ประเมินผลการเรียนเทอม2!DR49","v":""},{"$f":"ประเมินผลการเรียนเทอม2!CQ49","v":""},{"$f":"ประเมินผลการเรียนเทอม2!CZ49","v":""},"หัวหน้างานวัดผลฯ ......................................."]
[{"$f":"IF(ใส่ชื่อ!A45=\"\",\"\",ใส่ชื่อ!A45)","v":""},{"$f":"IF(ใส่ชื่อ!C45=\"\",\"\",ใบรายชื่อ!B50)","v":""},{"$f":"CONCATENATE(ใส่ชื่อ!D45,ใส่ชื่อ!E45&\"  \"&ใส่ชื่อ!F45)","v":"  "},{"$f":"IF(เวลาเรียน!L52=0,\"\",เวลาเรียน!L52)","v":""},{"$f":"IF(A51=\"\",\"\",ประเมินผลการเรียนเทอม2!DN50)","v":""},{"$f":"IF(A51=\"\",\"\",ประเมินผลการเรียนเทอม2!DO50)","v":""},{"$f":"IF(A51=\"\",\"\",ประเมินผลการเรียนเทอม2!DQ50)","v":""},{"$f":"ประเมินผลการเรียนเทอม2!DR50","v":""},{"$f":"ประเมินผลการเรียนเทอม2!CQ50","v":""},{"$f":"ประเมินผลการเรียนเทอม2!CZ50","v":""},"นายทะเบียน ..........................................."]
[{"$f":"IF(ใส่ชื่อ!A46=\"\",\"\",ใส่ชื่อ!A46)","v":""},{"$f":"IF(ใส่ชื่อ!C46=\"\",\"\",ใบรายชื่อ!B51)","v":""},{"$f":"CONCATENATE(ใส่ชื่อ!D46,ใส่ชื่อ!E46&\"  \"&ใส่ชื่อ!F46)","v":"  "},{"$f":"IF(เวลาเรียน!L53=0,\"\",เวลาเรียน!L53)","v":""},{"$f":"IF(A52=\"\",\"\",ประเมินผลการเรียนเทอม2!DN51)","v":""},{"$f":"IF(A52=\"\",\"\",ประเมินผลการเรียนเทอม2!DO51)","v":""},{"$f":"IF(A52=\"\",\"\",ประเมินผลการเรียนเทอม2!DQ51)","v":""},{"$f":"ประเมินผลการเรียนเทอม2!DR51","v":""},{"$f":"ประเมินผลการเรียนเทอม2!CQ51","v":""},{"$f":"ประเมินผลการเรียนเทอม2!CZ51","v":""},"รองฯวิชาการ.........................................."]
[{"$f":"IF(ใส่ชื่อ!A47=\"\",\"\",ใส่ชื่อ!A47)","v":""},{"$f":"IF(ใส่ชื่อ!C47=\"\",\"\",ใบรายชื่อ!B52)","v":""},{"$f":"CONCATENATE(ใส่ชื่อ!D47,ใส่ชื่อ!E47&\"  \"&ใส่ชื่อ!F47)","v":"  "},{"$f":"IF(เวลาเรียน!L54=0,\"\",เวลาเรียน!L54)","v":""},{"$f":"IF(A53=\"\",\"\",ประเมินผลการเรียนเทอม2!DN52)","v":""},{"$f":"IF(A53=\"\",\"\",ประเมินผลการเรียนเทอม2!DO52)","v":""},{"$f":"IF(A53=\"\",\"\",ประเมินผลการเรียนเทอม2!DQ52)","v":""},{"$f":"ประเมินผลการเรียนเทอม2!DR52","v":""},{"$f":"ประเมินผลการเรียนเทอม2!CQ52","v":""},{"$f":"ประเมินผลการเรียนเทอม2!CZ52","v":""}]
[{"$f":"IF(ใส่ชื่อ!A48=\"\",\"\",ใส่ชื่อ!A48)","v":""},{"$f":"IF(ใส่ชื่อ!C48=\"\",\"\",ใบรายชื่อ!B53)","v":""},{"$f":"CONCATENATE(ใส่ชื่อ!D48,ใส่ชื่อ!E48&\"  \"&ใส่ชื่อ!F48)","v":"  "},{"$f":"IF(เวลาเรียน!L55=0,\"\",เวลาเรียน!L55)","v":""},{"$f":"IF(A54=\"\",\"\",ประเมินผลการเรียนเทอม2!DN53)","v":""},{"$f":"IF(A54=\"\",\"\",ประเมินผลการเรียนเทอม2!DO53)","v":""},{"$f":"IF(A54=\"\",\"\",ประเมินผลการเรียนเทอม2!DQ53)","v":""},{"$f":"ประเมินผลการเรียนเทอม2!DR53","v":""},{"$f":"ประเมินผลการเรียนเทอม2!CQ53","v":""},{"$f":"ประเมินผลการเรียนเทอม2!CZ53","v":""},"ลงชื่อ......................................................."]
[{"$f":"IF(ใส่ชื่อ!A49=\"\",\"\",ใส่ชื่อ!A49)","v":""},{"$f":"IF(ใส่ชื่อ!C49=\"\",\"\",ใบรายชื่อ!B54)","v":""},{"$f":"CONCATENATE(ใส่ชื่อ!D49,ใส่ชื่อ!E49&\"  \"&ใส่ชื่อ!F49)","v":"  "},{"$f":"IF(เวลาเรียน!L56=0,\"\",เวลาเรียน!L56)","v":""},{"$f":"IF(A55=\"\",\"\",ประเมินผลการเรียนเทอม2!DN54)","v":""},{"$f":"IF(A55=\"\",\"\",ประเมินผลการเรียนเทอม2!DO54)","v":""},{"$f":"IF(A55=\"\",\"\",ประเมินผลการเรียนเทอม2!DQ54)","v":""},{"$f":"ประเมินผลการเรียนเทอม2!DR54","v":""},{"$f":"ประเมินผลการเรียนเทอม2!CQ54","v":""},{"$f":"ประเมินผลการเรียนเทอม2!CZ54","v":""},{"$f":"ปก!AO41","v":"(นายธวัช  ขาวผ่อง)"}]
[{"$f":"IF(ใส่ชื่อ!A50=\"\",\"\",ใส่ชื่อ!A50)","v":""},{"$f":"IF(ใส่ชื่อ!C50=\"\",\"\",ใบรายชื่อ!B55)","v":""},{"$f":"CONCATENATE(ใส่ชื่อ!D50,ใส่ชื่อ!E50&\"  \"&ใส่ชื่อ!F50)","v":"  "},{"$f":"IF(เวลาเรียน!L57=0,\"\",เวลาเรียน!L57)","v":""},{"$f":"IF(A56=\"\",\"\",ประเมินผลการเรียนเทอม2!DN55)","v":""},{"$f":"IF(A56=\"\",\"\",ประเมินผลการเรียนเทอม2!DO55)","v":""},{"$f":"IF(A56=\"\",\"\",ประเมินผลการเรียนเทอม2!DQ55)","v":""},{"$f":"ประเมินผลการเรียนเทอม2!DR55","v":""},{"$f":"ประเมินผลการเรียนเทอม2!CQ55","v":""},{"$f":"ประเมินผลการเรียนเทอม2!CZ55","v":""},{"$f":"IF(ปก!AN40=\"ลงชื่อ...........................................ผู้อำนวยการสถานศึกษา\",\"ผู้อำนวยการสถานศึกษา\",\"รักษาการผู้อำนวยการสถานศึกษา\")","v":"ผู้อำนวยการสถานศึกษา"}]
[{"$f":"IF(ใส่ชื่อ!A51=\"\",\"\",ใส่ชื่อ!A51)","v":""},{"$f":"IF(ใส่ชื่อ!C51=\"\",\"\",ใบรายชื่อ!B56)","v":""},{"$f":"CONCATENATE(ใส่ชื่อ!D51,ใส่ชื่อ!E51&\"  \"&ใส่ชื่อ!F51)","v":"  "},{"$f":"IF(เวลาเรียน!L58=0,\"\",เวลาเรียน!L58)","v":""},{"$f":"IF(A57=\"\",\"\",ประเมินผลการเรียนเทอม2!DN56)","v":""},{"$f":"IF(A57=\"\",\"\",ประเมินผลการเรียนเทอม2!DO56)","v":""},{"$f":"IF(A57=\"\",\"\",ประเมินผลการเรียนเทอม2!DQ56)","v":""},{"$f":"ประเมินผลการเรียนเทอม2!DR56","v":""},{"$f":"ประเมินผลการเรียนเทอม2!CQ56","v":""},{"$f":"ประเมินผลการเรียนเทอม2!CZ56","v":""}," ............./............../..............."]
[null,null,null,null,{"$f":"SUM(E8:E57)","v":0},{"$f":"SUM(F8:F57)","v":0},{"$f":"SUM(G8:G57)","v":0}]

{"sheet":"กำหนดชิ้นงานฯ","index":10,"n_rows":141,"n_cols":7,"rows_kept":141,"cut":false,"hidden":false,"merged":[[2,0,2,1],[2,27,2,28],[0,0,0,6],[0,7,0,8],[0,27,0,33],[1,0,1,6],[1,27,1,33],[42,2,42,8],[42,29,42,33],[40,0,40,3],[40,7,40,8],[40,27,40,30],[41,0,41,3],[41,7,41,8],[41,27,41,30]]}
[{"$f":"\"ภาระงานชิ้นงานที่มอบหมาย รายวิชา\"&ปก!AC15","v":"ภาระงานชิ้นงานที่มอบหมาย รายวิชา{{โปรดกรอกข้อมูลรายวิชา}}"}]
[{"$f":"\"ปีการศึกษา \"&ปก!C16","v":"ปีการศึกษา 2567"}]
["ลำดับงานที่/\nสอบหน่วยที่",null,"ชื่อ ชิ้นงาน/ภาระงาน/การสอบ/กิจกรรม/\nเครื่องมือวัดผล",{"$f":"IF(ปก!C25=\"\",\"ความสัมพันธ์กับตัวชี้วัด/   ผลการเรียนรู้\",IF(ปก!C25=\"พื้นฐาน\",\"ตอบสนองตัวชี้วัดที่\",IF(ปก!C25=\"เพิ่มเติม\",\"ตอบสนองผลการเรียนรู้ที่\")))","v":"ความสัมพันธ์กับตัวชี้วัด/   ผลการเรียนรู้"},"คะแนน","กำหนดส่ง/\nกำหนดสอบ","หมายเหตุ"]
[]
[]
[]
[]
[]
[]
[]
[]
[]
[]
[]
[]
[]
[]
[]
[]
[]
[]
[]
[]
[]
[]
[]
[]
[]
[]
[]
[]
[]
[]
[]
[]
[]
[]
[]
[]
[]
["คะแนนรวม (เก็บ)",null,null,null,{"$f":"SUM(E4:E40)","v":0}]
[{"$f":"\"คะแนนเก็บจริง( \"&[3]ประเมินผลการเรียน!AB6&\" คะแนน)\"","v":"คะแนนเก็บจริง( 80 คะแนน)"}]
[]
[]
[]
[]
[]
[]
[]
[]
[]
[null,null,null,null,null,"ม.1/1"]
[null,null,null,null,null,"ม.1/2"]
[null,null,null,null,null,"ม.1/3"]
[null,null,null,null,null,"ม.1/4"]
[null,null,null,null,null,"ม.1/5"]
[null,null,null,null,null,"ม.1/6"]
[null,null,null,null,null,"ม.1/7"]
[null,null,null,null,null,"ม.1/8"]
[null,null,null,null,null,"ม.1/9"]
[null,null,null,null,null,"ม.1/10"]
[null,null,null,null,null,"ม.2/1"]
[null,null,null,null,null,"ม.2/2"]
[null,null,null,null,null,"ม.2/3"]
[null,null,null,null,null,"ม.2/4"]
[null,null,null,null,null,"ม.2/5"]
[null,null,null,null,null,"ม.2/6"]
[null,null,null,null,null,"ม.2/7"]
[null,null,null,null,null,"ม.2/8"]
[null,null,null,null,null,"ม.2/9"]
[null,null,null,null,null,"ม.2/10"]
[null,null,null,null,null,"ม.3/1"]
[null,null,null,null,null,"ม.3/2"]
[null,null,null,null,null,"ม.3/3"]
[null,null,null,null,null,"ม.3/4"]
[null,null,null,null,null,"ม.3/5"]
[null,null,null,null,null,"ม.3/6"]
[null,null,null,null,null,"ม.3/7"]
[null,null,null,null,null,"ม.3/8"]
[null,null,null,null,null,"ม.3/9"]
[null,null,null,null,null,"ม.3/10"]
[null,null,null,null,null,"ม.4-6/1"]
[null,null,null,null,null,"ม.4-6/2"]
[null,null,null,null,null,"ม.4-6/3"]
[null,null,null,null,null,"ม.4-6/4"]
[null,null,null,null,null,"ม.4-6/5"]
[null,null,null,null,null,"ม.4-6/6"]
[null,null,null,null,null,"ม.4-6/7"]
[null,null,null,null,null,"ม.4-6/8"]
[null,null,null,null,null,"ม.4-6/9"]
[null,null,null,null,null,"ม.4-6/10"]
[null,null,null,null,null,"ม.4-6/11"]
[null,null,null,null,null,"ม.4-6/12"]
[null,null,null,null,null,"ม.4-6/13"]
[null,null,null,null,null,"ม.4-6/14"]
[null,null,null,null,null,"ม.4-6/15"]
[null,null,null,null,null,"ม.4-6/16"]
[null,null,null,null,null,"ม.4-6/17"]
[null,null,null,null,null,"ม.4-6/18"]
[null,null,null,null,null,"ม.4-6/19"]
[null,null,null,null,null,"ม.4-6/20"]
[null,null,null,null,null,"ม.4-6/21"]
[null,null,null,null,null,"ม.4-6/22"]
[null,null,null,null,null,"ม.4-6/23"]
[null,null,null,null,null,"ม.4-6/24"]
[null,null,null,null,null,"ม.4-6/25"]
[null,null,null,null,null,"ม.4-6/26"]
[null,null,null,null,null,"ม.4-6/27"]
[null,null,null,null,null,"ม.4-6/28"]
[null,null,null,null,null,"ม.4-6/29"]
[null,null,null,null,null,"ม.4-6/30"]
[null,null,null,null,null,"ข้อ 1"]
[null,null,null,null,null,"ข้อ 2"]
[null,null,null,null,null,"ข้อ 3"]
[null,null,null,null,null,"ข้อ 4"]
[null,null,null,null,null,"ข้อ 5"]
[null,null,null,null,null,"ข้อ 6"]
[null,null,null,null,null,"ข้อ 7"]
[null,null,null,null,null,"ข้อ 8"]
[null,null,null,null,null,"ข้อ 9"]
[null,null,null,null,null,"ข้อ 10"]
[null,null,null,null,null,"ข้อ 11"]
[null,null,null,null,null,"ข้อ 12"]
[null,null,null,null,null,"ข้อ 13"]
[null,null,null,null,null,"ข้อ 14"]
[null,null,null,null,null,"ข้อ 15"]
[null,null,null,null,null,"ข้อ 16"]
[null,null,null,null,null,"ข้อ 17"]
[null,null,null,null,null,"ข้อ 18"]
[null,null,null,null,null,"ข้อ 19"]
[null,null,null,null,null,"ข้อ 20"]
[null,null,null,null,null,"ข้อ 21"]
[null,null,null,null,null,"ข้อ 22"]
[null,null,null,null,null,"ข้อ 23"]
[null,null,null,null,null,"ข้อ 24"]
[null,null,null,null,null,"ข้อ 25"]
[null,null,null,null,null,"ข้อ 26"]
[null,null,null,null,null,"ข้อ 27"]
[null,null,null,null,null,"ข้อ 28"]
[null,null,null,null,null,"ข้อ 29"]
[null,null,null,null,null,"ข้อ 30"]

{"sheet":"แผนภูมิสรุป","index":11,"n_rows":39,"n_cols":13,"rows_kept":39,"cut":false,"hidden":false,"merged":[[1,0,1,9],[13,0,13,9],[25,0,25,9]]}
[]
[{"$f":"\"แผนภูมิแสดงจำนวนนักเรียนที่ได้ระดับผลการเรียน รายวิชา \"&ปก!C26&\" รหัสวิชา \"&ปก!C27","v":"แผนภูมิแสดงจำนวนนักเรียนที่ได้ระดับผลการเรียน รายวิชา  รหัสวิชา "}]
[]
[]
[]
[]
[]
[]
[]
[]
[]
[]
[]
["แผนภูมิแสดงร้อยละของนักเรียนที่ได้ระดับผลการเรียนแต่ละระดับ"]
[]
[]
[]
[]
[]
[]
[]
[]
[]
[]
[]
["แผนภูมิแสดงร้อยละของนักเรียนที่ได้ผลการเรียนระดับดี(3) ขึ้นไป"]
[]
[]
[]
[]
[]
[]
[]
[]
[]
[]
[null,null,null,null,null,null,null,null,null,null,null,null,{"$f":"SUM(ปก!AD24:AI24)","v":0}]
[null,null,null,null,null,null,null,null,null,null,null,null,{"$f":"SUM(ปก!AJ23:AQ23)","v":7}]
[null,null,null,null,null,null,null,null,null,null,null,null,{"$f":"ปก!AR23:AU23","v":{"$error":"#VALUE!"}}]

{"sheet":"โครงสร้างรายวิชา","index":12,"n_rows":194,"n_cols":32,"rows_kept":194,"cut":false,"hidden":false,"merged":[[94,27,94,35],[89,28,89,30],[90,28,90,30],[91,28,91,30],[92,28,92,30],[93,28,93,30],[84,28,84,30],[85,28,85,30],[86,28,86,30],[87,28,87,30],[88,28,88,30],[79,28,79,30],[80,28,80,30],[81,28,81,30],[82,28,82,30],[83,28,83,30],[1,35,2,35],[46,27,46,35],[48,27,48,33],[48,34,48,35],[49,28,50,30],[49,31,49,34],[49,35,50,35],[77,0,78,3],[1,28,2,30],[1,31,1,34],[77,27,78,30],[49,0,50,0],[79,1,79,3],[86,1,86,3],[87,1,87,3],[88,1,88,3],[94,0,94,8],[91,1,91,3],[92,1,92,3],[93,1,93,3],[89,1,89,3],[90,1,90,3],[80,1,80,3],[81,1,81,3],[82,1,82,3],[83,1,83,3],[84,1,84,3],[85,1,85,3],[0,0,0,5],[0,27,0,32],[1,27,2,27],[49,27,50,27],[49,8,50,8],[48,7,48,8],[1,4,1,7],[46,0,46,8],[49,4,49,7],[1,8,2,8],[1,0,2,0],[48,0,48,6],[1,1,2,3],[49,1,50,3]]}
[{"$f":"\"โครงสร้างรายวิชา \"&ปก!AC15&\"  \"&\"รหัสวิชา\"&\" \"&ปก!AS15","v":"โครงสร้างรายวิชา {{โปรดกรอกข้อมูลรายวิชา}}  รหัสวิชา {{โปรดกรอกรหัสวิชา}}"}]
["ข้อที่",{"$f":"IF(ปก!C25=\"\",\"\",IF(ปก!C25=\"พื้นฐาน\",\"ตัวชี้วัด\",IF(ปก!C25=\"เพิ่มเติม\",\"ผลการเรียนรู้\")))","v":""},null,null,"คะแนนประเมินผลรายปี",null,null,null,"รวม\nปี"]
[null,null,null,null,"ระหว่างภาคเรียนที่ 1","สอบ\nปลาย\nภาคเรียนที่ 1","ระหว่างภาคเรียนที่ 2","สอบ\nปลาย\nภาคเรียนที่ 2"]
[]
[]
[]
[]
[]
[]
[]
[]
[]
[]
[]
[]
[]
[]
[]
[]
[]
[]
[]
[]
[]
[]
[]
[]
[]
[null,null,null,null,null,null,null,null,{"$f":"SUM(E29:H29)","v":0}]
[null,null,null,null,null,null,null,null,0]
[null,null,null,null,null,null,null,null,0]
[null,null,null,null,null,null,null,null,{"$f":"SUM(E32:H32)","v":0}]
[null,null,null,null,null,null,null,null,0]
[null,null,null,null,null,null,null,null,0]
[null,null,null,null,null,null,null,null,0]
[null,null,null,null,null,null,null,null,0]
[null,null,null,null,null,null,null,null,0]
[null,null,null,null,null,null,null,null,0]
[null,null,null,null,null,null,null,null,0]
[null,null,null,null,null,null,null,null,0]
[null,null,null,null,null,null,null,null,0]
[null,null,null,null,null,null,null,null,0]
[null,null,null,null,null,null,null,null,0]
[null,null,null,null,null,null,null,null,0]
[null,null,null,null,null,null,null,null,0]
[null,null,null,null,null,null,null,null,0]
[{"$f":"\"เวลาเรียน  \"&ปก!AC16&\"  \"&ปก!AE16","v":"เวลาเรียน  120  ชั่วโมงต่อปี"}]
[]
[{"$f":"\"โครงสร้างรายวิชา \"&ปก!AC15&\"  \"&\"รหัสวิชา\"&\" \"&ปก!AS15&\"  (หน้า 2)\"","v":"โครงสร้างรายวิชา {{โปรดกรอกข้อมูลรายวิชา}}  รหัสวิชา {{โปรดกรอกรหัสวิชา}}  (หน้า 2)"}]
["ข้อที่",{"$f":"IF(ปก!C25=\"\",\"\",IF(ปก!C25=\"พื้นฐาน\",\"ตัวชี้วัด\",IF(ปก!C25=\"เพิ่มเติม\",\"ผลการเรียนรู้\")))","v":""},null,null,"คะแนนประเมินผลรายปี",null,null,null,"รวม"]
[null,null,null,null,"ระหว่างภาคเรียนที่ 1","สอบ\nปลาย\nภาคเรียนที่ 1","ระหว่างภาคเรียนที่ 2","สอบ\nปลาย\nภาคเรียนที่ 2"]
[null,null,null,null,null,null,null,null,{"$f":"SUM(E52:H52)","v":0}]
[null,null,null,null,null,null,null,null,{"$f":"SUM(E53:H53)","v":0}]
[null,null,null,null,null,null,null,null,0]
[null,null,null,null,null,null,null,null,0]
[null,null,null,null,null,null,null,null,0]
[null,null,null,null,null,null,null,null,0]
[null,null,null,null,null,null,null,null,0]
[null,null,null,null,null,null,null,null,0]
[null,null,null,null,null,null,null,null,0]
[null,null,null,null,null,null,null,null,0]
[null,null,null,null,null,null,null,null,0]
[null,null,null,null,null,null,null,null,0]
[null,null,null,null,null,null,null,null,0]
[null,null,null,null,null,null,null,null,0]
[null,null,null,null,null,null,null,null,0]
[null,null,null,null,null,null,null,null,0]
[null,null,null,null,null,null,null,null,0]
[null,null,null,null,null,null,null,null,0]
[null,null,null,null,null,null,null,null,0]
[null,null,null,null,null,null,null,null,0]
[null,null,null,null,null,null,null,null,0]
[null,null,null,null,null,null,null,null,0]
[null,null,null,null,null,null,null,null,0]
[null,null,null,null,null,null,null,null,0]
[null,null,null,null,null,null,null,null,0]
[null,null,null,null,null,null,null,null,0]
["คะแนนรวม (100 คะแนน)",null,null,null,{"$f":"SUM(E4:E46,E52:E77)","v":0},{"$f":"SUM(F4:F46,F52:F77)","v":0},{"$f":"SUM(G4:G46,G52:G77)","v":0},{"$f":"SUM(H4:H46,H52:H77)","v":0},{"$f":"SUM(E78:H78)","v":0}]
[null,null,null,null,{"$f":"IF(E78=ประเมินผลการเรียนเทอม1!DE6/2,ประเมินผลการเรียนเทอม1!DE6/2,\"รวมผิด\")","v":"รวมผิด"},{"$f":"IF(ประเมินผลการเรียนเทอม1!DG6/2=F78,ประเมินผลการเรียนเทอม1!DG6/2,\"รวมผิด\")","v":"รวมผิด"},{"$f":"IF(ประเมินผลการเรียนเทอม2!DE6/2=G78,ประเมินผลการเรียนเทอม2!DE6/2,\"รวมผิด\")","v":"รวมผิด"},{"$f":"IF(ประเมินผลการเรียนเทอม2!DG6/2=H78,ประเมินผลการเรียนเทอม2!DG6/2,\"รวมผิด\")","v":"รวมผิด"},{"$f":"IF(SUM(E79:H79)=I78,SUM(E79:H79),\"รวมผิด\")","v":0}]
["ข้อที่","การอ่าน คิด วิเคราะห์ และเขียน",null,null,"คะแนน"]
[1,{"$f":"IF(ปก!C25=\"\",\"\",IF(ปก!C18=\"ประถมศึกษาตอนต้น(ป.1-3)\",\"สามารถอ่านและหาประสบการณ์จากสื่อที่หลากหลาย\",IF(ปก!C18=\"ประถมศึกษาตอนปลาย(ป.4-6)\",\"สามารถอ่านเพื่อหาข้อมูลสารสนเทศเสริมประสบการณ์จากสื่อประเภทต่างๆ\")))","v":""},null,null,"0-3"]
[2,{"$f":"IF(ปก!C25=\"\",\"\",IF(ปก!C18=\"ประถมศึกษาตอนต้น(ป.1-3)\",\"สามารถจับประเด็นสำคัญ ข้อเท็จจริง ความคิดเห็นเรื่องที่อ่าน\",IF(ปก!C18=\"ประถมศึกษาตอนปลาย(ป.4-6)\",\"สามารถจับประเด็นสำคัญ เปรียบเทียบ เชื่อมโยงความเป็นเหตุเป็นผลจากเรื่องที่อ่าน\")))","v":""},null,null,"0-3",3,"= ดีเยี่ยม (ดย)"]
[3,{"$f":"IF(ปก!C25=\"\",\"\",IF(ปก!C18=\"ประถมศึกษาตอนต้น(ป.1-3)\",\"สามารถเปรียบเทียบแง่มุมต่างๆ เช่น ข้อดี ข้อเสีย ประโยชน์ โทษ ความเหมาะสม ไม่เหมาะสม\",IF(ปก!C18=\"ประถมศึกษาตอนปลาย(ป.4-6)\",\"สามารถเชื่อมโยงความสัมพันธ์ของเรื่องราว เหตุการณ์ของเรื่องที่อ่าน\")))","v":""},null,null,"0-3",2,"= ดี (ด)"]
[4,{"$f":"IF(ปก!C25=\"\",\"\",IF(ปก!C18=\"ประถมศึกษาตอนต้น(ป.1-3)\",\"สามารถแสดงความคิดเห็นต่อเรื่องที่อ่าน โดยมีเหตุผลประกอบ\",IF(ปก!C18=\"ประถมศึกษาตอนปลาย(ป.4-6)\",\"สามารถแสดงความคิดเห็นต่อเรื่องที่อ่าน โดยมีเหตุผลสนับสนุน\")))","v":""},null,null,"0-3",1,"= ผ่าน (ผ)"]
[5,{"$f":"IF(ปก!C25=\"\",\"\",IF(ปก!C18=\"ประถมศึกษาตอนต้น(ป.1-3)\",\"สามารถถ่ายทอดความคิดเห็น ความรู้สึกจากเรื่องที่อ่านโดยการเขียน\",IF(ปก!C18=\"ประถมศึกษาตอนปลาย(ป.4-6)\",\"สามารถถ่ายทอดความเข้าใจ ความคิดเห็น คุณค่าจากเรื่องที่อ่านโดยการเขียน\")))","v":""},null,null,"0-3",0,"= ไม่ผ่าน"]
["ข้อที่","คุณลักษณะอันพึงประสงค์",null,null,"คะแนน"]
[1,"รักชาติ ศาสตร์ กษัตริย์",null,null,"0-3"]
[2,"ชื่อสัตย์สุจริต",null,null,"0-3"]
[3,"มีวินัย",null,null,"0-3"]
[4,"ใฝ่เรียนรู้",null,null,"0-3"]
[5,"อยู่อย่างพอเพียง",null,null,"0-3"]
[6,"มุ่งมันในการทำงาน",null,null,"0-3"]
[7,"รักความเป็นไทย",null,null,"0-3"]
[8,"มีจิตสาธารณะ",null,null,"0-3"]
[]
[]
[]
[]
[]
[]
[]
[]
[]
[]
[null,null,null,null,null,"ม.1/1",null,null,null,null,null,null,null,null,null,null,null,null,null,null,null,null,null,null,null,null,null,null,null,null,null,"ม.1/1"]
[null,null,null,null,null,"ม.1/2",null,null,null,null,null,null,null,null,null,null,null,null,null,null,null,null,null,null,null,null,null,null,null,null,null,"ม.1/2"]
[null,null,null,null,null,"ม.1/3",null,null,null,null,null,null,null,null,null,null,null,null,null,null,null,null,null,null,null,null,null,null,null,null,null,"ม.1/3"]
[null,null,null,null,null,"ม.1/4",null,null,null,null,null,null,null,null,null,null,null,null,null,null,null,null,null,null,null,null,null,null,null,null,null,"ม.1/4"]
[null,null,null,null,null,"ม.1/5",null,null,null,null,null,null,null,null,null,null,null,null,null,null,null,null,null,null,null,null,null,null,null,null,null,"ม.1/5"]
[null,null,null,null,null,"ม.1/6",null,null,null,null,null,null,null,null,null,null,null,null,null,null,null,null,null,null,null,null,null,null,null,null,null,"ม.1/6"]
[null,null,null,null,null,"ม.1/7",null,null,null,null,null,null,null,null,null,null,null,null,null,null,null,null,null,null,null,null,null,null,null,null,null,"ม.1/7"]
[null,null,null,null,null,"ม.1/8",null,null,null,null,null,null,null,null,null,null,null,null,null,null,null,null,null,null,null,null,null,null,null,null,null,"ม.1/8"]
[null,null,null,null,null,"ม.1/9",null,null,null,null,null,null,null,null,null,null,null,null,null,null,null,null,null,null,null,null,null,null,null,null,null,"ม.1/9"]
[null,null,null,null,null,"ม.1/10",null,null,null,null,null,null,null,null,null,null,null,null,null,null,null,null,null,null,null,null,null,null,null,null,null,"ม.1/10"]
[null,null,null,null,null,"ม.2/1",null,null,null,null,null,null,null,null,null,null,null,null,null,null,null,null,null,null,null,null,null,null,null,null,null,"ม.2/1"]
[null,null,null,null,null,"ม.2/2",null,null,null,null,null,null,null,null,null,null,null,null,null,null,null,null,null,null,null,null,null,null,null,null,null,"ม.2/2"]
[null,null,null,null,null,"ม.2/3",null,null,null,null,null,null,null,null,null,null,null,null,null,null,null,null,null,null,null,null,null,null,null,null,null,"ม.2/3"]
[null,null,null,null,null,"ม.2/4",null,null,null,null,null,null,null,null,null,null,null,null,null,null,null,null,null,null,null,null,null,null,null,null,null,"ม.2/4"]
[null,null,null,null,null,"ม.2/5",null,null,null,null,null,null,null,null,null,null,null,null,null,null,null,null,null,null,null,null,null,null,null,null,null,"ม.2/5"]
[null,null,null,null,null,"ม.2/6",null,null,null,null,null,null,null,null,null,null,null,null,null,null,null,null,null,null,null,null,null,null,null,null,null,"ม.2/6"]
[null,null,null,null,null,"ม.2/7",null,null,null,null,null,null,null,null,null,null,null,null,null,null,null,null,null,null,null,null,null,null,null,null,null,"ม.2/7"]
[null,null,null,null,null,"ม.2/8",null,null,null,null,null,null,null,null,null,null,null,null,null,null,null,null,null,null,null,null,null,null,null,null,null,"ม.2/8"]
[null,null,null,null,null,"ม.2/9",null,null,null,null,null,null,null,null,null,null,null,null,null,null,null,null,null,null,null,null,null,null,null,null,null,"ม.2/9"]
[null,null,null,null,null,"ม.2/10",null,null,null,null,null,null,null,null,null,null,null,null,null,null,null,null,null,null,null,null,null,null,null,null,null,"ม.2/10"]
[null,null,null,null,null,"ม.3/1",null,null,null,null,null,null,null,null,null,null,null,null,null,null,null,null,null,null,null,null,null,null,null,null,null,"ม.3/1"]
[null,null,null,null,null,"ม.3/2",null,null,null,null,null,null,null,null,null,null,null,null,null,null,null,null,null,null,null,null,null,null,null,null,null,"ม.3/2"]
[null,null,null,null,null,"ม.3/3",null,null,null,null,null,null,null,null,null,null,null,null,null,null,null,null,null,null,null,null,null,null,null,null,null,"ม.3/3"]
[null,null,null,null,null,"ม.3/4",null,null,null,null,null,null,null,null,null,null,null,null,null,null,null,null,null,null,null,null,null,null,null,null,null,"ม.3/4"]
[null,null,null,null,null,"ม.3/5",null,null,null,null,null,null,null,null,null,null,null,null,null,null,null,null,null,null,null,null,null,null,null,null,null,"ม.3/5"]
[null,null,null,null,null,"ม.3/6",null,null,null,null,null,null,null,null,null,null,null,null,null,null,null,null,null,null,null,null,null,null,null,null,null,"ม.3/6"]
[null,null,null,null,null,"ม.3/7",null,null,null,null,null,null,null,null,null,null,null,null,null,null,null,null,null,null,null,null,null,null,null,null,null,"ม.3/7"]
[null,null,null,null,null,"ม.3/8",null,null,null,null,null,null,null,null,null,null,null,null,null,null,null,null,null,null,null,null,null,null,null,null,null,"ม.3/8"]
[null,null,null,null,null,"ม.3/9",null,null,null,null,null,null,null,null,null,null,null,null,null,null,null,null,null,null,null,null,null,null,null,null,null,"ม.3/9"]
[null,null,null,null,null,"ม.3/10",null,null,null,null,null,null,null,null,null,null,null,null,null,null,null,null,null,null,null,null,null,null,null,null,null,"ม.3/10"]
[null,null,null,null,null,"ม.4-6/1",null,null,null,null,null,null,null,null,null,null,null,null,null,null,null,null,null,null,null,null,null,null,null,null,null,"ม.4-6/1"]
[null,null,null,null,null,"ม.4-6/2",null,null,null,null,null,null,null,null,null,null,null,null,null,null,null,null,null,null,null,null,null,null,null,null,null,"ม.4-6/2"]
[null,null,null,null,null,"ม.4-6/3",null,null,null,null,null,null,null,null,null,null,null,null,null,null,null,null,null,null,null,null,null,null,null,null,null,"ม.4-6/3"]
[null,null,null,null,null,"ม.4-6/4",null,null,null,null,null,null,null,null,null,null,null,null,null,null,null,null,null,null,null,null,null,null,null,null,null,"ม.4-6/4"]
[null,null,null,null,null,"ม.4-6/5",null,null,null,null,null,null,null,null,null,null,null,null,null,null,null,null,null,null,null,null,null,null,null,null,null,"ม.4-6/5"]
[null,null,null,null,null,"ม.4-6/6",null,null,null,null,null,null,null,null,null,null,null,null,null,null,null,null,null,null,null,null,null,null,null,null,null,"ม.4-6/6"]
[null,null,null,null,null,"ม.4-6/7",null,null,null,null,null,null,null,null,null,null,null,null,null,null,null,null,null,null,null,null,null,null,null,null,null,"ม.4-6/7"]
[null,null,null,null,null,"ม.4-6/8",null,null,null,null,null,null,null,null,null,null,null,null,null,null,null,null,null,null,null,null,null,null,null,null,null,"ม.4-6/8"]
[null,null,null,null,null,"ม.4-6/9",null,null,null,null,null,null,null,null,null,null,null,null,null,null,null,null,null,null,null,null,null,null,null,null,null,"ม.4-6/9"]
[null,null,null,null,null,"ม.4-6/10",null,null,null,null,null,null,null,null,null,null,null,null,null,null,null,null,null,null,null,null,null,null,null,null,null,"ม.4-6/10"]
[null,null,null,null,null,"ม.4-6/11",null,null,null,null,null,null,null,null,null,null,null,null,null,null,null,null,null,null,null,null,null,null,null,null,null,"ม.4-6/11"]
[null,null,null,null,null,"ม.4-6/12",null,null,null,null,null,null,null,null,null,null,null,null,null,null,null,null,null,null,null,null,null,null,null,null,null,"ม.4-6/12"]
[null,null,null,null,null,"ม.4-6/13",null,null,null,null,null,null,null,null,null,null,null,null,null,null,null,null,null,null,null,null,null,null,null,null,null,"ม.4-6/13"]
[null,null,null,null,null,"ม.4-6/14",null,null,null,null,null,null,null,null,null,null,null,null,null,null,null,null,null,null,null,null,null,null,null,null,null,"ม.4-6/14"]
[null,null,null,null,null,"ม.4-6/15",null,null,null,null,null,null,null,null,null,null,null,null,null,null,null,null,null,null,null,null,null,null,null,null,null,"ม.4-6/15"]
[null,null,null,null,null,"ม.4-6/16",null,null,null,null,null,null,null,null,null,null,null,null,null,null,null,null,null,null,null,null,null,null,null,null,null,"ม.4-6/16"]
[null,null,null,null,null,"ม.4-6/17",null,null,null,null,null,null,null,null,null,null,null,null,null,null,null,null,null,null,null,null,null,null,null,null,null,"ม.4-6/17"]
[null,null,null,null,null,"ม.4-6/18",null,null,null,null,null,null,null,null,null,null,null,null,null,null,null,null,null,null,null,null,null,null,null,null,null,"ม.4-6/18"]
[null,null,null,null,null,"ม.4-6/19",null,null,null,null,null,null,null,null,null,null,null,null,null,null,null,null,null,null,null,null,null,null,null,null,null,"ม.4-6/19"]
[null,null,null,null,null,"ม.4-6/20",null,null,null,null,null,null,null,null,null,null,null,null,null,null,null,null,null,null,null,null,null,null,null,null,null,"ม.4-6/20"]
[null,null,null,null,null,"ม.4-6/21",null,null,null,null,null,null,null,null,null,null,null,null,null,null,null,null,null,null,null,null,null,null,null,null,null,"ม.4-6/21"]
[null,null,null,null,null,"ม.4-6/22",null,null,null,null,null,null,null,null,null,null,null,null,null,null,null,null,null,null,null,null,null,null,null,null,null,"ม.4-6/22"]
[null,null,null,null,null,"ม.4-6/23",null,null,null,null,null,null,null,null,null,null,null,null,null,null,null,null,null,null,null,null,null,null,null,null,null,"ม.4-6/23"]
[null,null,null,null,null,"ม.4-6/24",null,null,null,null,null,null,null,null,null,null,null,null,null,null,null,null,null,null,null,null,null,null,null,null,null,"ม.4-6/24"]
[null,null,null,null,null,"ม.4-6/25",null,null,null,null,null,null,null,null,null,null,null,null,null,null,null,null,null,null,null,null,null,null,null,null,null,"ม.4-6/25"]
[null,null,null,null,null,"ม.4-6/26",null,null,null,null,null,null,null,null,null,null,null,null,null,null,null,null,null,null,null,null,null,null,null,null,null,"ม.4-6/26"]
[null,null,null,null,null,"ม.4-6/27",null,null,null,null,null,null,null,null,null,null,null,null,null,null,null,null,null,null,null,null,null,null,null,null,null,"ม.4-6/27"]
[null,null,null,null,null,"ม.4-6/28",null,null,null,null,null,null,null,null,null,null,null,null,null,null,null,null,null,null,null,null,null,null,null,null,null,"ม.4-6/28"]
[null,null,null,null,null,"ม.4-6/29",null,null,null,null,null,null,null,null,null,null,null,null,null,null,null,null,null,null,null,null,null,null,null,null,null,"ม.4-6/29"]
[null,null,null,null,null,"ม.4-6/30",null,null,null,null,null,null,null,null,null,null,null,null,null,null,null,null,null,null,null,null,null,null,null,null,null,"ม.4-6/30"]
[null,null,null,null,null,"ข้อ 1",null,null,null,null,null,null,null,null,null,null,null,null,null,null,null,null,null,null,null,null,null,null,null,null,null,"ข้อ 1"]
[null,null,null,null,null,"ข้อ 2",null,null,null,null,null,null,null,null,null,null,null,null,null,null,null,null,null,null,null,null,null,null,null,null,null,"ข้อ 2"]
[null,null,null,null,null,"ข้อ 3",null,null,null,null,null,null,null,null,null,null,null,null,null,null,null,null,null,null,null,null,null,null,null,null,null,"ข้อ 3"]
[null,null,null,null,null,"ข้อ 4",null,null,null,null,null,null,null,null,null,null,null,null,null,null,null,null,null,null,null,null,null,null,null,null,null,"ข้อ 4"]
[null,null,null,null,null,"ข้อ 5",null,null,null,null,null,null,null,null,null,null,null,null,null,null,null,null,null,null,null,null,null,null,null,null,null,"ข้อ 5"]
[null,null,null,null,null,"ข้อ 6",null,null,null,null,null,null,null,null,null,null,null,null,null,null,null,null,null,null,null,null,null,null,null,null,null,"ข้อ 6"]
[null,null,null,null,null,"ข้อ 7",null,null,null,null,null,null,null,null,null,null,null,null,null,null,null,null,null,null,null,null,null,null,null,null,null,"ข้อ 7"]
[null,null,null,null,null,"ข้อ 8",null,null,null,null,null,null,null,null,null,null,null,null,null,null,null,null,null,null,null,null,null,null,null,null,null,"ข้อ 8"]
[null,null,null,null,null,"ข้อ 9",null,null,null,null,null,null,null,null,null,null,null,null,null,null,null,null,null,null,null,null,null,null,null,null,null,"ข้อ 9"]
[null,null,null,null,null,"ข้อ 10",null,null,null,null,null,null,null,null,null,null,null,null,null,null,null,null,null,null,null,null,null,null,null,null,null,"ข้อ 10"]
[null,null,null,null,null,"ข้อ 11",null,null,null,null,null,null,null,null,null,null,null,null,null,null,null,null,null,null,null,null,null,null,null,null,null,"ข้อ 11"]
[null,null,null,null,null,"ข้อ 12",null,null,null,null,null,null,null,null,null,null,null,null,null,null,null,null,null,null,null,null,null,null,null,null,null,"ข้อ 12"]
[null,null,null,null,null,"ข้อ 13",null,null,null,null,null,null,null,null,null,null,null,null,null,null,null,null,null,null,null,null,null,null,null,null,null,"ข้อ 13"]
[null,null,null,null,null,"ข้อ 14",null,null,null,null,null,null,null,null,null,null,null,null,null,null,null,null,null,null,null,null,null,null,null,null,null,"ข้อ 14"]
[null,null,null,null,null,"ข้อ 15",null,null,null,null,null,null,null,null,null,null,null,null,null,null,null,null,null,null,null,null,null,null,null,null,null,"ข้อ 15"]
[null,null,null,null,null,"ข้อ 16",null,null,null,null,null,null,null,null,null,null,null,null,null,null,null,null,null,null,null,null,null,null,null,null,null,"ข้อ 16"]
[null,null,null,null,null,"ข้อ 17",null,null,null,null,null,null,null,null,null,null,null,null,null,null,null,null,null,null,null,null,null,null,null,null,null,"ข้อ 17"]
[null,null,null,null,null,"ข้อ 18",null,null,null,null,null,null,null,null,null,null,null,null,null,null,null,null,null,null,null,null,null,null,null,null,null,"ข้อ 18"]
[null,null,null,null,null,"ข้อ 19",null,null,null,null,null,null,null,null,null,null,null,null,null,null,null,null,null,null,null,null,null,null,null,null,null,"ข้อ 19"]
[null,null,null,null,null,"ข้อ 20",null,null,null,null,null,null,null,null,null,null,null,null,null,null,null,null,null,null,null,null,null,null,null,null,null,"ข้อ 20"]
[null,null,null,null,null,"ข้อ 21",null,null,null,null,null,null,null,null,null,null,null,null,null,null,null,null,null,null,null,null,null,null,null,null,null,"ข้อ 21"]
[null,null,null,null,null,"ข้อ 22",null,null,null,null,null,null,null,null,null,null,null,null,null,null,null,null,null,null,null,null,null,null,null,null,null,"ข้อ 22"]
[null,null,null,null,null,"ข้อ 23",null,null,null,null,null,null,null,null,null,null,null,null,null,null,null,null,null,null,null,null,null,null,null,null,null,"ข้อ 23"]
[null,null,null,null,null,"ข้อ 24",null,null,null,null,null,null,null,null,null,null,null,null,null,null,null,null,null,null,null,null,null,null,null,null,null,"ข้อ 24"]
[null,null,null,null,null,"ข้อ 25",null,null,null,null,null,null,null,null,null,null,null,null,null,null,null,null,null,null,null,null,null,null,null,null,null,"ข้อ 25"]
[null,null,null,null,null,"ข้อ 26",null,null,null,null,null,null,null,null,null,null,null,null,null,null,null,null,null,null,null,null,null,null,null,null,null,"ข้อ 26"]
[null,null,null,null,null,"ข้อ 27",null,null,null,null,null,null,null,null,null,null,null,null,null,null,null,null,null,null,null,null,null,null,null,null,null,"ข้อ 27"]
[null,null,null,null,null,"ข้อ 28",null,null,null,null,null,null,null,null,null,null,null,null,null,null,null,null,null,null,null,null,null,null,null,null,null,"ข้อ 28"]
[null,null,null,null,null,"ข้อ 29",null,null,null,null,null,null,null,null,null,null,null,null,null,null,null,null,null,null,null,null,null,null,null,null,null,"ข้อ 29"]
[null,null,null,null,null,"ข้อ 30",null,null,null,null,null,null,null,null,null,null,null,null,null,null,null,null,null,null,null,null,null,null,null,null,null,"ข้อ 30"]

{"sheet":"Sheet1","index":13,"n_rows":52,"n_cols":9,"rows_kept":52,"cut":false,"hidden":false,"merged":[]}
["StudentID","รหัส","คำนำหน้า","ชื่อ","นามสกุล","คะแนน","เกรด","เกรด"]
[null,null,null,null,null,null,null,"",{"$f":"[1]ปก!C27&\" ม\"&[1]ปก!C21&\"-\"&[1]ปก!C22&\" \"&[1]ปก!C29","v":" ม- "}]
[null,null,null,null,null,null,null,""]
[null,null,null,null,null,null,null,""]
[null,null,null,null,null,null,null,""]
[null,null,null,null,null,null,null,""]
[null,null,null,null,null,null,null,""]
[null,null,null,null,null,null,null,""]
[null,null,null,null,null,null,null,""]
[null,null,null,null,null,null,null,""]
[null,null,null,null,null,null,null,""]
[null,null,null,null,null,null,null,""]
[null,null,null,null,null,null,null,""]
[null,null,null,null,null,null,null,""]
[null,null,null,null,null,null,null,""]
[null,null,null,null,null,null,null,""]
[null,null,null,null,null,null,null,""]
[null,null,null,null,null,null,null,""]
[null,null,null,null,null,null,null,""]
[null,null,null,null,null,null,null,""]
[null,null,null,null,null,null,null,""]
[null,null,null,null,null,null,null,""]
[null,null,null,null,null,null,null,""]
[null,null,null,null,null,null,null,""]
[null,null,null,null,null,null,null,""]
[null,null,null,null,null,null,null,""]
[null,null,null,null,null,null,null,""]
[null,null,null,null,null,null,null,""]
[null,null,null,null,null,null,null,""]
[null,null,null,null,null,null,null,""]
[null,null,null,null,null,null,null,""]
[null,null,null,null,null,null,null,""]
[null,null,null,null,null,null,null,""]
[null,null,null,null,null,null,null,""]
[null,null,null,null,null,null,null,""]
[null,null,null,null,null,null,null,""]
[null,null,null,null,null,null,null,""]
[null,null,null,null,null,null,null,""]
[null,null,null,null,null,null,null,""]
[null,null,null,null,null,null,null,""]
[null,null,null,null,null,null,null,""]
[null,null,null,null,null,null,null,""]
[null,null,null,null,null,null,null,""]
[null,null,null,null,null,null,null,""]
[null,null,null,null,null,null,null,""]
[null,null,null,null,null,null,null,""]
[null,null,null,null,null,null,null,""]
[null,null,null,null,null,null,null,""]
[null,null,null,null,null,null,null,""]
[null,null,null,null,null,null,null,""]
[null,null,null,null,null,null,null,""]
["ท21102"]