{"text_format":"1","workbook":"xlsx","n_sheets":4,"sheets":["input","Page1","Page2","Page3"],"not_rendered":{"charts":1,"images":1,"macros":1,"external_links":0,"defined_names":4,"comments":0,"pivot_tables":0},"unopened":[],"bounds":{"document_bytes":16777216,"sheet_cells":100000,"rows_first":2000,"rows_last":500,"rows_between":2000,"halvings":0,"cell_chars":16384,"cell_head_chars":4096},"cells_cut":0,"cells_raw":0,"read":"whole","date_system":"1900"}

{"sheet":"input","index":0,"n_rows":60,"n_cols":26,"rows_kept":60,"cut":false,"hidden":false,"merged":[[46,18,47,18],[46,19,47,19],[46,20,47,20],[54,0,55,14],[56,0,57,14],[52,0,53,14],[56,15,57,23],[54,15,55,23],[45,0,45,10],[45,11,45,12],[45,13,45,14],[46,16,47,16],[46,17,47,17],[46,15,47,15],[43,0,43,10],[43,11,43,12],[43,13,43,14],[44,0,44,10],[44,11,44,12],[44,13,44,14],[41,0,41,10],[41,11,41,12],[41,13,41,14],[42,0,42,10],[42,11,42,12],[42,13,42,14],[39,0,39,10],[39,11,39,12],[39,13,39,14],[40,0,40,10],[40,11,40,12],[40,13,40,14],[37,0,37,10],[37,11,37,12],[37,13,37,14],[38,0,38,10],[38,11,38,12],[38,13,38,14],[35,0,35,10],[35,11,35,12],[35,13,35,14],[36,0,36,10],[36,11,36,12],[36,13,36,14],[33,0,33,10],[33,11,33,12],[33,13,33,14],[34,0,34,10],[34,11,34,12],[34,13,34,14],[31,0,31,10],[31,11,31,12],[31,13,31,14],[32,0,32,10],[32,11,32,12],[32,13,32,14],[29,0,29,10],[29,11,29,12],[29,13,29,14],[30,0,30,10],[30,11,30,12],[30,13,30,14],[26,15,26,24],[26,25,27,25],[28,0,28,10],[28,11,28,12],[28,13,28,14],[26,0,27,10],[26,11,27,12],[26,13,27,14],[20,8,20,18],[22,8,22,18],[6,5,6,10],[4,5,4,10],[8,16,8,17],[9,16,9,17],[10,6,10,18],[6,14,6,20],[16,8,16,18],[12,8,12,18],[14,8,14,18],[18,8,18,18],[48,24,53,25],[46,25,47,25],[50,0,51,14],[48,15,49,17],[50,15,51,17],[52,15,53,17],[50,18,51,20],[52,18,53,20],[50,21,53,23],[48,18,49,23],[46,21,47,21],[46,22,47,22],[46,23,47,23],[46,24,47,24],[48,0,49,14],[46,0,47,14]]}
["รายงานผลสัมฤทธิ์ทางการเรียนสำหรับครูผู้สอน"]
["งานวัดผลและประเมินผล กลุ่มบริหารวิชาการ"]
["โรงเรียนแก้งคร้อวิทยา สำนักงานเขตพื้นที่การศึกษามัธยมศึกษาชัยภูมิ"]
[]
["วัน เดือน ปี ที่รายงาน",null,null,null,null,"2026-03-05",null,null,null,null,null,"(การกรอก วัน เดือน ปี คศ เช่น 01/03/2026)"]
[]
["ภาคเรียนที่",null,null,null,null,2,"ปีการศึกษา",null,null,null,null,"ปีการศึกษา",null,null,2568]
[]
["สิ่งที่ส่งมาด้วย : ",null,null,null,"1. แบบสรุปผลสัมฤทธิ์ทางการเรียนและกราฟ จำนวน ",null,null,null,null,null,null,null,null,null,null,null,1,null,"ฉบับ"]
[null,null,null,null,"2. แบบแสดงผลการพัฒนาผู้เรียน (ปพ.5) จำนวน",null,null,null,null,null,null,null,null,null,null,null,5,null,"เล่ม"]
[null,null,null,null,"3. อื่นๆ ",null,null,null,null,null,null,null,null,null,null,null,null,null,null,"พิมพ์รายงานผลสัมฤทธิ์ฯ"]
[]
["ครูผู้รายงาน",null,null,null,null,null,null,null,"นายพัฒนวิชย์  พลที"]
[]
["หัวหน้ากลุ่มสาระการเรียนรู้",null,null,null,null,null,null,null,"นางอโนทัย ฤทธิ์จรูญ"]
[]
["เจ้าหน้าที่งานวัดผลและประเมินผล",null,null,null,null,null,null,null,"นางพิลัยวรรณ อ่อนอุทัย"]
[]
["หัวหน้ากลุ่มบริหารวิชาการ",null,null,null,null,null,null,null,"นางขันตรี ส่งศิริ"]
[]
["รองผู้อำนวยการโรงเรียน/ผู้แทน",null,null,null,null,null,null,null,"นางสาวสุปราณี สีเขียว"]
[]
["ผู้อำนวยการโรงเรียน",null,null,null,null,null,null,null,"นายวานิส เพียนอก"]
[]
[{"$f":"\"ข้อมูลผลสัมฤทธิ์ทางการเรียนรายวิชาที่สอน ภาคเรียนที่ \"&F7&\" ปีการศึกษา \"&O7","v":"ข้อมูลผลสัมฤทธิ์ทางการเรียนรายวิชาที่สอน ภาคเรียนที่ 2 ปีการศึกษา 2568"}]
[]
["ชื่อวิชา",null,null,null,null,null,null,null,null,null,null,"รหัสวิชา",null,"ชั้น",null,"ผลการเรียน (จำนวนคน)",null,null,null,null,null,null,null,null,null,"รวม"]
[null,null,null,null,null,null,null,null,null,null,null,null,null,null,null,4,3.5,3,2.5,2,1.5,1,0,"ร","มส"]
["การงานอาชีพ",null,null,null,null,null,null,null,null,null,null,"ง22102",null,"ม.2",null,185,2,null,2,null,null,null,null,null,null,{"$f":"IF(A29<>\"\",SUM(P29:Y29),\"\")","v":189}]
[null,null,null,null,null,null,null,null,null,null,null,null,null,null,null,null,null,null,null,null,null,null,null,null,null,{"$f":"IF(A30<>\"\",SUM(P30:Y30),\"\")","v":""}]
[null,null,null,null,null,null,null,null,null,null,null,null,null,null,null,null,null,null,null,null,null,null,null,null,null,""]
[null,null,null,null,null,null,null,null,null,null,null,null,null,null,null,null,null,null,null,null,null,null,null,null,null,""]
[null,null,null,null,null,null,null,null,null,null,null,null,null,null,null,null,null,null,null,null,null,null,null,null,null,""]
[null,null,null,null,null,null,null,null,null,null,null,null,null,null,null,null,null,null,null,null,null,null,null,null,null,""]
[null,null,null,null,null,null,null,null,null,null,null,null,null,null,null,null,null,null,null,null,null,null,null,null,null,""]
[null,null,null,null,null,null,null,null,null,null,null,null,null,null,null,null,null,null,null,null,null,null,null,null,null,""]
[null,null,null,null,null,null,null,null,null,null,null,null,null,null,null,null,null,null,null,null,null,null,null,null,null,""]
[null,null,null,null,null,null,null,null,null,null,null,null,null,null,null,null,null,null,null,null,null,null,null,null,null,""]
[null,null,null,null,null,null,null,null,null,null,null,null,null,null,null,null,null,null,null,null,null,null,null,null,null,""]
[null,null,null,null,null,null,null,null,null,null,null,null,null,null,null,null,null,null,null,null,null,null,null,null,null,""]
[null,null,null,null,null,null,null,null,null,null,null,null,null,null,null,null,null,null,null,null,null,null,null,null,null,""]
[null,null,null,null,null,null,null,null,null,null,null,null,null,null,null,null,null,null,null,null,null,null,null,null,null,""]
[null,null,null,null,null,null,null,null,null,null,null,null,null,null,null,null,null,null,null,null,null,null,null,null,null,""]
[null,null,null,null,null,null,null,null,null,null,null,null,null,null,null,null,null,null,null,null,null,null,null,null,null,""]
[null,null,null,null,null,null,null,null,null,null,null,null,null,null,null,null,null,null,null,null,null,null,null,null,null,""]
[null,null,null,null,null,null,null,null,null,null,null,null,null,null,null,null,null,null,null,null,null,null,null,null,null,""]
["รวม",null,null,null,null,null,null,null,null,null,null,null,null,null,null,{"$f":"SUM(P29:P46)","v":185},2,0,2,0,0,0,0,0,0,189]
[]
["รวมนักเรียนที่มีผลการเรียน (1-4)",null,null,null,null,null,null,null,null,null,null,null,null,null,null,{"$f":"SUM($P$47:$V$47)","v":189},null,null,{"$f":"ROUND((P49*100)/$Z$47,2)","v":100},null,null,null,null,null,{"$f":"ROUNDDOWN($S$49+$V$51,2)","v":100}]
[]
["จำนวนนักเรียนที่มีผลการเรียน 0",null,null,null,null,null,null,null,null,null,null,null,null,null,null,{"$f":"$W$47","v":0},null,null,{"$f":"ROUNDDOWN(($P$51*100)/$Z$47,2)","v":0},null,null,{"$f":"ROUNDDOWN(S51+S53,2)","v":0}]
[]
["รวมนักเรียนที่มีผลการเรียน (ร,มส)",null,null,null,null,null,null,null,null,null,null,null,null,null,null,{"$f":"SUM(X47:Y47)","v":0},null,null,{"$f":"($P$53*100)/$Z$47","v":0}]
[]
["ผลการเรียนเฉลี่ย",null,null,null,null,null,null,null,null,null,null,null,null,null,null,{"$f":"ROUNDDOWN((($P$28*P47)+($Q$28*Q47)+($R$28*R47)+($S$28*S47)+($T$28*T47)+($U$28*U47)+($V$28*V47)+($W$28+W47))/((P47+Q47+R47+S47+T47+U47+V47+W47)),2)","v":3.97}]
[]
["ร้อยละนักเรียนที่มีผลการเรียน (0,ร,มส)",null,null,null,null,null,null,null,null,null,null,null,null,null,null,{"$f":"V51","v":0}]
[]
[]
["งานวัดผลและประเมินผล กลุ่มบริหารวิชาการ โรงเรียนแก้งคร้อวิทยา"]

{"sheet":"Page1","index":1,"n_rows":41,"n_cols":21,"rows_kept":41,"cut":false,"hidden":false,"merged":[]}
["บันทึกข้อความ"]
["ส่วนราชการ งานวัดผลและประเมินผล กลุ่มบริหารวิชาการ โรงเรียนแก้งคร้อวิทยา"]
["ที่...............................",null,null,null,null,{"$f":"\"วันที่ \"&TEXT(input!F5,\"d mmmm bbbb\")","v":"วันที่ 5 มีนาคม 2569"}]
[{"$f":"\"เรื่อง รายงานผลสัมฤทธิ์ทางการเรียน ประจำภาคเรียนที่ \"&input!F7&\" ปีการศึกษา \"&input!O7","v":"เรื่อง รายงานผลสัมฤทธิ์ทางการเรียน ประจำภาคเรียนที่ 2 ปีการศึกษา 2568"}]
[]
["เรียน ผู้อำนวยการโรงเรียนแก้งคร้อวิทยา"]
["สิ่งที่ส่งมาด้วย",null,null,"1. แบบสรุปผลสัมฤทธิ์ทางการเรียน",null,null,null,null,null,null,null,null,null,null,null,null,null,"จำนวน",null,{"$f":"input!Q9","v":1},"ฉบับ"]
[null,null,null,"2. แบบแสดงผลการพัฒนาคุณภาพผู้เรียน",null,null,null,null,null,null,null,null,null,null,null,null,null,"จำนวน",null,{"$f":"input!Q10","v":5},"เล่ม"]
[null,null,null,"3. อื่นๆ (ระบุ).............................................................."]
[]
[null,null,"ตามที่กลุ่มบริหารวิชาการ โรงเรียนแก้งคร้อวิทยา โดยงานวัดและประเมินผลได้กำหนดให้ครูผู้สอนจัดทำ"]
["แบบรายงานผลสัมฤทธิ์ทางการเรียนและแบบแสดงผลการพัฒนาคุณภาพผู้เรียน (ปพ.5) เมื่อได้ดำเนินการจัดกิจกรรมการเรียน"]
["การสอนเสร็จสิ้นภาคเรียนแล้วนั้น"]
[null,null,"บัดนี้ข้าพเจ้าได้ดำเนินการจัดกิจกรรมการเรียนการสอนในรายวิชาที่ได้รับมอบหมายเสร็จสิ้นแล้ว ขอรายงานผล"]
[{"$f":"\"สัมฤทธิ์ทางการเรียนรายวิชาที่ได้รับมอบหมาย ประจำภาคเรียนที่ \"&input!F7&\" ปีการศึกษา \"&input!O7&\" ตามเอกสารที่แนบมาพร้อมนี้\"","v":"สัมฤทธิ์ทางการเรียนรายวิชาที่ได้รับมอบหมาย ประจำภาคเรียนที่ 2 ปีการศึกษา 2568 ตามเอกสารที่แนบมาพร้อมนี้"}]
[]
[null,null,"จึงเรียนมาเพื่อโปรดทราบและพิจารณา"]
[]
[null,null,null,null,null,null,null,null,null,null,null,null,null,null,"ลงชื่อ",null,null,null,null,"ครูผู้สอน"]
[null,null,null,null,null,null,null,null,null,null,null,null,null,null,null,{"$f":"\"(\"&input!I13&\")\"","v":"(นายพัฒนวิชย์  พลที)"}]
[]
["หัวหน้ากลุ่มสาระการเรียนรู้",null,null,null,null,null,null,null,null,null,null,null,null,"รองผู้อำนวยการโรงเรียน"]
[null,null,null,null,null,null,null,null,null,null,null,null,null,null,"- เสนอเพื่อโปรดพิจารณา"]
[]
[null,null,null,"ลงชื่อ",null,null,null,null,null,null,null,null,null,null,null,null,"ลงชื่อ"]
[null,null,null,null,{"$f":"\"(\"&input!I15&\")\"","v":"(นางอโนทัย ฤทธิ์จรูญ)"},null,null,null,null,null,null,null,null,null,null,null,null,{"$f":"\"(\"&input!I21&\")\"","v":"(นางสาวสุปราณี สีเขียว)"}]
[]
["งานวัดผลและประเมินผล",null,null,null,null,null,null,null,null,null,null,null,null,"ผู้อำนวยการโรงเรียน"]
[null,"[ ] ตรวจแล้ว/ครบถ้วน   [ ] อื่นๆ......................................"]
[]
[null,null,null,"ลงชื่อ"]
[null,null,null,null,{"$f":"\"(\"&input!I17&\")\"","v":"(นางพิลัยวรรณ อ่อนอุทัย)"}]
[]
["หัวหน้ากลุ่มบริหารวิชาการ",null,null,null,null,null,null,null,null,null,null,null,null,null,null,null,"ลงชื่อ"]
[null,"[ ] ทราบ ",null,null,null,null,null,null,null,null,null,null,null,null,null,null,null,{"$f":"\"(\"&input!I23&\")\"","v":"(นายวานิส เพียนอก)"}]
[null,null,null,null,null,null,null,null,null,null,null,null,null,null,null,null,null,"........./........./........."]
[null,null,null,"ลงชื่อ"]
[null,null,null,null,{"$f":"\"(\"&input!I19&\")\"","v":"(นางขันตรี ส่งศิริ)"}]
[]
[]
["เอกสารงานวัดและประเมินผล กลุ่มบริหารวิชาการ โรงเรียนแก้งคร้อวิทยา"]

{"sheet":"Page2","index":2,"n_rows":37,"n_cols":25,"rows_kept":37,"cut":false,"hidden":false,"merged":[[21,24,21,25],[20,10,20,11],[21,10,21,11],[22,12,22,13],[22,14,22,15],[22,22,22,25],[24,1,24,7],[24,8,24,9],[24,12,24,13],[23,1,23,7],[23,8,23,9],[23,12,23,13],[23,22,32,25],[28,1,28,7],[28,8,28,9],[28,12,28,13],[29,1,29,7],[29,8,29,9],[29,12,29,13],[28,10,28,11],[29,10,29,11],[28,14,28,15],[29,14,29,15],[28,16,28,17],[18,24,18,25],[19,1,19,7],[19,8,19,9],[19,12,19,13],[19,24,19,25],[18,10,18,11],[19,10,19,11],[20,1,20,7],[20,8,20,9],[20,12,20,13],[20,24,20,25],[15,24,15,25],[16,1,16,7],[16,8,16,9],[16,12,16,13],[16,24,16,25],[17,1,17,7],[17,8,17,9],[17,12,17,13],[17,24,17,25],[16,10,16,11],[17,10,17,11],[15,10,15,11],[13,1,13,7],[13,8,13,9],[13,12,13,13],[13,24,13,25],[14,1,14,7],[14,8,14,9],[14,12,14,13],[14,24,14,25],[13,10,13,11],[14,10,14,11],[11,1,11,7],[11,8,11,9],[11,12,11,13],[11,24,11,25],[9,10,9,11],[10,10,10,11],[11,10,11,11],[12,1,12,7],[12,8,12,9],[12,12,12,13],[12,24,12,25],[12,10,12,11],[8,24,8,25],[6,10,6,11],[7,10,7,11],[8,10,8,11],[9,1,9,7],[9,8,9,9],[9,12,9,13],[9,24,9,25],[10,1,10,7],[10,8,10,9],[10,12,10,13],[10,24,10,25],[26,1,26,7],[3,0,4,0],[3,1,4,7],[3,8,4,9],[3,14,3,23],[3,24,4,25],[5,1,5,7],[5,8,5,9],[5,12,5,13],[5,24,5,25],[3,12,4,13],[3,10,4,11],[5,10,5,11],[6,1,6,7],[6,8,6,9],[6,12,6,13],[6,24,6,25],[7,1,7,7],[7,8,7,9],[7,12,7,13],[7,24,7,25],[8,1,8,7],[8,8,8,9],[8,12,8,13],[30,8,30,9],[30,12,30,13],[31,1,31,7],[31,8,31,9],[31,12,31,13],[30,10,30,11],[31,10,31,11],[15,1,15,7],[15,8,15,9],[15,12,15,13],[18,1,18,7],[18,8,18,9],[18,12,18,13],[21,1,21,7],[21,8,21,9],[21,12,21,13],[26,8,26,9],[26,12,26,13],[27,1,27,7],[27,8,27,9],[27,12,27,13],[25,1,25,7],[25,8,25,9],[25,12,25,13],[23,14,23,15],[24,14,24,15],[25,14,25,15],[26,14,26,15],[27,14,27,15],[32,10,32,11],[32,14,32,15],[32,16,32,17],[33,0,33,13],[33,14,33,15],[23,10,23,11],[24,10,24,11],[25,10,25,11],[26,10,26,11],[27,10,27,11],[32,1,32,7],[32,8,32,9],[32,12,32,13],[30,14,30,15],[31,14,31,15],[30,16,30,17],[31,16,31,17],[33,16,33,17],[30,1,30,7],[31,18,32,19],[30,18,30,19],[22,16,22,21],[23,18,29,21],[30,20,32,21],[33,18,33,21],[23,16,23,17],[24,16,24,17],[25,16,25,17],[26,16,26,17],[27,16,27,17],[29,16,29,17]]}
["สรุปผลสัมฤทธิ์ทางการเรียน"]
[{"$f":"\"ประจำภาคเรียนที่ \"&input!F7&\" ปีการศึกษา \"&input!O7","v":"ประจำภาคเรียนที่ 2 ปีการศึกษา 2568"}]
[{"$f":"\"ครูผู้สอน : \"&input!I13","v":"ครูผู้สอน : นายพัฒนวิชย์  พลที"}]
["ที่","ชื่อรายวิชา",null,null,null,null,null,null,"รหัสวิชา",null,"ชั้น",null,"จำนวน\n(คน)",null,"จำนวนนักเรียนที่มีผลการเรียน (คน)",null,null,null,null,null,null,null,null,null,"หมาย\nเหตุ"]
[null,null,null,null,null,null,null,null,null,null,null,null,null,null,4,3.5,3,2.5,2,1.5,1,0,"ร","มส"]
[{"$f":"IF(B6<>\"\",1,\"\")","v":1},{"$f":"IF(input!A29<>\"\",input!A29,\"\")","v":"การงานอาชีพ"},null,null,null,null,null,null,{"$f":"IF(input!L29<>\"\",input!L29,\"\")","v":"ง22102"},null,{"$f":"IF(input!N29<>\"\",input!N29,\"\")","v":"ม.2"},null,{"$f":"IF(input!Z29<>\"\",input!Z29,\"\")","v":189},null,{"$f":"IF(input!P29<>\"\",input!P29,\"\")","v":185},{"$f":"IF(input!Q29<>\"\",input!Q29,\"\")","v":2},{"$f":"IF(input!R29<>\"\",input!R29,\"\")","v":""},{"$f":"IF(input!S29<>\"\",input!S29,\"\")","v":2},{"$f":"IF(input!T29<>\"\",input!T29,\"\")","v":""},{"$f":"IF(input!U29<>\"\",input!U29,\"\")","v":""},{"$f":"IF(input!V29<>\"\",input!V29,\"\")","v":""},{"$f":"IF(input!W29<>\"\",input!W29,\"\")","v":""},{"$f":"IF(input!X29<>\"\",input!X29,\"\")","v":""},{"$f":"IF(input!Y29<>\"\",input!Y29,\"\")","v":""},{"$f":"IF(A6=1,(IF(SUM(O6:X6)=M6,\"/\",\"**\")),\"\")","v":"/"}]
[{"$f":"IF(B7<>\"\",2,\"\")","v":""},{"$f":"IF(input!A30<>\"\",input!A30,\"\")","v":""},null,null,null,null,null,null,{"$f":"IF(input!L30<>\"\",input!L30,\"\")","v":""},null,{"$f":"IF(input!N30<>\"\",input!N30,\"\")","v":""},null,{"$f":"IF(input!Z30<>\"\",input!Z30,\"\")","v":""},null,{"$f":"IF(input!P30<>\"\",input!P30,\"\")","v":""},{"$f":"IF(input!Q30<>\"\",input!Q30,\"\")","v":""},{"$f":"IF(input!R30<>\"\",input!R30,\"\")","v":""},{"$f":"IF(input!S30<>\"\",input!S30,\"\")","v":""},{"$f":"IF(input!T30<>\"\",input!T30,\"\")","v":""},{"$f":"IF(input!U30<>\"\",input!U30,\"\")","v":""},{"$f":"IF(input!V30<>\"\",input!V30,\"\")","v":""},{"$f":"IF(input!W30<>\"\",input!W30,\"\")","v":""},{"$f":"IF(input!X30<>\"\",input!X30,\"\")","v":""},{"$f":"IF(input!Y30<>\"\",input!Y30,\"\")","v":""},{"$f":"IF(A7=2,(IF(SUM(O7:X7)=M7,\"/\",\"**\")),\"\")","v":""}]
[{"$f":"IF(B8<>\"\",3,\"\")","v":""},{"$f":"IF(input!A31<>\"\",input!A31,\"\")","v":""},null,null,null,null,null,null,{"$f":"IF(input!L31<>\"\",input!L31,\"\")","v":""},null,{"$f":"IF(input!N31<>\"\",input!N31,\"\")","v":""},null,{"$f":"IF(input!Z31<>\"\",input!Z31,\"\")","v":""},null,{"$f":"IF(input!P31<>\"\",input!P31,\"\")","v":""},{"$f":"IF(input!Q31<>\"\",input!Q31,\"\")","v":""},{"$f":"IF(input!R31<>\"\",input!R31,\"\")","v":""},{"$f":"IF(input!S31<>\"\",input!S31,\"\")","v":""},{"$f":"IF(input!T31<>\"\",input!T31,\"\")","v":""},{"$f":"IF(input!U31<>\"\",input!U31,\"\")","v":""},{"$f":"IF(input!V31<>\"\",input!V31,\"\")","v":""},{"$f":"IF(input!W31<>\"\",input!W31,\"\")","v":""},{"$f":"IF(input!X31<>\"\",input!X31,\"\")","v":""},{"$f":"IF(input!Y31<>\"\",input!Y31,\"\")","v":""},{"$f":"IF(A8=3,(IF(SUM(O8:X8)=M8,\"/\",\"**\")),\"\")","v":""}]
[{"$f":"IF(B9<>\"\",4,\"\")","v":""},{"$f":"IF(input!A32<>\"\",input!A32,\"\")","v":""},null,null,null,null,null,null,{"$f":"IF(input!L32<>\"\",input!L32,\"\")","v":""},null,{"$f":"IF(input!N32<>\"\",input!N32,\"\")","v":""},null,{"$f":"IF(input!Z32<>\"\",input!Z32,\"\")","v":""},null,{"$f":"IF(input!P32<>\"\",input!P32,\"\")","v":""},{"$f":"IF(input!Q32<>\"\",input!Q32,\"\")","v":""},{"$f":"IF(input!R32<>\"\",input!R32,\"\")","v":""},{"$f":"IF(input!S32<>\"\",input!S32,\"\")","v":""},{"$f":"IF(input!T32<>\"\",input!T32,\"\")","v":""},{"$f":"IF(input!U32<>\"\",input!U32,\"\")","v":""},{"$f":"IF(input!V32<>\"\",input!V32,\"\")","v":""},{"$f":"IF(input!W32<>\"\",input!W32,\"\")","v":""},{"$f":"IF(input!X32<>\"\",input!X32,\"\")","v":""},{"$f":"IF(input!Y32<>\"\",input!Y32,\"\")","v":""},{"$f":"IF(A9=4,(IF(SUM(O9:X9)=M9,\"/\",\"**\")),\"\")","v":""}]
[{"$f":"IF(B10<>\"\",5,\"\")","v":""},{"$f":"IF(input!A33<>\"\",input!A33,\"\")","v":""},null,null,null,null,null,null,{"$f":"IF(input!L33<>\"\",input!L33,\"\")","v":""},null,{"$f":"IF(input!N33<>\"\",input!N33,\"\")","v":""},null,{"$f":"IF(input!Z33<>\"\",input!Z33,\"\")","v":""},null,{"$f":"IF(input!P33<>\"\",input!P33,\"\")","v":""},{"$f":"IF(input!Q33<>\"\",input!Q33,\"\")","v":""},{"$f":"IF(input!R33<>\"\",input!R33,\"\")","v":""},{"$f":"IF(input!S33<>\"\",input!S33,\"\")","v":""},{"$f":"IF(input!T33<>\"\",input!T33,\"\")","v":""},{"$f":"IF(input!U33<>\"\",input!U33,\"\")","v":""},{"$f":"IF(input!V33<>\"\",input!V33,\"\")","v":""},{"$f":"IF(input!W33<>\"\",input!W33,\"\")","v":""},{"$f":"IF(input!X33<>\"\",input!X33,\"\")","v":""},{"$f":"IF(input!Y33<>\"\",input!Y33,\"\")","v":""},{"$f":"IF(A10=5,(IF(SUM(O10:X10)=M10,\"/\",\"**\")),\"\")","v":""}]
[{"$f":"IF(B11<>\"\",6,\"\")","v":""},{"$f":"IF(input!A34<>\"\",input!A34,\"\")","v":""},null,null,null,null,null,null,{"$f":"IF(input!L34<>\"\",input!L34,\"\")","v":""},null,{"$f":"IF(input!N34<>\"\",input!N34,\"\")","v":""},null,{"$f":"IF(input!Z34<>\"\",input!Z34,\"\")","v":""},null,{"$f":"IF(input!P34<>\"\",input!P34,\"\")","v":""},{"$f":"IF(input!Q34<>\"\",input!Q34,\"\")","v":""},{"$f":"IF(input!R34<>\"\",input!R34,\"\")","v":""},{"$f":"IF(input!S34<>\"\",input!S34,\"\")","v":""},{"$f":"IF(input!T34<>\"\",input!T34,\"\")","v":""},{"$f":"IF(input!U34<>\"\",input!U34,\"\")","v":""},{"$f":"IF(input!V34<>\"\",input!V34,\"\")","v":""},{"$f":"IF(input!W34<>\"\",input!W34,\"\")","v":""},{"$f":"IF(input!X34<>\"\",input!X34,\"\")","v":""},{"$f":"IF(input!Y34<>\"\",input!Y34,\"\")","v":""},{"$f":"IF(A11=6,(IF(SUM(O11:X11)=M11,\"/\",\"**\")),\"\")","v":""}]
[{"$f":"IF(B12<>\"\",7,\"\")","v":""},{"$f":"IF(input!A35<>\"\",input!A35,\"\")","v":""},null,null,null,null,null,null,{"$f":"IF(input!L35<>\"\",input!L35,\"\")","v":""},null,{"$f":"IF(input!N35<>\"\",input!N35,\"\")","v":""},null,{"$f":"IF(input!Z35<>\"\",input!Z35,\"\")","v":""},null,{"$f":"IF(input!P35<>\"\",input!P35,\"\")","v":""},{"$f":"IF(input!Q35<>\"\",input!Q35,\"\")","v":""},{"$f":"IF(input!R35<>\"\",input!R35,\"\")","v":""},{"$f":"IF(input!S35<>\"\",input!S35,\"\")","v":""},{"$f":"IF(input!T35<>\"\",input!T35,\"\")","v":""},{"$f":"IF(input!U35<>\"\",input!U35,\"\")","v":""},{"$f":"IF(input!V35<>\"\",input!V35,\"\")","v":""},{"$f":"IF(input!W35<>\"\",input!W35,\"\")","v":""},{"$f":"IF(input!X35<>\"\",input!X35,\"\")","v":""},{"$f":"IF(input!Y35<>\"\",input!Y35,\"\")","v":""},{"$f":"IF(A12=7,(IF(SUM(O12:X12)=M12,\"/\",\"**\")),\"\")","v":""}]
[{"$f":"IF(B13<>\"\",8,\"\")","v":""},{"$f":"IF(input!A36<>\"\",input!A36,\"\")","v":""},null,null,null,null,null,null,{"$f":"IF(input!L36<>\"\",input!L36,\"\")","v":""},null,{"$f":"IF(input!N36<>\"\",input!N36,\"\")","v":""},null,{"$f":"IF(input!Z36<>\"\",input!Z36,\"\")","v":""},null,{"$f":"IF(input!P36<>\"\",input!P36,\"\")","v":""},{"$f":"IF(input!Q36<>\"\",input!Q36,\"\")","v":""},{"$f":"IF(input!R36<>\"\",input!R36,\"\")","v":""},{"$f":"IF(input!S36<>\"\",input!S36,\"\")","v":""},{"$f":"IF(input!T36<>\"\",input!T36,\"\")","v":""},{"$f":"IF(input!U36<>\"\",input!U36,\"\")","v":""},{"$f":"IF(input!V36<>\"\",input!V36,\"\")","v":""},{"$f":"IF(input!W36<>\"\",input!W36,\"\")","v":""},{"$f":"IF(input!X36<>\"\",input!X36,\"\")","v":""},{"$f":"IF(input!Y36<>\"\",input!Y36,\"\")","v":""},{"$f":"IF(A13=8,(IF(SUM(O13:X13)=M13,\"/\",\"**\")),\"\")","v":""}]
[{"$f":"IF(B14<>\"\",9,\"\")","v":""},{"$f":"IF(input!A37<>\"\",input!A37,\"\")","v":""},null,null,null,null,null,null,{"$f":"IF(input!L37<>\"\",input!L37,\"\")","v":""},null,{"$f":"IF(input!N37<>\"\",input!N37,\"\")","v":""},null,{"$f":"IF(input!Z37<>\"\",input!Z37,\"\")","v":""},null,{"$f":"IF(input!P37<>\"\",input!P37,\"\")","v":""},{"$f":"IF(input!Q37<>\"\",input!Q37,\"\")","v":""},{"$f":"IF(input!R37<>\"\",input!R37,\"\")","v":""},{"$f":"IF(input!S37<>\"\",input!S37,\"\")","v":""},{"$f":"IF(input!T37<>\"\",input!T37,\"\")","v":""},{"$f":"IF(input!U37<>\"\",input!U37,\"\")","v":""},{"$f":"IF(input!V37<>\"\",input!V37,\"\")","v":""},{"$f":"IF(input!W37<>\"\",input!W37,\"\")","v":""},{"$f":"IF(input!X37<>\"\",input!X37,\"\")","v":""},{"$f":"IF(input!Y37<>\"\",input!Y37,\"\")","v":""},{"$f":"IF(A14=9,(IF(SUM(O14:X14)=M14,\"/\",\"**\")),\"\")","v":""}]
[{"$f":"IF(B15<>\"\",10,\"\")","v":""},{"$f":"IF(input!A38<>\"\",input!A38,\"\")","v":""},null,null,null,null,null,null,{"$f":"IF(input!L38<>\"\",input!L38,\"\")","v":""},null,{"$f":"IF(input!N38<>\"\",input!N38,\"\")","v":""},null,{"$f":"IF(input!Z38<>\"\",input!Z38,\"\")","v":""},null,{"$f":"IF(input!P38<>\"\",input!P38,\"\")","v":""},{"$f":"IF(input!Q38<>\"\",input!Q38,\"\")","v":""},{"$f":"IF(input!R38<>\"\",input!R38,\"\")","v":""},{"$f":"IF(input!S38<>\"\",input!S38,\"\")","v":""},{"$f":"IF(input!T38<>\"\",input!T38,\"\")","v":""},{"$f":"IF(input!U38<>\"\",input!U38,\"\")","v":""},{"$f":"IF(input!V38<>\"\",input!V38,\"\")","v":""},{"$f":"IF(input!W38<>\"\",input!W38,\"\")","v":""},{"$f":"IF(input!X38<>\"\",input!X38,\"\")","v":""},{"$f":"IF(input!Y38<>\"\",input!Y38,\"\")","v":""},{"$f":"IF(A15=10,(IF(SUM(O15:X15)=M15,\"/\",\"**\")),\"\")","v":""}]
[{"$f":"IF(B16<>\"\",11,\"\")","v":""},{"$f":"IF(input!A39<>\"\",input!A39,\"\")","v":""},null,null,null,null,null,null,{"$f":"IF(input!L39<>\"\",input!L39,\"\")","v":""},null,{"$f":"IF(input!N39<>\"\",input!N39,\"\")","v":""},null,{"$f":"IF(input!Z39<>\"\",input!Z39,\"\")","v":""},null,{"$f":"IF(input!P39<>\"\",input!P39,\"\")","v":""},{"$f":"IF(input!Q39<>\"\",input!Q39,\"\")","v":""},{"$f":"IF(input!R39<>\"\",input!R39,\"\")","v":""},{"$f":"IF(input!S39<>\"\",input!S39,\"\")","v":""},{"$f":"IF(input!T39<>\"\",input!T39,\"\")","v":""},{"$f":"IF(input!U39<>\"\",input!U39,\"\")","v":""},{"$f":"IF(input!V39<>\"\",input!V39,\"\")","v":""},{"$f":"IF(input!W39<>\"\",input!W39,\"\")","v":""},{"$f":"IF(input!X39<>\"\",input!X39,\"\")","v":""},{"$f":"IF(input!Y39<>\"\",input!Y39,\"\")","v":""},{"$f":"IF(A16=11,(IF(SUM(O16:X16)=M16,\"/\",\"**\")),\"\")","v":""}]
[{"$f":"IF(B17<>\"\",12,\"\")","v":""},{"$f":"IF(input!A40<>\"\",input!A40,\"\")","v":""},null,null,null,null,null,null,{"$f":"IF(input!L40<>\"\",input!L40,\"\")","v":""},null,{"$f":"IF(input!N40<>\"\",input!N40,\"\")","v":""},null,{"$f":"IF(input!Z40<>\"\",input!Z40,\"\")","v":""},null,{"$f":"IF(input!P40<>\"\",input!P40,\"\")","v":""},{"$f":"IF(input!Q40<>\"\",input!Q40,\"\")","v":""},{"$f":"IF(input!R40<>\"\",input!R40,\"\")","v":""},{"$f":"IF(input!S40<>\"\",input!S40,\"\")","v":""},{"$f":"IF(input!T40<>\"\",input!T40,\"\")","v":""},{"$f":"IF(input!U40<>\"\",input!U40,\"\")","v":""},{"$f":"IF(input!V40<>\"\",input!V40,\"\")","v":""},{"$f":"IF(input!W40<>\"\",input!W40,\"\")","v":""},{"$f":"IF(input!X40<>\"\",input!X40,\"\")","v":""},{"$f":"IF(input!Y40<>\"\",input!Y40,\"\")","v":""},{"$f":"IF(A17=12,(IF(SUM(O17:X17)=M17,\"/\",\"**\")),\"\")","v":""}]
[{"$f":"IF(B18<>\"\",13,\"\")","v":""},{"$f":"IF(input!A41<>\"\",input!A41,\"\")","v":""},null,null,null,null,null,null,{"$f":"IF(input!L41<>\"\",input!L41,\"\")","v":""},null,{"$f":"IF(input!N41<>\"\",input!N41,\"\")","v":""},null,{"$f":"IF(input!Z41<>\"\",input!Z41,\"\")","v":""},null,{"$f":"IF(input!P41<>\"\",input!P41,\"\")","v":""},{"$f":"IF(input!Q41<>\"\",input!Q41,\"\")","v":""},{"$f":"IF(input!R41<>\"\",input!R41,\"\")","v":""},{"$f":"IF(input!S41<>\"\",input!S41,\"\")","v":""},{"$f":"IF(input!T41<>\"\",input!T41,\"\")","v":""},{"$f":"IF(input!U41<>\"\",input!U41,\"\")","v":""},{"$f":"IF(input!V41<>\"\",input!V41,\"\")","v":""},{"$f":"IF(input!W41<>\"\",input!W41,\"\")","v":""},{"$f":"IF(input!X41<>\"\",input!X41,\"\")","v":""},{"$f":"IF(input!Y41<>\"\",input!Y41,\"\")","v":""},{"$f":"IF(A18=13,(IF(SUM(O18:X18)=M18,\"/\",\"**\")),\"\")","v":""}]
[{"$f":"IF(B19<>\"\",14,\"\")","v":""},{"$f":"IF(input!A42<>\"\",input!A42,\"\")","v":""},null,null,null,null,null,null,{"$f":"IF(input!L42<>\"\",input!L42,\"\")","v":""},null,{"$f":"IF(input!N42<>\"\",input!N42,\"\")","v":""},null,{"$f":"IF(input!Z42<>\"\",input!Z42,\"\")","v":""},null,{"$f":"IF(input!P42<>\"\",input!P42,\"\")","v":""},{"$f":"IF(input!Q42<>\"\",input!Q42,\"\")","v":""},{"$f":"IF(input!R42<>\"\",input!R42,\"\")","v":""},{"$f":"IF(input!S42<>\"\",input!S42,\"\")","v":""},{"$f":"IF(input!T42<>\"\",input!T42,\"\")","v":""},{"$f":"IF(input!U42<>\"\",input!U42,\"\")","v":""},{"$f":"IF(input!V42<>\"\",input!V42,\"\")","v":""},{"$f":"IF(input!W42<>\"\",input!W42,\"\")","v":""},{"$f":"IF(input!X42<>\"\",input!X42,\"\")","v":""},{"$f":"IF(input!Y42<>\"\",input!Y42,\"\")","v":""},{"$f":"IF(A19=14,(IF(SUM(O19:X19)=M19,\"/\",\"**\")),\"\")","v":""}]
[{"$f":"IF(B20<>\"\",15,\"\")","v":""},{"$f":"IF(input!A43<>\"\",input!A43,\"\")","v":""},null,null,null,null,null,null,{"$f":"IF(input!L43<>\"\",input!L43,\"\")","v":""},null,{"$f":"IF(input!N43<>\"\",input!N43,\"\")","v":""},null,{"$f":"IF(input!Z43<>\"\",input!Z43,\"\")","v":""},null,{"$f":"IF(input!P43<>\"\",input!P43,\"\")","v":""},{"$f":"IF(input!Q43<>\"\",input!Q43,\"\")","v":""},{"$f":"IF(input!R43<>\"\",input!R43,\"\")","v":""},{"$f":"IF(input!S43<>\"\",input!S43,\"\")","v":""},{"$f":"IF(input!T43<>\"\",input!T43,\"\")","v":""},{"$f":"IF(input!U43<>\"\",input!U43,\"\")","v":""},{"$f":"IF(input!V43<>\"\",input!V43,\"\")","v":""},{"$f":"IF(input!W43<>\"\",input!W43,\"\")","v":""},{"$f":"IF(input!X43<>\"\",input!X43,\"\")","v":""},{"$f":"IF(input!Y43<>\"\",input!Y43,\"\")","v":""},{"$f":"IF(A20=15,(IF(SUM(O20:X20)=M20,\"/\",\"**\")),\"\")","v":""}]
[{"$f":"IF(B21<>\"\",16,\"\")","v":""},{"$f":"IF(input!A44<>\"\",input!A44,\"\")","v":""},null,null,null,null,null,null,{"$f":"IF(input!L44<>\"\",input!L44,\"\")","v":""},null,{"$f":"IF(input!N44<>\"\",input!N44,\"\")","v":""},null,{"$f":"IF(input!Z44<>\"\",input!Z44,\"\")","v":""},null,{"$f":"IF(input!P44<>\"\",input!P44,\"\")","v":""},{"$f":"IF(input!Q44<>\"\",input!Q44,\"\")","v":""},{"$f":"IF(input!R44<>\"\",input!R44,\"\")","v":""},{"$f":"IF(input!S44<>\"\",input!S44,\"\")","v":""},{"$f":"IF(input!T44<>\"\",input!T44,\"\")","v":""},{"$f":"IF(input!U44<>\"\",input!U44,\"\")","v":""},{"$f":"IF(input!V44<>\"\",input!V44,\"\")","v":""},{"$f":"IF(input!W44<>\"\",input!W44,\"\")","v":""},{"$f":"IF(input!X44<>\"\",input!X44,\"\")","v":""},{"$f":"IF(input!Y44<>\"\",input!Y44,\"\")","v":""},{"$f":"IF(A21=16,(IF(SUM(O21:X21)=M21,\"/\",\"**\")),\"\")","v":""}]
[{"$f":"IF(B22<>\"\",17,\"\")","v":""},{"$f":"IF(input!A45<>\"\",input!A45,\"\")","v":""},null,null,null,null,null,null,{"$f":"IF(input!L45<>\"\",input!L45,\"\")","v":""},null,{"$f":"IF(input!N45<>\"\",input!N45,\"\")","v":""},null,{"$f":"IF(input!Z45<>\"\",input!Z45,\"\")","v":""},null,{"$f":"IF(input!P45<>\"\",input!P45,\"\")","v":""},{"$f":"IF(input!Q45<>\"\",input!Q45,\"\")","v":""},{"$f":"IF(input!R45<>\"\",input!R45,\"\")","v":""},{"$f":"IF(input!S45<>\"\",input!S45,\"\")","v":""},{"$f":"IF(input!T45<>\"\",input!T45,\"\")","v":""},{"$f":"IF(input!U45<>\"\",input!U45,\"\")","v":""},{"$f":"IF(input!V45<>\"\",input!V45,\"\")","v":""},{"$f":"IF(input!W45<>\"\",input!W45,\"\")","v":""},{"$f":"IF(input!X45<>\"\",input!X45,\"\")","v":""},{"$f":"IF(input!Y45<>\"\",input!Y45,\"\")","v":""},{"$f":"IF(A22=17,(IF(SUM(O22:X22)=M22,\"/\",\"**\")),\"\")","v":""}]
["กราฟแสดงผลสัมฤทธิ์ทางการเรียนภาพรวม",null,null,null,null,null,null,null,null,null,null,null,"ผลการเรียน",null,"จำนวน (คน)",null,"ร้อยละ",null,null,null,null,null,"ผลการเรียนเฉลี่ย"]
[null,null,null,null,null,null,null,null,null,null,null,null,4,null,{"$f":"input!P47","v":185},null,{"$f":"ROUNDDOWN(IF(O24=\"-\",\"-\",(O24*100)/$O$34),2)","v":97.88},null,{"$f":"input!S49","v":100},null,null,null,{"$f":"input!P55","v":3.97}]
[null,null,null,null,null,null,null,null,null,null,null,null,3.5,null,{"$f":"input!Q47","v":2},null,1.05]
[null,null,null,null,null,null,null,null,null,null,null,null,3,null,{"$f":"input!R47","v":0},null,0]
[null,null,null,null,null,null,null,null,null,null,null,null,2.5,null,{"$f":"input!S47","v":2},null,1.05]
[null,null,null,null,null,null,null,null,null,null,null,null,2,null,{"$f":"input!T47","v":0},null,0]
[null,null,null,null,null,null,null,null,null,null,null,null,1.5,null,{"$f":"input!U47","v":0},null,0]
[null,null,null,null,null,null,null,null,null,null,null,null,1,null,{"$f":"input!V47","v":0},null,0]
[null,null,null,null,null,null,null,null,null,null,null,null,0,null,{"$f":"input!W47","v":0},null,{"$f":"ROUNDDOWN((IF(O31=\"-\",\"-\",(O31*100)/$O$34)),2)","v":0},null,{"$f":"input!S51","v":0},null,{"$f":"input!V51","v":0}]
[null,null,null,null,null,null,null,null,null,null,null,null,"ร",null,{"$f":"input!X47","v":0},null,{"$f":"ROUNDDOWN(IF(O32=\"-\",\"-\",(O32*100)/$O$34),2)","v":0},null,{"$f":"input!S53","v":0}]
[null,null,null,null,null,null,null,null,null,null,null,null,"มส",null,{"$f":"input!Y47","v":0},null,{"$f":"ROUNDDOWN(IF(O33=\"-\",\"-\",(O33*100)/$O$34),2)","v":0}]
["รวม",null,null,null,null,null,null,null,null,null,null,null,null,null,{"$f":"input!$Z$47","v":189},null,{"$f":"ROUND(SUM(Q24:R33),2)","v":99.98},null,{"$f":"ROUNDDOWN(SUM(S24:T33),2)","v":100}]
[]
[null,null,"ลงชื่อ",null,null,null,null,"ครูผู้สอน",null,null,null,null,null,null,null,"ลงชื่อ",null,null,null,null,"หน.กลุ่มสาระการเรียนรู้"]
[null,null,null,{"$f":"input!I13","v":"นายพัฒนวิชย์  พลที"},null,null,null,null,null,null,null,null,null,null,null,null,{"$f":"input!I15","v":"นางอโนทัย ฤทธิ์จรูญ"}]

{"sheet":"Page3","index":3,"n_rows":38,"n_cols":21,"rows_kept":38,"cut":false,"hidden":false,"merged":[[3,1,3,15],[3,16,3,19],[3,20,3,25],[4,1,4,15],[4,16,4,19],[4,20,4,25],[5,1,5,15],[5,16,5,19],[5,20,5,25],[6,1,6,15],[6,16,6,19],[6,20,6,25],[7,1,7,15],[7,16,7,19],[7,20,7,25],[8,1,8,15],[8,16,8,19],[8,20,8,25],[9,1,9,15],[9,16,9,19],[9,20,9,25],[10,1,10,15],[10,16,10,19],[10,20,10,25],[11,1,11,15],[11,16,11,19],[11,20,11,25],[12,1,12,15],[12,16,12,19],[12,20,12,25],[13,1,13,15],[13,16,13,19],[13,20,13,25],[14,1,14,15],[14,16,14,19],[14,20,14,25],[15,1,15,15],[15,16,15,19],[15,20,15,25],[16,1,16,15],[16,16,16,19],[16,20,16,25],[17,1,17,15],[17,16,17,19],[17,20,17,25],[18,1,18,15],[18,16,18,19],[18,20,18,25],[19,1,19,15],[19,16,19,19],[19,20,19,25],[20,1,20,15],[20,16,20,19],[20,20,20,25],[21,1,21,15],[21,16,21,19],[21,20,21,25],[22,1,22,15],[22,16,22,19],[22,20,22,25],[23,1,23,15],[23,16,23,19],[23,20,23,25],[24,1,24,15],[24,16,24,19],[24,20,24,25],[25,1,25,15],[25,16,25,19],[25,20,25,25],[26,1,26,15],[26,16,26,19],[26,20,26,25],[27,1,27,15],[27,16,27,19],[27,20,27,25],[28,1,28,15],[28,16,28,19],[28,20,28,25],[29,1,29,15],[29,16,29,19],[29,20,29,25],[30,1,30,15],[30,16,30,19],[30,20,30,25],[33,1,33,15],[33,16,33,19],[33,20,33,25],[31,1,31,15],[31,16,31,19],[31,20,31,25],[32,1,32,15],[32,16,32,19],[32,20,32,25]]}
["กำหนดการดำเนินการติดตามแก้ไขผลการเรียน (0,ร,มส)"]
[{"$f":"\"ประจำภาคเรียนที่ \"&input!F7&\" ปีการศึกษา \"&input!O7","v":"ประจำภาคเรียนที่ 2 ปีการศึกษา 2568"}]
[{"$f":"\"ครูผู้สอน : \"&input!I13","v":"ครูผู้สอน : นายพัฒนวิชย์  พลที"}]
["ที่","รายการดำเนินการ",null,null,null,null,null,null,null,null,null,null,null,null,null,null,"วัน เดือน ปี",null,null,null,"เป้าหมาย/ค่าความสำเร็จ"]
[1,"นักเรียนติดต่อรับงาน",null,null,null,null,null,null,null,null,null,null,null,null,null,null,"9-13 มี.ค. 69"]
[2,"นักเรียนปฏิบัติงานตามที่ได้รับมอบหมาย",null,null,null,null,null,null,null,null,null,null,null,null,null,null,"16-20 มี.ค. 69"]
[3,"นักเรียนส่งผลงาน",null,null,null,null,null,null,null,null,null,null,null,null,null,null,"1969-03-20",null,null,null,"เปลี่ยนผลการเรียน"]
[]
[]
[]
[]
[]
[]
[]
[]
[]
[]
[]
[]
[]
[]
[]
[]
[]
[]
[]
[]
[]
[]
[]
[]
[]
[]
[]
["หมายเหตุ ครูผู้สอนต้องดำเนินการติดตามแก้ไขผลการเรียนของนักเรียนให้แล้วเสร็จภายใน 1 ปีการศึกษา "]
[]
[null,null,"ลงชื่อ",null,null,null,null,"ครูผู้สอน",null,null,null,null,null,null,null,"ลงชื่อ",null,null,null,null,"งานวัดและประเมินผล"]
[null,null,null,{"$f":"input!I13","v":"นายพัฒนวิชย์  พลที"},null,null,null,null,null,null,null,null,null,null,null,null,{"$f":"input!I17","v":"นางพิลัยวรรณ อ่อนอุทัย"}]