{"text_format":"1","workbook":"xlsx","n_sheets":14,"sheets":["ใส่ชื่อ","ใบรายชื่อ","กำหนดอัตราส่วนคะแนน","เวลาเรียน","ปก","ประเมินผลการเรียนเทอม1","ประเมินผลการเรียนเทอม2","คุณลักษณะอันพึงประสงค์","อ่าน คิด วิเคราะห์","สรุปผลสัมฤทธิ์","กำหนดชิ้นงานฯ","แผนภูมิสรุป","โครงสร้างรายวิชา","Sheet1"],"not_rendered":{"charts":3,"images":53,"macros":1,"external_links":4,"defined_names":17,"comments":4,"pivot_tables":0},"unopened":[],"bounds":{"document_bytes":16777216,"sheet_cells":100000,"rows_first":2000,"rows_last":500,"rows_between":2000,"halvings":0,"cell_chars":16384,"cell_head_chars":4096},"cells_cut":0,"cells_raw":0,"read":"whole","date_system":"1900"}

{"sheet":"ใส่ชื่อ","index":0,"n_rows":51,"n_cols":16,"rows_kept":51,"cut":false,"hidden":false,"merged":[[3,157,3,163],[3,164,3,170],[4,157,4,163],[4,164,4,170],[51,0,51,5]]}
["เลขที่","StudentID","เลขประจำตัว","คำนำหน้า","ชื่อ","นามสกุล",{"$f":"COUNTIF(D2:D51,\"ด.ช.\")","v":0},{"$f":"COUNTIF(D2:D51,\"ด.ญ.\")","v":0}]
[1,null,2836,"เด็กชาย","ธิติวัฒน์","ขุนสิทธิ์",{"$f":"COUNTIF(D2:D51,\"นาย\")","v":0},{"$f":"COUNTIF(D2:D51,\"นางสาว\")","v":0}]
[2,null,2840,"เด็กชาย","อภิชาติ","ล่องสุวรรณ",{"$f":"COUNTIF(D2:D51,\"เด็กชาย\")","v":7},{"$f":"COUNTIF(D2:D51,\"เด็กหญิง\")","v":13}]
[3,null,2842,"เด็กชาย","เมธัส","ป้อมเมือง",{"$f":"SUM(G1:G3)","v":7},{"$f":"SUM(H1:H3)","v":13},null,null,null,"สรุปจำนวนนักเรียน",null,"ชาย",{"$f":"G4","v":7},"คน"]
[4,null,2844,"เด็กหญิง","พรณิสา","เพ็ชรจั่น",null,null,null,null,null,null,null,"หญิง",{"$f":"H4","v":13},"คน"]
[5,null,2845,"เด็กหญิง","บุญฑริกา","นิ่มอ่อน",null,null,null,null,null,null,null,"รวม",{"$f":"SUM(O4:O5)","v":20},"คน"]
[6,null,2846,"เด็กหญิง","รัญชิดา","นรเนตร"]
[7,null,2847,"เด็กหญิง","อริสา","วีระวิทยกุญชร"]
[8,null,2855,"เด็กหญิง","ณัฐวรา","ธนกิจชัยชนะ",null,null,null,null,"การบันทึกชื่อไฟล์ ปถ.05"]
[9,null,2856,"เด็กชาย","อักคเชน","ดอกกระถิน"]
[10,null,2863,"เด็กหญิง","ณัฐณิชา","วงศ์บุศรัตน์",null,null,null,null,"1. คัดลอกไฟล์ ปถ.05 ไปใช้ตามห้องที่สอน เพราะทำรายชื่อแล้ว เช่น"]
[11,null,2918,"เด็กชาย","ณัฐวุฒิ","เปรมผล",null,null,null,null,null,"ป1-1 คือ ป.1 ห้อง 1"]
[12,null,2919,"เด็กชาย","ธนาธิป","สังข์โพธิ์",null,null,null,null,null,"ป2-1 คือ ป.2 ห้อง 1"]
[13,null,2946,"เด็กหญิง","น้ำหวาน","พม่า",null,null,null,null,null,"ป3-1 คือ ป.3 ห้อง 1"]
[14,null,3010,"เด็กหญิง","ชลิตา","ยมนา",null,null,null,null,null,"ป1-EP คือ  ป.1 กลุ่มเรียนองค์ลิชโปรแกรม"]
[15,null,3043,"เด็กหญิง","ฉัตรพรรณราย","แสงรัตนายนต์",null,null,null,null,null,"ป2-วิทย์คณิต คือ  ป.2 กลุ่มเน้นวิทย์-คณิต"]
[16,null,3084,"เด็กชาย","ธนวุฒิ"," -",null,null,null,null,null,"เป็นต้น"]
[17,null,3098,"เด็กหญิง","วรรณพิชชา","จันไทย",null,null,null,null,"2. เปลี่ยนชื่อไฟล์ ปถ.05 ซึ่งประกอบด้วย รหัสวิชา ชื่อห้องเรียน  "]
[18,null,3111,"เด็กหญิง","มานาทิพย์","สมดี",null,null,null,null,"ชื่อผู้สอน เช่น"]
[19,null,3181,"เด็กหญิง","ชุติกาญจน์","เอี่ยมโสด",null,null,null,null,null,"ป1-1 เปลี่ยนเป็น ว11102 ป1-1 ครูสอนศรี ศรีสถาน"]
[20,null,null,"เด็กหญิง","ฐิตาภรณ์","แย้มนาค",null,null,null,null,null,"ป3-2 เปลี่ยนเป็น ท13101 ป3-1 ครูสุนทร สอนคำไทย"]
[]
[]
[null,null,null,null,null,null,{"$f":"#REF!","v":{"$error":"#REF!"}},{"$f":"#REF!","v":{"$error":"#REF!"}}]
[null,null,null,null,null,null,{"$f":"#REF!","v":{"$error":"#REF!"}},{"$f":"#REF!","v":{"$error":"#REF!"}}]
[null,null,null,null,null,null,{"$f":"#REF!","v":{"$error":"#REF!"}},{"$f":"#REF!","v":{"$error":"#REF!"}}]
[null,null,null,null,null,null,{"$f":"#REF!","v":{"$error":"#REF!"}},{"$f":"#REF!","v":{"$error":"#REF!"}}]
[null,null,null,null,null,null,{"$f":"#REF!","v":{"$error":"#REF!"}},{"$f":"#REF!","v":{"$error":"#REF!"}}]
[null,null,null,null,null,null,{"$f":"#REF!","v":{"$error":"#REF!"}},{"$f":"#REF!","v":{"$error":"#REF!"}}]
[null,null,null,null,null,null,{"$f":"#REF!","v":{"$error":"#REF!"}},{"$f":"#REF!","v":{"$error":"#REF!"}}]
[null,null,null,null,null,null,{"$f":"#REF!","v":{"$error":"#REF!"}},{"$f":"#REF!","v":{"$error":"#REF!"}}]
[null,null,null,null,null,null,{"$f":"#REF!","v":{"$error":"#REF!"}},{"$f":"#REF!","v":{"$error":"#REF!"}}]
[null,null,null,null,null,null,{"$f":"#REF!","v":{"$error":"#REF!"}},{"$f":"#REF!","v":{"$error":"#REF!"}}]
[null,null,null,null,null,null,{"$f":"#REF!","v":{"$error":"#REF!"}},{"$f":"#REF!","v":{"$error":"#REF!"}}]
[null,null,null,null,null,null,{"$f":"#REF!","v":{"$error":"#REF!"}},{"$f":"#REF!","v":{"$error":"#REF!"}}]
[null,null,null,null,null,null,{"$f":"#REF!","v":{"$error":"#REF!"}},{"$f":"#REF!","v":{"$error":"#REF!"}}]
[null,null,null,null,null,null,{"$f":"#REF!","v":{"$error":"#REF!"}},{"$f":"#REF!","v":{"$error":"#REF!"}}]
[null,null,null,null,null,null,{"$f":"#REF!","v":{"$error":"#REF!"}},{"$f":"#REF!","v":{"$error":"#REF!"}}]
[null,null,null,null,null,null,{"$f":"#REF!","v":{"$error":"#REF!"}},{"$f":"#REF!","v":{"$error":"#REF!"}}]
[null,null,null,null,null,null,{"$f":"#REF!","v":{"$error":"#REF!"}},{"$f":"#REF!","v":{"$error":"#REF!"}}]
[null,null,null,null,null,null,{"$f":"#REF!","v":{"$error":"#REF!"}},{"$f":"#REF!","v":{"$error":"#REF!"}}]
[null,null,null,null,null,null,{"$f":"#REF!","v":{"$error":"#REF!"}},{"$f":"#REF!","v":{"$error":"#REF!"}}]
[null,null,null,null,null,null,{"$f":"#REF!","v":{"$error":"#REF!"}},{"$f":"#REF!","v":{"$error":"#REF!"}}]
[null,null,null,null,null,null,{"$f":"#REF!","v":{"$error":"#REF!"}},{"$f":"#REF!","v":{"$error":"#REF!"}}]
[null,null,null,null,null,null,{"$f":"#REF!","v":{"$error":"#REF!"}},{"$f":"#REF!","v":{"$error":"#REF!"}}]
[null,null,null,null,null,null,{"$f":"#REF!","v":{"$error":"#REF!"}},{"$f":"#REF!","v":{"$error":"#REF!"}}]
[null,null,null,null,null,null,{"$f":"#REF!","v":{"$error":"#REF!"}},{"$f":"#REF!","v":{"$error":"#REF!"}}]
[null,null,null,null,null,null,{"$f":"#REF!","v":{"$error":"#REF!"}},{"$f":"#REF!","v":{"$error":"#REF!"}}]
[null,null,null,null,null,null,{"$f":"#REF!","v":{"$error":"#REF!"}},{"$f":"#REF!","v":{"$error":"#REF!"}}]
[null,null,null,null,null,null,{"$f":"#REF!","v":{"$error":"#REF!"}},{"$f":"#REF!","v":{"$error":"#REF!"}}]
[null,null,null,null,null,null,{"$f":"#REF!","v":{"$error":"#REF!"}},{"$f":"#REF!","v":{"$error":"#REF!"}}]

{"sheet":"ใบรายชื่อ","index":1,"n_rows":56,"n_cols":28,"rows_kept":56,"cut":false,"hidden":false,"merged":[[24,27,25,38],[1,0,1,24],[4,0,4,24],[2,0,2,24],[5,39,5,62],[3,0,3,24],[5,2,5,3]]}
[]
[{"$f":"AB25&ปก!AL11","v":"รายชื่อนักเรียนชั้นประถมศึกษาปีที่ 2/2"}]
[{"$f":"CONCATENATE(ปก!C5&\"  \"&\"สังกัด\",IF(ปก!C8=\"\",\"{{โปรดกรอกข้อมูลต้นสังกัด}}\",ปก!C8))","v":"โรงเรียนวัดสิงห์ทอง  สังกัดองค์การบริหารส่วนจังหวัดนนทบุรี"}]
[{"$f":"\"รายวิชา\"&ปก!AC15&\"    \"&\"รหัสวิชา\"&\" \"&ปก!AS15&\"  \"&\"  \"&\"ปีการศึกษา\"&\" \"&ปก!C16","v":"รายวิชาหน้าที่พลเมือง    รหัสวิชา  -    ปีการศึกษา 2565"}]
[{"$f":"\"ครูประจำชั้น : \"&ปก!AF19&\"\"&ปก!AQ19&\" จำนวนนักเรียน ชาย \"&ใส่ชื่อ!O4&\" คน หญิง \"&ใส่ชื่อ!O5&\" คน รวม \"&ใส่ชื่อ!O6&\" คน.\"","v":"ครูประจำชั้น : นางสาวดาราวัลย์ นิสัย    นายฐิตวัฒน์ เคลื่อนคล้อย จำนวนนักเรียน ชาย 7 คน หญิง 13 คน รวม 20 คน."}]
["เลขที่","เลขประจำตัว","ชื่อ-นามสกุล"]
[1,{"$f":"ใส่ชื่อ!C2","v":2836},{"$f":"CONCATENATE(ใส่ชื่อ!D2&ใส่ชื่อ!E2)","v":"เด็กชายธิติวัฒน์"},{"$f":"ใส่ชื่อ!F2","v":"ขุนสิทธิ์"}]
[2,{"$f":"ใส่ชื่อ!C3","v":2840},{"$f":"CONCATENATE(ใส่ชื่อ!D3&ใส่ชื่อ!E3)","v":"เด็กชายอภิชาติ"},{"$f":"ใส่ชื่อ!F3","v":"ล่องสุวรรณ"}]
[3,{"$f":"ใส่ชื่อ!C4","v":2842},{"$f":"CONCATENATE(ใส่ชื่อ!D4&ใส่ชื่อ!E4)","v":"เด็กชายเมธัส"},{"$f":"ใส่ชื่อ!F4","v":"ป้อมเมือง"}]
[4,{"$f":"ใส่ชื่อ!C5","v":2844},{"$f":"CONCATENATE(ใส่ชื่อ!D5&ใส่ชื่อ!E5)","v":"เด็กหญิงพรณิสา"},{"$f":"ใส่ชื่อ!F5","v":"เพ็ชรจั่น"}]
[5,{"$f":"ใส่ชื่อ!C6","v":2845},{"$f":"CONCATENATE(ใส่ชื่อ!D6&ใส่ชื่อ!E6)","v":"เด็กหญิงบุญฑริกา"},{"$f":"ใส่ชื่อ!F6","v":"นิ่มอ่อน"}]
[6,{"$f":"ใส่ชื่อ!C7","v":2846},{"$f":"CONCATENATE(ใส่ชื่อ!D7&ใส่ชื่อ!E7)","v":"เด็กหญิงรัญชิดา"},{"$f":"ใส่ชื่อ!F7","v":"นรเนตร"}]
[7,{"$f":"ใส่ชื่อ!C8","v":2847},{"$f":"CONCATENATE(ใส่ชื่อ!D8&ใส่ชื่อ!E8)","v":"เด็กหญิงอริสา"},{"$f":"ใส่ชื่อ!F8","v":"วีระวิทยกุญชร"}]
[8,{"$f":"ใส่ชื่อ!C9","v":2855},{"$f":"CONCATENATE(ใส่ชื่อ!D9&ใส่ชื่อ!E9)","v":"เด็กหญิงณัฐวรา"},{"$f":"ใส่ชื่อ!F9","v":"ธนกิจชัยชนะ"}]
[9,{"$f":"ใส่ชื่อ!C10","v":2856},{"$f":"CONCATENATE(ใส่ชื่อ!D10&ใส่ชื่อ!E10)","v":"เด็กชายอักคเชน"},{"$f":"ใส่ชื่อ!F10","v":"ดอกกระถิน"}]
[10,{"$f":"ใส่ชื่อ!C11","v":2863},{"$f":"CONCATENATE(ใส่ชื่อ!D11&ใส่ชื่อ!E11)","v":"เด็กหญิงณัฐณิชา"},{"$f":"ใส่ชื่อ!F11","v":"วงศ์บุศรัตน์"}]
[11,{"$f":"ใส่ชื่อ!C12","v":2918},{"$f":"CONCATENATE(ใส่ชื่อ!D12&ใส่ชื่อ!E12)","v":"เด็กชายณัฐวุฒิ"},{"$f":"ใส่ชื่อ!F12","v":"เปรมผล"}]
[12,{"$f":"ใส่ชื่อ!C13","v":2919},{"$f":"CONCATENATE(ใส่ชื่อ!D13&ใส่ชื่อ!E13)","v":"เด็กชายธนาธิป"},{"$f":"ใส่ชื่อ!F13","v":"สังข์โพธิ์"}]
[13,{"$f":"ใส่ชื่อ!C14","v":2946},{"$f":"CONCATENATE(ใส่ชื่อ!D14&ใส่ชื่อ!E14)","v":"เด็กหญิงน้ำหวาน"},{"$f":"ใส่ชื่อ!F14","v":"พม่า"}]
[14,{"$f":"ใส่ชื่อ!C15","v":3010},{"$f":"CONCATENATE(ใส่ชื่อ!D15&ใส่ชื่อ!E15)","v":"เด็กหญิงชลิตา"},{"$f":"ใส่ชื่อ!F15","v":"ยมนา"}]
[15,{"$f":"ใส่ชื่อ!C16","v":3043},{"$f":"CONCATENATE(ใส่ชื่อ!D16&ใส่ชื่อ!E16)","v":"เด็กหญิงฉัตรพรรณราย"},{"$f":"ใส่ชื่อ!F16","v":"แสงรัตนายนต์"}]
[16,{"$f":"ใส่ชื่อ!C17","v":3084},{"$f":"CONCATENATE(ใส่ชื่อ!D17&ใส่ชื่อ!E17)","v":"เด็กชายธนวุฒิ"},{"$f":"ใส่ชื่อ!F17","v":" -"}]
[17,{"$f":"ใส่ชื่อ!C18","v":3098},{"$f":"CONCATENATE(ใส่ชื่อ!D18&ใส่ชื่อ!E18)","v":"เด็กหญิงวรรณพิชชา"},{"$f":"ใส่ชื่อ!F18","v":"จันไทย"}]
[18,{"$f":"ใส่ชื่อ!C19","v":3111},{"$f":"CONCATENATE(ใส่ชื่อ!D19&ใส่ชื่อ!E19)","v":"เด็กหญิงมานาทิพย์"},{"$f":"ใส่ชื่อ!F19","v":"สมดี"}]
[19,{"$f":"ใส่ชื่อ!C20","v":3181},{"$f":"CONCATENATE(ใส่ชื่อ!D20&ใส่ชื่อ!E20)","v":"เด็กหญิงชุติกาญจน์"},{"$f":"ใส่ชื่อ!F20","v":"เอี่ยมโสด"},null,null,null,null,null,null,null,null,null,null,null,null,null,null,null,null,null,null,null,null,null,null,null,"รายชื่อนักเรียน"]
[20,{"$f":"ใส่ชื่อ!C21","v":0},{"$f":"CONCATENATE(ใส่ชื่อ!D21&ใส่ชื่อ!E21)","v":"เด็กหญิงฐิตาภรณ์"},{"$f":"ใส่ชื่อ!F21","v":"แย้มนาค"}]
[21,{"$f":"ใส่ชื่อ!C22","v":0},{"$f":"CONCATENATE(ใส่ชื่อ!D22&ใส่ชื่อ!E22)","v":""},{"$f":"ใส่ชื่อ!F22","v":0}]
[22,{"$f":"ใส่ชื่อ!C23","v":0},{"$f":"CONCATENATE(ใส่ชื่อ!D23&ใส่ชื่อ!E23)","v":""},{"$f":"ใส่ชื่อ!F23","v":0}]
[23,{"$f":"ใส่ชื่อ!C24","v":0},{"$f":"CONCATENATE(ใส่ชื่อ!D24&ใส่ชื่อ!E24)","v":""},{"$f":"ใส่ชื่อ!F24","v":0}]
[24,{"$f":"ใส่ชื่อ!C25","v":0},{"$f":"CONCATENATE(ใส่ชื่อ!D25&ใส่ชื่อ!E25)","v":""},{"$f":"ใส่ชื่อ!F25","v":0}]
[25,{"$f":"ใส่ชื่อ!C26","v":0},{"$f":"CONCATENATE(ใส่ชื่อ!D26&ใส่ชื่อ!E26)","v":""},{"$f":"ใส่ชื่อ!F26","v":0}]
[26,{"$f":"ใส่ชื่อ!C27","v":0},{"$f":"CONCATENATE(ใส่ชื่อ!D27&ใส่ชื่อ!E27)","v":""},{"$f":"ใส่ชื่อ!F27","v":0}]
[27,{"$f":"ใส่ชื่อ!C28","v":0},{"$f":"CONCATENATE(ใส่ชื่อ!D28&ใส่ชื่อ!E28)","v":""},{"$f":"ใส่ชื่อ!F28","v":0}]
[28,{"$f":"ใส่ชื่อ!C29","v":0},{"$f":"CONCATENATE(ใส่ชื่อ!D29&ใส่ชื่อ!E29)","v":""},{"$f":"ใส่ชื่อ!F29","v":0}]
[29,{"$f":"ใส่ชื่อ!C30","v":0},{"$f":"CONCATENATE(ใส่ชื่อ!D30&ใส่ชื่อ!E30)","v":""},{"$f":"ใส่ชื่อ!F30","v":0}]
[30,{"$f":"ใส่ชื่อ!C31","v":0},{"$f":"CONCATENATE(ใส่ชื่อ!D31&ใส่ชื่อ!E31)","v":""},{"$f":"ใส่ชื่อ!F31","v":0}]
[31,{"$f":"ใส่ชื่อ!C32","v":0},{"$f":"CONCATENATE(ใส่ชื่อ!D32&ใส่ชื่อ!E32)","v":""},{"$f":"ใส่ชื่อ!F32","v":0}]
[32,{"$f":"ใส่ชื่อ!C33","v":0},{"$f":"CONCATENATE(ใส่ชื่อ!D33&ใส่ชื่อ!E33)","v":""},{"$f":"ใส่ชื่อ!F33","v":0}]
[33,{"$f":"ใส่ชื่อ!C34","v":0},{"$f":"CONCATENATE(ใส่ชื่อ!D34&ใส่ชื่อ!E34)","v":""},{"$f":"ใส่ชื่อ!F34","v":0}]
[34,{"$f":"ใส่ชื่อ!C35","v":0},{"$f":"CONCATENATE(ใส่ชื่อ!D35&ใส่ชื่อ!E35)","v":""},{"$f":"ใส่ชื่อ!F35","v":0}]
[35,{"$f":"ใส่ชื่อ!C36","v":0},{"$f":"CONCATENATE(ใส่ชื่อ!D36&ใส่ชื่อ!E36)","v":""},{"$f":"ใส่ชื่อ!F36","v":0}]
[36,{"$f":"ใส่ชื่อ!C37","v":0},{"$f":"CONCATENATE(ใส่ชื่อ!D37&ใส่ชื่อ!E37)","v":""},{"$f":"ใส่ชื่อ!F37","v":0}]
[37,{"$f":"ใส่ชื่อ!C38","v":0},{"$f":"CONCATENATE(ใส่ชื่อ!D38&ใส่ชื่อ!E38)","v":""},{"$f":"ใส่ชื่อ!F38","v":0}]
[38,{"$f":"ใส่ชื่อ!C39","v":0},{"$f":"CONCATENATE(ใส่ชื่อ!D39&ใส่ชื่อ!E39)","v":""},{"$f":"ใส่ชื่อ!F39","v":0}]
[39,{"$f":"ใส่ชื่อ!C40","v":0},{"$f":"CONCATENATE(ใส่ชื่อ!D40&ใส่ชื่อ!E40)","v":""},{"$f":"ใส่ชื่อ!F40","v":0}]
[40,{"$f":"ใส่ชื่อ!C41","v":0},{"$f":"CONCATENATE(ใส่ชื่อ!D41&ใส่ชื่อ!E41)","v":""},{"$f":"ใส่ชื่อ!F41","v":0}]
[41,{"$f":"ใส่ชื่อ!C42","v":0},{"$f":"CONCATENATE(ใส่ชื่อ!D42&ใส่ชื่อ!E42)","v":""},{"$f":"ใส่ชื่อ!F42","v":0}]
[42,{"$f":"ใส่ชื่อ!C43","v":0},{"$f":"CONCATENATE(ใส่ชื่อ!D43&ใส่ชื่อ!E43)","v":""},{"$f":"ใส่ชื่อ!F43","v":0}]
[43,{"$f":"ใส่ชื่อ!C44","v":0},{"$f":"CONCATENATE(ใส่ชื่อ!D44&ใส่ชื่อ!E44)","v":""},{"$f":"ใส่ชื่อ!F44","v":0}]
[44,{"$f":"ใส่ชื่อ!C45","v":0},{"$f":"CONCATENATE(ใส่ชื่อ!D45&ใส่ชื่อ!E45)","v":""},{"$f":"ใส่ชื่อ!F45","v":0}]
[45,{"$f":"ใส่ชื่อ!C46","v":0},{"$f":"CONCATENATE(ใส่ชื่อ!D46&ใส่ชื่อ!E46)","v":""},{"$f":"ใส่ชื่อ!F46","v":0}]
[46,{"$f":"ใส่ชื่อ!C47","v":0},{"$f":"CONCATENATE(ใส่ชื่อ!D47&ใส่ชื่อ!E47)","v":""},{"$f":"ใส่ชื่อ!F47","v":0}]
[47,{"$f":"ใส่ชื่อ!C48","v":0},{"$f":"CONCATENATE(ใส่ชื่อ!D48&ใส่ชื่อ!E48)","v":""},{"$f":"ใส่ชื่อ!F48","v":0}]
[48,{"$f":"ใส่ชื่อ!C49","v":0},{"$f":"CONCATENATE(ใส่ชื่อ!D49&ใส่ชื่อ!E49)","v":""},{"$f":"ใส่ชื่อ!F49","v":0}]
[49,{"$f":"ใส่ชื่อ!C50","v":0},{"$f":"CONCATENATE(ใส่ชื่อ!D50&ใส่ชื่อ!E50)","v":""},{"$f":"ใส่ชื่อ!F50","v":0}]
[50,{"$f":"ใส่ชื่อ!C51","v":0},{"$f":"CONCATENATE(ใส่ชื่อ!D51&ใส่ชื่อ!E51)","v":""},{"$f":"ใส่ชื่อ!F51","v":0}]

{"sheet":"กำหนดอัตราส่วนคะแนน","index":2,"n_rows":257,"n_cols":23,"rows_kept":257,"cut":false,"hidden":true,"merged":[[1,14,1,23],[27,7,28,7],[27,20,28,20],[19,20,21,20],[21,14,21,16],[12,10,17,10],[17,14,17,20],[19,14,19,16],[3,14,3,19],[152,14,152,18],[12,23,17,23],[19,23,21,23],[25,13,25,21],[8,1,8,7],[8,14,8,20],[10,1,10,7],[14,1,14,3],[12,1,12,3],[12,7,14,7],[10,14,10,20],[12,14,12,16],[12,20,14,20],[14,14,14,16],[17,1,17,7],[19,10,21,10],[152,1,152,5],[19,1,19,3],[21,1,21,3],[19,7,21,7],[25,0,25,8]]}
[]
[null,null,null,null,null,null,null,null,null,null,null,null,null,null,{"$f":"IF(ปก!C25=\"พื้นฐาน\",\"กำหนดเกณฑ์การประเมินผ่านตัวชี้วัดของสถานศึกษา\",IF(ปก!C25=\"เพิ่มเติม\",\"กำหนดเกณฑ์การประเมินผ่านผลการเรียนรู้ของสถานศึกษา\"))","v":"กำหนดเกณฑ์การประเมินผ่านตัวชี้วัดของสถานศึกษา"}]
[]
[null,null,null,null,null,null,null,null,null,null,null,null,null,null,{"$f":"IF(ปก!C25=\"พื้นฐาน\",\"ผู้เรียนต้องได้คะแนนแต่ละตัวชี้วัดคิดเป็นร้อยละ\",IF(ปก!C25=\"เพิ่มเติม\",\"ผู้เรียนต้องได้คะแนนแต่ละผลการเรียนรู้คิดเป็นร้อยละ\"))","v":"ผู้เรียนต้องได้คะแนนแต่ละตัวชี้วัดคิดเป็นร้อยละ"},null,null,null,null,null,50,null,"ของคะแนนเต็ม"]
[]
[]
[]
[]
[null,{"$f":"IF(ปก!C15=1,\"คะแนนภาคเรียนที่ 1\",IF(ปก!C15=2,\"คะแนนภาคเรียนที่ 2\"))","v":false}]
[]
[null,"กำหนดคะแนนระหว่างภาค"]
[]
[null,{"$f":"IF(ปก!C25=\"พื้นฐาน\",\"คะแนนเก็บ(ตัวชี้วัด)\",IF(ปก!C25=\"เพิ่มเติม\",\"คะแนนเก็บ(ผลการเรียนรู้)\"))","v":"คะแนนเก็บ(ตัวชี้วัด)"},null,null,null,null,null,{"$f":"SUM(F13,F15)","v":0},null,null,"คะแนนรวม\nตลอดภาคเรียน\nต้องได้=100"]
[]
[null,"คะแนนสอบกลางภาค"]
[]
[]
[null,"กำหนดคะแนนสอบปลายภาค"]
[]
[null,"คะแนนสอบปรนัย",null,null,null,null,null,{"$f":"SUM(F20,F22)","v":0},null,null,{"$f":"H13+H20","v":0}]
[]
[null,"คะแนนสอบอัตนัย"]
[]
[]
[]
[{"$f":"IF(ปก!C25=\"พื้นฐาน\",\"กำหนดคะแนนตัวชี้วัด\",IF(ปก!C25=\"เพิ่มเติม\",\"กำหนดคะแนนผลการเรียนรู้\"))","v":"กำหนดคะแนนตัวชี้วัด"}]
[]
[null,{"$f":"IF(ปก!C25=\"พื้นฐาน\",\"ตัวชี้วัด\",IF(ปก!C25=\"เพิ่มเติม\",\"ผลการเรียนรู้\"))","v":"ตัวชี้วัด"},null,"สาระ",null,{"$f":"IF(ปก!C25=\"พื้นฐาน\",\"\",IF(ปก!C25=\"เพิ่มเติม\",\"ผลการ\"))","v":""},null,"คะแนนเต็ม"]
[null,"ที่",null,"มาตรฐาน",null,{"$f":"IF(ปก!C25=\"พื้นฐาน\",\"ตัวชี้วัด\",IF(ปก!C25=\"เพิ่มเติม\",\"เรียนรู้\"))","v":"ตัวชี้วัด"}]
[]
[]
[]
[]
[]
[]
[]
[]
[]
[]
[]
[]
[]
[]
[]
[]
[]
[]
[]
[]
[]
[]
[]
[]
[]
[]
[]
[]
[]
[]
[]
[]
[]
[]
[]
[]
[]
[]
[]
[]
[]
[]
[]
[]
[]
[]
[]
[]
[]
[]
[]
[]
[]
[]
[]
[]
[]
[]
[]
[]
[]
[]
[]
[]
[]
[]
[]
[]
[]
[]
[]
[]
[]
[]
[]
[]
[]
[]
[]
[]
[]
[]
[]
[]
[]
[]
[]
[]
[]
[]
[]
[]
[]
[]
[]
[]
[]
[]
[]
[]
[]
[]
[]
[]
[]
[]
[]
[]
[]
[]
[]
[]
[]
[]
[]
[]
[]
[]
[]
[]
[]
[]
[]
[null,{"$f":"IF(ปก!C25=\"พื้นฐาน\",\"รวมตัวชี้วัด\",IF(ปก!C25=\"เพิ่มเติม\",\"รวมผลการเรียนรู้\"))","v":"รวมตัวชี้วัด"},null,null,null,null,null,{"$f":"COUNT(B31,B33,B35,B37,B39,B41,B43,B45,B47,B49,B51,B53,B55,B57,B59,B61,B63,B65,B67,B69,B71,B73,B75,B77,B79,B81,B83,B85,B87,B89,B91,B93,B95,B97,B99,B101,B103,B105,B107,B109,B111,B113,B115,B117,B119,B121,B123,B125,B127,B129,B131,B133,B135,B137,B139,B141,B143,B145,B147,B149)","v":0}]
[]
[]
[]
[]
[null,null,null,"ท 1.1",null,"ป.1/1",null,null,null,null,null,null,null,null,null,null,"ท 1.1",null,"ม.1/1"]
[null,null,null,"ท 2.1",null,"ป.1/2",null,null,null,null,null,null,null,null,null,null,"ท 2.1",null,"ม.1/2"]
[null,null,null,"ท 3.1",null,"ป.1/3",null,null,null,null,null,null,null,null,null,null,"ท 3.1",null,"ม.1/3"]
[null,null,null,"ท 4.1",null,"ป.1/4",null,null,null,null,null,null,null,null,null,null,"ท 4.1",null,"ม.1/4"]
[null,null,null,"ท 5.1",null,"ป.1/5",null,null,null,null,null,null,null,null,null,null,"ท 5.1",null,"ม.1/5"]
[null,null,null,"ค 1.1",null,"ป.1/6",null,null,null,null,null,null,null,null,null,null,"ค 1.1",null,"ม.1/6"]
[null,null,null,"ค 1.2",null,"ป.1/7",null,null,null,null,null,null,null,null,null,null,"ค 1.2",null,"ม.1/7"]
[null,null,null,"ค 1.3",null,"ป.1/8",null,null,null,null,null,null,null,null,null,null,"ค 1.3",null,"ม.1/8"]
[null,null,null,"ค 1.4",null,"ป.1/9",null,null,null,null,null,null,null,null,null,null,"ค 1.4",null,"ม.1/9"]
[null,null,null,"ค 2.1",null,"ป.1/10",null,null,null,null,null,null,null,null,null,null,"ค 2.1",null,"ม.1/10"]
[null,null,null,"ค 2.2",null,"ป.2/1",null,null,null,null,null,null,null,null,null,null,"ค 2.2",null,"ม.2/1"]
[null,null,null,"ค 3.1",null,"ป.2/2",null,null,null,null,null,null,null,null,null,null,"ค 3.1",null,"ม.2/2"]
[null,null,null,"ค 3.2",null,"ป.2/3",null,null,null,null,null,null,null,null,null,null,"ค 3.2",null,"ม.2/3"]
[null,null,null,"ค 4.1",null,"ป.2/4",null,null,null,null,null,null,null,null,null,null,"ค 4.1",null,"ม.2/4"]
[null,null,null,"ค 4.2",null,"ป.2/5",null,null,null,null,null,null,null,null,null,null,"ค 4.2",null,"ม.2/5"]
[null,null,null,"ค 5.1",null,"ป.2/6",null,null,null,null,null,null,null,null,null,null,"ค 5.1",null,"ม.2/6"]
[null,null,null,"ค 5.2",null,"ป.2/7",null,null,null,null,null,null,null,null,null,null,"ค 5.2",null,"ม.2/7"]
[null,null,null,"ค 5.3",null,"ป.2/8",null,null,null,null,null,null,null,null,null,null,"ค 5.3",null,"ม.2/8"]
[null,null,null,"ค 6.1",null,"ป.2/9",null,null,null,null,null,null,null,null,null,null,"ค 6.1",null,"ม.2/9"]
[null,null,null,"ว 1.1",null,"ป.2/10",null,null,null,null,null,null,null,null,null,null,"ว 1.1",null,"ม.2/10"]
[null,null,null,"ว 1.2",null,"ป.3/1",null,null,null,null,null,null,null,null,null,null,"ว 1.2",null,"ม.3/1"]
[null,null,null,"ว 2.1",null,"ป.3/2",null,null,null,null,null,null,null,null,null,null,"ว 2.1",null,"ม.3/2"]
[null,null,null,"ว 2.2",null,"ป.3/3",null,null,null,null,null,null,null,null,null,null,"ว 2.2",null,"ม.3/3"]
[null,null,null,"ว 3.1",null,"ป.3/4",null,null,null,null,null,null,null,null,null,null,"ว 3.1",null,"ม.3/4"]
[null,null,null,"ว 3.2",null,"ป.3/5",null,null,null,null,null,null,null,null,null,null,"ว 3.2",null,"ม.3/5"]
[null,null,null,"ว 4.1",null,"ป.3/6",null,null,null,null,null,null,null,null,null,null,"ว 4.1",null,"ม.3/6"]
[null,null,null,"ว 4.2",null,"ป.3/7",null,null,null,null,null,null,null,null,null,null,"ว 4.2",null,"ม.3/7"]
[null,null,null,"ว 5.1",null,"ป.3/8",null,null,null,null,null,null,null,null,null,null,"ว 5.1",null,"ม.3/8"]
[null,null,null,"ว 6.1",null,"ป.3/9",null,null,null,null,null,null,null,null,null,null,"ว 6.1",null,"ม.3/9"]
[null,null,null,"ว 7.1",null,"ป.3/10",null,null,null,null,null,null,null,null,null,null,"ว 7.1",null,"ม.3/10"]
[null,null,null,"ว 7.2",null,"ป.4/1",null,null,null,null,null,null,null,null,null,null,"ว 7.2",null,"ม.4-6/1"]
[null,null,null,"ว 8.1",null,"ป.4/2",null,null,null,null,null,null,null,null,null,null,"ว 8.1",null,"ม.4-6/2"]
[null,null,null,"ส 1.1",null,"ป.4/3",null,null,null,null,null,null,null,null,null,null,"ส 1.1",null,"ม.4-6/3"]
[null,null,null,"ส 1.2",null,"ป.4/4",null,null,null,null,null,null,null,null,null,null,"ส 1.2",null,"ม.4-6/4"]
[null,null,null,"ส 2.1",null,"ป.4/5",null,null,null,null,null,null,null,null,null,null,"ส 2.1",null,"ม.4-6/5"]
[null,null,null,"ส 2.2",null,"ป.4/6",null,null,null,null,null,null,null,null,null,null,"ส 2.2",null,"ม.4-6/6"]
[null,null,null,"ส 3.1",null,"ป.4/7",null,null,null,null,null,null,null,null,null,null,"ส 3.1",null,"ม.4-6/7"]
[null,null,null,"ส 3.2",null,"ป.4/8",null,null,null,null,null,null,null,null,null,null,"ส 3.2",null,"ม.4-6/8"]
[null,null,null,"ส 4.1",null,"ป.4/9",null,null,null,null,null,null,null,null,null,null,"ส 4.1",null,"ม.4-6/9"]
[null,null,null,"ส 4.2",null,"ป.4/10",null,null,null,null,null,null,null,null,null,null,"ส 4.2",null,"ม.4-6/10"]
[null,null,null,"ส 4.2",null,"ป.5/1",null,null,null,null,null,null,null,null,null,null,"ส 4.2",null,"ม.4-6/11"]
[null,null,null,"ส 5.1",null,"ป.5/2",null,null,null,null,null,null,null,null,null,null,"ส 5.1",null,"ม.4-6/12"]
[null,null,null,"ส 5.2",null,"ป.5/3",null,null,null,null,null,null,null,null,null,null,"ส 5.2",null,"ม.4-6/13"]
[null,null,null,"พ 1.1",null,"ป.5/4",null,null,null,null,null,null,null,null,null,null,"พ 1.1",null,"ม.4-6/14"]
[null,null,null,"พ 2.1",null,"ป.5/5",null,null,null,null,null,null,null,null,null,null,"พ 2.1",null,"ม.4-6/15"]
[null,null,null,"พ 3.1",null,"ป.5/6",null,null,null,null,null,null,null,null,null,null,"พ 3.1",null,"ม.4-6/16"]
[null,null,null,"พ 3.2",null,"ป.5/7",null,null,null,null,null,null,null,null,null,null,"พ 3.2",null,"ม.4-6/17"]
[null,null,null,"พ 4.1",null,"ป.5/8",null,null,null,null,null,null,null,null,null,null,"พ 4.1",null,"ม.4-6/18"]
[null,null,null,"พ 5.1",null,"ป.5/9",null,null,null,null,null,null,null,null,null,null,"พ 5.1",null,"ม.4-6/19"]
[null,null,null,"ศ. 1.1",null,"ป.5/10",null,null,null,null,null,null,null,null,null,null,"ศ. 1.1",null,"ม.4-6/20"]
[null,null,null,"ศ 1.2",null,"ม.6/1",null,null,null,null,null,null,null,null,null,null,"ศ 1.2",null,"ม.4-6/21"]
[null,null,null,"ศ 2.1",null,"ม.6/2",null,null,null,null,null,null,null,null,null,null,"ศ 2.1",null,"ม.4-6/22"]
[null,null,null,"ศ 2.2",null,"ม.6/3",null,null,null,null,null,null,null,null,null,null,"ศ 2.2",null,"ม.4-6/23"]
[null,null,null,"ศ 3.1",null,"ม.6/4",null,null,null,null,null,null,null,null,null,null,"ศ 3.1",null,"ม.4-6/24"]
[null,null,null,"ศ 3.2",null,"ม.6/5",null,null,null,null,null,null,null,null,null,null,"ศ 3.2",null,"ม.4-6/25"]
[null,null,null,"ง 1.1",null,"ม.6/6",null,null,null,null,null,null,null,null,null,null,"ง 1.1",null,"ม.4-6/26"]
[null,null,null,"ง 2.1",null,"ม.6/7",null,null,null,null,null,null,null,null,null,null,"ง 2.1",null,"ม.4-6/27"]
[null,null,null,"ง 3.1",null,"ม.6/8",null,null,null,null,null,null,null,null,null,null,"ง 3.1",null,"ม.4-6/28"]
[null,null,null,"ง 4.1",null,"ม.6/9",null,null,null,null,null,null,null,null,null,null,"ง 4.1",null,"ม.4-6/29"]
[null,null,null,"ต 1.1",null,"ม.6/10",null,null,null,null,null,null,null,null,null,null,"ต 1.1",null,"ม.4-6/30"]
[null,null,null,"ต 1.2",null,"ข้อ 1",null,null,null,null,null,null,null,null,null,null,"ต 1.2",null,"ข้อ 1"]
[null,null,null,"ต 1.3",null,"ข้อ 2",null,null,null,null,null,null,null,null,null,null,"ต 1.3",null,"ข้อ 2"]
[null,null,null,"ต 2.1",null,"ข้อ 3",null,null,null,null,null,null,null,null,null,null,"ต 2.1",null,"ข้อ 3"]
[null,null,null,"ต 2.2",null,"ข้อ 4",null,null,null,null,null,null,null,null,null,null,"ต 2.2",null,"ข้อ 4"]
[null,null,null,"ต 3.1",null,"ข้อ 5",null,null,null,null,null,null,null,null,null,null,"ต 3.1",null,"ข้อ 5"]
[null,null,null,"ต 4.1",null,"ข้อ 6",null,null,null,null,null,null,null,null,null,null,"ต 4.1",null,"ข้อ 6"]
[null,null,null,"ต 4.2",null,"ข้อ 7",null,null,null,null,null,null,null,null,null,null,"ต 4.2",null,"ข้อ 7"]
[null,null,null,null,null,"ข้อ 8",null,null,null,null,null,null,null,null,null,null," -",null,"ข้อ 8"]
[null,null,null,null,null,"ข้อ 9",null,null,null,null,null,null,null,null,null,null,null,null,"ข้อ 9"]
[null,null,null,null,null,"ข้อ 10",null,null,null,null,null,null,null,null,null,null,null,null,"ข้อ 10"]
[null,null,null,null,null,"ข้อ 11",null,null,null,null,null,null,null,null,null,null,null,null,"ข้อ 11"]
[null,null,null,null,null,"ข้อ 12",null,null,null,null,null,null,null,null,null,null,null,null,"ข้อ 12"]
[null,null,null,null,null,"ข้อ 13",null,null,null,null,null,null,null,null,null,null,null,null,"ข้อ 13"]
[null,null,null,null,null,"ข้อ 14",null,null,null,null,null,null,null,null,null,null,null,null,"ข้อ 14"]
[null,null,null,null,null,"ข้อ 15",null,null,null,null,null,null,null,null,null,null,null,null,"ข้อ 15"]
[null,null,null,null,null,"ข้อ 16",null,null,null,null,null,null,null,null,null,null,null,null,"ข้อ 16"]
[null,null,null,null,null,"ข้อ 17",null,null,null,null,null,null,null,null,null,null,null,null,"ข้อ 17"]
[null,null,null,null,null,"ข้อ 18",null,null,null,null,null,null,null,null,null,null,null,null,"ข้อ 18"]
[null,null,null,null,null,"ข้อ 19",null,null,null,null,null,null,null,null,null,null,null,null,"ข้อ 19"]
[null,null,null,null,null,"ข้อ 20",null,null,null,null,null,null,null,null,null,null,null,null,"ข้อ 20"]
[null,null,null,null,null,"ข้อ 21",null,null,null,null,null,null,null,null,null,null,null,null,"ข้อ 21"]
[null,null,null,null,null,"ข้อ 22",null,null,null,null,null,null,null,null,null,null,null,null,"ข้อ 22"]
[null,null,null,null,null,"ข้อ 23",null,null,null,null,null,null,null,null,null,null,null,null,"ข้อ 23"]
[null,null,null,null,null,"ข้อ 24",null,null,null,null,null,null,null,null,null,null,null,null,"ข้อ 24"]
[null,null,null,null,null,"ข้อ 25",null,null,null,null,null,null,null,null,null,null,null,null,"ข้อ 25"]
[null,null,null,null,null,"ข้อ 26",null,null,null,null,null,null,null,null,null,null,null,null,"ข้อ 26"]
[null,null,null,null,null,"ข้อ 27",null,null,null,null,null,null,null,null,null,null,null,null,"ข้อ 27"]
[null,null,null,null,null,"ข้อ 28",null,null,null,null,null,null,null,null,null,null,null,null,"ข้อ 28"]
[null,null,null,null,null,"ข้อ 29",null,null,null,null,null,null,null,null,null,null,null,null,"ข้อ 29"]
[null,null,null,null,null,"ข้อ 30",null,null,null,null,null,null,null,null,null,null,null,null,"ข้อ 30"]
[null,null,null,null,null,null,null,null,null,null,null,null,null,null,null,null,null,null,"ข้อ 31"]
[null,null,null,null,null,null,null,null,null,null,null,null,null,null,null,null,null,null,"ข้อ 32"]
[null,null,null,null,null,null,null,null,null,null,null,null,null,null,null,null,null,null,"ข้อ 33"]
[null,null,null,null,null,null,null,null,null,null,null,null,null,null,null,null,null,null,"ข้อ 34"]
[null,null,null,null,null,null,null,null,null,null,null,null,null,null,null,null,null,null,"ข้อ 35"]
[null,null,null,null,null,null,null,null,null,null,null,null,null,null,null,null,null,null,"ข้อ 36"]
[null,null,null,null,null,null,null,null,null,null,null,null,null,null,null,null,null,null,"ข้อ 37"]
[null,null,null,null,null,null,null,null,null,null,null,null,null,null,null,null,null,null,"ข้อ 38"]
[null,null,null,null,null,null,null,null,null,null,null,null,null,null,null,null,null,null,"ข้อ 39"]
[null,null,null,null,null,null,null,null,null,null,null,null,null,null,null,null,null,null,"ข้อ 40"]

{"sheet":"เวลาเรียน","index":3,"n_rows":59,"n_cols":13,"rows_kept":59,"cut":false,"hidden":false,"merged":[[5,4,6,4],[2,50,4,53],[2,54,4,57],[2,58,6,58],[2,59,6,59],[5,50,6,50],[5,51,6,51],[5,52,6,52],[5,53,6,53],[5,54,6,54],[5,55,6,55],[5,56,6,56],[5,57,6,57],[0,0,0,11],[1,0,1,11],[2,12,6,12],[5,5,6,5],[5,6,6,6],[2,3,4,6],[2,11,6,11],[2,7,4,10],[5,7,6,7],[5,8,6,8],[5,9,6,9],[5,10,6,10],[2,0,7,0],[2,1,7,1],[2,2,7,2],[5,3,6,3]]}
[{"$f":"\"บันทึกเวลาเรียน   รายวิชา\"&ปก!C26&\"     \"&\"รหัสวิชา\"&\"  \"&ปก!C27","v":"บันทึกเวลาเรียน   รายวิชาหน้าที่พลเมือง     รหัสวิชา   -"},null,null,null,null,null,null,null,null,null,null,null,"หน้า 1"]
[{"$f":"ปก!AL11&\"    \"&\"ปีการศึกษา\"&ปก!C16&\"  (เวลาเรียน\"&\"  \"&\"\"&ปก!C28&\" \"&\"ชั่วโมง : ปี)\"","v":"ชั้นประถมศึกษาปีที่ 2/2    ปีการศึกษา2565  (เวลาเรียน  40 ชั่วโมง : ปี)"}]
["เลขที่","เลขประจำตัว","ชื่อ - ชื่อสกุล","รวมเวลาเรียน\nภาคเรียนที่ 1 \n(ชั่วโมง)",null,null,null,"รวมเวลาเรียน\nตลอดปีการศึกษา(ชั่วโมง)",null,null,null,"มาเรียน\nร้อยละ\n(เวลาเรียน\nตลอดปี)","สถานะ\nนักเรียน\nปัจจุบัน"]
[]
[]
[null,null,null,"มา","ขาด","ลา","ป่วย","มา","ขาด","ลา","ป่วย"]
[]
[]
[{"$f":"ใส่ชื่อ!A2","v":1},{"$f":"ใส่ชื่อ!C2","v":2836},{"$f":"CONCATENATE(ใส่ชื่อ!D2&ใส่ชื่อ!E2&\"  \"&ใส่ชื่อ!F2)","v":"เด็กชายธิติวัฒน์  ขุนสิทธิ์"},{"$f":"IF(C9=\"\",\"\",IF(M9=\"\",\"\",IF(M9<>\"ปกติ\",0,$D$59-E9-F9-G9)))","v":20},null,null,null,{"$f":"IF(C9=\"\",\"\",IF(M9=\"\",\"\",IF(M9<>\"ปกติ\",0,$H$59-I9-J9-K9)))","v":40},null,null,null,{"$f":"IF(ปก!$C$28=0,\"-\",IF(M9=\"\",\"\",SUM(H9*100)/ปก!$C$28))","v":100},"ปกติ"]
[{"$f":"ใส่ชื่อ!A3","v":2},{"$f":"ใส่ชื่อ!C3","v":2840},{"$f":"CONCATENATE(ใส่ชื่อ!D3&ใส่ชื่อ!E3&\"  \"&ใส่ชื่อ!F3)","v":"เด็กชายอภิชาติ  ล่องสุวรรณ"},20,null,null,null,{"$f":"IF(C10=\"\",\"\",IF(M10=\"\",\"\",IF(M10<>\"ปกติ\",0,$H$59-I10-J10-K10)))","v":40},null,null,null,{"$f":"IF(ปก!$C$28=0,\"-\",IF(M10=\"\",\"\",SUM(H10*100)/ปก!$C$28))","v":100},"ปกติ"]
[{"$f":"ใส่ชื่อ!A4","v":3},{"$f":"ใส่ชื่อ!C4","v":2842},{"$f":"CONCATENATE(ใส่ชื่อ!D4&ใส่ชื่อ!E4&\"  \"&ใส่ชื่อ!F4)","v":"เด็กชายเมธัส  ป้อมเมือง"},20,null,null,null,40,null,null,null,{"$f":"IF(ปก!$C$28=0,\"-\",IF(M11=\"\",\"\",SUM(H11*100)/ปก!$C$28))","v":100},"ปกติ"]
[{"$f":"ใส่ชื่อ!A5","v":4},{"$f":"ใส่ชื่อ!C5","v":2844},{"$f":"CONCATENATE(ใส่ชื่อ!D5&ใส่ชื่อ!E5&\"  \"&ใส่ชื่อ!F5)","v":"เด็กหญิงพรณิสา  เพ็ชรจั่น"},20,null,null,null,40,null,null,null,{"$f":"IF(ปก!$C$28=0,\"-\",IF(M12=\"\",\"\",SUM(H12*100)/ปก!$C$28))","v":100},"ปกติ"]
[{"$f":"ใส่ชื่อ!A6","v":5},{"$f":"ใส่ชื่อ!C6","v":2845},{"$f":"CONCATENATE(ใส่ชื่อ!D6&ใส่ชื่อ!E6&\"  \"&ใส่ชื่อ!F6)","v":"เด็กหญิงบุญฑริกา  นิ่มอ่อน"},20,null,null,null,40,null,null,null,{"$f":"IF(ปก!$C$28=0,\"-\",IF(M13=\"\",\"\",SUM(H13*100)/ปก!$C$28))","v":100},"ปกติ"]
[{"$f":"ใส่ชื่อ!A7","v":6},{"$f":"ใส่ชื่อ!C7","v":2846},{"$f":"CONCATENATE(ใส่ชื่อ!D7&ใส่ชื่อ!E7&\"  \"&ใส่ชื่อ!F7)","v":"เด็กหญิงรัญชิดา  นรเนตร"},20,null,null,null,40,null,null,null,{"$f":"IF(ปก!$C$28=0,\"-\",IF(M14=\"\",\"\",SUM(H14*100)/ปก!$C$28))","v":100},"ปกติ"]
[{"$f":"ใส่ชื่อ!A8","v":7},{"$f":"ใส่ชื่อ!C8","v":2847},{"$f":"CONCATENATE(ใส่ชื่อ!D8&ใส่ชื่อ!E8&\"  \"&ใส่ชื่อ!F8)","v":"เด็กหญิงอริสา  วีระวิทยกุญชร"},20,null,null,null,40,null,null,null,{"$f":"IF(ปก!$C$28=0,\"-\",IF(M15=\"\",\"\",SUM(H15*100)/ปก!$C$28))","v":100},"ปกติ"]
[{"$f":"ใส่ชื่อ!A9","v":8},{"$f":"ใส่ชื่อ!C9","v":2855},{"$f":"CONCATENATE(ใส่ชื่อ!D9&ใส่ชื่อ!E9&\"  \"&ใส่ชื่อ!F9)","v":"เด็กหญิงณัฐวรา  ธนกิจชัยชนะ"},20,null,null,null,40,null,null,null,{"$f":"IF(ปก!$C$28=0,\"-\",IF(M16=\"\",\"\",SUM(H16*100)/ปก!$C$28))","v":100},"ปกติ"]
[{"$f":"ใส่ชื่อ!A10","v":9},{"$f":"ใส่ชื่อ!C10","v":2856},{"$f":"CONCATENATE(ใส่ชื่อ!D10&ใส่ชื่อ!E10&\"  \"&ใส่ชื่อ!F10)","v":"เด็กชายอักคเชน  ดอกกระถิน"},20,null,null,null,40,null,null,null,{"$f":"IF(ปก!$C$28=0,\"-\",IF(M17=\"\",\"\",SUM(H17*100)/ปก!$C$28))","v":100},"ปกติ"]
[{"$f":"ใส่ชื่อ!A11","v":10},{"$f":"ใส่ชื่อ!C11","v":2863},{"$f":"CONCATENATE(ใส่ชื่อ!D11&ใส่ชื่อ!E11&\"  \"&ใส่ชื่อ!F11)","v":"เด็กหญิงณัฐณิชา  วงศ์บุศรัตน์"},20,null,null,null,40,null,null,null,{"$f":"IF(ปก!$C$28=0,\"-\",IF(M18=\"\",\"\",SUM(H18*100)/ปก!$C$28))","v":100},"ปกติ"]
[{"$f":"ใส่ชื่อ!A12","v":11},{"$f":"ใส่ชื่อ!C12","v":2918},{"$f":"CONCATENATE(ใส่ชื่อ!D12&ใส่ชื่อ!E12&\"  \"&ใส่ชื่อ!F12)","v":"เด็กชายณัฐวุฒิ  เปรมผล"},20,null,null,null,40,null,null,null,{"$f":"IF(ปก!$C$28=0,\"-\",IF(M19=\"\",\"\",SUM(H19*100)/ปก!$C$28))","v":100},"ปกติ"]
[{"$f":"ใส่ชื่อ!A13","v":12},{"$f":"ใส่ชื่อ!C13","v":2919},{"$f":"CONCATENATE(ใส่ชื่อ!D13&ใส่ชื่อ!E13&\"  \"&ใส่ชื่อ!F13)","v":"เด็กชายธนาธิป  สังข์โพธิ์"},20,null,null,null,40,null,null,null,{"$f":"IF(ปก!$C$28=0,\"-\",IF(M20=\"\",\"\",SUM(H20*100)/ปก!$C$28))","v":100},"ปกติ"]
[{"$f":"ใส่ชื่อ!A14","v":13},{"$f":"ใส่ชื่อ!C14","v":2946},{"$f":"CONCATENATE(ใส่ชื่อ!D14&ใส่ชื่อ!E14&\"  \"&ใส่ชื่อ!F14)","v":"เด็กหญิงน้ำหวาน  พม่า"},20,null,null,null,40,null,null,null,{"$f":"IF(ปก!$C$28=0,\"-\",IF(M21=\"\",\"\",SUM(H21*100)/ปก!$C$28))","v":100},"ปกติ"]
[{"$f":"ใส่ชื่อ!A15","v":14},{"$f":"ใส่ชื่อ!C15","v":3010},{"$f":"CONCATENATE(ใส่ชื่อ!D15&ใส่ชื่อ!E15&\"  \"&ใส่ชื่อ!F15)","v":"เด็กหญิงชลิตา  ยมนา"},20,null,null,null,40,null,null,null,{"$f":"IF(ปก!$C$28=0,\"-\",IF(M22=\"\",\"\",SUM(H22*100)/ปก!$C$28))","v":100},"ปกติ"]
[{"$f":"ใส่ชื่อ!A16","v":15},{"$f":"ใส่ชื่อ!C16","v":3043},{"$f":"CONCATENATE(ใส่ชื่อ!D16&ใส่ชื่อ!E16&\"  \"&ใส่ชื่อ!F16)","v":"เด็กหญิงฉัตรพรรณราย  แสงรัตนายนต์"},20,null,null,null,40,null,null,null,{"$f":"IF(ปก!$C$28=0,\"-\",IF(M23=\"\",\"\",SUM(H23*100)/ปก!$C$28))","v":100},"ปกติ"]
[{"$f":"ใส่ชื่อ!A17","v":16},{"$f":"ใส่ชื่อ!C17","v":3084},{"$f":"CONCATENATE(ใส่ชื่อ!D17&ใส่ชื่อ!E17&\"  \"&ใส่ชื่อ!F17)","v":"เด็กชายธนวุฒิ   -"},20,null,null,null,40,null,null,null,{"$f":"IF(ปก!$C$28=0,\"-\",IF(M24=\"\",\"\",SUM(H24*100)/ปก!$C$28))","v":100},"ปกติ"]
[{"$f":"ใส่ชื่อ!A18","v":17},{"$f":"ใส่ชื่อ!C18","v":3098},{"$f":"CONCATENATE(ใส่ชื่อ!D18&ใส่ชื่อ!E18&\"  \"&ใส่ชื่อ!F18)","v":"เด็กหญิงวรรณพิชชา  จันไทย"},20,null,null,null,40,null,null,null,{"$f":"IF(ปก!$C$28=0,\"-\",IF(M25=\"\",\"\",SUM(H25*100)/ปก!$C$28))","v":100},"ปกติ"]
[{"$f":"ใส่ชื่อ!A19","v":18},{"$f":"ใส่ชื่อ!C19","v":3111},{"$f":"CONCATENATE(ใส่ชื่อ!D19&ใส่ชื่อ!E19&\"  \"&ใส่ชื่อ!F19)","v":"เด็กหญิงมานาทิพย์  สมดี"},20,null,null,null,40,null,null,null,{"$f":"IF(ปก!$C$28=0,\"-\",IF(M26=\"\",\"\",SUM(H26*100)/ปก!$C$28))","v":100},"ปกติ"]
[{"$f":"ใส่ชื่อ!A20","v":19},{"$f":"ใส่ชื่อ!C20","v":3181},{"$f":"CONCATENATE(ใส่ชื่อ!D20&ใส่ชื่อ!E20&\"  \"&ใส่ชื่อ!F20)","v":"เด็กหญิงชุติกาญจน์  เอี่ยมโสด"},20,null,null,null,40,null,null,null,{"$f":"IF(ปก!$C$28=0,\"-\",IF(M27=\"\",\"\",SUM(H27*100)/ปก!$C$28))","v":100},"ปกติ"]
[{"$f":"ใส่ชื่อ!A21","v":20},{"$f":"ใส่ชื่อ!C21","v":0},{"$f":"CONCATENATE(ใส่ชื่อ!D21&ใส่ชื่อ!E21&\"  \"&ใส่ชื่อ!F21)","v":"เด็กหญิงฐิตาภรณ์  แย้มนาค"},20,null,null,null,40,null,null,null,{"$f":"IF(ปก!$C$28=0,\"-\",IF(M28=\"\",\"\",SUM(H28*100)/ปก!$C$28))","v":100},"ปกติ"]
[{"$f":"ใส่ชื่อ!A22","v":0},{"$f":"ใส่ชื่อ!C22","v":0},{"$f":"CONCATENATE(ใส่ชื่อ!D22&ใส่ชื่อ!E22&\"  \"&ใส่ชื่อ!F22)","v":"  "},"",null,null,null,"",null,null,null,{"$f":"IF(ปก!$C$28=0,\"-\",IF(M29=\"\",\"\",SUM(H29*100)/ปก!$C$28))","v":""}]
[{"$f":"ใส่ชื่อ!A23","v":0},{"$f":"ใส่ชื่อ!C23","v":0},{"$f":"CONCATENATE(ใส่ชื่อ!D23&ใส่ชื่อ!E23&\"       \"&ใส่ชื่อ!F23)","v":"       "},"",null,null,null,"",null,null,null,{"$f":"IF(ปก!$C$28=0,\"-\",IF(M30=\"\",\"\",SUM(H30*100)/ปก!$C$28))","v":""}]
[{"$f":"ใส่ชื่อ!A24","v":0},{"$f":"ใส่ชื่อ!C24","v":0},{"$f":"CONCATENATE(ใส่ชื่อ!D24&ใส่ชื่อ!E24&\"       \"&ใส่ชื่อ!F24)","v":"       "},"",null,null,null,"",null,null,null,{"$f":"IF(ปก!$C$28=0,\"-\",IF(M31=\"\",\"\",SUM(H31*100)/ปก!$C$28))","v":""}]
[{"$f":"ใส่ชื่อ!A25","v":0},{"$f":"ใส่ชื่อ!C25","v":0},{"$f":"CONCATENATE(ใส่ชื่อ!D25&ใส่ชื่อ!E25&\"       \"&ใส่ชื่อ!F25)","v":"       "},"",null,null,null,"",null,null,null,{"$f":"IF(ปก!$C$28=0,\"-\",IF(M32=\"\",\"\",SUM(H32*100)/ปก!$C$28))","v":""}]
[{"$f":"ใส่ชื่อ!A26","v":0},{"$f":"ใส่ชื่อ!C26","v":0},{"$f":"CONCATENATE(ใส่ชื่อ!D26&ใส่ชื่อ!E26&\"       \"&ใส่ชื่อ!F26)","v":"       "},"",null,null,null,"",null,null,null,{"$f":"IF(ปก!$C$28=0,\"-\",IF(M33=\"\",\"\",SUM(H33*100)/ปก!$C$28))","v":""}]
[{"$f":"ใส่ชื่อ!A27","v":0},{"$f":"ใส่ชื่อ!C27","v":0},{"$f":"CONCATENATE(ใส่ชื่อ!D27&ใส่ชื่อ!E27&\"       \"&ใส่ชื่อ!F27)","v":"       "},"",null,null,null,"",null,null,null,{"$f":"IF(ปก!$C$28=0,\"-\",IF(M34=\"\",\"\",SUM(H34*100)/ปก!$C$28))","v":""}]
[{"$f":"ใส่ชื่อ!A28","v":0},{"$f":"ใส่ชื่อ!C28","v":0},{"$f":"CONCATENATE(ใส่ชื่อ!D28&ใส่ชื่อ!E28&\"       \"&ใส่ชื่อ!F28)","v":"       "},"",null,null,null,"",null,null,null,{"$f":"IF(ปก!$C$28=0,\"-\",IF(M35=\"\",\"\",SUM(H35*100)/ปก!$C$28))","v":""}]
[{"$f":"ใส่ชื่อ!A29","v":0},{"$f":"ใส่ชื่อ!C29","v":0},{"$f":"CONCATENATE(ใส่ชื่อ!D29&ใส่ชื่อ!E29&\"       \"&ใส่ชื่อ!F29)","v":"       "},"",null,null,null,"",null,null,null,{"$f":"IF(ปก!$C$28=0,\"-\",IF(M36=\"\",\"\",SUM(H36*100)/ปก!$C$28))","v":""}]
[{"$f":"ใส่ชื่อ!A30","v":0},{"$f":"ใส่ชื่อ!C30","v":0},{"$f":"CONCATENATE(ใส่ชื่อ!D30&ใส่ชื่อ!E30&\"       \"&ใส่ชื่อ!F30)","v":"       "},"",null,null,null,"",null,null,null,{"$f":"IF(ปก!$C$28=0,\"-\",IF(M37=\"\",\"\",SUM(H37*100)/ปก!$C$28))","v":""}]
[{"$f":"ใส่ชื่อ!A31","v":0},{"$f":"ใส่ชื่อ!C31","v":0},{"$f":"CONCATENATE(ใส่ชื่อ!D31&ใส่ชื่อ!E31&\"       \"&ใส่ชื่อ!F31)","v":"       "},"",null,null,null,"",null,null,null,{"$f":"IF(ปก!$C$28=0,\"-\",IF(M38=\"\",\"\",SUM(H38*100)/ปก!$C$28))","v":""}]
[{"$f":"ใส่ชื่อ!A32","v":0},{"$f":"ใส่ชื่อ!C32","v":0},{"$f":"CONCATENATE(ใส่ชื่อ!D32&ใส่ชื่อ!E32&\"       \"&ใส่ชื่อ!F32)","v":"       "},"",null,null,null,"",null,null,null,{"$f":"IF(ปก!$C$28=0,\"-\",IF(M39=\"\",\"\",SUM(H39*100)/ปก!$C$28))","v":""}]
[{"$f":"ใส่ชื่อ!A33","v":0},{"$f":"ใส่ชื่อ!C33","v":0},{"$f":"CONCATENATE(ใส่ชื่อ!D33&ใส่ชื่อ!E33&\"       \"&ใส่ชื่อ!F33)","v":"       "},"",null,null,null,"",null,null,null,{"$f":"IF(ปก!$C$28=0,\"-\",IF(M40=\"\",\"\",SUM(H40*100)/ปก!$C$28))","v":""}]
[{"$f":"ใส่ชื่อ!A34","v":0},{"$f":"ใส่ชื่อ!C34","v":0},{"$f":"CONCATENATE(ใส่ชื่อ!D34&ใส่ชื่อ!E34&\"       \"&ใส่ชื่อ!F34)","v":"       "},"",null,null,null,"",null,null,null,{"$f":"IF(ปก!$C$28=0,\"-\",IF(M41=\"\",\"\",SUM(H41*100)/ปก!$C$28))","v":""}]
[{"$f":"ใส่ชื่อ!A35","v":0},{"$f":"ใส่ชื่อ!C35","v":0},{"$f":"CONCATENATE(ใส่ชื่อ!D35&ใส่ชื่อ!E35&\"       \"&ใส่ชื่อ!F35)","v":"       "},"",null,null,null,"",null,null,null,{"$f":"IF(ปก!$C$28=0,\"-\",IF(M42=\"\",\"\",SUM(H42*100)/ปก!$C$28))","v":""}]
[{"$f":"ใส่ชื่อ!A36","v":0},{"$f":"ใส่ชื่อ!C36","v":0},{"$f":"CONCATENATE(ใส่ชื่อ!D36&ใส่ชื่อ!E36&\"       \"&ใส่ชื่อ!F36)","v":"       "},"",null,null,null,"",null,null,null,{"$f":"IF(ปก!$C$28=0,\"-\",IF(M43=\"\",\"\",SUM(H43*100)/ปก!$C$28))","v":""}]
[{"$f":"ใส่ชื่อ!A37","v":0},{"$f":"ใส่ชื่อ!C37","v":0},{"$f":"CONCATENATE(ใส่ชื่อ!D37&ใส่ชื่อ!E37&\"       \"&ใส่ชื่อ!F37)","v":"       "},"",null,null,null,"",null,null,null,{"$f":"IF(ปก!$C$28=0,\"-\",IF(M44=\"\",\"\",SUM(H44*100)/ปก!$C$28))","v":""}]
[{"$f":"ใส่ชื่อ!A38","v":0},{"$f":"ใส่ชื่อ!C38","v":0},{"$f":"CONCATENATE(ใส่ชื่อ!D38&ใส่ชื่อ!E38&\"       \"&ใส่ชื่อ!F38)","v":"       "},"",null,null,null,"",null,null,null,{"$f":"IF(ปก!$C$28=0,\"-\",IF(M45=\"\",\"\",SUM(H45*100)/ปก!$C$28))","v":""}]
[{"$f":"ใส่ชื่อ!A39","v":0},{"$f":"ใส่ชื่อ!C39","v":0},{"$f":"CONCATENATE(ใส่ชื่อ!D39&ใส่ชื่อ!E39&\"       \"&ใส่ชื่อ!F39)","v":"       "},"",null,null,null,"",null,null,null,{"$f":"IF(ปก!$C$28=0,\"-\",IF(M46=\"\",\"\",SUM(H46*100)/ปก!$C$28))","v":""}]
[{"$f":"ใส่ชื่อ!A40","v":0},{"$f":"ใส่ชื่อ!C40","v":0},{"$f":"CONCATENATE(ใส่ชื่อ!D40&ใส่ชื่อ!E40&\"       \"&ใส่ชื่อ!F40)","v":"       "},"",null,null,null,"",null,null,null,{"$f":"IF(ปก!$C$28=0,\"-\",IF(M47=\"\",\"\",SUM(H47*100)/ปก!$C$28))","v":""}]
[{"$f":"ใส่ชื่อ!A41","v":0},{"$f":"ใส่ชื่อ!C41","v":0},{"$f":"CONCATENATE(ใส่ชื่อ!D41&ใส่ชื่อ!E41&\"       \"&ใส่ชื่อ!F41)","v":"       "},"",null,null,null,"",null,null,null,{"$f":"IF(ปก!$C$28=0,\"-\",IF(M48=\"\",\"\",SUM(H48*100)/ปก!$C$28))","v":""}]
[{"$f":"ใส่ชื่อ!A42","v":0},{"$f":"ใส่ชื่อ!C42","v":0},{"$f":"CONCATENATE(ใส่ชื่อ!D42&ใส่ชื่อ!E42&\"       \"&ใส่ชื่อ!F42)","v":"       "},"",null,null,null,"",null,null,null,{"$f":"IF(ปก!$C$28=0,\"-\",IF(M49=\"\",\"\",SUM(H49*100)/ปก!$C$28))","v":""}]
[{"$f":"ใส่ชื่อ!A43","v":0},{"$f":"ใส่ชื่อ!C43","v":0},{"$f":"CONCATENATE(ใส่ชื่อ!D43&ใส่ชื่อ!E43&\"       \"&ใส่ชื่อ!F43)","v":"       "},"",null,null,null,"",null,null,null,{"$f":"IF(ปก!$C$28=0,\"-\",IF(M50=\"\",\"\",SUM(H50*100)/ปก!$C$28))","v":""}]
[{"$f":"ใส่ชื่อ!A44","v":0},{"$f":"ใส่ชื่อ!C44","v":0},{"$f":"CONCATENATE(ใส่ชื่อ!D44&ใส่ชื่อ!E44&\"       \"&ใส่ชื่อ!F44)","v":"       "},"",null,null,null,"",null,null,null,{"$f":"IF(ปก!$C$28=0,\"-\",IF(M51=\"\",\"\",SUM(H51*100)/ปก!$C$28))","v":""}]
[{"$f":"ใส่ชื่อ!A45","v":0},{"$f":"ใส่ชื่อ!C45","v":0},{"$f":"CONCATENATE(ใส่ชื่อ!D45&ใส่ชื่อ!E45&\"       \"&ใส่ชื่อ!F45)","v":"       "},"",null,null,null,"",null,null,null,{"$f":"IF(ปก!$C$28=0,\"-\",IF(M52=\"\",\"\",SUM(H52*100)/ปก!$C$28))","v":""}]
[{"$f":"ใส่ชื่อ!A46","v":0},{"$f":"ใส่ชื่อ!C46","v":0},{"$f":"CONCATENATE(ใส่ชื่อ!D46&ใส่ชื่อ!E46&\"       \"&ใส่ชื่อ!F46)","v":"       "},"",null,null,null,"",null,null,null,{"$f":"IF(ปก!$C$28=0,\"-\",IF(M53=\"\",\"\",SUM(H53*100)/ปก!$C$28))","v":""}]
[{"$f":"ใส่ชื่อ!A47","v":0},{"$f":"ใส่ชื่อ!C47","v":0},{"$f":"CONCATENATE(ใส่ชื่อ!D47&ใส่ชื่อ!E47&\"       \"&ใส่ชื่อ!F47)","v":"       "},"",null,null,null,"",null,null,null,{"$f":"IF(ปก!$C$28=0,\"-\",IF(M54=\"\",\"\",SUM(H54*100)/ปก!$C$28))","v":""}]
[{"$f":"ใส่ชื่อ!A48","v":0},{"$f":"ใส่ชื่อ!C48","v":0},{"$f":"CONCATENATE(ใส่ชื่อ!D48&ใส่ชื่อ!E48&\"       \"&ใส่ชื่อ!F48)","v":"       "},"",null,null,null,"",null,null,null,{"$f":"IF(ปก!$C$28=0,\"-\",IF(M55=\"\",\"\",SUM(H55*100)/ปก!$C$28))","v":""}]
[{"$f":"ใส่ชื่อ!A49","v":0},{"$f":"ใส่ชื่อ!C49","v":0},{"$f":"CONCATENATE(ใส่ชื่อ!D49&ใส่ชื่อ!E49&\"       \"&ใส่ชื่อ!F49)","v":"       "},"",null,null,null,"",null,null,null,{"$f":"IF(ปก!$C$28=0,\"-\",IF(M56=\"\",\"\",SUM(H56*100)/ปก!$C$28))","v":""}]
[{"$f":"ใส่ชื่อ!A50","v":0},{"$f":"ใส่ชื่อ!C50","v":0},{"$f":"CONCATENATE(ใส่ชื่อ!D50&ใส่ชื่อ!E50&\"       \"&ใส่ชื่อ!F50)","v":"       "},"",null,null,null,"",null,null,null,{"$f":"IF(ปก!$C$28=0,\"-\",IF(M57=\"\",\"\",SUM(H57*100)/ปก!$C$28))","v":""}]
[{"$f":"ใส่ชื่อ!A51","v":0},{"$f":"ใส่ชื่อ!C51","v":0},{"$f":"CONCATENATE(ใส่ชื่อ!D51&ใส่ชื่อ!E51&\"       \"&ใส่ชื่อ!F51)","v":"       "},"",null,null,null,"",null,null,null,{"$f":"IF(ปก!$C$28=0,\"-\",IF(M58=\"\",\"\",SUM(H58*100)/ปก!$C$28))","v":""}]
[null,null,null,{"$f":"ปก!C28/2","v":20},null,null,null,{"$f":"ปก!C28","v":40},null,null,null,{"$f":"IF($F$1=0,\"\",SUM(D59*100)/$F$1)","v":""}]

{"sheet":"ปก","index":4,"n_rows":54,"n_cols":53,"rows_kept":54,"cut":false,"hidden":false,"merged":[[41,40,41,46],[29,37,29,39],[29,40,29,42],[29,43,29,45],[29,46,29,48],[39,25,39,38],[39,39,39,51],[28,40,28,42],[27,40,27,51],[28,43,28,45],[27,28,27,39],[28,34,28,36],[28,37,28,39],[29,49,29,51],[30,31,30,33],[32,24,32,52],[30,37,30,39],[30,40,30,42],[30,49,30,51],[40,40,40,47],[28,49,28,51],[40,26,40,32],[41,26,41,32],[1,49,1,51],[26,37,26,38],[24,35,24,36],[24,33,24,34],[24,37,24,38],[24,39,24,40],[24,41,24,42],[24,43,24,44],[24,45,24,46],[23,41,23,42],[23,43,23,44],[25,39,25,46],[26,39,26,46],[23,45,23,46],[7,24,7,52],[11,32,11,37],[17,31,17,40],[20,25,22,28],[22,45,22,46],[22,37,22,38],[22,39,22,40],[24,47,24,51],[23,47,23,51],[25,49,25,51],[26,49,26,51],[26,47,26,48],[25,37,25,38],[25,25,25,36],[23,29,23,30],[23,31,23,32],[30,28,30,30],[29,25,29,27],[30,25,30,27],[29,28,29,30],[28,31,28,33],[23,35,23,36],[23,25,23,28],[28,25,28,27],[28,28,28,30],[26,25,26,36],[27,25,27,27],[25,47,25,48],[24,31,24,32],[29,34,29,36],[23,33,23,34],[30,46,30,48],[2,1,3,13],[12,2,12,13],[7,1,8,1],[25,2,25,13],[28,2,28,13],[4,2,4,13],[5,2,5,13],[6,2,6,13],[9,2,9,13],[10,2,10,13],[11,2,11,13],[7,2,8,13],[16,1,17,1],[18,2,19,13],[18,1,19,1],[12,1,13,1],[14,2,14,13],[22,2,22,3],[22,8,22,13],[22,4,22,7],[23,2,23,13],[40,1,40,22],[29,2,29,13],[27,17,27,22],[28,17,28,22],[30,34,30,36],[5,24,5,52],[13,2,13,13],[20,2,20,13],[21,2,21,13],[16,2,16,13],[17,2,17,13],[15,2,15,13],[23,37,23,38],[6,24,6,52],[20,47,22,51],[13,31,13,40],[14,28,14,40],[22,29,22,30],[22,31,22,32],[15,28,15,29],[9,39,9,42],[22,41,22,42],[22,33,22,34],[22,35,22,36],[37,1,39,22],[25,17,25,22],[26,17,26,22],[20,29,20,46],[21,29,21,46],[15,44,15,45],[23,39,23,40],[24,29,24,30],[24,25,24,28],[29,17,29,22],[30,17,30,22],[24,16,24,22],[30,2,30,13],[27,2,27,5],[24,2,24,13],[26,2,26,13],[33,1,36,22],[29,31,29,33],[30,43,30,45],[22,43,22,44],[28,46,28,48]]}
["                           "]
[null,null,null,null,null,null,null,null,null,null,null,null,null,null,null,null,null,null,null,null,null,null,null,null,null,null,null,null,null,null,null,null,null,null,null,null,null,null,null,null,null,null,null,null,null,null,null,null,null,"ปถ.05:",null,null,"ป"]
[null,"ข้อมูลพื้นฐานสถานศึกษา"]
[]
[null,"ชื่อสถานศึกษา :","โรงเรียนวัดสิงห์ทอง"]
[null,"อำเภอ :","ปากเกร็ด",null,null,null,null,null,null,null,null,null,null,null,null,null,null,null,null,null,null,null,null,null,"แบบบันทึกผลการพัฒนาคุณภาพผู้เรียนรายวิชา"]
[null,"จังหวัด :","นนทบุรี",null,null,null,null,null,null,null,null,null,null,null,null,null,null,null,null,null,null,null,null,null,{"$f":"IF(C5=\"\",\"\",C5)","v":"โรงเรียนวัดสิงห์ทอง"}]
[null,"สังกัด (ชื่อ อปท.) :","องค์การบริหารส่วนจังหวัดนนทบุรี",null,null,null,null,null,null,null,null,null,null,null,null,null,null,null,null,null,null,null,null,null,{"$f":"IF(COUNTIF(C6:C8,\"\"),\"{{โปรดกรอกข้อมูลที่อยู่และต้นสังกัดให้ครบถ้วน}}\",\"อำเภอ\"&C6&\"  \"&\"จังหวัด\"&C7&\"   สังกัด\"&C8)","v":"อำเภอปากเกร็ด  จังหวัดนนทบุรี   สังกัดองค์การบริหารส่วนจังหวัดนนทบุรี"}]
[]
[null,"ชื่อผู้อำนวยการฯ :","นางชญาดา สุขวงค์ตานนท์",null,null,null,null,null,null,null,null,null,null,null,null,null,null,null,null,null,null,null,null,null,null,null,null,null,null,null,null,null,null,null,null,null,"ปีการศึกษา",null,null,{"$f":"IF(C16=\"\",\"\",C16)","v":2565}]
[null,"ชื่อรองผู้อำนวยการฯ :","นางศรีประภา จีนฉาย",null,null,null,null,null,null,null,null,null,null,null,null,null,null,null,null,null,null,null,null,null,null,null,null,null,null,null,null,null,null,null,null,null,null,{"$f":"IF(C21=\"\",\"ชั้นประถมศึกษาปีที่{{โปรดกรอกข้อมูล}}\",\"ชั้นประถมศึกษาปีที่ \"&C21&\"/\"&C22)","v":"ชั้นประถมศึกษาปีที่ 2/2"},null,{"$f":"IF(C18=\"\",\"ระดับ{{โปรดเลือกข้อมูล}}\",\"ระดับ\"&ปก!C18)","v":"ระดับประถมศึกษาตอนต้น(ป.1-3)"}]
[null,"ตำแหน่งครูวัดผล :","หัวหน้างานวัดผล",null,null,null,null,null,null,null,null,null,null,null,null,null,null,null,null,null,null,null,null,null,null,null,null,null,null,null,null,null,{"$f":"IF(I23=\"\",\"\",\"แผนการเรียน\")","v":""},null,null,null,null,null,null,{"$f":"IF(I23=\"\",\"\",I23)","v":""}]
[null,"ตำแหน่งครูฝ่ายวิชาการ :"]
[null,null,"หัวหน้าฝ่ายวิชาการ",null,null,null,null,null,null,null,null,null,null,null,null,null,null,null,null,null,null,null,null,null,null,"กลุ่มสาระการเรียนรู้",null,null,null,null,null,{"$f":"IF(C24=\"\",\"{{โปรดเลือกกลุ่มสาระการเรียนรู้}}\",C24)","v":"สังคมศึกษาศาสนาและวัฒนธรรม"},null,null,null,null,null,null,null,null,null,{"$f":"IF(C25=\"\",\"สาระการเรียนรู้{{โปรดเลือกข้อมูล}}\",\"สาระการเรียนรู้\"&C25)","v":"สาระการเรียนรู้พื้นฐาน"}]
[null,"ภาคเรียนที่","1 - 2",null,null,null,null,null,null,null,null,null,null,null,null,null,null,{"$f":"IF(C31=\"\",\"\",IF(COUNTA(C31),\",\"))","v":","},null,null,null,null,null,null,null,"รายวิชา",null,null,{"$f":"IF(C26=\"\",\"{{โปรดกรอกข้อมูลรายวิชา}}\",C26)","v":"หน้าที่พลเมือง"},null,null,null,null,null,null,null,null,null,null,null,null,"รหัสวิชา",null,null,{"$f":"IF(C27=\"\",\"{{โปรดกรอกรหัสวิชา}}\",C27)","v":" -"}]
[null,"ปีการศึกษา :",2565,null,null,null,null,null,null,null,null,null,null,null,null,null,null,null,null,null,null,null,null,null,null,"เวลาเรียน",null,null,{"$f":"C28","v":40},null,"ชั่วโมงต่อปี",null,null,null,null,null,null,null,null,null,null,"เวลาเรียน",null,null,{"$f":"IF(AC16=0,\"\",IF(COUNTIF($AC$16,\"40\"),1,IF(COUNTIF($AC$16,\"80\"),2,IF(COUNTIF($AC$16,\"120\"),3,IF(COUNTIF($AC$16,\"160\"),4,IF(COUNTIF($AC$16,\"200\"),5))))))","v":1},null,"ชั่วโมงต่อสัปดาห์"]
[null,"ระดับ :"]
[null,null,"ประถมศึกษาตอนต้น(ป.1-3)",null,null,null,null,null,null,null,null,null,null,null,null,null,null,null,null,null,null,null,null,null,null,null,null,"ครูผู้สอน",null,null,null,{"$f":"IF(C29=\"\",\"{{โปรดกรอกข้อมูลครูผู้สอน}}\",C29)","v":"นายฐิตวัฒน์ เคลื่อนคล้อย"}]
[null,null,null,null,null,null,null,null,null,null,null,null,null,null,null,null,null,null,null,null,null,null,null,null,null,null,null,"ครูประจำชั้น",null,null,null,{"$f":"IF(C30=\"\",\"{{โปรดกรอกข้อมลครูประจำชั้น}}\",C30&O30&\"    \"&C31)","v":"นางสาวดาราวัลย์ นิสัย    นายฐิตวัฒน์ เคลื่อนคล้อย"}]
[]
[null,"ชั้นประถมศึกษาปีที่ :",2,null,null,null,null,null,null,null,null,null,null,null,null,null,null,null,null,null,null,null,null,null,null,"จำนวนนักเรียนทั้งหมด",null,null,null,"สรุปผลการพัฒนาคุณภาพผู้เรียน",null,null,null,null,null,null,null,null,null,null,null,null,null,null,null,null,null,"หมายเหตุ"]
[null,"ห้อง / ทับ :",2,null,null,null,null,null,null,null,null,null,null,null,null,null,null,null,null,null,null,null,null,null,null,null,null,null,null,"จำนวนนักเรียนที่ได้ระดับผลการเรียน"]
[null,"แผนการเรียน :",null,null,"ชื่อแผนการเรียน",null,null,null,null,null,null,null,null,null,null,null,null,null,null,null,null,null,null,null,null,null,null,null,null,4,null,3.5,null,3,null,2.5,null,2,null,1.5,null,1,null,0,null,"มส"]
[null,"กลุ่มสาระการเรียนรู้ :","สังคมศึกษาศาสนาและวัฒนธรรม",null,null,null,null,null,null,null,null,null,null,null,null,null,null,null,null,null,null,null,null,null,null,{"$f":"SUM(AD24:AW24)","v":20},null,null,null,{"$f":"ประเมินผลการเรียนเทอม2!EA9","v":8},null,{"$f":"ประเมินผลการเรียนเทอม2!EB9","v":2},null,{"$f":"ประเมินผลการเรียนเทอม2!EC9","v":8},null,{"$f":"ประเมินผลการเรียนเทอม2!ED9","v":2},null,{"$f":"ประเมินผลการเรียนเทอม2!EE9","v":0},null,{"$f":"ประเมินผลการเรียนเทอม2!EF9","v":0},null,{"$f":"ประเมินผลการเรียนเทอม2!EG9","v":0},null,{"$f":"ประเมินผลการเรียนเทอม2!EH9","v":0},null,{"$f":"ประเมินผลการเรียนเทอม2!EJ9","v":0}]
[null,"ประเภทวิชา :","พื้นฐาน",null,null,null,null,null,null,null,null,null,null,null,null,null,null,null,null,null,null,null,null,null,null,"คิดเป็นร้อยละ",null,null,null,{"$f":"IF(AD24=0,\"\",(AD24*100)/$Z$24)","v":40},null,{"$f":"IF(AF24=0,\"\",(AF24*100)/$Z$24)","v":10},null,{"$f":"IF(AH24=0,\"\",(AH24*100)/$Z$24)","v":40},null,{"$f":"IF(AJ24=0,\"\",(AJ24*100)/$Z$24)","v":10},null,{"$f":"IF(AL24=0,\"\",(AL24*100)/$Z$24)","v":""},null,{"$f":"IF(AN24=0,\"\",(AN24*100)/$Z$24)","v":""},null,{"$f":"IF(AP24=0,\"\",(AP24*100)/$Z$24)","v":""},null,{"$f":"IF(AR24=0,\"\",(AR24*100)/$Z$24)","v":""},null,{"$f":"IF(AT24=0,\"\",(AT24*100)/$Z$24)","v":""}]
[null,"ชื่อวิชา :","หน้าที่พลเมือง",null,null,null,null,null,null,null,null,null,null,null,null,null,null,null,null,null,null,null,null,null,null,"ร้อยละของนักเรียนที่ได้ผลการเรียนระดับดี(3) ขึ้นไป",null,null,null,null,null,null,null,null,null,null,null,{"$f":"SUM(AD25:AI25)","v":90},null,"ผลการเรียนเฉลี่ยของรายวิชา",null,null,null,null,null,null,null,null,null,{"$f":"IF(Z24=0,\"\",((AD24*4)+(AF24*3.5)+(AH24*3)+(AJ24*2.5)+(AL24*2)+(AN24*1.5)+(AP24*1)+(AR24*0))/Z24)","v":3.4}]
[null,"รหัสวิชา :"," -",null,null,null,null,null,null,null,null,null,null,null,null,null,null,null,null,null,null,null,null,null,null,"ร้อยละของนักเรียนที่ไม่ผ่านการประเมิน",null,null,null,null,null,null,null,null,null,null,null,{"$f":"SUM(AR25:AW25)","v":0},null,"ส่วนเบี่ยงเบนมาตรฐาน",null,null,null,null,null,null,null,null,null,{"$f":"IF(Z24=0,\"\",STDEV(ประเมินผลการเรียนเทอม2!DT7:DT56))","v":0.55250625145308307}]
[null,"เวลาเรียน",40,null,null,null,"ชั่วโมงต่อปี",null,null,null,null,null,null,null,null,null,null,null,null,null,null,null,null,null,null,null,null,null,"ผลการประเมินการอ่าน คิด วิเคราะห์ และเขียน",null,null,null,null,null,null,null,null,null,null,null,"ผลการประเมินคุณลักษณะอันพึงประสงค์"]
[null,"ชื่อครูผู้สอน :","นายฐิตวัฒน์ เคลื่อนคล้อย",null,null,null,null,null,null,null,null,null,null,null,null,null,null,null,null,null,null,null,null,null,null,"ผลการประเมิน",null,null,"ดีเยี่ยม",null,null,"ดี",null,null,"ผ่าน",null,null,"ไม่ผ่าน",null,null,"ดีเยี่ยม",null,null,"ดี",null,null,"ผ่าน",null,null,"ไม่ผ่าน"]
[null,"ครูประจำชั้นคนที่ 1 :","นางสาวดาราวัลย์ นิสัย",null,null,null,null,null,null,null,null,null,null,null,null,null,null,null,null,null,null,null,null,null,null,"จำนวนที่ได้",null,null,{"$f":"ประเมินผลการเรียนเทอม2!CJ57","v":17},null,null,{"$f":"ประเมินผลการเรียนเทอม2!CK57","v":3},null,null,{"$f":"ประเมินผลการเรียนเทอม2!CL57","v":0},null,null,{"$f":"ประเมินผลการเรียนเทอม2!CM57","v":0},null,null,{"$f":"ประเมินผลการเรียนเทอม2!CR57","v":17},null,null,{"$f":"ประเมินผลการเรียนเทอม2!CS57","v":3},null,null,{"$f":"ประเมินผลการเรียนเทอม2!CT57","v":0},null,null,{"$f":"ประเมินผลการเรียนเทอม2!CU57","v":0}]
[null,"ครูประจำชั้นคนที่ 2 :","นายฐิตวัฒน์ เคลื่อนคล้อย",null,null,null,null,null,null,null,null,null,null,null,null,null,null,null,null,null,null,null,null,null,null,"คิดเป็นร้อยละ",null,null,{"$f":"IF(Z24=0,\"\",IF(AC30=0,\"\",(AC30*100)/$Z$24))","v":85},null,null,{"$f":"IF(Z24=0,\"\",IF(AF30=0,\"\",(AF30*100)/$Z$24))","v":15},null,null,{"$f":"IF(Z24=0,\"\",IF(AI30=0,\"\",(AI30*100)/$Z$24))","v":""},null,null,{"$f":"IF(Z24=0,\"\",IF(AL30=0,\"\",(AL30*100)/$Z$24))","v":""},null,null,{"$f":"IF(Z24=0,\"\",IF(AO30=0,\"\",(AO30*100)/$Z$24))","v":85},null,null,{"$f":"IF(Z24=0,\"\",IF(AR30=0,\"\",(AR30*100)/$Z$24))","v":15},null,null,{"$f":"IF(Z24=0,\"\",IF(AU30=0,\"\",(AU30*100)/$Z$24))","v":""},null,null,{"$f":"IF(Z24=0,\"\",IF(AX30=0,\"\",(AX30*100)/$Z$24))","v":""}]
[]
[null,null,null,null,null,null,null,null,null,null,null,null,null,null,null,null,null,null,null,null,null,null,null,null,"การอนุมัติผลการพัฒนาคุณภาพผู้เรียน"]
[null,"ระบบจัดทำแบบบันทึกผลการพัฒนาคุณภาพผู้เรียนรายวิชา (ระดับประถมศึกษา)  YEAR2565\nตามหลักสูตรแกนกลางการศึกษาขั้นพื้นฐาน 2551  สำหรับโอนผลการเรียนลงโปรแกรม  Local School\n(ใช้รูปแบบการประเมินโดยเน้นการให้คะแนนชิ้นงาน/ภาระงาน รองรับนักเรียนไม่เกิน 50 คน ใช้กระดาษ A4)",null,null,null,null,null,null,null,null,null,null,null,null,null,null,null,null,null,null,null,null,null,null,null,"ลงชื่อ..............................................ครูผู้สอน",null,null,null,null,null,null,null,null,null,null,null,null,null,null,"ลงชื่อ...........................................หัวหน้ากลุ่มสาระการเรียนรู้"]
[null,null,null,null,null,null,null,null,null,null,null,null,null,null,null,null,null,null,null,null,null,null,null,null,null,{"$f":"IF(C12=\"\",\"ลงชื่อ..............................................{{ใส่ข้อมูลครูวัดผล}}\",\"ลงชื่อ..............................................\"&C12)","v":"ลงชื่อ..............................................หัวหน้างานวัดผล"},null,null,null,null,null,null,null,null,null,null,null,null,null,null,{"$f":"IF(C14=\"\",\"ลงชื่อ............................................{{กรอกข้อมูลฝ่ายวิชาการ}}\",\"ลงชื่อ............................................\"&C14)","v":"ลงชื่อ............................................หัวหน้าฝ่ายวิชาการ"}]
[]
[null,null,null,null,null,null,null,null,null,null,null,null,null,null,null,null,null,null,null,null,null,null,null,null,null,"เรียนเสนอเพื่อโปรดพิจารณา",null,null,null,null,null,null,null,null,null,null,null,null,null,"การพิจารณา/สั่งการ"]
[null,"จัดทำและพัฒนาโดย : นายพุทธรัตน์ นัยวิกุล ผู้อำนวยการสถานศึกษาโรงเรียนเทศบาล ๒ (วัดสมอราย)\nสังกัดเทศบาลนครนครราชสีมา (คณะทำงานกำหนดแนวทางการวัดและประเมินผล กรมส่งเสริมการปกครองท้องถิ่น)",null,null,null,null,null,null,null,null,null,null,null,null,null,null,null,null,null,null,null,null,null,null,null,"m","เห็นควรควรอนุมัติ",null,null,null,null,"m","เห็นควรนำไปปรับปรุงแก้ไข",null,null,null,null,null,null,"m","อนุมัติ",null,null,"m","ไม่อนุมัติ/ให้นำไปปรับปรุงแก้ไข"]
[]
[null,null,null,null,null,null,null,null,null,null,null,null,null,null,null,null,null,null,null,null,null,null,null,null,null,"ลงชื่อ...........................................หัวหน้าฝ่ายวิชาการ",null,null,null,null,null,null,null,null,null,null,null,null,null,"ลงชื่อ...........................................ผู้อำนวยการสถานศึกษา"]
[null,"สอบถามและเสนอแนะได้ที่ : โทรศัพท์ : 089 846 7383  Line ID : Rongpum  facebook : puttarat naivikul\n\n\n\n\n\n\n\n\n\n\n\n\n\n\n\n\n\n\n  /  facebook : แบบปถ.05 โรงเรียนสังกัด อปท.",null,null,null,null,null,null,null,null,null,null,null,null,null,null,null,null,null,null,null,null,null,null,null,".",{"$f":"IF(C11=\"\",\"{{กรอกชื่อ-สกุลรองผู้อำนวยการ}}\",\"(\"&C11&\")\")","v":"(นางศรีประภา จีนฉาย)"},null,null,null,null,null,null,null,null,null,null,null,null,null,{"$f":"IF(C10=\"\",\"{{กรอกชื่อ-สกุลผู้อำนวยการ}}\",\"(\"&C10&\")\")","v":"(นางชญาดา สุขวงค์ตานนท์)"}]
[null,{"$f":"\"ม.\"&C21&\"0\"&C22","v":"ม.202"},{"$f":"IF(C23=\"มัธยมศึกษาตอนต้นทั่วไป\",1,IF(C23=\"วิทย์-คณิต\",1,IF(C23=\"ภาษา-สังคม\",2,IF(C23=\"วิชาชีพ(หลักสูตรคู่ขนาน)\",3))))","v":false}," UPDATE : 18 Sep 2022  สงวนลิขสิทธิ์@2022",null,null,null,null,null,null,null,null,null,null,null,null,null,null,null,null,null,null,null,null,null,null,"   ........../.........../..........",null,null,null,null,null,null,null,null,null,null,null,null,null,"   ........../.........../.........."]
[]
[]
[]
[null,"ลงชื่อ...........................................รองผู้อำนวยการสถานศึกษา",null,null,null,null,null,null,null,null,null,null,"ลงชื่อ...........................................ผู้อำนวยการสถานศึกษา"]
[null,"ลงชื่อ...........................................ปฏิบัติหน้าที่รองผู้อำนวยการฯ",null,null,null,null,null,null,null,null,null,null,"ลงชื่อ...........................................รก.ผู้อำนวยการสถานศึกษา"]
[null,"ลงชื่อ...........................................รักษาการรองผู้อำนวยการฯ"]
[null,"ลงชื่อ...........................................ผู้ช่วยผู้อำนวยการฯ"]
[null,"ลงชื่อ...........................................หัวหน้าฝ่ายวิชาการ"]
[null,"ลงชื่อ...........................................หัวหน้าฝ่ายบริหารวิชาการ"]
[null,"ลงชื่อ...........................................หัวหน้ากลุ่มวิชาการ"]
[null,"ลงชื่อ...........................................หัวหน้ากลุ่มบริหารวิชาการ"]
[null,"ลงชื่อ...........................................ผู้ตรวจสอบ"]

{"sheet":"ประเมินผลการเรียนเทอม1","index":5,"n_rows":164,"n_cols":237,"rows_kept":164,"cut":false,"hidden":false,"merged":[[4,231,5,231],[4,233,5,233],[4,234,5,234],[4,235,5,235],[4,95,5,95],[4,96,5,96],[4,97,5,97],[4,98,5,98],[0,110,0,121],[3,142,4,142],[4,204,5,204],[4,179,5,179],[4,182,5,182],[4,186,5,186],[4,188,5,188],[4,189,5,189],[4,199,5,199],[4,200,5,200],[4,201,5,201],[4,225,5,225],[4,178,5,178],[2,119,4,119],[2,105,4,105],[4,99,5,99],[0,246,0,257],[2,163,4,163],[2,165,4,165],[2,222,4,222],[2,224,4,224],[2,250,4,250],[2,251,4,251],[2,253,4,253],[2,255,4,255],[2,257,4,257],[4,236,5,236],[4,237,5,237],[4,238,5,238],[4,183,5,183],[4,185,5,185],[4,192,5,192],[4,194,5,194],[4,202,5,202],[4,226,5,226],[4,227,5,227],[4,228,5,228],[4,229,5,229],[4,230,5,230],[4,206,5,206],[4,89,5,89],[4,90,5,90],[4,91,5,91],[4,64,5,64],[4,65,5,65],[4,63,5,63],[4,59,5,59],[4,60,5,60],[4,61,5,61],[4,174,5,174],[4,175,5,175],[4,176,5,176],[4,167,5,167],[4,177,5,177],[2,49,3,49],[2,50,3,50],[2,87,2,91],[2,68,3,68],[2,69,2,83],[2,85,3,85],[2,92,3,92],[2,95,2,104],[2,94,4,94],[2,66,3,66],[2,67,3,67],[2,93,3,93],[4,93,5,93],[4,50,5,50],[4,62,5,62],[4,51,5,51],[4,52,5,52],[4,53,5,53],[4,54,5,54],[4,160,5,160],[4,162,5,162],[4,168,5,168],[4,169,5,169],[4,166,5,166],[4,158,5,158],[4,159,5,159],[4,172,5,172],[4,173,5,173],[4,23,5,23],[4,24,5,24],[7,123,7,124],[7,125,8,125],[2,106,4,106],[2,107,4,107],[2,112,4,112],[2,113,4,113],[2,108,4,108],[2,109,4,109],[2,110,4,110],[2,115,4,115],[2,117,4,117],[2,114,4,114],[2,121,4,121],[4,100,5,100],[4,66,5,66],[4,68,5,68],[2,48,3,48],[4,55,5,55],[4,56,5,56],[4,92,5,92],[4,87,5,87],[4,88,5,88],[4,46,5,46],[4,47,5,47],[4,101,5,101],[4,104,5,104],[4,57,5,57],[4,58,5,58],[0,5,0,27],[0,28,0,50],[0,87,0,105],[0,51,0,68],[0,69,0,86],[2,28,2,47],[4,35,5,35],[4,36,5,36],[4,37,5,37],[4,38,5,38],[4,44,5,44],[4,48,5,48],[4,45,5,45],[2,25,4,25],[2,27,4,27],[2,84,4,84],[2,86,4,86],[4,22,5,22],[0,189,0,206],[4,239,5,239],[1,0,5,0],[1,1,5,1],[2,5,2,24],[2,26,3,26],[2,3,5,3],[2,2,5,2],[4,20,5,20],[4,21,5,21],[2,51,2,65],[3,4,4,4],[4,28,5,28],[4,29,5,29],[4,30,5,30],[4,31,5,31],[4,32,5,32],[4,33,5,33],[4,39,5,39],[4,40,5,40],[4,41,5,41],[4,42,5,42],[4,43,5,43],[4,34,5,34],[4,197,5,197],[4,198,5,198],[0,207,0,224],[0,225,0,241],[2,140,5,140],[2,141,5,141],[2,143,2,162],[2,164,3,164],[2,166,2,185],[2,186,3,186],[2,187,3,187],[2,188,3,188],[2,189,2,203],[2,205,3,205],[2,206,3,206],[2,207,2,221],[2,225,2,229],[2,230,3,230],[2,231,3,231],[2,232,4,232],[2,233,2,240],[2,241,4,241],[0,143,0,165],[0,166,0,188],[4,102,5,102],[4,103,5,103],[2,249,4,249],[4,161,5,161],[4,184,5,184],[4,193,5,193],[4,195,5,195],[4,203,5,203],[4,240,5,240],[2,242,4,242],[2,243,4,243],[2,244,4,244],[2,245,4,245],[2,246,4,246],[2,248,4,248],[4,170,5,170],[4,171,5,171],[4,190,5,190],[4,191,5,191],[4,196,5,196],[4,180,5,180],[4,181,5,181],[2,223,3,223],[2,204,3,204]]}
[null,null,null,"อัตราส่วนคะแนน =","70 : 30",{"$f":"\"คะแนนประเมินผลสัมฤทธิ์ ภาคเรียนที่1 \"&\"  วิชา \"&ปก!AS15&\"   \"&\"ชั้น ป.\"&ปก!$C$21&\"/\"&ปก!$C$22&\"  หน้า 2\"","v":"คะแนนประเมินผลสัมฤทธิ์ ภาคเรียนที่1   วิชา  -   ชั้น ป.2/2  หน้า 2"},null,null,null,null,null,null,null,null,null,null,null,null,null,null,null,null,null,null,null,null,null,null,{"$f":"\"คะแนนประเมินผลสัมฤทธิ์ ภาคเรียนที่1 \"&\"  วิชา \"&ปก!AS15&\"   \"&\"ชั้น ป.\"&ปก!$C$21&\"/\"&ปก!$C$22&\"  หน้า 10\"","v":"คะแนนประเมินผลสัมฤทธิ์ ภาคเรียนที่1   วิชา  -   ชั้น ป.2/2  หน้า 10"},null,null,null,null,null,null,null,null,null,null,null,null,null,null,null,null,null,null,null,null,null,null,{"$f":"\"คะแนนประเมินผลสัมฤทธิ์ ภาคเรียนที่1 \"&\"  วิชา \"&ปก!AS15&\"   \"&\"ชั้น ป.\"&ปก!$C$21&\"/\"&ปก!$C$22&\"  หน้า 11\"","v":"คะแนนประเมินผลสัมฤทธิ์ ภาคเรียนที่1   วิชา  -   ชั้น ป.2/2  หน้า 11"},null,null,null,null,null,null,null,null,null,null,null,null,null,null,null,null,null,{"$f":"\"คะแนนประเมินผลสัมฤทธิ์ ภาคเรียนที่1 \"&\"  วิชา \"&ปก!AS15&\"   \"&\"ชั้น ป.\"&ปก!$C$21&\"/\"&ปก!$C$22&\"  หน้า 3\"","v":"คะแนนประเมินผลสัมฤทธิ์ ภาคเรียนที่1   วิชา  -   ชั้น ป.2/2  หน้า 3"},null,null,null,null,null,null,null,null,null,null,null,null,null,null,null,null,null,{"$f":"\"คะแนนประเมินผลสัมฤทธิ์ ภาคเรียนที่1 \"&\"  วิชา \"&ปก!AS15&\"   \"&\"ชั้น ป.\"&ปก!$C$21&\"/\"&ปก!$C$22&\"  หน้า 4\"","v":"คะแนนประเมินผลสัมฤทธิ์ ภาคเรียนที่1   วิชา  -   ชั้น ป.2/2  หน้า 4"},null,null,null,null,null,null,null,null,null,null,null,null,null,null,null,null,null,null,"ระหว่างภาค",null,null,null,{"$f":"\"ผลสัมฤทธิ์ทางการเรียน ภาคเรียนที่1 \"&\"  วิชา \"&ปก!AS15&\"   \"&\"ชั้น ป.\"&ปก!$C$21&\"/\"&ปก!$C$22&\"  หน้า 5\"","v":"ผลสัมฤทธิ์ทางการเรียน ภาคเรียนที่1   วิชา  -   ชั้น ป.2/2  หน้า 5"}]
[null,null,null,null,null,null,null,null,null,null,null,null,null,null,null,null,null,null,null,null,null,null,null,null,null,{"$f":"กำหนดอัตราส่วนคะแนน!B41","v":0},null,null,null,null,null,null,null,null,null,null,null,null,null,null,null,null,null,null,null,null,null,null,{"$f":"กำหนดอัตราส่วนคะแนน!Y41","v":0},null,null,null,null,null,null,null,null,null,null,null,null,null,null,null,null,null,{"$f":"กำหนดอัตราส่วนคะแนน!BQ41","v":0},null,null,null,null,null,null,null,null,null,null,null,null,null,null,null,null,null,{"$f":"กำหนดอัตราส่วนคะแนน!CN41","v":0},null,null,null,null,null,null,null,{"$f":"กำหนดอัตราส่วนคะแนน!AH41","v":0}]
[null,null,"เลข\nประจำ\nตัว\nนักเรียน","ชื่อ - นามสกุล","การประเมิน","คะแนน ชิ้นงาน ภาระงาน การสอบ การวัดผล ระหว่างภาค",null,null,null,null,null,null,null,null,null,null,null,null,null,null,null,null,null,null,null,"คะแนนรวม",null,"คะแนนเต็ม",{"$f":"IF(ปก!$C$25=\"\",\"{{ข้อมูล ERROR โปรดกลับไปเลือกประเภทวิชาที่หน้าปก}}\",IF(ปก!$C$25=\"พื้นฐาน\",\"การประเมินตัวชี้วัด หลังกลางภาค\",IF(ปก!$C$25=\"เพิ่มเติม\",\"การประเมินผลการเรียนรู้ หลังกลางภาค\")))","v":"การประเมินตัวชี้วัด หลังกลางภาค"},null,null,null,null,null,null,null,null,null,null,null,null,null,null,null,null,null,null,null,"คะแนนรวม",null,"คะแนนเต็ม","การประเมินผลกลางภาคเรียน(สอบกลางภาค)",null,null,null,null,null,null,null,null,null,null,null,null,null,null,"คะแนนรวม",null,"คะแนนเต็ม","การประเมินผลปลายภาคเรียน(สอบปลายภาคเรียน)",null,null,null,null,null,null,null,null,null,null,null,null,null,null,"คะแนนรวม",null,"คะแนนเต็ม","การอ่าน คิดวิเคราะห์ และเขียน",null,null,null,null,"คะแนนรวม","คะแนนเต็ม","ระดับคุณภาพ","คุณลักษณะอันพึงประสงค์",null,null,null,null,null,null,null,null,null,"ระดับคุณภาพ","ก่อนกลางภาค","หลังกลางภาค","สอบกลางภาค","สอบแก้ตัว","ระหว่างภาค 1",null,"สอบปลายภาค 1","สอบแก้ตัว(ซ่อม)",null,"รวมตลอดภาคเรียน",null,"ลงคะแนน นร.ย้ายเข้า",null,"คะแนนภาคเรียนที่ 1",null,"สถานะ\nนักเรียน\nปัจจุบัน"]
[null,null,null,null,"ชิ้นงาน/ภาระงาน/การสอบ","งาน","งาน","งาน","งาน","งาน","งาน",null,null,null,null,null,null,null,null,null,null,null,18,19,20,null,null,null,null,null,null,null,null,null,null,null,null,null,null,null,null,null,null,null,null,18,19,20,null,null,null,null,null,null,null,null,null,null,null,null,null,null,null,null,null,null,null,null,null,null,null,null,null,null,null,null,null,null,null,null,null,null,null,null,null,null,null,1,2,3,4,5,null,null,null,1,2,3,4,5,6,7,8,9,10]
[null,null,null,null,null,"ที่ 1","ที่ 2","ที่ 3","ที่ 4","ที่ 5","ที่ 6",null,null,null,null,null,null,null,null,null,null,null,null,null,null,null,{"$f":"$Z$6/$AB$6","v":1},null,null,null,null,null,null,null,null,null,null,null,null,null,null,null,null,null,null,null,null,null,{"$f":"SUM(AC5,AD5,AE5,AF5,AG5,AH5,AI5,AJ5,AK5,AL5,AM5,AN5,AO5,AP5,AQ5,AR5,AS5,AT5,AU5,AV5)","v":0},{"$f":"$AW$5/$AY$5","v":{"$error":"#DIV/0!"}},null,null,null,null,null,null,null,null,null,null,null,null,null,null,null,null,{"$f":"SUM(AZ5,BA5,BB5,BC5,BD5,BE5,BF5,BG5,BH5,BI5,BJ5,BK5,BL5,BM5,BN5)","v":0},{"$f":"$BO$5/$BQ$5","v":{"$error":"#DIV/0!"}},null,null,null,null,null,null,null,null,null,null,null,null,null,null,null,null,null,{"$f":"$CG$6/$CI$6","v":1},null,3,3,3,3,3,{"$f":"SUM(CJ5,CK5,CL5,CM5,CN5)","v":15},3,null,3,3,3,3,3,3,3,3,3,3]
[null,null,null,null,"คะแนน",10,10,10,10,10,20,null,null,null,null,null,null,null,null,null,null,null,null,null,null,{"$f":"SUM(F6,G6,H6,I6,J6,K6,L6,M6,N6,O6,P6,Q6,R6,S6,T6,U6,V6,W6,X6,Y6)","v":70},null,{"$f":"IF(E1=\"50 : 50\",50,IF(E1=\"60 : 40\",60,IF(E1=\"70 : 30\",70,IF(E1=\"80 : 20\",80,IF(E1=\"90 : 10\",90)))))","v":70},null,null,null,null,null,null,null,null,null,null,null,null,null,null,null,null,null,null,null,null,null,null,null,null,null,null,null,null,null,null,null,null,null,null,null,null,null,null,null,null,null,30,null,null,null,null,null,null,null,null,null,null,null,null,null,null,{"$f":"SUM(BR6,BS6,BT6,BU6,BV6,BW6,BX6,BY6,BZ6,CA6,CB6,CC6,CD6,CE6,CF6)","v":30},null,{"$f":"IF(E1=\"50 : 50\",50,IF(E1=\"60 : 40\",40,IF(E1=\"70 : 30\",30,IF(E1=\"80 : 20\",20,IF(E1=\"90 : 10\",10)))))","v":30},null,null,null,null,null,null,null,null,null,null,null,null,null,null,null,null,null,null,null,{"$f":"AB5","v":0},{"$f":"AY5","v":0},{"$f":"BQ5","v":0},null,{"$f":"AB6","v":70},null,{"$f":"CI6","v":30},{"$f":"DI6/2","v":15},null,{"$f":"IF(DG6+DI6<>100,\"ERROR\",SUM(DG6,DI6))","v":100},null,100,null,{"$f":"DL6/2","v":50}]
[1,null,{"$f":"CONCATENATE(ใส่ชื่อ!C2)","v":"2836"},{"$f":"CONCATENATE(ใส่ชื่อ!D2&ใส่ชื่อ!E2&\"  \"&ใส่ชื่อ!F2)","v":"เด็กชายธิติวัฒน์  ขุนสิทธิ์"},{"$f":"ใส่ชื่อ!A2","v":1},10,10,8,9,8,13,null,null,null,null,null,null,null,null,null,null,null,null,null,null,{"$f":"IF(ใส่ชื่อ!D2=\"\",\"\",IF(DR7=\"ปกติ\",SUM(F7,G7,H7,I7,J7,K7,L7,M7,N7,O7,P7,Q7,R7,S7,T7,U7,V7,W7,X7,Y7),\"-\"))","v":58},null,{"$f":"IF(Z7=\"\",\"\",IF(Z7=\"-\",\"-\",IF(Z7=0,\"\",IF($Z$6=0,\"\",ROUND(Z7/$AA$5,0)))))","v":58},null,null,null,null,null,null,null,null,null,null,null,null,null,null,null,null,null,null,null,null,{"$f":"IF(ใส่ชื่อ!D2=\"\",\"\",IF(COUNTIF(AC7:AS7,0),\"มผ\",IF(DR7=\"ปกติ\",SUM(AC7,AD7,AE7,AF7,AG7,AH7,AI7,AJ7,AK7,AL7,AM7,AN7,AO7,AP7,AQ7,AR7,AS7),\"-\")))","v":0},null,{"$f":"IF(AW7=\"\",\"\",IF(AW7=\"-\",\"-\",IF(AW7=\"มผ\",\"มผ\",IF(AW7=0,\"\",IF($AW$5=0,\"\",ROUND(AW7/$AX$5,0))))))","v":""},null,null,null,null,null,null,null,null,null,null,null,null,null,null,null,{"$f":"IF(ใส่ชื่อ!D2=\"\",\"\",IF(COUNTIF(AZ7:BN7,0),\"มผ\",IF(DR7=\"ปกติ\",SUM(AZ7,BA7,BB7,BC7,BD7,BE7,BF7,BG7,BH7,BI7,BJ7,BK7,BL7,BM7,BN7),\"-\")))","v":0},null,{"$f":"IF(BO7=\"\",\"\",IF(BO7=\"-\",\"-\",IF(BO7=\"มผ\",\"มผ\",IF(BO7=0,\"\",IF($BO$5=0,\"\",ROUND(BO7/$BP$5,0))))))","v":""},22,null,null,null,null,null,null,null,null,null,null,null,null,null,null,{"$f":"IF(ใส่ชื่อ!D2=\"\",\"\",IF(DR7=\"ปกติ\",SUM(BR7,BS7,BT7,BU7,BV7,BW7,BX7,BY7,BZ7,CA7,CB7,CC7,CD7,CE7,CF7),\"-\"))","v":22},null,{"$f":"IF(CG7=\"\",\"\",IF(CG7=\"-\",\"-\",IF(CG7=0,\"\",IF($CG$6=0,\"\",ROUND(CG7/$CH$5,0)))))","v":22},3,3,3,3,3,{"$f":"IF(ใส่ชื่อ!D2=\"\",\"\",IF(CJ7=\"\",\"\",(IF(CK7=\"\",\"\",(IF(CL7=\"\",\"\",(IF(CM7=\"\",\"\",(IF(CN7=\"\",\"\",(SUM(CJ7:CN7))))))))))))","v":15},{"$f":"IF(CO7=\"\",\"\",IF(CO7=\"-\",\"-\",IF(CO7=\"ร\",\"ร\",IF(CO7=0,0,IF($CO$5=0,\"\",ROUND(CO7/5,0))))))","v":3},{"$f":"IF(CP7=\"\",\"\",(IF(CP7>=2.5,\"ดย\",(IF(CP7>=1.5,\"ด\",(IF(CP7>=0.6,\"ผ\",(IF(CP7<=0.4,\"มผ\")))))))))","v":"ดย"},3,3,3,3,3,3,3,3,3,3,{"$f":"IF(CR7=\"\",\"\",(IF(CS7=\"\",\"\",(IF(CT7=\"\",\"\",(IF(CU7=\"\",\"\",(IF(CV7=\"\",\"\",(IF(CW7=\"\",\"\",(IF(CX7=\"\",\"\",(IF(CY7=\"\",\"\",IF(CZ7=\"\",\"\",(IF(DA7=\"\",\"\",(IF(COUNTIF(CR7:DA7,0)>0,\"มผ\",IF(AND(COUNTIF(CR7:DA7,3)>=6,COUNTIF(CR7:DA7,\"<2\")=0),\"ดย\",IF(OR(AND(AND(COUNTIF(CR7:DA7,3)>=1,COUNTIF(CR7:DA7,3)<=5),COUNTIF(CR7:DA7,\"<2\")=0),COUNTIF(CR7:DA7,2)=10,AND(COUNTIF(CR7:DA7,\">=2\")>=6,COUNTIF(CR7:DA7,1)>0)),\"ด\",IF(OR(COUNTIF(CR7:DA7,1)=10,AND(COUNTIF(CR7:DA7,\">=2\")>=1,COUNTIF(CR7:DA7,\">=2\")<=6)),\"ผ\",\"มผ\")))))))))))))))))))))))","v":"ดย"},{"$f":"AB7","v":58},{"$f":"AY7","v":""},{"$f":"BQ7","v":""},null,{"$f":"IF(ใส่ชื่อ!D2=\"\",\"\",IF(COUNTIF(DC7:DE7,\"มผ\"),\"มผ\",IF(DE7=\"มผ\",\"มผ\",IF(DR7=\"ปกติ\",SUM(DC7:DD7,IF(DF7=\"\",DE7,DF7)),\"-\"))))","v":58},null,{"$f":"CI7","v":22},null,null,{"$f":"IF(ใส่ชื่อ!D2=\"\",\"\",IF(DG7=\"\",\"\",IF(COUNTIF(DC7:DJ7,\"มผ\"),\"มผ\",IF(COUNTIF(DC7:DJ7,\"-\"),\"-\",IF(DR7=\"ปกติ\",SUM(DG7,IF(DJ7=\"\",DI7,DJ7)))))))","v":80},null,null,null,{"$f":"IF(ใส่ชื่อ!A2=\"\",\"\",IF(DL7=\"-\",\"-\",IF(DL7=0,\"\",IF(DR7=\"ปกติ\",MAXA(DL7/2,DN7/2)))))","v":40},null,{"$f":"IF(เวลาเรียน!M9=\"\",\"\",เวลาเรียน!M9)","v":"ปกติ"}]
[2,2498,{"$f":"CONCATENATE(ใส่ชื่อ!C3)","v":"2840"},{"$f":"CONCATENATE(ใส่ชื่อ!D3&ใส่ชื่อ!E3&\"  \"&ใส่ชื่อ!F3)","v":"เด็กชายอภิชาติ  ล่องสุวรรณ"},{"$f":"ใส่ชื่อ!A3","v":2},5,7,8,7,7,12,null,null,null,null,null,null,null,null,null,null,null,null,null,null,{"$f":"IF(ใส่ชื่อ!D3=\"\",\"\",IF(DR8=\"ปกติ\",SUM(F8,G8,H8,I8,J8,K8,L8,M8,N8,O8,P8,Q8,R8,S8,T8,U8,V8,W8,X8,Y8),\"-\"))","v":46},null,{"$f":"IF(Z8=\"\",\"\",IF(Z8=\"-\",\"-\",IF(Z8=0,\"\",IF($Z$6=0,\"\",ROUND(Z8/$AA$5,0)))))","v":46},null,null,null,null,null,null,null,null,null,null,null,null,null,null,null,null,null,null,null,null,{"$f":"IF(ใส่ชื่อ!D3=\"\",\"\",IF(COUNTIF(AC8:AS8,0),\"มผ\",IF(DR8=\"ปกติ\",SUM(AC8,AD8,AE8,AF8,AG8,AH8,AI8,AJ8,AK8,AL8,AM8,AN8,AO8,AP8,AQ8,AR8,AS8),\"-\")))","v":0},null,{"$f":"IF(AW8=\"\",\"\",IF(AW8=\"-\",\"-\",IF(AW8=\"มผ\",\"มผ\",IF(AW8=0,\"\",IF($AW$5=0,\"\",ROUND(AW8/$AX$5,0))))))","v":""},null,null,null,null,null,null,null,null,null,null,null,null,null,null,null,{"$f":"IF(ใส่ชื่อ!D3=\"\",\"\",IF(COUNTIF(AZ8:BN8,0),\"มผ\",IF(DR8=\"ปกติ\",SUM(AZ8,BA8,BB8,BC8,BD8,BE8,BF8,BG8,BH8,BI8,BJ8,BK8,BL8,BM8,BN8),\"-\")))","v":0},null,{"$f":"IF(BO8=\"\",\"\",IF(BO8=\"-\",\"-\",IF(BO8=\"มผ\",\"มผ\",IF(BO8=0,\"\",IF($BO$5=0,\"\",ROUND(BO8/$BP$5,0))))))","v":""},15,null,null,null,null,null,null,null,null,null,null,null,null,null,null,{"$f":"IF(ใส่ชื่อ!D3=\"\",\"\",IF(DR8=\"ปกติ\",SUM(BR8,BS8,BT8,BU8,BV8,BW8,BX8,BY8,BZ8,CA8,CB8,CC8,CD8,CE8,CF8),\"-\"))","v":15},null,{"$f":"IF(CG8=\"\",\"\",IF(CG8=\"-\",\"-\",IF(CG8=0,\"\",IF($CG$6=0,\"\",ROUND(CG8/$CH$5,0)))))","v":15},3,2,2,2,3,{"$f":"IF(ใส่ชื่อ!D3=\"\",\"\",IF(CJ8=\"\",\"\",(IF(CK8=\"\",\"\",(IF(CL8=\"\",\"\",(IF(CM8=\"\",\"\",(IF(CN8=\"\",\"\",(SUM(CJ8:CN8))))))))))))","v":12},{"$f":"IF(CO8=\"\",\"\",IF(CO8=\"-\",\"-\",IF(CO8=\"ร\",\"ร\",IF(CO8=0,0,IF($CO$5=0,\"\",ROUND(CO8/5,0))))))","v":2},{"$f":"IF(CP8=\"\",\"\",(IF(CP8>=2.5,\"ดย\",(IF(CP8>=1.5,\"ด\",(IF(CP8>=0.6,\"ผ\",(IF(CP8<=0.4,\"มผ\")))))))))","v":"ด"},3,3,2,2,2,2,3,3,3,3,{"$f":"IF(CR8=\"\",\"\",(IF(CS8=\"\",\"\",(IF(CT8=\"\",\"\",(IF(CU8=\"\",\"\",(IF(CV8=\"\",\"\",(IF(CW8=\"\",\"\",(IF(CX8=\"\",\"\",(IF(CY8=\"\",\"\",IF(CZ8=\"\",\"\",(IF(DA8=\"\",\"\",(IF(COUNTIF(CR8:DA8,0)>0,\"มผ\",IF(AND(COUNTIF(CR8:DA8,3)>=6,COUNTIF(CR8:DA8,\"<2\")=0),\"ดย\",IF(OR(AND(AND(COUNTIF(CR8:DA8,3)>=1,COUNTIF(CR8:DA8,3)<=5),COUNTIF(CR8:DA8,\"<2\")=0),COUNTIF(CR8:DA8,2)=10,AND(COUNTIF(CR8:DA8,\">=2\")>=6,COUNTIF(CR8:DA8,1)>0)),\"ด\",IF(OR(COUNTIF(CR8:DA8,1)=10,AND(COUNTIF(CR8:DA8,\">=2\")>=1,COUNTIF(CR8:DA8,\">=2\")<=6)),\"ผ\",\"มผ\")))))))))))))))))))))))","v":"ดย"},46,"","",null,{"$f":"IF(ใส่ชื่อ!D3=\"\",\"\",IF(COUNTIF(DC8:DE8,\"มผ\"),\"มผ\",IF(DE8=\"มผ\",\"มผ\",IF(DR8=\"ปกติ\",SUM(DC8:DD8,IF(DF8=\"\",DE8,DF8)),\"-\"))))","v":46},null,15,null,null,{"$f":"IF(ใส่ชื่อ!D3=\"\",\"\",IF(DG8=\"\",\"\",IF(COUNTIF(DC8:DJ8,\"มผ\"),\"มผ\",IF(COUNTIF(DC8:DJ8,\"-\"),\"-\",IF(DR8=\"ปกติ\",SUM(DG8,IF(DJ8=\"\",DI8,DJ8)))))))","v":61},null,null,null,{"$f":"IF(ใส่ชื่อ!A3=\"\",\"\",IF(DL8=\"-\",\"-\",IF(DL8=0,\"\",IF(DR8=\"ปกติ\",MAXA(DL8/2,DN8/2)))))","v":30.5},null,{"$f":"IF(เวลาเรียน!M10=\"\",\"\",เวลาเรียน!M10)","v":"ปกติ"},null,"ช่วงคะแนน",null,"เกรด",null,4,3.5,3,2.5,2,1.5,1,0,"ร","มส"]
[3,2499,{"$f":"CONCATENATE(ใส่ชื่อ!C4)","v":"2842"},{"$f":"CONCATENATE(ใส่ชื่อ!D4&ใส่ชื่อ!E4&\"  \"&ใส่ชื่อ!F4)","v":"เด็กชายเมธัส  ป้อมเมือง"},{"$f":"ใส่ชื่อ!A4","v":3},8,8,9,9,8,15,null,null,null,null,null,null,null,null,null,null,null,null,null,null,{"$f":"IF(ใส่ชื่อ!D4=\"\",\"\",IF(DR9=\"ปกติ\",SUM(F9,G9,H9,I9,J9,K9,L9,M9,N9,O9,P9,Q9,R9,S9,T9,U9,V9,W9,X9,Y9),\"-\"))","v":57},null,57,null,null,null,null,null,null,null,null,null,null,null,null,null,null,null,null,null,null,null,null,{"$f":"IF(ใส่ชื่อ!D4=\"\",\"\",IF(COUNTIF(AC9:AS9,0),\"มผ\",IF(DR9=\"ปกติ\",SUM(AC9,AD9,AE9,AF9,AG9,AH9,AI9,AJ9,AK9,AL9,AM9,AN9,AO9,AP9,AQ9,AR9,AS9),\"-\")))","v":0},null,"",null,null,null,null,null,null,null,null,null,null,null,null,null,null,null,{"$f":"IF(ใส่ชื่อ!D4=\"\",\"\",IF(COUNTIF(AZ9:BN9,0),\"มผ\",IF(DR9=\"ปกติ\",SUM(AZ9,BA9,BB9,BC9,BD9,BE9,BF9,BG9,BH9,BI9,BJ9,BK9,BL9,BM9,BN9),\"-\")))","v":0},null,"",19,null,null,null,null,null,null,null,null,null,null,null,null,null,null,{"$f":"IF(ใส่ชื่อ!D4=\"\",\"\",IF(DR9=\"ปกติ\",SUM(BR9,BS9,BT9,BU9,BV9,BW9,BX9,BY9,BZ9,CA9,CB9,CC9,CD9,CE9,CF9),\"-\"))","v":19},null,19,3,3,3,3,3,{"$f":"IF(ใส่ชื่อ!D4=\"\",\"\",IF(CJ9=\"\",\"\",(IF(CK9=\"\",\"\",(IF(CL9=\"\",\"\",(IF(CM9=\"\",\"\",(IF(CN9=\"\",\"\",(SUM(CJ9:CN9))))))))))))","v":15},3,"ดย",3,3,3,3,3,3,3,3,3,3,{"$f":"IF(CR9=\"\",\"\",(IF(CS9=\"\",\"\",(IF(CT9=\"\",\"\",(IF(CU9=\"\",\"\",(IF(CV9=\"\",\"\",(IF(CW9=\"\",\"\",(IF(CX9=\"\",\"\",(IF(CY9=\"\",\"\",IF(CZ9=\"\",\"\",(IF(DA9=\"\",\"\",(IF(COUNTIF(CR9:DA9,0)>0,\"มผ\",IF(AND(COUNTIF(CR9:DA9,3)>=6,COUNTIF(CR9:DA9,\"<2\")=0),\"ดย\",IF(OR(AND(AND(COUNTIF(CR9:DA9,3)>=1,COUNTIF(CR9:DA9,3)<=5),COUNTIF(CR9:DA9,\"<2\")=0),COUNTIF(CR9:DA9,2)=10,AND(COUNTIF(CR9:DA9,\">=2\")>=6,COUNTIF(CR9:DA9,1)>0)),\"ด\",IF(OR(COUNTIF(CR9:DA9,1)=10,AND(COUNTIF(CR9:DA9,\">=2\")>=1,COUNTIF(CR9:DA9,\">=2\")<=6)),\"ผ\",\"มผ\")))))))))))))))))))))))","v":"ดย"},57,"","",null,{"$f":"IF(ใส่ชื่อ!D4=\"\",\"\",IF(COUNTIF(DC9:DE9,\"มผ\"),\"มผ\",IF(DE9=\"มผ\",\"มผ\",IF(DR9=\"ปกติ\",SUM(DC9:DD9,IF(DF9=\"\",DE9,DF9)),\"-\"))))","v":57},null,19,null,null,{"$f":"IF(ใส่ชื่อ!D4=\"\",\"\",IF(DG9=\"\",\"\",IF(COUNTIF(DC9:DJ9,\"มผ\"),\"มผ\",IF(COUNTIF(DC9:DJ9,\"-\"),\"-\",IF(DR9=\"ปกติ\",SUM(DG9,IF(DJ9=\"\",DI9,DJ9)))))))","v":76},null,null,null,{"$f":"IF(ใส่ชื่อ!A4=\"\",\"\",IF(DL9=\"-\",\"-\",IF(DL9=0,\"\",IF(DR9=\"ปกติ\",MAXA(DL9/2,DN9/2)))))","v":38},null,{"$f":"IF(เวลาเรียน!M11=\"\",\"\",เวลาเรียน!M11)","v":"ปกติ"},null,"จาก","ถึง",null,null,{"$f":"COUNTIF($DN$7:$DN$56,DX8)","v":0},{"$f":"COUNTIF($DN$7:$DN$56,DY8)","v":0},0,0,0,0,0,0,0,0]
[4,2500,{"$f":"CONCATENATE(ใส่ชื่อ!C5)","v":"2844"},{"$f":"CONCATENATE(ใส่ชื่อ!D5&ใส่ชื่อ!E5&\"  \"&ใส่ชื่อ!F5)","v":"เด็กหญิงพรณิสา  เพ็ชรจั่น"},{"$f":"ใส่ชื่อ!A5","v":4},10,9,10,8,10,17,null,null,null,null,null,null,null,null,null,null,null,null,null,null,{"$f":"IF(ใส่ชื่อ!D5=\"\",\"\",IF(DR10=\"ปกติ\",SUM(F10,G10,H10,I10,J10,K10,L10,M10,N10,O10,P10,Q10,R10,S10,T10,U10,V10,W10,X10,Y10),\"-\"))","v":64},null,64,null,null,null,null,null,null,null,null,null,null,null,null,null,null,null,null,null,null,null,null,{"$f":"IF(ใส่ชื่อ!D5=\"\",\"\",IF(COUNTIF(AC10:AS10,0),\"มผ\",IF(DR10=\"ปกติ\",SUM(AC10,AD10,AE10,AF10,AG10,AH10,AI10,AJ10,AK10,AL10,AM10,AN10,AO10,AP10,AQ10,AR10,AS10),\"-\")))","v":0},null,"",null,null,null,null,null,null,null,null,null,null,null,null,null,null,null,{"$f":"IF(ใส่ชื่อ!D5=\"\",\"\",IF(COUNTIF(AZ10:BN10,0),\"มผ\",IF(DR10=\"ปกติ\",SUM(AZ10,BA10,BB10,BC10,BD10,BE10,BF10,BG10,BH10,BI10,BJ10,BK10,BL10,BM10,BN10),\"-\")))","v":0},null,"",20,null,null,null,null,null,null,null,null,null,null,null,null,null,null,{"$f":"IF(ใส่ชื่อ!D5=\"\",\"\",IF(DR10=\"ปกติ\",SUM(BR10,BS10,BT10,BU10,BV10,BW10,BX10,BY10,BZ10,CA10,CB10,CC10,CD10,CE10,CF10),\"-\"))","v":20},null,20,3,3,3,3,3,{"$f":"IF(ใส่ชื่อ!D5=\"\",\"\",IF(CJ10=\"\",\"\",(IF(CK10=\"\",\"\",(IF(CL10=\"\",\"\",(IF(CM10=\"\",\"\",(IF(CN10=\"\",\"\",(SUM(CJ10:CN10))))))))))))","v":15},3,"ดย",3,3,3,3,3,3,3,3,3,3,"ดย",64,"","",null,{"$f":"IF(ใส่ชื่อ!D5=\"\",\"\",IF(COUNTIF(DC10:DE10,\"มผ\"),\"มผ\",IF(DE10=\"มผ\",\"มผ\",IF(DR10=\"ปกติ\",SUM(DC10:DD10,IF(DF10=\"\",DE10,DF10)),\"-\"))))","v":64},null,20,null,null,{"$f":"IF(ใส่ชื่อ!D5=\"\",\"\",IF(DG10=\"\",\"\",IF(COUNTIF(DC10:DJ10,\"มผ\"),\"มผ\",IF(COUNTIF(DC10:DJ10,\"-\"),\"-\",IF(DR10=\"ปกติ\",SUM(DG10,IF(DJ10=\"\",DI10,DJ10)))))))","v":84},null,null,null,{"$f":"IF(ใส่ชื่อ!A5=\"\",\"\",IF(DL10=\"-\",\"-\",IF(DL10=0,\"\",IF(DR10=\"ปกติ\",MAXA(DL10/2,DN10/2)))))","v":42},null,{"$f":"IF(เวลาเรียน!M12=\"\",\"\",เวลาเรียน!M12)","v":"ปกติ"},null,0,49,0]
[5,2501,{"$f":"CONCATENATE(ใส่ชื่อ!C6)","v":"2845"},{"$f":"CONCATENATE(ใส่ชื่อ!D6&ใส่ชื่อ!E6&\"  \"&ใส่ชื่อ!F6)","v":"เด็กหญิงบุญฑริกา  นิ่มอ่อน"},{"$f":"ใส่ชื่อ!A6","v":5},5,6,7,8,6,13,null,null,null,null,null,null,null,null,null,null,null,null,null,null,{"$f":"IF(ใส่ชื่อ!D6=\"\",\"\",IF(DR11=\"ปกติ\",SUM(F11,G11,H11,I11,J11,K11,L11,M11,N11,O11,P11,Q11,R11,S11,T11,U11,V11,W11,X11,Y11),\"-\"))","v":45},null,45,null,null,null,null,null,null,null,null,null,null,null,null,null,null,null,null,null,null,null,null,{"$f":"IF(ใส่ชื่อ!D6=\"\",\"\",IF(COUNTIF(AC11:AS11,0),\"มผ\",IF(DR11=\"ปกติ\",SUM(AC11,AD11,AE11,AF11,AG11,AH11,AI11,AJ11,AK11,AL11,AM11,AN11,AO11,AP11,AQ11,AR11,AS11),\"-\")))","v":0},null,"",null,null,null,null,null,null,null,null,null,null,null,null,null,null,null,{"$f":"IF(ใส่ชื่อ!D6=\"\",\"\",IF(COUNTIF(AZ11:BN11,0),\"มผ\",IF(DR11=\"ปกติ\",SUM(AZ11,BA11,BB11,BC11,BD11,BE11,BF11,BG11,BH11,BI11,BJ11,BK11,BL11,BM11,BN11),\"-\")))","v":0},null,"",15,null,null,null,null,null,null,null,null,null,null,null,null,null,null,{"$f":"IF(ใส่ชื่อ!D6=\"\",\"\",IF(DR11=\"ปกติ\",SUM(BR11,BS11,BT11,BU11,BV11,BW11,BX11,BY11,BZ11,CA11,CB11,CC11,CD11,CE11,CF11),\"-\"))","v":15},null,15,3,2,2,2,3,{"$f":"IF(ใส่ชื่อ!D6=\"\",\"\",IF(CJ11=\"\",\"\",(IF(CK11=\"\",\"\",(IF(CL11=\"\",\"\",(IF(CM11=\"\",\"\",(IF(CN11=\"\",\"\",(SUM(CJ11:CN11))))))))))))","v":12},2,"ด",3,2,2,2,2,3,3,3,3,3,"ดย",45,"","",null,{"$f":"IF(ใส่ชื่อ!D6=\"\",\"\",IF(COUNTIF(DC11:DE11,\"มผ\"),\"มผ\",IF(DE11=\"มผ\",\"มผ\",IF(DR11=\"ปกติ\",SUM(DC11:DD11,IF(DF11=\"\",DE11,DF11)),\"-\"))))","v":45},null,15,null,null,{"$f":"IF(ใส่ชื่อ!D6=\"\",\"\",IF(DG11=\"\",\"\",IF(COUNTIF(DC11:DJ11,\"มผ\"),\"มผ\",IF(COUNTIF(DC11:DJ11,\"-\"),\"-\",IF(DR11=\"ปกติ\",SUM(DG11,IF(DJ11=\"\",DI11,DJ11)))))))","v":60},null,null,null,{"$f":"IF(ใส่ชื่อ!A6=\"\",\"\",IF(DL11=\"-\",\"-\",IF(DL11=0,\"\",IF(DR11=\"ปกติ\",MAXA(DL11/2,DN11/2)))))","v":30},null,{"$f":"IF(เวลาเรียน!M13=\"\",\"\",เวลาเรียน!M13)","v":"ปกติ"},null,50,54,1]
[6,2502,{"$f":"CONCATENATE(ใส่ชื่อ!C7)","v":"2846"},{"$f":"CONCATENATE(ใส่ชื่อ!D7&ใส่ชื่อ!E7&\"  \"&ใส่ชื่อ!F7)","v":"เด็กหญิงรัญชิดา  นรเนตร"},{"$f":"ใส่ชื่อ!A7","v":6},6,7,8,6,8,11,null,null,null,null,null,null,null,null,null,null,null,null,null,null,{"$f":"IF(ใส่ชื่อ!D7=\"\",\"\",IF(DR12=\"ปกติ\",SUM(F12,G12,H12,I12,J12,K12,L12,M12,N12,O12,P12,Q12,R12,S12,T12,U12,V12,W12,X12,Y12),\"-\"))","v":46},null,46,null,null,null,null,null,null,null,null,null,null,null,null,null,null,null,null,null,null,null,null,{"$f":"IF(ใส่ชื่อ!D7=\"\",\"\",IF(COUNTIF(AC12:AS12,0),\"มผ\",IF(DR12=\"ปกติ\",SUM(AC12,AD12,AE12,AF12,AG12,AH12,AI12,AJ12,AK12,AL12,AM12,AN12,AO12,AP12,AQ12,AR12,AS12),\"-\")))","v":0},null,"",null,null,null,null,null,null,null,null,null,null,null,null,null,null,null,{"$f":"IF(ใส่ชื่อ!D7=\"\",\"\",IF(COUNTIF(AZ12:BN12,0),\"มผ\",IF(DR12=\"ปกติ\",SUM(AZ12,BA12,BB12,BC12,BD12,BE12,BF12,BG12,BH12,BI12,BJ12,BK12,BL12,BM12,BN12),\"-\")))","v":0},null,"",15,null,null,null,null,null,null,null,null,null,null,null,null,null,null,{"$f":"IF(ใส่ชื่อ!D7=\"\",\"\",IF(DR12=\"ปกติ\",SUM(BR12,BS12,BT12,BU12,BV12,BW12,BX12,BY12,BZ12,CA12,CB12,CC12,CD12,CE12,CF12),\"-\"))","v":15},null,15,3,2,2,3,3,{"$f":"IF(ใส่ชื่อ!D7=\"\",\"\",IF(CJ12=\"\",\"\",(IF(CK12=\"\",\"\",(IF(CL12=\"\",\"\",(IF(CM12=\"\",\"\",(IF(CN12=\"\",\"\",(SUM(CJ12:CN12))))))))))))","v":13},3,"ดย",3,2,2,3,2,2,3,3,3,3,"ดย",46,"","",null,{"$f":"IF(ใส่ชื่อ!D7=\"\",\"\",IF(COUNTIF(DC12:DE12,\"มผ\"),\"มผ\",IF(DE12=\"มผ\",\"มผ\",IF(DR12=\"ปกติ\",SUM(DC12:DD12,IF(DF12=\"\",DE12,DF12)),\"-\"))))","v":46},null,15,null,null,{"$f":"IF(ใส่ชื่อ!D7=\"\",\"\",IF(DG12=\"\",\"\",IF(COUNTIF(DC12:DJ12,\"มผ\"),\"มผ\",IF(COUNTIF(DC12:DJ12,\"-\"),\"-\",IF(DR12=\"ปกติ\",SUM(DG12,IF(DJ12=\"\",DI12,DJ12)))))))","v":61},null,null,null,{"$f":"IF(ใส่ชื่อ!A7=\"\",\"\",IF(DL12=\"-\",\"-\",IF(DL12=0,\"\",IF(DR12=\"ปกติ\",MAXA(DL12/2,DN12/2)))))","v":30.5},null,{"$f":"IF(เวลาเรียน!M14=\"\",\"\",เวลาเรียน!M14)","v":"ปกติ"},null,55,59,1.5]
[7,2503,{"$f":"CONCATENATE(ใส่ชื่อ!C8)","v":"2847"},{"$f":"CONCATENATE(ใส่ชื่อ!D8&ใส่ชื่อ!E8&\"  \"&ใส่ชื่อ!F8)","v":"เด็กหญิงอริสา  วีระวิทยกุญชร"},{"$f":"ใส่ชื่อ!A8","v":7},8,8,8,7,8,14,null,null,null,null,null,null,null,null,null,null,null,null,null,null,{"$f":"IF(ใส่ชื่อ!D8=\"\",\"\",IF(DR13=\"ปกติ\",SUM(F13,G13,H13,I13,J13,K13,L13,M13,N13,O13,P13,Q13,R13,S13,T13,U13,V13,W13,X13,Y13),\"-\"))","v":53},null,53,null,null,null,null,null,null,null,null,null,null,null,null,null,null,null,null,null,null,null,null,{"$f":"IF(ใส่ชื่อ!D8=\"\",\"\",IF(COUNTIF(AC13:AS13,0),\"มผ\",IF(DR13=\"ปกติ\",SUM(AC13,AD13,AE13,AF13,AG13,AH13,AI13,AJ13,AK13,AL13,AM13,AN13,AO13,AP13,AQ13,AR13,AS13),\"-\")))","v":0},null,"",null,null,null,null,null,null,null,null,null,null,null,null,null,null,null,{"$f":"IF(ใส่ชื่อ!D8=\"\",\"\",IF(COUNTIF(AZ13:BN13,0),\"มผ\",IF(DR13=\"ปกติ\",SUM(AZ13,BA13,BB13,BC13,BD13,BE13,BF13,BG13,BH13,BI13,BJ13,BK13,BL13,BM13,BN13),\"-\")))","v":0},null,"",18,null,null,null,null,null,null,null,null,null,null,null,null,null,null,{"$f":"IF(ใส่ชื่อ!D8=\"\",\"\",IF(DR13=\"ปกติ\",SUM(BR13,BS13,BT13,BU13,BV13,BW13,BX13,BY13,BZ13,CA13,CB13,CC13,CD13,CE13,CF13),\"-\"))","v":18},null,18,3,3,3,3,3,{"$f":"IF(ใส่ชื่อ!D8=\"\",\"\",IF(CJ13=\"\",\"\",(IF(CK13=\"\",\"\",(IF(CL13=\"\",\"\",(IF(CM13=\"\",\"\",(IF(CN13=\"\",\"\",(SUM(CJ13:CN13))))))))))))","v":15},3,"ดย",3,3,2,2,3,3,3,3,3,3,"ดย",53,"","",null,{"$f":"IF(ใส่ชื่อ!D8=\"\",\"\",IF(COUNTIF(DC13:DE13,\"มผ\"),\"มผ\",IF(DE13=\"มผ\",\"มผ\",IF(DR13=\"ปกติ\",SUM(DC13:DD13,IF(DF13=\"\",DE13,DF13)),\"-\"))))","v":53},null,18,null,null,{"$f":"IF(ใส่ชื่อ!D8=\"\",\"\",IF(DG13=\"\",\"\",IF(COUNTIF(DC13:DJ13,\"มผ\"),\"มผ\",IF(COUNTIF(DC13:DJ13,\"-\"),\"-\",IF(DR13=\"ปกติ\",SUM(DG13,IF(DJ13=\"\",DI13,DJ13)))))))","v":71},null,null,null,{"$f":"IF(ใส่ชื่อ!A8=\"\",\"\",IF(DL13=\"-\",\"-\",IF(DL13=0,\"\",IF(DR13=\"ปกติ\",MAXA(DL13/2,DN13/2)))))","v":35.5},null,{"$f":"IF(เวลาเรียน!M15=\"\",\"\",เวลาเรียน!M15)","v":"ปกติ"},null,60,64,2]
[8,2504,{"$f":"CONCATENATE(ใส่ชื่อ!C9)","v":"2855"},{"$f":"CONCATENATE(ใส่ชื่อ!D9&ใส่ชื่อ!E9&\"  \"&ใส่ชื่อ!F9)","v":"เด็กหญิงณัฐวรา  ธนกิจชัยชนะ"},{"$f":"ใส่ชื่อ!A9","v":8},7,8,8,8,6,11,null,null,null,null,null,null,null,null,null,null,null,null,null,null,{"$f":"IF(ใส่ชื่อ!D9=\"\",\"\",IF(DR14=\"ปกติ\",SUM(F14,G14,H14,I14,J14,K14,L14,M14,N14,O14,P14,Q14,R14,S14,T14,U14,V14,W14,X14,Y14),\"-\"))","v":48},null,48,null,null,null,null,null,null,null,null,null,null,null,null,null,null,null,null,null,null,null,null,{"$f":"IF(ใส่ชื่อ!D9=\"\",\"\",IF(COUNTIF(AC14:AS14,0),\"มผ\",IF(DR14=\"ปกติ\",SUM(AC14,AD14,AE14,AF14,AG14,AH14,AI14,AJ14,AK14,AL14,AM14,AN14,AO14,AP14,AQ14,AR14,AS14),\"-\")))","v":0},null,"",null,null,null,null,null,null,null,null,null,null,null,null,null,null,null,{"$f":"IF(ใส่ชื่อ!D9=\"\",\"\",IF(COUNTIF(AZ14:BN14,0),\"มผ\",IF(DR14=\"ปกติ\",SUM(AZ14,BA14,BB14,BC14,BD14,BE14,BF14,BG14,BH14,BI14,BJ14,BK14,BL14,BM14,BN14),\"-\")))","v":0},null,"",17,null,null,null,null,null,null,null,null,null,null,null,null,null,null,{"$f":"IF(ใส่ชื่อ!D9=\"\",\"\",IF(DR14=\"ปกติ\",SUM(BR14,BS14,BT14,BU14,BV14,BW14,BX14,BY14,BZ14,CA14,CB14,CC14,CD14,CE14,CF14),\"-\"))","v":17},null,17,3,2,2,2,3,{"$f":"IF(ใส่ชื่อ!D9=\"\",\"\",IF(CJ14=\"\",\"\",(IF(CK14=\"\",\"\",(IF(CL14=\"\",\"\",(IF(CM14=\"\",\"\",(IF(CN14=\"\",\"\",(SUM(CJ14:CN14))))))))))))","v":12},2,"ด",3,3,2,2,2,2,3,3,3,3,"ดย",48,"","",null,{"$f":"IF(ใส่ชื่อ!D9=\"\",\"\",IF(COUNTIF(DC14:DE14,\"มผ\"),\"มผ\",IF(DE14=\"มผ\",\"มผ\",IF(DR14=\"ปกติ\",SUM(DC14:DD14,IF(DF14=\"\",DE14,DF14)),\"-\"))))","v":48},null,17,null,null,{"$f":"IF(ใส่ชื่อ!D9=\"\",\"\",IF(DG14=\"\",\"\",IF(COUNTIF(DC14:DJ14,\"มผ\"),\"มผ\",IF(COUNTIF(DC14:DJ14,\"-\"),\"-\",IF(DR14=\"ปกติ\",SUM(DG14,IF(DJ14=\"\",DI14,DJ14)))))))","v":65},null,null,null,{"$f":"IF(ใส่ชื่อ!A9=\"\",\"\",IF(DL14=\"-\",\"-\",IF(DL14=0,\"\",IF(DR14=\"ปกติ\",MAXA(DL14/2,DN14/2)))))","v":32.5},null,{"$f":"IF(เวลาเรียน!M16=\"\",\"\",เวลาเรียน!M16)","v":"ปกติ"},null,65,69,2.5]
[9,2505,{"$f":"CONCATENATE(ใส่ชื่อ!C10)","v":"2856"},{"$f":"CONCATENATE(ใส่ชื่อ!D10&ใส่ชื่อ!E10&\"  \"&ใส่ชื่อ!F10)","v":"เด็กชายอักคเชน  ดอกกระถิน"},{"$f":"ใส่ชื่อ!A10","v":9},7,8,8,7,8,13,null,null,null,null,null,null,null,null,null,null,null,null,null,null,{"$f":"IF(ใส่ชื่อ!D10=\"\",\"\",IF(DR15=\"ปกติ\",SUM(F15,G15,H15,I15,J15,K15,L15,M15,N15,O15,P15,Q15,R15,S15,T15,U15,V15,W15,X15,Y15),\"-\"))","v":51},null,51,null,null,null,null,null,null,null,null,null,null,null,null,null,null,null,null,null,null,null,null,{"$f":"IF(ใส่ชื่อ!D10=\"\",\"\",IF(COUNTIF(AC15:AS15,0),\"มผ\",IF(DR15=\"ปกติ\",SUM(AC15,AD15,AE15,AF15,AG15,AH15,AI15,AJ15,AK15,AL15,AM15,AN15,AO15,AP15,AQ15,AR15,AS15),\"-\")))","v":0},null,"",null,null,null,null,null,null,null,null,null,null,null,null,null,null,null,{"$f":"IF(ใส่ชื่อ!D10=\"\",\"\",IF(COUNTIF(AZ15:BN15,0),\"มผ\",IF(DR15=\"ปกติ\",SUM(AZ15,BA15,BB15,BC15,BD15,BE15,BF15,BG15,BH15,BI15,BJ15,BK15,BL15,BM15,BN15),\"-\")))","v":0},null,"",16,null,null,null,null,null,null,null,null,null,null,null,null,null,null,{"$f":"IF(ใส่ชื่อ!D10=\"\",\"\",IF(DR15=\"ปกติ\",SUM(BR15,BS15,BT15,BU15,BV15,BW15,BX15,BY15,BZ15,CA15,CB15,CC15,CD15,CE15,CF15),\"-\"))","v":16},null,16,3,2,2,2,3,{"$f":"IF(ใส่ชื่อ!D10=\"\",\"\",IF(CJ15=\"\",\"\",(IF(CK15=\"\",\"\",(IF(CL15=\"\",\"\",(IF(CM15=\"\",\"\",(IF(CN15=\"\",\"\",(SUM(CJ15:CN15))))))))))))","v":12},2,"ด",3,3,2,2,2,2,3,3,3,3,"ดย",51,"","",null,{"$f":"IF(ใส่ชื่อ!D10=\"\",\"\",IF(COUNTIF(DC15:DE15,\"มผ\"),\"มผ\",IF(DE15=\"มผ\",\"มผ\",IF(DR15=\"ปกติ\",SUM(DC15:DD15,IF(DF15=\"\",DE15,DF15)),\"-\"))))","v":51},null,16,null,null,{"$f":"IF(ใส่ชื่อ!D10=\"\",\"\",IF(DG15=\"\",\"\",IF(COUNTIF(DC15:DJ15,\"มผ\"),\"มผ\",IF(COUNTIF(DC15:DJ15,\"-\"),\"-\",IF(DR15=\"ปกติ\",SUM(DG15,IF(DJ15=\"\",DI15,DJ15)))))))","v":67},null,null,null,{"$f":"IF(ใส่ชื่อ!A10=\"\",\"\",IF(DL15=\"-\",\"-\",IF(DL15=0,\"\",IF(DR15=\"ปกติ\",MAXA(DL15/2,DN15/2)))))","v":33.5},null,{"$f":"IF(เวลาเรียน!M17=\"\",\"\",เวลาเรียน!M17)","v":"ปกติ"},null,70,74,3]
[10,2506,{"$f":"CONCATENATE(ใส่ชื่อ!C11)","v":"2863"},{"$f":"CONCATENATE(ใส่ชื่อ!D11&ใส่ชื่อ!E11&\"  \"&ใส่ชื่อ!F11)","v":"เด็กหญิงณัฐณิชา  วงศ์บุศรัตน์"},{"$f":"ใส่ชื่อ!A11","v":10},9,9,10,8,9,14,null,null,null,null,null,null,null,null,null,null,null,null,null,null,{"$f":"IF(ใส่ชื่อ!D11=\"\",\"\",IF(DR16=\"ปกติ\",SUM(F16,G16,H16,I16,J16,K16,L16,M16,N16,O16,P16,Q16,R16,S16,T16,U16,V16,W16,X16,Y16),\"-\"))","v":59},null,59,null,null,null,null,null,null,null,null,null,null,null,null,null,null,null,null,null,null,null,null,{"$f":"IF(ใส่ชื่อ!D11=\"\",\"\",IF(COUNTIF(AC16:AS16,0),\"มผ\",IF(DR16=\"ปกติ\",SUM(AC16,AD16,AE16,AF16,AG16,AH16,AI16,AJ16,AK16,AL16,AM16,AN16,AO16,AP16,AQ16,AR16,AS16),\"-\")))","v":0},null,"",null,null,null,null,null,null,null,null,null,null,null,null,null,null,null,{"$f":"IF(ใส่ชื่อ!D11=\"\",\"\",IF(COUNTIF(AZ16:BN16,0),\"มผ\",IF(DR16=\"ปกติ\",SUM(AZ16,BA16,BB16,BC16,BD16,BE16,BF16,BG16,BH16,BI16,BJ16,BK16,BL16,BM16,BN16),\"-\")))","v":0},null,"",22,null,null,null,null,null,null,null,null,null,null,null,null,null,null,{"$f":"IF(ใส่ชื่อ!D11=\"\",\"\",IF(DR16=\"ปกติ\",SUM(BR16,BS16,BT16,BU16,BV16,BW16,BX16,BY16,BZ16,CA16,CB16,CC16,CD16,CE16,CF16),\"-\"))","v":22},null,22,3,3,3,3,3,{"$f":"IF(ใส่ชื่อ!D11=\"\",\"\",IF(CJ16=\"\",\"\",(IF(CK16=\"\",\"\",(IF(CL16=\"\",\"\",(IF(CM16=\"\",\"\",(IF(CN16=\"\",\"\",(SUM(CJ16:CN16))))))))))))","v":15},3,"ดย",3,3,3,3,3,3,3,3,3,3,"ดย",59,"","",null,{"$f":"IF(ใส่ชื่อ!D11=\"\",\"\",IF(COUNTIF(DC16:DE16,\"มผ\"),\"มผ\",IF(DE16=\"มผ\",\"มผ\",IF(DR16=\"ปกติ\",SUM(DC16:DD16,IF(DF16=\"\",DE16,DF16)),\"-\"))))","v":59},null,22,null,null,{"$f":"IF(ใส่ชื่อ!D11=\"\",\"\",IF(DG16=\"\",\"\",IF(COUNTIF(DC16:DJ16,\"มผ\"),\"มผ\",IF(COUNTIF(DC16:DJ16,\"-\"),\"-\",IF(DR16=\"ปกติ\",SUM(DG16,IF(DJ16=\"\",DI16,DJ16)))))))","v":81},null,null,null,{"$f":"IF(ใส่ชื่อ!A11=\"\",\"\",IF(DL16=\"-\",\"-\",IF(DL16=0,\"\",IF(DR16=\"ปกติ\",MAXA(DL16/2,DN16/2)))))","v":40.5},null,{"$f":"IF(เวลาเรียน!M18=\"\",\"\",เวลาเรียน!M18)","v":"ปกติ"},null,75,79,3.5]
[11,2507,{"$f":"CONCATENATE(ใส่ชื่อ!C12)","v":"2918"},{"$f":"CONCATENATE(ใส่ชื่อ!D12&ใส่ชื่อ!E12&\"  \"&ใส่ชื่อ!F12)","v":"เด็กชายณัฐวุฒิ  เปรมผล"},{"$f":"ใส่ชื่อ!A12","v":11},7,7,7,8,6,12,null,null,null,null,null,null,null,null,null,null,null,null,null,null,{"$f":"IF(ใส่ชื่อ!D12=\"\",\"\",IF(DR17=\"ปกติ\",SUM(F17,G17,H17,I17,J17,K17,L17,M17,N17,O17,P17,Q17,R17,S17,T17,U17,V17,W17,X17,Y17),\"-\"))","v":47},null,47,null,null,null,null,null,null,null,null,null,null,null,null,null,null,null,null,null,null,null,null,{"$f":"IF(ใส่ชื่อ!D12=\"\",\"\",IF(COUNTIF(AC17:AS17,0),\"มผ\",IF(DR17=\"ปกติ\",SUM(AC17,AD17,AE17,AF17,AG17,AH17,AI17,AJ17,AK17,AL17,AM17,AN17,AO17,AP17,AQ17,AR17,AS17),\"-\")))","v":0},null,"",null,null,null,null,null,null,null,null,null,null,null,null,null,null,null,{"$f":"IF(ใส่ชื่อ!D12=\"\",\"\",IF(COUNTIF(AZ17:BN17,0),\"มผ\",IF(DR17=\"ปกติ\",SUM(AZ17,BA17,BB17,BC17,BD17,BE17,BF17,BG17,BH17,BI17,BJ17,BK17,BL17,BM17,BN17),\"-\")))","v":0},null,"",18,null,null,null,null,null,null,null,null,null,null,null,null,null,null,{"$f":"IF(ใส่ชื่อ!D12=\"\",\"\",IF(DR17=\"ปกติ\",SUM(BR17,BS17,BT17,BU17,BV17,BW17,BX17,BY17,BZ17,CA17,CB17,CC17,CD17,CE17,CF17),\"-\"))","v":18},null,18,3,2,2,2,3,{"$f":"IF(ใส่ชื่อ!D12=\"\",\"\",IF(CJ17=\"\",\"\",(IF(CK17=\"\",\"\",(IF(CL17=\"\",\"\",(IF(CM17=\"\",\"\",(IF(CN17=\"\",\"\",(SUM(CJ17:CN17))))))))))))","v":12},2,"ด",3,3,2,2,2,2,3,3,3,3,"ดย",47,"","",null,{"$f":"IF(ใส่ชื่อ!D12=\"\",\"\",IF(COUNTIF(DC17:DE17,\"มผ\"),\"มผ\",IF(DE17=\"มผ\",\"มผ\",IF(DR17=\"ปกติ\",SUM(DC17:DD17,IF(DF17=\"\",DE17,DF17)),\"-\"))))","v":47},null,18,null,null,{"$f":"IF(ใส่ชื่อ!D12=\"\",\"\",IF(DG17=\"\",\"\",IF(COUNTIF(DC17:DJ17,\"มผ\"),\"มผ\",IF(COUNTIF(DC17:DJ17,\"-\"),\"-\",IF(DR17=\"ปกติ\",SUM(DG17,IF(DJ17=\"\",DI17,DJ17)))))))","v":65},null,null,null,{"$f":"IF(ใส่ชื่อ!A12=\"\",\"\",IF(DL17=\"-\",\"-\",IF(DL17=0,\"\",IF(DR17=\"ปกติ\",MAXA(DL17/2,DN17/2)))))","v":32.5},null,{"$f":"IF(เวลาเรียน!M19=\"\",\"\",เวลาเรียน!M19)","v":"ปกติ"},null,80,100,4]
[12,2508,{"$f":"CONCATENATE(ใส่ชื่อ!C13)","v":"2919"},{"$f":"CONCATENATE(ใส่ชื่อ!D13&ใส่ชื่อ!E13&\"  \"&ใส่ชื่อ!F13)","v":"เด็กชายธนาธิป  สังข์โพธิ์"},{"$f":"ใส่ชื่อ!A13","v":12},5,7,8,8,5,12,null,null,null,null,null,null,null,null,null,null,null,null,null,null,{"$f":"IF(ใส่ชื่อ!D13=\"\",\"\",IF(DR18=\"ปกติ\",SUM(F18,G18,H18,I18,J18,K18,L18,M18,N18,O18,P18,Q18,R18,S18,T18,U18,V18,W18,X18,Y18),\"-\"))","v":45},null,45,null,null,null,null,null,null,null,null,null,null,null,null,null,null,null,null,null,null,null,null,{"$f":"IF(ใส่ชื่อ!D13=\"\",\"\",IF(COUNTIF(AC18:AS18,0),\"มผ\",IF(DR18=\"ปกติ\",SUM(AC18,AD18,AE18,AF18,AG18,AH18,AI18,AJ18,AK18,AL18,AM18,AN18,AO18,AP18,AQ18,AR18,AS18),\"-\")))","v":0},null,"",null,null,null,null,null,null,null,null,null,null,null,null,null,null,null,{"$f":"IF(ใส่ชื่อ!D13=\"\",\"\",IF(COUNTIF(AZ18:BN18,0),\"มผ\",IF(DR18=\"ปกติ\",SUM(AZ18,BA18,BB18,BC18,BD18,BE18,BF18,BG18,BH18,BI18,BJ18,BK18,BL18,BM18,BN18),\"-\")))","v":0},null,"",15,null,null,null,null,null,null,null,null,null,null,null,null,null,null,{"$f":"IF(ใส่ชื่อ!D13=\"\",\"\",IF(DR18=\"ปกติ\",SUM(BR18,BS18,BT18,BU18,BV18,BW18,BX18,BY18,BZ18,CA18,CB18,CC18,CD18,CE18,CF18),\"-\"))","v":15},null,15,3,2,2,2,3,{"$f":"IF(ใส่ชื่อ!D13=\"\",\"\",IF(CJ18=\"\",\"\",(IF(CK18=\"\",\"\",(IF(CL18=\"\",\"\",(IF(CM18=\"\",\"\",(IF(CN18=\"\",\"\",(SUM(CJ18:CN18))))))))))))","v":12},2,"ด",3,3,2,2,2,2,3,3,3,3,"ดย",45,"","",null,{"$f":"IF(ใส่ชื่อ!D13=\"\",\"\",IF(COUNTIF(DC18:DE18,\"มผ\"),\"มผ\",IF(DE18=\"มผ\",\"มผ\",IF(DR18=\"ปกติ\",SUM(DC18:DD18,IF(DF18=\"\",DE18,DF18)),\"-\"))))","v":45},null,15,null,null,{"$f":"IF(ใส่ชื่อ!D13=\"\",\"\",IF(DG18=\"\",\"\",IF(COUNTIF(DC18:DJ18,\"มผ\"),\"มผ\",IF(COUNTIF(DC18:DJ18,\"-\"),\"-\",IF(DR18=\"ปกติ\",SUM(DG18,IF(DJ18=\"\",DI18,DJ18)))))))","v":60},null,null,null,{"$f":"IF(ใส่ชื่อ!A13=\"\",\"\",IF(DL18=\"-\",\"-\",IF(DL18=0,\"\",IF(DR18=\"ปกติ\",MAXA(DL18/2,DN18/2)))))","v":30},null,{"$f":"IF(เวลาเรียน!M20=\"\",\"\",เวลาเรียน!M20)","v":"ปกติ"}]
[13,2509,{"$f":"CONCATENATE(ใส่ชื่อ!C14)","v":"2946"},{"$f":"CONCATENATE(ใส่ชื่อ!D14&ใส่ชื่อ!E14&\"  \"&ใส่ชื่อ!F14)","v":"เด็กหญิงน้ำหวาน  พม่า"},{"$f":"ใส่ชื่อ!A14","v":13},6,8,8,7,6,12,null,null,null,null,null,null,null,null,null,null,null,null,null,null,{"$f":"IF(ใส่ชื่อ!D14=\"\",\"\",IF(DR19=\"ปกติ\",SUM(F19,G19,H19,I19,J19,K19,L19,M19,N19,O19,P19,Q19,R19,S19,T19,U19,V19,W19,X19,Y19),\"-\"))","v":47},null,47,null,null,null,null,null,null,null,null,null,null,null,null,null,null,null,null,null,null,null,null,{"$f":"IF(ใส่ชื่อ!D14=\"\",\"\",IF(COUNTIF(AC19:AS19,0),\"มผ\",IF(DR19=\"ปกติ\",SUM(AC19,AD19,AE19,AF19,AG19,AH19,AI19,AJ19,AK19,AL19,AM19,AN19,AO19,AP19,AQ19,AR19,AS19),\"-\")))","v":0},null,"",null,null,null,null,null,null,null,null,null,null,null,null,null,null,null,{"$f":"IF(ใส่ชื่อ!D14=\"\",\"\",IF(COUNTIF(AZ19:BN19,0),\"มผ\",IF(DR19=\"ปกติ\",SUM(AZ19,BA19,BB19,BC19,BD19,BE19,BF19,BG19,BH19,BI19,BJ19,BK19,BL19,BM19,BN19),\"-\")))","v":0},null,"",16,null,null,null,null,null,null,null,null,null,null,null,null,null,null,{"$f":"IF(ใส่ชื่อ!D14=\"\",\"\",IF(DR19=\"ปกติ\",SUM(BR19,BS19,BT19,BU19,BV19,BW19,BX19,BY19,BZ19,CA19,CB19,CC19,CD19,CE19,CF19),\"-\"))","v":16},null,16,3,2,2,2,3,{"$f":"IF(ใส่ชื่อ!D14=\"\",\"\",IF(CJ19=\"\",\"\",(IF(CK19=\"\",\"\",(IF(CL19=\"\",\"\",(IF(CM19=\"\",\"\",(IF(CN19=\"\",\"\",(SUM(CJ19:CN19))))))))))))","v":12},2,"ด",3,2,2,2,2,3,3,3,3,3,"ดย",47,"","",null,{"$f":"IF(ใส่ชื่อ!D14=\"\",\"\",IF(COUNTIF(DC19:DE19,\"มผ\"),\"มผ\",IF(DE19=\"มผ\",\"มผ\",IF(DR19=\"ปกติ\",SUM(DC19:DD19,IF(DF19=\"\",DE19,DF19)),\"-\"))))","v":47},null,16,null,null,{"$f":"IF(ใส่ชื่อ!D14=\"\",\"\",IF(DG19=\"\",\"\",IF(COUNTIF(DC19:DJ19,\"มผ\"),\"มผ\",IF(COUNTIF(DC19:DJ19,\"-\"),\"-\",IF(DR19=\"ปกติ\",SUM(DG19,IF(DJ19=\"\",DI19,DJ19)))))))","v":63},null,null,null,{"$f":"IF(ใส่ชื่อ!A14=\"\",\"\",IF(DL19=\"-\",\"-\",IF(DL19=0,\"\",IF(DR19=\"ปกติ\",MAXA(DL19/2,DN19/2)))))","v":31.5},null,{"$f":"IF(เวลาเรียน!M21=\"\",\"\",เวลาเรียน!M21)","v":"ปกติ"},null,0,50,0]
[14,2510,{"$f":"CONCATENATE(ใส่ชื่อ!C15)","v":"3010"},{"$f":"CONCATENATE(ใส่ชื่อ!D15&ใส่ชื่อ!E15&\"  \"&ใส่ชื่อ!F15)","v":"เด็กหญิงชลิตา  ยมนา"},{"$f":"ใส่ชื่อ!A15","v":14},7,6,6,6,7,14,null,null,null,null,null,null,null,null,null,null,null,null,null,null,{"$f":"IF(ใส่ชื่อ!D15=\"\",\"\",IF(DR20=\"ปกติ\",SUM(F20,G20,H20,I20,J20,K20,L20,M20,N20,O20,P20,Q20,R20,S20,T20,U20,V20,W20,X20,Y20),\"-\"))","v":46},null,46,null,null,null,null,null,null,null,null,null,null,null,null,null,null,null,null,null,null,null,null,{"$f":"IF(ใส่ชื่อ!D15=\"\",\"\",IF(COUNTIF(AC20:AS20,0),\"มผ\",IF(DR20=\"ปกติ\",SUM(AC20,AD20,AE20,AF20,AG20,AH20,AI20,AJ20,AK20,AL20,AM20,AN20,AO20,AP20,AQ20,AR20,AS20),\"-\")))","v":0},null,"",null,null,null,null,null,null,null,null,null,null,null,null,null,null,null,{"$f":"IF(ใส่ชื่อ!D15=\"\",\"\",IF(COUNTIF(AZ20:BN20,0),\"มผ\",IF(DR20=\"ปกติ\",SUM(AZ20,BA20,BB20,BC20,BD20,BE20,BF20,BG20,BH20,BI20,BJ20,BK20,BL20,BM20,BN20),\"-\")))","v":0},null,"",16,null,null,null,null,null,null,null,null,null,null,null,null,null,null,{"$f":"IF(ใส่ชื่อ!D15=\"\",\"\",IF(DR20=\"ปกติ\",SUM(BR20,BS20,BT20,BU20,BV20,BW20,BX20,BY20,BZ20,CA20,CB20,CC20,CD20,CE20,CF20),\"-\"))","v":16},null,16,3,2,2,2,3,{"$f":"IF(ใส่ชื่อ!D15=\"\",\"\",IF(CJ20=\"\",\"\",(IF(CK20=\"\",\"\",(IF(CL20=\"\",\"\",(IF(CM20=\"\",\"\",(IF(CN20=\"\",\"\",(SUM(CJ20:CN20))))))))))))","v":12},2,"ด",3,3,2,2,2,2,3,3,3,3,"ดย",46,"","",null,{"$f":"IF(ใส่ชื่อ!D15=\"\",\"\",IF(COUNTIF(DC20:DE20,\"มผ\"),\"มผ\",IF(DE20=\"มผ\",\"มผ\",IF(DR20=\"ปกติ\",SUM(DC20:DD20,IF(DF20=\"\",DE20,DF20)),\"-\"))))","v":46},null,16,null,null,{"$f":"IF(ใส่ชื่อ!D15=\"\",\"\",IF(DG20=\"\",\"\",IF(COUNTIF(DC20:DJ20,\"มผ\"),\"มผ\",IF(COUNTIF(DC20:DJ20,\"-\"),\"-\",IF(DR20=\"ปกติ\",SUM(DG20,IF(DJ20=\"\",DI20,DJ20)))))))","v":62},null,null,null,{"$f":"IF(ใส่ชื่อ!A15=\"\",\"\",IF(DL20=\"-\",\"-\",IF(DL20=0,\"\",IF(DR20=\"ปกติ\",MAXA(DL20/2,DN20/2)))))","v":31},null,{"$f":"IF(เวลาเรียน!M22=\"\",\"\",เวลาเรียน!M22)","v":"ปกติ"},null,50,55,1]
[15,2511,{"$f":"CONCATENATE(ใส่ชื่อ!C16)","v":"3043"},{"$f":"CONCATENATE(ใส่ชื่อ!D16&ใส่ชื่อ!E16&\"  \"&ใส่ชื่อ!F16)","v":"เด็กหญิงฉัตรพรรณราย  แสงรัตนายนต์"},{"$f":"ใส่ชื่อ!A16","v":15},10,10,9,8,9,17,null,null,null,null,null,null,null,null,null,null,null,null,null,null,{"$f":"IF(ใส่ชื่อ!D16=\"\",\"\",IF(DR21=\"ปกติ\",SUM(F21,G21,H21,I21,J21,K21,L21,M21,N21,O21,P21,Q21,R21,S21,T21,U21,V21,W21,X21,Y21),\"-\"))","v":63},null,63,null,null,null,null,null,null,null,null,null,null,null,null,null,null,null,null,null,null,null,null,{"$f":"IF(ใส่ชื่อ!D16=\"\",\"\",IF(COUNTIF(AC21:AS21,0),\"มผ\",IF(DR21=\"ปกติ\",SUM(AC21,AD21,AE21,AF21,AG21,AH21,AI21,AJ21,AK21,AL21,AM21,AN21,AO21,AP21,AQ21,AR21,AS21),\"-\")))","v":0},null,"",null,null,null,null,null,null,null,null,null,null,null,null,null,null,null,{"$f":"IF(ใส่ชื่อ!D16=\"\",\"\",IF(COUNTIF(AZ21:BN21,0),\"มผ\",IF(DR21=\"ปกติ\",SUM(AZ21,BA21,BB21,BC21,BD21,BE21,BF21,BG21,BH21,BI21,BJ21,BK21,BL21,BM21,BN21),\"-\")))","v":0},null,"",20,null,null,null,null,null,null,null,null,null,null,null,null,null,null,{"$f":"IF(ใส่ชื่อ!D16=\"\",\"\",IF(DR21=\"ปกติ\",SUM(BR21,BS21,BT21,BU21,BV21,BW21,BX21,BY21,BZ21,CA21,CB21,CC21,CD21,CE21,CF21),\"-\"))","v":20},null,20,3,3,3,3,3,{"$f":"IF(ใส่ชื่อ!D16=\"\",\"\",IF(CJ21=\"\",\"\",(IF(CK21=\"\",\"\",(IF(CL21=\"\",\"\",(IF(CM21=\"\",\"\",(IF(CN21=\"\",\"\",(SUM(CJ21:CN21))))))))))))","v":15},3,"ดย",3,3,3,3,3,3,3,3,3,3,"ดย",63,"","",null,{"$f":"IF(ใส่ชื่อ!D16=\"\",\"\",IF(COUNTIF(DC21:DE21,\"มผ\"),\"มผ\",IF(DE21=\"มผ\",\"มผ\",IF(DR21=\"ปกติ\",SUM(DC21:DD21,IF(DF21=\"\",DE21,DF21)),\"-\"))))","v":63},null,20,null,null,{"$f":"IF(ใส่ชื่อ!D16=\"\",\"\",IF(DG21=\"\",\"\",IF(COUNTIF(DC21:DJ21,\"มผ\"),\"มผ\",IF(COUNTIF(DC21:DJ21,\"-\"),\"-\",IF(DR21=\"ปกติ\",SUM(DG21,IF(DJ21=\"\",DI21,DJ21)))))))","v":83},null,null,null,{"$f":"IF(ใส่ชื่อ!A16=\"\",\"\",IF(DL21=\"-\",\"-\",IF(DL21=0,\"\",IF(DR21=\"ปกติ\",MAXA(DL21/2,DN21/2)))))","v":41.5},null,{"$f":"IF(เวลาเรียน!M23=\"\",\"\",เวลาเรียน!M23)","v":"ปกติ"},null,55,60,1.5]
[16,2512,{"$f":"CONCATENATE(ใส่ชื่อ!C17)","v":"3084"},{"$f":"CONCATENATE(ใส่ชื่อ!D17&ใส่ชื่อ!E17&\"  \"&ใส่ชื่อ!F17)","v":"เด็กชายธนวุฒิ   -"},{"$f":"ใส่ชื่อ!A17","v":16},10,10,10,9,10,16,null,null,null,null,null,null,null,null,null,null,null,null,null,null,{"$f":"IF(ใส่ชื่อ!D17=\"\",\"\",IF(DR22=\"ปกติ\",SUM(F22,G22,H22,I22,J22,K22,L22,M22,N22,O22,P22,Q22,R22,S22,T22,U22,V22,W22,X22,Y22),\"-\"))","v":65},null,65,null,null,null,null,null,null,null,null,null,null,null,null,null,null,null,null,null,null,null,null,{"$f":"IF(ใส่ชื่อ!D17=\"\",\"\",IF(COUNTIF(AC22:AS22,0),\"มผ\",IF(DR22=\"ปกติ\",SUM(AC22,AD22,AE22,AF22,AG22,AH22,AI22,AJ22,AK22,AL22,AM22,AN22,AO22,AP22,AQ22,AR22,AS22),\"-\")))","v":0},null,"",null,null,null,null,null,null,null,null,null,null,null,null,null,null,null,{"$f":"IF(ใส่ชื่อ!D17=\"\",\"\",IF(COUNTIF(AZ22:BN22,0),\"มผ\",IF(DR22=\"ปกติ\",SUM(AZ22,BA22,BB22,BC22,BD22,BE22,BF22,BG22,BH22,BI22,BJ22,BK22,BL22,BM22,BN22),\"-\")))","v":0},null,"",25,null,null,null,null,null,null,null,null,null,null,null,null,null,null,{"$f":"IF(ใส่ชื่อ!D17=\"\",\"\",IF(DR22=\"ปกติ\",SUM(BR22,BS22,BT22,BU22,BV22,BW22,BX22,BY22,BZ22,CA22,CB22,CC22,CD22,CE22,CF22),\"-\"))","v":25},null,25,3,3,3,3,3,{"$f":"IF(ใส่ชื่อ!D17=\"\",\"\",IF(CJ22=\"\",\"\",(IF(CK22=\"\",\"\",(IF(CL22=\"\",\"\",(IF(CM22=\"\",\"\",(IF(CN22=\"\",\"\",(SUM(CJ22:CN22))))))))))))","v":15},3,"ดย",3,3,3,3,3,3,3,3,3,3,"ดย",65,"","",null,{"$f":"IF(ใส่ชื่อ!D17=\"\",\"\",IF(COUNTIF(DC22:DE22,\"มผ\"),\"มผ\",IF(DE22=\"มผ\",\"มผ\",IF(DR22=\"ปกติ\",SUM(DC22:DD22,IF(DF22=\"\",DE22,DF22)),\"-\"))))","v":65},null,25,null,null,{"$f":"IF(ใส่ชื่อ!D17=\"\",\"\",IF(DG22=\"\",\"\",IF(COUNTIF(DC22:DJ22,\"มผ\"),\"มผ\",IF(COUNTIF(DC22:DJ22,\"-\"),\"-\",IF(DR22=\"ปกติ\",SUM(DG22,IF(DJ22=\"\",DI22,DJ22)))))))","v":90},null,null,null,{"$f":"IF(ใส่ชื่อ!A17=\"\",\"\",IF(DL22=\"-\",\"-\",IF(DL22=0,\"\",IF(DR22=\"ปกติ\",MAXA(DL22/2,DN22/2)))))","v":45},null,{"$f":"IF(เวลาเรียน!M24=\"\",\"\",เวลาเรียน!M24)","v":"ปกติ"},null,60,65,2]
[17,2513,{"$f":"CONCATENATE(ใส่ชื่อ!C18)","v":"3098"},{"$f":"CONCATENATE(ใส่ชื่อ!D18&ใส่ชื่อ!E18&\"  \"&ใส่ชื่อ!F18)","v":"เด็กหญิงวรรณพิชชา  จันไทย"},{"$f":"ใส่ชื่อ!A18","v":17},6,5,6,7,8,13,null,null,null,null,null,null,null,null,null,null,null,null,null,null,{"$f":"IF(ใส่ชื่อ!D18=\"\",\"\",IF(DR23=\"ปกติ\",SUM(F23,G23,H23,I23,J23,K23,L23,M23,N23,O23,P23,Q23,R23,S23,T23,U23,V23,W23,X23,Y23),\"-\"))","v":45},null,45,null,null,null,null,null,null,null,null,null,null,null,null,null,null,null,null,null,null,null,null,{"$f":"IF(ใส่ชื่อ!D18=\"\",\"\",IF(COUNTIF(AC23:AS23,0),\"มผ\",IF(DR23=\"ปกติ\",SUM(AC23,AD23,AE23,AF23,AG23,AH23,AI23,AJ23,AK23,AL23,AM23,AN23,AO23,AP23,AQ23,AR23,AS23),\"-\")))","v":0},null,"",null,null,null,null,null,null,null,null,null,null,null,null,null,null,null,{"$f":"IF(ใส่ชื่อ!D18=\"\",\"\",IF(COUNTIF(AZ23:BN23,0),\"มผ\",IF(DR23=\"ปกติ\",SUM(AZ23,BA23,BB23,BC23,BD23,BE23,BF23,BG23,BH23,BI23,BJ23,BK23,BL23,BM23,BN23),\"-\")))","v":0},null,"",17,null,null,null,null,null,null,null,null,null,null,null,null,null,null,{"$f":"IF(ใส่ชื่อ!D18=\"\",\"\",IF(DR23=\"ปกติ\",SUM(BR23,BS23,BT23,BU23,BV23,BW23,BX23,BY23,BZ23,CA23,CB23,CC23,CD23,CE23,CF23),\"-\"))","v":17},null,17,3,2,2,2,3,{"$f":"IF(ใส่ชื่อ!D18=\"\",\"\",IF(CJ23=\"\",\"\",(IF(CK23=\"\",\"\",(IF(CL23=\"\",\"\",(IF(CM23=\"\",\"\",(IF(CN23=\"\",\"\",(SUM(CJ23:CN23))))))))))))","v":12},2,"ด",3,3,2,2,2,2,3,3,3,3,"ดย",45,"","",null,{"$f":"IF(ใส่ชื่อ!D18=\"\",\"\",IF(COUNTIF(DC23:DE23,\"มผ\"),\"มผ\",IF(DE23=\"มผ\",\"มผ\",IF(DR23=\"ปกติ\",SUM(DC23:DD23,IF(DF23=\"\",DE23,DF23)),\"-\"))))","v":45},null,17,null,null,{"$f":"IF(ใส่ชื่อ!D18=\"\",\"\",IF(DG23=\"\",\"\",IF(COUNTIF(DC23:DJ23,\"มผ\"),\"มผ\",IF(COUNTIF(DC23:DJ23,\"-\"),\"-\",IF(DR23=\"ปกติ\",SUM(DG23,IF(DJ23=\"\",DI23,DJ23)))))))","v":62},null,null,null,{"$f":"IF(ใส่ชื่อ!A18=\"\",\"\",IF(DL23=\"-\",\"-\",IF(DL23=0,\"\",IF(DR23=\"ปกติ\",MAXA(DL23/2,DN23/2)))))","v":31},null,{"$f":"IF(เวลาเรียน!M25=\"\",\"\",เวลาเรียน!M25)","v":"ปกติ"},null,65,70,2.5]
[18,2514,{"$f":"CONCATENATE(ใส่ชื่อ!C19)","v":"3111"},{"$f":"CONCATENATE(ใส่ชื่อ!D19&ใส่ชื่อ!E19&\"  \"&ใส่ชื่อ!F19)","v":"เด็กหญิงมานาทิพย์  สมดี"},{"$f":"ใส่ชื่อ!A19","v":18},9,8,9,8,9,15,null,null,null,null,null,null,null,null,null,null,null,null,null,null,{"$f":"IF(ใส่ชื่อ!D19=\"\",\"\",IF(DR24=\"ปกติ\",SUM(F24,G24,H24,I24,J24,K24,L24,M24,N24,O24,P24,Q24,R24,S24,T24,U24,V24,W24,X24,Y24),\"-\"))","v":58},null,58,null,null,null,null,null,null,null,null,null,null,null,null,null,null,null,null,null,null,null,null,{"$f":"IF(ใส่ชื่อ!D19=\"\",\"\",IF(COUNTIF(AC24:AS24,0),\"มผ\",IF(DR24=\"ปกติ\",SUM(AC24,AD24,AE24,AF24,AG24,AH24,AI24,AJ24,AK24,AL24,AM24,AN24,AO24,AP24,AQ24,AR24,AS24),\"-\")))","v":0},null,"",null,null,null,null,null,null,null,null,null,null,null,null,null,null,null,{"$f":"IF(ใส่ชื่อ!D19=\"\",\"\",IF(COUNTIF(AZ24:BN24,0),\"มผ\",IF(DR24=\"ปกติ\",SUM(AZ24,BA24,BB24,BC24,BD24,BE24,BF24,BG24,BH24,BI24,BJ24,BK24,BL24,BM24,BN24),\"-\")))","v":0},null,"",19,null,null,null,null,null,null,null,null,null,null,null,null,null,null,{"$f":"IF(ใส่ชื่อ!D19=\"\",\"\",IF(DR24=\"ปกติ\",SUM(BR24,BS24,BT24,BU24,BV24,BW24,BX24,BY24,BZ24,CA24,CB24,CC24,CD24,CE24,CF24),\"-\"))","v":19},null,19,3,3,3,3,3,{"$f":"IF(ใส่ชื่อ!D19=\"\",\"\",IF(CJ24=\"\",\"\",(IF(CK24=\"\",\"\",(IF(CL24=\"\",\"\",(IF(CM24=\"\",\"\",(IF(CN24=\"\",\"\",(SUM(CJ24:CN24))))))))))))","v":15},3,"ดย",3,3,3,3,3,3,3,3,3,3,"ดย",58,"","",null,{"$f":"IF(ใส่ชื่อ!D19=\"\",\"\",IF(COUNTIF(DC24:DE24,\"มผ\"),\"มผ\",IF(DE24=\"มผ\",\"มผ\",IF(DR24=\"ปกติ\",SUM(DC24:DD24,IF(DF24=\"\",DE24,DF24)),\"-\"))))","v":58},null,19,null,null,{"$f":"IF(ใส่ชื่อ!D19=\"\",\"\",IF(DG24=\"\",\"\",IF(COUNTIF(DC24:DJ24,\"มผ\"),\"มผ\",IF(COUNTIF(DC24:DJ24,\"-\"),\"-\",IF(DR24=\"ปกติ\",SUM(DG24,IF(DJ24=\"\",DI24,DJ24)))))))","v":77},null,null,null,{"$f":"IF(ใส่ชื่อ!A19=\"\",\"\",IF(DL24=\"-\",\"-\",IF(DL24=0,\"\",IF(DR24=\"ปกติ\",MAXA(DL24/2,DN24/2)))))","v":38.5},null,{"$f":"IF(เวลาเรียน!M26=\"\",\"\",เวลาเรียน!M26)","v":"ปกติ"},null,70,75,3]
[19,2515,{"$f":"CONCATENATE(ใส่ชื่อ!C20)","v":"3181"},{"$f":"CONCATENATE(ใส่ชื่อ!D20&ใส่ชื่อ!E20&\"  \"&ใส่ชื่อ!F20)","v":"เด็กหญิงชุติกาญจน์  เอี่ยมโสด"},{"$f":"ใส่ชื่อ!A20","v":19},7,7,8,7,7,13,null,null,null,null,null,null,null,null,null,null,null,null,null,null,{"$f":"IF(ใส่ชื่อ!D20=\"\",\"\",IF(DR25=\"ปกติ\",SUM(F25,G25,H25,I25,J25,K25,L25,M25,N25,O25,P25,Q25,R25,S25,T25,U25,V25,W25,X25,Y25),\"-\"))","v":49},null,49,null,null,null,null,null,null,null,null,null,null,null,null,null,null,null,null,null,null,null,null,{"$f":"IF(ใส่ชื่อ!D20=\"\",\"\",IF(COUNTIF(AC25:AS25,0),\"มผ\",IF(DR25=\"ปกติ\",SUM(AC25,AD25,AE25,AF25,AG25,AH25,AI25,AJ25,AK25,AL25,AM25,AN25,AO25,AP25,AQ25,AR25,AS25),\"-\")))","v":0},null,"",null,null,null,null,null,null,null,null,null,null,null,null,null,null,null,{"$f":"IF(ใส่ชื่อ!D20=\"\",\"\",IF(COUNTIF(AZ25:BN25,0),\"มผ\",IF(DR25=\"ปกติ\",SUM(AZ25,BA25,BB25,BC25,BD25,BE25,BF25,BG25,BH25,BI25,BJ25,BK25,BL25,BM25,BN25),\"-\")))","v":0},null,"",21,null,null,null,null,null,null,null,null,null,null,null,null,null,null,{"$f":"IF(ใส่ชื่อ!D20=\"\",\"\",IF(DR25=\"ปกติ\",SUM(BR25,BS25,BT25,BU25,BV25,BW25,BX25,BY25,BZ25,CA25,CB25,CC25,CD25,CE25,CF25),\"-\"))","v":21},null,21,3,3,3,3,3,{"$f":"IF(ใส่ชื่อ!D20=\"\",\"\",IF(CJ25=\"\",\"\",(IF(CK25=\"\",\"\",(IF(CL25=\"\",\"\",(IF(CM25=\"\",\"\",(IF(CN25=\"\",\"\",(SUM(CJ25:CN25))))))))))))","v":15},3,"ดย",3,3,3,3,3,3,3,3,3,3,"ดย",49,"","",null,{"$f":"IF(ใส่ชื่อ!D20=\"\",\"\",IF(COUNTIF(DC25:DE25,\"มผ\"),\"มผ\",IF(DE25=\"มผ\",\"มผ\",IF(DR25=\"ปกติ\",SUM(DC25:DD25,IF(DF25=\"\",DE25,DF25)),\"-\"))))","v":49},null,21,null,null,{"$f":"IF(ใส่ชื่อ!D20=\"\",\"\",IF(DG25=\"\",\"\",IF(COUNTIF(DC25:DJ25,\"มผ\"),\"มผ\",IF(COUNTIF(DC25:DJ25,\"-\"),\"-\",IF(DR25=\"ปกติ\",SUM(DG25,IF(DJ25=\"\",DI25,DJ25)))))))","v":70},null,null,null,{"$f":"IF(ใส่ชื่อ!A20=\"\",\"\",IF(DL25=\"-\",\"-\",IF(DL25=0,\"\",IF(DR25=\"ปกติ\",MAXA(DL25/2,DN25/2)))))","v":35},null,{"$f":"IF(เวลาเรียน!M27=\"\",\"\",เวลาเรียน!M27)","v":"ปกติ"},null,75,80,3.5]
[20,2516,{"$f":"CONCATENATE(ใส่ชื่อ!C21)","v":""},{"$f":"CONCATENATE(ใส่ชื่อ!D21&ใส่ชื่อ!E21&\"  \"&ใส่ชื่อ!F21)","v":"เด็กหญิงฐิตาภรณ์  แย้มนาค"},{"$f":"ใส่ชื่อ!A21","v":20},10,8,9,10,10,14,null,null,null,null,null,null,null,null,null,null,null,null,null,null,{"$f":"IF(ใส่ชื่อ!D21=\"\",\"\",IF(DR26=\"ปกติ\",SUM(F26,G26,H26,I26,J26,K26,L26,M26,N26,O26,P26,Q26,R26,S26,T26,U26,V26,W26,X26,Y26),\"-\"))","v":61},null,61,null,null,null,null,null,null,null,null,null,null,null,null,null,null,null,null,null,null,null,null,{"$f":"IF(ใส่ชื่อ!D21=\"\",\"\",IF(COUNTIF(AC26:AS26,0),\"มผ\",IF(DR26=\"ปกติ\",SUM(AC26,AD26,AE26,AF26,AG26,AH26,AI26,AJ26,AK26,AL26,AM26,AN26,AO26,AP26,AQ26,AR26,AS26),\"-\")))","v":0},null,"",null,null,null,null,null,null,null,null,null,null,null,null,null,null,null,{"$f":"IF(ใส่ชื่อ!D21=\"\",\"\",IF(COUNTIF(AZ26:BN26,0),\"มผ\",IF(DR26=\"ปกติ\",SUM(AZ26,BA26,BB26,BC26,BD26,BE26,BF26,BG26,BH26,BI26,BJ26,BK26,BL26,BM26,BN26),\"-\")))","v":0},null,"",23,null,null,null,null,null,null,null,null,null,null,null,null,null,null,{"$f":"IF(ใส่ชื่อ!D21=\"\",\"\",IF(DR26=\"ปกติ\",SUM(BR26,BS26,BT26,BU26,BV26,BW26,BX26,BY26,BZ26,CA26,CB26,CC26,CD26,CE26,CF26),\"-\"))","v":23},null,23,3,3,3,3,3,{"$f":"IF(ใส่ชื่อ!D21=\"\",\"\",IF(CJ26=\"\",\"\",(IF(CK26=\"\",\"\",(IF(CL26=\"\",\"\",(IF(CM26=\"\",\"\",(IF(CN26=\"\",\"\",(SUM(CJ26:CN26))))))))))))","v":15},3,"ดย",3,3,3,3,3,3,3,3,3,3,"ดย",61,"","",null,{"$f":"IF(ใส่ชื่อ!D21=\"\",\"\",IF(COUNTIF(DC26:DE26,\"มผ\"),\"มผ\",IF(DE26=\"มผ\",\"มผ\",IF(DR26=\"ปกติ\",SUM(DC26:DD26,IF(DF26=\"\",DE26,DF26)),\"-\"))))","v":61},null,23,null,null,{"$f":"IF(ใส่ชื่อ!D21=\"\",\"\",IF(DG26=\"\",\"\",IF(COUNTIF(DC26:DJ26,\"มผ\"),\"มผ\",IF(COUNTIF(DC26:DJ26,\"-\"),\"-\",IF(DR26=\"ปกติ\",SUM(DG26,IF(DJ26=\"\",DI26,DJ26)))))))","v":84},null,null,null,{"$f":"IF(ใส่ชื่อ!A21=\"\",\"\",IF(DL26=\"-\",\"-\",IF(DL26=0,\"\",IF(DR26=\"ปกติ\",MAXA(DL26/2,DN26/2)))))","v":42},null,{"$f":"IF(เวลาเรียน!M28=\"\",\"\",เวลาเรียน!M28)","v":"ปกติ"},null,80,100,4]
[21,2517,{"$f":"CONCATENATE(ใส่ชื่อ!C22)","v":""},{"$f":"CONCATENATE(ใส่ชื่อ!D22&ใส่ชื่อ!E22&\"  \"&ใส่ชื่อ!F22)","v":"  "},{"$f":"ใส่ชื่อ!A22","v":0},null,null,null,null,null,null,null,null,null,null,null,null,null,null,null,null,null,null,null,null,{"$f":"IF(ใส่ชื่อ!D22=\"\",\"\",IF(DR27=\"ปกติ\",SUM(F27,G27,H27,I27,J27,K27,L27,M27,N27,O27,P27,Q27,R27,S27,T27,U27,V27,W27,X27,Y27),\"-\"))","v":""},null,"",null,null,null,null,null,null,null,null,null,null,null,null,null,null,null,null,null,null,null,null,{"$f":"IF(ใส่ชื่อ!D22=\"\",\"\",IF(COUNTIF(AC27:AS27,0),\"มผ\",IF(DR27=\"ปกติ\",SUM(AC27,AD27,AE27,AF27,AG27,AH27,AI27,AJ27,AK27,AL27,AM27,AN27,AO27,AP27,AQ27,AR27,AS27),\"-\")))","v":""},null,"",null,null,null,null,null,null,null,null,null,null,null,null,null,null,null,{"$f":"IF(ใส่ชื่อ!D22=\"\",\"\",IF(COUNTIF(AZ27:BN27,0),\"มผ\",IF(DR27=\"ปกติ\",SUM(AZ27,BA27,BB27,BC27,BD27,BE27,BF27,BG27,BH27,BI27,BJ27,BK27,BL27,BM27,BN27),\"-\")))","v":""},null,"",null,null,null,null,null,null,null,null,null,null,null,null,null,null,null,{"$f":"IF(ใส่ชื่อ!D22=\"\",\"\",IF(DR27=\"ปกติ\",SUM(BR27,BS27,BT27,BU27,BV27,BW27,BX27,BY27,BZ27,CA27,CB27,CC27,CD27,CE27,CF27),\"-\"))","v":""},null,"",null,null,null,null,null,{"$f":"IF(ใส่ชื่อ!D22=\"\",\"\",IF(CJ27=\"\",\"\",(IF(CK27=\"\",\"\",(IF(CL27=\"\",\"\",(IF(CM27=\"\",\"\",(IF(CN27=\"\",\"\",(SUM(CJ27:CN27))))))))))))","v":""},"","",null,null,null,null,null,null,null,null,null,null,"","","","",null,{"$f":"IF(ใส่ชื่อ!D22=\"\",\"\",IF(COUNTIF(DC27:DE27,\"มผ\"),\"มผ\",IF(DE27=\"มผ\",\"มผ\",IF(DR27=\"ปกติ\",SUM(DC27:DD27,IF(DF27=\"\",DE27,DF27)),\"-\"))))","v":""},null,"",null,null,{"$f":"IF(ใส่ชื่อ!D22=\"\",\"\",IF(DG27=\"\",\"\",IF(COUNTIF(DC27:DJ27,\"มผ\"),\"มผ\",IF(COUNTIF(DC27:DJ27,\"-\"),\"-\",IF(DR27=\"ปกติ\",SUM(DG27,IF(DJ27=\"\",DI27,DJ27)))))))","v":""},null,null,null,{"$f":"IF(ใส่ชื่อ!A22=\"\",\"\",IF(DL27=\"-\",\"-\",IF(DL27=0,\"\",IF(DR27=\"ปกติ\",MAXA(DL27/2,DN27/2)))))","v":""},null,{"$f":"IF(เวลาเรียน!M29=\"\",\"\",เวลาเรียน!M29)","v":""}]
[22,2518,{"$f":"CONCATENATE(ใส่ชื่อ!C23)","v":""},{"$f":"CONCATENATE(ใส่ชื่อ!D23&ใส่ชื่อ!E23&\"  \"&ใส่ชื่อ!F23)","v":"  "},{"$f":"ใส่ชื่อ!A23","v":0},null,null,null,null,null,null,null,null,null,null,null,null,null,null,null,null,null,null,null,null,{"$f":"IF(ใส่ชื่อ!D23=\"\",\"\",IF(DR28=\"ปกติ\",SUM(F28,G28,H28,I28,J28,K28,L28,M28,N28,O28,P28,Q28,R28,S28,T28,U28,V28,W28,X28,Y28),\"-\"))","v":""},null,"",null,null,null,null,null,null,null,null,null,null,null,null,null,null,null,null,null,null,null,null,{"$f":"IF(ใส่ชื่อ!D23=\"\",\"\",IF(COUNTIF(AC28:AS28,0),\"มผ\",IF(DR28=\"ปกติ\",SUM(AC28,AD28,AE28,AF28,AG28,AH28,AI28,AJ28,AK28,AL28,AM28,AN28,AO28,AP28,AQ28,AR28,AS28),\"-\")))","v":""},null,"",null,null,null,null,null,null,null,null,null,null,null,null,null,null,null,{"$f":"IF(ใส่ชื่อ!D23=\"\",\"\",IF(COUNTIF(AZ28:BN28,0),\"มผ\",IF(DR28=\"ปกติ\",SUM(AZ28,BA28,BB28,BC28,BD28,BE28,BF28,BG28,BH28,BI28,BJ28,BK28,BL28,BM28,BN28),\"-\")))","v":""},null,"",null,null,null,null,null,null,null,null,null,null,null,null,null,null,null,{"$f":"IF(ใส่ชื่อ!D23=\"\",\"\",IF(DR28=\"ปกติ\",SUM(BR28,BS28,BT28,BU28,BV28,BW28,BX28,BY28,BZ28,CA28,CB28,CC28,CD28,CE28,CF28),\"-\"))","v":""},null,"",null,null,null,null,null,{"$f":"IF(ใส่ชื่อ!D23=\"\",\"\",IF(CJ28=\"\",\"\",(IF(CK28=\"\",\"\",(IF(CL28=\"\",\"\",(IF(CM28=\"\",\"\",(IF(CN28=\"\",\"\",(SUM(CJ28:CN28))))))))))))","v":""},"","",null,null,null,null,null,null,null,null,null,null,"","","","",null,{"$f":"IF(ใส่ชื่อ!D23=\"\",\"\",IF(COUNTIF(DC28:DE28,\"มผ\"),\"มผ\",IF(DE28=\"มผ\",\"มผ\",IF(DR28=\"ปกติ\",SUM(DC28:DD28,IF(DF28=\"\",DE28,DF28)),\"-\"))))","v":""},null,"",null,null,{"$f":"IF(ใส่ชื่อ!D23=\"\",\"\",IF(DG28=\"\",\"\",IF(COUNTIF(DC28:DJ28,\"มผ\"),\"มผ\",IF(COUNTIF(DC28:DJ28,\"-\"),\"-\",IF(DR28=\"ปกติ\",SUM(DG28,IF(DJ28=\"\",DI28,DJ28)))))))","v":""},null,null,null,{"$f":"IF(ใส่ชื่อ!A23=\"\",\"\",IF(DL28=\"-\",\"-\",IF(DL28=0,\"\",IF(DR28=\"ปกติ\",MAXA(DL28/2,DN28/2)))))","v":""},null,{"$f":"IF(เวลาเรียน!M30=\"\",\"\",เวลาเรียน!M30)","v":""}]
[23,2519,{"$f":"CONCATENATE(ใส่ชื่อ!C24)","v":""},{"$f":"CONCATENATE(ใส่ชื่อ!D24&ใส่ชื่อ!E24&\"  \"&ใส่ชื่อ!F24)","v":"  "},{"$f":"ใส่ชื่อ!A24","v":0},null,null,null,null,null,null,null,null,null,null,null,null,null,null,null,null,null,null,null,null,{"$f":"IF(ใส่ชื่อ!D24=\"\",\"\",IF(DR29=\"ปกติ\",SUM(F29,G29,H29,I29,J29,K29,L29,M29,N29,O29,P29,Q29,R29,S29,T29,U29,V29,W29,X29,Y29),\"-\"))","v":""},null,"",null,null,null,null,null,null,null,null,null,null,null,null,null,null,null,null,null,null,null,null,{"$f":"IF(ใส่ชื่อ!D24=\"\",\"\",IF(COUNTIF(AC29:AS29,0),\"มผ\",IF(DR29=\"ปกติ\",SUM(AC29,AD29,AE29,AF29,AG29,AH29,AI29,AJ29,AK29,AL29,AM29,AN29,AO29,AP29,AQ29,AR29,AS29),\"-\")))","v":""},null,"",null,null,null,null,null,null,null,null,null,null,null,null,null,null,null,{"$f":"IF(ใส่ชื่อ!D24=\"\",\"\",IF(COUNTIF(AZ29:BN29,0),\"มผ\",IF(DR29=\"ปกติ\",SUM(AZ29,BA29,BB29,BC29,BD29,BE29,BF29,BG29,BH29,BI29,BJ29,BK29,BL29,BM29,BN29),\"-\")))","v":""},null,"",null,null,null,null,null,null,null,null,null,null,null,null,null,null,null,{"$f":"IF(ใส่ชื่อ!D24=\"\",\"\",IF(DR29=\"ปกติ\",SUM(BR29,BS29,BT29,BU29,BV29,BW29,BX29,BY29,BZ29,CA29,CB29,CC29,CD29,CE29,CF29),\"-\"))","v":""},null,"",null,null,null,null,null,{"$f":"IF(ใส่ชื่อ!D24=\"\",\"\",IF(CJ29=\"\",\"\",(IF(CK29=\"\",\"\",(IF(CL29=\"\",\"\",(IF(CM29=\"\",\"\",(IF(CN29=\"\",\"\",(SUM(CJ29:CN29))))))))))))","v":""},"","",null,null,null,null,null,null,null,null,null,null,"","","","",null,{"$f":"IF(ใส่ชื่อ!D24=\"\",\"\",IF(COUNTIF(DC29:DE29,\"มผ\"),\"มผ\",IF(DE29=\"มผ\",\"มผ\",IF(DR29=\"ปกติ\",SUM(DC29:DD29,IF(DF29=\"\",DE29,DF29)),\"-\"))))","v":""},null,"",null,null,{"$f":"IF(ใส่ชื่อ!D24=\"\",\"\",IF(DG29=\"\",\"\",IF(COUNTIF(DC29:DJ29,\"มผ\"),\"มผ\",IF(COUNTIF(DC29:DJ29,\"-\"),\"-\",IF(DR29=\"ปกติ\",SUM(DG29,IF(DJ29=\"\",DI29,DJ29)))))))","v":""},null,null,null,{"$f":"IF(ใส่ชื่อ!A24=\"\",\"\",IF(DL29=\"-\",\"-\",IF(DL29=0,\"\",IF(DR29=\"ปกติ\",MAXA(DL29/2,DN29/2)))))","v":""},null,{"$f":"IF(เวลาเรียน!M31=\"\",\"\",เวลาเรียน!M31)","v":""}]
[24,2520,{"$f":"CONCATENATE(ใส่ชื่อ!C25)","v":""},{"$f":"CONCATENATE(ใส่ชื่อ!D25&ใส่ชื่อ!E25&\"  \"&ใส่ชื่อ!F25)","v":"  "},{"$f":"ใส่ชื่อ!A25","v":0},null,null,null,null,null,null,null,null,null,null,null,null,null,null,null,null,null,null,null,null,{"$f":"IF(ใส่ชื่อ!D25=\"\",\"\",IF(DR30=\"ปกติ\",SUM(F30,G30,H30,I30,J30,K30,L30,M30,N30,O30,P30,Q30,R30,S30,T30,U30,V30,W30,X30,Y30),\"-\"))","v":""},null,"",null,null,null,null,null,null,null,null,null,null,null,null,null,null,null,null,null,null,null,null,{"$f":"IF(ใส่ชื่อ!D25=\"\",\"\",IF(COUNTIF(AC30:AS30,0),\"มผ\",IF(DR30=\"ปกติ\",SUM(AC30,AD30,AE30,AF30,AG30,AH30,AI30,AJ30,AK30,AL30,AM30,AN30,AO30,AP30,AQ30,AR30,AS30),\"-\")))","v":""},null,"",null,null,null,null,null,null,null,null,null,null,null,null,null,null,null,{"$f":"IF(ใส่ชื่อ!D25=\"\",\"\",IF(COUNTIF(AZ30:BN30,0),\"มผ\",IF(DR30=\"ปกติ\",SUM(AZ30,BA30,BB30,BC30,BD30,BE30,BF30,BG30,BH30,BI30,BJ30,BK30,BL30,BM30,BN30),\"-\")))","v":""},null,"",null,null,null,null,null,null,null,null,null,null,null,null,null,null,null,{"$f":"IF(ใส่ชื่อ!D25=\"\",\"\",IF(DR30=\"ปกติ\",SUM(BR30,BS30,BT30,BU30,BV30,BW30,BX30,BY30,BZ30,CA30,CB30,CC30,CD30,CE30,CF30),\"-\"))","v":""},null,"",null,null,null,null,null,{"$f":"IF(ใส่ชื่อ!D25=\"\",\"\",IF(CJ30=\"\",\"\",(IF(CK30=\"\",\"\",(IF(CL30=\"\",\"\",(IF(CM30=\"\",\"\",(IF(CN30=\"\",\"\",(SUM(CJ30:CN30))))))))))))","v":""},"","",null,null,null,null,null,null,null,null,null,null,"","","","",null,{"$f":"IF(ใส่ชื่อ!D25=\"\",\"\",IF(COUNTIF(DC30:DE30,\"มผ\"),\"มผ\",IF(DE30=\"มผ\",\"มผ\",IF(DR30=\"ปกติ\",SUM(DC30:DD30,IF(DF30=\"\",DE30,DF30)),\"-\"))))","v":""},null,"",null,null,{"$f":"IF(ใส่ชื่อ!D25=\"\",\"\",IF(DG30=\"\",\"\",IF(COUNTIF(DC30:DJ30,\"มผ\"),\"มผ\",IF(COUNTIF(DC30:DJ30,\"-\"),\"-\",IF(DR30=\"ปกติ\",SUM(DG30,IF(DJ30=\"\",DI30,DJ30)))))))","v":""},null,null,null,{"$f":"IF(ใส่ชื่อ!A25=\"\",\"\",IF(DL30=\"-\",\"-\",IF(DL30=0,\"\",IF(DR30=\"ปกติ\",MAXA(DL30/2,DN30/2)))))","v":""},null,{"$f":"IF(เวลาเรียน!M32=\"\",\"\",เวลาเรียน!M32)","v":""}]
[25,2521,{"$f":"CONCATENATE(ใส่ชื่อ!C26)","v":""},{"$f":"CONCATENATE(ใส่ชื่อ!D26&ใส่ชื่อ!E26&\"  \"&ใส่ชื่อ!F26)","v":"  "},{"$f":"ใส่ชื่อ!A26","v":0},null,null,null,null,null,null,null,null,null,null,null,null,null,null,null,null,null,null,null,null,{"$f":"IF(ใส่ชื่อ!D26=\"\",\"\",IF(DR31=\"ปกติ\",SUM(F31,G31,H31,I31,J31,K31,L31,M31,N31,O31,P31,Q31,R31,S31,T31,U31,V31,W31,X31,Y31),\"-\"))","v":""},null,"",null,null,null,null,null,null,null,null,null,null,null,null,null,null,null,null,null,null,null,null,{"$f":"IF(ใส่ชื่อ!D26=\"\",\"\",IF(COUNTIF(AC31:AS31,0),\"มผ\",IF(DR31=\"ปกติ\",SUM(AC31,AD31,AE31,AF31,AG31,AH31,AI31,AJ31,AK31,AL31,AM31,AN31,AO31,AP31,AQ31,AR31,AS31),\"-\")))","v":""},null,"",null,null,null,null,null,null,null,null,null,null,null,null,null,null,null,{"$f":"IF(ใส่ชื่อ!D26=\"\",\"\",IF(COUNTIF(AZ31:BN31,0),\"มผ\",IF(DR31=\"ปกติ\",SUM(AZ31,BA31,BB31,BC31,BD31,BE31,BF31,BG31,BH31,BI31,BJ31,BK31,BL31,BM31,BN31),\"-\")))","v":""},null,"",null,null,null,null,null,null,null,null,null,null,null,null,null,null,null,{"$f":"IF(ใส่ชื่อ!D26=\"\",\"\",IF(DR31=\"ปกติ\",SUM(BR31,BS31,BT31,BU31,BV31,BW31,BX31,BY31,BZ31,CA31,CB31,CC31,CD31,CE31,CF31),\"-\"))","v":""},null,"",null,null,null,null,null,{"$f":"IF(ใส่ชื่อ!D26=\"\",\"\",IF(CJ31=\"\",\"\",(IF(CK31=\"\",\"\",(IF(CL31=\"\",\"\",(IF(CM31=\"\",\"\",(IF(CN31=\"\",\"\",(SUM(CJ31:CN31))))))))))))","v":""},"","",null,null,null,null,null,null,null,null,null,null,"","","","",null,{"$f":"IF(ใส่ชื่อ!D26=\"\",\"\",IF(COUNTIF(DC31:DE31,\"มผ\"),\"มผ\",IF(DE31=\"มผ\",\"มผ\",IF(DR31=\"ปกติ\",SUM(DC31:DD31,IF(DF31=\"\",DE31,DF31)),\"-\"))))","v":""},null,"",null,null,{"$f":"IF(ใส่ชื่อ!D26=\"\",\"\",IF(DG31=\"\",\"\",IF(COUNTIF(DC31:DJ31,\"มผ\"),\"มผ\",IF(COUNTIF(DC31:DJ31,\"-\"),\"-\",IF(DR31=\"ปกติ\",SUM(DG31,IF(DJ31=\"\",DI31,DJ31)))))))","v":""},null,null,null,{"$f":"IF(ใส่ชื่อ!A26=\"\",\"\",IF(DL31=\"-\",\"-\",IF(DL31=0,\"\",IF(DR31=\"ปกติ\",MAXA(DL31/2,DN31/2)))))","v":""},null,{"$f":"IF(เวลาเรียน!M33=\"\",\"\",เวลาเรียน!M33)","v":""}]
[26,2522,{"$f":"CONCATENATE(ใส่ชื่อ!C27)","v":""},{"$f":"CONCATENATE(ใส่ชื่อ!D27&ใส่ชื่อ!E27&\"  \"&ใส่ชื่อ!F27)","v":"  "},{"$f":"ใส่ชื่อ!A27","v":0},null,null,null,null,null,null,null,null,null,null,null,null,null,null,null,null,null,null,null,null,{"$f":"IF(ใส่ชื่อ!D27=\"\",\"\",IF(DR32=\"ปกติ\",SUM(F32,G32,H32,I32,J32,K32,L32,M32,N32,O32,P32,Q32,R32,S32,T32,U32,V32,W32,X32,Y32),\"-\"))","v":""},null,"",null,null,null,null,null,null,null,null,null,null,null,null,null,null,null,null,null,null,null,null,{"$f":"IF(ใส่ชื่อ!D27=\"\",\"\",IF(COUNTIF(AC32:AS32,0),\"มผ\",IF(DR32=\"ปกติ\",SUM(AC32,AD32,AE32,AF32,AG32,AH32,AI32,AJ32,AK32,AL32,AM32,AN32,AO32,AP32,AQ32,AR32,AS32),\"-\")))","v":""},null,"",null,null,null,null,null,null,null,null,null,null,null,null,null,null,null,{"$f":"IF(ใส่ชื่อ!D27=\"\",\"\",IF(COUNTIF(AZ32:BN32,0),\"มผ\",IF(DR32=\"ปกติ\",SUM(AZ32,BA32,BB32,BC32,BD32,BE32,BF32,BG32,BH32,BI32,BJ32,BK32,BL32,BM32,BN32),\"-\")))","v":""},null,"",null,null,null,null,null,null,null,null,null,null,null,null,null,null,null,{"$f":"IF(ใส่ชื่อ!D27=\"\",\"\",IF(DR32=\"ปกติ\",SUM(BR32,BS32,BT32,BU32,BV32,BW32,BX32,BY32,BZ32,CA32,CB32,CC32,CD32,CE32,CF32),\"-\"))","v":""},null,"",null,null,null,null,null,{"$f":"IF(ใส่ชื่อ!D27=\"\",\"\",IF(CJ32=\"\",\"\",(IF(CK32=\"\",\"\",(IF(CL32=\"\",\"\",(IF(CM32=\"\",\"\",(IF(CN32=\"\",\"\",(SUM(CJ32:CN32))))))))))))","v":""},"","",null,null,null,null,null,null,null,null,null,null,"","","","",null,{"$f":"IF(ใส่ชื่อ!D27=\"\",\"\",IF(COUNTIF(DC32:DE32,\"มผ\"),\"มผ\",IF(DE32=\"มผ\",\"มผ\",IF(DR32=\"ปกติ\",SUM(DC32:DD32,IF(DF32=\"\",DE32,DF32)),\"-\"))))","v":""},null,"",null,null,{"$f":"IF(ใส่ชื่อ!D27=\"\",\"\",IF(DG32=\"\",\"\",IF(COUNTIF(DC32:DJ32,\"มผ\"),\"มผ\",IF(COUNTIF(DC32:DJ32,\"-\"),\"-\",IF(DR32=\"ปกติ\",SUM(DG32,IF(DJ32=\"\",DI32,DJ32)))))))","v":""},null,null,null,{"$f":"IF(ใส่ชื่อ!A27=\"\",\"\",IF(DL32=\"-\",\"-\",IF(DL32=0,\"\",IF(DR32=\"ปกติ\",MAXA(DL32/2,DN32/2)))))","v":""},null,{"$f":"IF(เวลาเรียน!M34=\"\",\"\",เวลาเรียน!M34)","v":""}]
[27,2523,{"$f":"CONCATENATE(ใส่ชื่อ!C28)","v":""},{"$f":"CONCATENATE(ใส่ชื่อ!D28&ใส่ชื่อ!E28&\"  \"&ใส่ชื่อ!F28)","v":"  "},{"$f":"ใส่ชื่อ!A28","v":0},null,null,null,null,null,null,null,null,null,null,null,null,null,null,null,null,null,null,null,null,{"$f":"IF(ใส่ชื่อ!D28=\"\",\"\",IF(DR33=\"ปกติ\",SUM(F33,G33,H33,I33,J33,K33,L33,M33,N33,O33,P33,Q33,R33,S33,T33,U33,V33,W33,X33,Y33),\"-\"))","v":""},null,"",null,null,null,null,null,null,null,null,null,null,null,null,null,null,null,null,null,null,null,null,{"$f":"IF(ใส่ชื่อ!D28=\"\",\"\",IF(COUNTIF(AC33:AS33,0),\"มผ\",IF(DR33=\"ปกติ\",SUM(AC33,AD33,AE33,AF33,AG33,AH33,AI33,AJ33,AK33,AL33,AM33,AN33,AO33,AP33,AQ33,AR33,AS33),\"-\")))","v":""},null,"",null,null,null,null,null,null,null,null,null,null,null,null,null,null,null,{"$f":"IF(ใส่ชื่อ!D28=\"\",\"\",IF(COUNTIF(AZ33:BN33,0),\"มผ\",IF(DR33=\"ปกติ\",SUM(AZ33,BA33,BB33,BC33,BD33,BE33,BF33,BG33,BH33,BI33,BJ33,BK33,BL33,BM33,BN33),\"-\")))","v":""},null,"",null,null,null,null,null,null,null,null,null,null,null,null,null,null,null,{"$f":"IF(ใส่ชื่อ!D28=\"\",\"\",IF(DR33=\"ปกติ\",SUM(BR33,BS33,BT33,BU33,BV33,BW33,BX33,BY33,BZ33,CA33,CB33,CC33,CD33,CE33,CF33),\"-\"))","v":""},null,"",null,null,null,null,null,{"$f":"IF(ใส่ชื่อ!D28=\"\",\"\",IF(CJ33=\"\",\"\",(IF(CK33=\"\",\"\",(IF(CL33=\"\",\"\",(IF(CM33=\"\",\"\",(IF(CN33=\"\",\"\",(SUM(CJ33:CN33))))))))))))","v":""},"","",null,null,null,null,null,null,null,null,null,null,"","","","",null,{"$f":"IF(ใส่ชื่อ!D28=\"\",\"\",IF(COUNTIF(DC33:DE33,\"มผ\"),\"มผ\",IF(DE33=\"มผ\",\"มผ\",IF(DR33=\"ปกติ\",SUM(DC33:DD33,IF(DF33=\"\",DE33,DF33)),\"-\"))))","v":""},null,"",null,null,{"$f":"IF(ใส่ชื่อ!D28=\"\",\"\",IF(DG33=\"\",\"\",IF(COUNTIF(DC33:DJ33,\"มผ\"),\"มผ\",IF(COUNTIF(DC33:DJ33,\"-\"),\"-\",IF(DR33=\"ปกติ\",SUM(DG33,IF(DJ33=\"\",DI33,DJ33)))))))","v":""},null,null,null,{"$f":"IF(ใส่ชื่อ!A28=\"\",\"\",IF(DL33=\"-\",\"-\",IF(DL33=0,\"\",IF(DR33=\"ปกติ\",MAXA(DL33/2,DN33/2)))))","v":""},null,{"$f":"IF(เวลาเรียน!M35=\"\",\"\",เวลาเรียน!M35)","v":""}]
[28,2524,{"$f":"CONCATENATE(ใส่ชื่อ!C29)","v":""},{"$f":"CONCATENATE(ใส่ชื่อ!D29&ใส่ชื่อ!E29&\"  \"&ใส่ชื่อ!F29)","v":"  "},{"$f":"ใส่ชื่อ!A29","v":0},null,null,null,null,null,null,null,null,null,null,null,null,null,null,null,null,null,null,null,null,{"$f":"IF(ใส่ชื่อ!D29=\"\",\"\",IF(DR34=\"ปกติ\",SUM(F34,G34,H34,I34,J34,K34,L34,M34,N34,O34,P34,Q34,R34,S34,T34,U34,V34,W34,X34,Y34),\"-\"))","v":""},null,"",null,null,null,null,null,null,null,null,null,null,null,null,null,null,null,null,null,null,null,null,{"$f":"IF(ใส่ชื่อ!D29=\"\",\"\",IF(COUNTIF(AC34:AS34,0),\"มผ\",IF(DR34=\"ปกติ\",SUM(AC34,AD34,AE34,AF34,AG34,AH34,AI34,AJ34,AK34,AL34,AM34,AN34,AO34,AP34,AQ34,AR34,AS34),\"-\")))","v":""},null,"",null,null,null,null,null,null,null,null,null,null,null,null,null,null,null,{"$f":"IF(ใส่ชื่อ!D29=\"\",\"\",IF(COUNTIF(AZ34:BN34,0),\"มผ\",IF(DR34=\"ปกติ\",SUM(AZ34,BA34,BB34,BC34,BD34,BE34,BF34,BG34,BH34,BI34,BJ34,BK34,BL34,BM34,BN34),\"-\")))","v":""},null,"",null,null,null,null,null,null,null,null,null,null,null,null,null,null,null,{"$f":"IF(ใส่ชื่อ!D29=\"\",\"\",IF(DR34=\"ปกติ\",SUM(BR34,BS34,BT34,BU34,BV34,BW34,BX34,BY34,BZ34,CA34,CB34,CC34,CD34,CE34,CF34),\"-\"))","v":""},null,"",null,null,null,null,null,{"$f":"IF(ใส่ชื่อ!D29=\"\",\"\",IF(CJ34=\"\",\"\",(IF(CK34=\"\",\"\",(IF(CL34=\"\",\"\",(IF(CM34=\"\",\"\",(IF(CN34=\"\",\"\",(SUM(CJ34:CN34))))))))))))","v":""},"","",null,null,null,null,null,null,null,null,null,null,"","","","",null,{"$f":"IF(ใส่ชื่อ!D29=\"\",\"\",IF(COUNTIF(DC34:DE34,\"มผ\"),\"มผ\",IF(DE34=\"มผ\",\"มผ\",IF(DR34=\"ปกติ\",SUM(DC34:DD34,IF(DF34=\"\",DE34,DF34)),\"-\"))))","v":""},null,"",null,null,{"$f":"IF(ใส่ชื่อ!D29=\"\",\"\",IF(DG34=\"\",\"\",IF(COUNTIF(DC34:DJ34,\"มผ\"),\"มผ\",IF(COUNTIF(DC34:DJ34,\"-\"),\"-\",IF(DR34=\"ปกติ\",SUM(DG34,IF(DJ34=\"\",DI34,DJ34)))))))","v":""},null,null,null,{"$f":"IF(ใส่ชื่อ!A29=\"\",\"\",IF(DL34=\"-\",\"-\",IF(DL34=0,\"\",IF(DR34=\"ปกติ\",MAXA(DL34/2,DN34/2)))))","v":""},null,{"$f":"IF(เวลาเรียน!M36=\"\",\"\",เวลาเรียน!M36)","v":""}]
[29,2525,{"$f":"CONCATENATE(ใส่ชื่อ!C30)","v":""},{"$f":"CONCATENATE(ใส่ชื่อ!D30&ใส่ชื่อ!E30&\"  \"&ใส่ชื่อ!F30)","v":"  "},{"$f":"ใส่ชื่อ!A30","v":0},null,null,null,null,null,null,null,null,null,null,null,null,null,null,null,null,null,null,null,null,{"$f":"IF(ใส่ชื่อ!D30=\"\",\"\",IF(DR35=\"ปกติ\",SUM(F35,G35,H35,I35,J35,K35,L35,M35,N35,O35,P35,Q35,R35,S35,T35,U35,V35,W35,X35,Y35),\"-\"))","v":""},null,"",null,null,null,null,null,null,null,null,null,null,null,null,null,null,null,null,null,null,null,null,{"$f":"IF(ใส่ชื่อ!D30=\"\",\"\",IF(COUNTIF(AC35:AS35,0),\"มผ\",IF(DR35=\"ปกติ\",SUM(AC35,AD35,AE35,AF35,AG35,AH35,AI35,AJ35,AK35,AL35,AM35,AN35,AO35,AP35,AQ35,AR35,AS35),\"-\")))","v":""},null,"",null,null,null,null,null,null,null,null,null,null,null,null,null,null,null,{"$f":"IF(ใส่ชื่อ!D30=\"\",\"\",IF(COUNTIF(AZ35:BN35,0),\"มผ\",IF(DR35=\"ปกติ\",SUM(AZ35,BA35,BB35,BC35,BD35,BE35,BF35,BG35,BH35,BI35,BJ35,BK35,BL35,BM35,BN35),\"-\")))","v":""},null,"",null,null,null,null,null,null,null,null,null,null,null,null,null,null,null,{"$f":"IF(ใส่ชื่อ!D30=\"\",\"\",IF(DR35=\"ปกติ\",SUM(BR35,BS35,BT35,BU35,BV35,BW35,BX35,BY35,BZ35,CA35,CB35,CC35,CD35,CE35,CF35),\"-\"))","v":""},null,"",null,null,null,null,null,{"$f":"IF(ใส่ชื่อ!D30=\"\",\"\",IF(CJ35=\"\",\"\",(IF(CK35=\"\",\"\",(IF(CL35=\"\",\"\",(IF(CM35=\"\",\"\",(IF(CN35=\"\",\"\",(SUM(CJ35:CN35))))))))))))","v":""},"","",null,null,null,null,null,null,null,null,null,null,"","","","",null,{"$f":"IF(ใส่ชื่อ!D30=\"\",\"\",IF(COUNTIF(DC35:DE35,\"มผ\"),\"มผ\",IF(DE35=\"มผ\",\"มผ\",IF(DR35=\"ปกติ\",SUM(DC35:DD35,IF(DF35=\"\",DE35,DF35)),\"-\"))))","v":""},null,"",null,null,{"$f":"IF(ใส่ชื่อ!D30=\"\",\"\",IF(DG35=\"\",\"\",IF(COUNTIF(DC35:DJ35,\"มผ\"),\"มผ\",IF(COUNTIF(DC35:DJ35,\"-\"),\"-\",IF(DR35=\"ปกติ\",SUM(DG35,IF(DJ35=\"\",DI35,DJ35)))))))","v":""},null,null,null,{"$f":"IF(ใส่ชื่อ!A30=\"\",\"\",IF(DL35=\"-\",\"-\",IF(DL35=0,\"\",IF(DR35=\"ปกติ\",MAXA(DL35/2,DN35/2)))))","v":""},null,{"$f":"IF(เวลาเรียน!M37=\"\",\"\",เวลาเรียน!M37)","v":""}]
[30,2526,{"$f":"CONCATENATE(ใส่ชื่อ!C31)","v":""},{"$f":"CONCATENATE(ใส่ชื่อ!D31&ใส่ชื่อ!E31&\"  \"&ใส่ชื่อ!F31)","v":"  "},{"$f":"ใส่ชื่อ!A31","v":0},null,null,null,null,null,null,null,null,null,null,null,null,null,null,null,null,null,null,null,null,{"$f":"IF(ใส่ชื่อ!D31=\"\",\"\",IF(DR36=\"ปกติ\",SUM(F36,G36,H36,I36,J36,K36,L36,M36,N36,O36,P36,Q36,R36,S36,T36,U36,V36,W36,X36,Y36),\"-\"))","v":""},null,"",null,null,null,null,null,null,null,null,null,null,null,null,null,null,null,null,null,null,null,null,{"$f":"IF(ใส่ชื่อ!D31=\"\",\"\",IF(COUNTIF(AC36:AS36,0),\"มผ\",IF(DR36=\"ปกติ\",SUM(AC36,AD36,AE36,AF36,AG36,AH36,AI36,AJ36,AK36,AL36,AM36,AN36,AO36,AP36,AQ36,AR36,AS36),\"-\")))","v":""},null,"",null,null,null,null,null,null,null,null,null,null,null,null,null,null,null,{"$f":"IF(ใส่ชื่อ!D31=\"\",\"\",IF(COUNTIF(AZ36:BN36,0),\"มผ\",IF(DR36=\"ปกติ\",SUM(AZ36,BA36,BB36,BC36,BD36,BE36,BF36,BG36,BH36,BI36,BJ36,BK36,BL36,BM36,BN36),\"-\")))","v":""},null,"",null,null,null,null,null,null,null,null,null,null,null,null,null,null,null,{"$f":"IF(ใส่ชื่อ!D31=\"\",\"\",IF(DR36=\"ปกติ\",SUM(BR36,BS36,BT36,BU36,BV36,BW36,BX36,BY36,BZ36,CA36,CB36,CC36,CD36,CE36,CF36),\"-\"))","v":""},null,"",null,null,null,null,null,{"$f":"IF(ใส่ชื่อ!D31=\"\",\"\",IF(CJ36=\"\",\"\",(IF(CK36=\"\",\"\",(IF(CL36=\"\",\"\",(IF(CM36=\"\",\"\",(IF(CN36=\"\",\"\",(SUM(CJ36:CN36))))))))))))","v":""},"","",null,null,null,null,null,null,null,null,null,null,"","","","",null,{"$f":"IF(ใส่ชื่อ!D31=\"\",\"\",IF(COUNTIF(DC36:DE36,\"มผ\"),\"มผ\",IF(DE36=\"มผ\",\"มผ\",IF(DR36=\"ปกติ\",SUM(DC36:DD36,IF(DF36=\"\",DE36,DF36)),\"-\"))))","v":""},null,"",null,null,{"$f":"IF(ใส่ชื่อ!D31=\"\",\"\",IF(DG36=\"\",\"\",IF(COUNTIF(DC36:DJ36,\"มผ\"),\"มผ\",IF(COUNTIF(DC36:DJ36,\"-\"),\"-\",IF(DR36=\"ปกติ\",SUM(DG36,IF(DJ36=\"\",DI36,DJ36)))))))","v":""},null,null,null,{"$f":"IF(ใส่ชื่อ!A31=\"\",\"\",IF(DL36=\"-\",\"-\",IF(DL36=0,\"\",IF(DR36=\"ปกติ\",MAXA(DL36/2,DN36/2)))))","v":""},null,{"$f":"IF(เวลาเรียน!M38=\"\",\"\",เวลาเรียน!M38)","v":""}]
[31,2528,{"$f":"CONCATENATE(ใส่ชื่อ!C32)","v":""},{"$f":"CONCATENATE(ใส่ชื่อ!D32&ใส่ชื่อ!E32&\"  \"&ใส่ชื่อ!F32)","v":"  "},{"$f":"ใส่ชื่อ!A32","v":0},null,null,null,null,null,null,null,null,null,null,null,null,null,null,null,null,null,null,null,null,{"$f":"IF(ใส่ชื่อ!D32=\"\",\"\",IF(DR37=\"ปกติ\",SUM(F37,G37,H37,I37,J37,K37,L37,M37,N37,O37,P37,Q37,R37,S37,T37,U37,V37,W37,X37,Y37),\"-\"))","v":""},null,"",null,null,null,null,null,null,null,null,null,null,null,null,null,null,null,null,null,null,null,null,{"$f":"IF(ใส่ชื่อ!D32=\"\",\"\",IF(COUNTIF(AC37:AS37,0),\"มผ\",IF(DR37=\"ปกติ\",SUM(AC37,AD37,AE37,AF37,AG37,AH37,AI37,AJ37,AK37,AL37,AM37,AN37,AO37,AP37,AQ37,AR37,AS37),\"-\")))","v":""},null,"",null,null,null,null,null,null,null,null,null,null,null,null,null,null,null,{"$f":"IF(ใส่ชื่อ!D32=\"\",\"\",IF(COUNTIF(AZ37:BN37,0),\"มผ\",IF(DR37=\"ปกติ\",SUM(AZ37,BA37,BB37,BC37,BD37,BE37,BF37,BG37,BH37,BI37,BJ37,BK37,BL37,BM37,BN37),\"-\")))","v":""},null,"",null,null,null,null,null,null,null,null,null,null,null,null,null,null,null,{"$f":"IF(ใส่ชื่อ!D32=\"\",\"\",IF(DR37=\"ปกติ\",SUM(BR37,BS37,BT37,BU37,BV37,BW37,BX37,BY37,BZ37,CA37,CB37,CC37,CD37,CE37,CF37),\"-\"))","v":""},null,"",null,null,null,null,null,{"$f":"IF(ใส่ชื่อ!D32=\"\",\"\",IF(CJ37=\"\",\"\",(IF(CK37=\"\",\"\",(IF(CL37=\"\",\"\",(IF(CM37=\"\",\"\",(IF(CN37=\"\",\"\",(SUM(CJ37:CN37))))))))))))","v":""},"","",null,null,null,null,null,null,null,null,null,null,"","","","",null,{"$f":"IF(ใส่ชื่อ!D32=\"\",\"\",IF(COUNTIF(DC37:DE37,\"มผ\"),\"มผ\",IF(DE37=\"มผ\",\"มผ\",IF(DR37=\"ปกติ\",SUM(DC37:DD37,IF(DF37=\"\",DE37,DF37)),\"-\"))))","v":""},null,"",null,null,{"$f":"IF(ใส่ชื่อ!D32=\"\",\"\",IF(DG37=\"\",\"\",IF(COUNTIF(DC37:DJ37,\"มผ\"),\"มผ\",IF(COUNTIF(DC37:DJ37,\"-\"),\"-\",IF(DR37=\"ปกติ\",SUM(DG37,IF(DJ37=\"\",DI37,DJ37)))))))","v":""},null,null,null,{"$f":"IF(ใส่ชื่อ!A32=\"\",\"\",IF(DL37=\"-\",\"-\",IF(DL37=0,\"\",IF(DR37=\"ปกติ\",MAXA(DL37/2,DN37/2)))))","v":""},null,{"$f":"IF(เวลาเรียน!M39=\"\",\"\",เวลาเรียน!M39)","v":""}]
[32,2529,{"$f":"CONCATENATE(ใส่ชื่อ!C33)","v":""},{"$f":"CONCATENATE(ใส่ชื่อ!D33&ใส่ชื่อ!E33&\"  \"&ใส่ชื่อ!F33)","v":"  "},{"$f":"ใส่ชื่อ!A33","v":0},null,null,null,null,null,null,null,null,null,null,null,null,null,null,null,null,null,null,null,null,{"$f":"IF(ใส่ชื่อ!D33=\"\",\"\",IF(DR38=\"ปกติ\",SUM(F38,G38,H38,I38,J38,K38,L38,M38,N38,O38,P38,Q38,R38,S38,T38,U38,V38,W38,X38,Y38),\"-\"))","v":""},null,"",null,null,null,null,null,null,null,null,null,null,null,null,null,null,null,null,null,null,null,null,{"$f":"IF(ใส่ชื่อ!D33=\"\",\"\",IF(COUNTIF(AC38:AS38,0),\"มผ\",IF(DR38=\"ปกติ\",SUM(AC38,AD38,AE38,AF38,AG38,AH38,AI38,AJ38,AK38,AL38,AM38,AN38,AO38,AP38,AQ38,AR38,AS38),\"-\")))","v":""},null,"",null,null,null,null,null,null,null,null,null,null,null,null,null,null,null,{"$f":"IF(ใส่ชื่อ!D33=\"\",\"\",IF(COUNTIF(AZ38:BN38,0),\"มผ\",IF(DR38=\"ปกติ\",SUM(AZ38,BA38,BB38,BC38,BD38,BE38,BF38,BG38,BH38,BI38,BJ38,BK38,BL38,BM38,BN38),\"-\")))","v":""},null,"",null,null,null,null,null,null,null,null,null,null,null,null,null,null,null,{"$f":"IF(ใส่ชื่อ!D33=\"\",\"\",IF(DR38=\"ปกติ\",SUM(BR38,BS38,BT38,BU38,BV38,BW38,BX38,BY38,BZ38,CA38,CB38,CC38,CD38,CE38,CF38),\"-\"))","v":""},null,"",null,null,null,null,null,{"$f":"IF(ใส่ชื่อ!D33=\"\",\"\",IF(CJ38=\"\",\"\",(IF(CK38=\"\",\"\",(IF(CL38=\"\",\"\",(IF(CM38=\"\",\"\",(IF(CN38=\"\",\"\",(SUM(CJ38:CN38))))))))))))","v":""},"","",null,null,null,null,null,null,null,null,null,null,"","","","",null,{"$f":"IF(ใส่ชื่อ!D33=\"\",\"\",IF(COUNTIF(DC38:DE38,\"มผ\"),\"มผ\",IF(DE38=\"มผ\",\"มผ\",IF(DR38=\"ปกติ\",SUM(DC38:DD38,IF(DF38=\"\",DE38,DF38)),\"-\"))))","v":""},null,"",null,null,{"$f":"IF(ใส่ชื่อ!D33=\"\",\"\",IF(DG38=\"\",\"\",IF(COUNTIF(DC38:DJ38,\"มผ\"),\"มผ\",IF(COUNTIF(DC38:DJ38,\"-\"),\"-\",IF(DR38=\"ปกติ\",SUM(DG38,IF(DJ38=\"\",DI38,DJ38)))))))","v":""},null,null,null,{"$f":"IF(ใส่ชื่อ!A33=\"\",\"\",IF(DL38=\"-\",\"-\",IF(DL38=0,\"\",IF(DR38=\"ปกติ\",MAXA(DL38/2,DN38/2)))))","v":""},null,{"$f":"IF(เวลาเรียน!M40=\"\",\"\",เวลาเรียน!M40)","v":""}]
[33,0,{"$f":"CONCATENATE(ใส่ชื่อ!C34)","v":""},{"$f":"CONCATENATE(ใส่ชื่อ!D34&ใส่ชื่อ!E34&\"  \"&ใส่ชื่อ!F34)","v":"  "},{"$f":"ใส่ชื่อ!A34","v":0},null,null,null,null,null,null,null,null,null,null,null,null,null,null,null,null,null,null,null,null,{"$f":"IF(ใส่ชื่อ!D34=\"\",\"\",IF(DR39=\"ปกติ\",SUM(F39,G39,H39,I39,J39,K39,L39,M39,N39,O39,P39,Q39,R39,S39,T39,U39,V39,W39,X39,Y39),\"-\"))","v":""},null,"",null,null,null,null,null,null,null,null,null,null,null,null,null,null,null,null,null,null,null,null,{"$f":"IF(ใส่ชื่อ!D34=\"\",\"\",IF(COUNTIF(AC39:AS39,0),\"มผ\",IF(DR39=\"ปกติ\",SUM(AC39,AD39,AE39,AF39,AG39,AH39,AI39,AJ39,AK39,AL39,AM39,AN39,AO39,AP39,AQ39,AR39,AS39),\"-\")))","v":""},null,"",null,null,null,null,null,null,null,null,null,null,null,null,null,null,null,{"$f":"IF(ใส่ชื่อ!D34=\"\",\"\",IF(COUNTIF(AZ39:BN39,0),\"มผ\",IF(DR39=\"ปกติ\",SUM(AZ39,BA39,BB39,BC39,BD39,BE39,BF39,BG39,BH39,BI39,BJ39,BK39,BL39,BM39,BN39),\"-\")))","v":""},null,"",null,null,null,null,null,null,null,null,null,null,null,null,null,null,null,{"$f":"IF(ใส่ชื่อ!D34=\"\",\"\",IF(DR39=\"ปกติ\",SUM(BR39,BS39,BT39,BU39,BV39,BW39,BX39,BY39,BZ39,CA39,CB39,CC39,CD39,CE39,CF39),\"-\"))","v":""},null,"",null,null,null,null,null,{"$f":"IF(ใส่ชื่อ!D34=\"\",\"\",IF(CJ39=\"\",\"\",(IF(CK39=\"\",\"\",(IF(CL39=\"\",\"\",(IF(CM39=\"\",\"\",(IF(CN39=\"\",\"\",(SUM(CJ39:CN39))))))))))))","v":""},"","",null,null,null,null,null,null,null,null,null,null,"",{"$f":"AB39","v":""},{"$f":"AY39","v":""},{"$f":"BQ39","v":""},null,{"$f":"IF(ใส่ชื่อ!D34=\"\",\"\",IF(COUNTIF(DC39:DE39,\"มผ\"),\"มผ\",IF(DE39=\"มผ\",\"มผ\",IF(DR39=\"ปกติ\",SUM(DC39:DD39,IF(DF39=\"\",DE39,DF39)),\"-\"))))","v":""},null,{"$f":"CI39","v":""},null,null,{"$f":"IF(ใส่ชื่อ!D34=\"\",\"\",IF(DG39=\"\",\"\",IF(COUNTIF(DC39:DJ39,\"มผ\"),\"มผ\",IF(COUNTIF(DC39:DJ39,\"-\"),\"-\",IF(DR39=\"ปกติ\",SUM(DG39,IF(DJ39=\"\",DI39,DJ39)))))))","v":""},null,null,null,{"$f":"IF(ใส่ชื่อ!A34=\"\",\"\",IF(DL39=\"-\",\"-\",IF(DL39=0,\"\",IF(DR39=\"ปกติ\",MAXA(DL39/2,DN39/2)))))","v":""},null,{"$f":"IF(เวลาเรียน!M41=\"\",\"\",เวลาเรียน!M41)","v":""}]
[34,0,{"$f":"CONCATENATE(ใส่ชื่อ!C35)","v":""},{"$f":"CONCATENATE(ใส่ชื่อ!D35&ใส่ชื่อ!E35&\"  \"&ใส่ชื่อ!F35)","v":"  "},{"$f":"ใส่ชื่อ!A35","v":0},null,null,null,null,null,null,null,null,null,null,null,null,null,null,null,null,null,null,null,null,{"$f":"IF(ใส่ชื่อ!D35=\"\",\"\",IF(DR40=\"ปกติ\",SUM(F40,G40,H40,I40,J40,K40,L40,M40,N40,O40,P40,Q40,R40,S40,T40,U40,V40,W40,X40,Y40),\"-\"))","v":""},null,"",null,null,null,null,null,null,null,null,null,null,null,null,null,null,null,null,null,null,null,null,{"$f":"IF(ใส่ชื่อ!D35=\"\",\"\",IF(COUNTIF(AC40:AS40,0),\"มผ\",IF(DR40=\"ปกติ\",SUM(AC40,AD40,AE40,AF40,AG40,AH40,AI40,AJ40,AK40,AL40,AM40,AN40,AO40,AP40,AQ40,AR40,AS40),\"-\")))","v":""},null,"",null,null,null,null,null,null,null,null,null,null,null,null,null,null,null,{"$f":"IF(ใส่ชื่อ!D35=\"\",\"\",IF(COUNTIF(AZ40:BN40,0),\"มผ\",IF(DR40=\"ปกติ\",SUM(AZ40,BA40,BB40,BC40,BD40,BE40,BF40,BG40,BH40,BI40,BJ40,BK40,BL40,BM40,BN40),\"-\")))","v":""},null,"",null,null,null,null,null,null,null,null,null,null,null,null,null,null,null,{"$f":"IF(ใส่ชื่อ!D35=\"\",\"\",IF(DR40=\"ปกติ\",SUM(BR40,BS40,BT40,BU40,BV40,BW40,BX40,BY40,BZ40,CA40,CB40,CC40,CD40,CE40,CF40),\"-\"))","v":""},null,"",null,null,null,null,null,{"$f":"IF(ใส่ชื่อ!D35=\"\",\"\",IF(CJ40=\"\",\"\",(IF(CK40=\"\",\"\",(IF(CL40=\"\",\"\",(IF(CM40=\"\",\"\",(IF(CN40=\"\",\"\",(SUM(CJ40:CN40))))))))))))","v":""},"","",null,null,null,null,null,null,null,null,null,null,"","","","",null,{"$f":"IF(ใส่ชื่อ!D35=\"\",\"\",IF(COUNTIF(DC40:DE40,\"มผ\"),\"มผ\",IF(DE40=\"มผ\",\"มผ\",IF(DR40=\"ปกติ\",SUM(DC40:DD40,IF(DF40=\"\",DE40,DF40)),\"-\"))))","v":""},null,"",null,null,{"$f":"IF(ใส่ชื่อ!D35=\"\",\"\",IF(DG40=\"\",\"\",IF(COUNTIF(DC40:DJ40,\"มผ\"),\"มผ\",IF(COUNTIF(DC40:DJ40,\"-\"),\"-\",IF(DR40=\"ปกติ\",SUM(DG40,IF(DJ40=\"\",DI40,DJ40)))))))","v":""},null,null,null,{"$f":"IF(ใส่ชื่อ!A35=\"\",\"\",IF(DL40=\"-\",\"-\",IF(DL40=0,\"\",IF(DR40=\"ปกติ\",MAXA(DL40/2,DN40/2)))))","v":""},null,{"$f":"IF(เวลาเรียน!M42=\"\",\"\",เวลาเรียน!M42)","v":""}]
[35,0,{"$f":"CONCATENATE(ใส่ชื่อ!C36)","v":""},{"$f":"CONCATENATE(ใส่ชื่อ!D36&ใส่ชื่อ!E36&\"  \"&ใส่ชื่อ!F36)","v":"  "},{"$f":"ใส่ชื่อ!A36","v":0},null,null,null,null,null,null,null,null,null,null,null,null,null,null,null,null,null,null,null,null,{"$f":"IF(ใส่ชื่อ!D36=\"\",\"\",IF(DR41=\"ปกติ\",SUM(F41,G41,H41,I41,J41,K41,L41,M41,N41,O41,P41,Q41,R41,S41,T41,U41,V41,W41,X41,Y41),\"-\"))","v":""},null,"",null,null,null,null,null,null,null,null,null,null,null,null,null,null,null,null,null,null,null,null,{"$f":"IF(ใส่ชื่อ!D36=\"\",\"\",IF(COUNTIF(AC41:AS41,0),\"มผ\",IF(DR41=\"ปกติ\",SUM(AC41,AD41,AE41,AF41,AG41,AH41,AI41,AJ41,AK41,AL41,AM41,AN41,AO41,AP41,AQ41,AR41,AS41),\"-\")))","v":""},null,"",null,null,null,null,null,null,null,null,null,null,null,null,null,null,null,{"$f":"IF(ใส่ชื่อ!D36=\"\",\"\",IF(COUNTIF(AZ41:BN41,0),\"มผ\",IF(DR41=\"ปกติ\",SUM(AZ41,BA41,BB41,BC41,BD41,BE41,BF41,BG41,BH41,BI41,BJ41,BK41,BL41,BM41,BN41),\"-\")))","v":""},null,"",null,null,null,null,null,null,null,null,null,null,null,null,null,null,null,{"$f":"IF(ใส่ชื่อ!D36=\"\",\"\",IF(DR41=\"ปกติ\",SUM(BR41,BS41,BT41,BU41,BV41,BW41,BX41,BY41,BZ41,CA41,CB41,CC41,CD41,CE41,CF41),\"-\"))","v":""},null,"",null,null,null,null,null,{"$f":"IF(ใส่ชื่อ!D36=\"\",\"\",IF(CJ41=\"\",\"\",(IF(CK41=\"\",\"\",(IF(CL41=\"\",\"\",(IF(CM41=\"\",\"\",(IF(CN41=\"\",\"\",(SUM(CJ41:CN41))))))))))))","v":""},"","",null,null,null,null,null,null,null,null,null,null,"","","","",null,{"$f":"IF(ใส่ชื่อ!D36=\"\",\"\",IF(COUNTIF(DC41:DE41,\"มผ\"),\"มผ\",IF(DE41=\"มผ\",\"มผ\",IF(DR41=\"ปกติ\",SUM(DC41:DD41,IF(DF41=\"\",DE41,DF41)),\"-\"))))","v":""},null,"",null,null,{"$f":"IF(ใส่ชื่อ!D36=\"\",\"\",IF(DG41=\"\",\"\",IF(COUNTIF(DC41:DJ41,\"มผ\"),\"มผ\",IF(COUNTIF(DC41:DJ41,\"-\"),\"-\",IF(DR41=\"ปกติ\",SUM(DG41,IF(DJ41=\"\",DI41,DJ41)))))))","v":""},null,null,null,{"$f":"IF(ใส่ชื่อ!A36=\"\",\"\",IF(DL41=\"-\",\"-\",IF(DL41=0,\"\",IF(DR41=\"ปกติ\",MAXA(DL41/2,DN41/2)))))","v":""},null,{"$f":"IF(เวลาเรียน!M43=\"\",\"\",เวลาเรียน!M43)","v":""}]
[36,0,{"$f":"CONCATENATE(ใส่ชื่อ!C37)","v":""},{"$f":"CONCATENATE(ใส่ชื่อ!D37&ใส่ชื่อ!E37&\"  \"&ใส่ชื่อ!F37)","v":"  "},{"$f":"ใส่ชื่อ!A37","v":0},null,null,null,null,null,null,null,null,null,null,null,null,null,null,null,null,null,null,null,null,{"$f":"IF(ใส่ชื่อ!D37=\"\",\"\",IF(DR42=\"ปกติ\",SUM(F42,G42,H42,I42,J42,K42,L42,M42,N42,O42,P42,Q42,R42,S42,T42,U42,V42,W42,X42,Y42),\"-\"))","v":""},null,"",null,null,null,null,null,null,null,null,null,null,null,null,null,null,null,null,null,null,null,null,{"$f":"IF(ใส่ชื่อ!D37=\"\",\"\",IF(COUNTIF(AC42:AS42,0),\"มผ\",IF(DR42=\"ปกติ\",SUM(AC42,AD42,AE42,AF42,AG42,AH42,AI42,AJ42,AK42,AL42,AM42,AN42,AO42,AP42,AQ42,AR42,AS42),\"-\")))","v":""},null,"",null,null,null,null,null,null,null,null,null,null,null,null,null,null,null,{"$f":"IF(ใส่ชื่อ!D37=\"\",\"\",IF(COUNTIF(AZ42:BN42,0),\"มผ\",IF(DR42=\"ปกติ\",SUM(AZ42,BA42,BB42,BC42,BD42,BE42,BF42,BG42,BH42,BI42,BJ42,BK42,BL42,BM42,BN42),\"-\")))","v":""},null,"",null,null,null,null,null,null,null,null,null,null,null,null,null,null,null,{"$f":"IF(ใส่ชื่อ!D37=\"\",\"\",IF(DR42=\"ปกติ\",SUM(BR42,BS42,BT42,BU42,BV42,BW42,BX42,BY42,BZ42,CA42,CB42,CC42,CD42,CE42,CF42),\"-\"))","v":""},null,"",null,null,null,null,null,{"$f":"IF(ใส่ชื่อ!D37=\"\",\"\",IF(CJ42=\"\",\"\",(IF(CK42=\"\",\"\",(IF(CL42=\"\",\"\",(IF(CM42=\"\",\"\",(IF(CN42=\"\",\"\",(SUM(CJ42:CN42))))))))))))","v":""},"","",null,null,null,null,null,null,null,null,null,null,"","","","",null,{"$f":"IF(ใส่ชื่อ!D37=\"\",\"\",IF(COUNTIF(DC42:DE42,\"มผ\"),\"มผ\",IF(DE42=\"มผ\",\"มผ\",IF(DR42=\"ปกติ\",SUM(DC42:DD42,IF(DF42=\"\",DE42,DF42)),\"-\"))))","v":""},null,"",null,null,{"$f":"IF(ใส่ชื่อ!D37=\"\",\"\",IF(DG42=\"\",\"\",IF(COUNTIF(DC42:DJ42,\"มผ\"),\"มผ\",IF(COUNTIF(DC42:DJ42,\"-\"),\"-\",IF(DR42=\"ปกติ\",SUM(DG42,IF(DJ42=\"\",DI42,DJ42)))))))","v":""},null,null,null,{"$f":"IF(ใส่ชื่อ!A37=\"\",\"\",IF(DL42=\"-\",\"-\",IF(DL42=0,\"\",IF(DR42=\"ปกติ\",MAXA(DL42/2,DN42/2)))))","v":""},null,{"$f":"IF(เวลาเรียน!M44=\"\",\"\",เวลาเรียน!M44)","v":""}]
[37,0,{"$f":"CONCATENATE(ใส่ชื่อ!C38)","v":""},{"$f":"CONCATENATE(ใส่ชื่อ!D38&ใส่ชื่อ!E38&\"  \"&ใส่ชื่อ!F38)","v":"  "},{"$f":"ใส่ชื่อ!A38","v":0},null,null,null,null,null,null,null,null,null,null,null,null,null,null,null,null,null,null,null,null,{"$f":"IF(ใส่ชื่อ!D38=\"\",\"\",IF(DR43=\"ปกติ\",SUM(F43,G43,H43,I43,J43,K43,L43,M43,N43,O43,P43,Q43,R43,S43,T43,U43,V43,W43,X43,Y43),\"-\"))","v":""},null,"",null,null,null,null,null,null,null,null,null,null,null,null,null,null,null,null,null,null,null,null,{"$f":"IF(ใส่ชื่อ!D38=\"\",\"\",IF(COUNTIF(AC43:AS43,0),\"มผ\",IF(DR43=\"ปกติ\",SUM(AC43,AD43,AE43,AF43,AG43,AH43,AI43,AJ43,AK43,AL43,AM43,AN43,AO43,AP43,AQ43,AR43,AS43),\"-\")))","v":""},null,"",null,null,null,null,null,null,null,null,null,null,null,null,null,null,null,{"$f":"IF(ใส่ชื่อ!D38=\"\",\"\",IF(COUNTIF(AZ43:BN43,0),\"มผ\",IF(DR43=\"ปกติ\",SUM(AZ43,BA43,BB43,BC43,BD43,BE43,BF43,BG43,BH43,BI43,BJ43,BK43,BL43,BM43,BN43),\"-\")))","v":""},null,"",null,null,null,null,null,null,null,null,null,null,null,null,null,null,null,{"$f":"IF(ใส่ชื่อ!D38=\"\",\"\",IF(DR43=\"ปกติ\",SUM(BR43,BS43,BT43,BU43,BV43,BW43,BX43,BY43,BZ43,CA43,CB43,CC43,CD43,CE43,CF43),\"-\"))","v":""},null,"",null,null,null,null,null,{"$f":"IF(ใส่ชื่อ!D38=\"\",\"\",IF(CJ43=\"\",\"\",(IF(CK43=\"\",\"\",(IF(CL43=\"\",\"\",(IF(CM43=\"\",\"\",(IF(CN43=\"\",\"\",(SUM(CJ43:CN43))))))))))))","v":""},"","",null,null,null,null,null,null,null,null,null,null,"","","","",null,{"$f":"IF(ใส่ชื่อ!D38=\"\",\"\",IF(COUNTIF(DC43:DE43,\"มผ\"),\"มผ\",IF(DE43=\"มผ\",\"มผ\",IF(DR43=\"ปกติ\",SUM(DC43:DD43,IF(DF43=\"\",DE43,DF43)),\"-\"))))","v":""},null,"",null,null,{"$f":"IF(ใส่ชื่อ!D38=\"\",\"\",IF(DG43=\"\",\"\",IF(COUNTIF(DC43:DJ43,\"มผ\"),\"มผ\",IF(COUNTIF(DC43:DJ43,\"-\"),\"-\",IF(DR43=\"ปกติ\",SUM(DG43,IF(DJ43=\"\",DI43,DJ43)))))))","v":""},null,null,null,{"$f":"IF(ใส่ชื่อ!A38=\"\",\"\",IF(DL43=\"-\",\"-\",IF(DL43=0,\"\",IF(DR43=\"ปกติ\",MAXA(DL43/2,DN43/2)))))","v":""},null,{"$f":"IF(เวลาเรียน!M45=\"\",\"\",เวลาเรียน!M45)","v":""}]
[38,0,{"$f":"CONCATENATE(ใส่ชื่อ!C39)","v":""},{"$f":"CONCATENATE(ใส่ชื่อ!D39&ใส่ชื่อ!E39&\"  \"&ใส่ชื่อ!F39)","v":"  "},{"$f":"ใส่ชื่อ!A39","v":0},null,null,null,null,null,null,null,null,null,null,null,null,null,null,null,null,null,null,null,null,{"$f":"IF(ใส่ชื่อ!D39=\"\",\"\",IF(DR44=\"ปกติ\",SUM(F44,G44,H44,I44,J44,K44,L44,M44,N44,O44,P44,Q44,R44,S44,T44,U44,V44,W44,X44,Y44),\"-\"))","v":""},null,"",null,null,null,null,null,null,null,null,null,null,null,null,null,null,null,null,null,null,null,null,{"$f":"IF(ใส่ชื่อ!D39=\"\",\"\",IF(COUNTIF(AC44:AS44,0),\"มผ\",IF(DR44=\"ปกติ\",SUM(AC44,AD44,AE44,AF44,AG44,AH44,AI44,AJ44,AK44,AL44,AM44,AN44,AO44,AP44,AQ44,AR44,AS44),\"-\")))","v":""},null,"",null,null,null,null,null,null,null,null,null,null,null,null,null,null,null,{"$f":"IF(ใส่ชื่อ!D39=\"\",\"\",IF(COUNTIF(AZ44:BN44,0),\"มผ\",IF(DR44=\"ปกติ\",SUM(AZ44,BA44,BB44,BC44,BD44,BE44,BF44,BG44,BH44,BI44,BJ44,BK44,BL44,BM44,BN44),\"-\")))","v":""},null,"",null,null,null,null,null,null,null,null,null,null,null,null,null,null,null,{"$f":"IF(ใส่ชื่อ!D39=\"\",\"\",IF(DR44=\"ปกติ\",SUM(BR44,BS44,BT44,BU44,BV44,BW44,BX44,BY44,BZ44,CA44,CB44,CC44,CD44,CE44,CF44),\"-\"))","v":""},null,"",null,null,null,null,null,{"$f":"IF(ใส่ชื่อ!D39=\"\",\"\",IF(CJ44=\"\",\"\",(IF(CK44=\"\",\"\",(IF(CL44=\"\",\"\",(IF(CM44=\"\",\"\",(IF(CN44=\"\",\"\",(SUM(CJ44:CN44))))))))))))","v":""},"","",null,null,null,null,null,null,null,null,null,null,"","","","",null,{"$f":"IF(ใส่ชื่อ!D39=\"\",\"\",IF(COUNTIF(DC44:DE44,\"มผ\"),\"มผ\",IF(DE44=\"มผ\",\"มผ\",IF(DR44=\"ปกติ\",SUM(DC44:DD44,IF(DF44=\"\",DE44,DF44)),\"-\"))))","v":""},null,"",null,null,{"$f":"IF(ใส่ชื่อ!D39=\"\",\"\",IF(DG44=\"\",\"\",IF(COUNTIF(DC44:DJ44,\"มผ\"),\"มผ\",IF(COUNTIF(DC44:DJ44,\"-\"),\"-\",IF(DR44=\"ปกติ\",SUM(DG44,IF(DJ44=\"\",DI44,DJ44)))))))","v":""},null,null,null,{"$f":"IF(ใส่ชื่อ!A39=\"\",\"\",IF(DL44=\"-\",\"-\",IF(DL44=0,\"\",IF(DR44=\"ปกติ\",MAXA(DL44/2,DN44/2)))))","v":""},null,{"$f":"IF(เวลาเรียน!M46=\"\",\"\",เวลาเรียน!M46)","v":""}]
[39,0,{"$f":"CONCATENATE(ใส่ชื่อ!C40)","v":""},{"$f":"CONCATENATE(ใส่ชื่อ!D40&ใส่ชื่อ!E40&\"  \"&ใส่ชื่อ!F40)","v":"  "},{"$f":"ใส่ชื่อ!A40","v":0},null,null,null,null,null,null,null,null,null,null,null,null,null,null,null,null,null,null,null,null,{"$f":"IF(ใส่ชื่อ!D40=\"\",\"\",IF(DR45=\"ปกติ\",SUM(F45,G45,H45,I45,J45,K45,L45,M45,N45,O45,P45,Q45,R45,S45,T45,U45,V45,W45,X45,Y45),\"-\"))","v":""},null,"",null,null,null,null,null,null,null,null,null,null,null,null,null,null,null,null,null,null,null,null,{"$f":"IF(ใส่ชื่อ!D40=\"\",\"\",IF(COUNTIF(AC45:AS45,0),\"มผ\",IF(DR45=\"ปกติ\",SUM(AC45,AD45,AE45,AF45,AG45,AH45,AI45,AJ45,AK45,AL45,AM45,AN45,AO45,AP45,AQ45,AR45,AS45),\"-\")))","v":""},null,"",null,null,null,null,null,null,null,null,null,null,null,null,null,null,null,{"$f":"IF(ใส่ชื่อ!D40=\"\",\"\",IF(COUNTIF(AZ45:BN45,0),\"มผ\",IF(DR45=\"ปกติ\",SUM(AZ45,BA45,BB45,BC45,BD45,BE45,BF45,BG45,BH45,BI45,BJ45,BK45,BL45,BM45,BN45),\"-\")))","v":""},null,"",null,null,null,null,null,null,null,null,null,null,null,null,null,null,null,{"$f":"IF(ใส่ชื่อ!D40=\"\",\"\",IF(DR45=\"ปกติ\",SUM(BR45,BS45,BT45,BU45,BV45,BW45,BX45,BY45,BZ45,CA45,CB45,CC45,CD45,CE45,CF45),\"-\"))","v":""},null,"",null,null,null,null,null,{"$f":"IF(ใส่ชื่อ!D40=\"\",\"\",IF(CJ45=\"\",\"\",(IF(CK45=\"\",\"\",(IF(CL45=\"\",\"\",(IF(CM45=\"\",\"\",(IF(CN45=\"\",\"\",(SUM(CJ45:CN45))))))))))))","v":""},"","",null,null,null,null,null,null,null,null,null,null,"","","","",null,{"$f":"IF(ใส่ชื่อ!D40=\"\",\"\",IF(COUNTIF(DC45:DE45,\"มผ\"),\"มผ\",IF(DE45=\"มผ\",\"มผ\",IF(DR45=\"ปกติ\",SUM(DC45:DD45,IF(DF45=\"\",DE45,DF45)),\"-\"))))","v":""},null,"",null,null,{"$f":"IF(ใส่ชื่อ!D40=\"\",\"\",IF(DG45=\"\",\"\",IF(COUNTIF(DC45:DJ45,\"มผ\"),\"มผ\",IF(COUNTIF(DC45:DJ45,\"-\"),\"-\",IF(DR45=\"ปกติ\",SUM(DG45,IF(DJ45=\"\",DI45,DJ45)))))))","v":""},null,null,null,{"$f":"IF(ใส่ชื่อ!A40=\"\",\"\",IF(DL45=\"-\",\"-\",IF(DL45=0,\"\",IF(DR45=\"ปกติ\",MAXA(DL45/2,DN45/2)))))","v":""},null,{"$f":"IF(เวลาเรียน!M47=\"\",\"\",เวลาเรียน!M47)","v":""}]
[40,0,{"$f":"CONCATENATE(ใส่ชื่อ!C41)","v":""},{"$f":"CONCATENATE(ใส่ชื่อ!D41&ใส่ชื่อ!E41&\"  \"&ใส่ชื่อ!F41)","v":"  "},{"$f":"ใส่ชื่อ!A41","v":0},null,null,null,null,null,null,null,null,null,null,null,null,null,null,null,null,null,null,null,null,{"$f":"IF(ใส่ชื่อ!D41=\"\",\"\",IF(DR46=\"ปกติ\",SUM(F46,G46,H46,I46,J46,K46,L46,M46,N46,O46,P46,Q46,R46,S46,T46,U46,V46,W46,X46,Y46),\"-\"))","v":""},null,"",null,null,null,null,null,null,null,null,null,null,null,null,null,null,null,null,null,null,null,null,{"$f":"IF(ใส่ชื่อ!D41=\"\",\"\",IF(COUNTIF(AC46:AS46,0),\"มผ\",IF(DR46=\"ปกติ\",SUM(AC46,AD46,AE46,AF46,AG46,AH46,AI46,AJ46,AK46,AL46,AM46,AN46,AO46,AP46,AQ46,AR46,AS46),\"-\")))","v":""},null,"",null,null,null,null,null,null,null,null,null,null,null,null,null,null,null,{"$f":"IF(ใส่ชื่อ!D41=\"\",\"\",IF(COUNTIF(AZ46:BN46,0),\"มผ\",IF(DR46=\"ปกติ\",SUM(AZ46,BA46,BB46,BC46,BD46,BE46,BF46,BG46,BH46,BI46,BJ46,BK46,BL46,BM46,BN46),\"-\")))","v":""},null,"",null,null,null,null,null,null,null,null,null,null,null,null,null,null,null,{"$f":"IF(ใส่ชื่อ!D41=\"\",\"\",IF(DR46=\"ปกติ\",SUM(BR46,BS46,BT46,BU46,BV46,BW46,BX46,BY46,BZ46,CA46,CB46,CC46,CD46,CE46,CF46),\"-\"))","v":""},null,"",null,null,null,null,null,{"$f":"IF(ใส่ชื่อ!D41=\"\",\"\",IF(CJ46=\"\",\"\",(IF(CK46=\"\",\"\",(IF(CL46=\"\",\"\",(IF(CM46=\"\",\"\",(IF(CN46=\"\",\"\",(SUM(CJ46:CN46))))))))))))","v":""},"","",null,null,null,null,null,null,null,null,null,null,"","","","",null,{"$f":"IF(ใส่ชื่อ!D41=\"\",\"\",IF(COUNTIF(DC46:DE46,\"มผ\"),\"มผ\",IF(DE46=\"มผ\",\"มผ\",IF(DR46=\"ปกติ\",SUM(DC46:DD46,IF(DF46=\"\",DE46,DF46)),\"-\"))))","v":""},null,"",null,null,{"$f":"IF(ใส่ชื่อ!D41=\"\",\"\",IF(DG46=\"\",\"\",IF(COUNTIF(DC46:DJ46,\"มผ\"),\"มผ\",IF(COUNTIF(DC46:DJ46,\"-\"),\"-\",IF(DR46=\"ปกติ\",SUM(DG46,IF(DJ46=\"\",DI46,DJ46)))))))","v":""},null,null,null,{"$f":"IF(ใส่ชื่อ!A41=\"\",\"\",IF(DL46=\"-\",\"-\",IF(DL46=0,\"\",IF(DR46=\"ปกติ\",MAXA(DL46/2,DN46/2)))))","v":""},null,{"$f":"IF(เวลาเรียน!M48=\"\",\"\",เวลาเรียน!M48)","v":""}]
[36,0,{"$f":"CONCATENATE(ใส่ชื่อ!C42)","v":""},{"$f":"CONCATENATE(ใส่ชื่อ!D42&ใส่ชื่อ!E42&\"  \"&ใส่ชื่อ!F42)","v":"  "},{"$f":"ใส่ชื่อ!A42","v":0},null,null,null,null,null,null,null,null,null,null,null,null,null,null,null,null,null,null,null,null,{"$f":"IF(ใส่ชื่อ!D42=\"\",\"\",IF(DR47=\"ปกติ\",SUM(F47,G47,H47,I47,J47,K47,L47,M47,N47,O47,P47,Q47,R47,S47,T47,U47,V47,W47,X47,Y47),\"-\"))","v":""},null,"",null,null,null,null,null,null,null,null,null,null,null,null,null,null,null,null,null,null,null,null,{"$f":"IF(ใส่ชื่อ!D42=\"\",\"\",IF(COUNTIF(AC47:AS47,0),\"มผ\",IF(DR47=\"ปกติ\",SUM(AC47,AD47,AE47,AF47,AG47,AH47,AI47,AJ47,AK47,AL47,AM47,AN47,AO47,AP47,AQ47,AR47,AS47),\"-\")))","v":""},null,"",null,null,null,null,null,null,null,null,null,null,null,null,null,null,null,{"$f":"IF(ใส่ชื่อ!D42=\"\",\"\",IF(COUNTIF(AZ47:BN47,0),\"มผ\",IF(DR47=\"ปกติ\",SUM(AZ47,BA47,BB47,BC47,BD47,BE47,BF47,BG47,BH47,BI47,BJ47,BK47,BL47,BM47,BN47),\"-\")))","v":""},null,"",null,null,null,null,null,null,null,null,null,null,null,null,null,null,null,{"$f":"IF(ใส่ชื่อ!D42=\"\",\"\",IF(DR47=\"ปกติ\",SUM(BR47,BS47,BT47,BU47,BV47,BW47,BX47,BY47,BZ47,CA47,CB47,CC47,CD47,CE47,CF47),\"-\"))","v":""},null,"",null,null,null,null,null,{"$f":"IF(ใส่ชื่อ!D42=\"\",\"\",IF(CJ47=\"\",\"\",(IF(CK47=\"\",\"\",(IF(CL47=\"\",\"\",(IF(CM47=\"\",\"\",(IF(CN47=\"\",\"\",(SUM(CJ47:CN47))))))))))))","v":""},"","",null,null,null,null,null,null,null,null,null,null,"","","","",null,{"$f":"IF(ใส่ชื่อ!D42=\"\",\"\",IF(COUNTIF(DC47:DE47,\"มผ\"),\"มผ\",IF(DE47=\"มผ\",\"มผ\",IF(DR47=\"ปกติ\",SUM(DC47:DD47,IF(DF47=\"\",DE47,DF47)),\"-\"))))","v":""},null,"",null,null,{"$f":"IF(ใส่ชื่อ!D42=\"\",\"\",IF(DG47=\"\",\"\",IF(COUNTIF(DC47:DJ47,\"มผ\"),\"มผ\",IF(COUNTIF(DC47:DJ47,\"-\"),\"-\",IF(DR47=\"ปกติ\",SUM(DG47,IF(DJ47=\"\",DI47,DJ47)))))))","v":""},null,null,null,{"$f":"IF(ใส่ชื่อ!A42=\"\",\"\",IF(DL47=\"-\",\"-\",IF(DL47=0,\"\",IF(DR47=\"ปกติ\",MAXA(DL47/2,DN47/2)))))","v":""},null,{"$f":"IF(เวลาเรียน!M49=\"\",\"\",เวลาเรียน!M49)","v":""}]
[37,0,{"$f":"CONCATENATE(ใส่ชื่อ!C43)","v":""},{"$f":"CONCATENATE(ใส่ชื่อ!D43&ใส่ชื่อ!E43&\"  \"&ใส่ชื่อ!F43)","v":"  "},{"$f":"ใส่ชื่อ!A43","v":0},null,null,null,null,null,null,null,null,null,null,null,null,null,null,null,null,null,null,null,null,{"$f":"IF(ใส่ชื่อ!D43=\"\",\"\",IF(DR48=\"ปกติ\",SUM(F48,G48,H48,I48,J48,K48,L48,M48,N48,O48,P48,Q48,R48,S48,T48,U48,V48,W48,X48,Y48),\"-\"))","v":""},null,"",null,null,null,null,null,null,null,null,null,null,null,null,null,null,null,null,null,null,null,null,{"$f":"IF(ใส่ชื่อ!D43=\"\",\"\",IF(COUNTIF(AC48:AS48,0),\"มผ\",IF(DR48=\"ปกติ\",SUM(AC48,AD48,AE48,AF48,AG48,AH48,AI48,AJ48,AK48,AL48,AM48,AN48,AO48,AP48,AQ48,AR48,AS48),\"-\")))","v":""},null,"",null,null,null,null,null,null,null,null,null,null,null,null,null,null,null,{"$f":"IF(ใส่ชื่อ!D43=\"\",\"\",IF(COUNTIF(AZ48:BN48,0),\"มผ\",IF(DR48=\"ปกติ\",SUM(AZ48,BA48,BB48,BC48,BD48,BE48,BF48,BG48,BH48,BI48,BJ48,BK48,BL48,BM48,BN48),\"-\")))","v":""},null,"",null,null,null,null,null,null,null,null,null,null,null,null,null,null,null,{"$f":"IF(ใส่ชื่อ!D43=\"\",\"\",IF(DR48=\"ปกติ\",SUM(BR48,BS48,BT48,BU48,BV48,BW48,BX48,BY48,BZ48,CA48,CB48,CC48,CD48,CE48,CF48),\"-\"))","v":""},null,"",null,null,null,null,null,{"$f":"IF(ใส่ชื่อ!D43=\"\",\"\",IF(CJ48=\"\",\"\",(IF(CK48=\"\",\"\",(IF(CL48=\"\",\"\",(IF(CM48=\"\",\"\",(IF(CN48=\"\",\"\",(SUM(CJ48:CN48))))))))))))","v":""},"","",null,null,null,null,null,null,null,null,null,null,"","","","",null,{"$f":"IF(ใส่ชื่อ!D43=\"\",\"\",IF(COUNTIF(DC48:DE48,\"มผ\"),\"มผ\",IF(DE48=\"มผ\",\"มผ\",IF(DR48=\"ปกติ\",SUM(DC48:DD48,IF(DF48=\"\",DE48,DF48)),\"-\"))))","v":""},null,"",null,null,{"$f":"IF(ใส่ชื่อ!D43=\"\",\"\",IF(DG48=\"\",\"\",IF(COUNTIF(DC48:DJ48,\"มผ\"),\"มผ\",IF(COUNTIF(DC48:DJ48,\"-\"),\"-\",IF(DR48=\"ปกติ\",SUM(DG48,IF(DJ48=\"\",DI48,DJ48)))))))","v":""},null,null,null,{"$f":"IF(ใส่ชื่อ!A43=\"\",\"\",IF(DL48=\"-\",\"-\",IF(DL48=0,\"\",IF(DR48=\"ปกติ\",MAXA(DL48/2,DN48/2)))))","v":""},null,{"$f":"IF(เวลาเรียน!M50=\"\",\"\",เวลาเรียน!M50)","v":""}]
[38,0,{"$f":"CONCATENATE(ใส่ชื่อ!C44)","v":""},{"$f":"CONCATENATE(ใส่ชื่อ!D44&ใส่ชื่อ!E44&\"  \"&ใส่ชื่อ!F44)","v":"  "},{"$f":"ใส่ชื่อ!A44","v":0},null,null,null,null,null,null,null,null,null,null,null,null,null,null,null,null,null,null,null,null,{"$f":"IF(ใส่ชื่อ!D44=\"\",\"\",IF(DR49=\"ปกติ\",SUM(F49,G49,H49,I49,J49,K49,L49,M49,N49,O49,P49,Q49,R49,S49,T49,U49,V49,W49,X49,Y49),\"-\"))","v":""},null,"",null,null,null,null,null,null,null,null,null,null,null,null,null,null,null,null,null,null,null,null,{"$f":"IF(ใส่ชื่อ!D44=\"\",\"\",IF(COUNTIF(AC49:AS49,0),\"มผ\",IF(DR49=\"ปกติ\",SUM(AC49,AD49,AE49,AF49,AG49,AH49,AI49,AJ49,AK49,AL49,AM49,AN49,AO49,AP49,AQ49,AR49,AS49),\"-\")))","v":""},null,"",null,null,null,null,null,null,null,null,null,null,null,null,null,null,null,{"$f":"IF(ใส่ชื่อ!D44=\"\",\"\",IF(COUNTIF(AZ49:BN49,0),\"มผ\",IF(DR49=\"ปกติ\",SUM(AZ49,BA49,BB49,BC49,BD49,BE49,BF49,BG49,BH49,BI49,BJ49,BK49,BL49,BM49,BN49),\"-\")))","v":""},null,"",null,null,null,null,null,null,null,null,null,null,null,null,null,null,null,{"$f":"IF(ใส่ชื่อ!D44=\"\",\"\",IF(DR49=\"ปกติ\",SUM(BR49,BS49,BT49,BU49,BV49,BW49,BX49,BY49,BZ49,CA49,CB49,CC49,CD49,CE49,CF49),\"-\"))","v":""},null,"",null,null,null,null,null,{"$f":"IF(ใส่ชื่อ!D44=\"\",\"\",IF(CJ49=\"\",\"\",(IF(CK49=\"\",\"\",(IF(CL49=\"\",\"\",(IF(CM49=\"\",\"\",(IF(CN49=\"\",\"\",(SUM(CJ49:CN49))))))))))))","v":""},"","",null,null,null,null,null,null,null,null,null,null,"","","","",null,{"$f":"IF(ใส่ชื่อ!D44=\"\",\"\",IF(COUNTIF(DC49:DE49,\"มผ\"),\"มผ\",IF(DE49=\"มผ\",\"มผ\",IF(DR49=\"ปกติ\",SUM(DC49:DD49,IF(DF49=\"\",DE49,DF49)),\"-\"))))","v":""},null,"",null,null,{"$f":"IF(ใส่ชื่อ!D44=\"\",\"\",IF(DG49=\"\",\"\",IF(COUNTIF(DC49:DJ49,\"มผ\"),\"มผ\",IF(COUNTIF(DC49:DJ49,\"-\"),\"-\",IF(DR49=\"ปกติ\",SUM(DG49,IF(DJ49=\"\",DI49,DJ49)))))))","v":""},null,null,null,{"$f":"IF(ใส่ชื่อ!A44=\"\",\"\",IF(DL49=\"-\",\"-\",IF(DL49=0,\"\",IF(DR49=\"ปกติ\",MAXA(DL49/2,DN49/2)))))","v":""},null,{"$f":"IF(เวลาเรียน!M51=\"\",\"\",เวลาเรียน!M51)","v":""}]
[39,0,{"$f":"CONCATENATE(ใส่ชื่อ!C45)","v":""},{"$f":"CONCATENATE(ใส่ชื่อ!D45&ใส่ชื่อ!E45&\"  \"&ใส่ชื่อ!F45)","v":"  "},{"$f":"ใส่ชื่อ!A45","v":0},null,null,null,null,null,null,null,null,null,null,null,null,null,null,null,null,null,null,null,null,{"$f":"IF(ใส่ชื่อ!D45=\"\",\"\",IF(DR50=\"ปกติ\",SUM(F50,G50,H50,I50,J50,K50,L50,M50,N50,O50,P50,Q50,R50,S50,T50,U50,V50,W50,X50,Y50),\"-\"))","v":""},null,"",null,null,null,null,null,null,null,null,null,null,null,null,null,null,null,null,null,null,null,null,{"$f":"IF(ใส่ชื่อ!D45=\"\",\"\",IF(COUNTIF(AC50:AS50,0),\"มผ\",IF(DR50=\"ปกติ\",SUM(AC50,AD50,AE50,AF50,AG50,AH50,AI50,AJ50,AK50,AL50,AM50,AN50,AO50,AP50,AQ50,AR50,AS50),\"-\")))","v":""},null,"",null,null,null,null,null,null,null,null,null,null,null,null,null,null,null,{"$f":"IF(ใส่ชื่อ!D45=\"\",\"\",IF(COUNTIF(AZ50:BN50,0),\"มผ\",IF(DR50=\"ปกติ\",SUM(AZ50,BA50,BB50,BC50,BD50,BE50,BF50,BG50,BH50,BI50,BJ50,BK50,BL50,BM50,BN50),\"-\")))","v":""},null,"",null,null,null,null,null,null,null,null,null,null,null,null,null,null,null,{"$f":"IF(ใส่ชื่อ!D45=\"\",\"\",IF(DR50=\"ปกติ\",SUM(BR50,BS50,BT50,BU50,BV50,BW50,BX50,BY50,BZ50,CA50,CB50,CC50,CD50,CE50,CF50),\"-\"))","v":""},null,"",null,null,null,null,null,{"$f":"IF(ใส่ชื่อ!D45=\"\",\"\",IF(CJ50=\"\",\"\",(IF(CK50=\"\",\"\",(IF(CL50=\"\",\"\",(IF(CM50=\"\",\"\",(IF(CN50=\"\",\"\",(SUM(CJ50:CN50))))))))))))","v":""},"","",null,null,null,null,null,null,null,null,null,null,"","","","",null,{"$f":"IF(ใส่ชื่อ!D45=\"\",\"\",IF(COUNTIF(DC50:DE50,\"มผ\"),\"มผ\",IF(DE50=\"มผ\",\"มผ\",IF(DR50=\"ปกติ\",SUM(DC50:DD50,IF(DF50=\"\",DE50,DF50)),\"-\"))))","v":""},null,"",null,null,{"$f":"IF(ใส่ชื่อ!D45=\"\",\"\",IF(DG50=\"\",\"\",IF(COUNTIF(DC50:DJ50,\"มผ\"),\"มผ\",IF(COUNTIF(DC50:DJ50,\"-\"),\"-\",IF(DR50=\"ปกติ\",SUM(DG50,IF(DJ50=\"\",DI50,DJ50)))))))","v":""},null,null,null,{"$f":"IF(ใส่ชื่อ!A45=\"\",\"\",IF(DL50=\"-\",\"-\",IF(DL50=0,\"\",IF(DR50=\"ปกติ\",MAXA(DL50/2,DN50/2)))))","v":""},null,{"$f":"IF(เวลาเรียน!M52=\"\",\"\",เวลาเรียน!M52)","v":""}]
[40,0,{"$f":"CONCATENATE(ใส่ชื่อ!C46)","v":""},{"$f":"CONCATENATE(ใส่ชื่อ!D46&ใส่ชื่อ!E46&\"  \"&ใส่ชื่อ!F46)","v":"  "},{"$f":"ใส่ชื่อ!A46","v":0},null,null,null,null,null,null,null,null,null,null,null,null,null,null,null,null,null,null,null,null,{"$f":"IF(ใส่ชื่อ!D46=\"\",\"\",IF(DR51=\"ปกติ\",SUM(F51,G51,H51,I51,J51,K51,L51,M51,N51,O51,P51,Q51,R51,S51,T51,U51,V51,W51,X51,Y51),\"-\"))","v":""},null,"",null,null,null,null,null,null,null,null,null,null,null,null,null,null,null,null,null,null,null,null,{"$f":"IF(ใส่ชื่อ!D46=\"\",\"\",IF(COUNTIF(AC51:AS51,0),\"มผ\",IF(DR51=\"ปกติ\",SUM(AC51,AD51,AE51,AF51,AG51,AH51,AI51,AJ51,AK51,AL51,AM51,AN51,AO51,AP51,AQ51,AR51,AS51),\"-\")))","v":""},null,"",null,null,null,null,null,null,null,null,null,null,null,null,null,null,null,{"$f":"IF(ใส่ชื่อ!D46=\"\",\"\",IF(COUNTIF(AZ51:BN51,0),\"มผ\",IF(DR51=\"ปกติ\",SUM(AZ51,BA51,BB51,BC51,BD51,BE51,BF51,BG51,BH51,BI51,BJ51,BK51,BL51,BM51,BN51),\"-\")))","v":""},null,"",null,null,null,null,null,null,null,null,null,null,null,null,null,null,null,{"$f":"IF(ใส่ชื่อ!D46=\"\",\"\",IF(DR51=\"ปกติ\",SUM(BR51,BS51,BT51,BU51,BV51,BW51,BX51,BY51,BZ51,CA51,CB51,CC51,CD51,CE51,CF51),\"-\"))","v":""},null,"",null,null,null,null,null,{"$f":"IF(ใส่ชื่อ!D46=\"\",\"\",IF(CJ51=\"\",\"\",(IF(CK51=\"\",\"\",(IF(CL51=\"\",\"\",(IF(CM51=\"\",\"\",(IF(CN51=\"\",\"\",(SUM(CJ51:CN51))))))))))))","v":""},"","",null,null,null,null,null,null,null,null,null,null,"","","","",null,{"$f":"IF(ใส่ชื่อ!D46=\"\",\"\",IF(COUNTIF(DC51:DE51,\"มผ\"),\"มผ\",IF(DE51=\"มผ\",\"มผ\",IF(DR51=\"ปกติ\",SUM(DC51:DD51,IF(DF51=\"\",DE51,DF51)),\"-\"))))","v":""},null,"",null,null,{"$f":"IF(ใส่ชื่อ!D46=\"\",\"\",IF(DG51=\"\",\"\",IF(COUNTIF(DC51:DJ51,\"มผ\"),\"มผ\",IF(COUNTIF(DC51:DJ51,\"-\"),\"-\",IF(DR51=\"ปกติ\",SUM(DG51,IF(DJ51=\"\",DI51,DJ51)))))))","v":""},null,null,null,{"$f":"IF(ใส่ชื่อ!A46=\"\",\"\",IF(DL51=\"-\",\"-\",IF(DL51=0,\"\",IF(DR51=\"ปกติ\",MAXA(DL51/2,DN51/2)))))","v":""},null,{"$f":"IF(เวลาเรียน!M53=\"\",\"\",เวลาเรียน!M53)","v":""}]
[36,0,{"$f":"CONCATENATE(ใส่ชื่อ!C47)","v":""},{"$f":"CONCATENATE(ใส่ชื่อ!D47&ใส่ชื่อ!E47&\"  \"&ใส่ชื่อ!F47)","v":"  "},{"$f":"ใส่ชื่อ!A47","v":0},null,null,null,null,null,null,null,null,null,null,null,null,null,null,null,null,null,null,null,null,{"$f":"IF(ใส่ชื่อ!D47=\"\",\"\",IF(DR52=\"ปกติ\",SUM(F52,G52,H52,I52,J52,K52,L52,M52,N52,O52,P52,Q52,R52,S52,T52,U52,V52,W52,X52,Y52),\"-\"))","v":""},null,"",null,null,null,null,null,null,null,null,null,null,null,null,null,null,null,null,null,null,null,null,{"$f":"IF(ใส่ชื่อ!D47=\"\",\"\",IF(COUNTIF(AC52:AS52,0),\"มผ\",IF(DR52=\"ปกติ\",SUM(AC52,AD52,AE52,AF52,AG52,AH52,AI52,AJ52,AK52,AL52,AM52,AN52,AO52,AP52,AQ52,AR52,AS52),\"-\")))","v":""},null,"",null,null,null,null,null,null,null,null,null,null,null,null,null,null,null,{"$f":"IF(ใส่ชื่อ!D47=\"\",\"\",IF(COUNTIF(AZ52:BN52,0),\"มผ\",IF(DR52=\"ปกติ\",SUM(AZ52,BA52,BB52,BC52,BD52,BE52,BF52,BG52,BH52,BI52,BJ52,BK52,BL52,BM52,BN52),\"-\")))","v":""},null,"",null,null,null,null,null,null,null,null,null,null,null,null,null,null,null,{"$f":"IF(ใส่ชื่อ!D47=\"\",\"\",IF(DR52=\"ปกติ\",SUM(BR52,BS52,BT52,BU52,BV52,BW52,BX52,BY52,BZ52,CA52,CB52,CC52,CD52,CE52,CF52),\"-\"))","v":""},null,"",null,null,null,null,null,{"$f":"IF(ใส่ชื่อ!D47=\"\",\"\",IF(CJ52=\"\",\"\",(IF(CK52=\"\",\"\",(IF(CL52=\"\",\"\",(IF(CM52=\"\",\"\",(IF(CN52=\"\",\"\",(SUM(CJ52:CN52))))))))))))","v":""},"","",null,null,null,null,null,null,null,null,null,null,"","","","",null,{"$f":"IF(ใส่ชื่อ!D47=\"\",\"\",IF(COUNTIF(DC52:DE52,\"มผ\"),\"มผ\",IF(DE52=\"มผ\",\"มผ\",IF(DR52=\"ปกติ\",SUM(DC52:DD52,IF(DF52=\"\",DE52,DF52)),\"-\"))))","v":""},null,"",null,null,{"$f":"IF(ใส่ชื่อ!D47=\"\",\"\",IF(DG52=\"\",\"\",IF(COUNTIF(DC52:DJ52,\"มผ\"),\"มผ\",IF(COUNTIF(DC52:DJ52,\"-\"),\"-\",IF(DR52=\"ปกติ\",SUM(DG52,IF(DJ52=\"\",DI52,DJ52)))))))","v":""},null,null,null,{"$f":"IF(ใส่ชื่อ!A47=\"\",\"\",IF(DL52=\"-\",\"-\",IF(DL52=0,\"\",IF(DR52=\"ปกติ\",MAXA(DL52/2,DN52/2)))))","v":""},null,{"$f":"IF(เวลาเรียน!M54=\"\",\"\",เวลาเรียน!M54)","v":""}]
[37,0,{"$f":"CONCATENATE(ใส่ชื่อ!C48)","v":""},{"$f":"CONCATENATE(ใส่ชื่อ!D48&ใส่ชื่อ!E48&\"  \"&ใส่ชื่อ!F48)","v":"  "},{"$f":"ใส่ชื่อ!A48","v":0},null,null,null,null,null,null,null,null,null,null,null,null,null,null,null,null,null,null,null,null,{"$f":"IF(ใส่ชื่อ!D48=\"\",\"\",IF(DR53=\"ปกติ\",SUM(F53,G53,H53,I53,J53,K53,L53,M53,N53,O53,P53,Q53,R53,S53,T53,U53,V53,W53,X53,Y53),\"-\"))","v":""},null,"",null,null,null,null,null,null,null,null,null,null,null,null,null,null,null,null,null,null,null,null,{"$f":"IF(ใส่ชื่อ!D48=\"\",\"\",IF(COUNTIF(AC53:AS53,0),\"มผ\",IF(DR53=\"ปกติ\",SUM(AC53,AD53,AE53,AF53,AG53,AH53,AI53,AJ53,AK53,AL53,AM53,AN53,AO53,AP53,AQ53,AR53,AS53),\"-\")))","v":""},null,"",null,null,null,null,null,null,null,null,null,null,null,null,null,null,null,{"$f":"IF(ใส่ชื่อ!D48=\"\",\"\",IF(COUNTIF(AZ53:BN53,0),\"มผ\",IF(DR53=\"ปกติ\",SUM(AZ53,BA53,BB53,BC53,BD53,BE53,BF53,BG53,BH53,BI53,BJ53,BK53,BL53,BM53,BN53),\"-\")))","v":""},null,"",null,null,null,null,null,null,null,null,null,null,null,null,null,null,null,{"$f":"IF(ใส่ชื่อ!D48=\"\",\"\",IF(DR53=\"ปกติ\",SUM(BR53,BS53,BT53,BU53,BV53,BW53,BX53,BY53,BZ53,CA53,CB53,CC53,CD53,CE53,CF53),\"-\"))","v":""},null,"",null,null,null,null,null,{"$f":"IF(ใส่ชื่อ!D48=\"\",\"\",IF(CJ53=\"\",\"\",(IF(CK53=\"\",\"\",(IF(CL53=\"\",\"\",(IF(CM53=\"\",\"\",(IF(CN53=\"\",\"\",(SUM(CJ53:CN53))))))))))))","v":""},"","",null,null,null,null,null,null,null,null,null,null,"","","","",null,{"$f":"IF(ใส่ชื่อ!D48=\"\",\"\",IF(COUNTIF(DC53:DE53,\"มผ\"),\"มผ\",IF(DE53=\"มผ\",\"มผ\",IF(DR53=\"ปกติ\",SUM(DC53:DD53,IF(DF53=\"\",DE53,DF53)),\"-\"))))","v":""},null,"",null,null,{"$f":"IF(ใส่ชื่อ!D48=\"\",\"\",IF(DG53=\"\",\"\",IF(COUNTIF(DC53:DJ53,\"มผ\"),\"มผ\",IF(COUNTIF(DC53:DJ53,\"-\"),\"-\",IF(DR53=\"ปกติ\",SUM(DG53,IF(DJ53=\"\",DI53,DJ53)))))))","v":""},null,null,null,{"$f":"IF(ใส่ชื่อ!A48=\"\",\"\",IF(DL53=\"-\",\"-\",IF(DL53=0,\"\",IF(DR53=\"ปกติ\",MAXA(DL53/2,DN53/2)))))","v":""},null,{"$f":"IF(เวลาเรียน!M55=\"\",\"\",เวลาเรียน!M55)","v":""}]
[38,0,{"$f":"CONCATENATE(ใส่ชื่อ!C49)","v":""},{"$f":"CONCATENATE(ใส่ชื่อ!D49&ใส่ชื่อ!E49&\"  \"&ใส่ชื่อ!F49)","v":"  "},{"$f":"ใส่ชื่อ!A49","v":0},null,null,null,null,null,null,null,null,null,null,null,null,null,null,null,null,null,null,null,null,{"$f":"IF(ใส่ชื่อ!D49=\"\",\"\",IF(DR54=\"ปกติ\",SUM(F54,G54,H54,I54,J54,K54,L54,M54,N54,O54,P54,Q54,R54,S54,T54,U54,V54,W54,X54,Y54),\"-\"))","v":""},null,"",null,null,null,null,null,null,null,null,null,null,null,null,null,null,null,null,null,null,null,null,{"$f":"IF(ใส่ชื่อ!D49=\"\",\"\",IF(COUNTIF(AC54:AS54,0),\"มผ\",IF(DR54=\"ปกติ\",SUM(AC54,AD54,AE54,AF54,AG54,AH54,AI54,AJ54,AK54,AL54,AM54,AN54,AO54,AP54,AQ54,AR54,AS54),\"-\")))","v":""},null,"",null,null,null,null,null,null,null,null,null,null,null,null,null,null,null,{"$f":"IF(ใส่ชื่อ!D49=\"\",\"\",IF(COUNTIF(AZ54:BN54,0),\"มผ\",IF(DR54=\"ปกติ\",SUM(AZ54,BA54,BB54,BC54,BD54,BE54,BF54,BG54,BH54,BI54,BJ54,BK54,BL54,BM54,BN54),\"-\")))","v":""},null,"",null,null,null,null,null,null,null,null,null,null,null,null,null,null,null,{"$f":"IF(ใส่ชื่อ!D49=\"\",\"\",IF(DR54=\"ปกติ\",SUM(BR54,BS54,BT54,BU54,BV54,BW54,BX54,BY54,BZ54,CA54,CB54,CC54,CD54,CE54,CF54),\"-\"))","v":""},null,"",null,null,null,null,null,{"$f":"IF(ใส่ชื่อ!D49=\"\",\"\",IF(CJ54=\"\",\"\",(IF(CK54=\"\",\"\",(IF(CL54=\"\",\"\",(IF(CM54=\"\",\"\",(IF(CN54=\"\",\"\",(SUM(CJ54:CN54))))))))))))","v":""},"","",null,null,null,null,null,null,null,null,null,null,"","","","",null,{"$f":"IF(ใส่ชื่อ!D49=\"\",\"\",IF(COUNTIF(DC54:DE54,\"มผ\"),\"มผ\",IF(DE54=\"มผ\",\"มผ\",IF(DR54=\"ปกติ\",SUM(DC54:DD54,IF(DF54=\"\",DE54,DF54)),\"-\"))))","v":""},null,"",null,null,{"$f":"IF(ใส่ชื่อ!D49=\"\",\"\",IF(DG54=\"\",\"\",IF(COUNTIF(DC54:DJ54,\"มผ\"),\"มผ\",IF(COUNTIF(DC54:DJ54,\"-\"),\"-\",IF(DR54=\"ปกติ\",SUM(DG54,IF(DJ54=\"\",DI54,DJ54)))))))","v":""},null,null,null,{"$f":"IF(ใส่ชื่อ!A49=\"\",\"\",IF(DL54=\"-\",\"-\",IF(DL54=0,\"\",IF(DR54=\"ปกติ\",MAXA(DL54/2,DN54/2)))))","v":""},null,{"$f":"IF(เวลาเรียน!M56=\"\",\"\",เวลาเรียน!M56)","v":""}]
[39,0,{"$f":"CONCATENATE(ใส่ชื่อ!C50)","v":""},{"$f":"CONCATENATE(ใส่ชื่อ!D50&ใส่ชื่อ!E50&\"  \"&ใส่ชื่อ!F50)","v":"  "},{"$f":"ใส่ชื่อ!A50","v":0},null,null,null,null,null,null,null,null,null,null,null,null,null,null,null,null,null,null,null,null,{"$f":"IF(ใส่ชื่อ!D50=\"\",\"\",IF(DR55=\"ปกติ\",SUM(F55,G55,H55,I55,J55,K55,L55,M55,N55,O55,P55,Q55,R55,S55,T55,U55,V55,W55,X55,Y55),\"-\"))","v":""},null,"",null,null,null,null,null,null,null,null,null,null,null,null,null,null,null,null,null,null,null,null,{"$f":"IF(ใส่ชื่อ!D50=\"\",\"\",IF(COUNTIF(AC55:AS55,0),\"มผ\",IF(DR55=\"ปกติ\",SUM(AC55,AD55,AE55,AF55,AG55,AH55,AI55,AJ55,AK55,AL55,AM55,AN55,AO55,AP55,AQ55,AR55,AS55),\"-\")))","v":""},null,"",null,null,null,null,null,null,null,null,null,null,null,null,null,null,null,{"$f":"IF(ใส่ชื่อ!D50=\"\",\"\",IF(COUNTIF(AZ55:BN55,0),\"มผ\",IF(DR55=\"ปกติ\",SUM(AZ55,BA55,BB55,BC55,BD55,BE55,BF55,BG55,BH55,BI55,BJ55,BK55,BL55,BM55,BN55),\"-\")))","v":""},null,"",null,null,null,null,null,null,null,null,null,null,null,null,null,null,null,{"$f":"IF(ใส่ชื่อ!D50=\"\",\"\",IF(DR55=\"ปกติ\",SUM(BR55,BS55,BT55,BU55,BV55,BW55,BX55,BY55,BZ55,CA55,CB55,CC55,CD55,CE55,CF55),\"-\"))","v":""},null,"",null,null,null,null,null,{"$f":"IF(ใส่ชื่อ!D50=\"\",\"\",IF(CJ55=\"\",\"\",(IF(CK55=\"\",\"\",(IF(CL55=\"\",\"\",(IF(CM55=\"\",\"\",(IF(CN55=\"\",\"\",(SUM(CJ55:CN55))))))))))))","v":""},"","",null,null,null,null,null,null,null,null,null,null,"","","","",null,{"$f":"IF(ใส่ชื่อ!D50=\"\",\"\",IF(COUNTIF(DC55:DE55,\"มผ\"),\"มผ\",IF(DE55=\"มผ\",\"มผ\",IF(DR55=\"ปกติ\",SUM(DC55:DD55,IF(DF55=\"\",DE55,DF55)),\"-\"))))","v":""},null,"",null,null,{"$f":"IF(ใส่ชื่อ!D50=\"\",\"\",IF(DG55=\"\",\"\",IF(COUNTIF(DC55:DJ55,\"มผ\"),\"มผ\",IF(COUNTIF(DC55:DJ55,\"-\"),\"-\",IF(DR55=\"ปกติ\",SUM(DG55,IF(DJ55=\"\",DI55,DJ55)))))))","v":""},null,null,null,{"$f":"IF(ใส่ชื่อ!A50=\"\",\"\",IF(DL55=\"-\",\"-\",IF(DL55=0,\"\",IF(DR55=\"ปกติ\",MAXA(DL55/2,DN55/2)))))","v":""},null,{"$f":"IF(เวลาเรียน!M57=\"\",\"\",เวลาเรียน!M57)","v":""}]
[40,0,{"$f":"CONCATENATE(ใส่ชื่อ!C51)","v":""},{"$f":"CONCATENATE(ใส่ชื่อ!D51&ใส่ชื่อ!E51&\"  \"&ใส่ชื่อ!F51)","v":"  "},{"$f":"ใส่ชื่อ!A51","v":0},null,null,null,null,null,null,null,null,null,null,null,null,null,null,null,null,null,null,null,null,{"$f":"IF(ใส่ชื่อ!D51=\"\",\"\",IF(DR56=\"ปกติ\",SUM(F56,G56,H56,I56,J56,K56,L56,M56,N56,O56,P56,Q56,R56,S56,T56,U56,V56,W56,X56,Y56),\"-\"))","v":""},null,"",null,null,null,null,null,null,null,null,null,null,null,null,null,null,null,null,null,null,null,null,{"$f":"IF(ใส่ชื่อ!D51=\"\",\"\",IF(COUNTIF(AC56:AS56,0),\"มผ\",IF(DR56=\"ปกติ\",SUM(AC56,AD56,AE56,AF56,AG56,AH56,AI56,AJ56,AK56,AL56,AM56,AN56,AO56,AP56,AQ56,AR56,AS56),\"-\")))","v":""},null,"",null,null,null,null,null,null,null,null,null,null,null,null,null,null,null,{"$f":"IF(ใส่ชื่อ!D51=\"\",\"\",IF(COUNTIF(AZ56:BN56,0),\"มผ\",IF(DR56=\"ปกติ\",SUM(AZ56,BA56,BB56,BC56,BD56,BE56,BF56,BG56,BH56,BI56,BJ56,BK56,BL56,BM56,BN56),\"-\")))","v":""},null,"",null,null,null,null,null,null,null,null,null,null,null,null,null,null,null,{"$f":"IF(ใส่ชื่อ!D51=\"\",\"\",IF(DR56=\"ปกติ\",SUM(BR56,BS56,BT56,BU56,BV56,BW56,BX56,BY56,BZ56,CA56,CB56,CC56,CD56,CE56,CF56),\"-\"))","v":""},null,"",null,null,null,null,null,{"$f":"IF(ใส่ชื่อ!D51=\"\",\"\",IF(CJ56=\"\",\"\",(IF(CK56=\"\",\"\",(IF(CL56=\"\",\"\",(IF(CM56=\"\",\"\",(IF(CN56=\"\",\"\",(SUM(CJ56:CN56))))))))))))","v":""},"","",null,null,null,null,null,null,null,null,null,null,"","","","",null,{"$f":"IF(ใส่ชื่อ!D51=\"\",\"\",IF(COUNTIF(DC56:DE56,\"มผ\"),\"มผ\",IF(DE56=\"มผ\",\"มผ\",IF(DR56=\"ปกติ\",SUM(DC56:DD56,IF(DF56=\"\",DE56,DF56)),\"-\"))))","v":""},null,"",null,null,{"$f":"IF(ใส่ชื่อ!D51=\"\",\"\",IF(DG56=\"\",\"\",IF(COUNTIF(DC56:DJ56,\"มผ\"),\"มผ\",IF(COUNTIF(DC56:DJ56,\"-\"),\"-\",IF(DR56=\"ปกติ\",SUM(DG56,IF(DJ56=\"\",DI56,DJ56)))))))","v":""},null,null,null,{"$f":"IF(ใส่ชื่อ!A51=\"\",\"\",IF(DL56=\"-\",\"-\",IF(DL56=0,\"\",IF(DR56=\"ปกติ\",MAXA(DL56/2,DN56/2)))))","v":""},null,{"$f":"IF(เวลาเรียน!M58=\"\",\"\",เวลาเรียน!M58)","v":""}]
[null,null,{"$f":"กำหนดอัตราส่วนคะแนน!U4","v":50},null,null,null,null,null,null,null,null,null,null,null,null,null,null,null,null,null,null,null,null,null,null,null,null,null,null,null,null,null,null,null,null,null,null,null,null,null,null,null,null,null,null,null,null,null,null,null,null,null,null,null,null,null,null,null,null,null,null,null,null,null,null,null,null,null,null,null,null,null,null,null,null,null,null,null,null,null,null,null,null,null,null,null,null,{"$f":"COUNTIF($CQ$7:$CQ$56,\"ดย\")","v":11},{"$f":"COUNTIF($CQ$7:$CQ$56,\"ด\")","v":9},{"$f":"COUNTIF($CQ$7:$CQ$56,\"ผ\")","v":0},{"$f":"COUNTIF($CQ$7:$CQ$56,\"มผ\")","v":0},null,null,null,null,{"$f":"COUNTIF($DB$7:$DB$56,\"ดย\")","v":20},{"$f":"COUNTIF($DB$7:$DB$56,\"ด\")","v":0},{"$f":"COUNTIF($DB$7:$DB$56,\"ผ\")","v":0},{"$f":"COUNTIF($DB$7:$DB$56,\"มผ\")","v":0},null,null,null,null,null,null,null,null,null,null,null,null,null,null,null,null,null,null,null,null,null,null,null,null,null,null,null,null,null,null,null,null,null,null,null,null,null,null,null,null,null,{"$f":"กำหนดอัตราส่วนคะแนน!FA4","v":0},null,null,null,null,null,null,null,null,null,null,null,null,null,null,null,null,null,null,null,null,null,null,null,null,null,null,null,null,null,null,null,null,null,null,null,null,null,null,null,null,null,null,null,null,null,null,null,null,null,null,null,null,null,null,null,null,null,null,null,null,null,null,null,null,null,null,null,null,null,null,null,null,null,null,null,null,null,null,null,null,null,null,null,null,{"$f":"COUNTIF($CQ$7:$CQ$56,\"3\")","v":0},{"$f":"COUNTIF($CQ$7:$CQ$56,\"2\")","v":0},{"$f":"COUNTIF($CQ$7:$CQ$56,\"1\")","v":0},{"$f":"COUNTIF($CQ$7:$CQ$56,\"0\")","v":0},null,null,null,null,{"$f":"COUNTIF($DB$7:$DB$56,\"3\")","v":0},{"$f":"COUNTIF($DB$7:$DB$56,\"2\")","v":0},{"$f":"COUNTIF($DB$7:$DB$56,\"1\")","v":0},{"$f":"COUNTIF($DB$7:$DB$56,\"0\")","v":0}]
[]
[]
[]
[null,null,null,null,null,null,null,null,null,null,null,null,null,null,null,null,null,null,null,null,null,null,null,null,null,null,null,null,null,null,null,null,null,null,null,null,null,null,null,null,null,null,null,null,null,null,null,null,null,null,null,null,null,null,null,null,null,null,null,null,null,null,null,null,null,null,null,null,null,"ตอนที่",null,"ป.1/1",null,1]
[null,null,null,null,null,null,null,null,null,null,null,null,null,null,null,null,null,null,null,null,null,null,null,null,null,null,null,null,null,null,null,null,null,null,null,null,null,null,null,null,null,null,null,null,null,null,null,null,null,null,null,null,null,null,null,null,null,null,null,null,null,null,null,null,null,null,null,null,null,"ท 1.1",null,"ป.1/2",null,2]
[null,null,null,null,null,null,null,null,null,null,null,null,null,null,null,null,null,null,null,null,null,null,null,null,null,null,null,null,null,null,null,null,null,null,null,null,null,null,null,null,null,null,null,null,null,null,null,null,null,null,null,null,null,null,null,null,null,null,null,null,null,null,null,null,null,null,null,null,null,"ท 2.1",null,"ป.1/3",null,3]
[null,null,null,null,null,null,null,null,null,null,null,null,null,null,null,null,null,null,null,null,null,null,null,null,null,null,null,null,null,null,null,null,null,null,null,null,null,null,null,null,null,null,null,null,null,null,null,null,null,null,null,null,null,null,null,null,null,null,null,null,null,null,null,null,null,null,null,null,null,"ท 3.1",null,"ป.1/4",null,4]
[null,null,null,null,null,null,null,null,null,null,null,null,null,null,null,null,null,null,null,null,null,null,null,null,null,null,null,null,null,null,null,null,null,null,null,null,null,null,null,null,null,null,null,null,null,null,null,null,null,null,null,null,null,null,null,null,null,null,null,null,null,null,null,null,null,null,null,null,null,"ท 4.1",null,"ป.1/5",null,5]
[null,null,null,null,null,null,null,null,null,null,null,null,null,null,null,null,null,null,null,null,null,null,null,null,null,null,null,null,null,null,null,null,null,null,null,null,null,null,null,null,null,null,null,null,null,null,null,null,null,null,null,null,null,null,null,null,null,null,null,null,null,null,null,null,null,null,null,null,null,"ท 5.1",null,"ป.1/6",null,"-"]
[null,null,null,null,null,null,null,null,null,null,null,null,null,null,null,null,null,null,null,null,null,null,null,null,null,null,null,null,null,null,null,null,null,null,null,null,null,null,null,null,null,null,null,null,null,null,null,null,null,null,null,null,null,null,null,null,null,null,null,null,null,null,null,null,null,null,null,null,null,"ค 1.1",null,"ป.1/7",null,"ป.1/1"]
[null,null,null,null,null,null,null,null,null,null,null,null,null,null,null,null,null,null,null,null,null,null,null,null,null,null,null,null,null,null,null,null,null,null,null,null,null,null,null,null,null,null,null,null,null,null,null,null,null,null,null,null,null,null,null,null,null,null,null,null,null,null,null,null,null,null,null,null,null,"ค 1.2",null,"ป.1/8",null,"ป.1/2"]
[null,null,null,null,null,null,null,null,null,null,null,null,null,null,null,null,null,null,null,null,null,null,null,null,null,null,null,null,null,null,null,null,null,null,null,null,null,null,null,null,null,null,null,null,null,null,null,null,null,null,null,null,null,null,null,null,null,null,null,null,null,null,null,null,null,null,null,null,null,"ค 1.3",null,"ป.1/9",null,"ป.1/3"]
[null,null,null,null,null,null,null,null,null,null,null,null,null,null,null,null,null,null,null,null,null,null,null,null,null,null,null,null,null,null,null,null,null,null,null,null,null,null,null,null,null,null,null,null,null,null,null,null,null,null,null,null,null,null,null,null,null,null,null,null,null,null,null,null,null,null,null,null,null,"ค 2.1",null,"ป.1/10",null,"ป.1/4"]
[null,null,null,null,null,null,null,null,null,null,null,null,null,null,null,null,null,null,null,null,null,null,null,null,null,null,null,null,null,null,null,null,null,null,null,null,null,null,null,null,null,null,null,null,null,null,null,null,null,null,null,null,null,null,null,null,null,null,null,null,null,null,null,null,null,null,null,null,null,"ค 2.2",null,"ป.2/1",null,"ป.1/5"]
[null,null,null,null,null,null,null,null,null,null,null,null,null,null,null,null,null,null,null,null,null,null,null,null,null,null,null,null,null,null,null,null,null,null,null,null,null,null,null,null,null,null,null,null,null,null,null,null,null,null,null,null,null,null,null,null,null,null,null,null,null,null,null,null,null,null,null,null,null,"ค 3.1",null,"ป.2/2",null,"ป.1/6"]
[null,null,null,null,null,null,null,null,null,null,null,null,null,null,null,null,null,null,null,null,null,null,null,null,null,null,null,null,null,null,null,null,null,null,null,null,null,null,null,null,null,null,null,null,null,null,null,null,null,null,null,null,null,null,null,null,null,null,null,null,null,null,null,null,null,null,null,null,null,"ค 3.2",null,"ป.2/3",null,"ป.1/7"]
[null,null,null,null,null,null,null,null,null,null,null,null,null,null,null,null,null,null,null,null,null,null,null,null,null,null,null,null,null,null,null,null,null,null,null,null,null,null,null,null,null,null,null,null,null,null,null,null,null,null,null,null,null,null,null,null,null,null,null,null,null,null,null,null,null,null,null,null,null,"ว 1.1",null,"ป.2/4",null,"ป.1/8"]
[null,null,null,null,null,null,null,null,null,null,null,null,null,null,null,null,null,null,null,null,null,null,null,null,null,null,null,null,null,null,null,null,null,null,null,null,null,null,null,null,null,null,null,null,null,null,null,null,null,null,null,null,null,null,null,null,null,null,null,null,null,null,null,null,null,null,null,null,null,"ว 1.2",null,"ป.2/5",null,"ป.1/9"]
[null,null,null,null,null,null,null,null,null,null,null,null,null,null,null,null,null,null,null,null,null,null,null,null,null,null,null,null,null,null,null,null,null,null,null,null,null,null,null,null,null,null,null,null,null,null,null,null,null,null,null,null,null,null,null,null,null,null,null,null,null,null,null,null,null,null,null,null,null,"ว 1.3",null,"ป.2/6",null,"ป.1/10"]
[null,null,null,null,null,null,null,null,null,null,null,null,null,null,null,null,null,null,null,null,null,null,null,null,null,null,null,null,null,null,null,null,null,null,null,null,null,null,null,null,null,null,null,null,null,null,null,null,null,null,null,null,null,null,null,null,null,null,null,null,null,null,null,null,null,null,null,null,null,"ว 2.1",null,"ป.2/7",null,"ป.1/11"]
[null,null,null,null,null,null,null,null,null,null,null,null,null,null,null,null,null,null,null,null,null,null,null,null,null,null,null,null,null,null,null,null,null,null,null,null,null,null,null,null,null,null,null,null,null,null,null,null,null,null,null,null,null,null,null,null,null,null,null,null,null,null,null,null,null,null,null,null,null,"ว 2.2",null,"ป.2/8",null,"ป.1/12"]
[null,null,null,null,null,null,null,null,null,null,null,null,null,null,null,null,null,null,null,null,null,null,null,null,null,null,null,null,null,null,null,null,null,null,null,null,null,null,null,null,null,null,null,null,null,null,null,null,null,null,null,null,null,null,null,null,null,null,null,null,null,null,null,null,null,null,null,null,null,"ว 2.3",null,"ป.2/9",null,"ป.1/13"]
[null,null,null,null,null,null,null,null,null,null,null,null,null,null,null,null,null,null,null,null,null,null,null,null,null,null,null,null,null,null,null,null,null,null,null,null,null,null,null,null,null,null,null,null,null,null,null,null,null,null,null,null,null,null,null,null,null,null,null,null,null,null,null,null,null,null,null,null,null,"ว 3.1",null,"ป.2/10",null,"ป.1/14"]
[null,null,null,null,null,null,null,null,null,null,null,null,null,null,null,null,null,null,null,null,null,null,null,null,null,null,null,null,null,null,null,null,null,null,null,null,null,null,null,null,null,null,null,null,null,null,null,null,null,null,null,null,null,null,null,null,null,null,null,null,null,null,null,null,null,null,null,null,null,"ว 3.2",null,"ป.3/1",null,"ป.1/15"]
[null,null,null,null,null,null,null,null,null,null,null,null,null,null,null,null,null,null,null,null,null,null,null,null,null,null,null,null,null,null,null,null,null,null,null,null,null,null,null,null,null,null,null,null,null,null,null,null,null,null,null,null,null,null,null,null,null,null,null,null,null,null,null,null,null,null,null,null,null,"ว 4.1",null,null,null,"ป.2/1"]
[null,null,null,null,null,null,null,null,null,null,null,null,null,null,null,null,null,null,null,null,null,null,null,null,null,null,null,null,null,null,null,null,null,null,null,null,null,null,null,null,null,null,null,null,null,null,null,null,null,null,null,null,null,null,null,null,null,null,null,null,null,null,null,null,null,null,null,null,null,"ว 4.2",null,"ป.3/2",null,"ป.2/2"]
[null,null,null,null,null,null,null,null,null,null,null,null,null,null,null,null,null,null,null,null,null,null,null,null,null,null,null,null,null,null,null,null,null,null,null,null,null,null,null,null,null,null,null,null,null,null,null,null,null,null,null,null,null,null,null,null,null,null,null,null,null,null,null,null,null,null,null,null,null,"ส 1.1",null,"ป.3/3",null,"ป.2/3"]
[null,null,null,null,null,null,null,null,null,null,null,null,null,null,null,null,null,null,null,null,null,null,null,null,null,null,null,null,null,null,null,null,null,null,null,null,null,null,null,null,null,null,null,null,null,null,null,null,null,null,null,null,null,null,null,null,null,null,null,null,null,null,null,null,null,null,null,null,null,"ส 1.2",null,null,null,"ป.2/4"]
[null,null,null,null,null,null,null,null,null,null,null,null,null,null,null,null,null,null,null,null,null,null,null,null,null,null,null,null,null,null,null,null,null,null,null,null,null,null,null,null,null,null,null,null,null,null,null,null,null,null,null,null,null,null,null,null,null,null,null,null,null,null,null,null,null,null,null,null,null,"ส 2.1",null,"ป.3/4",null,"ป.2/5"]
[null,null,null,null,null,null,null,null,null,null,null,null,null,null,null,null,null,null,null,null,null,null,null,null,null,null,null,null,null,null,null,null,null,null,null,null,null,null,null,null,null,null,null,null,null,null,null,null,null,null,null,null,null,null,null,null,null,null,null,null,null,null,null,null,null,null,null,null,null,"ส 2.2",null,"ป.3/5",null,"ป.2/6"]
[null,null,null,null,null,null,null,null,null,null,null,null,null,null,null,null,null,null,null,null,null,null,null,null,null,null,null,null,null,null,null,null,null,null,null,null,null,null,null,null,null,null,null,null,null,null,null,null,null,null,null,null,null,null,null,null,null,null,null,null,null,null,null,null,null,null,null,null,null,"ส 3.1",null,"ป.3/6",null,"ป.2/7"]
[null,null,null,null,null,null,null,null,null,null,null,null,null,null,null,null,null,null,null,null,null,null,null,null,null,null,null,null,null,null,null,null,null,null,null,null,null,null,null,null,null,null,null,null,null,null,null,null,null,null,null,null,null,null,null,null,null,null,null,null,null,null,null,null,null,null,null,null,null,"ส 3.2",null,"ป.3/7",null,"ป.2/8"]
[null,null,null,null,null,null,null,null,null,null,null,null,null,null,null,null,null,null,null,null,null,null,null,null,null,null,null,null,null,null,null,null,null,null,null,null,null,null,null,null,null,null,null,null,null,null,null,null,null,null,null,null,null,null,null,null,null,null,null,null,null,null,null,null,null,null,null,null,null,"ส 4.1",null,"ป.3/8",null,"ป.2/9"]
[null,null,null,null,null,null,null,null,null,null,null,null,null,null,null,null,null,null,null,null,null,null,null,null,null,null,null,null,null,null,null,null,null,null,null,null,null,null,null,null,null,null,null,null,null,null,null,null,null,null,null,null,null,null,null,null,null,null,null,null,null,null,null,null,null,null,null,null,null,"ส 4.2",null,"ป.3/9",null,"ป.2/10"]
[null,null,null,null,null,null,null,null,null,null,null,null,null,null,null,null,null,null,null,null,null,null,null,null,null,null,null,null,null,null,null,null,null,null,null,null,null,null,null,null,null,null,null,null,null,null,null,null,null,null,null,null,null,null,null,null,null,null,null,null,null,null,null,null,null,null,null,null,null,"ส 4.2",null,"ป.3/10",null,"ป.2/11"]
[null,null,null,null,null,null,null,null,null,null,null,null,null,null,null,null,null,null,null,null,null,null,null,null,null,null,null,null,null,null,null,null,null,null,null,null,null,null,null,null,null,null,null,null,null,null,null,null,null,null,null,null,null,null,null,null,null,null,null,null,null,null,null,null,null,null,null,null,null,"ส 4.3",null,"ป.4/1",null,"ป.2/12"]
[null,null,null,null,null,null,null,null,null,null,null,null,null,null,null,null,null,null,null,null,null,null,null,null,null,null,null,null,null,null,null,null,null,null,null,null,null,null,null,null,null,null,null,null,null,null,null,null,null,null,null,null,null,null,null,null,null,null,null,null,null,null,null,null,null,null,null,null,null,"ส 5.1",null,"ป.4/2",null,"ป.2/13"]
[null,null,null,null,null,null,null,null,null,null,null,null,null,null,null,null,null,null,null,null,null,null,null,null,null,null,null,null,null,null,null,null,null,null,null,null,null,null,null,null,null,null,null,null,null,null,null,null,null,null,null,null,null,null,null,null,null,null,null,null,null,null,null,null,null,null,null,null,null,"ส 5.2",null,"ป.4/3",null,"ป.2/14"]
[null,null,null,null,null,null,null,null,null,null,null,null,null,null,null,null,null,null,null,null,null,null,null,null,null,null,null,null,null,null,null,null,null,null,null,null,null,null,null,null,null,null,null,null,null,null,null,null,null,null,null,null,null,null,null,null,null,null,null,null,null,null,null,null,null,null,null,null,null,"พ 1.1",null,"ป.4/4",null,"ป.2/15"]
[null,null,null,null,null,null,null,null,null,null,null,null,null,null,null,null,null,null,null,null,null,null,null,null,null,null,null,null,null,null,null,null,null,null,null,null,null,null,null,null,null,null,null,null,null,null,null,null,null,null,null,null,null,null,null,null,null,null,null,null,null,null,null,null,null,null,null,null,null,"พ 2.1",null,"ป.4/5",null,"ป.3/1"]
[null,"ท 1.1",null,null,"ม.1/1",null,null,null,null,null,null,null,null,null,null,null,null,null,null,null,null,null,null,null,null,null,null,null,null,null,null,null,null,null,null,null,null,null,null,null,null,null,null,null,null,null,null,null,null,null,null,null,null,null,null,null,null,null,null,null,null,null,null,null,null,null,null,null,null,"พ 3.1",null,"ป.4/6",null,"ป.3/2",null,null,null,null,null,null,null,null,null,null,null,null,null,null,null,null,null,null,null,null,null,null,null,null,null,null,null,null,null,null,null,null,null,null,null,null,null,null,null,null,null,null,null,null,null,null,null,null,null,null,null,null,null,null,null,null,null,null,null,null,null,null,null,null,null,null,null,null,"ม.1/1"]
[null,"ท 2.1",null,null,"ม.1/2",null,null,null,null,null,null,null,null,null,null,null,null,null,null,null,null,null,null,null,null,null,null,null,null,null,null,null,null,null,null,null,null,null,null,null,null,null,null,null,null,null,null,null,null,null,null,null,null,null,null,null,null,null,null,null,null,null,null,null,null,null,null,null,null,"พ 3.2",null,"ป.4/7",null,"ป.3/3",null,null,null,null,null,null,null,null,null,null,null,null,null,null,null,null,null,null,null,null,null,null,null,null,null,null,null,null,null,null,null,null,null,null,null,null,null,null,null,null,null,null,null,null,null,null,null,null,null,null,null,null,null,null,null,null,null,null,null,null,null,null,null,null,null,null,null,null,"ม.1/2"]
[null,"ท 3.1",null,null,"ม.1/3",null,null,null,null,null,null,null,null,null,null,null,null,null,null,null,null,null,null,null,null,null,null,null,null,null,null,null,null,null,null,null,null,null,null,null,null,null,null,null,null,null,null,null,null,null,null,null,null,null,null,null,null,null,null,null,null,null,null,null,null,null,null,null,null,"พ 4.1",null,"ป.4/8",null,"ป.3/4",null,null,null,null,null,null,null,null,null,null,null,null,null,null,null,null,null,null,null,null,null,null,null,null,null,null,null,null,null,null,null,null,null,null,null,null,null,null,null,null,null,null,null,null,null,null,null,null,null,null,null,null,null,null,null,null,null,null,null,null,null,null,null,null,null,null,null,null,"ม.1/3"]
[null,"ท 4.1",null,null,"ม.1/4",null,null,null,null,null,null,null,null,null,null,null,null,null,null,null,null,null,null,null,null,null,null,null,null,null,null,null,null,null,null,null,null,null,null,null,null,null,null,null,null,null,null,null,null,null,null,null,null,null,null,null,null,null,null,null,null,null,null,null,null,null,null,null,null,"พ 5.1",null,"ป.4/9",null,"ป.3/5",null,null,null,null,null,null,null,null,null,null,null,null,null,null,null,null,null,null,null,null,null,null,null,null,null,null,null,null,null,null,null,null,null,null,null,null,null,null,null,null,null,null,null,null,null,null,null,null,null,null,null,null,null,null,null,null,null,null,null,null,null,null,null,null,null,null,null,null,"ม.1/4"]
[null,"ท 5.1",null,null,"ม.1/5",null,null,null,null,null,null,null,null,null,null,null,null,null,null,null,null,null,null,null,null,null,null,null,null,null,null,null,null,null,null,null,null,null,null,null,null,null,null,null,null,null,null,null,null,null,null,null,null,null,null,null,null,null,null,null,null,null,null,null,null,null,null,null,null,"ศ 1.1",null,"ป.4/10",null,"ป.3/6",null,null,null,null,null,null,null,null,null,null,null,null,null,null,null,null,null,null,null,null,null,null,null,null,null,null,null,null,null,null,null,null,null,null,null,null,null,null,null,null,null,null,null,null,null,null,null,null,null,null,null,null,null,null,null,null,null,null,null,null,null,null,null,null,null,null,null,null,"ม.1/5"]
[null,"ค 1.1",null,null,"ม.1/6",null,null,null,null,null,null,null,null,null,null,null,null,null,null,null,null,null,null,null,null,null,null,null,null,null,null,null,null,null,null,null,null,null,null,null,null,null,null,null,null,null,null,null,null,null,null,null,null,null,null,null,null,null,null,null,null,null,null,null,null,null,null,null,null,"ศ 1.2",null,"ป.5/1",null,"ป.3/7",null,null,null,null,null,null,null,null,null,null,null,null,null,null,null,null,null,null,null,null,null,null,null,null,null,null,null,null,null,null,null,null,null,null,null,null,null,null,null,null,null,null,null,null,null,null,null,null,null,null,null,null,null,null,null,null,null,null,null,null,null,null,null,null,null,null,null,null,"ม.1/6"]
[null,"ค 1.2",null,null,"ม.1/7",null,null,null,null,null,null,null,null,null,null,null,null,null,null,null,null,null,null,null,null,null,null,null,null,null,null,null,null,null,null,null,null,null,null,null,null,null,null,null,null,null,null,null,null,null,null,null,null,null,null,null,null,null,null,null,null,null,null,null,null,null,null,null,null,"ศ 2.1",null,"ป.5/2",null,"ป.3/8",null,null,null,null,null,null,null,null,null,null,null,null,null,null,null,null,null,null,null,null,null,null,null,null,null,null,null,null,null,null,null,null,null,null,null,null,null,null,null,null,null,null,null,null,null,null,null,null,null,null,null,null,null,null,null,null,null,null,null,null,null,null,null,null,null,null,null,null,"ม.1/7"]
[null,"ค 1.3",null,null,"ม.1/8",null,null,null,null,null,null,null,null,null,null,null,null,null,null,null,null,null,null,null,null,null,null,null,null,null,null,null,null,null,null,null,null,null,null,null,null,null,null,null,null,null,null,null,null,null,null,null,null,null,null,null,null,null,null,null,null,null,null,null,null,null,null,null,null,"ศ 2.2",null,"ป.5/3",null,"ป.3/9",null,null,null,null,null,null,null,null,null,null,null,null,null,null,null,null,null,null,null,null,null,null,null,null,null,null,null,null,null,null,null,null,null,null,null,null,null,null,null,null,null,null,null,null,null,null,null,null,null,null,null,null,null,null,null,null,null,null,null,null,null,null,null,null,null,null,null,null,"ม.1/8"]
[null,"ค 1.4",null,null,"ม.1/9",null,null,null,null,null,null,null,null,null,null,null,null,null,null,null,null,null,null,null,null,null,null,null,null,null,null,null,null,null,null,null,null,null,null,null,null,null,null,null,null,null,null,null,null,null,null,null,null,null,null,null,null,null,null,null,null,null,null,null,null,null,null,null,null,"ศ 3.1",null,"ป.5/4",null,"ป.3/10",null,null,null,null,null,null,null,null,null,null,null,null,null,null,null,null,null,null,null,null,null,null,null,null,null,null,null,null,null,null,null,null,null,null,null,null,null,null,null,null,null,null,null,null,null,null,null,null,null,null,null,null,null,null,null,null,null,null,null,null,null,null,null,null,null,null,null,null,"ม.1/9"]
[null,"ค 2.1",null,null,"ม.1/10",null,null,null,null,null,null,null,null,null,null,null,null,null,null,null,null,null,null,null,null,null,null,null,null,null,null,null,null,null,null,null,null,null,null,null,null,null,null,null,null,null,null,null,null,null,null,null,null,null,null,null,null,null,null,null,null,null,null,null,null,null,null,null,null,"ศ 3.2",null,"ป.5/5",null,"ป.3/11",null,null,null,null,null,null,null,null,null,null,null,null,null,null,null,null,null,null,null,null,null,null,null,null,null,null,null,null,null,null,null,null,null,null,null,null,null,null,null,null,null,null,null,null,null,null,null,null,null,null,null,null,null,null,null,null,null,null,null,null,null,null,null,null,null,null,null,null,"ม.1/10"]
[null,"ค 2.2",null,null,"ม.2/1",null,null,null,null,null,null,null,null,null,null,null,null,null,null,null,null,null,null,null,null,null,null,null,null,null,null,null,null,null,null,null,null,null,null,null,null,null,null,null,null,null,null,null,null,null,null,null,null,null,null,null,null,null,null,null,null,null,null,null,null,null,null,null,null,"ง 1.1",null,"ป.5/6",null,"ป.3/12",null,null,null,null,null,null,null,null,null,null,null,null,null,null,null,null,null,null,null,null,null,null,null,null,null,null,null,null,null,null,null,null,null,null,null,null,null,null,null,null,null,null,null,null,null,null,null,null,null,null,null,null,null,null,null,null,null,null,null,null,null,null,null,null,null,null,null,null,"ม.2/1"]
[null,"ค 3.1",null,null,"ม.2/2",null,null,null,null,null,null,null,null,null,null,null,null,null,null,null,null,null,null,null,null,null,null,null,null,null,null,null,null,null,null,null,null,null,null,null,null,null,null,null,null,null,null,null,null,null,null,null,null,null,null,null,null,null,null,null,null,null,null,null,null,null,null,null,null," ง 2.1",null,"ป.5/7",null,"ป.3/13",null,null,null,null,null,null,null,null,null,null,null,null,null,null,null,null,null,null,null,null,null,null,null,null,null,null,null,null,null,null,null,null,null,null,null,null,null,null,null,null,null,null,null,null,null,null,null,null,null,null,null,null,null,null,null,null,null,null,null,null,null,null,null,null,null,null,null,null,"ม.2/2"]
[null,"ค 3.2",null,null,"ม.2/3",null,null,null,null,null,null,null,null,null,null,null,null,null,null,null,null,null,null,null,null,null,null,null,null,null,null,null,null,null,null,null,null,null,null,null,null,null,null,null,null,null,null,null,null,null,null,null,null,null,null,null,null,null,null,null,null,null,null,null,null,null,null,null,null,"ง 3.1",null,"ป.5/8",null,"ป.3/14",null,null,null,null,null,null,null,null,null,null,null,null,null,null,null,null,null,null,null,null,null,null,null,null,null,null,null,null,null,null,null,null,null,null,null,null,null,null,null,null,null,null,null,null,null,null,null,null,null,null,null,null,null,null,null,null,null,null,null,null,null,null,null,null,null,null,null,null,"ม.2/3"]
[null,"ค 4.1",null,null,"ม.2/4",null,null,null,null,null,null,null,null,null,null,null,null,null,null,null,null,null,null,null,null,null,null,null,null,null,null,null,null,null,null,null,null,null,null,null,null,null,null,null,null,null,null,null,null,null,null,null,null,null,null,null,null,null,null,null,null,null,null,null,null,null,null,null,null,"ง 4.1",null,"ป.5/9",null,"ป.3/15",null,null,null,null,null,null,null,null,null,null,null,null,null,null,null,null,null,null,null,null,null,null,null,null,null,null,null,null,null,null,null,null,null,null,null,null,null,null,null,null,null,null,null,null,null,null,null,null,null,null,null,null,null,null,null,null,null,null,null,null,null,null,null,null,null,null,null,null,"ม.2/4"]
[null,"ค 4.2",null,null,"ม.2/5",null,null,null,null,null,null,null,null,null,null,null,null,null,null,null,null,null,null,null,null,null,null,null,null,null,null,null,null,null,null,null,null,null,null,null,null,null,null,null,null,null,null,null,null,null,null,null,null,null,null,null,null,null,null,null,null,null,null,null,null,null,null,null,null,"ต 1.1",null,"ป.5/10",null,"ป.4/1",null,null,null,null,null,null,null,null,null,null,null,null,null,null,null,null,null,null,null,null,null,null,null,null,null,null,null,null,null,null,null,null,null,null,null,null,null,null,null,null,null,null,null,null,null,null,null,null,null,null,null,null,null,null,null,null,null,null,null,null,null,null,null,null,null,null,null,null,"ม.2/5"]
[null,"ค 5.1",null,null,"ม.2/6",null,null,null,null,null,null,null,null,null,null,null,null,null,null,null,null,null,null,null,null,null,null,null,null,null,null,null,null,null,null,null,null,null,null,null,null,null,null,null,null,null,null,null,null,null,null,null,null,null,null,null,null,null,null,null,null,null,null,null,null,null,null,null,null,"ต 1.2",null,"ป.6/1",null,"ป.4/2",null,null,null,null,null,null,null,null,null,null,null,null,null,null,null,null,null,null,null,null,null,null,null,null,null,null,null,null,null,null,null,null,null,null,null,null,null,null,null,null,null,null,null,null,null,null,null,null,null,null,null,null,null,null,null,null,null,null,null,null,null,null,null,null,null,null,null,null,"ม.2/6"]
[null,"ค 5.2",null,null,"ม.2/7",null,null,null,null,null,null,null,null,null,null,null,null,null,null,null,null,null,null,null,null,null,null,null,null,null,null,null,null,null,null,null,null,null,null,null,null,null,null,null,null,null,null,null,null,null,null,null,null,null,null,null,null,null,null,null,null,null,null,null,null,null,null,null,null,"ต 1.3",null,"ป.6/2",null,"ป.4/3",null,null,null,null,null,null,null,null,null,null,null,null,null,null,null,null,null,null,null,null,null,null,null,null,null,null,null,null,null,null,null,null,null,null,null,null,null,null,null,null,null,null,null,null,null,null,null,null,null,null,null,null,null,null,null,null,null,null,null,null,null,null,null,null,null,null,null,null,"ม.2/7"]
[null,"ค 5.3",null,null,"ม.2/8",null,null,null,null,null,null,null,null,null,null,null,null,null,null,null,null,null,null,null,null,null,null,null,null,null,null,null,null,null,null,null,null,null,null,null,null,null,null,null,null,null,null,null,null,null,null,null,null,null,null,null,null,null,null,null,null,null,null,null,null,null,null,null,null,"ต 2.1",null,"ป.6/3",null,"ป.4/4",null,null,null,null,null,null,null,null,null,null,null,null,null,null,null,null,null,null,null,null,null,null,null,null,null,null,null,null,null,null,null,null,null,null,null,null,null,null,null,null,null,null,null,null,null,null,null,null,null,null,null,null,null,null,null,null,null,null,null,null,null,null,null,null,null,null,null,null,"ม.2/8"]
[null,"ค 6.1",null,null,"ม.2/9",null,null,null,null,null,null,null,null,null,null,null,null,null,null,null,null,null,null,null,null,null,null,null,null,null,null,null,null,null,null,null,null,null,null,null,null,null,null,null,null,null,null,null,null,null,null,null,null,null,null,null,null,null,null,null,null,null,null,null,null,null,null,null,null,"ต 2.2",null,"ป.6/4",null,"ป.4/5",null,null,null,null,null,null,null,null,null,null,null,null,null,null,null,null,null,null,null,null,null,null,null,null,null,null,null,null,null,null,null,null,null,null,null,null,null,null,null,null,null,null,null,null,null,null,null,null,null,null,null,null,null,null,null,null,null,null,null,null,null,null,null,null,null,null,null,null,"ม.2/9"]
[null,"ว 1.1",null,null,"ม.2/10",null,null,null,null,null,null,null,null,null,null,null,null,null,null,null,null,null,null,null,null,null,null,null,null,null,null,null,null,null,null,null,null,null,null,null,null,null,null,null,null,null,null,null,null,null,null,null,null,null,null,null,null,null,null,null,null,null,null,null,null,null,null,null,null,"ต 3.1",null,"ป.6/5",null,"ป.4/6",null,null,null,null,null,null,null,null,null,null,null,null,null,null,null,null,null,null,null,null,null,null,null,null,null,null,null,null,null,null,null,null,null,null,null,null,null,null,null,null,null,null,null,null,null,null,null,null,null,null,null,null,null,null,null,null,null,null,null,null,null,null,null,null,null,null,null,null,"ม.2/10"]
[null,"ว 1.2",null,null,"ม.3/1",null,null,null,null,null,null,null,null,null,null,null,null,null,null,null,null,null,null,null,null,null,null,null,null,null,null,null,null,null,null,null,null,null,null,null,null,null,null,null,null,null,null,null,null,null,null,null,null,null,null,null,null,null,null,null,null,null,null,null,null,null,null,null,null,"ต 4.1",null,"ป.6/6",null,"ป.4/7",null,null,null,null,null,null,null,null,null,null,null,null,null,null,null,null,null,null,null,null,null,null,null,null,null,null,null,null,null,null,null,null,null,null,null,null,null,null,null,null,null,null,null,null,null,null,null,null,null,null,null,null,null,null,null,null,null,null,null,null,null,null,null,null,null,null,null,null,"ม.3/1"]
[null,"ว 2.1",null,null,"ม.3/2",null,null,null,null,null,null,null,null,null,null,null,null,null,null,null,null,null,null,null,null,null,null,null,null,null,null,null,null,null,null,null,null,null,null,null,null,null,null,null,null,null,null,null,null,null,null,null,null,null,null,null,null,null,null,null,null,null,null,null,null,null,null,null,null,"ต 4.2",null,"ป.6/7",null,"ป.4/8",null,null,null,null,null,null,null,null,null,null,null,null,null,null,null,null,null,null,null,null,null,null,null,null,null,null,null,null,null,null,null,null,null,null,null,null,null,null,null,null,null,null,null,null,null,null,null,null,null,null,null,null,null,null,null,null,null,null,null,null,null,null,null,null,null,null,null,null,"ม.3/2"]
[null,"ว 2.2",null,null,"ม.3/3",null,null,null,null,null,null,null,null,null,null,null,null,null,null,null,null,null,null,null,null,null,null,null,null,null,null,null,null,null,null,null,null,null,null,null,null,null,null,null,null,null,null,null,null,null,null,null,null,null,null,null,null,null,null,null,null,null,null,null,null,null,null,null,null,"ข้อ 1",null,"ป.6/8",null,"ป.4/9",null,null,null,null,null,null,null,null,null,null,null,null,null,null,null,null,null,null,null,null,null,null,null,null,null,null,null,null,null,null,null,null,null,null,null,null,null,null,null,null,null,null,null,null,null,null,null,null,null,null,null,null,null,null,null,null,null,null,null,null,null,null,null,null,null,null,null,null,"ม.3/3"]
[null,"ว 3.1",null,null,"ม.3/4",null,null,null,null,null,null,null,null,null,null,null,null,null,null,null,null,null,null,null,null,null,null,null,null,null,null,null,null,null,null,null,null,null,null,null,null,null,null,null,null,null,null,null,null,null,null,null,null,null,null,null,null,null,null,null,null,null,null,null,null,null,null,null,null,"ข้อ 2",null,"ป.6/9",null,"ป.4/10",null,null,null,null,null,null,null,null,null,null,null,null,null,null,null,null,null,null,null,null,null,null,null,null,null,null,null,null,null,null,null,null,null,null,null,null,null,null,null,null,null,null,null,null,null,null,null,null,null,null,null,null,null,null,null,null,null,null,null,null,null,null,null,null,null,null,null,null,"ม.3/4"]
[null,"ว 3.2",null,null,"ม.3/5",null,null,null,null,null,null,null,null,null,null,null,null,null,null,null,null,null,null,null,null,null,null,null,null,null,null,null,null,null,null,null,null,null,null,null,null,null,null,null,null,null,null,null,null,null,null,null,null,null,null,null,null,null,null,null,null,null,null,null,null,null,null,null,null,"ข้อ 3",null,"ป.6/10",null,"ป.4/11",null,null,null,null,null,null,null,null,null,null,null,null,null,null,null,null,null,null,null,null,null,null,null,null,null,null,null,null,null,null,null,null,null,null,null,null,null,null,null,null,null,null,null,null,null,null,null,null,null,null,null,null,null,null,null,null,null,null,null,null,null,null,null,null,null,null,null,null,"ม.3/5"]
[null,"ว 4.1",null,null,"ม.3/6",null,null,null,null,null,null,null,null,null,null,null,null,null,null,null,null,null,null,null,null,null,null,null,null,null,null,null,null,null,null,null,null,null,null,null,null,null,null,null,null,null,null,null,null,null,null,null,null,null,null,null,null,null,null,null,null,null,null,null,null,null,null,null,null,"ข้อ 4",null,"ข้อ1",null,"ป.4/12",null,null,null,null,null,null,null,null,null,null,null,null,null,null,null,null,null,null,null,null,null,null,null,null,null,null,null,null,null,null,null,null,null,null,null,null,null,null,null,null,null,null,null,null,null,null,null,null,null,null,null,null,null,null,null,null,null,null,null,null,null,null,null,null,null,null,null,null,"ม.3/6"]
[null,"ว 4.2",null,null,"ม.3/7",null,null,null,null,null,null,null,null,null,null,null,null,null,null,null,null,null,null,null,null,null,null,null,null,null,null,null,null,null,null,null,null,null,null,null,null,null,null,null,null,null,null,null,null,null,null,null,null,null,null,null,null,null,null,null,null,null,null,null,null,null,null,null,null,"ข้อ 5",null,"ข้อ2",null,"ป.4/13",null,null,null,null,null,null,null,null,null,null,null,null,null,null,null,null,null,null,null,null,null,null,null,null,null,null,null,null,null,null,null,null,null,null,null,null,null,null,null,null,null,null,null,null,null,null,null,null,null,null,null,null,null,null,null,null,null,null,null,null,null,null,null,null,null,null,null,null,"ม.3/7"]
[null,"ว 5.1",null,null,"ม.3/8",null,null,null,null,null,null,null,null,null,null,null,null,null,null,null,null,null,null,null,null,null,null,null,null,null,null,null,null,null,null,null,null,null,null,null,null,null,null,null,null,null,null,null,null,null,null,null,null,null,null,null,null,null,null,null,null,null,null,null,null,null,null,null,null,"ข้อ 6",null,"ข้อ3",null,"ป.4/14",null,null,null,null,null,null,null,null,null,null,null,null,null,null,null,null,null,null,null,null,null,null,null,null,null,null,null,null,null,null,null,null,null,null,null,null,null,null,null,null,null,null,null,null,null,null,null,null,null,null,null,null,null,null,null,null,null,null,null,null,null,null,null,null,null,null,null,null,"ม.3/8"]
[null,"ว 6.1",null,null,"ม.3/9",null,null,null,null,null,null,null,null,null,null,null,null,null,null,null,null,null,null,null,null,null,null,null,null,null,null,null,null,null,null,null,null,null,null,null,null,null,null,null,null,null,null,null,null,null,null,null,null,null,null,null,null,null,null,null,null,null,null,null,null,null,null,null,null,"ข้อ 7",null,"ข้อ4",null,"ป.4/15",null,null,null,null,null,null,null,null,null,null,null,null,null,null,null,null,null,null,null,null,null,null,null,null,null,null,null,null,null,null,null,null,null,null,null,null,null,null,null,null,null,null,null,null,null,null,null,null,null,null,null,null,null,null,null,null,null,null,null,null,null,null,null,null,null,null,null,null,"ม.3/9"]
[null,"ว 7.1",null,null,"ม.3/10",null,null,null,null,null,null,null,null,null,null,null,null,null,null,null,null,null,null,null,null,null,null,null,null,null,null,null,null,null,null,null,null,null,null,null,null,null,null,null,null,null,null,null,null,null,null,null,null,null,null,null,null,null,null,null,null,null,null,null,null,null,null,null,null,"ข้อ 8",null,"ข้อ5",null,"ป.4/16",null,null,null,null,null,null,null,null,null,null,null,null,null,null,null,null,null,null,null,null,null,null,null,null,null,null,null,null,null,null,null,null,null,null,null,null,null,null,null,null,null,null,null,null,null,null,null,null,null,null,null,null,null,null,null,null,null,null,null,null,null,null,null,null,null,null,null,null,"ม.3/10"]
[null,"ว 7.2",null,null,"ม.4-6/1",null,null,null,null,null,null,null,null,null,null,null,null,null,null,null,null,null,null,null,null,null,null,null,null,null,null,null,null,null,null,null,null,null,null,null,null,null,null,null,null,null,null,null,null,null,null,null,null,null,null,null,null,null,null,null,null,null,null,null,null,null,null,null,null,"ข้อ 9",null,"ข้อ6",null,"ป.5/1",null,null,null,null,null,null,null,null,null,null,null,null,null,null,null,null,null,null,null,null,null,null,null,null,null,null,null,null,null,null,null,null,null,null,null,null,null,null,null,null,null,null,null,null,null,null,null,null,null,null,null,null,null,null,null,null,null,null,null,null,null,null,null,null,null,null,null,null,"ม.4-6/1"]
[null,"ว 8.1",null,null,"ม.4-6/2",null,null,null,null,null,null,null,null,null,null,null,null,null,null,null,null,null,null,null,null,null,null,null,null,null,null,null,null,null,null,null,null,null,null,null,null,null,null,null,null,null,null,null,null,null,null,null,null,null,null,null,null,null,null,null,null,null,null,null,null,null,null,null,null,"ข้อ 10",null,"ข้อ7",null,"ป.5/2",null,null,null,null,null,null,null,null,null,null,null,null,null,null,null,null,null,null,null,null,null,null,null,null,null,null,null,null,null,null,null,null,null,null,null,null,null,null,null,null,null,null,null,null,null,null,null,null,null,null,null,null,null,null,null,null,null,null,null,null,null,null,null,null,null,null,null,null,"ม.4-6/2"]
[null,"ส 1.1",null,null,"ม.4-6/3",null,null,null,null,null,null,null,null,null,null,null,null,null,null,null,null,null,null,null,null,null,null,null,null,null,null,null,null,null,null,null,null,null,null,null,null,null,null,null,null,null,null,null,null,null,null,null,null,null,null,null,null,null,null,null,null,null,null,null,null,null,null,null,null,"ข้อ 11",null,"ข้อ8",null,"ป.5/3",null,null,null,null,null,null,null,null,null,null,null,null,null,null,null,null,null,null,null,null,null,null,null,null,null,null,null,null,null,null,null,null,null,null,null,null,null,null,null,null,null,null,null,null,null,null,null,null,null,null,null,null,null,null,null,null,null,null,null,null,null,null,null,null,null,null,null,null,"ม.4-6/3"]
[null,"ส 1.2",null,null,"ม.4-6/4",null,null,null,null,null,null,null,null,null,null,null,null,null,null,null,null,null,null,null,null,null,null,null,null,null,null,null,null,null,null,null,null,null,null,null,null,null,null,null,null,null,null,null,null,null,null,null,null,null,null,null,null,null,null,null,null,null,null,null,null,null,null,null,null,"ข้อ 12",null,"ข้อ9",null,"ป.5/4",null,null,null,null,null,null,null,null,null,null,null,null,null,null,null,null,null,null,null,null,null,null,null,null,null,null,null,null,null,null,null,null,null,null,null,null,null,null,null,null,null,null,null,null,null,null,null,null,null,null,null,null,null,null,null,null,null,null,null,null,null,null,null,null,null,null,null,null,"ม.4-6/4"]
[null,"ส 2.1",null,null,"ม.4-6/5",null,null,null,null,null,null,null,null,null,null,null,null,null,null,null,null,null,null,null,null,null,null,null,null,null,null,null,null,null,null,null,null,null,null,null,null,null,null,null,null,null,null,null,null,null,null,null,null,null,null,null,null,null,null,null,null,null,null,null,null,null,null,null,null,"ข้อ 13",null,"ข้อ10",null,"ป.5/5",null,null,null,null,null,null,null,null,null,null,null,null,null,null,null,null,null,null,null,null,null,null,null,null,null,null,null,null,null,null,null,null,null,null,null,null,null,null,null,null,null,null,null,null,null,null,null,null,null,null,null,null,null,null,null,null,null,null,null,null,null,null,null,null,null,null,null,null,"ม.4-6/5"]
[null,"ส 2.2",null,null,"ม.4-6/6",null,null,null,null,null,null,null,null,null,null,null,null,null,null,null,null,null,null,null,null,null,null,null,null,null,null,null,null,null,null,null,null,null,null,null,null,null,null,null,null,null,null,null,null,null,null,null,null,null,null,null,null,null,null,null,null,null,null,null,null,null,null,null,null,"ข้อ 14",null,"ข้อ11",null,"ป.5/6",null,null,null,null,null,null,null,null,null,null,null,null,null,null,null,null,null,null,null,null,null,null,null,null,null,null,null,null,null,null,null,null,null,null,null,null,null,null,null,null,null,null,null,null,null,null,null,null,null,null,null,null,null,null,null,null,null,null,null,null,null,null,null,null,null,null,null,null,"ม.4-6/6"]
[null,"ส 3.1",null,null,"ม.4-6/7",null,null,null,null,null,null,null,null,null,null,null,null,null,null,null,null,null,null,null,null,null,null,null,null,null,null,null,null,null,null,null,null,null,null,null,null,null,null,null,null,null,null,null,null,null,null,null,null,null,null,null,null,null,null,null,null,null,null,null,null,null,null,null,null,"ข้อ 15",null,"ข้อ12",null,"ป.5/7",null,null,null,null,null,null,null,null,null,null,null,null,null,null,null,null,null,null,null,null,null,null,null,null,null,null,null,null,null,null,null,null,null,null,null,null,null,null,null,null,null,null,null,null,null,null,null,null,null,null,null,null,null,null,null,null,null,null,null,null,null,null,null,null,null,null,null,null,"ม.4-6/7"]
[null,"ส 3.2",null,null,"ม.4-6/8",null,null,null,null,null,null,null,null,null,null,null,null,null,null,null,null,null,null,null,null,null,null,null,null,null,null,null,null,null,null,null,null,null,null,null,null,null,null,null,null,null,null,null,null,null,null,null,null,null,null,null,null,null,null,null,null,null,null,null,null,null,null,null,null,"ข้อ 16",null,"ข้อ13",null,"ป.5/8",null,null,null,null,null,null,null,null,null,null,null,null,null,null,null,null,null,null,null,null,null,null,null,null,null,null,null,null,null,null,null,null,null,null,null,null,null,null,null,null,null,null,null,null,null,null,null,null,null,null,null,null,null,null,null,null,null,null,null,null,null,null,null,null,null,null,null,null,"ม.4-6/8"]
[null,"ส 4.1",null,null,"ม.4-6/9",null,null,null,null,null,null,null,null,null,null,null,null,null,null,null,null,null,null,null,null,null,null,null,null,null,null,null,null,null,null,null,null,null,null,null,null,null,null,null,null,null,null,null,null,null,null,null,null,null,null,null,null,null,null,null,null,null,null,null,null,null,null,null,null,"ข้อ 17",null,"ข้อ14",null,"ป.5/9",null,null,null,null,null,null,null,null,null,null,null,null,null,null,null,null,null,null,null,null,null,null,null,null,null,null,null,null,null,null,null,null,null,null,null,null,null,null,null,null,null,null,null,null,null,null,null,null,null,null,null,null,null,null,null,null,null,null,null,null,null,null,null,null,null,null,null,null,"ม.4-6/9"]
[null,"ส 4.2",null,null,"ม.4-6/10",null,null,null,null,null,null,null,null,null,null,null,null,null,null,null,null,null,null,null,null,null,null,null,null,null,null,null,null,null,null,null,null,null,null,null,null,null,null,null,null,null,null,null,null,null,null,null,null,null,null,null,null,null,null,null,null,null,null,null,null,null,null,null,null,"ข้อ 18",null,"ข้อ15",null,"ป.5/10",null,null,null,null,null,null,null,null,null,null,null,null,null,null,null,null,null,null,null,null,null,null,null,null,null,null,null,null,null,null,null,null,null,null,null,null,null,null,null,null,null,null,null,null,null,null,null,null,null,null,null,null,null,null,null,null,null,null,null,null,null,null,null,null,null,null,null,null,"ม.4-6/10"]
[null,"ส 4.2",null,null,"ม.4-6/11",null,null,null,null,null,null,null,null,null,null,null,null,null,null,null,null,null,null,null,null,null,null,null,null,null,null,null,null,null,null,null,null,null,null,null,null,null,null,null,null,null,null,null,null,null,null,null,null,null,null,null,null,null,null,null,null,null,null,null,null,null,null,null,null,"ข้อ 19",null,"ข้อ16",null,"ป.5/11",null,null,null,null,null,null,null,null,null,null,null,null,null,null,null,null,null,null,null,null,null,null,null,null,null,null,null,null,null,null,null,null,null,null,null,null,null,null,null,null,null,null,null,null,null,null,null,null,null,null,null,null,null,null,null,null,null,null,null,null,null,null,null,null,null,null,null,null,"ม.4-6/11"]
[null,"ส 5.1",null,null,"ม.4-6/12",null,null,null,null,null,null,null,null,null,null,null,null,null,null,null,null,null,null,null,null,null,null,null,null,null,null,null,null,null,null,null,null,null,null,null,null,null,null,null,null,null,null,null,null,null,null,null,null,null,null,null,null,null,null,null,null,null,null,null,null,null,null,null,null,"ข้อ 20",null,"ข้อ17",null,"ป.5/12",null,null,null,null,null,null,null,null,null,null,null,null,null,null,null,null,null,null,null,null,null,null,null,null,null,null,null,null,null,null,null,null,null,null,null,null,null,null,null,null,null,null,null,null,null,null,null,null,null,null,null,null,null,null,null,null,null,null,null,null,null,null,null,null,null,null,null,null,"ม.4-6/12"]
[null,"ส 5.2",null,null,"ม.4-6/13",null,null,null,null,null,null,null,null,null,null,null,null,null,null,null,null,null,null,null,null,null,null,null,null,null,null,null,null,null,null,null,null,null,null,null,null,null,null,null,null,null,null,null,null,null,null,null,null,null,null,null,null,null,null,null,null,null,null,null,null,null,null,null,null,"ข้อ 21",null,"ข้อ18",null,"ป.5/13",null,null,null,null,null,null,null,null,null,null,null,null,null,null,null,null,null,null,null,null,null,null,null,null,null,null,null,null,null,null,null,null,null,null,null,null,null,null,null,null,null,null,null,null,null,null,null,null,null,null,null,null,null,null,null,null,null,null,null,null,null,null,null,null,null,null,null,null,"ม.4-6/13"]
[null,"พ 1.1",null,null,"ม.4-6/14",null,null,null,null,null,null,null,null,null,null,null,null,null,null,null,null,null,null,null,null,null,null,null,null,null,null,null,null,null,null,null,null,null,null,null,null,null,null,null,null,null,null,null,null,null,null,null,null,null,null,null,null,null,null,null,null,null,null,null,null,null,null,null,null,"ข้อ 22",null,"ข้อ19",null,"ป.5/14",null,null,null,null,null,null,null,null,null,null,null,null,null,null,null,null,null,null,null,null,null,null,null,null,null,null,null,null,null,null,null,null,null,null,null,null,null,null,null,null,null,null,null,null,null,null,null,null,null,null,null,null,null,null,null,null,null,null,null,null,null,null,null,null,null,null,null,null,"ม.4-6/14"]
[null,"พ 2.1",null,null,"ม.4-6/15",null,null,null,null,null,null,null,null,null,null,null,null,null,null,null,null,null,null,null,null,null,null,null,null,null,null,null,null,null,null,null,null,null,null,null,null,null,null,null,null,null,null,null,null,null,null,null,null,null,null,null,null,null,null,null,null,null,null,null,null,null,null,null,null,"ข้อ 23",null,"ข้อ20",null,"ป.5/15",null,null,null,null,null,null,null,null,null,null,null,null,null,null,null,null,null,null,null,null,null,null,null,null,null,null,null,null,null,null,null,null,null,null,null,null,null,null,null,null,null,null,null,null,null,null,null,null,null,null,null,null,null,null,null,null,null,null,null,null,null,null,null,null,null,null,null,null,"ม.4-6/15"]
[null,"พ 3.1",null,null,"ม.4-6/16",null,null,null,null,null,null,null,null,null,null,null,null,null,null,null,null,null,null,null,null,null,null,null,null,null,null,null,null,null,null,null,null,null,null,null,null,null,null,null,null,null,null,null,null,null,null,null,null,null,null,null,null,null,null,null,null,null,null,null,null,null,null,null,null,"ข้อ 24",null,"ข้อ21",null,"ป.6/1",null,null,null,null,null,null,null,null,null,null,null,null,null,null,null,null,null,null,null,null,null,null,null,null,null,null,null,null,null,null,null,null,null,null,null,null,null,null,null,null,null,null,null,null,null,null,null,null,null,null,null,null,null,null,null,null,null,null,null,null,null,null,null,null,null,null,null,null,"ม.4-6/16"]
[null,"พ 3.2",null,null,"ม.4-6/17",null,null,null,null,null,null,null,null,null,null,null,null,null,null,null,null,null,null,null,null,null,null,null,null,null,null,null,null,null,null,null,null,null,null,null,null,null,null,null,null,null,null,null,null,null,null,null,null,null,null,null,null,null,null,null,null,null,null,null,null,null,null,null,null,"ข้อ 25",null,"ข้อ22",null,"ป.6/2",null,null,null,null,null,null,null,null,null,null,null,null,null,null,null,null,null,null,null,null,null,null,null,null,null,null,null,null,null,null,null,null,null,null,null,null,null,null,null,null,null,null,null,null,null,null,null,null,null,null,null,null,null,null,null,null,null,null,null,null,null,null,null,null,null,null,null,null,"ม.4-6/17"]
[null,"พ 4.1",null,null,"ม.4-6/18",null,null,null,null,null,null,null,null,null,null,null,null,null,null,null,null,null,null,null,null,null,null,null,null,null,null,null,null,null,null,null,null,null,null,null,null,null,null,null,null,null,null,null,null,null,null,null,null,null,null,null,null,null,null,null,null,null,null,null,null,null,null,null,null,"ข้อ 26",null,"ข้อ23",null,"ป.6/3",null,null,null,null,null,null,null,null,null,null,null,null,null,null,null,null,null,null,null,null,null,null,null,null,null,null,null,null,null,null,null,null,null,null,null,null,null,null,null,null,null,null,null,null,null,null,null,null,null,null,null,null,null,null,null,null,null,null,null,null,null,null,null,null,null,null,null,null,"ม.4-6/18"]
[null,"พ 5.1",null,null,"ม.4-6/19",null,null,null,null,null,null,null,null,null,null,null,null,null,null,null,null,null,null,null,null,null,null,null,null,null,null,null,null,null,null,null,null,null,null,null,null,null,null,null,null,null,null,null,null,null,null,null,null,null,null,null,null,null,null,null,null,null,null,null,null,null,null,null,null,"ข้อ 27",null,"ข้อ24",null,"ป.6/4",null,null,null,null,null,null,null,null,null,null,null,null,null,null,null,null,null,null,null,null,null,null,null,null,null,null,null,null,null,null,null,null,null,null,null,null,null,null,null,null,null,null,null,null,null,null,null,null,null,null,null,null,null,null,null,null,null,null,null,null,null,null,null,null,null,null,null,null,"ม.4-6/19"]
[null,"ศ. 1.1",null,null,"ม.4-6/20",null,null,null,null,null,null,null,null,null,null,null,null,null,null,null,null,null,null,null,null,null,null,null,null,null,null,null,null,null,null,null,null,null,null,null,null,null,null,null,null,null,null,null,null,null,null,null,null,null,null,null,null,null,null,null,null,null,null,null,null,null,null,null,null,"ข้อ 28",null,"ข้อ25",null,"ป.6/5",null,null,null,null,null,null,null,null,null,null,null,null,null,null,null,null,null,null,null,null,null,null,null,null,null,null,null,null,null,null,null,null,null,null,null,null,null,null,null,null,null,null,null,null,null,null,null,null,null,null,null,null,null,null,null,null,null,null,null,null,null,null,null,null,null,null,null,null,"ม.4-6/20"]
[null,"ศ 1.2",null,null,"ม.4-6/21",null,null,null,null,null,null,null,null,null,null,null,null,null,null,null,null,null,null,null,null,null,null,null,null,null,null,null,null,null,null,null,null,null,null,null,null,null,null,null,null,null,null,null,null,null,null,null,null,null,null,null,null,null,null,null,null,null,null,null,null,null,null,null,null,"ข้อ 29",null,"ข้อ26",null,"ป.6/6",null,null,null,null,null,null,null,null,null,null,null,null,null,null,null,null,null,null,null,null,null,null,null,null,null,null,null,null,null,null,null,null,null,null,null,null,null,null,null,null,null,null,null,null,null,null,null,null,null,null,null,null,null,null,null,null,null,null,null,null,null,null,null,null,null,null,null,null,"ม.4-6/21"]
[null,"ศ 2.1",null,null,"ม.4-6/22",null,null,null,null,null,null,null,null,null,null,null,null,null,null,null,null,null,null,null,null,null,null,null,null,null,null,null,null,null,null,null,null,null,null,null,null,null,null,null,null,null,null,null,null,null,null,null,null,null,null,null,null,null,null,null,null,null,null,null,null,null,null,null,null,"ข้อ 30",null,"ข้อ27",null,"ป.6/7",null,null,null,null,null,null,null,null,null,null,null,null,null,null,null,null,null,null,null,null,null,null,null,null,null,null,null,null,null,null,null,null,null,null,null,null,null,null,null,null,null,null,null,null,null,null,null,null,null,null,null,null,null,null,null,null,null,null,null,null,null,null,null,null,null,null,null,null,"ม.4-6/22"]
[null,"ศ 2.2",null,null,"ม.4-6/23",null,null,null,null,null,null,null,null,null,null,null,null,null,null,null,null,null,null,null,null,null,null,null,null,null,null,null,null,null,null,null,null,null,null,null,null,null,null,null,null,null,null,null,null,null,null,null,null,null,null,null,null,null,null,null,null,null,null,null,null,null,null,null,null,null,null,"ข้อ28",null,"ป.6/8",null,null,null,null,null,null,null,null,null,null,null,null,null,null,null,null,null,null,null,null,null,null,null,null,null,null,null,null,null,null,null,null,null,null,null,null,null,null,null,null,null,null,null,null,null,null,null,null,null,null,null,null,null,null,null,null,null,null,null,null,null,null,null,null,null,null,null,null,"ม.4-6/23"]
[null,"ศ 3.1",null,null,"ม.4-6/24",null,null,null,null,null,null,null,null,null,null,null,null,null,null,null,null,null,null,null,null,null,null,null,null,null,null,null,null,null,null,null,null,null,null,null,null,null,null,null,null,null,null,null,null,null,null,null,null,null,null,null,null,null,null,null,null,null,null,null,null,null,null,null,null,null,null,"ข้อ29",null,"ป.6/9",null,null,null,null,null,null,null,null,null,null,null,null,null,null,null,null,null,null,null,null,null,null,null,null,null,null,null,null,null,null,null,null,null,null,null,null,null,null,null,null,null,null,null,null,null,null,null,null,null,null,null,null,null,null,null,null,null,null,null,null,null,null,null,null,null,null,null,null,"ม.4-6/24"]
[null,"ศ 3.2",null,null,"ม.4-6/25",null,null,null,null,null,null,null,null,null,null,null,null,null,null,null,null,null,null,null,null,null,null,null,null,null,null,null,null,null,null,null,null,null,null,null,null,null,null,null,null,null,null,null,null,null,null,null,null,null,null,null,null,null,null,null,null,null,null,null,null,null,null,null,null,null,null,"ข้อ30",null,"ป.6/10",null,null,null,null,null,null,null,null,null,null,null,null,null,null,null,null,null,null,null,null,null,null,null,null,null,null,null,null,null,null,null,null,null,null,null,null,null,null,null,null,null,null,null,null,null,null,null,null,null,null,null,null,null,null,null,null,null,null,null,null,null,null,null,null,null,null,null,null,"ม.4-6/25"]
[null,"ง 1.1",null,null,"ม.4-6/26",null,null,null,null,null,null,null,null,null,null,null,null,null,null,null,null,null,null,null,null,null,null,null,null,null,null,null,null,null,null,null,null,null,null,null,null,null,null,null,null,null,null,null,null,null,null,null,null,null,null,null,null,null,null,null,null,null,null,null,null,null,null,null,null,null,null,"-",null,"ป.6/11",null,null,null,null,null,null,null,null,null,null,null,null,null,null,null,null,null,null,null,null,null,null,null,null,null,null,null,null,null,null,null,null,null,null,null,null,null,null,null,null,null,null,null,null,null,null,null,null,null,null,null,null,null,null,null,null,null,null,null,null,null,null,null,null,null,null,null,null,"ม.4-6/26"]
[null,"ง 2.1",null,null,"ม.4-6/27",null,null,null,null,null,null,null,null,null,null,null,null,null,null,null,null,null,null,null,null,null,null,null,null,null,null,null,null,null,null,null,null,null,null,null,null,null,null,null,null,null,null,null,null,null,null,null,null,null,null,null,null,null,null,null,null,null,null,null,null,null,null,null,null,null,null,1,null,"ป.6/12",null,null,null,null,null,null,null,null,null,null,null,null,null,null,null,null,null,null,null,null,null,null,null,null,null,null,null,null,null,null,null,null,null,null,null,null,null,null,null,null,null,null,null,null,null,null,null,null,null,null,null,null,null,null,null,null,null,null,null,null,null,null,null,null,null,null,null,null,"ม.4-6/27"]
[null,"ง 3.1",null,null,"ม.4-6/28",null,null,null,null,null,null,null,null,null,null,null,null,null,null,null,null,null,null,null,null,null,null,null,null,null,null,null,null,null,null,null,null,null,null,null,null,null,null,null,null,null,null,null,null,null,null,null,null,null,null,null,null,null,null,null,null,null,null,null,null,null,null,null,null,null,null,2,null,"ป.6/13",null,null,null,null,null,null,null,null,null,null,null,null,null,null,null,null,null,null,null,null,null,null,null,null,null,null,null,null,null,null,null,null,null,null,null,null,null,null,null,null,null,null,null,null,null,null,null,null,null,null,null,null,null,null,null,null,null,null,null,null,null,null,null,null,null,null,null,null,"ม.4-6/28"]
[null,"ง 4.1",null,null,"ม.4-6/29",null,null,null,null,null,null,null,null,null,null,null,null,null,null,null,null,null,null,null,null,null,null,null,null,null,null,null,null,null,null,null,null,null,null,null,null,null,null,null,null,null,null,null,null,null,null,null,null,null,null,null,null,null,null,null,null,null,null,null,null,null,null,null,null,null,null,3,null,"ป.6/14",null,null,null,null,null,null,null,null,null,null,null,null,null,null,null,null,null,null,null,null,null,null,null,null,null,null,null,null,null,null,null,null,null,null,null,null,null,null,null,null,null,null,null,null,null,null,null,null,null,null,null,null,null,null,null,null,null,null,null,null,null,null,null,null,null,null,null,null,"ม.4-6/29"]
[null,"ต 1.1",null,null,"ม.4-6/30",null,null,null,null,null,null,null,null,null,null,null,null,null,null,null,null,null,null,null,null,null,null,null,null,null,null,null,null,null,null,null,null,null,null,null,null,null,null,null,null,null,null,null,null,null,null,null,null,null,null,null,null,null,null,null,null,null,null,null,null,null,null,null,null,null,null,4,null,"ป.6/15",null,null,null,null,null,null,null,null,null,null,null,null,null,null,null,null,null,null,null,null,null,null,null,null,null,null,null,null,null,null,null,null,null,null,null,null,null,null,null,null,null,null,null,null,null,null,null,null,null,null,null,null,null,null,null,null,null,null,null,null,null,null,null,null,null,null,null,null,"ม.4-6/30"]
[null,"ต 1.2",null,null,null,null,null,null,null,null,null,null,null,null,null,null,null,null,null,null,null,null,null,null,null,null,null,null,null,null,null,null,null,null,null,null,null,null,null,null,null,null,null,null,null,null,null,null,null,null,null,null,null,null,null,null,null,null,null,null,null,null,null,null,null,null,null,null,null,null,null,5]
[null,"ต 1.3"]
[null,"ต 2.1"]
[null,"ต 2.2"]
[null,"ต 3.1"]
[null,"ต 4.1"]
[null,"ต 4.2"]

{"sheet":"ประเมินผลการเรียนเทอม2","index":6,"n_rows":164,"n_cols":240,"rows_kept":164,"cut":false,"hidden":false,"merged":[[0,249,0,264],[2,259,4,259],[2,261,4,261],[2,263,5,263],[2,264,4,264],[3,4,4,4],[3,145,4,145],[2,119,4,119],[2,122,4,122],[2,123,5,123],[0,110,0,124],[2,25,4,25],[2,27,4,27],[2,84,4,84],[2,86,4,86],[2,114,4,114],[2,115,4,115],[2,117,4,117],[2,120,4,120],[2,166,4,166],[2,168,4,168],[2,225,4,225],[2,227,4,227],[2,253,4,253],[2,254,4,254],[2,256,4,256],[2,258,4,258],[0,5,0,27],[0,28,0,50],[0,51,0,68],[0,69,0,86],[0,87,0,105],[2,87,2,91],[2,92,3,92],[2,93,3,93],[2,94,4,94],[4,91,5,91],[4,92,5,92],[4,93,5,93],[2,95,2,104],[2,105,4,105],[4,44,5,44],[4,45,5,45],[4,53,5,53],[4,54,5,54],[4,55,5,55],[4,56,5,56],[4,57,5,57],[4,241,5,241],[4,242,5,242],[4,243,5,243],[2,226,3,226],[2,124,4,124],[2,110,4,110],[2,112,4,112],[2,113,4,113],[2,143,5,143],[2,144,5,144],[4,161,5,161],[4,162,5,162],[4,163,5,163],[4,164,5,164],[4,165,5,165],[4,169,5,169],[4,170,5,170],[4,183,5,183],[4,184,5,184],[4,203,5,203],[4,204,5,204],[4,205,5,205],[4,206,5,206],[4,207,5,207],[0,146,0,168],[0,169,0,191],[0,192,0,209],[0,210,0,227],[0,228,0,244],[2,146,2,165],[2,228,2,232],[2,233,3,233],[2,234,3,234],[2,191,3,191],[2,192,2,206],[2,190,3,190],[4,171,5,171],[4,172,5,172],[4,173,5,173],[4,174,5,174],[4,175,5,175],[4,176,5,176],[4,186,5,186],[4,187,5,187],[1,0,5,0],[1,1,5,1],[2,2,5,2],[2,3,5,3],[2,5,2,24],[2,51,2,65],[2,66,3,66],[2,67,3,67],[2,68,3,68],[4,20,5,20],[4,32,5,32],[4,33,5,33],[4,65,5,65],[4,66,5,66],[4,68,5,68],[4,59,5,59],[4,60,5,60],[4,61,5,61],[4,62,5,62],[4,63,5,63],[4,64,5,64],[4,58,5,58],[4,46,5,46],[4,47,5,47],[2,69,2,83],[4,50,5,50],[4,51,5,51],[4,52,5,52],[4,48,5,48],[2,26,3,26],[2,28,2,47],[2,48,3,48],[2,49,3,49],[2,50,3,50],[2,85,3,85],[2,252,4,252],[2,235,4,235],[2,236,2,243],[2,244,4,244],[2,245,4,245],[2,246,4,246],[2,247,4,247],[2,248,4,248],[2,249,4,249],[2,251,4,251],[2,207,3,207],[2,208,3,208],[2,209,3,209],[2,210,2,224],[2,167,3,167],[2,169,2,188],[2,189,3,189],[4,43,5,43],[4,21,5,21],[4,22,5,22],[4,23,5,23],[4,24,5,24],[4,40,5,40],[4,41,5,41],[4,42,5,42],[4,34,5,34],[4,35,5,35],[4,36,5,36],[4,37,5,37],[4,38,5,38],[4,39,5,39],[4,28,5,28],[4,29,5,29],[4,30,5,30],[4,31,5,31],[4,99,5,99],[4,100,5,100],[4,101,5,101],[4,104,5,104],[4,87,5,87],[4,88,5,88],[4,89,5,89],[4,90,5,90],[2,109,4,109],[4,95,5,95],[4,96,5,96],[4,97,5,97],[4,98,5,98],[2,106,4,106],[2,107,4,107],[2,108,4,108],[4,102,5,102],[4,103,5,103],[4,185,5,185],[4,177,5,177],[4,178,5,178],[4,179,5,179],[4,180,5,180],[4,181,5,181],[4,182,5,182],[4,198,5,198],[4,199,5,199],[4,188,5,188],[4,196,5,196],[4,197,5,197],[7,126,7,127],[7,128,8,128],[4,234,5,234],[4,236,5,236],[4,237,5,237],[4,238,5,238],[4,239,5,239],[4,240,5,240],[4,228,5,228],[4,229,5,229],[4,230,5,230],[4,231,5,231],[4,232,5,232],[4,233,5,233],[4,200,5,200],[4,201,5,201],[4,189,5,189],[4,191,5,191],[4,192,5,192],[4,193,5,193],[4,194,5,194],[4,195,5,195],[4,209,5,209],[4,202,5,202]]}
[null,null,null,"อัตราส่วนคะแนน =",{"$f":"ประเมินผลการเรียนเทอม1!E1","v":"70 : 30"},{"$f":"\"คะแนนประเมินผลสัมฤทธิ์ ภาคเรียนที่2 \"&\"  วิชา \"&ปก!AS15&\"   \"&\"ชั้น ป.\"&ปก!$C$21&\"/\"&ปก!$C$22&\"  หน้า 6\"","v":"คะแนนประเมินผลสัมฤทธิ์ ภาคเรียนที่2   วิชา  -   ชั้น ป.2/2  หน้า 6"},null,null,null,null,null,null,null,null,null,null,null,null,null,null,null,null,null,null,null,null,null,null,{"$f":"\"คะแนนประเมินผลสัมฤทธิ์ ภาคเรียนที่1 \"&\"  วิชา \"&ปก!AS15&\"   \"&\"ชั้น ป.\"&ปก!$C$21&\"/\"&ปก!$C$22&\"  หน้า 10\"","v":"คะแนนประเมินผลสัมฤทธิ์ ภาคเรียนที่1   วิชา  -   ชั้น ป.2/2  หน้า 10"},null,null,null,null,null,null,null,null,null,null,null,null,null,null,null,null,null,null,null,null,null,null,{"$f":"\"คะแนนประเมินผลสัมฤทธิ์ ภาคเรียนที่1 \"&\"  วิชา \"&ปก!AS15&\"   \"&\"ชั้น ป.\"&ปก!$C$21&\"/\"&ปก!$C$22&\"  หน้า 11\"","v":"คะแนนประเมินผลสัมฤทธิ์ ภาคเรียนที่1   วิชา  -   ชั้น ป.2/2  หน้า 11"},null,null,null,null,null,null,null,null,null,null,null,null,null,null,null,null,null,{"$f":"\"คะแนนประเมินผลสัมฤทธิ์ ภาคเรียนที่2 \"&\"  วิชา \"&ปก!AS15&\"   \"&\"ชั้น ป.\"&ปก!$C$21&\"/\"&ปก!$C$22&\"  หน้า 7\"","v":"คะแนนประเมินผลสัมฤทธิ์ ภาคเรียนที่2   วิชา  -   ชั้น ป.2/2  หน้า 7"},null,null,null,null,null,null,null,null,null,null,null,null,null,null,null,null,null,{"$f":"\"คะแนนประเมินผลสัมฤทธิ์ ภาคเรียนที่2 \"&\"  วิชา \"&ปก!AS15&\"   \"&\"ชั้น ป.\"&ปก!$C$21&\"/\"&ปก!$C$22&\"  หน้า 8\"","v":"คะแนนประเมินผลสัมฤทธิ์ ภาคเรียนที่2   วิชา  -   ชั้น ป.2/2  หน้า 8"},null,null,null,null,null,null,null,null,null,null,null,null,null,null,null,null,null,null,"ระหว่างภาค",null,null,null,{"$f":"\"ผลสัมฤทธิ์ทางการเรียน ภาคเรียนที่2 \"&\"  วิชา \"&ปก!AS15&\"   \"&\"ชั้น ป.\"&ปก!$C$21&\"/\"&ปก!$C$22&\"  หน้า 9\"","v":"ผลสัมฤทธิ์ทางการเรียน ภาคเรียนที่2   วิชา  -   ชั้น ป.2/2  หน้า 9"}]
[null,null,null,null,null,null,null,null,null,null,null,null,null,null,null,null,null,null,null,null,null,null,null,null,null,{"$f":"กำหนดอัตราส่วนคะแนน!B41","v":0},null,null,null,null,null,null,null,null,null,null,null,null,null,null,null,null,null,null,null,null,null,null,{"$f":"กำหนดอัตราส่วนคะแนน!Y41","v":0},null,null,null,null,null,null,null,null,null,null,null,null,null,null,null,null,null,{"$f":"กำหนดอัตราส่วนคะแนน!BQ41","v":0},null,null,null,null,null,null,null,null,null,null,null,null,null,null,null,null,null,{"$f":"กำหนดอัตราส่วนคะแนน!CN41","v":0},null,null,null,null,null,null,null,{"$f":"กำหนดอัตราส่วนคะแนน!AH41","v":0}]
[null,null,"เลข\nประจำ\nตัว\nนักเรียน","ชื่อ - นามสกุล","การประเมิน","คะแนน ชิ้นงาน ภาระงาน การสอบ การวัดผล ระหว่างภาค",null,null,null,null,null,null,null,null,null,null,null,null,null,null,null,null,null,null,null,"คะแนนรวม",null,"คะแนนเต็ม",{"$f":"IF(ปก!$C$25=\"\",\"{{ข้อมูล ERROR โปรดกลับไปเลือกประเภทวิชาที่หน้าปก}}\",IF(ปก!$C$25=\"พื้นฐาน\",\"การประเมินตัวชี้วัด หลังกลางภาค\",IF(ปก!$C$25=\"เพิ่มเติม\",\"การประเมินผลการเรียนรู้ หลังกลางภาค\")))","v":"การประเมินตัวชี้วัด หลังกลางภาค"},null,null,null,null,null,null,null,null,null,null,null,null,null,null,null,null,null,null,null,"คะแนนรวม",null,"คะแนนเต็ม","การประเมินผลกลางภาคเรียน(สอบกลางภาค)",null,null,null,null,null,null,null,null,null,null,null,null,null,null,"คะแนนรวม",null,"คะแนนเต็ม","การประเมินผลปลายภาคเรียน(สอบปลายภาคเรียน)",null,null,null,null,null,null,null,null,null,null,null,null,null,null,"คะแนนรวม",null,"คะแนนเต็ม","การอ่าน คิดวิเคราะห์ และเขียน",null,null,null,null,"คะแนนรวม","คะแนนเต็ม","ระดับคุณภาพ","คุณลักษณะอันพึงประสงค์",null,null,null,null,null,null,null,null,null,"ระดับคุณภาพ","ก่อนกลางภาค","หลังกลางภาค","สอบกลางภาค","สอบแก้ตัว","ระหว่างภาค 2",null,"สอบปลายภาค 2","สอบแก้ตัว(ซ่อม)",null,"รวมตลอดภาคเรียน",null,"ลงคะแนน นร.ย้ายเข้า",null,"คะแนนภาคเรียนที่ 1","คะแนนภาคเรียนที่ 2",null,"คะแนนรวมตลอดปี","ระดับผลการเรียน(เกรด)","สถานะ\nนักเรียน\nปัจจุบัน"]
[null,null,null,null,"ชิ้นงาน/ภาระงาน/การสอบ","งาน","งาน","งาน","งาน","งาน","งาน",null,null,null,null,null,null,null,null,null,null,null,18,19,20,null,null,null,null,null,null,null,null,null,null,null,null,null,null,null,null,null,null,null,null,18,19,20,null,null,null,null,null,null,null,null,null,null,null,null,null,null,null,null,null,null,null,null,null,null,null,null,null,null,null,null,null,null,null,null,null,null,null,null,null,null,null,1,2,3,4,5,null,null,null,1,2,3,4,5,6,7,8,9,10]
[null,null,null,null,null,"ที่ 1","ที่ 1","ที่ 2","ที่ 3","ที่ 4","ที่ 5",null,null,null,null,null,null,null,null,null,null,null,null,null,null,null,{"$f":"$Z$6/$AB$6","v":1},null,null,null,null,null,null,null,null,null,null,null,null,null,null,null,null,null,null,null,null,null,{"$f":"SUM(AC5,AD5,AE5,AF5,AG5,AH5,AI5,AJ5,AK5,AL5,AM5,AN5,AO5,AP5,AQ5,AR5,AS5,AT5,AU5,AV5)","v":0},{"$f":"$AW$5/$AY$5","v":{"$error":"#DIV/0!"}},null,null,null,null,null,null,null,null,null,null,null,null,null,null,null,null,{"$f":"SUM(AZ5,BA5,BB5,BC5,BD5,BE5,BF5,BG5,BH5,BI5,BJ5,BK5,BL5,BM5,BN5)","v":0},{"$f":"$BO$5/$BQ$5","v":{"$error":"#DIV/0!"}},null,null,null,null,null,null,null,null,null,null,null,null,null,null,null,null,null,{"$f":"$CG$6/$CI$6","v":1},null,3,3,3,3,3,{"$f":"SUM(CJ5,CK5,CL5,CM5,CN5)","v":15},3,null,3,3,3,3,3,3,3,3,3,3]
[null,null,null,null,"คะแนน",10,10,10,10,10,20,null,null,null,null,null,null,null,null,null,null,null,null,null,null,{"$f":"SUM(F6,G6,H6,I6,J6,K6,L6,M6,N6,O6,P6,Q6,R6,S6,T6,U6,V6,W6,X6,Y6)","v":70},null,{"$f":"IF(E1=\"50 : 50\",50,IF(E1=\"60 : 40\",60,IF(E1=\"70 : 30\",70,IF(E1=\"80 : 20\",80,IF(E1=\"90 : 10\",90)))))","v":70},null,null,null,null,null,null,null,null,null,null,null,null,null,null,null,null,null,null,null,null,null,null,null,null,null,null,null,null,null,null,null,null,null,null,null,null,null,null,null,null,null,30,null,null,null,null,null,null,null,null,null,null,null,null,null,null,{"$f":"SUM(BR6,BS6,BT6,BU6,BV6,BW6,BX6,BY6,BZ6,CA6,CB6,CC6,CD6,CE6,CF6)","v":30},null,{"$f":"IF(E1=\"50 : 50\",50,IF(E1=\"60 : 40\",40,IF(E1=\"70 : 30\",30,IF(E1=\"80 : 20\",20,IF(E1=\"90 : 10\",10)))))","v":30},null,null,null,null,null,null,null,null,null,null,null,null,null,null,null,null,null,null,null,{"$f":"AB5","v":0},{"$f":"AY5","v":0},{"$f":"BQ5","v":0},null,{"$f":"AB6","v":70},null,{"$f":"CI6","v":30},{"$f":"DI6/2","v":15},null,{"$f":"IF(DG6+DI6<>100,\"ERROR\",SUM(DG6,DI6))","v":100},null,100,null,{"$f":"ประเมินผลการเรียนเทอม1!DP6","v":50},{"$f":"DL6/2","v":50},null,100]
[1,null,{"$f":"CONCATENATE(ใส่ชื่อ!C2)","v":"2836"},{"$f":"CONCATENATE(ใส่ชื่อ!D2&ใส่ชื่อ!E2&\"  \"&ใส่ชื่อ!F2)","v":"เด็กชายธิติวัฒน์  ขุนสิทธิ์"},{"$f":"ใส่ชื่อ!A2","v":1},10,10,8,9,8,13,null,null,null,null,null,null,null,null,null,null,null,null,null,null,{"$f":"IF(ใส่ชื่อ!D2=\"\",\"\",IF(DU7=\"ปกติ\",SUM(F7,G7,H7,I7,J7,K7,L7,M7,N7,O7,P7,Q7,R7,S7,T7,U7,V7,W7,X7,Y7),\"-\"))","v":58},null,{"$f":"IF(Z7=\"\",\"\",IF(Z7=\"-\",\"-\",IF(Z7=0,\"\",IF($Z$6=0,\"\",ROUND(Z7/$AA$5,0)))))","v":58},null,null,null,null,null,null,null,null,null,null,null,null,null,null,null,null,null,null,null,null,{"$f":"IF(ใส่ชื่อ!D2=\"\",\"\",IF(COUNTIF(AC7:AS7,0),\"มผ\",IF(DU7=\"ปกติ\",SUM(AC7,AD7,AE7,AF7,AG7,AH7,AI7,AJ7,AK7,AL7,AM7,AN7,AO7,AP7,AQ7,AR7,AS7),\"-\")))","v":0},null,{"$f":"IF(AW7=\"\",\"\",IF(AW7=\"-\",\"-\",IF(AW7=\"มผ\",\"มผ\",IF(AW7=0,\"\",IF($AW$5=0,\"\",ROUND(AW7/$AX$5,0))))))","v":""},null,null,null,null,null,null,null,null,null,null,null,null,null,null,null,{"$f":"IF(ใส่ชื่อ!D2=\"\",\"\",IF(COUNTIF(AZ7:BN7,0),\"มผ\",IF(DU7=\"ปกติ\",SUM(AZ7,BA7,BB7,BC7,BD7,BE7,BF7,BG7,BH7,BI7,BJ7,BK7,BL7,BM7,BN7),\"-\")))","v":0},null,{"$f":"IF(BO7=\"\",\"\",IF(BO7=\"-\",\"-\",IF(BO7=\"มผ\",\"มผ\",IF(BO7=0,\"\",IF($BO$5=0,\"\",ROUND(BO7/$BP$5,0))))))","v":""},27,null,null,null,null,null,null,null,null,null,null,null,null,null,null,{"$f":"IF(ใส่ชื่อ!D2=\"\",\"\",IF(DU7=\"ปกติ\",SUM(BR7,BS7,BT7,BU7,BV7,BW7,BX7,BY7,BZ7,CA7,CB7,CC7,CD7,CE7,CF7),\"-\"))","v":27},null,{"$f":"IF(CG7=\"\",\"\",IF(CG7=\"-\",\"-\",IF(CG7=0,\"\",IF($CG$6=0,\"\",ROUND(CG7/$CH$5,0)))))","v":27},3,3,3,3,3,{"$f":"IF(ใส่ชื่อ!D2=\"\",\"\",IF(CJ7=\"\",\"\",(IF(CK7=\"\",\"\",(IF(CL7=\"\",\"\",(IF(CM7=\"\",\"\",(IF(CN7=\"\",\"\",(SUM(CJ7:CN7))))))))))))","v":15},{"$f":"IF(CO7=\"\",\"\",IF(CO7=\"-\",\"-\",IF(CO7=\"ร\",\"ร\",IF(CO7=0,0,IF($CO$5=0,\"\",ROUND(CO7/5,0))))))","v":3},{"$f":"IF(CP7=\"\",\"\",(IF(CP7>=2.5,\"ดย\",(IF(CP7>=1.5,\"ด\",(IF(CP7>=0.6,\"ผ\",(IF(CP7<=0.4,\"มผ\")))))))))","v":"ดย"},3,3,3,3,3,3,3,3,3,3,{"$f":"IF(CR7=\"\",\"\",(IF(CS7=\"\",\"\",(IF(CT7=\"\",\"\",(IF(CU7=\"\",\"\",(IF(CV7=\"\",\"\",(IF(CW7=\"\",\"\",(IF(CX7=\"\",\"\",(IF(CY7=\"\",\"\",IF(CZ7=\"\",\"\",(IF(DA7=\"\",\"\",(IF(COUNTIF(CR7:DA7,0)>0,\"มผ\",IF(AND(COUNTIF(CR7:DA7,3)>=6,COUNTIF(CR7:DA7,\"<2\")=0),\"ดย\",IF(OR(AND(AND(COUNTIF(CR7:DA7,3)>=1,COUNTIF(CR7:DA7,3)<=5),COUNTIF(CR7:DA7,\"<2\")=0),COUNTIF(CR7:DA7,2)=10,AND(COUNTIF(CR7:DA7,\">=2\")>=6,COUNTIF(CR7:DA7,1)>0)),\"ด\",IF(OR(COUNTIF(CR7:DA7,1)=10,AND(COUNTIF(CR7:DA7,\">=2\")>=1,COUNTIF(CR7:DA7,\">=2\")<=6)),\"ผ\",\"มผ\")))))))))))))))))))))))","v":"ดย"},{"$f":"AB7","v":58},{"$f":"AY7","v":""},{"$f":"BQ7","v":""},null,{"$f":"IF(ใส่ชื่อ!D2=\"\",\"\",IF(COUNTIF(DC7:DE7,\"มผ\"),\"มผ\",IF(DE7=\"มผ\",\"มผ\",IF(DU7=\"ปกติ\",SUM(DC7:DD7,IF(DF7=\"\",DE7,DF7)),\"-\"))))","v":58},null,{"$f":"CI7","v":27},null,null,{"$f":"IF(ใส่ชื่อ!D2=\"\",\"\",IF(DG7=\"\",\"\",IF(COUNTIF(DC7:DJ7,\"มผ\"),\"มผ\",IF(COUNTIF(DC7:DJ7,\"-\"),\"-\",IF(DU7=\"ปกติ\",SUM(DG7,IF(DJ7=\"\",DI7,DJ7)))))))","v":85},null,null,null,{"$f":"ประเมินผลการเรียนเทอม1!DP7","v":40},{"$f":"IF(ใส่ชื่อ!A2=\"\",\"\",IF(DL7=\"-\",\"-\",IF(DL7=0,\"\",IF(DU7=\"ปกติ\",MAXA(DL7/2,DN7/2)))))","v":42.5},null,{"$f":"IF(เวลาเรียน!M9=\"\",\"\",IF(เวลาเรียน!M9=\"ย้าย\",\"-\",IF(เวลาเรียน!M9=\"จำหน่าย\",\"-\",IF(เวลาเรียน!M9=\"ขาดเรียนนาน\",\"-\",IF(DP7=\"\",\"\",IF(DQ7=\"\",\"\",SUM(DP7+DQ7)))))))","v":82.5},{"$f":"IF(เวลาเรียน!M9=\"\",\"\",IF(เวลาเรียน!M9=\"ย้าย\",\"-\",IF(เวลาเรียน!M9=\"จำหน่าย\",\"-\",IF(เวลาเรียน!M9=\"ขาดเรียนนาน\",\"-\",IF(เวลาเรียน!L9<80,\"มส\",IF(COUNTIF(DS7,\"-\"),\"-\",IF(COUNTIF(DS7,\"\"),\"\",VLOOKUP(DS7,$DW$19:$DY$26,3))))))))","v":4},{"$f":"IF(เวลาเรียน!M9=\"\",\"\",เวลาเรียน!M9)","v":"ปกติ"}]
[2,2498,{"$f":"CONCATENATE(ใส่ชื่อ!C3)","v":"2840"},{"$f":"CONCATENATE(ใส่ชื่อ!D3&ใส่ชื่อ!E3&\"  \"&ใส่ชื่อ!F3)","v":"เด็กชายอภิชาติ  ล่องสุวรรณ"},{"$f":"ใส่ชื่อ!A3","v":2},9,9,8,8,8,12,null,null,null,null,null,null,null,null,null,null,null,null,null,null,{"$f":"IF(ใส่ชื่อ!D3=\"\",\"\",IF(DU8=\"ปกติ\",SUM(F8,G8,H8,I8,J8,K8,L8,M8,N8,O8,P8,Q8,R8,S8,T8,U8,V8,W8,X8,Y8),\"-\"))","v":54},null,{"$f":"IF(Z8=\"\",\"\",IF(Z8=\"-\",\"-\",IF(Z8=0,\"\",IF($Z$6=0,\"\",ROUND(Z8/$AA$5,0)))))","v":54},null,null,null,null,null,null,null,null,null,null,null,null,null,null,null,null,null,null,null,null,{"$f":"IF(ใส่ชื่อ!D3=\"\",\"\",IF(COUNTIF(AC8:AS8,0),\"มผ\",IF(DU8=\"ปกติ\",SUM(AC8,AD8,AE8,AF8,AG8,AH8,AI8,AJ8,AK8,AL8,AM8,AN8,AO8,AP8,AQ8,AR8,AS8),\"-\")))","v":0},null,{"$f":"IF(AW8=\"\",\"\",IF(AW8=\"-\",\"-\",IF(AW8=\"มผ\",\"มผ\",IF(AW8=0,\"\",IF($AW$5=0,\"\",ROUND(AW8/$AX$5,0))))))","v":""},null,null,null,null,null,null,null,null,null,null,null,null,null,null,null,{"$f":"IF(ใส่ชื่อ!D3=\"\",\"\",IF(COUNTIF(AZ8:BN8,0),\"มผ\",IF(DU8=\"ปกติ\",SUM(AZ8,BA8,BB8,BC8,BD8,BE8,BF8,BG8,BH8,BI8,BJ8,BK8,BL8,BM8,BN8),\"-\")))","v":0},null,{"$f":"IF(BO8=\"\",\"\",IF(BO8=\"-\",\"-\",IF(BO8=\"มผ\",\"มผ\",IF(BO8=0,\"\",IF($BO$5=0,\"\",ROUND(BO8/$BP$5,0))))))","v":""},27,null,null,null,null,null,null,null,null,null,null,null,null,null,null,{"$f":"IF(ใส่ชื่อ!D3=\"\",\"\",IF(DU8=\"ปกติ\",SUM(BR8,BS8,BT8,BU8,BV8,BW8,BX8,BY8,BZ8,CA8,CB8,CC8,CD8,CE8,CF8),\"-\"))","v":27},null,{"$f":"IF(CG8=\"\",\"\",IF(CG8=\"-\",\"-\",IF(CG8=0,\"\",IF($CG$6=0,\"\",ROUND(CG8/$CH$5,0)))))","v":27},3,3,3,2,3,{"$f":"IF(ใส่ชื่อ!D3=\"\",\"\",IF(CJ8=\"\",\"\",(IF(CK8=\"\",\"\",(IF(CL8=\"\",\"\",(IF(CM8=\"\",\"\",(IF(CN8=\"\",\"\",(SUM(CJ8:CN8))))))))))))","v":14},{"$f":"IF(CO8=\"\",\"\",IF(CO8=\"-\",\"-\",IF(CO8=\"ร\",\"ร\",IF(CO8=0,0,IF($CO$5=0,\"\",ROUND(CO8/5,0))))))","v":3},{"$f":"IF(CP8=\"\",\"\",(IF(CP8>=2.5,\"ดย\",(IF(CP8>=1.5,\"ด\",(IF(CP8>=0.6,\"ผ\",(IF(CP8<=0.4,\"มผ\")))))))))","v":"ดย"},3,3,2,3,3,2,3,3,3,3,{"$f":"IF(CR8=\"\",\"\",(IF(CS8=\"\",\"\",(IF(CT8=\"\",\"\",(IF(CU8=\"\",\"\",(IF(CV8=\"\",\"\",(IF(CW8=\"\",\"\",(IF(CX8=\"\",\"\",(IF(CY8=\"\",\"\",IF(CZ8=\"\",\"\",(IF(DA8=\"\",\"\",(IF(COUNTIF(CR8:DA8,0)>0,\"มผ\",IF(AND(COUNTIF(CR8:DA8,3)>=6,COUNTIF(CR8:DA8,\"<2\")=0),\"ดย\",IF(OR(AND(AND(COUNTIF(CR8:DA8,3)>=1,COUNTIF(CR8:DA8,3)<=5),COUNTIF(CR8:DA8,\"<2\")=0),COUNTIF(CR8:DA8,2)=10,AND(COUNTIF(CR8:DA8,\">=2\")>=6,COUNTIF(CR8:DA8,1)>0)),\"ด\",IF(OR(COUNTIF(CR8:DA8,1)=10,AND(COUNTIF(CR8:DA8,\">=2\")>=1,COUNTIF(CR8:DA8,\">=2\")<=6)),\"ผ\",\"มผ\")))))))))))))))))))))))","v":"ดย"},54,"","",null,{"$f":"IF(ใส่ชื่อ!D3=\"\",\"\",IF(COUNTIF(DC8:DE8,\"มผ\"),\"มผ\",IF(DE8=\"มผ\",\"มผ\",IF(DU8=\"ปกติ\",SUM(DC8:DD8,IF(DF8=\"\",DE8,DF8)),\"-\"))))","v":54},null,27,null,null,{"$f":"IF(ใส่ชื่อ!D3=\"\",\"\",IF(DG8=\"\",\"\",IF(COUNTIF(DC8:DJ8,\"มผ\"),\"มผ\",IF(COUNTIF(DC8:DJ8,\"-\"),\"-\",IF(DU8=\"ปกติ\",SUM(DG8,IF(DJ8=\"\",DI8,DJ8)))))))","v":81},null,null,null,{"$f":"ประเมินผลการเรียนเทอม1!DP8","v":30.5},{"$f":"IF(ใส่ชื่อ!A3=\"\",\"\",IF(DL8=\"-\",\"-\",IF(DL8=0,\"\",IF(DU8=\"ปกติ\",MAXA(DL8/2,DN8/2)))))","v":40.5},null,{"$f":"IF(เวลาเรียน!M10=\"\",\"\",IF(เวลาเรียน!M10=\"ย้าย\",\"-\",IF(เวลาเรียน!M10=\"จำหน่าย\",\"-\",IF(เวลาเรียน!M10=\"ขาดเรียนนาน\",\"-\",IF(DP8=\"\",\"\",IF(DQ8=\"\",\"\",SUM(DP8+DQ8)))))))","v":71},{"$f":"IF(เวลาเรียน!M10=\"\",\"\",IF(เวลาเรียน!M10=\"ย้าย\",\"-\",IF(เวลาเรียน!M10=\"จำหน่าย\",\"-\",IF(เวลาเรียน!M10=\"ขาดเรียนนาน\",\"-\",IF(เวลาเรียน!L10<80,\"มส\",IF(COUNTIF(DS8,\"-\"),\"-\",IF(COUNTIF(DS8,\"\"),\"\",VLOOKUP(DS8,$DW$19:$DY$26,3))))))))","v":3},{"$f":"IF(เวลาเรียน!M10=\"\",\"\",เวลาเรียน!M10)","v":"ปกติ"},null,"ช่วงคะแนน",null,"เกรด",null,4,3.5,3,2.5,2,1.5,1,0,"ร","มส"]
[3,2499,{"$f":"CONCATENATE(ใส่ชื่อ!C4)","v":"2842"},{"$f":"CONCATENATE(ใส่ชื่อ!D4&ใส่ชื่อ!E4&\"  \"&ใส่ชื่อ!F4)","v":"เด็กชายเมธัส  ป้อมเมือง"},{"$f":"ใส่ชื่อ!A4","v":3},10,9,9,10,8,15,null,null,null,null,null,null,null,null,null,null,null,null,null,null,{"$f":"IF(ใส่ชื่อ!D4=\"\",\"\",IF(DU9=\"ปกติ\",SUM(F9,G9,H9,I9,J9,K9,L9,M9,N9,O9,P9,Q9,R9,S9,T9,U9,V9,W9,X9,Y9),\"-\"))","v":61},null,61,null,null,null,null,null,null,null,null,null,null,null,null,null,null,null,null,null,null,null,null,{"$f":"IF(ใส่ชื่อ!D4=\"\",\"\",IF(COUNTIF(AC9:AS9,0),\"มผ\",IF(DU9=\"ปกติ\",SUM(AC9,AD9,AE9,AF9,AG9,AH9,AI9,AJ9,AK9,AL9,AM9,AN9,AO9,AP9,AQ9,AR9,AS9),\"-\")))","v":0},null,"",null,null,null,null,null,null,null,null,null,null,null,null,null,null,null,{"$f":"IF(ใส่ชื่อ!D4=\"\",\"\",IF(COUNTIF(AZ9:BN9,0),\"มผ\",IF(DU9=\"ปกติ\",SUM(AZ9,BA9,BB9,BC9,BD9,BE9,BF9,BG9,BH9,BI9,BJ9,BK9,BL9,BM9,BN9),\"-\")))","v":0},null,"",23,null,null,null,null,null,null,null,null,null,null,null,null,null,null,{"$f":"IF(ใส่ชื่อ!D4=\"\",\"\",IF(DU9=\"ปกติ\",SUM(BR9,BS9,BT9,BU9,BV9,BW9,BX9,BY9,BZ9,CA9,CB9,CC9,CD9,CE9,CF9),\"-\"))","v":23},null,23,3,3,3,3,3,{"$f":"IF(ใส่ชื่อ!D4=\"\",\"\",IF(CJ9=\"\",\"\",(IF(CK9=\"\",\"\",(IF(CL9=\"\",\"\",(IF(CM9=\"\",\"\",(IF(CN9=\"\",\"\",(SUM(CJ9:CN9))))))))))))","v":15},3,"ดย",3,3,3,3,3,3,3,3,3,3,"ดย",61,"","",null,{"$f":"IF(ใส่ชื่อ!D4=\"\",\"\",IF(COUNTIF(DC9:DE9,\"มผ\"),\"มผ\",IF(DE9=\"มผ\",\"มผ\",IF(DU9=\"ปกติ\",SUM(DC9:DD9,IF(DF9=\"\",DE9,DF9)),\"-\"))))","v":61},null,23,null,null,{"$f":"IF(ใส่ชื่อ!D4=\"\",\"\",IF(DG9=\"\",\"\",IF(COUNTIF(DC9:DJ9,\"มผ\"),\"มผ\",IF(COUNTIF(DC9:DJ9,\"-\"),\"-\",IF(DU9=\"ปกติ\",SUM(DG9,IF(DJ9=\"\",DI9,DJ9)))))))","v":84},null,null,null,{"$f":"ประเมินผลการเรียนเทอม1!DP9","v":38},{"$f":"IF(ใส่ชื่อ!A4=\"\",\"\",IF(DL9=\"-\",\"-\",IF(DL9=0,\"\",IF(DU9=\"ปกติ\",MAXA(DL9/2,DN9/2)))))","v":42},null,{"$f":"IF(เวลาเรียน!M11=\"\",\"\",IF(เวลาเรียน!M11=\"ย้าย\",\"-\",IF(เวลาเรียน!M11=\"จำหน่าย\",\"-\",IF(เวลาเรียน!M11=\"ขาดเรียนนาน\",\"-\",IF(DP9=\"\",\"\",IF(DQ9=\"\",\"\",SUM(DP9+DQ9)))))))","v":80},{"$f":"IF(เวลาเรียน!M11=\"\",\"\",IF(เวลาเรียน!M11=\"ย้าย\",\"-\",IF(เวลาเรียน!M11=\"จำหน่าย\",\"-\",IF(เวลาเรียน!M11=\"ขาดเรียนนาน\",\"-\",IF(เวลาเรียน!L11<80,\"มส\",IF(COUNTIF(DS9,\"-\"),\"-\",IF(COUNTIF(DS9,\"\"),\"\",VLOOKUP(DS9,$DW$19:$DY$26,3))))))))","v":4},{"$f":"IF(เวลาเรียน!M11=\"\",\"\",เวลาเรียน!M11)","v":"ปกติ"},null,"จาก","ถึง",null,null,{"$f":"COUNTIF($DT$7:$DT$56,EA8)","v":8},{"$f":"COUNTIF($DT$7:$DT$56,EB8)","v":2},8,2,0,0,0,0,0,0]
[4,2500,{"$f":"CONCATENATE(ใส่ชื่อ!C5)","v":"2844"},{"$f":"CONCATENATE(ใส่ชื่อ!D5&ใส่ชื่อ!E5&\"  \"&ใส่ชื่อ!F5)","v":"เด็กหญิงพรณิสา  เพ็ชรจั่น"},{"$f":"ใส่ชื่อ!A5","v":4},10,10,10,9,10,17,null,null,null,null,null,null,null,null,null,null,null,null,null,null,{"$f":"IF(ใส่ชื่อ!D5=\"\",\"\",IF(DU10=\"ปกติ\",SUM(F10,G10,H10,I10,J10,K10,L10,M10,N10,O10,P10,Q10,R10,S10,T10,U10,V10,W10,X10,Y10),\"-\"))","v":66},null,66,null,null,null,null,null,null,null,null,null,null,null,null,null,null,null,null,null,null,null,null,{"$f":"IF(ใส่ชื่อ!D5=\"\",\"\",IF(COUNTIF(AC10:AS10,0),\"มผ\",IF(DU10=\"ปกติ\",SUM(AC10,AD10,AE10,AF10,AG10,AH10,AI10,AJ10,AK10,AL10,AM10,AN10,AO10,AP10,AQ10,AR10,AS10),\"-\")))","v":0},null,"",null,null,null,null,null,null,null,null,null,null,null,null,null,null,null,{"$f":"IF(ใส่ชื่อ!D5=\"\",\"\",IF(COUNTIF(AZ10:BN10,0),\"มผ\",IF(DU10=\"ปกติ\",SUM(AZ10,BA10,BB10,BC10,BD10,BE10,BF10,BG10,BH10,BI10,BJ10,BK10,BL10,BM10,BN10),\"-\")))","v":0},null,"",28,null,null,null,null,null,null,null,null,null,null,null,null,null,null,{"$f":"IF(ใส่ชื่อ!D5=\"\",\"\",IF(DU10=\"ปกติ\",SUM(BR10,BS10,BT10,BU10,BV10,BW10,BX10,BY10,BZ10,CA10,CB10,CC10,CD10,CE10,CF10),\"-\"))","v":28},null,28,3,3,3,3,3,{"$f":"IF(ใส่ชื่อ!D5=\"\",\"\",IF(CJ10=\"\",\"\",(IF(CK10=\"\",\"\",(IF(CL10=\"\",\"\",(IF(CM10=\"\",\"\",(IF(CN10=\"\",\"\",(SUM(CJ10:CN10))))))))))))","v":15},3,"ดย",3,3,3,3,3,3,3,3,3,3,"ดย",66,"","",null,{"$f":"IF(ใส่ชื่อ!D5=\"\",\"\",IF(COUNTIF(DC10:DE10,\"มผ\"),\"มผ\",IF(DE10=\"มผ\",\"มผ\",IF(DU10=\"ปกติ\",SUM(DC10:DD10,IF(DF10=\"\",DE10,DF10)),\"-\"))))","v":66},null,28,null,null,{"$f":"IF(ใส่ชื่อ!D5=\"\",\"\",IF(DG10=\"\",\"\",IF(COUNTIF(DC10:DJ10,\"มผ\"),\"มผ\",IF(COUNTIF(DC10:DJ10,\"-\"),\"-\",IF(DU10=\"ปกติ\",SUM(DG10,IF(DJ10=\"\",DI10,DJ10)))))))","v":94},null,null,null,{"$f":"ประเมินผลการเรียนเทอม1!DP10","v":42},{"$f":"IF(ใส่ชื่อ!A5=\"\",\"\",IF(DL10=\"-\",\"-\",IF(DL10=0,\"\",IF(DU10=\"ปกติ\",MAXA(DL10/2,DN10/2)))))","v":47},null,{"$f":"IF(เวลาเรียน!M12=\"\",\"\",IF(เวลาเรียน!M12=\"ย้าย\",\"-\",IF(เวลาเรียน!M12=\"จำหน่าย\",\"-\",IF(เวลาเรียน!M12=\"ขาดเรียนนาน\",\"-\",IF(DP10=\"\",\"\",IF(DQ10=\"\",\"\",SUM(DP10+DQ10)))))))","v":89},{"$f":"IF(เวลาเรียน!M12=\"\",\"\",IF(เวลาเรียน!M12=\"ย้าย\",\"-\",IF(เวลาเรียน!M12=\"จำหน่าย\",\"-\",IF(เวลาเรียน!M12=\"ขาดเรียนนาน\",\"-\",IF(เวลาเรียน!L12<80,\"มส\",IF(COUNTIF(DS10,\"-\"),\"-\",IF(COUNTIF(DS10,\"\"),\"\",VLOOKUP(DS10,$DW$19:$DY$26,3))))))))","v":4},{"$f":"IF(เวลาเรียน!M12=\"\",\"\",เวลาเรียน!M12)","v":"ปกติ"},null,0,49,0]
[5,2501,{"$f":"CONCATENATE(ใส่ชื่อ!C6)","v":"2845"},{"$f":"CONCATENATE(ใส่ชื่อ!D6&ใส่ชื่อ!E6&\"  \"&ใส่ชื่อ!F6)","v":"เด็กหญิงบุญฑริกา  นิ่มอ่อน"},{"$f":"ใส่ชื่อ!A6","v":5},9,8,9,8,7,13,null,null,null,null,null,null,null,null,null,null,null,null,null,null,{"$f":"IF(ใส่ชื่อ!D6=\"\",\"\",IF(DU11=\"ปกติ\",SUM(F11,G11,H11,I11,J11,K11,L11,M11,N11,O11,P11,Q11,R11,S11,T11,U11,V11,W11,X11,Y11),\"-\"))","v":54},null,54,null,null,null,null,null,null,null,null,null,null,null,null,null,null,null,null,null,null,null,null,{"$f":"IF(ใส่ชื่อ!D6=\"\",\"\",IF(COUNTIF(AC11:AS11,0),\"มผ\",IF(DU11=\"ปกติ\",SUM(AC11,AD11,AE11,AF11,AG11,AH11,AI11,AJ11,AK11,AL11,AM11,AN11,AO11,AP11,AQ11,AR11,AS11),\"-\")))","v":0},null,"",null,null,null,null,null,null,null,null,null,null,null,null,null,null,null,{"$f":"IF(ใส่ชื่อ!D6=\"\",\"\",IF(COUNTIF(AZ11:BN11,0),\"มผ\",IF(DU11=\"ปกติ\",SUM(AZ11,BA11,BB11,BC11,BD11,BE11,BF11,BG11,BH11,BI11,BJ11,BK11,BL11,BM11,BN11),\"-\")))","v":0},null,"",26,null,null,null,null,null,null,null,null,null,null,null,null,null,null,{"$f":"IF(ใส่ชื่อ!D6=\"\",\"\",IF(DU11=\"ปกติ\",SUM(BR11,BS11,BT11,BU11,BV11,BW11,BX11,BY11,BZ11,CA11,CB11,CC11,CD11,CE11,CF11),\"-\"))","v":26},null,26,3,2,2,2,3,{"$f":"IF(ใส่ชื่อ!D6=\"\",\"\",IF(CJ11=\"\",\"\",(IF(CK11=\"\",\"\",(IF(CL11=\"\",\"\",(IF(CM11=\"\",\"\",(IF(CN11=\"\",\"\",(SUM(CJ11:CN11))))))))))))","v":12},2,"ด",3,2,2,2,2,2,2,3,3,3,"ด",54,"","",null,{"$f":"IF(ใส่ชื่อ!D6=\"\",\"\",IF(COUNTIF(DC11:DE11,\"มผ\"),\"มผ\",IF(DE11=\"มผ\",\"มผ\",IF(DU11=\"ปกติ\",SUM(DC11:DD11,IF(DF11=\"\",DE11,DF11)),\"-\"))))","v":54},null,26,null,null,{"$f":"IF(ใส่ชื่อ!D6=\"\",\"\",IF(DG11=\"\",\"\",IF(COUNTIF(DC11:DJ11,\"มผ\"),\"มผ\",IF(COUNTIF(DC11:DJ11,\"-\"),\"-\",IF(DU11=\"ปกติ\",SUM(DG11,IF(DJ11=\"\",DI11,DJ11)))))))","v":80},null,null,null,{"$f":"ประเมินผลการเรียนเทอม1!DP11","v":30},{"$f":"IF(ใส่ชื่อ!A6=\"\",\"\",IF(DL11=\"-\",\"-\",IF(DL11=0,\"\",IF(DU11=\"ปกติ\",MAXA(DL11/2,DN11/2)))))","v":40},null,{"$f":"IF(เวลาเรียน!M13=\"\",\"\",IF(เวลาเรียน!M13=\"ย้าย\",\"-\",IF(เวลาเรียน!M13=\"จำหน่าย\",\"-\",IF(เวลาเรียน!M13=\"ขาดเรียนนาน\",\"-\",IF(DP11=\"\",\"\",IF(DQ11=\"\",\"\",SUM(DP11+DQ11)))))))","v":70},{"$f":"IF(เวลาเรียน!M13=\"\",\"\",IF(เวลาเรียน!M13=\"ย้าย\",\"-\",IF(เวลาเรียน!M13=\"จำหน่าย\",\"-\",IF(เวลาเรียน!M13=\"ขาดเรียนนาน\",\"-\",IF(เวลาเรียน!L13<80,\"มส\",IF(COUNTIF(DS11,\"-\"),\"-\",IF(COUNTIF(DS11,\"\"),\"\",VLOOKUP(DS11,$DW$19:$DY$26,3))))))))","v":3},{"$f":"IF(เวลาเรียน!M13=\"\",\"\",เวลาเรียน!M13)","v":"ปกติ"},null,50,54,1]
[6,2502,{"$f":"CONCATENATE(ใส่ชื่อ!C7)","v":"2846"},{"$f":"CONCATENATE(ใส่ชื่อ!D7&ใส่ชื่อ!E7&\"  \"&ใส่ชื่อ!F7)","v":"เด็กหญิงรัญชิดา  นรเนตร"},{"$f":"ใส่ชื่อ!A7","v":6},9,8,9,7,8,11,null,null,null,null,null,null,null,null,null,null,null,null,null,null,{"$f":"IF(ใส่ชื่อ!D7=\"\",\"\",IF(DU12=\"ปกติ\",SUM(F12,G12,H12,I12,J12,K12,L12,M12,N12,O12,P12,Q12,R12,S12,T12,U12,V12,W12,X12,Y12),\"-\"))","v":52},null,52,null,null,null,null,null,null,null,null,null,null,null,null,null,null,null,null,null,null,null,null,{"$f":"IF(ใส่ชื่อ!D7=\"\",\"\",IF(COUNTIF(AC12:AS12,0),\"มผ\",IF(DU12=\"ปกติ\",SUM(AC12,AD12,AE12,AF12,AG12,AH12,AI12,AJ12,AK12,AL12,AM12,AN12,AO12,AP12,AQ12,AR12,AS12),\"-\")))","v":0},null,"",null,null,null,null,null,null,null,null,null,null,null,null,null,null,null,{"$f":"IF(ใส่ชื่อ!D7=\"\",\"\",IF(COUNTIF(AZ12:BN12,0),\"มผ\",IF(DU12=\"ปกติ\",SUM(AZ12,BA12,BB12,BC12,BD12,BE12,BF12,BG12,BH12,BI12,BJ12,BK12,BL12,BM12,BN12),\"-\")))","v":0},null,"",28,null,null,null,null,null,null,null,null,null,null,null,null,null,null,{"$f":"IF(ใส่ชื่อ!D7=\"\",\"\",IF(DU12=\"ปกติ\",SUM(BR12,BS12,BT12,BU12,BV12,BW12,BX12,BY12,BZ12,CA12,CB12,CC12,CD12,CE12,CF12),\"-\"))","v":28},null,28,3,2,2,3,3,{"$f":"IF(ใส่ชื่อ!D7=\"\",\"\",IF(CJ12=\"\",\"\",(IF(CK12=\"\",\"\",(IF(CL12=\"\",\"\",(IF(CM12=\"\",\"\",(IF(CN12=\"\",\"\",(SUM(CJ12:CN12))))))))))))","v":13},3,"ดย",3,2,2,3,2,2,3,3,3,3,"ดย",52,"","",null,{"$f":"IF(ใส่ชื่อ!D7=\"\",\"\",IF(COUNTIF(DC12:DE12,\"มผ\"),\"มผ\",IF(DE12=\"มผ\",\"มผ\",IF(DU12=\"ปกติ\",SUM(DC12:DD12,IF(DF12=\"\",DE12,DF12)),\"-\"))))","v":52},null,28,null,null,{"$f":"IF(ใส่ชื่อ!D7=\"\",\"\",IF(DG12=\"\",\"\",IF(COUNTIF(DC12:DJ12,\"มผ\"),\"มผ\",IF(COUNTIF(DC12:DJ12,\"-\"),\"-\",IF(DU12=\"ปกติ\",SUM(DG12,IF(DJ12=\"\",DI12,DJ12)))))))","v":80},null,null,null,{"$f":"ประเมินผลการเรียนเทอม1!DP12","v":30.5},{"$f":"IF(ใส่ชื่อ!A7=\"\",\"\",IF(DL12=\"-\",\"-\",IF(DL12=0,\"\",IF(DU12=\"ปกติ\",MAXA(DL12/2,DN12/2)))))","v":40},null,{"$f":"IF(เวลาเรียน!M14=\"\",\"\",IF(เวลาเรียน!M14=\"ย้าย\",\"-\",IF(เวลาเรียน!M14=\"จำหน่าย\",\"-\",IF(เวลาเรียน!M14=\"ขาดเรียนนาน\",\"-\",IF(DP12=\"\",\"\",IF(DQ12=\"\",\"\",SUM(DP12+DQ12)))))))","v":70.5},{"$f":"IF(เวลาเรียน!M14=\"\",\"\",IF(เวลาเรียน!M14=\"ย้าย\",\"-\",IF(เวลาเรียน!M14=\"จำหน่าย\",\"-\",IF(เวลาเรียน!M14=\"ขาดเรียนนาน\",\"-\",IF(เวลาเรียน!L14<80,\"มส\",IF(COUNTIF(DS12,\"-\"),\"-\",IF(COUNTIF(DS12,\"\"),\"\",VLOOKUP(DS12,$DW$19:$DY$26,3))))))))","v":3},{"$f":"IF(เวลาเรียน!M14=\"\",\"\",เวลาเรียน!M14)","v":"ปกติ"},null,55,59,1.5]
[7,2503,{"$f":"CONCATENATE(ใส่ชื่อ!C8)","v":"2847"},{"$f":"CONCATENATE(ใส่ชื่อ!D8&ใส่ชื่อ!E8&\"  \"&ใส่ชื่อ!F8)","v":"เด็กหญิงอริสา  วีระวิทยกุญชร"},{"$f":"ใส่ชื่อ!A8","v":7},10,8,9,9,8,14,null,null,null,null,null,null,null,null,null,null,null,null,null,null,{"$f":"IF(ใส่ชื่อ!D8=\"\",\"\",IF(DU13=\"ปกติ\",SUM(F13,G13,H13,I13,J13,K13,L13,M13,N13,O13,P13,Q13,R13,S13,T13,U13,V13,W13,X13,Y13),\"-\"))","v":58},null,58,null,null,null,null,null,null,null,null,null,null,null,null,null,null,null,null,null,null,null,null,{"$f":"IF(ใส่ชื่อ!D8=\"\",\"\",IF(COUNTIF(AC13:AS13,0),\"มผ\",IF(DU13=\"ปกติ\",SUM(AC13,AD13,AE13,AF13,AG13,AH13,AI13,AJ13,AK13,AL13,AM13,AN13,AO13,AP13,AQ13,AR13,AS13),\"-\")))","v":0},null,"",null,null,null,null,null,null,null,null,null,null,null,null,null,null,null,{"$f":"IF(ใส่ชื่อ!D8=\"\",\"\",IF(COUNTIF(AZ13:BN13,0),\"มผ\",IF(DU13=\"ปกติ\",SUM(AZ13,BA13,BB13,BC13,BD13,BE13,BF13,BG13,BH13,BI13,BJ13,BK13,BL13,BM13,BN13),\"-\")))","v":0},null,"",22,null,null,null,null,null,null,null,null,null,null,null,null,null,null,{"$f":"IF(ใส่ชื่อ!D8=\"\",\"\",IF(DU13=\"ปกติ\",SUM(BR13,BS13,BT13,BU13,BV13,BW13,BX13,BY13,BZ13,CA13,CB13,CC13,CD13,CE13,CF13),\"-\"))","v":22},null,22,3,3,3,3,3,{"$f":"IF(ใส่ชื่อ!D8=\"\",\"\",IF(CJ13=\"\",\"\",(IF(CK13=\"\",\"\",(IF(CL13=\"\",\"\",(IF(CM13=\"\",\"\",(IF(CN13=\"\",\"\",(SUM(CJ13:CN13))))))))))))","v":15},3,"ดย",3,3,2,2,3,3,3,3,3,3,"ดย",58,"","",null,{"$f":"IF(ใส่ชื่อ!D8=\"\",\"\",IF(COUNTIF(DC13:DE13,\"มผ\"),\"มผ\",IF(DE13=\"มผ\",\"มผ\",IF(DU13=\"ปกติ\",SUM(DC13:DD13,IF(DF13=\"\",DE13,DF13)),\"-\"))))","v":58},null,22,null,null,{"$f":"IF(ใส่ชื่อ!D8=\"\",\"\",IF(DG13=\"\",\"\",IF(COUNTIF(DC13:DJ13,\"มผ\"),\"มผ\",IF(COUNTIF(DC13:DJ13,\"-\"),\"-\",IF(DU13=\"ปกติ\",SUM(DG13,IF(DJ13=\"\",DI13,DJ13)))))))","v":80},null,null,null,{"$f":"ประเมินผลการเรียนเทอม1!DP13","v":35.5},{"$f":"IF(ใส่ชื่อ!A8=\"\",\"\",IF(DL13=\"-\",\"-\",IF(DL13=0,\"\",IF(DU13=\"ปกติ\",MAXA(DL13/2,DN13/2)))))","v":40},null,{"$f":"IF(เวลาเรียน!M15=\"\",\"\",IF(เวลาเรียน!M15=\"ย้าย\",\"-\",IF(เวลาเรียน!M15=\"จำหน่าย\",\"-\",IF(เวลาเรียน!M15=\"ขาดเรียนนาน\",\"-\",IF(DP13=\"\",\"\",IF(DQ13=\"\",\"\",SUM(DP13+DQ13)))))))","v":75.5},{"$f":"IF(เวลาเรียน!M15=\"\",\"\",IF(เวลาเรียน!M15=\"ย้าย\",\"-\",IF(เวลาเรียน!M15=\"จำหน่าย\",\"-\",IF(เวลาเรียน!M15=\"ขาดเรียนนาน\",\"-\",IF(เวลาเรียน!L15<80,\"มส\",IF(COUNTIF(DS13,\"-\"),\"-\",IF(COUNTIF(DS13,\"\"),\"\",VLOOKUP(DS13,$DW$19:$DY$26,3))))))))","v":3.5},{"$f":"IF(เวลาเรียน!M15=\"\",\"\",เวลาเรียน!M15)","v":"ปกติ"},null,60,64,2]
[8,2504,{"$f":"CONCATENATE(ใส่ชื่อ!C9)","v":"2855"},{"$f":"CONCATENATE(ใส่ชื่อ!D9&ใส่ชื่อ!E9&\"  \"&ใส่ชื่อ!F9)","v":"เด็กหญิงณัฐวรา  ธนกิจชัยชนะ"},{"$f":"ใส่ชื่อ!A9","v":8},9,8,9,8,8,11,null,null,null,null,null,null,null,null,null,null,null,null,null,null,{"$f":"IF(ใส่ชื่อ!D9=\"\",\"\",IF(DU14=\"ปกติ\",SUM(F14,G14,H14,I14,J14,K14,L14,M14,N14,O14,P14,Q14,R14,S14,T14,U14,V14,W14,X14,Y14),\"-\"))","v":53},null,53,null,null,null,null,null,null,null,null,null,null,null,null,null,null,null,null,null,null,null,null,{"$f":"IF(ใส่ชื่อ!D9=\"\",\"\",IF(COUNTIF(AC14:AS14,0),\"มผ\",IF(DU14=\"ปกติ\",SUM(AC14,AD14,AE14,AF14,AG14,AH14,AI14,AJ14,AK14,AL14,AM14,AN14,AO14,AP14,AQ14,AR14,AS14),\"-\")))","v":0},null,"",null,null,null,null,null,null,null,null,null,null,null,null,null,null,null,{"$f":"IF(ใส่ชื่อ!D9=\"\",\"\",IF(COUNTIF(AZ14:BN14,0),\"มผ\",IF(DU14=\"ปกติ\",SUM(AZ14,BA14,BB14,BC14,BD14,BE14,BF14,BG14,BH14,BI14,BJ14,BK14,BL14,BM14,BN14),\"-\")))","v":0},null,"",27,null,null,null,null,null,null,null,null,null,null,null,null,null,null,{"$f":"IF(ใส่ชื่อ!D9=\"\",\"\",IF(DU14=\"ปกติ\",SUM(BR14,BS14,BT14,BU14,BV14,BW14,BX14,BY14,BZ14,CA14,CB14,CC14,CD14,CE14,CF14),\"-\"))","v":27},null,27,3,3,3,3,3,{"$f":"IF(ใส่ชื่อ!D9=\"\",\"\",IF(CJ14=\"\",\"\",(IF(CK14=\"\",\"\",(IF(CL14=\"\",\"\",(IF(CM14=\"\",\"\",(IF(CN14=\"\",\"\",(SUM(CJ14:CN14))))))))))))","v":15},3,"ดย",3,3,3,3,3,3,3,3,3,3,"ดย",53,"","",null,{"$f":"IF(ใส่ชื่อ!D9=\"\",\"\",IF(COUNTIF(DC14:DE14,\"มผ\"),\"มผ\",IF(DE14=\"มผ\",\"มผ\",IF(DU14=\"ปกติ\",SUM(DC14:DD14,IF(DF14=\"\",DE14,DF14)),\"-\"))))","v":53},null,27,null,null,{"$f":"IF(ใส่ชื่อ!D9=\"\",\"\",IF(DG14=\"\",\"\",IF(COUNTIF(DC14:DJ14,\"มผ\"),\"มผ\",IF(COUNTIF(DC14:DJ14,\"-\"),\"-\",IF(DU14=\"ปกติ\",SUM(DG14,IF(DJ14=\"\",DI14,DJ14)))))))","v":80},null,null,null,{"$f":"ประเมินผลการเรียนเทอม1!DP14","v":32.5},{"$f":"IF(ใส่ชื่อ!A9=\"\",\"\",IF(DL14=\"-\",\"-\",IF(DL14=0,\"\",IF(DU14=\"ปกติ\",MAXA(DL14/2,DN14/2)))))","v":40},null,{"$f":"IF(เวลาเรียน!M16=\"\",\"\",IF(เวลาเรียน!M16=\"ย้าย\",\"-\",IF(เวลาเรียน!M16=\"จำหน่าย\",\"-\",IF(เวลาเรียน!M16=\"ขาดเรียนนาน\",\"-\",IF(DP14=\"\",\"\",IF(DQ14=\"\",\"\",SUM(DP14+DQ14)))))))","v":72.5},{"$f":"IF(เวลาเรียน!M16=\"\",\"\",IF(เวลาเรียน!M16=\"ย้าย\",\"-\",IF(เวลาเรียน!M16=\"จำหน่าย\",\"-\",IF(เวลาเรียน!M16=\"ขาดเรียนนาน\",\"-\",IF(เวลาเรียน!L16<80,\"มส\",IF(COUNTIF(DS14,\"-\"),\"-\",IF(COUNTIF(DS14,\"\"),\"\",VLOOKUP(DS14,$DW$19:$DY$26,3))))))))","v":3},{"$f":"IF(เวลาเรียน!M16=\"\",\"\",เวลาเรียน!M16)","v":"ปกติ"},null,65,69,2.5]
[9,2505,{"$f":"CONCATENATE(ใส่ชื่อ!C10)","v":"2856"},{"$f":"CONCATENATE(ใส่ชื่อ!D10&ใส่ชื่อ!E10&\"  \"&ใส่ชื่อ!F10)","v":"เด็กชายอักคเชน  ดอกกระถิน"},{"$f":"ใส่ชื่อ!A10","v":9},9,8,8,9,8,13,null,null,null,null,null,null,null,null,null,null,null,null,null,null,{"$f":"IF(ใส่ชื่อ!D10=\"\",\"\",IF(DU15=\"ปกติ\",SUM(F15,G15,H15,I15,J15,K15,L15,M15,N15,O15,P15,Q15,R15,S15,T15,U15,V15,W15,X15,Y15),\"-\"))","v":55},null,55,null,null,null,null,null,null,null,null,null,null,null,null,null,null,null,null,null,null,null,null,{"$f":"IF(ใส่ชื่อ!D10=\"\",\"\",IF(COUNTIF(AC15:AS15,0),\"มผ\",IF(DU15=\"ปกติ\",SUM(AC15,AD15,AE15,AF15,AG15,AH15,AI15,AJ15,AK15,AL15,AM15,AN15,AO15,AP15,AQ15,AR15,AS15),\"-\")))","v":0},null,"",null,null,null,null,null,null,null,null,null,null,null,null,null,null,null,{"$f":"IF(ใส่ชื่อ!D10=\"\",\"\",IF(COUNTIF(AZ15:BN15,0),\"มผ\",IF(DU15=\"ปกติ\",SUM(AZ15,BA15,BB15,BC15,BD15,BE15,BF15,BG15,BH15,BI15,BJ15,BK15,BL15,BM15,BN15),\"-\")))","v":0},null,"",28,null,null,null,null,null,null,null,null,null,null,null,null,null,null,{"$f":"IF(ใส่ชื่อ!D10=\"\",\"\",IF(DU15=\"ปกติ\",SUM(BR15,BS15,BT15,BU15,BV15,BW15,BX15,BY15,BZ15,CA15,CB15,CC15,CD15,CE15,CF15),\"-\"))","v":28},null,28,3,2,3,3,3,{"$f":"IF(ใส่ชื่อ!D10=\"\",\"\",IF(CJ15=\"\",\"\",(IF(CK15=\"\",\"\",(IF(CL15=\"\",\"\",(IF(CM15=\"\",\"\",(IF(CN15=\"\",\"\",(SUM(CJ15:CN15))))))))))))","v":14},3,"ดย",3,3,2,3,3,3,3,3,3,3,"ดย",55,"","",null,{"$f":"IF(ใส่ชื่อ!D10=\"\",\"\",IF(COUNTIF(DC15:DE15,\"มผ\"),\"มผ\",IF(DE15=\"มผ\",\"มผ\",IF(DU15=\"ปกติ\",SUM(DC15:DD15,IF(DF15=\"\",DE15,DF15)),\"-\"))))","v":55},null,28,null,null,{"$f":"IF(ใส่ชื่อ!D10=\"\",\"\",IF(DG15=\"\",\"\",IF(COUNTIF(DC15:DJ15,\"มผ\"),\"มผ\",IF(COUNTIF(DC15:DJ15,\"-\"),\"-\",IF(DU15=\"ปกติ\",SUM(DG15,IF(DJ15=\"\",DI15,DJ15)))))))","v":83},null,null,null,{"$f":"ประเมินผลการเรียนเทอม1!DP15","v":33.5},{"$f":"IF(ใส่ชื่อ!A10=\"\",\"\",IF(DL15=\"-\",\"-\",IF(DL15=0,\"\",IF(DU15=\"ปกติ\",MAXA(DL15/2,DN15/2)))))","v":41.5},null,{"$f":"IF(เวลาเรียน!M17=\"\",\"\",IF(เวลาเรียน!M17=\"ย้าย\",\"-\",IF(เวลาเรียน!M17=\"จำหน่าย\",\"-\",IF(เวลาเรียน!M17=\"ขาดเรียนนาน\",\"-\",IF(DP15=\"\",\"\",IF(DQ15=\"\",\"\",SUM(DP15+DQ15)))))))","v":75},{"$f":"IF(เวลาเรียน!M17=\"\",\"\",IF(เวลาเรียน!M17=\"ย้าย\",\"-\",IF(เวลาเรียน!M17=\"จำหน่าย\",\"-\",IF(เวลาเรียน!M17=\"ขาดเรียนนาน\",\"-\",IF(เวลาเรียน!L17<80,\"มส\",IF(COUNTIF(DS15,\"-\"),\"-\",IF(COUNTIF(DS15,\"\"),\"\",VLOOKUP(DS15,$DW$19:$DY$26,3))))))))","v":3.5},{"$f":"IF(เวลาเรียน!M17=\"\",\"\",เวลาเรียน!M17)","v":"ปกติ"},null,70,74,3]
[10,2506,{"$f":"CONCATENATE(ใส่ชื่อ!C11)","v":"2863"},{"$f":"CONCATENATE(ใส่ชื่อ!D11&ใส่ชื่อ!E11&\"  \"&ใส่ชื่อ!F11)","v":"เด็กหญิงณัฐณิชา  วงศ์บุศรัตน์"},{"$f":"ใส่ชื่อ!A11","v":10},9,9,10,9,9,14,null,null,null,null,null,null,null,null,null,null,null,null,null,null,{"$f":"IF(ใส่ชื่อ!D11=\"\",\"\",IF(DU16=\"ปกติ\",SUM(F16,G16,H16,I16,J16,K16,L16,M16,N16,O16,P16,Q16,R16,S16,T16,U16,V16,W16,X16,Y16),\"-\"))","v":60},null,60,null,null,null,null,null,null,null,null,null,null,null,null,null,null,null,null,null,null,null,null,{"$f":"IF(ใส่ชื่อ!D11=\"\",\"\",IF(COUNTIF(AC16:AS16,0),\"มผ\",IF(DU16=\"ปกติ\",SUM(AC16,AD16,AE16,AF16,AG16,AH16,AI16,AJ16,AK16,AL16,AM16,AN16,AO16,AP16,AQ16,AR16,AS16),\"-\")))","v":0},null,"",null,null,null,null,null,null,null,null,null,null,null,null,null,null,null,{"$f":"IF(ใส่ชื่อ!D11=\"\",\"\",IF(COUNTIF(AZ16:BN16,0),\"มผ\",IF(DU16=\"ปกติ\",SUM(AZ16,BA16,BB16,BC16,BD16,BE16,BF16,BG16,BH16,BI16,BJ16,BK16,BL16,BM16,BN16),\"-\")))","v":0},null,"",24,null,null,null,null,null,null,null,null,null,null,null,null,null,null,{"$f":"IF(ใส่ชื่อ!D11=\"\",\"\",IF(DU16=\"ปกติ\",SUM(BR16,BS16,BT16,BU16,BV16,BW16,BX16,BY16,BZ16,CA16,CB16,CC16,CD16,CE16,CF16),\"-\"))","v":24},null,24,3,3,3,3,3,{"$f":"IF(ใส่ชื่อ!D11=\"\",\"\",IF(CJ16=\"\",\"\",(IF(CK16=\"\",\"\",(IF(CL16=\"\",\"\",(IF(CM16=\"\",\"\",(IF(CN16=\"\",\"\",(SUM(CJ16:CN16))))))))))))","v":15},3,"ดย",3,3,3,3,3,3,3,3,3,3,"ดย",60,"","",null,{"$f":"IF(ใส่ชื่อ!D11=\"\",\"\",IF(COUNTIF(DC16:DE16,\"มผ\"),\"มผ\",IF(DE16=\"มผ\",\"มผ\",IF(DU16=\"ปกติ\",SUM(DC16:DD16,IF(DF16=\"\",DE16,DF16)),\"-\"))))","v":60},null,24,null,null,{"$f":"IF(ใส่ชื่อ!D11=\"\",\"\",IF(DG16=\"\",\"\",IF(COUNTIF(DC16:DJ16,\"มผ\"),\"มผ\",IF(COUNTIF(DC16:DJ16,\"-\"),\"-\",IF(DU16=\"ปกติ\",SUM(DG16,IF(DJ16=\"\",DI16,DJ16)))))))","v":84},null,null,null,{"$f":"ประเมินผลการเรียนเทอม1!DP16","v":40.5},{"$f":"IF(ใส่ชื่อ!A11=\"\",\"\",IF(DL16=\"-\",\"-\",IF(DL16=0,\"\",IF(DU16=\"ปกติ\",MAXA(DL16/2,DN16/2)))))","v":42},null,{"$f":"IF(เวลาเรียน!M18=\"\",\"\",IF(เวลาเรียน!M18=\"ย้าย\",\"-\",IF(เวลาเรียน!M18=\"จำหน่าย\",\"-\",IF(เวลาเรียน!M18=\"ขาดเรียนนาน\",\"-\",IF(DP16=\"\",\"\",IF(DQ16=\"\",\"\",SUM(DP16+DQ16)))))))","v":82.5},{"$f":"IF(เวลาเรียน!M18=\"\",\"\",IF(เวลาเรียน!M18=\"ย้าย\",\"-\",IF(เวลาเรียน!M18=\"จำหน่าย\",\"-\",IF(เวลาเรียน!M18=\"ขาดเรียนนาน\",\"-\",IF(เวลาเรียน!L18<80,\"มส\",IF(COUNTIF(DS16,\"-\"),\"-\",IF(COUNTIF(DS16,\"\"),\"\",VLOOKUP(DS16,$DW$19:$DY$26,3))))))))","v":4},{"$f":"IF(เวลาเรียน!M18=\"\",\"\",เวลาเรียน!M18)","v":"ปกติ"},null,75,79,3.5]
[11,2507,{"$f":"CONCATENATE(ใส่ชื่อ!C12)","v":"2918"},{"$f":"CONCATENATE(ใส่ชื่อ!D12&ใส่ชื่อ!E12&\"  \"&ใส่ชื่อ!F12)","v":"เด็กชายณัฐวุฒิ  เปรมผล"},{"$f":"ใส่ชื่อ!A12","v":11},9,7,8,8,8,12,null,null,null,null,null,null,null,null,null,null,null,null,null,null,{"$f":"IF(ใส่ชื่อ!D12=\"\",\"\",IF(DU17=\"ปกติ\",SUM(F17,G17,H17,I17,J17,K17,L17,M17,N17,O17,P17,Q17,R17,S17,T17,U17,V17,W17,X17,Y17),\"-\"))","v":52},null,52,null,null,null,null,null,null,null,null,null,null,null,null,null,null,null,null,null,null,null,null,{"$f":"IF(ใส่ชื่อ!D12=\"\",\"\",IF(COUNTIF(AC17:AS17,0),\"มผ\",IF(DU17=\"ปกติ\",SUM(AC17,AD17,AE17,AF17,AG17,AH17,AI17,AJ17,AK17,AL17,AM17,AN17,AO17,AP17,AQ17,AR17,AS17),\"-\")))","v":0},null,"",null,null,null,null,null,null,null,null,null,null,null,null,null,null,null,{"$f":"IF(ใส่ชื่อ!D12=\"\",\"\",IF(COUNTIF(AZ17:BN17,0),\"มผ\",IF(DU17=\"ปกติ\",SUM(AZ17,BA17,BB17,BC17,BD17,BE17,BF17,BG17,BH17,BI17,BJ17,BK17,BL17,BM17,BN17),\"-\")))","v":0},null,"",25,null,null,null,null,null,null,null,null,null,null,null,null,null,null,{"$f":"IF(ใส่ชื่อ!D12=\"\",\"\",IF(DU17=\"ปกติ\",SUM(BR17,BS17,BT17,BU17,BV17,BW17,BX17,BY17,BZ17,CA17,CB17,CC17,CD17,CE17,CF17),\"-\"))","v":25},null,25,3,3,3,3,3,{"$f":"IF(ใส่ชื่อ!D12=\"\",\"\",IF(CJ17=\"\",\"\",(IF(CK17=\"\",\"\",(IF(CL17=\"\",\"\",(IF(CM17=\"\",\"\",(IF(CN17=\"\",\"\",(SUM(CJ17:CN17))))))))))))","v":15},3,"ดย",3,3,3,3,3,2,3,3,3,3,"ดย",52,"","",null,{"$f":"IF(ใส่ชื่อ!D12=\"\",\"\",IF(COUNTIF(DC17:DE17,\"มผ\"),\"มผ\",IF(DE17=\"มผ\",\"มผ\",IF(DU17=\"ปกติ\",SUM(DC17:DD17,IF(DF17=\"\",DE17,DF17)),\"-\"))))","v":52},null,25,null,null,{"$f":"IF(ใส่ชื่อ!D12=\"\",\"\",IF(DG17=\"\",\"\",IF(COUNTIF(DC17:DJ17,\"มผ\"),\"มผ\",IF(COUNTIF(DC17:DJ17,\"-\"),\"-\",IF(DU17=\"ปกติ\",SUM(DG17,IF(DJ17=\"\",DI17,DJ17)))))))","v":77},null,null,null,{"$f":"ประเมินผลการเรียนเทอม1!DP17","v":32.5},{"$f":"IF(ใส่ชื่อ!A12=\"\",\"\",IF(DL17=\"-\",\"-\",IF(DL17=0,\"\",IF(DU17=\"ปกติ\",MAXA(DL17/2,DN17/2)))))","v":38.5},null,{"$f":"IF(เวลาเรียน!M19=\"\",\"\",IF(เวลาเรียน!M19=\"ย้าย\",\"-\",IF(เวลาเรียน!M19=\"จำหน่าย\",\"-\",IF(เวลาเรียน!M19=\"ขาดเรียนนาน\",\"-\",IF(DP17=\"\",\"\",IF(DQ17=\"\",\"\",SUM(DP17+DQ17)))))))","v":71},{"$f":"IF(เวลาเรียน!M19=\"\",\"\",IF(เวลาเรียน!M19=\"ย้าย\",\"-\",IF(เวลาเรียน!M19=\"จำหน่าย\",\"-\",IF(เวลาเรียน!M19=\"ขาดเรียนนาน\",\"-\",IF(เวลาเรียน!L19<80,\"มส\",IF(COUNTIF(DS17,\"-\"),\"-\",IF(COUNTIF(DS17,\"\"),\"\",VLOOKUP(DS17,$DW$19:$DY$26,3))))))))","v":3},{"$f":"IF(เวลาเรียน!M19=\"\",\"\",เวลาเรียน!M19)","v":"ปกติ"},null,80,100,4]
[12,2508,{"$f":"CONCATENATE(ใส่ชื่อ!C13)","v":"2919"},{"$f":"CONCATENATE(ใส่ชื่อ!D13&ใส่ชื่อ!E13&\"  \"&ใส่ชื่อ!F13)","v":"เด็กชายธนาธิป  สังข์โพธิ์"},{"$f":"ใส่ชื่อ!A13","v":12},8,7,8,8,7,12,null,null,null,null,null,null,null,null,null,null,null,null,null,null,{"$f":"IF(ใส่ชื่อ!D13=\"\",\"\",IF(DU18=\"ปกติ\",SUM(F18,G18,H18,I18,J18,K18,L18,M18,N18,O18,P18,Q18,R18,S18,T18,U18,V18,W18,X18,Y18),\"-\"))","v":50},null,50,null,null,null,null,null,null,null,null,null,null,null,null,null,null,null,null,null,null,null,null,{"$f":"IF(ใส่ชื่อ!D13=\"\",\"\",IF(COUNTIF(AC18:AS18,0),\"มผ\",IF(DU18=\"ปกติ\",SUM(AC18,AD18,AE18,AF18,AG18,AH18,AI18,AJ18,AK18,AL18,AM18,AN18,AO18,AP18,AQ18,AR18,AS18),\"-\")))","v":0},null,"",null,null,null,null,null,null,null,null,null,null,null,null,null,null,null,{"$f":"IF(ใส่ชื่อ!D13=\"\",\"\",IF(COUNTIF(AZ18:BN18,0),\"มผ\",IF(DU18=\"ปกติ\",SUM(AZ18,BA18,BB18,BC18,BD18,BE18,BF18,BG18,BH18,BI18,BJ18,BK18,BL18,BM18,BN18),\"-\")))","v":0},null,"",20,null,null,null,null,null,null,null,null,null,null,null,null,null,null,{"$f":"IF(ใส่ชื่อ!D13=\"\",\"\",IF(DU18=\"ปกติ\",SUM(BR18,BS18,BT18,BU18,BV18,BW18,BX18,BY18,BZ18,CA18,CB18,CC18,CD18,CE18,CF18),\"-\"))","v":20},null,20,3,2,2,2,3,{"$f":"IF(ใส่ชื่อ!D13=\"\",\"\",IF(CJ18=\"\",\"\",(IF(CK18=\"\",\"\",(IF(CL18=\"\",\"\",(IF(CM18=\"\",\"\",(IF(CN18=\"\",\"\",(SUM(CJ18:CN18))))))))))))","v":12},2,"ด",3,3,2,2,2,2,2,2,3,3,"ด",50,"","",null,{"$f":"IF(ใส่ชื่อ!D13=\"\",\"\",IF(COUNTIF(DC18:DE18,\"มผ\"),\"มผ\",IF(DE18=\"มผ\",\"มผ\",IF(DU18=\"ปกติ\",SUM(DC18:DD18,IF(DF18=\"\",DE18,DF18)),\"-\"))))","v":50},null,20,null,null,{"$f":"IF(ใส่ชื่อ!D13=\"\",\"\",IF(DG18=\"\",\"\",IF(COUNTIF(DC18:DJ18,\"มผ\"),\"มผ\",IF(COUNTIF(DC18:DJ18,\"-\"),\"-\",IF(DU18=\"ปกติ\",SUM(DG18,IF(DJ18=\"\",DI18,DJ18)))))))","v":70},null,null,null,{"$f":"ประเมินผลการเรียนเทอม1!DP18","v":30},{"$f":"IF(ใส่ชื่อ!A13=\"\",\"\",IF(DL18=\"-\",\"-\",IF(DL18=0,\"\",IF(DU18=\"ปกติ\",MAXA(DL18/2,DN18/2)))))","v":35},null,{"$f":"IF(เวลาเรียน!M20=\"\",\"\",IF(เวลาเรียน!M20=\"ย้าย\",\"-\",IF(เวลาเรียน!M20=\"จำหน่าย\",\"-\",IF(เวลาเรียน!M20=\"ขาดเรียนนาน\",\"-\",IF(DP18=\"\",\"\",IF(DQ18=\"\",\"\",SUM(DP18+DQ18)))))))","v":65},{"$f":"IF(เวลาเรียน!M20=\"\",\"\",IF(เวลาเรียน!M20=\"ย้าย\",\"-\",IF(เวลาเรียน!M20=\"จำหน่าย\",\"-\",IF(เวลาเรียน!M20=\"ขาดเรียนนาน\",\"-\",IF(เวลาเรียน!L20<80,\"มส\",IF(COUNTIF(DS18,\"-\"),\"-\",IF(COUNTIF(DS18,\"\"),\"\",VLOOKUP(DS18,$DW$19:$DY$26,3))))))))","v":2.5},{"$f":"IF(เวลาเรียน!M20=\"\",\"\",เวลาเรียน!M20)","v":"ปกติ"}]
[13,2509,{"$f":"CONCATENATE(ใส่ชื่อ!C14)","v":"2946"},{"$f":"CONCATENATE(ใส่ชื่อ!D14&ใส่ชื่อ!E14&\"  \"&ใส่ชื่อ!F14)","v":"เด็กหญิงน้ำหวาน  พม่า"},{"$f":"ใส่ชื่อ!A14","v":13},9,8,10,8,9,12,null,null,null,null,null,null,null,null,null,null,null,null,null,null,{"$f":"IF(ใส่ชื่อ!D14=\"\",\"\",IF(DU19=\"ปกติ\",SUM(F19,G19,H19,I19,J19,K19,L19,M19,N19,O19,P19,Q19,R19,S19,T19,U19,V19,W19,X19,Y19),\"-\"))","v":56},null,56,null,null,null,null,null,null,null,null,null,null,null,null,null,null,null,null,null,null,null,null,{"$f":"IF(ใส่ชื่อ!D14=\"\",\"\",IF(COUNTIF(AC19:AS19,0),\"มผ\",IF(DU19=\"ปกติ\",SUM(AC19,AD19,AE19,AF19,AG19,AH19,AI19,AJ19,AK19,AL19,AM19,AN19,AO19,AP19,AQ19,AR19,AS19),\"-\")))","v":0},null,"",null,null,null,null,null,null,null,null,null,null,null,null,null,null,null,{"$f":"IF(ใส่ชื่อ!D14=\"\",\"\",IF(COUNTIF(AZ19:BN19,0),\"มผ\",IF(DU19=\"ปกติ\",SUM(AZ19,BA19,BB19,BC19,BD19,BE19,BF19,BG19,BH19,BI19,BJ19,BK19,BL19,BM19,BN19),\"-\")))","v":0},null,"",21,null,null,null,null,null,null,null,null,null,null,null,null,null,null,{"$f":"IF(ใส่ชื่อ!D14=\"\",\"\",IF(DU19=\"ปกติ\",SUM(BR19,BS19,BT19,BU19,BV19,BW19,BX19,BY19,BZ19,CA19,CB19,CC19,CD19,CE19,CF19),\"-\"))","v":21},null,21,3,3,3,2,3,{"$f":"IF(ใส่ชื่อ!D14=\"\",\"\",IF(CJ19=\"\",\"\",(IF(CK19=\"\",\"\",(IF(CL19=\"\",\"\",(IF(CM19=\"\",\"\",(IF(CN19=\"\",\"\",(SUM(CJ19:CN19))))))))))))","v":14},3,"ดย",3,2,2,3,3,3,3,3,3,3,"ดย",56,"","",null,{"$f":"IF(ใส่ชื่อ!D14=\"\",\"\",IF(COUNTIF(DC19:DE19,\"มผ\"),\"มผ\",IF(DE19=\"มผ\",\"มผ\",IF(DU19=\"ปกติ\",SUM(DC19:DD19,IF(DF19=\"\",DE19,DF19)),\"-\"))))","v":56},null,21,null,null,{"$f":"IF(ใส่ชื่อ!D14=\"\",\"\",IF(DG19=\"\",\"\",IF(COUNTIF(DC19:DJ19,\"มผ\"),\"มผ\",IF(COUNTIF(DC19:DJ19,\"-\"),\"-\",IF(DU19=\"ปกติ\",SUM(DG19,IF(DJ19=\"\",DI19,DJ19)))))))","v":77},null,null,null,{"$f":"ประเมินผลการเรียนเทอม1!DP19","v":31.5},{"$f":"IF(ใส่ชื่อ!A14=\"\",\"\",IF(DL19=\"-\",\"-\",IF(DL19=0,\"\",IF(DU19=\"ปกติ\",MAXA(DL19/2,DN19/2)))))","v":38.5},null,{"$f":"IF(เวลาเรียน!M21=\"\",\"\",IF(เวลาเรียน!M21=\"ย้าย\",\"-\",IF(เวลาเรียน!M21=\"จำหน่าย\",\"-\",IF(เวลาเรียน!M21=\"ขาดเรียนนาน\",\"-\",IF(DP19=\"\",\"\",IF(DQ19=\"\",\"\",SUM(DP19+DQ19)))))))","v":70},{"$f":"IF(เวลาเรียน!M21=\"\",\"\",IF(เวลาเรียน!M21=\"ย้าย\",\"-\",IF(เวลาเรียน!M21=\"จำหน่าย\",\"-\",IF(เวลาเรียน!M21=\"ขาดเรียนนาน\",\"-\",IF(เวลาเรียน!L21<80,\"มส\",IF(COUNTIF(DS19,\"-\"),\"-\",IF(COUNTIF(DS19,\"\"),\"\",VLOOKUP(DS19,$DW$19:$DY$26,3))))))))","v":3},{"$f":"IF(เวลาเรียน!M21=\"\",\"\",เวลาเรียน!M21)","v":"ปกติ"},null,0,49.9,0]
[14,2510,{"$f":"CONCATENATE(ใส่ชื่อ!C15)","v":"3010"},{"$f":"CONCATENATE(ใส่ชื่อ!D15&ใส่ชื่อ!E15&\"  \"&ใส่ชื่อ!F15)","v":"เด็กหญิงชลิตา  ยมนา"},{"$f":"ใส่ชื่อ!A15","v":14},9,7,8,7,7,14,null,null,null,null,null,null,null,null,null,null,null,null,null,null,{"$f":"IF(ใส่ชื่อ!D15=\"\",\"\",IF(DU20=\"ปกติ\",SUM(F20,G20,H20,I20,J20,K20,L20,M20,N20,O20,P20,Q20,R20,S20,T20,U20,V20,W20,X20,Y20),\"-\"))","v":52},null,52,null,null,null,null,null,null,null,null,null,null,null,null,null,null,null,null,null,null,null,null,{"$f":"IF(ใส่ชื่อ!D15=\"\",\"\",IF(COUNTIF(AC20:AS20,0),\"มผ\",IF(DU20=\"ปกติ\",SUM(AC20,AD20,AE20,AF20,AG20,AH20,AI20,AJ20,AK20,AL20,AM20,AN20,AO20,AP20,AQ20,AR20,AS20),\"-\")))","v":0},null,"",null,null,null,null,null,null,null,null,null,null,null,null,null,null,null,{"$f":"IF(ใส่ชื่อ!D15=\"\",\"\",IF(COUNTIF(AZ20:BN20,0),\"มผ\",IF(DU20=\"ปกติ\",SUM(AZ20,BA20,BB20,BC20,BD20,BE20,BF20,BG20,BH20,BI20,BJ20,BK20,BL20,BM20,BN20),\"-\")))","v":0},null,"",16,null,null,null,null,null,null,null,null,null,null,null,null,null,null,{"$f":"IF(ใส่ชื่อ!D15=\"\",\"\",IF(DU20=\"ปกติ\",SUM(BR20,BS20,BT20,BU20,BV20,BW20,BX20,BY20,BZ20,CA20,CB20,CC20,CD20,CE20,CF20),\"-\"))","v":16},null,16,3,2,2,2,3,{"$f":"IF(ใส่ชื่อ!D15=\"\",\"\",IF(CJ20=\"\",\"\",(IF(CK20=\"\",\"\",(IF(CL20=\"\",\"\",(IF(CM20=\"\",\"\",(IF(CN20=\"\",\"\",(SUM(CJ20:CN20))))))))))))","v":12},2,"ด",3,3,2,2,2,2,3,2,3,3,"ด",52,"","",null,{"$f":"IF(ใส่ชื่อ!D15=\"\",\"\",IF(COUNTIF(DC20:DE20,\"มผ\"),\"มผ\",IF(DE20=\"มผ\",\"มผ\",IF(DU20=\"ปกติ\",SUM(DC20:DD20,IF(DF20=\"\",DE20,DF20)),\"-\"))))","v":52},null,16,null,null,{"$f":"IF(ใส่ชื่อ!D15=\"\",\"\",IF(DG20=\"\",\"\",IF(COUNTIF(DC20:DJ20,\"มผ\"),\"มผ\",IF(COUNTIF(DC20:DJ20,\"-\"),\"-\",IF(DU20=\"ปกติ\",SUM(DG20,IF(DJ20=\"\",DI20,DJ20)))))))","v":68},null,null,null,{"$f":"ประเมินผลการเรียนเทอม1!DP20","v":31},{"$f":"IF(ใส่ชื่อ!A15=\"\",\"\",IF(DL20=\"-\",\"-\",IF(DL20=0,\"\",IF(DU20=\"ปกติ\",MAXA(DL20/2,DN20/2)))))","v":34},null,{"$f":"IF(เวลาเรียน!M22=\"\",\"\",IF(เวลาเรียน!M22=\"ย้าย\",\"-\",IF(เวลาเรียน!M22=\"จำหน่าย\",\"-\",IF(เวลาเรียน!M22=\"ขาดเรียนนาน\",\"-\",IF(DP20=\"\",\"\",IF(DQ20=\"\",\"\",SUM(DP20+DQ20)))))))","v":65},{"$f":"IF(เวลาเรียน!M22=\"\",\"\",IF(เวลาเรียน!M22=\"ย้าย\",\"-\",IF(เวลาเรียน!M22=\"จำหน่าย\",\"-\",IF(เวลาเรียน!M22=\"ขาดเรียนนาน\",\"-\",IF(เวลาเรียน!L22<80,\"มส\",IF(COUNTIF(DS20,\"-\"),\"-\",IF(COUNTIF(DS20,\"\"),\"\",VLOOKUP(DS20,$DW$19:$DY$26,3))))))))","v":2.5},{"$f":"IF(เวลาเรียน!M22=\"\",\"\",เวลาเรียน!M22)","v":"ปกติ"},null,50,54.9,1]
[15,2511,{"$f":"CONCATENATE(ใส่ชื่อ!C16)","v":"3043"},{"$f":"CONCATENATE(ใส่ชื่อ!D16&ใส่ชื่อ!E16&\"  \"&ใส่ชื่อ!F16)","v":"เด็กหญิงฉัตรพรรณราย  แสงรัตนายนต์"},{"$f":"ใส่ชื่อ!A16","v":15},10,10,10,9,9,17,null,null,null,null,null,null,null,null,null,null,null,null,null,null,{"$f":"IF(ใส่ชื่อ!D16=\"\",\"\",IF(DU21=\"ปกติ\",SUM(F21,G21,H21,I21,J21,K21,L21,M21,N21,O21,P21,Q21,R21,S21,T21,U21,V21,W21,X21,Y21),\"-\"))","v":65},null,65,null,null,null,null,null,null,null,null,null,null,null,null,null,null,null,null,null,null,null,null,{"$f":"IF(ใส่ชื่อ!D16=\"\",\"\",IF(COUNTIF(AC21:AS21,0),\"มผ\",IF(DU21=\"ปกติ\",SUM(AC21,AD21,AE21,AF21,AG21,AH21,AI21,AJ21,AK21,AL21,AM21,AN21,AO21,AP21,AQ21,AR21,AS21),\"-\")))","v":0},null,"",null,null,null,null,null,null,null,null,null,null,null,null,null,null,null,{"$f":"IF(ใส่ชื่อ!D16=\"\",\"\",IF(COUNTIF(AZ21:BN21,0),\"มผ\",IF(DU21=\"ปกติ\",SUM(AZ21,BA21,BB21,BC21,BD21,BE21,BF21,BG21,BH21,BI21,BJ21,BK21,BL21,BM21,BN21),\"-\")))","v":0},null,"",26,null,null,null,null,null,null,null,null,null,null,null,null,null,null,{"$f":"IF(ใส่ชื่อ!D16=\"\",\"\",IF(DU21=\"ปกติ\",SUM(BR21,BS21,BT21,BU21,BV21,BW21,BX21,BY21,BZ21,CA21,CB21,CC21,CD21,CE21,CF21),\"-\"))","v":26},null,26,3,3,3,3,3,{"$f":"IF(ใส่ชื่อ!D16=\"\",\"\",IF(CJ21=\"\",\"\",(IF(CK21=\"\",\"\",(IF(CL21=\"\",\"\",(IF(CM21=\"\",\"\",(IF(CN21=\"\",\"\",(SUM(CJ21:CN21))))))))))))","v":15},3,"ดย",3,3,3,3,3,3,3,3,3,3,"ดย",65,"","",null,{"$f":"IF(ใส่ชื่อ!D16=\"\",\"\",IF(COUNTIF(DC21:DE21,\"มผ\"),\"มผ\",IF(DE21=\"มผ\",\"มผ\",IF(DU21=\"ปกติ\",SUM(DC21:DD21,IF(DF21=\"\",DE21,DF21)),\"-\"))))","v":65},null,26,null,null,{"$f":"IF(ใส่ชื่อ!D16=\"\",\"\",IF(DG21=\"\",\"\",IF(COUNTIF(DC21:DJ21,\"มผ\"),\"มผ\",IF(COUNTIF(DC21:DJ21,\"-\"),\"-\",IF(DU21=\"ปกติ\",SUM(DG21,IF(DJ21=\"\",DI21,DJ21)))))))","v":91},null,null,null,{"$f":"ประเมินผลการเรียนเทอม1!DP21","v":41.5},{"$f":"IF(ใส่ชื่อ!A16=\"\",\"\",IF(DL21=\"-\",\"-\",IF(DL21=0,\"\",IF(DU21=\"ปกติ\",MAXA(DL21/2,DN21/2)))))","v":45.5},null,{"$f":"IF(เวลาเรียน!M23=\"\",\"\",IF(เวลาเรียน!M23=\"ย้าย\",\"-\",IF(เวลาเรียน!M23=\"จำหน่าย\",\"-\",IF(เวลาเรียน!M23=\"ขาดเรียนนาน\",\"-\",IF(DP21=\"\",\"\",IF(DQ21=\"\",\"\",SUM(DP21+DQ21)))))))","v":87},{"$f":"IF(เวลาเรียน!M23=\"\",\"\",IF(เวลาเรียน!M23=\"ย้าย\",\"-\",IF(เวลาเรียน!M23=\"จำหน่าย\",\"-\",IF(เวลาเรียน!M23=\"ขาดเรียนนาน\",\"-\",IF(เวลาเรียน!L23<80,\"มส\",IF(COUNTIF(DS21,\"-\"),\"-\",IF(COUNTIF(DS21,\"\"),\"\",VLOOKUP(DS21,$DW$19:$DY$26,3))))))))","v":4},{"$f":"IF(เวลาเรียน!M23=\"\",\"\",เวลาเรียน!M23)","v":"ปกติ"},null,55,59.9,1.5]
[16,2512,{"$f":"CONCATENATE(ใส่ชื่อ!C17)","v":"3084"},{"$f":"CONCATENATE(ใส่ชื่อ!D17&ใส่ชื่อ!E17&\"  \"&ใส่ชื่อ!F17)","v":"เด็กชายธนวุฒิ   -"},{"$f":"ใส่ชื่อ!A17","v":16},10,10,10,9,10,16,null,null,null,null,null,null,null,null,null,null,null,null,null,null,{"$f":"IF(ใส่ชื่อ!D17=\"\",\"\",IF(DU22=\"ปกติ\",SUM(F22,G22,H22,I22,J22,K22,L22,M22,N22,O22,P22,Q22,R22,S22,T22,U22,V22,W22,X22,Y22),\"-\"))","v":65},null,65,null,null,null,null,null,null,null,null,null,null,null,null,null,null,null,null,null,null,null,null,{"$f":"IF(ใส่ชื่อ!D17=\"\",\"\",IF(COUNTIF(AC22:AS22,0),\"มผ\",IF(DU22=\"ปกติ\",SUM(AC22,AD22,AE22,AF22,AG22,AH22,AI22,AJ22,AK22,AL22,AM22,AN22,AO22,AP22,AQ22,AR22,AS22),\"-\")))","v":0},null,"",null,null,null,null,null,null,null,null,null,null,null,null,null,null,null,{"$f":"IF(ใส่ชื่อ!D17=\"\",\"\",IF(COUNTIF(AZ22:BN22,0),\"มผ\",IF(DU22=\"ปกติ\",SUM(AZ22,BA22,BB22,BC22,BD22,BE22,BF22,BG22,BH22,BI22,BJ22,BK22,BL22,BM22,BN22),\"-\")))","v":0},null,"",27,null,null,null,null,null,null,null,null,null,null,null,null,null,null,{"$f":"IF(ใส่ชื่อ!D17=\"\",\"\",IF(DU22=\"ปกติ\",SUM(BR22,BS22,BT22,BU22,BV22,BW22,BX22,BY22,BZ22,CA22,CB22,CC22,CD22,CE22,CF22),\"-\"))","v":27},null,27,3,3,3,3,3,{"$f":"IF(ใส่ชื่อ!D17=\"\",\"\",IF(CJ22=\"\",\"\",(IF(CK22=\"\",\"\",(IF(CL22=\"\",\"\",(IF(CM22=\"\",\"\",(IF(CN22=\"\",\"\",(SUM(CJ22:CN22))))))))))))","v":15},3,"ดย",3,3,3,3,3,3,3,3,3,3,"ดย",65,"","",null,{"$f":"IF(ใส่ชื่อ!D17=\"\",\"\",IF(COUNTIF(DC22:DE22,\"มผ\"),\"มผ\",IF(DE22=\"มผ\",\"มผ\",IF(DU22=\"ปกติ\",SUM(DC22:DD22,IF(DF22=\"\",DE22,DF22)),\"-\"))))","v":65},null,27,null,null,{"$f":"IF(ใส่ชื่อ!D17=\"\",\"\",IF(DG22=\"\",\"\",IF(COUNTIF(DC22:DJ22,\"มผ\"),\"มผ\",IF(COUNTIF(DC22:DJ22,\"-\"),\"-\",IF(DU22=\"ปกติ\",SUM(DG22,IF(DJ22=\"\",DI22,DJ22)))))))","v":92},null,null,null,{"$f":"ประเมินผลการเรียนเทอม1!DP22","v":45},{"$f":"IF(ใส่ชื่อ!A17=\"\",\"\",IF(DL22=\"-\",\"-\",IF(DL22=0,\"\",IF(DU22=\"ปกติ\",MAXA(DL22/2,DN22/2)))))","v":46},null,{"$f":"IF(เวลาเรียน!M24=\"\",\"\",IF(เวลาเรียน!M24=\"ย้าย\",\"-\",IF(เวลาเรียน!M24=\"จำหน่าย\",\"-\",IF(เวลาเรียน!M24=\"ขาดเรียนนาน\",\"-\",IF(DP22=\"\",\"\",IF(DQ22=\"\",\"\",SUM(DP22+DQ22)))))))","v":91},{"$f":"IF(เวลาเรียน!M24=\"\",\"\",IF(เวลาเรียน!M24=\"ย้าย\",\"-\",IF(เวลาเรียน!M24=\"จำหน่าย\",\"-\",IF(เวลาเรียน!M24=\"ขาดเรียนนาน\",\"-\",IF(เวลาเรียน!L24<80,\"มส\",IF(COUNTIF(DS22,\"-\"),\"-\",IF(COUNTIF(DS22,\"\"),\"\",VLOOKUP(DS22,$DW$19:$DY$26,3))))))))","v":4},{"$f":"IF(เวลาเรียน!M24=\"\",\"\",เวลาเรียน!M24)","v":"ปกติ"},null,60,64.900000000000006,2]
[17,2513,{"$f":"CONCATENATE(ใส่ชื่อ!C18)","v":"3098"},{"$f":"CONCATENATE(ใส่ชื่อ!D18&ใส่ชื่อ!E18&\"  \"&ใส่ชื่อ!F18)","v":"เด็กหญิงวรรณพิชชา  จันไทย"},{"$f":"ใส่ชื่อ!A18","v":17},10,9,8,7,8,13,null,null,null,null,null,null,null,null,null,null,null,null,null,null,{"$f":"IF(ใส่ชื่อ!D18=\"\",\"\",IF(DU23=\"ปกติ\",SUM(F23,G23,H23,I23,J23,K23,L23,M23,N23,O23,P23,Q23,R23,S23,T23,U23,V23,W23,X23,Y23),\"-\"))","v":55},null,55,null,null,null,null,null,null,null,null,null,null,null,null,null,null,null,null,null,null,null,null,{"$f":"IF(ใส่ชื่อ!D18=\"\",\"\",IF(COUNTIF(AC23:AS23,0),\"มผ\",IF(DU23=\"ปกติ\",SUM(AC23,AD23,AE23,AF23,AG23,AH23,AI23,AJ23,AK23,AL23,AM23,AN23,AO23,AP23,AQ23,AR23,AS23),\"-\")))","v":0},null,"",null,null,null,null,null,null,null,null,null,null,null,null,null,null,null,{"$f":"IF(ใส่ชื่อ!D18=\"\",\"\",IF(COUNTIF(AZ23:BN23,0),\"มผ\",IF(DU23=\"ปกติ\",SUM(AZ23,BA23,BB23,BC23,BD23,BE23,BF23,BG23,BH23,BI23,BJ23,BK23,BL23,BM23,BN23),\"-\")))","v":0},null,"",25,null,null,null,null,null,null,null,null,null,null,null,null,null,null,{"$f":"IF(ใส่ชื่อ!D18=\"\",\"\",IF(DU23=\"ปกติ\",SUM(BR23,BS23,BT23,BU23,BV23,BW23,BX23,BY23,BZ23,CA23,CB23,CC23,CD23,CE23,CF23),\"-\"))","v":25},null,25,3,3,3,2,3,{"$f":"IF(ใส่ชื่อ!D18=\"\",\"\",IF(CJ23=\"\",\"\",(IF(CK23=\"\",\"\",(IF(CL23=\"\",\"\",(IF(CM23=\"\",\"\",(IF(CN23=\"\",\"\",(SUM(CJ23:CN23))))))))))))","v":14},3,"ดย",3,3,3,3,3,2,3,3,3,3,"ดย",55,"","",null,{"$f":"IF(ใส่ชื่อ!D18=\"\",\"\",IF(COUNTIF(DC23:DE23,\"มผ\"),\"มผ\",IF(DE23=\"มผ\",\"มผ\",IF(DU23=\"ปกติ\",SUM(DC23:DD23,IF(DF23=\"\",DE23,DF23)),\"-\"))))","v":55},null,25,null,null,{"$f":"IF(ใส่ชื่อ!D18=\"\",\"\",IF(DG23=\"\",\"\",IF(COUNTIF(DC23:DJ23,\"มผ\"),\"มผ\",IF(COUNTIF(DC23:DJ23,\"-\"),\"-\",IF(DU23=\"ปกติ\",SUM(DG23,IF(DJ23=\"\",DI23,DJ23)))))))","v":80},null,null,null,{"$f":"ประเมินผลการเรียนเทอม1!DP23","v":31},{"$f":"IF(ใส่ชื่อ!A18=\"\",\"\",IF(DL23=\"-\",\"-\",IF(DL23=0,\"\",IF(DU23=\"ปกติ\",MAXA(DL23/2,DN23/2)))))","v":40},null,{"$f":"IF(เวลาเรียน!M25=\"\",\"\",IF(เวลาเรียน!M25=\"ย้าย\",\"-\",IF(เวลาเรียน!M25=\"จำหน่าย\",\"-\",IF(เวลาเรียน!M25=\"ขาดเรียนนาน\",\"-\",IF(DP23=\"\",\"\",IF(DQ23=\"\",\"\",SUM(DP23+DQ23)))))))","v":71},{"$f":"IF(เวลาเรียน!M25=\"\",\"\",IF(เวลาเรียน!M25=\"ย้าย\",\"-\",IF(เวลาเรียน!M25=\"จำหน่าย\",\"-\",IF(เวลาเรียน!M25=\"ขาดเรียนนาน\",\"-\",IF(เวลาเรียน!L25<80,\"มส\",IF(COUNTIF(DS23,\"-\"),\"-\",IF(COUNTIF(DS23,\"\"),\"\",VLOOKUP(DS23,$DW$19:$DY$26,3))))))))","v":3},{"$f":"IF(เวลาเรียน!M25=\"\",\"\",เวลาเรียน!M25)","v":"ปกติ"},null,65,69.900000000000006,2.5]
[18,2514,{"$f":"CONCATENATE(ใส่ชื่อ!C19)","v":"3111"},{"$f":"CONCATENATE(ใส่ชื่อ!D19&ใส่ชื่อ!E19&\"  \"&ใส่ชื่อ!F19)","v":"เด็กหญิงมานาทิพย์  สมดี"},{"$f":"ใส่ชื่อ!A19","v":18},10,8,8,8,9,15,null,null,null,null,null,null,null,null,null,null,null,null,null,null,{"$f":"IF(ใส่ชื่อ!D19=\"\",\"\",IF(DU24=\"ปกติ\",SUM(F24,G24,H24,I24,J24,K24,L24,M24,N24,O24,P24,Q24,R24,S24,T24,U24,V24,W24,X24,Y24),\"-\"))","v":58},null,58,null,null,null,null,null,null,null,null,null,null,null,null,null,null,null,null,null,null,null,null,{"$f":"IF(ใส่ชื่อ!D19=\"\",\"\",IF(COUNTIF(AC24:AS24,0),\"มผ\",IF(DU24=\"ปกติ\",SUM(AC24,AD24,AE24,AF24,AG24,AH24,AI24,AJ24,AK24,AL24,AM24,AN24,AO24,AP24,AQ24,AR24,AS24),\"-\")))","v":0},null,"",null,null,null,null,null,null,null,null,null,null,null,null,null,null,null,{"$f":"IF(ใส่ชื่อ!D19=\"\",\"\",IF(COUNTIF(AZ24:BN24,0),\"มผ\",IF(DU24=\"ปกติ\",SUM(AZ24,BA24,BB24,BC24,BD24,BE24,BF24,BG24,BH24,BI24,BJ24,BK24,BL24,BM24,BN24),\"-\")))","v":0},null,"",25,null,null,null,null,null,null,null,null,null,null,null,null,null,null,{"$f":"IF(ใส่ชื่อ!D19=\"\",\"\",IF(DU24=\"ปกติ\",SUM(BR24,BS24,BT24,BU24,BV24,BW24,BX24,BY24,BZ24,CA24,CB24,CC24,CD24,CE24,CF24),\"-\"))","v":25},null,25,3,3,3,3,3,{"$f":"IF(ใส่ชื่อ!D19=\"\",\"\",IF(CJ24=\"\",\"\",(IF(CK24=\"\",\"\",(IF(CL24=\"\",\"\",(IF(CM24=\"\",\"\",(IF(CN24=\"\",\"\",(SUM(CJ24:CN24))))))))))))","v":15},3,"ดย",3,3,3,3,3,3,3,3,3,3,"ดย",58,"","",null,{"$f":"IF(ใส่ชื่อ!D19=\"\",\"\",IF(COUNTIF(DC24:DE24,\"มผ\"),\"มผ\",IF(DE24=\"มผ\",\"มผ\",IF(DU24=\"ปกติ\",SUM(DC24:DD24,IF(DF24=\"\",DE24,DF24)),\"-\"))))","v":58},null,25,null,null,{"$f":"IF(ใส่ชื่อ!D19=\"\",\"\",IF(DG24=\"\",\"\",IF(COUNTIF(DC24:DJ24,\"มผ\"),\"มผ\",IF(COUNTIF(DC24:DJ24,\"-\"),\"-\",IF(DU24=\"ปกติ\",SUM(DG24,IF(DJ24=\"\",DI24,DJ24)))))))","v":83},null,null,null,{"$f":"ประเมินผลการเรียนเทอม1!DP24","v":38.5},{"$f":"IF(ใส่ชื่อ!A19=\"\",\"\",IF(DL24=\"-\",\"-\",IF(DL24=0,\"\",IF(DU24=\"ปกติ\",MAXA(DL24/2,DN24/2)))))","v":41.5},null,{"$f":"IF(เวลาเรียน!M26=\"\",\"\",IF(เวลาเรียน!M26=\"ย้าย\",\"-\",IF(เวลาเรียน!M26=\"จำหน่าย\",\"-\",IF(เวลาเรียน!M26=\"ขาดเรียนนาน\",\"-\",IF(DP24=\"\",\"\",IF(DQ24=\"\",\"\",SUM(DP24+DQ24)))))))","v":80},{"$f":"IF(เวลาเรียน!M26=\"\",\"\",IF(เวลาเรียน!M26=\"ย้าย\",\"-\",IF(เวลาเรียน!M26=\"จำหน่าย\",\"-\",IF(เวลาเรียน!M26=\"ขาดเรียนนาน\",\"-\",IF(เวลาเรียน!L26<80,\"มส\",IF(COUNTIF(DS24,\"-\"),\"-\",IF(COUNTIF(DS24,\"\"),\"\",VLOOKUP(DS24,$DW$19:$DY$26,3))))))))","v":4},{"$f":"IF(เวลาเรียน!M26=\"\",\"\",เวลาเรียน!M26)","v":"ปกติ"},null,70,74.900000000000006,3]
[19,2515,{"$f":"CONCATENATE(ใส่ชื่อ!C20)","v":"3181"},{"$f":"CONCATENATE(ใส่ชื่อ!D20&ใส่ชื่อ!E20&\"  \"&ใส่ชื่อ!F20)","v":"เด็กหญิงชุติกาญจน์  เอี่ยมโสด"},{"$f":"ใส่ชื่อ!A20","v":19},10,10,9,7,7,12,null,null,null,null,null,null,null,null,null,null,null,null,null,null,{"$f":"IF(ใส่ชื่อ!D20=\"\",\"\",IF(DU25=\"ปกติ\",SUM(F25,G25,H25,I25,J25,K25,L25,M25,N25,O25,P25,Q25,R25,S25,T25,U25,V25,W25,X25,Y25),\"-\"))","v":55},null,55,null,null,null,null,null,null,null,null,null,null,null,null,null,null,null,null,null,null,null,null,{"$f":"IF(ใส่ชื่อ!D20=\"\",\"\",IF(COUNTIF(AC25:AS25,0),\"มผ\",IF(DU25=\"ปกติ\",SUM(AC25,AD25,AE25,AF25,AG25,AH25,AI25,AJ25,AK25,AL25,AM25,AN25,AO25,AP25,AQ25,AR25,AS25),\"-\")))","v":0},null,"",null,null,null,null,null,null,null,null,null,null,null,null,null,null,null,{"$f":"IF(ใส่ชื่อ!D20=\"\",\"\",IF(COUNTIF(AZ25:BN25,0),\"มผ\",IF(DU25=\"ปกติ\",SUM(AZ25,BA25,BB25,BC25,BD25,BE25,BF25,BG25,BH25,BI25,BJ25,BK25,BL25,BM25,BN25),\"-\")))","v":0},null,"",16,null,null,null,null,null,null,null,null,null,null,null,null,null,null,{"$f":"IF(ใส่ชื่อ!D20=\"\",\"\",IF(DU25=\"ปกติ\",SUM(BR25,BS25,BT25,BU25,BV25,BW25,BX25,BY25,BZ25,CA25,CB25,CC25,CD25,CE25,CF25),\"-\"))","v":16},null,16,3,3,3,3,3,{"$f":"IF(ใส่ชื่อ!D20=\"\",\"\",IF(CJ25=\"\",\"\",(IF(CK25=\"\",\"\",(IF(CL25=\"\",\"\",(IF(CM25=\"\",\"\",(IF(CN25=\"\",\"\",(SUM(CJ25:CN25))))))))))))","v":15},3,"ดย",3,3,3,3,3,3,3,3,3,3,"ดย",55,"","",null,{"$f":"IF(ใส่ชื่อ!D20=\"\",\"\",IF(COUNTIF(DC25:DE25,\"มผ\"),\"มผ\",IF(DE25=\"มผ\",\"มผ\",IF(DU25=\"ปกติ\",SUM(DC25:DD25,IF(DF25=\"\",DE25,DF25)),\"-\"))))","v":55},null,16,null,null,{"$f":"IF(ใส่ชื่อ!D20=\"\",\"\",IF(DG25=\"\",\"\",IF(COUNTIF(DC25:DJ25,\"มผ\"),\"มผ\",IF(COUNTIF(DC25:DJ25,\"-\"),\"-\",IF(DU25=\"ปกติ\",SUM(DG25,IF(DJ25=\"\",DI25,DJ25)))))))","v":71},null,null,null,{"$f":"ประเมินผลการเรียนเทอม1!DP25","v":35},{"$f":"IF(ใส่ชื่อ!A20=\"\",\"\",IF(DL25=\"-\",\"-\",IF(DL25=0,\"\",IF(DU25=\"ปกติ\",MAXA(DL25/2,DN25/2)))))","v":35.5},null,{"$f":"IF(เวลาเรียน!M27=\"\",\"\",IF(เวลาเรียน!M27=\"ย้าย\",\"-\",IF(เวลาเรียน!M27=\"จำหน่าย\",\"-\",IF(เวลาเรียน!M27=\"ขาดเรียนนาน\",\"-\",IF(DP25=\"\",\"\",IF(DQ25=\"\",\"\",SUM(DP25+DQ25)))))))","v":70.5},{"$f":"IF(เวลาเรียน!M27=\"\",\"\",IF(เวลาเรียน!M27=\"ย้าย\",\"-\",IF(เวลาเรียน!M27=\"จำหน่าย\",\"-\",IF(เวลาเรียน!M27=\"ขาดเรียนนาน\",\"-\",IF(เวลาเรียน!L27<80,\"มส\",IF(COUNTIF(DS25,\"-\"),\"-\",IF(COUNTIF(DS25,\"\"),\"\",VLOOKUP(DS25,$DW$19:$DY$26,3))))))))","v":3},{"$f":"IF(เวลาเรียน!M27=\"\",\"\",เวลาเรียน!M27)","v":"ปกติ"},null,75,79.900000000000006,3.5]
[20,2516,{"$f":"CONCATENATE(ใส่ชื่อ!C21)","v":""},{"$f":"CONCATENATE(ใส่ชื่อ!D21&ใส่ชื่อ!E21&\"  \"&ใส่ชื่อ!F21)","v":"เด็กหญิงฐิตาภรณ์  แย้มนาค"},{"$f":"ใส่ชื่อ!A21","v":20},10,8,9,10,9,12,null,null,null,null,null,null,null,null,null,null,null,null,null,null,{"$f":"IF(ใส่ชื่อ!D21=\"\",\"\",IF(DU26=\"ปกติ\",SUM(F26,G26,H26,I26,J26,K26,L26,M26,N26,O26,P26,Q26,R26,S26,T26,U26,V26,W26,X26,Y26),\"-\"))","v":58},null,58,null,null,null,null,null,null,null,null,null,null,null,null,null,null,null,null,null,null,null,null,{"$f":"IF(ใส่ชื่อ!D21=\"\",\"\",IF(COUNTIF(AC26:AS26,0),\"มผ\",IF(DU26=\"ปกติ\",SUM(AC26,AD26,AE26,AF26,AG26,AH26,AI26,AJ26,AK26,AL26,AM26,AN26,AO26,AP26,AQ26,AR26,AS26),\"-\")))","v":0},null,"",null,null,null,null,null,null,null,null,null,null,null,null,null,null,null,{"$f":"IF(ใส่ชื่อ!D21=\"\",\"\",IF(COUNTIF(AZ26:BN26,0),\"มผ\",IF(DU26=\"ปกติ\",SUM(AZ26,BA26,BB26,BC26,BD26,BE26,BF26,BG26,BH26,BI26,BJ26,BK26,BL26,BM26,BN26),\"-\")))","v":0},null,"",18,null,null,null,null,null,null,null,null,null,null,null,null,null,null,{"$f":"IF(ใส่ชื่อ!D21=\"\",\"\",IF(DU26=\"ปกติ\",SUM(BR26,BS26,BT26,BU26,BV26,BW26,BX26,BY26,BZ26,CA26,CB26,CC26,CD26,CE26,CF26),\"-\"))","v":18},null,18,3,3,3,3,3,{"$f":"IF(ใส่ชื่อ!D21=\"\",\"\",IF(CJ26=\"\",\"\",(IF(CK26=\"\",\"\",(IF(CL26=\"\",\"\",(IF(CM26=\"\",\"\",(IF(CN26=\"\",\"\",(SUM(CJ26:CN26))))))))))))","v":15},3,"ดย",3,3,3,3,3,3,3,3,3,3,"ดย",58,"","",null,{"$f":"IF(ใส่ชื่อ!D21=\"\",\"\",IF(COUNTIF(DC26:DE26,\"มผ\"),\"มผ\",IF(DE26=\"มผ\",\"มผ\",IF(DU26=\"ปกติ\",SUM(DC26:DD26,IF(DF26=\"\",DE26,DF26)),\"-\"))))","v":58},null,18,null,null,{"$f":"IF(ใส่ชื่อ!D21=\"\",\"\",IF(DG26=\"\",\"\",IF(COUNTIF(DC26:DJ26,\"มผ\"),\"มผ\",IF(COUNTIF(DC26:DJ26,\"-\"),\"-\",IF(DU26=\"ปกติ\",SUM(DG26,IF(DJ26=\"\",DI26,DJ26)))))))","v":76},null,null,null,{"$f":"ประเมินผลการเรียนเทอม1!DP26","v":42},{"$f":"IF(ใส่ชื่อ!A21=\"\",\"\",IF(DL26=\"-\",\"-\",IF(DL26=0,\"\",IF(DU26=\"ปกติ\",MAXA(DL26/2,DN26/2)))))","v":38},null,{"$f":"IF(เวลาเรียน!M28=\"\",\"\",IF(เวลาเรียน!M28=\"ย้าย\",\"-\",IF(เวลาเรียน!M28=\"จำหน่าย\",\"-\",IF(เวลาเรียน!M28=\"ขาดเรียนนาน\",\"-\",IF(DP26=\"\",\"\",IF(DQ26=\"\",\"\",SUM(DP26+DQ26)))))))","v":80},{"$f":"IF(เวลาเรียน!M28=\"\",\"\",IF(เวลาเรียน!M28=\"ย้าย\",\"-\",IF(เวลาเรียน!M28=\"จำหน่าย\",\"-\",IF(เวลาเรียน!M28=\"ขาดเรียนนาน\",\"-\",IF(เวลาเรียน!L28<80,\"มส\",IF(COUNTIF(DS26,\"-\"),\"-\",IF(COUNTIF(DS26,\"\"),\"\",VLOOKUP(DS26,$DW$19:$DY$26,3))))))))","v":4},{"$f":"IF(เวลาเรียน!M28=\"\",\"\",เวลาเรียน!M28)","v":"ปกติ"},null,80,100,4]
[21,2517,{"$f":"CONCATENATE(ใส่ชื่อ!C22)","v":""},{"$f":"CONCATENATE(ใส่ชื่อ!D22&ใส่ชื่อ!E22&\"  \"&ใส่ชื่อ!F22)","v":"  "},{"$f":"ใส่ชื่อ!A22","v":0},null,null,null,null,null,null,null,null,null,null,null,null,null,null,null,null,null,null,null,null,{"$f":"IF(ใส่ชื่อ!D22=\"\",\"\",IF(DU27=\"ปกติ\",SUM(F27,G27,H27,I27,J27,K27,L27,M27,N27,O27,P27,Q27,R27,S27,T27,U27,V27,W27,X27,Y27),\"-\"))","v":""},null,"",null,null,null,null,null,null,null,null,null,null,null,null,null,null,null,null,null,null,null,null,{"$f":"IF(ใส่ชื่อ!D22=\"\",\"\",IF(COUNTIF(AC27:AS27,0),\"มผ\",IF(DU27=\"ปกติ\",SUM(AC27,AD27,AE27,AF27,AG27,AH27,AI27,AJ27,AK27,AL27,AM27,AN27,AO27,AP27,AQ27,AR27,AS27),\"-\")))","v":""},null,"",null,null,null,null,null,null,null,null,null,null,null,null,null,null,null,{"$f":"IF(ใส่ชื่อ!D22=\"\",\"\",IF(COUNTIF(AZ27:BN27,0),\"มผ\",IF(DU27=\"ปกติ\",SUM(AZ27,BA27,BB27,BC27,BD27,BE27,BF27,BG27,BH27,BI27,BJ27,BK27,BL27,BM27,BN27),\"-\")))","v":""},null,"",null,null,null,null,null,null,null,null,null,null,null,null,null,null,null,{"$f":"IF(ใส่ชื่อ!D22=\"\",\"\",IF(DU27=\"ปกติ\",SUM(BR27,BS27,BT27,BU27,BV27,BW27,BX27,BY27,BZ27,CA27,CB27,CC27,CD27,CE27,CF27),\"-\"))","v":""},null,"",null,null,null,null,null,{"$f":"IF(ใส่ชื่อ!D22=\"\",\"\",IF(CJ27=\"\",\"\",(IF(CK27=\"\",\"\",(IF(CL27=\"\",\"\",(IF(CM27=\"\",\"\",(IF(CN27=\"\",\"\",(SUM(CJ27:CN27))))))))))))","v":""},"","",null,null,null,null,null,null,null,null,null,null,"","","","",null,{"$f":"IF(ใส่ชื่อ!D22=\"\",\"\",IF(COUNTIF(DC27:DE27,\"มผ\"),\"มผ\",IF(DE27=\"มผ\",\"มผ\",IF(DU27=\"ปกติ\",SUM(DC27:DD27,IF(DF27=\"\",DE27,DF27)),\"-\"))))","v":""},null,"",null,null,{"$f":"IF(ใส่ชื่อ!D22=\"\",\"\",IF(DG27=\"\",\"\",IF(COUNTIF(DC27:DJ27,\"มผ\"),\"มผ\",IF(COUNTIF(DC27:DJ27,\"-\"),\"-\",IF(DU27=\"ปกติ\",SUM(DG27,IF(DJ27=\"\",DI27,DJ27)))))))","v":""},null,null,null,{"$f":"ประเมินผลการเรียนเทอม1!DP27","v":""},{"$f":"IF(ใส่ชื่อ!A22=\"\",\"\",IF(DL27=\"-\",\"-\",IF(DL27=0,\"\",IF(DU27=\"ปกติ\",MAXA(DL27/2,DN27/2)))))","v":""},null,{"$f":"IF(เวลาเรียน!M29=\"\",\"\",IF(เวลาเรียน!M29=\"ย้าย\",\"-\",IF(เวลาเรียน!M29=\"จำหน่าย\",\"-\",IF(เวลาเรียน!M29=\"ขาดเรียนนาน\",\"-\",IF(DP27=\"\",\"\",IF(DQ27=\"\",\"\",SUM(DP27+DQ27)))))))","v":""},{"$f":"IF(เวลาเรียน!M29=\"\",\"\",IF(เวลาเรียน!M29=\"ย้าย\",\"-\",IF(เวลาเรียน!M29=\"จำหน่าย\",\"-\",IF(เวลาเรียน!M29=\"ขาดเรียนนาน\",\"-\",IF(เวลาเรียน!L29<80,\"มส\",IF(COUNTIF(DS27,\"-\"),\"-\",IF(COUNTIF(DS27,\"\"),\"\",VLOOKUP(DS27,$DW$19:$DY$26,3))))))))","v":""},{"$f":"IF(เวลาเรียน!M29=\"\",\"\",เวลาเรียน!M29)","v":""}]
[22,2518,{"$f":"CONCATENATE(ใส่ชื่อ!C23)","v":""},{"$f":"CONCATENATE(ใส่ชื่อ!D23&ใส่ชื่อ!E23&\"  \"&ใส่ชื่อ!F23)","v":"  "},{"$f":"ใส่ชื่อ!A23","v":0},null,null,null,null,null,null,null,null,null,null,null,null,null,null,null,null,null,null,null,null,{"$f":"IF(ใส่ชื่อ!D23=\"\",\"\",IF(DU28=\"ปกติ\",SUM(F28,G28,H28,I28,J28,K28,L28,M28,N28,O28,P28,Q28,R28,S28,T28,U28,V28,W28,X28,Y28),\"-\"))","v":""},null,"",null,null,null,null,null,null,null,null,null,null,null,null,null,null,null,null,null,null,null,null,{"$f":"IF(ใส่ชื่อ!D23=\"\",\"\",IF(COUNTIF(AC28:AS28,0),\"มผ\",IF(DU28=\"ปกติ\",SUM(AC28,AD28,AE28,AF28,AG28,AH28,AI28,AJ28,AK28,AL28,AM28,AN28,AO28,AP28,AQ28,AR28,AS28),\"-\")))","v":""},null,"",null,null,null,null,null,null,null,null,null,null,null,null,null,null,null,{"$f":"IF(ใส่ชื่อ!D23=\"\",\"\",IF(COUNTIF(AZ28:BN28,0),\"มผ\",IF(DU28=\"ปกติ\",SUM(AZ28,BA28,BB28,BC28,BD28,BE28,BF28,BG28,BH28,BI28,BJ28,BK28,BL28,BM28,BN28),\"-\")))","v":""},null,"",null,null,null,null,null,null,null,null,null,null,null,null,null,null,null,{"$f":"IF(ใส่ชื่อ!D23=\"\",\"\",IF(DU28=\"ปกติ\",SUM(BR28,BS28,BT28,BU28,BV28,BW28,BX28,BY28,BZ28,CA28,CB28,CC28,CD28,CE28,CF28),\"-\"))","v":""},null,"",null,null,null,null,null,{"$f":"IF(ใส่ชื่อ!D23=\"\",\"\",IF(CJ28=\"\",\"\",(IF(CK28=\"\",\"\",(IF(CL28=\"\",\"\",(IF(CM28=\"\",\"\",(IF(CN28=\"\",\"\",(SUM(CJ28:CN28))))))))))))","v":""},"","",null,null,null,null,null,null,null,null,null,null,"","","","",null,{"$f":"IF(ใส่ชื่อ!D23=\"\",\"\",IF(COUNTIF(DC28:DE28,\"มผ\"),\"มผ\",IF(DE28=\"มผ\",\"มผ\",IF(DU28=\"ปกติ\",SUM(DC28:DD28,IF(DF28=\"\",DE28,DF28)),\"-\"))))","v":""},null,"",null,null,{"$f":"IF(ใส่ชื่อ!D23=\"\",\"\",IF(DG28=\"\",\"\",IF(COUNTIF(DC28:DJ28,\"มผ\"),\"มผ\",IF(COUNTIF(DC28:DJ28,\"-\"),\"-\",IF(DU28=\"ปกติ\",SUM(DG28,IF(DJ28=\"\",DI28,DJ28)))))))","v":""},null,null,null,{"$f":"ประเมินผลการเรียนเทอม1!DP28","v":""},{"$f":"IF(ใส่ชื่อ!A23=\"\",\"\",IF(DL28=\"-\",\"-\",IF(DL28=0,\"\",IF(DU28=\"ปกติ\",MAXA(DL28/2,DN28/2)))))","v":""},null,{"$f":"IF(เวลาเรียน!M30=\"\",\"\",IF(เวลาเรียน!M30=\"ย้าย\",\"-\",IF(เวลาเรียน!M30=\"จำหน่าย\",\"-\",IF(เวลาเรียน!M30=\"ขาดเรียนนาน\",\"-\",IF(DP28=\"\",\"\",IF(DQ28=\"\",\"\",SUM(DP28+DQ28)))))))","v":""},{"$f":"IF(เวลาเรียน!M30=\"\",\"\",IF(เวลาเรียน!M30=\"ย้าย\",\"-\",IF(เวลาเรียน!M30=\"จำหน่าย\",\"-\",IF(เวลาเรียน!M30=\"ขาดเรียนนาน\",\"-\",IF(เวลาเรียน!L30<80,\"มส\",IF(COUNTIF(DS28,\"-\"),\"-\",IF(COUNTIF(DS28,\"\"),\"\",VLOOKUP(DS28,$DW$19:$DY$26,3))))))))","v":""},{"$f":"IF(เวลาเรียน!M30=\"\",\"\",เวลาเรียน!M30)","v":""}]
[23,2519,{"$f":"CONCATENATE(ใส่ชื่อ!C24)","v":""},{"$f":"CONCATENATE(ใส่ชื่อ!D24&ใส่ชื่อ!E24&\"  \"&ใส่ชื่อ!F24)","v":"  "},{"$f":"ใส่ชื่อ!A24","v":0},null,null,null,null,null,null,null,null,null,null,null,null,null,null,null,null,null,null,null,null,{"$f":"IF(ใส่ชื่อ!D24=\"\",\"\",IF(DU29=\"ปกติ\",SUM(F29,G29,H29,I29,J29,K29,L29,M29,N29,O29,P29,Q29,R29,S29,T29,U29,V29,W29,X29,Y29),\"-\"))","v":""},null,"",null,null,null,null,null,null,null,null,null,null,null,null,null,null,null,null,null,null,null,null,{"$f":"IF(ใส่ชื่อ!D24=\"\",\"\",IF(COUNTIF(AC29:AS29,0),\"มผ\",IF(DU29=\"ปกติ\",SUM(AC29,AD29,AE29,AF29,AG29,AH29,AI29,AJ29,AK29,AL29,AM29,AN29,AO29,AP29,AQ29,AR29,AS29),\"-\")))","v":""},null,"",null,null,null,null,null,null,null,null,null,null,null,null,null,null,null,{"$f":"IF(ใส่ชื่อ!D24=\"\",\"\",IF(COUNTIF(AZ29:BN29,0),\"มผ\",IF(DU29=\"ปกติ\",SUM(AZ29,BA29,BB29,BC29,BD29,BE29,BF29,BG29,BH29,BI29,BJ29,BK29,BL29,BM29,BN29),\"-\")))","v":""},null,"",null,null,null,null,null,null,null,null,null,null,null,null,null,null,null,{"$f":"IF(ใส่ชื่อ!D24=\"\",\"\",IF(DU29=\"ปกติ\",SUM(BR29,BS29,BT29,BU29,BV29,BW29,BX29,BY29,BZ29,CA29,CB29,CC29,CD29,CE29,CF29),\"-\"))","v":""},null,"",null,null,null,null,null,{"$f":"IF(ใส่ชื่อ!D24=\"\",\"\",IF(CJ29=\"\",\"\",(IF(CK29=\"\",\"\",(IF(CL29=\"\",\"\",(IF(CM29=\"\",\"\",(IF(CN29=\"\",\"\",(SUM(CJ29:CN29))))))))))))","v":""},"","",null,null,null,null,null,null,null,null,null,null,"","","","",null,{"$f":"IF(ใส่ชื่อ!D24=\"\",\"\",IF(COUNTIF(DC29:DE29,\"มผ\"),\"มผ\",IF(DE29=\"มผ\",\"มผ\",IF(DU29=\"ปกติ\",SUM(DC29:DD29,IF(DF29=\"\",DE29,DF29)),\"-\"))))","v":""},null,"",null,null,{"$f":"IF(ใส่ชื่อ!D24=\"\",\"\",IF(DG29=\"\",\"\",IF(COUNTIF(DC29:DJ29,\"มผ\"),\"มผ\",IF(COUNTIF(DC29:DJ29,\"-\"),\"-\",IF(DU29=\"ปกติ\",SUM(DG29,IF(DJ29=\"\",DI29,DJ29)))))))","v":""},null,null,null,{"$f":"ประเมินผลการเรียนเทอม1!DP29","v":""},{"$f":"IF(ใส่ชื่อ!A24=\"\",\"\",IF(DL29=\"-\",\"-\",IF(DL29=0,\"\",IF(DU29=\"ปกติ\",MAXA(DL29/2,DN29/2)))))","v":""},null,{"$f":"IF(เวลาเรียน!M31=\"\",\"\",IF(เวลาเรียน!M31=\"ย้าย\",\"-\",IF(เวลาเรียน!M31=\"จำหน่าย\",\"-\",IF(เวลาเรียน!M31=\"ขาดเรียนนาน\",\"-\",IF(DP29=\"\",\"\",IF(DQ29=\"\",\"\",SUM(DP29+DQ29)))))))","v":""},{"$f":"IF(เวลาเรียน!M31=\"\",\"\",IF(เวลาเรียน!M31=\"ย้าย\",\"-\",IF(เวลาเรียน!M31=\"จำหน่าย\",\"-\",IF(เวลาเรียน!M31=\"ขาดเรียนนาน\",\"-\",IF(เวลาเรียน!L31<80,\"มส\",IF(COUNTIF(DS29,\"-\"),\"-\",IF(COUNTIF(DS29,\"\"),\"\",VLOOKUP(DS29,$DW$19:$DY$26,3))))))))","v":""},{"$f":"IF(เวลาเรียน!M31=\"\",\"\",เวลาเรียน!M31)","v":""}]
[24,2520,{"$f":"CONCATENATE(ใส่ชื่อ!C25)","v":""},{"$f":"CONCATENATE(ใส่ชื่อ!D25&ใส่ชื่อ!E25&\"  \"&ใส่ชื่อ!F25)","v":"  "},{"$f":"ใส่ชื่อ!A25","v":0},null,null,null,null,null,null,null,null,null,null,null,null,null,null,null,null,null,null,null,null,{"$f":"IF(ใส่ชื่อ!D25=\"\",\"\",IF(DU30=\"ปกติ\",SUM(F30,G30,H30,I30,J30,K30,L30,M30,N30,O30,P30,Q30,R30,S30,T30,U30,V30,W30,X30,Y30),\"-\"))","v":""},null,"",null,null,null,null,null,null,null,null,null,null,null,null,null,null,null,null,null,null,null,null,{"$f":"IF(ใส่ชื่อ!D25=\"\",\"\",IF(COUNTIF(AC30:AS30,0),\"มผ\",IF(DU30=\"ปกติ\",SUM(AC30,AD30,AE30,AF30,AG30,AH30,AI30,AJ30,AK30,AL30,AM30,AN30,AO30,AP30,AQ30,AR30,AS30),\"-\")))","v":""},null,"",null,null,null,null,null,null,null,null,null,null,null,null,null,null,null,{"$f":"IF(ใส่ชื่อ!D25=\"\",\"\",IF(COUNTIF(AZ30:BN30,0),\"มผ\",IF(DU30=\"ปกติ\",SUM(AZ30,BA30,BB30,BC30,BD30,BE30,BF30,BG30,BH30,BI30,BJ30,BK30,BL30,BM30,BN30),\"-\")))","v":""},null,"",null,null,null,null,null,null,null,null,null,null,null,null,null,null,null,{"$f":"IF(ใส่ชื่อ!D25=\"\",\"\",IF(DU30=\"ปกติ\",SUM(BR30,BS30,BT30,BU30,BV30,BW30,BX30,BY30,BZ30,CA30,CB30,CC30,CD30,CE30,CF30),\"-\"))","v":""},null,"",null,null,null,null,null,{"$f":"IF(ใส่ชื่อ!D25=\"\",\"\",IF(CJ30=\"\",\"\",(IF(CK30=\"\",\"\",(IF(CL30=\"\",\"\",(IF(CM30=\"\",\"\",(IF(CN30=\"\",\"\",(SUM(CJ30:CN30))))))))))))","v":""},"","",null,null,null,null,null,null,null,null,null,null,"","","","",null,{"$f":"IF(ใส่ชื่อ!D25=\"\",\"\",IF(COUNTIF(DC30:DE30,\"มผ\"),\"มผ\",IF(DE30=\"มผ\",\"มผ\",IF(DU30=\"ปกติ\",SUM(DC30:DD30,IF(DF30=\"\",DE30,DF30)),\"-\"))))","v":""},null,"",null,null,{"$f":"IF(ใส่ชื่อ!D25=\"\",\"\",IF(DG30=\"\",\"\",IF(COUNTIF(DC30:DJ30,\"มผ\"),\"มผ\",IF(COUNTIF(DC30:DJ30,\"-\"),\"-\",IF(DU30=\"ปกติ\",SUM(DG30,IF(DJ30=\"\",DI30,DJ30)))))))","v":""},null,null,null,{"$f":"ประเมินผลการเรียนเทอม1!DP30","v":""},{"$f":"IF(ใส่ชื่อ!A25=\"\",\"\",IF(DL30=\"-\",\"-\",IF(DL30=0,\"\",IF(DU30=\"ปกติ\",MAXA(DL30/2,DN30/2)))))","v":""},null,{"$f":"IF(เวลาเรียน!M32=\"\",\"\",IF(เวลาเรียน!M32=\"ย้าย\",\"-\",IF(เวลาเรียน!M32=\"จำหน่าย\",\"-\",IF(เวลาเรียน!M32=\"ขาดเรียนนาน\",\"-\",IF(DP30=\"\",\"\",IF(DQ30=\"\",\"\",SUM(DP30+DQ30)))))))","v":""},{"$f":"IF(เวลาเรียน!M32=\"\",\"\",IF(เวลาเรียน!M32=\"ย้าย\",\"-\",IF(เวลาเรียน!M32=\"จำหน่าย\",\"-\",IF(เวลาเรียน!M32=\"ขาดเรียนนาน\",\"-\",IF(เวลาเรียน!L32<80,\"มส\",IF(COUNTIF(DS30,\"-\"),\"-\",IF(COUNTIF(DS30,\"\"),\"\",VLOOKUP(DS30,$DW$19:$DY$26,3))))))))","v":""},{"$f":"IF(เวลาเรียน!M32=\"\",\"\",เวลาเรียน!M32)","v":""}]
[25,2521,{"$f":"CONCATENATE(ใส่ชื่อ!C26)","v":""},{"$f":"CONCATENATE(ใส่ชื่อ!D26&ใส่ชื่อ!E26&\"  \"&ใส่ชื่อ!F26)","v":"  "},{"$f":"ใส่ชื่อ!A26","v":0},null,null,null,null,null,null,null,null,null,null,null,null,null,null,null,null,null,null,null,null,{"$f":"IF(ใส่ชื่อ!D26=\"\",\"\",IF(DU31=\"ปกติ\",SUM(F31,G31,H31,I31,J31,K31,L31,M31,N31,O31,P31,Q31,R31,S31,T31,U31,V31,W31,X31,Y31),\"-\"))","v":""},null,"",null,null,null,null,null,null,null,null,null,null,null,null,null,null,null,null,null,null,null,null,{"$f":"IF(ใส่ชื่อ!D26=\"\",\"\",IF(COUNTIF(AC31:AS31,0),\"มผ\",IF(DU31=\"ปกติ\",SUM(AC31,AD31,AE31,AF31,AG31,AH31,AI31,AJ31,AK31,AL31,AM31,AN31,AO31,AP31,AQ31,AR31,AS31),\"-\")))","v":""},null,"",null,null,null,null,null,null,null,null,null,null,null,null,null,null,null,{"$f":"IF(ใส่ชื่อ!D26=\"\",\"\",IF(COUNTIF(AZ31:BN31,0),\"มผ\",IF(DU31=\"ปกติ\",SUM(AZ31,BA31,BB31,BC31,BD31,BE31,BF31,BG31,BH31,BI31,BJ31,BK31,BL31,BM31,BN31),\"-\")))","v":""},null,"",null,null,null,null,null,null,null,null,null,null,null,null,null,null,null,{"$f":"IF(ใส่ชื่อ!D26=\"\",\"\",IF(DU31=\"ปกติ\",SUM(BR31,BS31,BT31,BU31,BV31,BW31,BX31,BY31,BZ31,CA31,CB31,CC31,CD31,CE31,CF31),\"-\"))","v":""},null,"",null,null,null,null,null,{"$f":"IF(ใส่ชื่อ!D26=\"\",\"\",IF(CJ31=\"\",\"\",(IF(CK31=\"\",\"\",(IF(CL31=\"\",\"\",(IF(CM31=\"\",\"\",(IF(CN31=\"\",\"\",(SUM(CJ31:CN31))))))))))))","v":""},"","",null,null,null,null,null,null,null,null,null,null,"","","","",null,{"$f":"IF(ใส่ชื่อ!D26=\"\",\"\",IF(COUNTIF(DC31:DE31,\"มผ\"),\"มผ\",IF(DE31=\"มผ\",\"มผ\",IF(DU31=\"ปกติ\",SUM(DC31:DD31,IF(DF31=\"\",DE31,DF31)),\"-\"))))","v":""},null,"",null,null,{"$f":"IF(ใส่ชื่อ!D26=\"\",\"\",IF(DG31=\"\",\"\",IF(COUNTIF(DC31:DJ31,\"มผ\"),\"มผ\",IF(COUNTIF(DC31:DJ31,\"-\"),\"-\",IF(DU31=\"ปกติ\",SUM(DG31,IF(DJ31=\"\",DI31,DJ31)))))))","v":""},null,null,null,{"$f":"ประเมินผลการเรียนเทอม1!DP31","v":""},{"$f":"IF(ใส่ชื่อ!A26=\"\",\"\",IF(DL31=\"-\",\"-\",IF(DL31=0,\"\",IF(DU31=\"ปกติ\",MAXA(DL31/2,DN31/2)))))","v":""},null,{"$f":"IF(เวลาเรียน!M33=\"\",\"\",IF(เวลาเรียน!M33=\"ย้าย\",\"-\",IF(เวลาเรียน!M33=\"จำหน่าย\",\"-\",IF(เวลาเรียน!M33=\"ขาดเรียนนาน\",\"-\",IF(DP31=\"\",\"\",IF(DQ31=\"\",\"\",SUM(DP31+DQ31)))))))","v":""},{"$f":"IF(เวลาเรียน!M33=\"\",\"\",IF(เวลาเรียน!M33=\"ย้าย\",\"-\",IF(เวลาเรียน!M33=\"จำหน่าย\",\"-\",IF(เวลาเรียน!M33=\"ขาดเรียนนาน\",\"-\",IF(เวลาเรียน!L33<80,\"มส\",IF(COUNTIF(DS31,\"-\"),\"-\",IF(COUNTIF(DS31,\"\"),\"\",VLOOKUP(DS31,$DW$19:$DY$26,3))))))))","v":""},{"$f":"IF(เวลาเรียน!M33=\"\",\"\",เวลาเรียน!M33)","v":""}]
[26,2522,{"$f":"CONCATENATE(ใส่ชื่อ!C27)","v":""},{"$f":"CONCATENATE(ใส่ชื่อ!D27&ใส่ชื่อ!E27&\"  \"&ใส่ชื่อ!F27)","v":"  "},{"$f":"ใส่ชื่อ!A27","v":0},null,null,null,null,null,null,null,null,null,null,null,null,null,null,null,null,null,null,null,null,{"$f":"IF(ใส่ชื่อ!D27=\"\",\"\",IF(DU32=\"ปกติ\",SUM(F32,G32,H32,I32,J32,K32,L32,M32,N32,O32,P32,Q32,R32,S32,T32,U32,V32,W32,X32,Y32),\"-\"))","v":""},null,"",null,null,null,null,null,null,null,null,null,null,null,null,null,null,null,null,null,null,null,null,{"$f":"IF(ใส่ชื่อ!D27=\"\",\"\",IF(COUNTIF(AC32:AS32,0),\"มผ\",IF(DU32=\"ปกติ\",SUM(AC32,AD32,AE32,AF32,AG32,AH32,AI32,AJ32,AK32,AL32,AM32,AN32,AO32,AP32,AQ32,AR32,AS32),\"-\")))","v":""},null,"",null,null,null,null,null,null,null,null,null,null,null,null,null,null,null,{"$f":"IF(ใส่ชื่อ!D27=\"\",\"\",IF(COUNTIF(AZ32:BN32,0),\"มผ\",IF(DU32=\"ปกติ\",SUM(AZ32,BA32,BB32,BC32,BD32,BE32,BF32,BG32,BH32,BI32,BJ32,BK32,BL32,BM32,BN32),\"-\")))","v":""},null,"",null,null,null,null,null,null,null,null,null,null,null,null,null,null,null,{"$f":"IF(ใส่ชื่อ!D27=\"\",\"\",IF(DU32=\"ปกติ\",SUM(BR32,BS32,BT32,BU32,BV32,BW32,BX32,BY32,BZ32,CA32,CB32,CC32,CD32,CE32,CF32),\"-\"))","v":""},null,"",null,null,null,null,null,{"$f":"IF(ใส่ชื่อ!D27=\"\",\"\",IF(CJ32=\"\",\"\",(IF(CK32=\"\",\"\",(IF(CL32=\"\",\"\",(IF(CM32=\"\",\"\",(IF(CN32=\"\",\"\",(SUM(CJ32:CN32))))))))))))","v":""},"","",null,null,null,null,null,null,null,null,null,null,"","","","",null,{"$f":"IF(ใส่ชื่อ!D27=\"\",\"\",IF(COUNTIF(DC32:DE32,\"มผ\"),\"มผ\",IF(DE32=\"มผ\",\"มผ\",IF(DU32=\"ปกติ\",SUM(DC32:DD32,IF(DF32=\"\",DE32,DF32)),\"-\"))))","v":""},null,"",null,null,{"$f":"IF(ใส่ชื่อ!D27=\"\",\"\",IF(DG32=\"\",\"\",IF(COUNTIF(DC32:DJ32,\"มผ\"),\"มผ\",IF(COUNTIF(DC32:DJ32,\"-\"),\"-\",IF(DU32=\"ปกติ\",SUM(DG32,IF(DJ32=\"\",DI32,DJ32)))))))","v":""},null,null,null,{"$f":"ประเมินผลการเรียนเทอม1!DP32","v":""},{"$f":"IF(ใส่ชื่อ!A27=\"\",\"\",IF(DL32=\"-\",\"-\",IF(DL32=0,\"\",IF(DU32=\"ปกติ\",MAXA(DL32/2,DN32/2)))))","v":""},null,{"$f":"IF(เวลาเรียน!M34=\"\",\"\",IF(เวลาเรียน!M34=\"ย้าย\",\"-\",IF(เวลาเรียน!M34=\"จำหน่าย\",\"-\",IF(เวลาเรียน!M34=\"ขาดเรียนนาน\",\"-\",IF(DP32=\"\",\"\",IF(DQ32=\"\",\"\",SUM(DP32+DQ32)))))))","v":""},{"$f":"IF(เวลาเรียน!M34=\"\",\"\",IF(เวลาเรียน!M34=\"ย้าย\",\"-\",IF(เวลาเรียน!M34=\"จำหน่าย\",\"-\",IF(เวลาเรียน!M34=\"ขาดเรียนนาน\",\"-\",IF(เวลาเรียน!L34<80,\"มส\",IF(COUNTIF(DS32,\"-\"),\"-\",IF(COUNTIF(DS32,\"\"),\"\",VLOOKUP(DS32,$DW$19:$DY$26,3))))))))","v":""},{"$f":"IF(เวลาเรียน!M34=\"\",\"\",เวลาเรียน!M34)","v":""}]
[27,2523,{"$f":"CONCATENATE(ใส่ชื่อ!C28)","v":""},{"$f":"CONCATENATE(ใส่ชื่อ!D28&ใส่ชื่อ!E28&\"  \"&ใส่ชื่อ!F28)","v":"  "},{"$f":"ใส่ชื่อ!A28","v":0},null,null,null,null,null,null,null,null,null,null,null,null,null,null,null,null,null,null,null,null,{"$f":"IF(ใส่ชื่อ!D28=\"\",\"\",IF(DU33=\"ปกติ\",SUM(F33,G33,H33,I33,J33,K33,L33,M33,N33,O33,P33,Q33,R33,S33,T33,U33,V33,W33,X33,Y33),\"-\"))","v":""},null,"",null,null,null,null,null,null,null,null,null,null,null,null,null,null,null,null,null,null,null,null,{"$f":"IF(ใส่ชื่อ!D28=\"\",\"\",IF(COUNTIF(AC33:AS33,0),\"มผ\",IF(DU33=\"ปกติ\",SUM(AC33,AD33,AE33,AF33,AG33,AH33,AI33,AJ33,AK33,AL33,AM33,AN33,AO33,AP33,AQ33,AR33,AS33),\"-\")))","v":""},null,"",null,null,null,null,null,null,null,null,null,null,null,null,null,null,null,{"$f":"IF(ใส่ชื่อ!D28=\"\",\"\",IF(COUNTIF(AZ33:BN33,0),\"มผ\",IF(DU33=\"ปกติ\",SUM(AZ33,BA33,BB33,BC33,BD33,BE33,BF33,BG33,BH33,BI33,BJ33,BK33,BL33,BM33,BN33),\"-\")))","v":""},null,"",null,null,null,null,null,null,null,null,null,null,null,null,null,null,null,{"$f":"IF(ใส่ชื่อ!D28=\"\",\"\",IF(DU33=\"ปกติ\",SUM(BR33,BS33,BT33,BU33,BV33,BW33,BX33,BY33,BZ33,CA33,CB33,CC33,CD33,CE33,CF33),\"-\"))","v":""},null,"",null,null,null,null,null,{"$f":"IF(ใส่ชื่อ!D28=\"\",\"\",IF(CJ33=\"\",\"\",(IF(CK33=\"\",\"\",(IF(CL33=\"\",\"\",(IF(CM33=\"\",\"\",(IF(CN33=\"\",\"\",(SUM(CJ33:CN33))))))))))))","v":""},"","",null,null,null,null,null,null,null,null,null,null,"","","","",null,{"$f":"IF(ใส่ชื่อ!D28=\"\",\"\",IF(COUNTIF(DC33:DE33,\"มผ\"),\"มผ\",IF(DE33=\"มผ\",\"มผ\",IF(DU33=\"ปกติ\",SUM(DC33:DD33,IF(DF33=\"\",DE33,DF33)),\"-\"))))","v":""},null,"",null,null,{"$f":"IF(ใส่ชื่อ!D28=\"\",\"\",IF(DG33=\"\",\"\",IF(COUNTIF(DC33:DJ33,\"มผ\"),\"มผ\",IF(COUNTIF(DC33:DJ33,\"-\"),\"-\",IF(DU33=\"ปกติ\",SUM(DG33,IF(DJ33=\"\",DI33,DJ33)))))))","v":""},null,null,null,{"$f":"ประเมินผลการเรียนเทอม1!DP33","v":""},{"$f":"IF(ใส่ชื่อ!A28=\"\",\"\",IF(DL33=\"-\",\"-\",IF(DL33=0,\"\",IF(DU33=\"ปกติ\",MAXA(DL33/2,DN33/2)))))","v":""},null,{"$f":"IF(เวลาเรียน!M35=\"\",\"\",IF(เวลาเรียน!M35=\"ย้าย\",\"-\",IF(เวลาเรียน!M35=\"จำหน่าย\",\"-\",IF(เวลาเรียน!M35=\"ขาดเรียนนาน\",\"-\",IF(DP33=\"\",\"\",IF(DQ33=\"\",\"\",SUM(DP33+DQ33)))))))","v":""},{"$f":"IF(เวลาเรียน!M35=\"\",\"\",IF(เวลาเรียน!M35=\"ย้าย\",\"-\",IF(เวลาเรียน!M35=\"จำหน่าย\",\"-\",IF(เวลาเรียน!M35=\"ขาดเรียนนาน\",\"-\",IF(เวลาเรียน!L35<80,\"มส\",IF(COUNTIF(DS33,\"-\"),\"-\",IF(COUNTIF(DS33,\"\"),\"\",VLOOKUP(DS33,$DW$19:$DY$26,3))))))))","v":""},{"$f":"IF(เวลาเรียน!M35=\"\",\"\",เวลาเรียน!M35)","v":""}]
[28,2524,{"$f":"CONCATENATE(ใส่ชื่อ!C29)","v":""},{"$f":"CONCATENATE(ใส่ชื่อ!D29&ใส่ชื่อ!E29&\"  \"&ใส่ชื่อ!F29)","v":"  "},{"$f":"ใส่ชื่อ!A29","v":0},null,null,null,null,null,null,null,null,null,null,null,null,null,null,null,null,null,null,null,null,{"$f":"IF(ใส่ชื่อ!D29=\"\",\"\",IF(DU34=\"ปกติ\",SUM(F34,G34,H34,I34,J34,K34,L34,M34,N34,O34,P34,Q34,R34,S34,T34,U34,V34,W34,X34,Y34),\"-\"))","v":""},null,"",null,null,null,null,null,null,null,null,null,null,null,null,null,null,null,null,null,null,null,null,{"$f":"IF(ใส่ชื่อ!D29=\"\",\"\",IF(COUNTIF(AC34:AS34,0),\"มผ\",IF(DU34=\"ปกติ\",SUM(AC34,AD34,AE34,AF34,AG34,AH34,AI34,AJ34,AK34,AL34,AM34,AN34,AO34,AP34,AQ34,AR34,AS34),\"-\")))","v":""},null,"",null,null,null,null,null,null,null,null,null,null,null,null,null,null,null,{"$f":"IF(ใส่ชื่อ!D29=\"\",\"\",IF(COUNTIF(AZ34:BN34,0),\"มผ\",IF(DU34=\"ปกติ\",SUM(AZ34,BA34,BB34,BC34,BD34,BE34,BF34,BG34,BH34,BI34,BJ34,BK34,BL34,BM34,BN34),\"-\")))","v":""},null,"",null,null,null,null,null,null,null,null,null,null,null,null,null,null,null,{"$f":"IF(ใส่ชื่อ!D29=\"\",\"\",IF(DU34=\"ปกติ\",SUM(BR34,BS34,BT34,BU34,BV34,BW34,BX34,BY34,BZ34,CA34,CB34,CC34,CD34,CE34,CF34),\"-\"))","v":""},null,"",null,null,null,null,null,{"$f":"IF(ใส่ชื่อ!D29=\"\",\"\",IF(CJ34=\"\",\"\",(IF(CK34=\"\",\"\",(IF(CL34=\"\",\"\",(IF(CM34=\"\",\"\",(IF(CN34=\"\",\"\",(SUM(CJ34:CN34))))))))))))","v":""},"","",null,null,null,null,null,null,null,null,null,null,"","","","",null,{"$f":"IF(ใส่ชื่อ!D29=\"\",\"\",IF(COUNTIF(DC34:DE34,\"มผ\"),\"มผ\",IF(DE34=\"มผ\",\"มผ\",IF(DU34=\"ปกติ\",SUM(DC34:DD34,IF(DF34=\"\",DE34,DF34)),\"-\"))))","v":""},null,"",null,null,{"$f":"IF(ใส่ชื่อ!D29=\"\",\"\",IF(DG34=\"\",\"\",IF(COUNTIF(DC34:DJ34,\"มผ\"),\"มผ\",IF(COUNTIF(DC34:DJ34,\"-\"),\"-\",IF(DU34=\"ปกติ\",SUM(DG34,IF(DJ34=\"\",DI34,DJ34)))))))","v":""},null,null,null,{"$f":"ประเมินผลการเรียนเทอม1!DP34","v":""},{"$f":"IF(ใส่ชื่อ!A29=\"\",\"\",IF(DL34=\"-\",\"-\",IF(DL34=0,\"\",IF(DU34=\"ปกติ\",MAXA(DL34/2,DN34/2)))))","v":""},null,{"$f":"IF(เวลาเรียน!M36=\"\",\"\",IF(เวลาเรียน!M36=\"ย้าย\",\"-\",IF(เวลาเรียน!M36=\"จำหน่าย\",\"-\",IF(เวลาเรียน!M36=\"ขาดเรียนนาน\",\"-\",IF(DP34=\"\",\"\",IF(DQ34=\"\",\"\",SUM(DP34+DQ34)))))))","v":""},{"$f":"IF(เวลาเรียน!M36=\"\",\"\",IF(เวลาเรียน!M36=\"ย้าย\",\"-\",IF(เวลาเรียน!M36=\"จำหน่าย\",\"-\",IF(เวลาเรียน!M36=\"ขาดเรียนนาน\",\"-\",IF(เวลาเรียน!L36<80,\"มส\",IF(COUNTIF(DS34,\"-\"),\"-\",IF(COUNTIF(DS34,\"\"),\"\",VLOOKUP(DS34,$DW$19:$DY$26,3))))))))","v":""},{"$f":"IF(เวลาเรียน!M36=\"\",\"\",เวลาเรียน!M36)","v":""}]
[29,2525,{"$f":"CONCATENATE(ใส่ชื่อ!C30)","v":""},{"$f":"CONCATENATE(ใส่ชื่อ!D30&ใส่ชื่อ!E30&\"  \"&ใส่ชื่อ!F30)","v":"  "},{"$f":"ใส่ชื่อ!A30","v":0},null,null,null,null,null,null,null,null,null,null,null,null,null,null,null,null,null,null,null,null,{"$f":"IF(ใส่ชื่อ!D30=\"\",\"\",IF(DU35=\"ปกติ\",SUM(F35,G35,H35,I35,J35,K35,L35,M35,N35,O35,P35,Q35,R35,S35,T35,U35,V35,W35,X35,Y35),\"-\"))","v":""},null,"",null,null,null,null,null,null,null,null,null,null,null,null,null,null,null,null,null,null,null,null,{"$f":"IF(ใส่ชื่อ!D30=\"\",\"\",IF(COUNTIF(AC35:AS35,0),\"มผ\",IF(DU35=\"ปกติ\",SUM(AC35,AD35,AE35,AF35,AG35,AH35,AI35,AJ35,AK35,AL35,AM35,AN35,AO35,AP35,AQ35,AR35,AS35),\"-\")))","v":""},null,"",null,null,null,null,null,null,null,null,null,null,null,null,null,null,null,{"$f":"IF(ใส่ชื่อ!D30=\"\",\"\",IF(COUNTIF(AZ35:BN35,0),\"มผ\",IF(DU35=\"ปกติ\",SUM(AZ35,BA35,BB35,BC35,BD35,BE35,BF35,BG35,BH35,BI35,BJ35,BK35,BL35,BM35,BN35),\"-\")))","v":""},null,"",null,null,null,null,null,null,null,null,null,null,null,null,null,null,null,{"$f":"IF(ใส่ชื่อ!D30=\"\",\"\",IF(DU35=\"ปกติ\",SUM(BR35,BS35,BT35,BU35,BV35,BW35,BX35,BY35,BZ35,CA35,CB35,CC35,CD35,CE35,CF35),\"-\"))","v":""},null,"",null,null,null,null,null,{"$f":"IF(ใส่ชื่อ!D30=\"\",\"\",IF(CJ35=\"\",\"\",(IF(CK35=\"\",\"\",(IF(CL35=\"\",\"\",(IF(CM35=\"\",\"\",(IF(CN35=\"\",\"\",(SUM(CJ35:CN35))))))))))))","v":""},"","",null,null,null,null,null,null,null,null,null,null,"","","","",null,{"$f":"IF(ใส่ชื่อ!D30=\"\",\"\",IF(COUNTIF(DC35:DE35,\"มผ\"),\"มผ\",IF(DE35=\"มผ\",\"มผ\",IF(DU35=\"ปกติ\",SUM(DC35:DD35,IF(DF35=\"\",DE35,DF35)),\"-\"))))","v":""},null,"",null,null,{"$f":"IF(ใส่ชื่อ!D30=\"\",\"\",IF(DG35=\"\",\"\",IF(COUNTIF(DC35:DJ35,\"มผ\"),\"มผ\",IF(COUNTIF(DC35:DJ35,\"-\"),\"-\",IF(DU35=\"ปกติ\",SUM(DG35,IF(DJ35=\"\",DI35,DJ35)))))))","v":""},null,null,null,{"$f":"ประเมินผลการเรียนเทอม1!DP35","v":""},{"$f":"IF(ใส่ชื่อ!A30=\"\",\"\",IF(DL35=\"-\",\"-\",IF(DL35=0,\"\",IF(DU35=\"ปกติ\",MAXA(DL35/2,DN35/2)))))","v":""},null,{"$f":"IF(เวลาเรียน!M37=\"\",\"\",IF(เวลาเรียน!M37=\"ย้าย\",\"-\",IF(เวลาเรียน!M37=\"จำหน่าย\",\"-\",IF(เวลาเรียน!M37=\"ขาดเรียนนาน\",\"-\",IF(DP35=\"\",\"\",IF(DQ35=\"\",\"\",SUM(DP35+DQ35)))))))","v":""},{"$f":"IF(เวลาเรียน!M37=\"\",\"\",IF(เวลาเรียน!M37=\"ย้าย\",\"-\",IF(เวลาเรียน!M37=\"จำหน่าย\",\"-\",IF(เวลาเรียน!M37=\"ขาดเรียนนาน\",\"-\",IF(เวลาเรียน!L37<80,\"มส\",IF(COUNTIF(DS35,\"-\"),\"-\",IF(COUNTIF(DS35,\"\"),\"\",VLOOKUP(DS35,$DW$19:$DY$26,3))))))))","v":""},{"$f":"IF(เวลาเรียน!M37=\"\",\"\",เวลาเรียน!M37)","v":""}]
[30,2526,{"$f":"CONCATENATE(ใส่ชื่อ!C31)","v":""},{"$f":"CONCATENATE(ใส่ชื่อ!D31&ใส่ชื่อ!E31&\"  \"&ใส่ชื่อ!F31)","v":"  "},{"$f":"ใส่ชื่อ!A31","v":0},null,null,null,null,null,null,null,null,null,null,null,null,null,null,null,null,null,null,null,null,{"$f":"IF(ใส่ชื่อ!D31=\"\",\"\",IF(DU36=\"ปกติ\",SUM(F36,G36,H36,I36,J36,K36,L36,M36,N36,O36,P36,Q36,R36,S36,T36,U36,V36,W36,X36,Y36),\"-\"))","v":""},null,"",null,null,null,null,null,null,null,null,null,null,null,null,null,null,null,null,null,null,null,null,{"$f":"IF(ใส่ชื่อ!D31=\"\",\"\",IF(COUNTIF(AC36:AS36,0),\"มผ\",IF(DU36=\"ปกติ\",SUM(AC36,AD36,AE36,AF36,AG36,AH36,AI36,AJ36,AK36,AL36,AM36,AN36,AO36,AP36,AQ36,AR36,AS36),\"-\")))","v":""},null,"",null,null,null,null,null,null,null,null,null,null,null,null,null,null,null,{"$f":"IF(ใส่ชื่อ!D31=\"\",\"\",IF(COUNTIF(AZ36:BN36,0),\"มผ\",IF(DU36=\"ปกติ\",SUM(AZ36,BA36,BB36,BC36,BD36,BE36,BF36,BG36,BH36,BI36,BJ36,BK36,BL36,BM36,BN36),\"-\")))","v":""},null,"",null,null,null,null,null,null,null,null,null,null,null,null,null,null,null,{"$f":"IF(ใส่ชื่อ!D31=\"\",\"\",IF(DU36=\"ปกติ\",SUM(BR36,BS36,BT36,BU36,BV36,BW36,BX36,BY36,BZ36,CA36,CB36,CC36,CD36,CE36,CF36),\"-\"))","v":""},null,"",null,null,null,null,null,{"$f":"IF(ใส่ชื่อ!D31=\"\",\"\",IF(CJ36=\"\",\"\",(IF(CK36=\"\",\"\",(IF(CL36=\"\",\"\",(IF(CM36=\"\",\"\",(IF(CN36=\"\",\"\",(SUM(CJ36:CN36))))))))))))","v":""},"","",null,null,null,null,null,null,null,null,null,null,"","","","",null,{"$f":"IF(ใส่ชื่อ!D31=\"\",\"\",IF(COUNTIF(DC36:DE36,\"มผ\"),\"มผ\",IF(DE36=\"มผ\",\"มผ\",IF(DU36=\"ปกติ\",SUM(DC36:DD36,IF(DF36=\"\",DE36,DF36)),\"-\"))))","v":""},null,"",null,null,{"$f":"IF(ใส่ชื่อ!D31=\"\",\"\",IF(DG36=\"\",\"\",IF(COUNTIF(DC36:DJ36,\"มผ\"),\"มผ\",IF(COUNTIF(DC36:DJ36,\"-\"),\"-\",IF(DU36=\"ปกติ\",SUM(DG36,IF(DJ36=\"\",DI36,DJ36)))))))","v":""},null,null,null,{"$f":"ประเมินผลการเรียนเทอม1!DP36","v":""},{"$f":"IF(ใส่ชื่อ!A31=\"\",\"\",IF(DL36=\"-\",\"-\",IF(DL36=0,\"\",IF(DU36=\"ปกติ\",MAXA(DL36/2,DN36/2)))))","v":""},null,{"$f":"IF(เวลาเรียน!M38=\"\",\"\",IF(เวลาเรียน!M38=\"ย้าย\",\"-\",IF(เวลาเรียน!M38=\"จำหน่าย\",\"-\",IF(เวลาเรียน!M38=\"ขาดเรียนนาน\",\"-\",IF(DP36=\"\",\"\",IF(DQ36=\"\",\"\",SUM(DP36+DQ36)))))))","v":""},{"$f":"IF(เวลาเรียน!M38=\"\",\"\",IF(เวลาเรียน!M38=\"ย้าย\",\"-\",IF(เวลาเรียน!M38=\"จำหน่าย\",\"-\",IF(เวลาเรียน!M38=\"ขาดเรียนนาน\",\"-\",IF(เวลาเรียน!L38<80,\"มส\",IF(COUNTIF(DS36,\"-\"),\"-\",IF(COUNTIF(DS36,\"\"),\"\",VLOOKUP(DS36,$DW$19:$DY$26,3))))))))","v":""},{"$f":"IF(เวลาเรียน!M38=\"\",\"\",เวลาเรียน!M38)","v":""}]
[31,2528,{"$f":"CONCATENATE(ใส่ชื่อ!C32)","v":""},{"$f":"CONCATENATE(ใส่ชื่อ!D32&ใส่ชื่อ!E32&\"  \"&ใส่ชื่อ!F32)","v":"  "},{"$f":"ใส่ชื่อ!A32","v":0},null,null,null,null,null,null,null,null,null,null,null,null,null,null,null,null,null,null,null,null,{"$f":"IF(ใส่ชื่อ!D32=\"\",\"\",IF(DU37=\"ปกติ\",SUM(F37,G37,H37,I37,J37,K37,L37,M37,N37,O37,P37,Q37,R37,S37,T37,U37,V37,W37,X37,Y37),\"-\"))","v":""},null,"",null,null,null,null,null,null,null,null,null,null,null,null,null,null,null,null,null,null,null,null,{"$f":"IF(ใส่ชื่อ!D32=\"\",\"\",IF(COUNTIF(AC37:AS37,0),\"มผ\",IF(DU37=\"ปกติ\",SUM(AC37,AD37,AE37,AF37,AG37,AH37,AI37,AJ37,AK37,AL37,AM37,AN37,AO37,AP37,AQ37,AR37,AS37),\"-\")))","v":""},null,"",null,null,null,null,null,null,null,null,null,null,null,null,null,null,null,{"$f":"IF(ใส่ชื่อ!D32=\"\",\"\",IF(COUNTIF(AZ37:BN37,0),\"มผ\",IF(DU37=\"ปกติ\",SUM(AZ37,BA37,BB37,BC37,BD37,BE37,BF37,BG37,BH37,BI37,BJ37,BK37,BL37,BM37,BN37),\"-\")))","v":""},null,"",null,null,null,null,null,null,null,null,null,null,null,null,null,null,null,{"$f":"IF(ใส่ชื่อ!D32=\"\",\"\",IF(DU37=\"ปกติ\",SUM(BR37,BS37,BT37,BU37,BV37,BW37,BX37,BY37,BZ37,CA37,CB37,CC37,CD37,CE37,CF37),\"-\"))","v":""},null,"",null,null,null,null,null,{"$f":"IF(ใส่ชื่อ!D32=\"\",\"\",IF(CJ37=\"\",\"\",(IF(CK37=\"\",\"\",(IF(CL37=\"\",\"\",(IF(CM37=\"\",\"\",(IF(CN37=\"\",\"\",(SUM(CJ37:CN37))))))))))))","v":""},"","",null,null,null,null,null,null,null,null,null,null,"","","","",null,{"$f":"IF(ใส่ชื่อ!D32=\"\",\"\",IF(COUNTIF(DC37:DE37,\"มผ\"),\"มผ\",IF(DE37=\"มผ\",\"มผ\",IF(DU37=\"ปกติ\",SUM(DC37:DD37,IF(DF37=\"\",DE37,DF37)),\"-\"))))","v":""},null,"",null,null,{"$f":"IF(ใส่ชื่อ!D32=\"\",\"\",IF(DG37=\"\",\"\",IF(COUNTIF(DC37:DJ37,\"มผ\"),\"มผ\",IF(COUNTIF(DC37:DJ37,\"-\"),\"-\",IF(DU37=\"ปกติ\",SUM(DG37,IF(DJ37=\"\",DI37,DJ37)))))))","v":""},null,null,null,{"$f":"ประเมินผลการเรียนเทอม1!DP37","v":""},{"$f":"IF(ใส่ชื่อ!A32=\"\",\"\",IF(DL37=\"-\",\"-\",IF(DL37=0,\"\",IF(DU37=\"ปกติ\",MAXA(DL37/2,DN37/2)))))","v":""},null,{"$f":"IF(เวลาเรียน!M39=\"\",\"\",IF(เวลาเรียน!M39=\"ย้าย\",\"-\",IF(เวลาเรียน!M39=\"จำหน่าย\",\"-\",IF(เวลาเรียน!M39=\"ขาดเรียนนาน\",\"-\",IF(DP37=\"\",\"\",IF(DQ37=\"\",\"\",SUM(DP37+DQ37)))))))","v":""},{"$f":"IF(เวลาเรียน!M39=\"\",\"\",IF(เวลาเรียน!M39=\"ย้าย\",\"-\",IF(เวลาเรียน!M39=\"จำหน่าย\",\"-\",IF(เวลาเรียน!M39=\"ขาดเรียนนาน\",\"-\",IF(เวลาเรียน!L39<80,\"มส\",IF(COUNTIF(DS37,\"-\"),\"-\",IF(COUNTIF(DS37,\"\"),\"\",VLOOKUP(DS37,$DW$19:$DY$26,3))))))))","v":""},{"$f":"IF(เวลาเรียน!M39=\"\",\"\",เวลาเรียน!M39)","v":""}]
[32,2529,{"$f":"CONCATENATE(ใส่ชื่อ!C33)","v":""},{"$f":"CONCATENATE(ใส่ชื่อ!D33&ใส่ชื่อ!E33&\"  \"&ใส่ชื่อ!F33)","v":"  "},{"$f":"ใส่ชื่อ!A33","v":0},null,null,null,null,null,null,null,null,null,null,null,null,null,null,null,null,null,null,null,null,{"$f":"IF(ใส่ชื่อ!D33=\"\",\"\",IF(DU38=\"ปกติ\",SUM(F38,G38,H38,I38,J38,K38,L38,M38,N38,O38,P38,Q38,R38,S38,T38,U38,V38,W38,X38,Y38),\"-\"))","v":""},null,"",null,null,null,null,null,null,null,null,null,null,null,null,null,null,null,null,null,null,null,null,{"$f":"IF(ใส่ชื่อ!D33=\"\",\"\",IF(COUNTIF(AC38:AS38,0),\"มผ\",IF(DU38=\"ปกติ\",SUM(AC38,AD38,AE38,AF38,AG38,AH38,AI38,AJ38,AK38,AL38,AM38,AN38,AO38,AP38,AQ38,AR38,AS38),\"-\")))","v":""},null,"",null,null,null,null,null,null,null,null,null,null,null,null,null,null,null,{"$f":"IF(ใส่ชื่อ!D33=\"\",\"\",IF(COUNTIF(AZ38:BN38,0),\"มผ\",IF(DU38=\"ปกติ\",SUM(AZ38,BA38,BB38,BC38,BD38,BE38,BF38,BG38,BH38,BI38,BJ38,BK38,BL38,BM38,BN38),\"-\")))","v":""},null,"",null,null,null,null,null,null,null,null,null,null,null,null,null,null,null,{"$f":"IF(ใส่ชื่อ!D33=\"\",\"\",IF(DU38=\"ปกติ\",SUM(BR38,BS38,BT38,BU38,BV38,BW38,BX38,BY38,BZ38,CA38,CB38,CC38,CD38,CE38,CF38),\"-\"))","v":""},null,"",null,null,null,null,null,{"$f":"IF(ใส่ชื่อ!D33=\"\",\"\",IF(CJ38=\"\",\"\",(IF(CK38=\"\",\"\",(IF(CL38=\"\",\"\",(IF(CM38=\"\",\"\",(IF(CN38=\"\",\"\",(SUM(CJ38:CN38))))))))))))","v":""},"","",null,null,null,null,null,null,null,null,null,null,"","","","",null,{"$f":"IF(ใส่ชื่อ!D33=\"\",\"\",IF(COUNTIF(DC38:DE38,\"มผ\"),\"มผ\",IF(DE38=\"มผ\",\"มผ\",IF(DU38=\"ปกติ\",SUM(DC38:DD38,IF(DF38=\"\",DE38,DF38)),\"-\"))))","v":""},null,"",null,null,{"$f":"IF(ใส่ชื่อ!D33=\"\",\"\",IF(DG38=\"\",\"\",IF(COUNTIF(DC38:DJ38,\"มผ\"),\"มผ\",IF(COUNTIF(DC38:DJ38,\"-\"),\"-\",IF(DU38=\"ปกติ\",SUM(DG38,IF(DJ38=\"\",DI38,DJ38)))))))","v":""},null,null,null,{"$f":"ประเมินผลการเรียนเทอม1!DP38","v":""},{"$f":"IF(ใส่ชื่อ!A33=\"\",\"\",IF(DL38=\"-\",\"-\",IF(DL38=0,\"\",IF(DU38=\"ปกติ\",MAXA(DL38/2,DN38/2)))))","v":""},null,{"$f":"IF(เวลาเรียน!M40=\"\",\"\",IF(เวลาเรียน!M40=\"ย้าย\",\"-\",IF(เวลาเรียน!M40=\"จำหน่าย\",\"-\",IF(เวลาเรียน!M40=\"ขาดเรียนนาน\",\"-\",IF(DP38=\"\",\"\",IF(DQ38=\"\",\"\",SUM(DP38+DQ38)))))))","v":""},{"$f":"IF(เวลาเรียน!M40=\"\",\"\",IF(เวลาเรียน!M40=\"ย้าย\",\"-\",IF(เวลาเรียน!M40=\"จำหน่าย\",\"-\",IF(เวลาเรียน!M40=\"ขาดเรียนนาน\",\"-\",IF(เวลาเรียน!L40<80,\"มส\",IF(COUNTIF(DS38,\"-\"),\"-\",IF(COUNTIF(DS38,\"\"),\"\",VLOOKUP(DS38,$DW$19:$DY$26,3))))))))","v":""},{"$f":"IF(เวลาเรียน!M40=\"\",\"\",เวลาเรียน!M40)","v":""}]
[33,0,{"$f":"CONCATENATE(ใส่ชื่อ!C34)","v":""},{"$f":"CONCATENATE(ใส่ชื่อ!D34&ใส่ชื่อ!E34&\"  \"&ใส่ชื่อ!F34)","v":"  "},{"$f":"ใส่ชื่อ!A34","v":0},null,null,null,null,null,null,null,null,null,null,null,null,null,null,null,null,null,null,null,null,{"$f":"IF(ใส่ชื่อ!D34=\"\",\"\",IF(DU39=\"ปกติ\",SUM(F39,G39,H39,I39,J39,K39,L39,M39,N39,O39,P39,Q39,R39,S39,T39,U39,V39,W39,X39,Y39),\"-\"))","v":""},null,"",null,null,null,null,null,null,null,null,null,null,null,null,null,null,null,null,null,null,null,null,{"$f":"IF(ใส่ชื่อ!D34=\"\",\"\",IF(COUNTIF(AC39:AS39,0),\"มผ\",IF(DU39=\"ปกติ\",SUM(AC39,AD39,AE39,AF39,AG39,AH39,AI39,AJ39,AK39,AL39,AM39,AN39,AO39,AP39,AQ39,AR39,AS39),\"-\")))","v":""},null,"",null,null,null,null,null,null,null,null,null,null,null,null,null,null,null,{"$f":"IF(ใส่ชื่อ!D34=\"\",\"\",IF(COUNTIF(AZ39:BN39,0),\"มผ\",IF(DU39=\"ปกติ\",SUM(AZ39,BA39,BB39,BC39,BD39,BE39,BF39,BG39,BH39,BI39,BJ39,BK39,BL39,BM39,BN39),\"-\")))","v":""},null,"",null,null,null,null,null,null,null,null,null,null,null,null,null,null,null,{"$f":"IF(ใส่ชื่อ!D34=\"\",\"\",IF(DU39=\"ปกติ\",SUM(BR39,BS39,BT39,BU39,BV39,BW39,BX39,BY39,BZ39,CA39,CB39,CC39,CD39,CE39,CF39),\"-\"))","v":""},null,"",null,null,null,null,null,{"$f":"IF(ใส่ชื่อ!D34=\"\",\"\",IF(CJ39=\"\",\"\",(IF(CK39=\"\",\"\",(IF(CL39=\"\",\"\",(IF(CM39=\"\",\"\",(IF(CN39=\"\",\"\",(SUM(CJ39:CN39))))))))))))","v":""},"","",null,null,null,null,null,null,null,null,null,null,"","","","",null,{"$f":"IF(ใส่ชื่อ!D34=\"\",\"\",IF(COUNTIF(DC39:DE39,\"มผ\"),\"มผ\",IF(DE39=\"มผ\",\"มผ\",IF(DU39=\"ปกติ\",SUM(DC39:DD39,IF(DF39=\"\",DE39,DF39)),\"-\"))))","v":""},null,"",null,null,{"$f":"IF(ใส่ชื่อ!D34=\"\",\"\",IF(DG39=\"\",\"\",IF(COUNTIF(DC39:DJ39,\"มผ\"),\"มผ\",IF(COUNTIF(DC39:DJ39,\"-\"),\"-\",IF(DU39=\"ปกติ\",SUM(DG39,IF(DJ39=\"\",DI39,DJ39)))))))","v":""},null,null,null,{"$f":"ประเมินผลการเรียนเทอม1!DP39","v":""},{"$f":"IF(ใส่ชื่อ!A34=\"\",\"\",IF(DL39=\"-\",\"-\",IF(DL39=0,\"\",IF(DU39=\"ปกติ\",MAXA(DL39/2,DN39/2)))))","v":""},null,{"$f":"IF(เวลาเรียน!M41=\"\",\"\",IF(เวลาเรียน!M41=\"ย้าย\",\"-\",IF(เวลาเรียน!M41=\"จำหน่าย\",\"-\",IF(เวลาเรียน!M41=\"ขาดเรียนนาน\",\"-\",IF(DP39=\"\",\"\",IF(DQ39=\"\",\"\",SUM(DP39+DQ39)))))))","v":""},{"$f":"IF(เวลาเรียน!M41=\"\",\"\",IF(เวลาเรียน!M41=\"ย้าย\",\"-\",IF(เวลาเรียน!M41=\"จำหน่าย\",\"-\",IF(เวลาเรียน!M41=\"ขาดเรียนนาน\",\"-\",IF(เวลาเรียน!L41<80,\"มส\",IF(COUNTIF(DS39,\"-\"),\"-\",IF(COUNTIF(DS39,\"\"),\"\",VLOOKUP(DS39,$DW$19:$DY$26,3))))))))","v":""},{"$f":"IF(เวลาเรียน!M41=\"\",\"\",เวลาเรียน!M41)","v":""}]
[34,0,{"$f":"CONCATENATE(ใส่ชื่อ!C35)","v":""},{"$f":"CONCATENATE(ใส่ชื่อ!D35&ใส่ชื่อ!E35&\"  \"&ใส่ชื่อ!F35)","v":"  "},{"$f":"ใส่ชื่อ!A35","v":0},null,null,null,null,null,null,null,null,null,null,null,null,null,null,null,null,null,null,null,null,{"$f":"IF(ใส่ชื่อ!D35=\"\",\"\",IF(DU40=\"ปกติ\",SUM(F40,G40,H40,I40,J40,K40,L40,M40,N40,O40,P40,Q40,R40,S40,T40,U40,V40,W40,X40,Y40),\"-\"))","v":""},null,"",null,null,null,null,null,null,null,null,null,null,null,null,null,null,null,null,null,null,null,null,{"$f":"IF(ใส่ชื่อ!D35=\"\",\"\",IF(COUNTIF(AC40:AS40,0),\"มผ\",IF(DU40=\"ปกติ\",SUM(AC40,AD40,AE40,AF40,AG40,AH40,AI40,AJ40,AK40,AL40,AM40,AN40,AO40,AP40,AQ40,AR40,AS40),\"-\")))","v":""},null,"",null,null,null,null,null,null,null,null,null,null,null,null,null,null,null,{"$f":"IF(ใส่ชื่อ!D35=\"\",\"\",IF(COUNTIF(AZ40:BN40,0),\"มผ\",IF(DU40=\"ปกติ\",SUM(AZ40,BA40,BB40,BC40,BD40,BE40,BF40,BG40,BH40,BI40,BJ40,BK40,BL40,BM40,BN40),\"-\")))","v":""},null,"",null,null,null,null,null,null,null,null,null,null,null,null,null,null,null,{"$f":"IF(ใส่ชื่อ!D35=\"\",\"\",IF(DU40=\"ปกติ\",SUM(BR40,BS40,BT40,BU40,BV40,BW40,BX40,BY40,BZ40,CA40,CB40,CC40,CD40,CE40,CF40),\"-\"))","v":""},null,"",null,null,null,null,null,{"$f":"IF(ใส่ชื่อ!D35=\"\",\"\",IF(CJ40=\"\",\"\",(IF(CK40=\"\",\"\",(IF(CL40=\"\",\"\",(IF(CM40=\"\",\"\",(IF(CN40=\"\",\"\",(SUM(CJ40:CN40))))))))))))","v":""},"","",null,null,null,null,null,null,null,null,null,null,"","","","",null,{"$f":"IF(ใส่ชื่อ!D35=\"\",\"\",IF(COUNTIF(DC40:DE40,\"มผ\"),\"มผ\",IF(DE40=\"มผ\",\"มผ\",IF(DU40=\"ปกติ\",SUM(DC40:DD40,IF(DF40=\"\",DE40,DF40)),\"-\"))))","v":""},null,"",null,null,{"$f":"IF(ใส่ชื่อ!D35=\"\",\"\",IF(DG40=\"\",\"\",IF(COUNTIF(DC40:DJ40,\"มผ\"),\"มผ\",IF(COUNTIF(DC40:DJ40,\"-\"),\"-\",IF(DU40=\"ปกติ\",SUM(DG40,IF(DJ40=\"\",DI40,DJ40)))))))","v":""},null,null,null,{"$f":"ประเมินผลการเรียนเทอม1!DP40","v":""},{"$f":"IF(ใส่ชื่อ!A35=\"\",\"\",IF(DL40=\"-\",\"-\",IF(DL40=0,\"\",IF(DU40=\"ปกติ\",MAXA(DL40/2,DN40/2)))))","v":""},null,{"$f":"IF(เวลาเรียน!M42=\"\",\"\",IF(เวลาเรียน!M42=\"ย้าย\",\"-\",IF(เวลาเรียน!M42=\"จำหน่าย\",\"-\",IF(เวลาเรียน!M42=\"ขาดเรียนนาน\",\"-\",IF(DP40=\"\",\"\",IF(DQ40=\"\",\"\",SUM(DP40+DQ40)))))))","v":""},{"$f":"IF(เวลาเรียน!M42=\"\",\"\",IF(เวลาเรียน!M42=\"ย้าย\",\"-\",IF(เวลาเรียน!M42=\"จำหน่าย\",\"-\",IF(เวลาเรียน!M42=\"ขาดเรียนนาน\",\"-\",IF(เวลาเรียน!L42<80,\"มส\",IF(COUNTIF(DS40,\"-\"),\"-\",IF(COUNTIF(DS40,\"\"),\"\",VLOOKUP(DS40,$DW$19:$DY$26,3))))))))","v":""},{"$f":"IF(เวลาเรียน!M42=\"\",\"\",เวลาเรียน!M42)","v":""}]
[35,0,{"$f":"CONCATENATE(ใส่ชื่อ!C36)","v":""},{"$f":"CONCATENATE(ใส่ชื่อ!D36&ใส่ชื่อ!E36&\"  \"&ใส่ชื่อ!F36)","v":"  "},{"$f":"ใส่ชื่อ!A36","v":0},null,null,null,null,null,null,null,null,null,null,null,null,null,null,null,null,null,null,null,null,{"$f":"IF(ใส่ชื่อ!D36=\"\",\"\",IF(DU41=\"ปกติ\",SUM(F41,G41,H41,I41,J41,K41,L41,M41,N41,O41,P41,Q41,R41,S41,T41,U41,V41,W41,X41,Y41),\"-\"))","v":""},null,"",null,null,null,null,null,null,null,null,null,null,null,null,null,null,null,null,null,null,null,null,{"$f":"IF(ใส่ชื่อ!D36=\"\",\"\",IF(COUNTIF(AC41:AS41,0),\"มผ\",IF(DU41=\"ปกติ\",SUM(AC41,AD41,AE41,AF41,AG41,AH41,AI41,AJ41,AK41,AL41,AM41,AN41,AO41,AP41,AQ41,AR41,AS41),\"-\")))","v":""},null,"",null,null,null,null,null,null,null,null,null,null,null,null,null,null,null,{"$f":"IF(ใส่ชื่อ!D36=\"\",\"\",IF(COUNTIF(AZ41:BN41,0),\"มผ\",IF(DU41=\"ปกติ\",SUM(AZ41,BA41,BB41,BC41,BD41,BE41,BF41,BG41,BH41,BI41,BJ41,BK41,BL41,BM41,BN41),\"-\")))","v":""},null,"",null,null,null,null,null,null,null,null,null,null,null,null,null,null,null,{"$f":"IF(ใส่ชื่อ!D36=\"\",\"\",IF(DU41=\"ปกติ\",SUM(BR41,BS41,BT41,BU41,BV41,BW41,BX41,BY41,BZ41,CA41,CB41,CC41,CD41,CE41,CF41),\"-\"))","v":""},null,"",null,null,null,null,null,{"$f":"IF(ใส่ชื่อ!D36=\"\",\"\",IF(CJ41=\"\",\"\",(IF(CK41=\"\",\"\",(IF(CL41=\"\",\"\",(IF(CM41=\"\",\"\",(IF(CN41=\"\",\"\",(SUM(CJ41:CN41))))))))))))","v":""},"","",null,null,null,null,null,null,null,null,null,null,"","","","",null,{"$f":"IF(ใส่ชื่อ!D36=\"\",\"\",IF(COUNTIF(DC41:DE41,\"มผ\"),\"มผ\",IF(DE41=\"มผ\",\"มผ\",IF(DU41=\"ปกติ\",SUM(DC41:DD41,IF(DF41=\"\",DE41,DF41)),\"-\"))))","v":""},null,"",null,null,{"$f":"IF(ใส่ชื่อ!D36=\"\",\"\",IF(DG41=\"\",\"\",IF(COUNTIF(DC41:DJ41,\"มผ\"),\"มผ\",IF(COUNTIF(DC41:DJ41,\"-\"),\"-\",IF(DU41=\"ปกติ\",SUM(DG41,IF(DJ41=\"\",DI41,DJ41)))))))","v":""},null,null,null,{"$f":"ประเมินผลการเรียนเทอม1!DP41","v":""},{"$f":"IF(ใส่ชื่อ!A36=\"\",\"\",IF(DL41=\"-\",\"-\",IF(DL41=0,\"\",IF(DU41=\"ปกติ\",MAXA(DL41/2,DN41/2)))))","v":""},null,{"$f":"IF(เวลาเรียน!M43=\"\",\"\",IF(เวลาเรียน!M43=\"ย้าย\",\"-\",IF(เวลาเรียน!M43=\"จำหน่าย\",\"-\",IF(เวลาเรียน!M43=\"ขาดเรียนนาน\",\"-\",IF(DP41=\"\",\"\",IF(DQ41=\"\",\"\",SUM(DP41+DQ41)))))))","v":""},{"$f":"IF(เวลาเรียน!M43=\"\",\"\",IF(เวลาเรียน!M43=\"ย้าย\",\"-\",IF(เวลาเรียน!M43=\"จำหน่าย\",\"-\",IF(เวลาเรียน!M43=\"ขาดเรียนนาน\",\"-\",IF(เวลาเรียน!L43<80,\"มส\",IF(COUNTIF(DS41,\"-\"),\"-\",IF(COUNTIF(DS41,\"\"),\"\",VLOOKUP(DS41,$DW$19:$DY$26,3))))))))","v":""},{"$f":"IF(เวลาเรียน!M43=\"\",\"\",เวลาเรียน!M43)","v":""}]
[36,0,{"$f":"CONCATENATE(ใส่ชื่อ!C37)","v":""},{"$f":"CONCATENATE(ใส่ชื่อ!D37&ใส่ชื่อ!E37&\"  \"&ใส่ชื่อ!F37)","v":"  "},{"$f":"ใส่ชื่อ!A37","v":0},null,null,null,null,null,null,null,null,null,null,null,null,null,null,null,null,null,null,null,null,{"$f":"IF(ใส่ชื่อ!D37=\"\",\"\",IF(DU42=\"ปกติ\",SUM(F42,G42,H42,I42,J42,K42,L42,M42,N42,O42,P42,Q42,R42,S42,T42,U42,V42,W42,X42,Y42),\"-\"))","v":""},null,"",null,null,null,null,null,null,null,null,null,null,null,null,null,null,null,null,null,null,null,null,{"$f":"IF(ใส่ชื่อ!D37=\"\",\"\",IF(COUNTIF(AC42:AS42,0),\"มผ\",IF(DU42=\"ปกติ\",SUM(AC42,AD42,AE42,AF42,AG42,AH42,AI42,AJ42,AK42,AL42,AM42,AN42,AO42,AP42,AQ42,AR42,AS42),\"-\")))","v":""},null,"",null,null,null,null,null,null,null,null,null,null,null,null,null,null,null,{"$f":"IF(ใส่ชื่อ!D37=\"\",\"\",IF(COUNTIF(AZ42:BN42,0),\"มผ\",IF(DU42=\"ปกติ\",SUM(AZ42,BA42,BB42,BC42,BD42,BE42,BF42,BG42,BH42,BI42,BJ42,BK42,BL42,BM42,BN42),\"-\")))","v":""},null,"",null,null,null,null,null,null,null,null,null,null,null,null,null,null,null,{"$f":"IF(ใส่ชื่อ!D37=\"\",\"\",IF(DU42=\"ปกติ\",SUM(BR42,BS42,BT42,BU42,BV42,BW42,BX42,BY42,BZ42,CA42,CB42,CC42,CD42,CE42,CF42),\"-\"))","v":""},null,"",null,null,null,null,null,{"$f":"IF(ใส่ชื่อ!D37=\"\",\"\",IF(CJ42=\"\",\"\",(IF(CK42=\"\",\"\",(IF(CL42=\"\",\"\",(IF(CM42=\"\",\"\",(IF(CN42=\"\",\"\",(SUM(CJ42:CN42))))))))))))","v":""},"","",null,null,null,null,null,null,null,null,null,null,"","","","",null,{"$f":"IF(ใส่ชื่อ!D37=\"\",\"\",IF(COUNTIF(DC42:DE42,\"มผ\"),\"มผ\",IF(DE42=\"มผ\",\"มผ\",IF(DU42=\"ปกติ\",SUM(DC42:DD42,IF(DF42=\"\",DE42,DF42)),\"-\"))))","v":""},null,"",null,null,{"$f":"IF(ใส่ชื่อ!D37=\"\",\"\",IF(DG42=\"\",\"\",IF(COUNTIF(DC42:DJ42,\"มผ\"),\"มผ\",IF(COUNTIF(DC42:DJ42,\"-\"),\"-\",IF(DU42=\"ปกติ\",SUM(DG42,IF(DJ42=\"\",DI42,DJ42)))))))","v":""},null,null,null,{"$f":"ประเมินผลการเรียนเทอม1!DP42","v":""},{"$f":"IF(ใส่ชื่อ!A37=\"\",\"\",IF(DL42=\"-\",\"-\",IF(DL42=0,\"\",IF(DU42=\"ปกติ\",MAXA(DL42/2,DN42/2)))))","v":""},null,{"$f":"IF(เวลาเรียน!M44=\"\",\"\",IF(เวลาเรียน!M44=\"ย้าย\",\"-\",IF(เวลาเรียน!M44=\"จำหน่าย\",\"-\",IF(เวลาเรียน!M44=\"ขาดเรียนนาน\",\"-\",IF(DP42=\"\",\"\",IF(DQ42=\"\",\"\",SUM(DP42+DQ42)))))))","v":""},{"$f":"IF(เวลาเรียน!M44=\"\",\"\",IF(เวลาเรียน!M44=\"ย้าย\",\"-\",IF(เวลาเรียน!M44=\"จำหน่าย\",\"-\",IF(เวลาเรียน!M44=\"ขาดเรียนนาน\",\"-\",IF(เวลาเรียน!L44<80,\"มส\",IF(COUNTIF(DS42,\"-\"),\"-\",IF(COUNTIF(DS42,\"\"),\"\",VLOOKUP(DS42,$DW$19:$DY$26,3))))))))","v":""},{"$f":"IF(เวลาเรียน!M44=\"\",\"\",เวลาเรียน!M44)","v":""}]
[37,0,{"$f":"CONCATENATE(ใส่ชื่อ!C38)","v":""},{"$f":"CONCATENATE(ใส่ชื่อ!D38&ใส่ชื่อ!E38&\"  \"&ใส่ชื่อ!F38)","v":"  "},{"$f":"ใส่ชื่อ!A38","v":0},null,null,null,null,null,null,null,null,null,null,null,null,null,null,null,null,null,null,null,null,{"$f":"IF(ใส่ชื่อ!D38=\"\",\"\",IF(DU43=\"ปกติ\",SUM(F43,G43,H43,I43,J43,K43,L43,M43,N43,O43,P43,Q43,R43,S43,T43,U43,V43,W43,X43,Y43),\"-\"))","v":""},null,"",null,null,null,null,null,null,null,null,null,null,null,null,null,null,null,null,null,null,null,null,{"$f":"IF(ใส่ชื่อ!D38=\"\",\"\",IF(COUNTIF(AC43:AS43,0),\"มผ\",IF(DU43=\"ปกติ\",SUM(AC43,AD43,AE43,AF43,AG43,AH43,AI43,AJ43,AK43,AL43,AM43,AN43,AO43,AP43,AQ43,AR43,AS43),\"-\")))","v":""},null,"",null,null,null,null,null,null,null,null,null,null,null,null,null,null,null,{"$f":"IF(ใส่ชื่อ!D38=\"\",\"\",IF(COUNTIF(AZ43:BN43,0),\"มผ\",IF(DU43=\"ปกติ\",SUM(AZ43,BA43,BB43,BC43,BD43,BE43,BF43,BG43,BH43,BI43,BJ43,BK43,BL43,BM43,BN43),\"-\")))","v":""},null,"",null,null,null,null,null,null,null,null,null,null,null,null,null,null,null,{"$f":"IF(ใส่ชื่อ!D38=\"\",\"\",IF(DU43=\"ปกติ\",SUM(BR43,BS43,BT43,BU43,BV43,BW43,BX43,BY43,BZ43,CA43,CB43,CC43,CD43,CE43,CF43),\"-\"))","v":""},null,"",null,null,null,null,null,{"$f":"IF(ใส่ชื่อ!D38=\"\",\"\",IF(CJ43=\"\",\"\",(IF(CK43=\"\",\"\",(IF(CL43=\"\",\"\",(IF(CM43=\"\",\"\",(IF(CN43=\"\",\"\",(SUM(CJ43:CN43))))))))))))","v":""},"","",null,null,null,null,null,null,null,null,null,null,"","","","",null,{"$f":"IF(ใส่ชื่อ!D38=\"\",\"\",IF(COUNTIF(DC43:DE43,\"มผ\"),\"มผ\",IF(DE43=\"มผ\",\"มผ\",IF(DU43=\"ปกติ\",SUM(DC43:DD43,IF(DF43=\"\",DE43,DF43)),\"-\"))))","v":""},null,"",null,null,{"$f":"IF(ใส่ชื่อ!D38=\"\",\"\",IF(DG43=\"\",\"\",IF(COUNTIF(DC43:DJ43,\"มผ\"),\"มผ\",IF(COUNTIF(DC43:DJ43,\"-\"),\"-\",IF(DU43=\"ปกติ\",SUM(DG43,IF(DJ43=\"\",DI43,DJ43)))))))","v":""},null,null,null,{"$f":"ประเมินผลการเรียนเทอม1!DP43","v":""},{"$f":"IF(ใส่ชื่อ!A38=\"\",\"\",IF(DL43=\"-\",\"-\",IF(DL43=0,\"\",IF(DU43=\"ปกติ\",MAXA(DL43/2,DN43/2)))))","v":""},null,{"$f":"IF(เวลาเรียน!M45=\"\",\"\",IF(เวลาเรียน!M45=\"ย้าย\",\"-\",IF(เวลาเรียน!M45=\"จำหน่าย\",\"-\",IF(เวลาเรียน!M45=\"ขาดเรียนนาน\",\"-\",IF(DP43=\"\",\"\",IF(DQ43=\"\",\"\",SUM(DP43+DQ43)))))))","v":""},{"$f":"IF(เวลาเรียน!M45=\"\",\"\",IF(เวลาเรียน!M45=\"ย้าย\",\"-\",IF(เวลาเรียน!M45=\"จำหน่าย\",\"-\",IF(เวลาเรียน!M45=\"ขาดเรียนนาน\",\"-\",IF(เวลาเรียน!L45<80,\"มส\",IF(COUNTIF(DS43,\"-\"),\"-\",IF(COUNTIF(DS43,\"\"),\"\",VLOOKUP(DS43,$DW$19:$DY$26,3))))))))","v":""},{"$f":"IF(เวลาเรียน!M45=\"\",\"\",เวลาเรียน!M45)","v":""}]
[38,0,{"$f":"CONCATENATE(ใส่ชื่อ!C39)","v":""},{"$f":"CONCATENATE(ใส่ชื่อ!D39&ใส่ชื่อ!E39&\"  \"&ใส่ชื่อ!F39)","v":"  "},{"$f":"ใส่ชื่อ!A39","v":0},null,null,null,null,null,null,null,null,null,null,null,null,null,null,null,null,null,null,null,null,{"$f":"IF(ใส่ชื่อ!D39=\"\",\"\",IF(DU44=\"ปกติ\",SUM(F44,G44,H44,I44,J44,K44,L44,M44,N44,O44,P44,Q44,R44,S44,T44,U44,V44,W44,X44,Y44),\"-\"))","v":""},null,"",null,null,null,null,null,null,null,null,null,null,null,null,null,null,null,null,null,null,null,null,{"$f":"IF(ใส่ชื่อ!D39=\"\",\"\",IF(COUNTIF(AC44:AS44,0),\"มผ\",IF(DU44=\"ปกติ\",SUM(AC44,AD44,AE44,AF44,AG44,AH44,AI44,AJ44,AK44,AL44,AM44,AN44,AO44,AP44,AQ44,AR44,AS44),\"-\")))","v":""},null,"",null,null,null,null,null,null,null,null,null,null,null,null,null,null,null,{"$f":"IF(ใส่ชื่อ!D39=\"\",\"\",IF(COUNTIF(AZ44:BN44,0),\"มผ\",IF(DU44=\"ปกติ\",SUM(AZ44,BA44,BB44,BC44,BD44,BE44,BF44,BG44,BH44,BI44,BJ44,BK44,BL44,BM44,BN44),\"-\")))","v":""},null,"",null,null,null,null,null,null,null,null,null,null,null,null,null,null,null,{"$f":"IF(ใส่ชื่อ!D39=\"\",\"\",IF(DU44=\"ปกติ\",SUM(BR44,BS44,BT44,BU44,BV44,BW44,BX44,BY44,BZ44,CA44,CB44,CC44,CD44,CE44,CF44),\"-\"))","v":""},null,"",null,null,null,null,null,{"$f":"IF(ใส่ชื่อ!D39=\"\",\"\",IF(CJ44=\"\",\"\",(IF(CK44=\"\",\"\",(IF(CL44=\"\",\"\",(IF(CM44=\"\",\"\",(IF(CN44=\"\",\"\",(SUM(CJ44:CN44))))))))))))","v":""},"","",null,null,null,null,null,null,null,null,null,null,"","","","",null,{"$f":"IF(ใส่ชื่อ!D39=\"\",\"\",IF(COUNTIF(DC44:DE44,\"มผ\"),\"มผ\",IF(DE44=\"มผ\",\"มผ\",IF(DU44=\"ปกติ\",SUM(DC44:DD44,IF(DF44=\"\",DE44,DF44)),\"-\"))))","v":""},null,"",null,null,{"$f":"IF(ใส่ชื่อ!D39=\"\",\"\",IF(DG44=\"\",\"\",IF(COUNTIF(DC44:DJ44,\"มผ\"),\"มผ\",IF(COUNTIF(DC44:DJ44,\"-\"),\"-\",IF(DU44=\"ปกติ\",SUM(DG44,IF(DJ44=\"\",DI44,DJ44)))))))","v":""},null,null,null,{"$f":"ประเมินผลการเรียนเทอม1!DP44","v":""},{"$f":"IF(ใส่ชื่อ!A39=\"\",\"\",IF(DL44=\"-\",\"-\",IF(DL44=0,\"\",IF(DU44=\"ปกติ\",MAXA(DL44/2,DN44/2)))))","v":""},null,{"$f":"IF(เวลาเรียน!M46=\"\",\"\",IF(เวลาเรียน!M46=\"ย้าย\",\"-\",IF(เวลาเรียน!M46=\"จำหน่าย\",\"-\",IF(เวลาเรียน!M46=\"ขาดเรียนนาน\",\"-\",IF(DP44=\"\",\"\",IF(DQ44=\"\",\"\",SUM(DP44+DQ44)))))))","v":""},{"$f":"IF(เวลาเรียน!M46=\"\",\"\",IF(เวลาเรียน!M46=\"ย้าย\",\"-\",IF(เวลาเรียน!M46=\"จำหน่าย\",\"-\",IF(เวลาเรียน!M46=\"ขาดเรียนนาน\",\"-\",IF(เวลาเรียน!L46<80,\"มส\",IF(COUNTIF(DS44,\"-\"),\"-\",IF(COUNTIF(DS44,\"\"),\"\",VLOOKUP(DS44,$DW$19:$DY$26,3))))))))","v":""},{"$f":"IF(เวลาเรียน!M46=\"\",\"\",เวลาเรียน!M46)","v":""}]
[39,0,{"$f":"CONCATENATE(ใส่ชื่อ!C40)","v":""},{"$f":"CONCATENATE(ใส่ชื่อ!D40&ใส่ชื่อ!E40&\"  \"&ใส่ชื่อ!F40)","v":"  "},{"$f":"ใส่ชื่อ!A40","v":0},null,null,null,null,null,null,null,null,null,null,null,null,null,null,null,null,null,null,null,null,{"$f":"IF(ใส่ชื่อ!D40=\"\",\"\",IF(DU45=\"ปกติ\",SUM(F45,G45,H45,I45,J45,K45,L45,M45,N45,O45,P45,Q45,R45,S45,T45,U45,V45,W45,X45,Y45),\"-\"))","v":""},null,"",null,null,null,null,null,null,null,null,null,null,null,null,null,null,null,null,null,null,null,null,{"$f":"IF(ใส่ชื่อ!D40=\"\",\"\",IF(COUNTIF(AC45:AS45,0),\"มผ\",IF(DU45=\"ปกติ\",SUM(AC45,AD45,AE45,AF45,AG45,AH45,AI45,AJ45,AK45,AL45,AM45,AN45,AO45,AP45,AQ45,AR45,AS45),\"-\")))","v":""},null,"",null,null,null,null,null,null,null,null,null,null,null,null,null,null,null,{"$f":"IF(ใส่ชื่อ!D40=\"\",\"\",IF(COUNTIF(AZ45:BN45,0),\"มผ\",IF(DU45=\"ปกติ\",SUM(AZ45,BA45,BB45,BC45,BD45,BE45,BF45,BG45,BH45,BI45,BJ45,BK45,BL45,BM45,BN45),\"-\")))","v":""},null,"",null,null,null,null,null,null,null,null,null,null,null,null,null,null,null,{"$f":"IF(ใส่ชื่อ!D40=\"\",\"\",IF(DU45=\"ปกติ\",SUM(BR45,BS45,BT45,BU45,BV45,BW45,BX45,BY45,BZ45,CA45,CB45,CC45,CD45,CE45,CF45),\"-\"))","v":""},null,"",null,null,null,null,null,{"$f":"IF(ใส่ชื่อ!D40=\"\",\"\",IF(CJ45=\"\",\"\",(IF(CK45=\"\",\"\",(IF(CL45=\"\",\"\",(IF(CM45=\"\",\"\",(IF(CN45=\"\",\"\",(SUM(CJ45:CN45))))))))))))","v":""},"","",null,null,null,null,null,null,null,null,null,null,"","","","",null,{"$f":"IF(ใส่ชื่อ!D40=\"\",\"\",IF(COUNTIF(DC45:DE45,\"มผ\"),\"มผ\",IF(DE45=\"มผ\",\"มผ\",IF(DU45=\"ปกติ\",SUM(DC45:DD45,IF(DF45=\"\",DE45,DF45)),\"-\"))))","v":""},null,"",null,null,{"$f":"IF(ใส่ชื่อ!D40=\"\",\"\",IF(DG45=\"\",\"\",IF(COUNTIF(DC45:DJ45,\"มผ\"),\"มผ\",IF(COUNTIF(DC45:DJ45,\"-\"),\"-\",IF(DU45=\"ปกติ\",SUM(DG45,IF(DJ45=\"\",DI45,DJ45)))))))","v":""},null,null,null,{"$f":"ประเมินผลการเรียนเทอม1!DP45","v":""},{"$f":"IF(ใส่ชื่อ!A40=\"\",\"\",IF(DL45=\"-\",\"-\",IF(DL45=0,\"\",IF(DU45=\"ปกติ\",MAXA(DL45/2,DN45/2)))))","v":""},null,{"$f":"IF(เวลาเรียน!M47=\"\",\"\",IF(เวลาเรียน!M47=\"ย้าย\",\"-\",IF(เวลาเรียน!M47=\"จำหน่าย\",\"-\",IF(เวลาเรียน!M47=\"ขาดเรียนนาน\",\"-\",IF(DP45=\"\",\"\",IF(DQ45=\"\",\"\",SUM(DP45+DQ45)))))))","v":""},{"$f":"IF(เวลาเรียน!M47=\"\",\"\",IF(เวลาเรียน!M47=\"ย้าย\",\"-\",IF(เวลาเรียน!M47=\"จำหน่าย\",\"-\",IF(เวลาเรียน!M47=\"ขาดเรียนนาน\",\"-\",IF(เวลาเรียน!L47<80,\"มส\",IF(COUNTIF(DS45,\"-\"),\"-\",IF(COUNTIF(DS45,\"\"),\"\",VLOOKUP(DS45,$DW$19:$DY$26,3))))))))","v":""},{"$f":"IF(เวลาเรียน!M47=\"\",\"\",เวลาเรียน!M47)","v":""}]
[40,0,{"$f":"CONCATENATE(ใส่ชื่อ!C41)","v":""},{"$f":"CONCATENATE(ใส่ชื่อ!D41&ใส่ชื่อ!E41&\"  \"&ใส่ชื่อ!F41)","v":"  "},{"$f":"ใส่ชื่อ!A41","v":0},null,null,null,null,null,null,null,null,null,null,null,null,null,null,null,null,null,null,null,null,{"$f":"IF(ใส่ชื่อ!D41=\"\",\"\",IF(DU46=\"ปกติ\",SUM(F46,G46,H46,I46,J46,K46,L46,M46,N46,O46,P46,Q46,R46,S46,T46,U46,V46,W46,X46,Y46),\"-\"))","v":""},null,"",null,null,null,null,null,null,null,null,null,null,null,null,null,null,null,null,null,null,null,null,{"$f":"IF(ใส่ชื่อ!D41=\"\",\"\",IF(COUNTIF(AC46:AS46,0),\"มผ\",IF(DU46=\"ปกติ\",SUM(AC46,AD46,AE46,AF46,AG46,AH46,AI46,AJ46,AK46,AL46,AM46,AN46,AO46,AP46,AQ46,AR46,AS46),\"-\")))","v":""},null,"",null,null,null,null,null,null,null,null,null,null,null,null,null,null,null,{"$f":"IF(ใส่ชื่อ!D41=\"\",\"\",IF(COUNTIF(AZ46:BN46,0),\"มผ\",IF(DU46=\"ปกติ\",SUM(AZ46,BA46,BB46,BC46,BD46,BE46,BF46,BG46,BH46,BI46,BJ46,BK46,BL46,BM46,BN46),\"-\")))","v":""},null,"",null,null,null,null,null,null,null,null,null,null,null,null,null,null,null,{"$f":"IF(ใส่ชื่อ!D41=\"\",\"\",IF(DU46=\"ปกติ\",SUM(BR46,BS46,BT46,BU46,BV46,BW46,BX46,BY46,BZ46,CA46,CB46,CC46,CD46,CE46,CF46),\"-\"))","v":""},null,"",null,null,null,null,null,{"$f":"IF(ใส่ชื่อ!D41=\"\",\"\",IF(CJ46=\"\",\"\",(IF(CK46=\"\",\"\",(IF(CL46=\"\",\"\",(IF(CM46=\"\",\"\",(IF(CN46=\"\",\"\",(SUM(CJ46:CN46))))))))))))","v":""},"","",null,null,null,null,null,null,null,null,null,null,"","","","",null,{"$f":"IF(ใส่ชื่อ!D41=\"\",\"\",IF(COUNTIF(DC46:DE46,\"มผ\"),\"มผ\",IF(DE46=\"มผ\",\"มผ\",IF(DU46=\"ปกติ\",SUM(DC46:DD46,IF(DF46=\"\",DE46,DF46)),\"-\"))))","v":""},null,"",null,null,{"$f":"IF(ใส่ชื่อ!D41=\"\",\"\",IF(DG46=\"\",\"\",IF(COUNTIF(DC46:DJ46,\"มผ\"),\"มผ\",IF(COUNTIF(DC46:DJ46,\"-\"),\"-\",IF(DU46=\"ปกติ\",SUM(DG46,IF(DJ46=\"\",DI46,DJ46)))))))","v":""},null,null,null,{"$f":"ประเมินผลการเรียนเทอม1!DP46","v":""},{"$f":"IF(ใส่ชื่อ!A41=\"\",\"\",IF(DL46=\"-\",\"-\",IF(DL46=0,\"\",IF(DU46=\"ปกติ\",MAXA(DL46/2,DN46/2)))))","v":""},null,{"$f":"IF(เวลาเรียน!M48=\"\",\"\",IF(เวลาเรียน!M48=\"ย้าย\",\"-\",IF(เวลาเรียน!M48=\"จำหน่าย\",\"-\",IF(เวลาเรียน!M48=\"ขาดเรียนนาน\",\"-\",IF(DP46=\"\",\"\",IF(DQ46=\"\",\"\",SUM(DP46+DQ46)))))))","v":""},{"$f":"IF(เวลาเรียน!M48=\"\",\"\",IF(เวลาเรียน!M48=\"ย้าย\",\"-\",IF(เวลาเรียน!M48=\"จำหน่าย\",\"-\",IF(เวลาเรียน!M48=\"ขาดเรียนนาน\",\"-\",IF(เวลาเรียน!L48<80,\"มส\",IF(COUNTIF(DS46,\"-\"),\"-\",IF(COUNTIF(DS46,\"\"),\"\",VLOOKUP(DS46,$DW$19:$DY$26,3))))))))","v":""},{"$f":"IF(เวลาเรียน!M48=\"\",\"\",เวลาเรียน!M48)","v":""}]
[36,0,{"$f":"CONCATENATE(ใส่ชื่อ!C42)","v":""},{"$f":"CONCATENATE(ใส่ชื่อ!D42&ใส่ชื่อ!E42&\"  \"&ใส่ชื่อ!F42)","v":"  "},{"$f":"ใส่ชื่อ!A42","v":0},null,null,null,null,null,null,null,null,null,null,null,null,null,null,null,null,null,null,null,null,{"$f":"IF(ใส่ชื่อ!D42=\"\",\"\",IF(DU47=\"ปกติ\",SUM(F47,G47,H47,I47,J47,K47,L47,M47,N47,O47,P47,Q47,R47,S47,T47,U47,V47,W47,X47,Y47),\"-\"))","v":""},null,"",null,null,null,null,null,null,null,null,null,null,null,null,null,null,null,null,null,null,null,null,{"$f":"IF(ใส่ชื่อ!D42=\"\",\"\",IF(COUNTIF(AC47:AS47,0),\"มผ\",IF(DU47=\"ปกติ\",SUM(AC47,AD47,AE47,AF47,AG47,AH47,AI47,AJ47,AK47,AL47,AM47,AN47,AO47,AP47,AQ47,AR47,AS47),\"-\")))","v":""},null,"",null,null,null,null,null,null,null,null,null,null,null,null,null,null,null,{"$f":"IF(ใส่ชื่อ!D42=\"\",\"\",IF(COUNTIF(AZ47:BN47,0),\"มผ\",IF(DU47=\"ปกติ\",SUM(AZ47,BA47,BB47,BC47,BD47,BE47,BF47,BG47,BH47,BI47,BJ47,BK47,BL47,BM47,BN47),\"-\")))","v":""},null,"",null,null,null,null,null,null,null,null,null,null,null,null,null,null,null,{"$f":"IF(ใส่ชื่อ!D42=\"\",\"\",IF(DU47=\"ปกติ\",SUM(BR47,BS47,BT47,BU47,BV47,BW47,BX47,BY47,BZ47,CA47,CB47,CC47,CD47,CE47,CF47),\"-\"))","v":""},null,"",null,null,null,null,null,{"$f":"IF(ใส่ชื่อ!D42=\"\",\"\",IF(CJ47=\"\",\"\",(IF(CK47=\"\",\"\",(IF(CL47=\"\",\"\",(IF(CM47=\"\",\"\",(IF(CN47=\"\",\"\",(SUM(CJ47:CN47))))))))))))","v":""},"","",null,null,null,null,null,null,null,null,null,null,"","","","",null,{"$f":"IF(ใส่ชื่อ!D42=\"\",\"\",IF(COUNTIF(DC47:DE47,\"มผ\"),\"มผ\",IF(DE47=\"มผ\",\"มผ\",IF(DU47=\"ปกติ\",SUM(DC47:DD47,IF(DF47=\"\",DE47,DF47)),\"-\"))))","v":""},null,"",null,null,{"$f":"IF(ใส่ชื่อ!D42=\"\",\"\",IF(DG47=\"\",\"\",IF(COUNTIF(DC47:DJ47,\"มผ\"),\"มผ\",IF(COUNTIF(DC47:DJ47,\"-\"),\"-\",IF(DU47=\"ปกติ\",SUM(DG47,IF(DJ47=\"\",DI47,DJ47)))))))","v":""},null,null,null,{"$f":"ประเมินผลการเรียนเทอม1!DP47","v":""},{"$f":"IF(ใส่ชื่อ!A42=\"\",\"\",IF(DL47=\"-\",\"-\",IF(DL47=0,\"\",IF(DU47=\"ปกติ\",MAXA(DL47/2,DN47/2)))))","v":""},null,{"$f":"IF(เวลาเรียน!M49=\"\",\"\",IF(เวลาเรียน!M49=\"ย้าย\",\"-\",IF(เวลาเรียน!M49=\"จำหน่าย\",\"-\",IF(เวลาเรียน!M49=\"ขาดเรียนนาน\",\"-\",IF(DP47=\"\",\"\",IF(DQ47=\"\",\"\",SUM(DP47+DQ47)))))))","v":""},{"$f":"IF(เวลาเรียน!M49=\"\",\"\",IF(เวลาเรียน!M49=\"ย้าย\",\"-\",IF(เวลาเรียน!M49=\"จำหน่าย\",\"-\",IF(เวลาเรียน!M49=\"ขาดเรียนนาน\",\"-\",IF(เวลาเรียน!L49<80,\"มส\",IF(COUNTIF(DS47,\"-\"),\"-\",IF(COUNTIF(DS47,\"\"),\"\",VLOOKUP(DS47,$DW$19:$DY$26,3))))))))","v":""},{"$f":"IF(เวลาเรียน!M49=\"\",\"\",เวลาเรียน!M49)","v":""}]
[37,0,{"$f":"CONCATENATE(ใส่ชื่อ!C43)","v":""},{"$f":"CONCATENATE(ใส่ชื่อ!D43&ใส่ชื่อ!E43&\"  \"&ใส่ชื่อ!F43)","v":"  "},{"$f":"ใส่ชื่อ!A43","v":0},null,null,null,null,null,null,null,null,null,null,null,null,null,null,null,null,null,null,null,null,{"$f":"IF(ใส่ชื่อ!D43=\"\",\"\",IF(DU48=\"ปกติ\",SUM(F48,G48,H48,I48,J48,K48,L48,M48,N48,O48,P48,Q48,R48,S48,T48,U48,V48,W48,X48,Y48),\"-\"))","v":""},null,"",null,null,null,null,null,null,null,null,null,null,null,null,null,null,null,null,null,null,null,null,{"$f":"IF(ใส่ชื่อ!D43=\"\",\"\",IF(COUNTIF(AC48:AS48,0),\"มผ\",IF(DU48=\"ปกติ\",SUM(AC48,AD48,AE48,AF48,AG48,AH48,AI48,AJ48,AK48,AL48,AM48,AN48,AO48,AP48,AQ48,AR48,AS48),\"-\")))","v":""},null,"",null,null,null,null,null,null,null,null,null,null,null,null,null,null,null,{"$f":"IF(ใส่ชื่อ!D43=\"\",\"\",IF(COUNTIF(AZ48:BN48,0),\"มผ\",IF(DU48=\"ปกติ\",SUM(AZ48,BA48,BB48,BC48,BD48,BE48,BF48,BG48,BH48,BI48,BJ48,BK48,BL48,BM48,BN48),\"-\")))","v":""},null,"",null,null,null,null,null,null,null,null,null,null,null,null,null,null,null,{"$f":"IF(ใส่ชื่อ!D43=\"\",\"\",IF(DU48=\"ปกติ\",SUM(BR48,BS48,BT48,BU48,BV48,BW48,BX48,BY48,BZ48,CA48,CB48,CC48,CD48,CE48,CF48),\"-\"))","v":""},null,"",null,null,null,null,null,{"$f":"IF(ใส่ชื่อ!D43=\"\",\"\",IF(CJ48=\"\",\"\",(IF(CK48=\"\",\"\",(IF(CL48=\"\",\"\",(IF(CM48=\"\",\"\",(IF(CN48=\"\",\"\",(SUM(CJ48:CN48))))))))))))","v":""},"","",null,null,null,null,null,null,null,null,null,null,"","","","",null,{"$f":"IF(ใส่ชื่อ!D43=\"\",\"\",IF(COUNTIF(DC48:DE48,\"มผ\"),\"มผ\",IF(DE48=\"มผ\",\"มผ\",IF(DU48=\"ปกติ\",SUM(DC48:DD48,IF(DF48=\"\",DE48,DF48)),\"-\"))))","v":""},null,"",null,null,{"$f":"IF(ใส่ชื่อ!D43=\"\",\"\",IF(DG48=\"\",\"\",IF(COUNTIF(DC48:DJ48,\"มผ\"),\"มผ\",IF(COUNTIF(DC48:DJ48,\"-\"),\"-\",IF(DU48=\"ปกติ\",SUM(DG48,IF(DJ48=\"\",DI48,DJ48)))))))","v":""},null,null,null,{"$f":"ประเมินผลการเรียนเทอม1!DP48","v":""},{"$f":"IF(ใส่ชื่อ!A43=\"\",\"\",IF(DL48=\"-\",\"-\",IF(DL48=0,\"\",IF(DU48=\"ปกติ\",MAXA(DL48/2,DN48/2)))))","v":""},null,{"$f":"IF(เวลาเรียน!M50=\"\",\"\",IF(เวลาเรียน!M50=\"ย้าย\",\"-\",IF(เวลาเรียน!M50=\"จำหน่าย\",\"-\",IF(เวลาเรียน!M50=\"ขาดเรียนนาน\",\"-\",IF(DP48=\"\",\"\",IF(DQ48=\"\",\"\",SUM(DP48+DQ48)))))))","v":""},{"$f":"IF(เวลาเรียน!M50=\"\",\"\",IF(เวลาเรียน!M50=\"ย้าย\",\"-\",IF(เวลาเรียน!M50=\"จำหน่าย\",\"-\",IF(เวลาเรียน!M50=\"ขาดเรียนนาน\",\"-\",IF(เวลาเรียน!L50<80,\"มส\",IF(COUNTIF(DS48,\"-\"),\"-\",IF(COUNTIF(DS48,\"\"),\"\",VLOOKUP(DS48,$DW$19:$DY$26,3))))))))","v":""},{"$f":"IF(เวลาเรียน!M50=\"\",\"\",เวลาเรียน!M50)","v":""}]
[38,0,{"$f":"CONCATENATE(ใส่ชื่อ!C44)","v":""},{"$f":"CONCATENATE(ใส่ชื่อ!D44&ใส่ชื่อ!E44&\"  \"&ใส่ชื่อ!F44)","v":"  "},{"$f":"ใส่ชื่อ!A44","v":0},null,null,null,null,null,null,null,null,null,null,null,null,null,null,null,null,null,null,null,null,{"$f":"IF(ใส่ชื่อ!D44=\"\",\"\",IF(DU49=\"ปกติ\",SUM(F49,G49,H49,I49,J49,K49,L49,M49,N49,O49,P49,Q49,R49,S49,T49,U49,V49,W49,X49,Y49),\"-\"))","v":""},null,"",null,null,null,null,null,null,null,null,null,null,null,null,null,null,null,null,null,null,null,null,{"$f":"IF(ใส่ชื่อ!D44=\"\",\"\",IF(COUNTIF(AC49:AS49,0),\"มผ\",IF(DU49=\"ปกติ\",SUM(AC49,AD49,AE49,AF49,AG49,AH49,AI49,AJ49,AK49,AL49,AM49,AN49,AO49,AP49,AQ49,AR49,AS49),\"-\")))","v":""},null,"",null,null,null,null,null,null,null,null,null,null,null,null,null,null,null,{"$f":"IF(ใส่ชื่อ!D44=\"\",\"\",IF(COUNTIF(AZ49:BN49,0),\"มผ\",IF(DU49=\"ปกติ\",SUM(AZ49,BA49,BB49,BC49,BD49,BE49,BF49,BG49,BH49,BI49,BJ49,BK49,BL49,BM49,BN49),\"-\")))","v":""},null,"",null,null,null,null,null,null,null,null,null,null,null,null,null,null,null,{"$f":"IF(ใส่ชื่อ!D44=\"\",\"\",IF(DU49=\"ปกติ\",SUM(BR49,BS49,BT49,BU49,BV49,BW49,BX49,BY49,BZ49,CA49,CB49,CC49,CD49,CE49,CF49),\"-\"))","v":""},null,"",null,null,null,null,null,{"$f":"IF(ใส่ชื่อ!D44=\"\",\"\",IF(CJ49=\"\",\"\",(IF(CK49=\"\",\"\",(IF(CL49=\"\",\"\",(IF(CM49=\"\",\"\",(IF(CN49=\"\",\"\",(SUM(CJ49:CN49))))))))))))","v":""},"","",null,null,null,null,null,null,null,null,null,null,"","","","",null,{"$f":"IF(ใส่ชื่อ!D44=\"\",\"\",IF(COUNTIF(DC49:DE49,\"มผ\"),\"มผ\",IF(DE49=\"มผ\",\"มผ\",IF(DU49=\"ปกติ\",SUM(DC49:DD49,IF(DF49=\"\",DE49,DF49)),\"-\"))))","v":""},null,"",null,null,{"$f":"IF(ใส่ชื่อ!D44=\"\",\"\",IF(DG49=\"\",\"\",IF(COUNTIF(DC49:DJ49,\"มผ\"),\"มผ\",IF(COUNTIF(DC49:DJ49,\"-\"),\"-\",IF(DU49=\"ปกติ\",SUM(DG49,IF(DJ49=\"\",DI49,DJ49)))))))","v":""},null,null,null,{"$f":"ประเมินผลการเรียนเทอม1!DP49","v":""},{"$f":"IF(ใส่ชื่อ!A44=\"\",\"\",IF(DL49=\"-\",\"-\",IF(DL49=0,\"\",IF(DU49=\"ปกติ\",MAXA(DL49/2,DN49/2)))))","v":""},null,{"$f":"IF(เวลาเรียน!M51=\"\",\"\",IF(เวลาเรียน!M51=\"ย้าย\",\"-\",IF(เวลาเรียน!M51=\"จำหน่าย\",\"-\",IF(เวลาเรียน!M51=\"ขาดเรียนนาน\",\"-\",IF(DP49=\"\",\"\",IF(DQ49=\"\",\"\",SUM(DP49+DQ49)))))))","v":""},{"$f":"IF(เวลาเรียน!M51=\"\",\"\",IF(เวลาเรียน!M51=\"ย้าย\",\"-\",IF(เวลาเรียน!M51=\"จำหน่าย\",\"-\",IF(เวลาเรียน!M51=\"ขาดเรียนนาน\",\"-\",IF(เวลาเรียน!L51<80,\"มส\",IF(COUNTIF(DS49,\"-\"),\"-\",IF(COUNTIF(DS49,\"\"),\"\",VLOOKUP(DS49,$DW$19:$DY$26,3))))))))","v":""},{"$f":"IF(เวลาเรียน!M51=\"\",\"\",เวลาเรียน!M51)","v":""}]
[39,0,{"$f":"CONCATENATE(ใส่ชื่อ!C45)","v":""},{"$f":"CONCATENATE(ใส่ชื่อ!D45&ใส่ชื่อ!E45&\"  \"&ใส่ชื่อ!F45)","v":"  "},{"$f":"ใส่ชื่อ!A45","v":0},null,null,null,null,null,null,null,null,null,null,null,null,null,null,null,null,null,null,null,null,{"$f":"IF(ใส่ชื่อ!D45=\"\",\"\",IF(DU50=\"ปกติ\",SUM(F50,G50,H50,I50,J50,K50,L50,M50,N50,O50,P50,Q50,R50,S50,T50,U50,V50,W50,X50,Y50),\"-\"))","v":""},null,"",null,null,null,null,null,null,null,null,null,null,null,null,null,null,null,null,null,null,null,null,{"$f":"IF(ใส่ชื่อ!D45=\"\",\"\",IF(COUNTIF(AC50:AS50,0),\"มผ\",IF(DU50=\"ปกติ\",SUM(AC50,AD50,AE50,AF50,AG50,AH50,AI50,AJ50,AK50,AL50,AM50,AN50,AO50,AP50,AQ50,AR50,AS50),\"-\")))","v":""},null,"",null,null,null,null,null,null,null,null,null,null,null,null,null,null,null,{"$f":"IF(ใส่ชื่อ!D45=\"\",\"\",IF(COUNTIF(AZ50:BN50,0),\"มผ\",IF(DU50=\"ปกติ\",SUM(AZ50,BA50,BB50,BC50,BD50,BE50,BF50,BG50,BH50,BI50,BJ50,BK50,BL50,BM50,BN50),\"-\")))","v":""},null,"",null,null,null,null,null,null,null,null,null,null,null,null,null,null,null,{"$f":"IF(ใส่ชื่อ!D45=\"\",\"\",IF(DU50=\"ปกติ\",SUM(BR50,BS50,BT50,BU50,BV50,BW50,BX50,BY50,BZ50,CA50,CB50,CC50,CD50,CE50,CF50),\"-\"))","v":""},null,"",null,null,null,null,null,{"$f":"IF(ใส่ชื่อ!D45=\"\",\"\",IF(CJ50=\"\",\"\",(IF(CK50=\"\",\"\",(IF(CL50=\"\",\"\",(IF(CM50=\"\",\"\",(IF(CN50=\"\",\"\",(SUM(CJ50:CN50))))))))))))","v":""},"","",null,null,null,null,null,null,null,null,null,null,"","","","",null,{"$f":"IF(ใส่ชื่อ!D45=\"\",\"\",IF(COUNTIF(DC50:DE50,\"มผ\"),\"มผ\",IF(DE50=\"มผ\",\"มผ\",IF(DU50=\"ปกติ\",SUM(DC50:DD50,IF(DF50=\"\",DE50,DF50)),\"-\"))))","v":""},null,"",null,null,{"$f":"IF(ใส่ชื่อ!D45=\"\",\"\",IF(DG50=\"\",\"\",IF(COUNTIF(DC50:DJ50,\"มผ\"),\"มผ\",IF(COUNTIF(DC50:DJ50,\"-\"),\"-\",IF(DU50=\"ปกติ\",SUM(DG50,IF(DJ50=\"\",DI50,DJ50)))))))","v":""},null,null,null,{"$f":"ประเมินผลการเรียนเทอม1!DP50","v":""},{"$f":"IF(ใส่ชื่อ!A45=\"\",\"\",IF(DL50=\"-\",\"-\",IF(DL50=0,\"\",IF(DU50=\"ปกติ\",MAXA(DL50/2,DN50/2)))))","v":""},null,{"$f":"IF(เวลาเรียน!M52=\"\",\"\",IF(เวลาเรียน!M52=\"ย้าย\",\"-\",IF(เวลาเรียน!M52=\"จำหน่าย\",\"-\",IF(เวลาเรียน!M52=\"ขาดเรียนนาน\",\"-\",IF(DP50=\"\",\"\",IF(DQ50=\"\",\"\",SUM(DP50+DQ50)))))))","v":""},{"$f":"IF(เวลาเรียน!M52=\"\",\"\",IF(เวลาเรียน!M52=\"ย้าย\",\"-\",IF(เวลาเรียน!M52=\"จำหน่าย\",\"-\",IF(เวลาเรียน!M52=\"ขาดเรียนนาน\",\"-\",IF(เวลาเรียน!L52<80,\"มส\",IF(COUNTIF(DS50,\"-\"),\"-\",IF(COUNTIF(DS50,\"\"),\"\",VLOOKUP(DS50,$DW$19:$DY$26,3))))))))","v":""},{"$f":"IF(เวลาเรียน!M52=\"\",\"\",เวลาเรียน!M52)","v":""}]
[40,0,{"$f":"CONCATENATE(ใส่ชื่อ!C46)","v":""},{"$f":"CONCATENATE(ใส่ชื่อ!D46&ใส่ชื่อ!E46&\"  \"&ใส่ชื่อ!F46)","v":"  "},{"$f":"ใส่ชื่อ!A46","v":0},null,null,null,null,null,null,null,null,null,null,null,null,null,null,null,null,null,null,null,null,{"$f":"IF(ใส่ชื่อ!D46=\"\",\"\",IF(DU51=\"ปกติ\",SUM(F51,G51,H51,I51,J51,K51,L51,M51,N51,O51,P51,Q51,R51,S51,T51,U51,V51,W51,X51,Y51),\"-\"))","v":""},null,"",null,null,null,null,null,null,null,null,null,null,null,null,null,null,null,null,null,null,null,null,{"$f":"IF(ใส่ชื่อ!D46=\"\",\"\",IF(COUNTIF(AC51:AS51,0),\"มผ\",IF(DU51=\"ปกติ\",SUM(AC51,AD51,AE51,AF51,AG51,AH51,AI51,AJ51,AK51,AL51,AM51,AN51,AO51,AP51,AQ51,AR51,AS51),\"-\")))","v":""},null,"",null,null,null,null,null,null,null,null,null,null,null,null,null,null,null,{"$f":"IF(ใส่ชื่อ!D46=\"\",\"\",IF(COUNTIF(AZ51:BN51,0),\"มผ\",IF(DU51=\"ปกติ\",SUM(AZ51,BA51,BB51,BC51,BD51,BE51,BF51,BG51,BH51,BI51,BJ51,BK51,BL51,BM51,BN51),\"-\")))","v":""},null,"",null,null,null,null,null,null,null,null,null,null,null,null,null,null,null,{"$f":"IF(ใส่ชื่อ!D46=\"\",\"\",IF(DU51=\"ปกติ\",SUM(BR51,BS51,BT51,BU51,BV51,BW51,BX51,BY51,BZ51,CA51,CB51,CC51,CD51,CE51,CF51),\"-\"))","v":""},null,"",null,null,null,null,null,{"$f":"IF(ใส่ชื่อ!D46=\"\",\"\",IF(CJ51=\"\",\"\",(IF(CK51=\"\",\"\",(IF(CL51=\"\",\"\",(IF(CM51=\"\",\"\",(IF(CN51=\"\",\"\",(SUM(CJ51:CN51))))))))))))","v":""},"","",null,null,null,null,null,null,null,null,null,null,"","","","",null,{"$f":"IF(ใส่ชื่อ!D46=\"\",\"\",IF(COUNTIF(DC51:DE51,\"มผ\"),\"มผ\",IF(DE51=\"มผ\",\"มผ\",IF(DU51=\"ปกติ\",SUM(DC51:DD51,IF(DF51=\"\",DE51,DF51)),\"-\"))))","v":""},null,"",null,null,{"$f":"IF(ใส่ชื่อ!D46=\"\",\"\",IF(DG51=\"\",\"\",IF(COUNTIF(DC51:DJ51,\"มผ\"),\"มผ\",IF(COUNTIF(DC51:DJ51,\"-\"),\"-\",IF(DU51=\"ปกติ\",SUM(DG51,IF(DJ51=\"\",DI51,DJ51)))))))","v":""},null,null,null,{"$f":"ประเมินผลการเรียนเทอม1!DP51","v":""},{"$f":"IF(ใส่ชื่อ!A46=\"\",\"\",IF(DL51=\"-\",\"-\",IF(DL51=0,\"\",IF(DU51=\"ปกติ\",MAXA(DL51/2,DN51/2)))))","v":""},null,{"$f":"IF(เวลาเรียน!M53=\"\",\"\",IF(เวลาเรียน!M53=\"ย้าย\",\"-\",IF(เวลาเรียน!M53=\"จำหน่าย\",\"-\",IF(เวลาเรียน!M53=\"ขาดเรียนนาน\",\"-\",IF(DP51=\"\",\"\",IF(DQ51=\"\",\"\",SUM(DP51+DQ51)))))))","v":""},{"$f":"IF(เวลาเรียน!M53=\"\",\"\",IF(เวลาเรียน!M53=\"ย้าย\",\"-\",IF(เวลาเรียน!M53=\"จำหน่าย\",\"-\",IF(เวลาเรียน!M53=\"ขาดเรียนนาน\",\"-\",IF(เวลาเรียน!L53<80,\"มส\",IF(COUNTIF(DS51,\"-\"),\"-\",IF(COUNTIF(DS51,\"\"),\"\",VLOOKUP(DS51,$DW$19:$DY$26,3))))))))","v":""},{"$f":"IF(เวลาเรียน!M53=\"\",\"\",เวลาเรียน!M53)","v":""}]
[36,0,{"$f":"CONCATENATE(ใส่ชื่อ!C47)","v":""},{"$f":"CONCATENATE(ใส่ชื่อ!D47&ใส่ชื่อ!E47&\"  \"&ใส่ชื่อ!F47)","v":"  "},{"$f":"ใส่ชื่อ!A47","v":0},null,null,null,null,null,null,null,null,null,null,null,null,null,null,null,null,null,null,null,null,{"$f":"IF(ใส่ชื่อ!D47=\"\",\"\",IF(DU52=\"ปกติ\",SUM(F52,G52,H52,I52,J52,K52,L52,M52,N52,O52,P52,Q52,R52,S52,T52,U52,V52,W52,X52,Y52),\"-\"))","v":""},null,"",null,null,null,null,null,null,null,null,null,null,null,null,null,null,null,null,null,null,null,null,{"$f":"IF(ใส่ชื่อ!D47=\"\",\"\",IF(COUNTIF(AC52:AS52,0),\"มผ\",IF(DU52=\"ปกติ\",SUM(AC52,AD52,AE52,AF52,AG52,AH52,AI52,AJ52,AK52,AL52,AM52,AN52,AO52,AP52,AQ52,AR52,AS52),\"-\")))","v":""},null,"",null,null,null,null,null,null,null,null,null,null,null,null,null,null,null,{"$f":"IF(ใส่ชื่อ!D47=\"\",\"\",IF(COUNTIF(AZ52:BN52,0),\"มผ\",IF(DU52=\"ปกติ\",SUM(AZ52,BA52,BB52,BC52,BD52,BE52,BF52,BG52,BH52,BI52,BJ52,BK52,BL52,BM52,BN52),\"-\")))","v":""},null,"",null,null,null,null,null,null,null,null,null,null,null,null,null,null,null,{"$f":"IF(ใส่ชื่อ!D47=\"\",\"\",IF(DU52=\"ปกติ\",SUM(BR52,BS52,BT52,BU52,BV52,BW52,BX52,BY52,BZ52,CA52,CB52,CC52,CD52,CE52,CF52),\"-\"))","v":""},null,"",null,null,null,null,null,{"$f":"IF(ใส่ชื่อ!D47=\"\",\"\",IF(CJ52=\"\",\"\",(IF(CK52=\"\",\"\",(IF(CL52=\"\",\"\",(IF(CM52=\"\",\"\",(IF(CN52=\"\",\"\",(SUM(CJ52:CN52))))))))))))","v":""},"","",null,null,null,null,null,null,null,null,null,null,"","","","",null,{"$f":"IF(ใส่ชื่อ!D47=\"\",\"\",IF(COUNTIF(DC52:DE52,\"มผ\"),\"มผ\",IF(DE52=\"มผ\",\"มผ\",IF(DU52=\"ปกติ\",SUM(DC52:DD52,IF(DF52=\"\",DE52,DF52)),\"-\"))))","v":""},null,"",null,null,{"$f":"IF(ใส่ชื่อ!D47=\"\",\"\",IF(DG52=\"\",\"\",IF(COUNTIF(DC52:DJ52,\"มผ\"),\"มผ\",IF(COUNTIF(DC52:DJ52,\"-\"),\"-\",IF(DU52=\"ปกติ\",SUM(DG52,IF(DJ52=\"\",DI52,DJ52)))))))","v":""},null,null,null,{"$f":"ประเมินผลการเรียนเทอม1!DP52","v":""},{"$f":"IF(ใส่ชื่อ!A47=\"\",\"\",IF(DL52=\"-\",\"-\",IF(DL52=0,\"\",IF(DU52=\"ปกติ\",MAXA(DL52/2,DN52/2)))))","v":""},null,{"$f":"IF(เวลาเรียน!M54=\"\",\"\",IF(เวลาเรียน!M54=\"ย้าย\",\"-\",IF(เวลาเรียน!M54=\"จำหน่าย\",\"-\",IF(เวลาเรียน!M54=\"ขาดเรียนนาน\",\"-\",IF(DP52=\"\",\"\",IF(DQ52=\"\",\"\",SUM(DP52+DQ52)))))))","v":""},{"$f":"IF(เวลาเรียน!M54=\"\",\"\",IF(เวลาเรียน!M54=\"ย้าย\",\"-\",IF(เวลาเรียน!M54=\"จำหน่าย\",\"-\",IF(เวลาเรียน!M54=\"ขาดเรียนนาน\",\"-\",IF(เวลาเรียน!L54<80,\"มส\",IF(COUNTIF(DS52,\"-\"),\"-\",IF(COUNTIF(DS52,\"\"),\"\",VLOOKUP(DS52,$DW$19:$DY$26,3))))))))","v":""},{"$f":"IF(เวลาเรียน!M54=\"\",\"\",เวลาเรียน!M54)","v":""}]
[37,0,{"$f":"CONCATENATE(ใส่ชื่อ!C48)","v":""},{"$f":"CONCATENATE(ใส่ชื่อ!D48&ใส่ชื่อ!E48&\"  \"&ใส่ชื่อ!F48)","v":"  "},{"$f":"ใส่ชื่อ!A48","v":0},null,null,null,null,null,null,null,null,null,null,null,null,null,null,null,null,null,null,null,null,{"$f":"IF(ใส่ชื่อ!D48=\"\",\"\",IF(DU53=\"ปกติ\",SUM(F53,G53,H53,I53,J53,K53,L53,M53,N53,O53,P53,Q53,R53,S53,T53,U53,V53,W53,X53,Y53),\"-\"))","v":""},null,"",null,null,null,null,null,null,null,null,null,null,null,null,null,null,null,null,null,null,null,null,{"$f":"IF(ใส่ชื่อ!D48=\"\",\"\",IF(COUNTIF(AC53:AS53,0),\"มผ\",IF(DU53=\"ปกติ\",SUM(AC53,AD53,AE53,AF53,AG53,AH53,AI53,AJ53,AK53,AL53,AM53,AN53,AO53,AP53,AQ53,AR53,AS53),\"-\")))","v":""},null,"",null,null,null,null,null,null,null,null,null,null,null,null,null,null,null,{"$f":"IF(ใส่ชื่อ!D48=\"\",\"\",IF(COUNTIF(AZ53:BN53,0),\"มผ\",IF(DU53=\"ปกติ\",SUM(AZ53,BA53,BB53,BC53,BD53,BE53,BF53,BG53,BH53,BI53,BJ53,BK53,BL53,BM53,BN53),\"-\")))","v":""},null,"",null,null,null,null,null,null,null,null,null,null,null,null,null,null,null,{"$f":"IF(ใส่ชื่อ!D48=\"\",\"\",IF(DU53=\"ปกติ\",SUM(BR53,BS53,BT53,BU53,BV53,BW53,BX53,BY53,BZ53,CA53,CB53,CC53,CD53,CE53,CF53),\"-\"))","v":""},null,"",null,null,null,null,null,{"$f":"IF(ใส่ชื่อ!D48=\"\",\"\",IF(CJ53=\"\",\"\",(IF(CK53=\"\",\"\",(IF(CL53=\"\",\"\",(IF(CM53=\"\",\"\",(IF(CN53=\"\",\"\",(SUM(CJ53:CN53))))))))))))","v":""},"","",null,null,null,null,null,null,null,null,null,null,"","","","",null,{"$f":"IF(ใส่ชื่อ!D48=\"\",\"\",IF(COUNTIF(DC53:DE53,\"มผ\"),\"มผ\",IF(DE53=\"มผ\",\"มผ\",IF(DU53=\"ปกติ\",SUM(DC53:DD53,IF(DF53=\"\",DE53,DF53)),\"-\"))))","v":""},null,"",null,null,{"$f":"IF(ใส่ชื่อ!D48=\"\",\"\",IF(DG53=\"\",\"\",IF(COUNTIF(DC53:DJ53,\"มผ\"),\"มผ\",IF(COUNTIF(DC53:DJ53,\"-\"),\"-\",IF(DU53=\"ปกติ\",SUM(DG53,IF(DJ53=\"\",DI53,DJ53)))))))","v":""},null,null,null,{"$f":"ประเมินผลการเรียนเทอม1!DP53","v":""},{"$f":"IF(ใส่ชื่อ!A48=\"\",\"\",IF(DL53=\"-\",\"-\",IF(DL53=0,\"\",IF(DU53=\"ปกติ\",MAXA(DL53/2,DN53/2)))))","v":""},null,{"$f":"IF(เวลาเรียน!M55=\"\",\"\",IF(เวลาเรียน!M55=\"ย้าย\",\"-\",IF(เวลาเรียน!M55=\"จำหน่าย\",\"-\",IF(เวลาเรียน!M55=\"ขาดเรียนนาน\",\"-\",IF(DP53=\"\",\"\",IF(DQ53=\"\",\"\",SUM(DP53+DQ53)))))))","v":""},{"$f":"IF(เวลาเรียน!M55=\"\",\"\",IF(เวลาเรียน!M55=\"ย้าย\",\"-\",IF(เวลาเรียน!M55=\"จำหน่าย\",\"-\",IF(เวลาเรียน!M55=\"ขาดเรียนนาน\",\"-\",IF(เวลาเรียน!L55<80,\"มส\",IF(COUNTIF(DS53,\"-\"),\"-\",IF(COUNTIF(DS53,\"\"),\"\",VLOOKUP(DS53,$DW$19:$DY$26,3))))))))","v":""},{"$f":"IF(เวลาเรียน!M55=\"\",\"\",เวลาเรียน!M55)","v":""}]
[38,0,{"$f":"CONCATENATE(ใส่ชื่อ!C49)","v":""},{"$f":"CONCATENATE(ใส่ชื่อ!D49&ใส่ชื่อ!E49&\"  \"&ใส่ชื่อ!F49)","v":"  "},{"$f":"ใส่ชื่อ!A49","v":0},null,null,null,null,null,null,null,null,null,null,null,null,null,null,null,null,null,null,null,null,{"$f":"IF(ใส่ชื่อ!D49=\"\",\"\",IF(DU54=\"ปกติ\",SUM(F54,G54,H54,I54,J54,K54,L54,M54,N54,O54,P54,Q54,R54,S54,T54,U54,V54,W54,X54,Y54),\"-\"))","v":""},null,"",null,null,null,null,null,null,null,null,null,null,null,null,null,null,null,null,null,null,null,null,{"$f":"IF(ใส่ชื่อ!D49=\"\",\"\",IF(COUNTIF(AC54:AS54,0),\"มผ\",IF(DU54=\"ปกติ\",SUM(AC54,AD54,AE54,AF54,AG54,AH54,AI54,AJ54,AK54,AL54,AM54,AN54,AO54,AP54,AQ54,AR54,AS54),\"-\")))","v":""},null,"",null,null,null,null,null,null,null,null,null,null,null,null,null,null,null,{"$f":"IF(ใส่ชื่อ!D49=\"\",\"\",IF(COUNTIF(AZ54:BN54,0),\"มผ\",IF(DU54=\"ปกติ\",SUM(AZ54,BA54,BB54,BC54,BD54,BE54,BF54,BG54,BH54,BI54,BJ54,BK54,BL54,BM54,BN54),\"-\")))","v":""},null,"",null,null,null,null,null,null,null,null,null,null,null,null,null,null,null,{"$f":"IF(ใส่ชื่อ!D49=\"\",\"\",IF(DU54=\"ปกติ\",SUM(BR54,BS54,BT54,BU54,BV54,BW54,BX54,BY54,BZ54,CA54,CB54,CC54,CD54,CE54,CF54),\"-\"))","v":""},null,"",null,null,null,null,null,{"$f":"IF(ใส่ชื่อ!D49=\"\",\"\",IF(CJ54=\"\",\"\",(IF(CK54=\"\",\"\",(IF(CL54=\"\",\"\",(IF(CM54=\"\",\"\",(IF(CN54=\"\",\"\",(SUM(CJ54:CN54))))))))))))","v":""},"","",null,null,null,null,null,null,null,null,null,null,"","","","",null,{"$f":"IF(ใส่ชื่อ!D49=\"\",\"\",IF(COUNTIF(DC54:DE54,\"มผ\"),\"มผ\",IF(DE54=\"มผ\",\"มผ\",IF(DU54=\"ปกติ\",SUM(DC54:DD54,IF(DF54=\"\",DE54,DF54)),\"-\"))))","v":""},null,"",null,null,{"$f":"IF(ใส่ชื่อ!D49=\"\",\"\",IF(DG54=\"\",\"\",IF(COUNTIF(DC54:DJ54,\"มผ\"),\"มผ\",IF(COUNTIF(DC54:DJ54,\"-\"),\"-\",IF(DU54=\"ปกติ\",SUM(DG54,IF(DJ54=\"\",DI54,DJ54)))))))","v":""},null,null,null,{"$f":"ประเมินผลการเรียนเทอม1!DP54","v":""},{"$f":"IF(ใส่ชื่อ!A49=\"\",\"\",IF(DL54=\"-\",\"-\",IF(DL54=0,\"\",IF(DU54=\"ปกติ\",MAXA(DL54/2,DN54/2)))))","v":""},null,{"$f":"IF(เวลาเรียน!M56=\"\",\"\",IF(เวลาเรียน!M56=\"ย้าย\",\"-\",IF(เวลาเรียน!M56=\"จำหน่าย\",\"-\",IF(เวลาเรียน!M56=\"ขาดเรียนนาน\",\"-\",IF(DP54=\"\",\"\",IF(DQ54=\"\",\"\",SUM(DP54+DQ54)))))))","v":""},{"$f":"IF(เวลาเรียน!M56=\"\",\"\",IF(เวลาเรียน!M56=\"ย้าย\",\"-\",IF(เวลาเรียน!M56=\"จำหน่าย\",\"-\",IF(เวลาเรียน!M56=\"ขาดเรียนนาน\",\"-\",IF(เวลาเรียน!L56<80,\"มส\",IF(COUNTIF(DS54,\"-\"),\"-\",IF(COUNTIF(DS54,\"\"),\"\",VLOOKUP(DS54,$DW$19:$DY$26,3))))))))","v":""},{"$f":"IF(เวลาเรียน!M56=\"\",\"\",เวลาเรียน!M56)","v":""}]
[39,0,{"$f":"CONCATENATE(ใส่ชื่อ!C50)","v":""},{"$f":"CONCATENATE(ใส่ชื่อ!D50&ใส่ชื่อ!E50&\"  \"&ใส่ชื่อ!F50)","v":"  "},{"$f":"ใส่ชื่อ!A50","v":0},null,null,null,null,null,null,null,null,null,null,null,null,null,null,null,null,null,null,null,null,{"$f":"IF(ใส่ชื่อ!D50=\"\",\"\",IF(DU55=\"ปกติ\",SUM(F55,G55,H55,I55,J55,K55,L55,M55,N55,O55,P55,Q55,R55,S55,T55,U55,V55,W55,X55,Y55),\"-\"))","v":""},null,"",null,null,null,null,null,null,null,null,null,null,null,null,null,null,null,null,null,null,null,null,{"$f":"IF(ใส่ชื่อ!D50=\"\",\"\",IF(COUNTIF(AC55:AS55,0),\"มผ\",IF(DU55=\"ปกติ\",SUM(AC55,AD55,AE55,AF55,AG55,AH55,AI55,AJ55,AK55,AL55,AM55,AN55,AO55,AP55,AQ55,AR55,AS55),\"-\")))","v":""},null,"",null,null,null,null,null,null,null,null,null,null,null,null,null,null,null,{"$f":"IF(ใส่ชื่อ!D50=\"\",\"\",IF(COUNTIF(AZ55:BN55,0),\"มผ\",IF(DU55=\"ปกติ\",SUM(AZ55,BA55,BB55,BC55,BD55,BE55,BF55,BG55,BH55,BI55,BJ55,BK55,BL55,BM55,BN55),\"-\")))","v":""},null,"",null,null,null,null,null,null,null,null,null,null,null,null,null,null,null,{"$f":"IF(ใส่ชื่อ!D50=\"\",\"\",IF(DU55=\"ปกติ\",SUM(BR55,BS55,BT55,BU55,BV55,BW55,BX55,BY55,BZ55,CA55,CB55,CC55,CD55,CE55,CF55),\"-\"))","v":""},null,"",null,null,null,null,null,{"$f":"IF(ใส่ชื่อ!D50=\"\",\"\",IF(CJ55=\"\",\"\",(IF(CK55=\"\",\"\",(IF(CL55=\"\",\"\",(IF(CM55=\"\",\"\",(IF(CN55=\"\",\"\",(SUM(CJ55:CN55))))))))))))","v":""},"","",null,null,null,null,null,null,null,null,null,null,"","","","",null,{"$f":"IF(ใส่ชื่อ!D50=\"\",\"\",IF(COUNTIF(DC55:DE55,\"มผ\"),\"มผ\",IF(DE55=\"มผ\",\"มผ\",IF(DU55=\"ปกติ\",SUM(DC55:DD55,IF(DF55=\"\",DE55,DF55)),\"-\"))))","v":""},null,"",null,null,{"$f":"IF(ใส่ชื่อ!D50=\"\",\"\",IF(DG55=\"\",\"\",IF(COUNTIF(DC55:DJ55,\"มผ\"),\"มผ\",IF(COUNTIF(DC55:DJ55,\"-\"),\"-\",IF(DU55=\"ปกติ\",SUM(DG55,IF(DJ55=\"\",DI55,DJ55)))))))","v":""},null,null,null,{"$f":"ประเมินผลการเรียนเทอม1!DP55","v":""},{"$f":"IF(ใส่ชื่อ!A50=\"\",\"\",IF(DL55=\"-\",\"-\",IF(DL55=0,\"\",IF(DU55=\"ปกติ\",MAXA(DL55/2,DN55/2)))))","v":""},null,{"$f":"IF(เวลาเรียน!M57=\"\",\"\",IF(เวลาเรียน!M57=\"ย้าย\",\"-\",IF(เวลาเรียน!M57=\"จำหน่าย\",\"-\",IF(เวลาเรียน!M57=\"ขาดเรียนนาน\",\"-\",IF(DP55=\"\",\"\",IF(DQ55=\"\",\"\",SUM(DP55+DQ55)))))))","v":""},{"$f":"IF(เวลาเรียน!M57=\"\",\"\",IF(เวลาเรียน!M57=\"ย้าย\",\"-\",IF(เวลาเรียน!M57=\"จำหน่าย\",\"-\",IF(เวลาเรียน!M57=\"ขาดเรียนนาน\",\"-\",IF(เวลาเรียน!L57<80,\"มส\",IF(COUNTIF(DS55,\"-\"),\"-\",IF(COUNTIF(DS55,\"\"),\"\",VLOOKUP(DS55,$DW$19:$DY$26,3))))))))","v":""},{"$f":"IF(เวลาเรียน!M57=\"\",\"\",เวลาเรียน!M57)","v":""}]
[40,0,{"$f":"CONCATENATE(ใส่ชื่อ!C51)","v":""},{"$f":"CONCATENATE(ใส่ชื่อ!D51&ใส่ชื่อ!E51&\"  \"&ใส่ชื่อ!F51)","v":"  "},{"$f":"ใส่ชื่อ!A51","v":0},null,null,null,null,null,null,null,null,null,null,null,null,null,null,null,null,null,null,null,null,{"$f":"IF(ใส่ชื่อ!D51=\"\",\"\",IF(DU56=\"ปกติ\",SUM(F56,G56,H56,I56,J56,K56,L56,M56,N56,O56,P56,Q56,R56,S56,T56,U56,V56,W56,X56,Y56),\"-\"))","v":""},null,"",null,null,null,null,null,null,null,null,null,null,null,null,null,null,null,null,null,null,null,null,{"$f":"IF(ใส่ชื่อ!D51=\"\",\"\",IF(COUNTIF(AC56:AS56,0),\"มผ\",IF(DU56=\"ปกติ\",SUM(AC56,AD56,AE56,AF56,AG56,AH56,AI56,AJ56,AK56,AL56,AM56,AN56,AO56,AP56,AQ56,AR56,AS56),\"-\")))","v":""},null,"",null,null,null,null,null,null,null,null,null,null,null,null,null,null,null,{"$f":"IF(ใส่ชื่อ!D51=\"\",\"\",IF(COUNTIF(AZ56:BN56,0),\"มผ\",IF(DU56=\"ปกติ\",SUM(AZ56,BA56,BB56,BC56,BD56,BE56,BF56,BG56,BH56,BI56,BJ56,BK56,BL56,BM56,BN56),\"-\")))","v":""},null,"",null,null,null,null,null,null,null,null,null,null,null,null,null,null,null,{"$f":"IF(ใส่ชื่อ!D51=\"\",\"\",IF(DU56=\"ปกติ\",SUM(BR56,BS56,BT56,BU56,BV56,BW56,BX56,BY56,BZ56,CA56,CB56,CC56,CD56,CE56,CF56),\"-\"))","v":""},null,"",null,null,null,null,null,{"$f":"IF(ใส่ชื่อ!D51=\"\",\"\",IF(CJ56=\"\",\"\",(IF(CK56=\"\",\"\",(IF(CL56=\"\",\"\",(IF(CM56=\"\",\"\",(IF(CN56=\"\",\"\",(SUM(CJ56:CN56))))))))))))","v":""},"","",null,null,null,null,null,null,null,null,null,null,"","","","",null,{"$f":"IF(ใส่ชื่อ!D51=\"\",\"\",IF(COUNTIF(DC56:DE56,\"มผ\"),\"มผ\",IF(DE56=\"มผ\",\"มผ\",IF(DU56=\"ปกติ\",SUM(DC56:DD56,IF(DF56=\"\",DE56,DF56)),\"-\"))))","v":""},null,"",null,null,{"$f":"IF(ใส่ชื่อ!D51=\"\",\"\",IF(DG56=\"\",\"\",IF(COUNTIF(DC56:DJ56,\"มผ\"),\"มผ\",IF(COUNTIF(DC56:DJ56,\"-\"),\"-\",IF(DU56=\"ปกติ\",SUM(DG56,IF(DJ56=\"\",DI56,DJ56)))))))","v":""},null,null,null,{"$f":"ประเมินผลการเรียนเทอม1!DP56","v":""},{"$f":"IF(ใส่ชื่อ!A51=\"\",\"\",IF(DL56=\"-\",\"-\",IF(DL56=0,\"\",IF(DU56=\"ปกติ\",MAXA(DL56/2,DN56/2)))))","v":""},null,{"$f":"IF(เวลาเรียน!M58=\"\",\"\",IF(เวลาเรียน!M58=\"ย้าย\",\"-\",IF(เวลาเรียน!M58=\"จำหน่าย\",\"-\",IF(เวลาเรียน!M58=\"ขาดเรียนนาน\",\"-\",IF(DP56=\"\",\"\",IF(DQ56=\"\",\"\",SUM(DP56+DQ56)))))))","v":""},{"$f":"IF(เวลาเรียน!M58=\"\",\"\",IF(เวลาเรียน!M58=\"ย้าย\",\"-\",IF(เวลาเรียน!M58=\"จำหน่าย\",\"-\",IF(เวลาเรียน!M58=\"ขาดเรียนนาน\",\"-\",IF(เวลาเรียน!L58<80,\"มส\",IF(COUNTIF(DS56,\"-\"),\"-\",IF(COUNTIF(DS56,\"\"),\"\",VLOOKUP(DS56,$DW$19:$DY$26,3))))))))","v":""},{"$f":"IF(เวลาเรียน!M58=\"\",\"\",เวลาเรียน!M58)","v":""}]
[null,null,{"$f":"กำหนดอัตราส่วนคะแนน!U4","v":50},null,null,null,null,null,null,null,null,null,null,null,null,null,null,null,null,null,null,null,null,null,null,null,null,null,null,null,null,null,null,null,null,null,null,null,null,null,null,null,null,null,null,null,null,null,null,null,null,null,null,null,null,null,null,null,null,null,null,null,null,null,null,null,null,null,null,null,null,null,null,null,null,null,null,null,null,null,null,null,null,null,null,null,null,{"$f":"COUNTIF($CQ$7:$CQ$56,\"ดย\")","v":17},{"$f":"COUNTIF($CQ$7:$CQ$56,\"ด\")","v":3},{"$f":"COUNTIF($CQ$7:$CQ$56,\"ผ\")","v":0},{"$f":"COUNTIF($CQ$7:$CQ$56,\"มผ\")","v":0},null,null,null,null,{"$f":"COUNTIF($DB$7:$DB$56,\"ดย\")","v":17},{"$f":"COUNTIF($DB$7:$DB$56,\"ด\")","v":3},{"$f":"COUNTIF($DB$7:$DB$56,\"ผ\")","v":0},{"$f":"COUNTIF($DB$7:$DB$56,\"มผ\")","v":0},null,null,null,null,null,null,null,null,null,null,null,null,null,null,null,null,null,null,null,null,null,null,null,null,null,null,null,null,null,null,null,null,null,null,null,null,null,null,null,null,null,null,null,null,{"$f":"กำหนดอัตราส่วนคะแนน!FA4","v":0},null,null,null,null,null,null,null,null,null,null,null,null,null,null,null,null,null,null,null,null,null,null,null,null,null,null,null,null,null,null,null,null,null,null,null,null,null,null,null,null,null,null,null,null,null,null,null,null,null,null,null,null,null,null,null,null,null,null,null,null,null,null,null,null,null,null,null,null,null,null,null,null,null,null,null,null,null,null,null,null,null,null,null,null,{"$f":"COUNTIF($CQ$7:$CQ$56,\"3\")","v":0},{"$f":"COUNTIF($CQ$7:$CQ$56,\"2\")","v":0},{"$f":"COUNTIF($CQ$7:$CQ$56,\"1\")","v":0},{"$f":"COUNTIF($CQ$7:$CQ$56,\"0\")","v":0},null,null,null,null,{"$f":"COUNTIF($DB$7:$DB$56,\"3\")","v":0},{"$f":"COUNTIF($DB$7:$DB$56,\"2\")","v":0},{"$f":"COUNTIF($DB$7:$DB$56,\"1\")","v":0},{"$f":"COUNTIF($DB$7:$DB$56,\"0\")","v":0}]
[]
[]
[]
[null,null,null,null,null,null,null,null,null,null,null,null,null,null,null,null,null,null,null,null,null,null,null,null,null,null,null,null,null,null,null,null,null,null,null,null,null,null,null,null,null,null,null,null,null,null,null,null,null,null,null,null,null,null,null,null,null,null,null,null,null,null,null,null,null,null,null,null,null,"ตอนที่",null,"ป.1/1",null,1]
[null,null,null,null,null,null,null,null,null,null,null,null,null,null,null,null,null,null,null,null,null,null,null,null,null,null,null,null,null,null,null,null,null,null,null,null,null,null,null,null,null,null,null,null,null,null,null,null,null,null,null,null,null,null,null,null,null,null,null,null,null,null,null,null,null,null,null,null,null,"ท 1.1",null,"ป.1/2",null,2]
[null,null,null,null,null,null,null,null,null,null,null,null,null,null,null,null,null,null,null,null,null,null,null,null,null,null,null,null,null,null,null,null,null,null,null,null,null,null,null,null,null,null,null,null,null,null,null,null,null,null,null,null,null,null,null,null,null,null,null,null,null,null,null,null,null,null,null,null,null,"ท 2.1",null,"ป.1/3",null,3]
[null,null,null,null,null,null,null,null,null,null,null,null,null,null,null,null,null,null,null,null,null,null,null,null,null,null,null,null,null,null,null,null,null,null,null,null,null,null,null,null,null,null,null,null,null,null,null,null,null,null,null,null,null,null,null,null,null,null,null,null,null,null,null,null,null,null,null,null,null,"ท 3.1",null,"ป.1/4",null,4]
[null,null,null,null,null,null,null,null,null,null,null,null,null,null,null,null,null,null,null,null,null,null,null,null,null,null,null,null,null,null,null,null,null,null,null,null,null,null,null,null,null,null,null,null,null,null,null,null,null,null,null,null,null,null,null,null,null,null,null,null,null,null,null,null,null,null,null,null,null,"ท 4.1",null,"ป.1/5",null,5]
[null,null,null,null,null,null,null,null,null,null,null,null,null,null,null,null,null,null,null,null,null,null,null,null,null,null,null,null,null,null,null,null,null,null,null,null,null,null,null,null,null,null,null,null,null,null,null,null,null,null,null,null,null,null,null,null,null,null,null,null,null,null,null,null,null,null,null,null,null,"ท 5.1",null,"ป.1/6",null,"-"]
[null,null,null,null,null,null,null,null,null,null,null,null,null,null,null,null,null,null,null,null,null,null,null,null,null,null,null,null,null,null,null,null,null,null,null,null,null,null,null,null,null,null,null,null,null,null,null,null,null,null,null,null,null,null,null,null,null,null,null,null,null,null,null,null,null,null,null,null,null,"ค 1.1",null,"ป.1/7",null,"ป.1/1"]
[null,null,null,null,null,null,null,null,null,null,null,null,null,null,null,null,null,null,null,null,null,null,null,null,null,null,null,null,null,null,null,null,null,null,null,null,null,null,null,null,null,null,null,null,null,null,null,null,null,null,null,null,null,null,null,null,null,null,null,null,null,null,null,null,null,null,null,null,null,"ค 1.2",null,"ป.1/8",null,"ป.1/2"]
[null,null,null,null,null,null,null,null,null,null,null,null,null,null,null,null,null,null,null,null,null,null,null,null,null,null,null,null,null,null,null,null,null,null,null,null,null,null,null,null,null,null,null,null,null,null,null,null,null,null,null,null,null,null,null,null,null,null,null,null,null,null,null,null,null,null,null,null,null,"ค 1.3",null,"ป.1/9",null,"ป.1/3"]
[null,null,null,null,null,null,null,null,null,null,null,null,null,null,null,null,null,null,null,null,null,null,null,null,null,null,null,null,null,null,null,null,null,null,null,null,null,null,null,null,null,null,null,null,null,null,null,null,null,null,null,null,null,null,null,null,null,null,null,null,null,null,null,null,null,null,null,null,null,"ค 2.1",null,"ป.1/10",null,"ป.1/4"]
[null,null,null,null,null,null,null,null,null,null,null,null,null,null,null,null,null,null,null,null,null,null,null,null,null,null,null,null,null,null,null,null,null,null,null,null,null,null,null,null,null,null,null,null,null,null,null,null,null,null,null,null,null,null,null,null,null,null,null,null,null,null,null,null,null,null,null,null,null,"ค 2.2",null,"ป.2/1",null,"ป.1/5"]
[null,null,null,null,null,null,null,null,null,null,null,null,null,null,null,null,null,null,null,null,null,null,null,null,null,null,null,null,null,null,null,null,null,null,null,null,null,null,null,null,null,null,null,null,null,null,null,null,null,null,null,null,null,null,null,null,null,null,null,null,null,null,null,null,null,null,null,null,null,"ค 3.1",null,"ป.2/2",null,"ป.1/6"]
[null,null,null,null,null,null,null,null,null,null,null,null,null,null,null,null,null,null,null,null,null,null,null,null,null,null,null,null,null,null,null,null,null,null,null,null,null,null,null,null,null,null,null,null,null,null,null,null,null,null,null,null,null,null,null,null,null,null,null,null,null,null,null,null,null,null,null,null,null,"ค 3.2",null,"ป.2/3",null,"ป.1/7"]
[null,null,null,null,null,null,null,null,null,null,null,null,null,null,null,null,null,null,null,null,null,null,null,null,null,null,null,null,null,null,null,null,null,null,null,null,null,null,null,null,null,null,null,null,null,null,null,null,null,null,null,null,null,null,null,null,null,null,null,null,null,null,null,null,null,null,null,null,null,"ว 1.1",null,"ป.2/4",null,"ป.1/8"]
[null,null,null,null,null,null,null,null,null,null,null,null,null,null,null,null,null,null,null,null,null,null,null,null,null,null,null,null,null,null,null,null,null,null,null,null,null,null,null,null,null,null,null,null,null,null,null,null,null,null,null,null,null,null,null,null,null,null,null,null,null,null,null,null,null,null,null,null,null,"ว 1.2",null,"ป.2/5",null,"ป.1/9"]
[null,null,null,null,null,null,null,null,null,null,null,null,null,null,null,null,null,null,null,null,null,null,null,null,null,null,null,null,null,null,null,null,null,null,null,null,null,null,null,null,null,null,null,null,null,null,null,null,null,null,null,null,null,null,null,null,null,null,null,null,null,null,null,null,null,null,null,null,null,"ว 1.3",null,"ป.2/6",null,"ป.1/10"]
[null,null,null,null,null,null,null,null,null,null,null,null,null,null,null,null,null,null,null,null,null,null,null,null,null,null,null,null,null,null,null,null,null,null,null,null,null,null,null,null,null,null,null,null,null,null,null,null,null,null,null,null,null,null,null,null,null,null,null,null,null,null,null,null,null,null,null,null,null,"ว 2.1",null,"ป.2/7",null,"ป.1/11"]
[null,null,null,null,null,null,null,null,null,null,null,null,null,null,null,null,null,null,null,null,null,null,null,null,null,null,null,null,null,null,null,null,null,null,null,null,null,null,null,null,null,null,null,null,null,null,null,null,null,null,null,null,null,null,null,null,null,null,null,null,null,null,null,null,null,null,null,null,null,"ว 2.2",null,"ป.2/8",null,"ป.1/12"]
[null,null,null,null,null,null,null,null,null,null,null,null,null,null,null,null,null,null,null,null,null,null,null,null,null,null,null,null,null,null,null,null,null,null,null,null,null,null,null,null,null,null,null,null,null,null,null,null,null,null,null,null,null,null,null,null,null,null,null,null,null,null,null,null,null,null,null,null,null,"ว 2.3",null,"ป.2/9",null,"ป.1/13"]
[null,null,null,null,null,null,null,null,null,null,null,null,null,null,null,null,null,null,null,null,null,null,null,null,null,null,null,null,null,null,null,null,null,null,null,null,null,null,null,null,null,null,null,null,null,null,null,null,null,null,null,null,null,null,null,null,null,null,null,null,null,null,null,null,null,null,null,null,null,"ว 3.1",null,"ป.2/10",null,"ป.1/14"]
[null,null,null,null,null,null,null,null,null,null,null,null,null,null,null,null,null,null,null,null,null,null,null,null,null,null,null,null,null,null,null,null,null,null,null,null,null,null,null,null,null,null,null,null,null,null,null,null,null,null,null,null,null,null,null,null,null,null,null,null,null,null,null,null,null,null,null,null,null,"ว 3.2",null,"ป.3/1",null,"ป.1/15"]
[null,null,null,null,null,null,null,null,null,null,null,null,null,null,null,null,null,null,null,null,null,null,null,null,null,null,null,null,null,null,null,null,null,null,null,null,null,null,null,null,null,null,null,null,null,null,null,null,null,null,null,null,null,null,null,null,null,null,null,null,null,null,null,null,null,null,null,null,null,"ว 4.1",null,null,null,"ป.2/1"]
[null,null,null,null,null,null,null,null,null,null,null,null,null,null,null,null,null,null,null,null,null,null,null,null,null,null,null,null,null,null,null,null,null,null,null,null,null,null,null,null,null,null,null,null,null,null,null,null,null,null,null,null,null,null,null,null,null,null,null,null,null,null,null,null,null,null,null,null,null,"ว 4.2",null,"ป.3/2",null,"ป.2/2"]
[null,null,null,null,null,null,null,null,null,null,null,null,null,null,null,null,null,null,null,null,null,null,null,null,null,null,null,null,null,null,null,null,null,null,null,null,null,null,null,null,null,null,null,null,null,null,null,null,null,null,null,null,null,null,null,null,null,null,null,null,null,null,null,null,null,null,null,null,null,"ส 1.1",null,"ป.3/3",null,"ป.2/3"]
[null,null,null,null,null,null,null,null,null,null,null,null,null,null,null,null,null,null,null,null,null,null,null,null,null,null,null,null,null,null,null,null,null,null,null,null,null,null,null,null,null,null,null,null,null,null,null,null,null,null,null,null,null,null,null,null,null,null,null,null,null,null,null,null,null,null,null,null,null,"ส 1.2",null,null,null,"ป.2/4"]
[null,null,null,null,null,null,null,null,null,null,null,null,null,null,null,null,null,null,null,null,null,null,null,null,null,null,null,null,null,null,null,null,null,null,null,null,null,null,null,null,null,null,null,null,null,null,null,null,null,null,null,null,null,null,null,null,null,null,null,null,null,null,null,null,null,null,null,null,null,"ส 2.1",null,"ป.3/4",null,"ป.2/5"]
[null,null,null,null,null,null,null,null,null,null,null,null,null,null,null,null,null,null,null,null,null,null,null,null,null,null,null,null,null,null,null,null,null,null,null,null,null,null,null,null,null,null,null,null,null,null,null,null,null,null,null,null,null,null,null,null,null,null,null,null,null,null,null,null,null,null,null,null,null,"ส 2.2",null,"ป.3/5",null,"ป.2/6"]
[null,null,null,null,null,null,null,null,null,null,null,null,null,null,null,null,null,null,null,null,null,null,null,null,null,null,null,null,null,null,null,null,null,null,null,null,null,null,null,null,null,null,null,null,null,null,null,null,null,null,null,null,null,null,null,null,null,null,null,null,null,null,null,null,null,null,null,null,null,"ส 3.1",null,"ป.3/6",null,"ป.2/7"]
[null,null,null,null,null,null,null,null,null,null,null,null,null,null,null,null,null,null,null,null,null,null,null,null,null,null,null,null,null,null,null,null,null,null,null,null,null,null,null,null,null,null,null,null,null,null,null,null,null,null,null,null,null,null,null,null,null,null,null,null,null,null,null,null,null,null,null,null,null,"ส 3.2",null,"ป.3/7",null,"ป.2/8"]
[null,null,null,null,null,null,null,null,null,null,null,null,null,null,null,null,null,null,null,null,null,null,null,null,null,null,null,null,null,null,null,null,null,null,null,null,null,null,null,null,null,null,null,null,null,null,null,null,null,null,null,null,null,null,null,null,null,null,null,null,null,null,null,null,null,null,null,null,null,"ส 4.1",null,"ป.3/8",null,"ป.2/9"]
[null,null,null,null,null,null,null,null,null,null,null,null,null,null,null,null,null,null,null,null,null,null,null,null,null,null,null,null,null,null,null,null,null,null,null,null,null,null,null,null,null,null,null,null,null,null,null,null,null,null,null,null,null,null,null,null,null,null,null,null,null,null,null,null,null,null,null,null,null,"ส 4.2",null,"ป.3/9",null,"ป.2/10"]
[null,null,null,null,null,null,null,null,null,null,null,null,null,null,null,null,null,null,null,null,null,null,null,null,null,null,null,null,null,null,null,null,null,null,null,null,null,null,null,null,null,null,null,null,null,null,null,null,null,null,null,null,null,null,null,null,null,null,null,null,null,null,null,null,null,null,null,null,null,"ส 4.2",null,"ป.3/10",null,"ป.2/11"]
[null,null,null,null,null,null,null,null,null,null,null,null,null,null,null,null,null,null,null,null,null,null,null,null,null,null,null,null,null,null,null,null,null,null,null,null,null,null,null,null,null,null,null,null,null,null,null,null,null,null,null,null,null,null,null,null,null,null,null,null,null,null,null,null,null,null,null,null,null,"ส 5.1",null,"ป.4/1",null,"ป.2/12"]
[null,null,null,null,null,null,null,null,null,null,null,null,null,null,null,null,null,null,null,null,null,null,null,null,null,null,null,null,null,null,null,null,null,null,null,null,null,null,null,null,null,null,null,null,null,null,null,null,null,null,null,null,null,null,null,null,null,null,null,null,null,null,null,null,null,null,null,null,null,"ส 5.2",null,"ป.4/2",null,"ป.2/13"]
[null,null,null,null,null,null,null,null,null,null,null,null,null,null,null,null,null,null,null,null,null,null,null,null,null,null,null,null,null,null,null,null,null,null,null,null,null,null,null,null,null,null,null,null,null,null,null,null,null,null,null,null,null,null,null,null,null,null,null,null,null,null,null,null,null,null,null,null,null,"พ 1.1",null,"ป.4/3",null,"ป.2/14"]
[null,null,null,null,null,null,null,null,null,null,null,null,null,null,null,null,null,null,null,null,null,null,null,null,null,null,null,null,null,null,null,null,null,null,null,null,null,null,null,null,null,null,null,null,null,null,null,null,null,null,null,null,null,null,null,null,null,null,null,null,null,null,null,null,null,null,null,null,null,"พ 2.1",null,"ป.4/4",null,"ป.2/15"]
[null,null,null,null,null,null,null,null,null,null,null,null,null,null,null,null,null,null,null,null,null,null,null,null,null,null,null,null,null,null,null,null,null,null,null,null,null,null,null,null,null,null,null,null,null,null,null,null,null,null,null,null,null,null,null,null,null,null,null,null,null,null,null,null,null,null,null,null,null,"พ 3.1",null,"ป.4/5",null,"ป.3/1"]
[null,"ท 1.1",null,null,"ม.1/1",null,null,null,null,null,null,null,null,null,null,null,null,null,null,null,null,null,null,null,null,null,null,null,null,null,null,null,null,null,null,null,null,null,null,null,null,null,null,null,null,null,null,null,null,null,null,null,null,null,null,null,null,null,null,null,null,null,null,null,null,null,null,null,null,"พ 3.2",null,"ป.4/6",null,"ป.3/2",null,null,null,null,null,null,null,null,null,null,null,null,null,null,null,null,null,null,null,null,null,null,null,null,null,null,null,null,null,null,null,null,null,null,null,null,null,null,null,null,null,null,null,null,null,null,null,null,null,null,null,null,null,null,null,null,null,null,null,null,null,null,null,null,null,null,null,null,null,null,null,"ม.1/1"]
[null,"ท 2.1",null,null,"ม.1/2",null,null,null,null,null,null,null,null,null,null,null,null,null,null,null,null,null,null,null,null,null,null,null,null,null,null,null,null,null,null,null,null,null,null,null,null,null,null,null,null,null,null,null,null,null,null,null,null,null,null,null,null,null,null,null,null,null,null,null,null,null,null,null,null,"พ 4.1",null,"ป.4/7",null,"ป.3/3",null,null,null,null,null,null,null,null,null,null,null,null,null,null,null,null,null,null,null,null,null,null,null,null,null,null,null,null,null,null,null,null,null,null,null,null,null,null,null,null,null,null,null,null,null,null,null,null,null,null,null,null,null,null,null,null,null,null,null,null,null,null,null,null,null,null,null,null,null,null,null,"ม.1/2"]
[null,"ท 3.1",null,null,"ม.1/3",null,null,null,null,null,null,null,null,null,null,null,null,null,null,null,null,null,null,null,null,null,null,null,null,null,null,null,null,null,null,null,null,null,null,null,null,null,null,null,null,null,null,null,null,null,null,null,null,null,null,null,null,null,null,null,null,null,null,null,null,null,null,null,null,"พ 5.1",null,"ป.4/8",null,"ป.3/4",null,null,null,null,null,null,null,null,null,null,null,null,null,null,null,null,null,null,null,null,null,null,null,null,null,null,null,null,null,null,null,null,null,null,null,null,null,null,null,null,null,null,null,null,null,null,null,null,null,null,null,null,null,null,null,null,null,null,null,null,null,null,null,null,null,null,null,null,null,null,null,"ม.1/3"]
[null,"ท 4.1",null,null,"ม.1/4",null,null,null,null,null,null,null,null,null,null,null,null,null,null,null,null,null,null,null,null,null,null,null,null,null,null,null,null,null,null,null,null,null,null,null,null,null,null,null,null,null,null,null,null,null,null,null,null,null,null,null,null,null,null,null,null,null,null,null,null,null,null,null,null,"ศ 1.1",null,"ป.4/9",null,"ป.3/5",null,null,null,null,null,null,null,null,null,null,null,null,null,null,null,null,null,null,null,null,null,null,null,null,null,null,null,null,null,null,null,null,null,null,null,null,null,null,null,null,null,null,null,null,null,null,null,null,null,null,null,null,null,null,null,null,null,null,null,null,null,null,null,null,null,null,null,null,null,null,null,"ม.1/4"]
[null,"ท 5.1",null,null,"ม.1/5",null,null,null,null,null,null,null,null,null,null,null,null,null,null,null,null,null,null,null,null,null,null,null,null,null,null,null,null,null,null,null,null,null,null,null,null,null,null,null,null,null,null,null,null,null,null,null,null,null,null,null,null,null,null,null,null,null,null,null,null,null,null,null,null,"ศ 1.2",null,"ป.4/10",null,"ป.3/6",null,null,null,null,null,null,null,null,null,null,null,null,null,null,null,null,null,null,null,null,null,null,null,null,null,null,null,null,null,null,null,null,null,null,null,null,null,null,null,null,null,null,null,null,null,null,null,null,null,null,null,null,null,null,null,null,null,null,null,null,null,null,null,null,null,null,null,null,null,null,null,"ม.1/5"]
[null,"ค 1.1",null,null,"ม.1/6",null,null,null,null,null,null,null,null,null,null,null,null,null,null,null,null,null,null,null,null,null,null,null,null,null,null,null,null,null,null,null,null,null,null,null,null,null,null,null,null,null,null,null,null,null,null,null,null,null,null,null,null,null,null,null,null,null,null,null,null,null,null,null,null,"ศ 2.1",null,"ป.5/1",null,"ป.3/7",null,null,null,null,null,null,null,null,null,null,null,null,null,null,null,null,null,null,null,null,null,null,null,null,null,null,null,null,null,null,null,null,null,null,null,null,null,null,null,null,null,null,null,null,null,null,null,null,null,null,null,null,null,null,null,null,null,null,null,null,null,null,null,null,null,null,null,null,null,null,null,"ม.1/6"]
[null,"ค 1.2",null,null,"ม.1/7",null,null,null,null,null,null,null,null,null,null,null,null,null,null,null,null,null,null,null,null,null,null,null,null,null,null,null,null,null,null,null,null,null,null,null,null,null,null,null,null,null,null,null,null,null,null,null,null,null,null,null,null,null,null,null,null,null,null,null,null,null,null,null,null,"ศ 2.2",null,"ป.5/2",null,"ป.3/8",null,null,null,null,null,null,null,null,null,null,null,null,null,null,null,null,null,null,null,null,null,null,null,null,null,null,null,null,null,null,null,null,null,null,null,null,null,null,null,null,null,null,null,null,null,null,null,null,null,null,null,null,null,null,null,null,null,null,null,null,null,null,null,null,null,null,null,null,null,null,null,"ม.1/7"]
[null,"ค 1.3",null,null,"ม.1/8",null,null,null,null,null,null,null,null,null,null,null,null,null,null,null,null,null,null,null,null,null,null,null,null,null,null,null,null,null,null,null,null,null,null,null,null,null,null,null,null,null,null,null,null,null,null,null,null,null,null,null,null,null,null,null,null,null,null,null,null,null,null,null,null,"ศ 3.1",null,"ป.5/3",null,"ป.3/9",null,null,null,null,null,null,null,null,null,null,null,null,null,null,null,null,null,null,null,null,null,null,null,null,null,null,null,null,null,null,null,null,null,null,null,null,null,null,null,null,null,null,null,null,null,null,null,null,null,null,null,null,null,null,null,null,null,null,null,null,null,null,null,null,null,null,null,null,null,null,null,"ม.1/8"]
[null,"ค 1.4",null,null,"ม.1/9",null,null,null,null,null,null,null,null,null,null,null,null,null,null,null,null,null,null,null,null,null,null,null,null,null,null,null,null,null,null,null,null,null,null,null,null,null,null,null,null,null,null,null,null,null,null,null,null,null,null,null,null,null,null,null,null,null,null,null,null,null,null,null,null,"ศ 3.2",null,"ป.5/4",null,"ป.3/10",null,null,null,null,null,null,null,null,null,null,null,null,null,null,null,null,null,null,null,null,null,null,null,null,null,null,null,null,null,null,null,null,null,null,null,null,null,null,null,null,null,null,null,null,null,null,null,null,null,null,null,null,null,null,null,null,null,null,null,null,null,null,null,null,null,null,null,null,null,null,null,"ม.1/9"]
[null,"ค 2.1",null,null,"ม.1/10",null,null,null,null,null,null,null,null,null,null,null,null,null,null,null,null,null,null,null,null,null,null,null,null,null,null,null,null,null,null,null,null,null,null,null,null,null,null,null,null,null,null,null,null,null,null,null,null,null,null,null,null,null,null,null,null,null,null,null,null,null,null,null,null,"ง 1.1",null,"ป.5/5",null,"ป.3/11",null,null,null,null,null,null,null,null,null,null,null,null,null,null,null,null,null,null,null,null,null,null,null,null,null,null,null,null,null,null,null,null,null,null,null,null,null,null,null,null,null,null,null,null,null,null,null,null,null,null,null,null,null,null,null,null,null,null,null,null,null,null,null,null,null,null,null,null,null,null,null,"ม.1/10"]
[null,"ค 2.2",null,null,"ม.2/1",null,null,null,null,null,null,null,null,null,null,null,null,null,null,null,null,null,null,null,null,null,null,null,null,null,null,null,null,null,null,null,null,null,null,null,null,null,null,null,null,null,null,null,null,null,null,null,null,null,null,null,null,null,null,null,null,null,null,null,null,null,null,null,null," ง 2.1",null,"ป.5/6",null,"ป.3/12",null,null,null,null,null,null,null,null,null,null,null,null,null,null,null,null,null,null,null,null,null,null,null,null,null,null,null,null,null,null,null,null,null,null,null,null,null,null,null,null,null,null,null,null,null,null,null,null,null,null,null,null,null,null,null,null,null,null,null,null,null,null,null,null,null,null,null,null,null,null,null,"ม.2/1"]
[null,"ค 3.1",null,null,"ม.2/2",null,null,null,null,null,null,null,null,null,null,null,null,null,null,null,null,null,null,null,null,null,null,null,null,null,null,null,null,null,null,null,null,null,null,null,null,null,null,null,null,null,null,null,null,null,null,null,null,null,null,null,null,null,null,null,null,null,null,null,null,null,null,null,null,"ง 3.1",null,"ป.5/7",null,"ป.3/13",null,null,null,null,null,null,null,null,null,null,null,null,null,null,null,null,null,null,null,null,null,null,null,null,null,null,null,null,null,null,null,null,null,null,null,null,null,null,null,null,null,null,null,null,null,null,null,null,null,null,null,null,null,null,null,null,null,null,null,null,null,null,null,null,null,null,null,null,null,null,null,"ม.2/2"]
[null,"ค 3.2",null,null,"ม.2/3",null,null,null,null,null,null,null,null,null,null,null,null,null,null,null,null,null,null,null,null,null,null,null,null,null,null,null,null,null,null,null,null,null,null,null,null,null,null,null,null,null,null,null,null,null,null,null,null,null,null,null,null,null,null,null,null,null,null,null,null,null,null,null,null,"ง 4.1",null,"ป.5/8",null,"ป.3/14",null,null,null,null,null,null,null,null,null,null,null,null,null,null,null,null,null,null,null,null,null,null,null,null,null,null,null,null,null,null,null,null,null,null,null,null,null,null,null,null,null,null,null,null,null,null,null,null,null,null,null,null,null,null,null,null,null,null,null,null,null,null,null,null,null,null,null,null,null,null,null,"ม.2/3"]
[null,"ค 4.1",null,null,"ม.2/4",null,null,null,null,null,null,null,null,null,null,null,null,null,null,null,null,null,null,null,null,null,null,null,null,null,null,null,null,null,null,null,null,null,null,null,null,null,null,null,null,null,null,null,null,null,null,null,null,null,null,null,null,null,null,null,null,null,null,null,null,null,null,null,null,"ต 1.1",null,"ป.5/9",null,"ป.3/15",null,null,null,null,null,null,null,null,null,null,null,null,null,null,null,null,null,null,null,null,null,null,null,null,null,null,null,null,null,null,null,null,null,null,null,null,null,null,null,null,null,null,null,null,null,null,null,null,null,null,null,null,null,null,null,null,null,null,null,null,null,null,null,null,null,null,null,null,null,null,null,"ม.2/4"]
[null,"ค 4.2",null,null,"ม.2/5",null,null,null,null,null,null,null,null,null,null,null,null,null,null,null,null,null,null,null,null,null,null,null,null,null,null,null,null,null,null,null,null,null,null,null,null,null,null,null,null,null,null,null,null,null,null,null,null,null,null,null,null,null,null,null,null,null,null,null,null,null,null,null,null,"ต 1.2",null,"ป.5/10",null,"ป.4/1",null,null,null,null,null,null,null,null,null,null,null,null,null,null,null,null,null,null,null,null,null,null,null,null,null,null,null,null,null,null,null,null,null,null,null,null,null,null,null,null,null,null,null,null,null,null,null,null,null,null,null,null,null,null,null,null,null,null,null,null,null,null,null,null,null,null,null,null,null,null,null,"ม.2/5"]
[null,"ค 5.1",null,null,"ม.2/6",null,null,null,null,null,null,null,null,null,null,null,null,null,null,null,null,null,null,null,null,null,null,null,null,null,null,null,null,null,null,null,null,null,null,null,null,null,null,null,null,null,null,null,null,null,null,null,null,null,null,null,null,null,null,null,null,null,null,null,null,null,null,null,null,"ต 1.3",null,"ป.6/1",null,"ป.4/2",null,null,null,null,null,null,null,null,null,null,null,null,null,null,null,null,null,null,null,null,null,null,null,null,null,null,null,null,null,null,null,null,null,null,null,null,null,null,null,null,null,null,null,null,null,null,null,null,null,null,null,null,null,null,null,null,null,null,null,null,null,null,null,null,null,null,null,null,null,null,null,"ม.2/6"]
[null,"ค 5.2",null,null,"ม.2/7",null,null,null,null,null,null,null,null,null,null,null,null,null,null,null,null,null,null,null,null,null,null,null,null,null,null,null,null,null,null,null,null,null,null,null,null,null,null,null,null,null,null,null,null,null,null,null,null,null,null,null,null,null,null,null,null,null,null,null,null,null,null,null,null,"ต 2.1",null,"ป.6/2",null,"ป.4/3",null,null,null,null,null,null,null,null,null,null,null,null,null,null,null,null,null,null,null,null,null,null,null,null,null,null,null,null,null,null,null,null,null,null,null,null,null,null,null,null,null,null,null,null,null,null,null,null,null,null,null,null,null,null,null,null,null,null,null,null,null,null,null,null,null,null,null,null,null,null,null,"ม.2/7"]
[null,"ค 5.3",null,null,"ม.2/8",null,null,null,null,null,null,null,null,null,null,null,null,null,null,null,null,null,null,null,null,null,null,null,null,null,null,null,null,null,null,null,null,null,null,null,null,null,null,null,null,null,null,null,null,null,null,null,null,null,null,null,null,null,null,null,null,null,null,null,null,null,null,null,null,"ต 2.2",null,"ป.6/3",null,"ป.4/4",null,null,null,null,null,null,null,null,null,null,null,null,null,null,null,null,null,null,null,null,null,null,null,null,null,null,null,null,null,null,null,null,null,null,null,null,null,null,null,null,null,null,null,null,null,null,null,null,null,null,null,null,null,null,null,null,null,null,null,null,null,null,null,null,null,null,null,null,null,null,null,"ม.2/8"]
[null,"ค 6.1",null,null,"ม.2/9",null,null,null,null,null,null,null,null,null,null,null,null,null,null,null,null,null,null,null,null,null,null,null,null,null,null,null,null,null,null,null,null,null,null,null,null,null,null,null,null,null,null,null,null,null,null,null,null,null,null,null,null,null,null,null,null,null,null,null,null,null,null,null,null,"ต 3.1",null,"ป.6/4",null,"ป.4/5",null,null,null,null,null,null,null,null,null,null,null,null,null,null,null,null,null,null,null,null,null,null,null,null,null,null,null,null,null,null,null,null,null,null,null,null,null,null,null,null,null,null,null,null,null,null,null,null,null,null,null,null,null,null,null,null,null,null,null,null,null,null,null,null,null,null,null,null,null,null,null,"ม.2/9"]
[null,"ว 1.1",null,null,"ม.2/10",null,null,null,null,null,null,null,null,null,null,null,null,null,null,null,null,null,null,null,null,null,null,null,null,null,null,null,null,null,null,null,null,null,null,null,null,null,null,null,null,null,null,null,null,null,null,null,null,null,null,null,null,null,null,null,null,null,null,null,null,null,null,null,null,"ต 4.1",null,"ป.6/5",null,"ป.4/6",null,null,null,null,null,null,null,null,null,null,null,null,null,null,null,null,null,null,null,null,null,null,null,null,null,null,null,null,null,null,null,null,null,null,null,null,null,null,null,null,null,null,null,null,null,null,null,null,null,null,null,null,null,null,null,null,null,null,null,null,null,null,null,null,null,null,null,null,null,null,null,"ม.2/10"]
[null,"ว 1.2",null,null,"ม.3/1",null,null,null,null,null,null,null,null,null,null,null,null,null,null,null,null,null,null,null,null,null,null,null,null,null,null,null,null,null,null,null,null,null,null,null,null,null,null,null,null,null,null,null,null,null,null,null,null,null,null,null,null,null,null,null,null,null,null,null,null,null,null,null,null,"ต 4.2",null,"ป.6/6",null,"ป.4/7",null,null,null,null,null,null,null,null,null,null,null,null,null,null,null,null,null,null,null,null,null,null,null,null,null,null,null,null,null,null,null,null,null,null,null,null,null,null,null,null,null,null,null,null,null,null,null,null,null,null,null,null,null,null,null,null,null,null,null,null,null,null,null,null,null,null,null,null,null,null,null,"ม.3/1"]
[null,"ว 2.1",null,null,"ม.3/2",null,null,null,null,null,null,null,null,null,null,null,null,null,null,null,null,null,null,null,null,null,null,null,null,null,null,null,null,null,null,null,null,null,null,null,null,null,null,null,null,null,null,null,null,null,null,null,null,null,null,null,null,null,null,null,null,null,null,null,null,null,null,null,null,"ข้อ 1",null,"ป.6/7",null,"ป.4/8",null,null,null,null,null,null,null,null,null,null,null,null,null,null,null,null,null,null,null,null,null,null,null,null,null,null,null,null,null,null,null,null,null,null,null,null,null,null,null,null,null,null,null,null,null,null,null,null,null,null,null,null,null,null,null,null,null,null,null,null,null,null,null,null,null,null,null,null,null,null,null,"ม.3/2"]
[null,"ว 2.2",null,null,"ม.3/3",null,null,null,null,null,null,null,null,null,null,null,null,null,null,null,null,null,null,null,null,null,null,null,null,null,null,null,null,null,null,null,null,null,null,null,null,null,null,null,null,null,null,null,null,null,null,null,null,null,null,null,null,null,null,null,null,null,null,null,null,null,null,null,null,"ข้อ 2",null,"ป.6/8",null,"ป.4/9",null,null,null,null,null,null,null,null,null,null,null,null,null,null,null,null,null,null,null,null,null,null,null,null,null,null,null,null,null,null,null,null,null,null,null,null,null,null,null,null,null,null,null,null,null,null,null,null,null,null,null,null,null,null,null,null,null,null,null,null,null,null,null,null,null,null,null,null,null,null,null,"ม.3/3"]
[null,"ว 3.1",null,null,"ม.3/4",null,null,null,null,null,null,null,null,null,null,null,null,null,null,null,null,null,null,null,null,null,null,null,null,null,null,null,null,null,null,null,null,null,null,null,null,null,null,null,null,null,null,null,null,null,null,null,null,null,null,null,null,null,null,null,null,null,null,null,null,null,null,null,null,"ข้อ 3",null,"ป.6/9",null,"ป.4/10",null,null,null,null,null,null,null,null,null,null,null,null,null,null,null,null,null,null,null,null,null,null,null,null,null,null,null,null,null,null,null,null,null,null,null,null,null,null,null,null,null,null,null,null,null,null,null,null,null,null,null,null,null,null,null,null,null,null,null,null,null,null,null,null,null,null,null,null,null,null,null,"ม.3/4"]
[null,"ว 3.2",null,null,"ม.3/5",null,null,null,null,null,null,null,null,null,null,null,null,null,null,null,null,null,null,null,null,null,null,null,null,null,null,null,null,null,null,null,null,null,null,null,null,null,null,null,null,null,null,null,null,null,null,null,null,null,null,null,null,null,null,null,null,null,null,null,null,null,null,null,null,"ข้อ 4",null,"ป.6/10",null,"ป.4/11",null,null,null,null,null,null,null,null,null,null,null,null,null,null,null,null,null,null,null,null,null,null,null,null,null,null,null,null,null,null,null,null,null,null,null,null,null,null,null,null,null,null,null,null,null,null,null,null,null,null,null,null,null,null,null,null,null,null,null,null,null,null,null,null,null,null,null,null,null,null,null,"ม.3/5"]
[null,"ว 4.1",null,null,"ม.3/6",null,null,null,null,null,null,null,null,null,null,null,null,null,null,null,null,null,null,null,null,null,null,null,null,null,null,null,null,null,null,null,null,null,null,null,null,null,null,null,null,null,null,null,null,null,null,null,null,null,null,null,null,null,null,null,null,null,null,null,null,null,null,null,null,"ข้อ 5",null,"ข้อ1",null,"ป.4/12",null,null,null,null,null,null,null,null,null,null,null,null,null,null,null,null,null,null,null,null,null,null,null,null,null,null,null,null,null,null,null,null,null,null,null,null,null,null,null,null,null,null,null,null,null,null,null,null,null,null,null,null,null,null,null,null,null,null,null,null,null,null,null,null,null,null,null,null,null,null,null,"ม.3/6"]
[null,"ว 4.2",null,null,"ม.3/7",null,null,null,null,null,null,null,null,null,null,null,null,null,null,null,null,null,null,null,null,null,null,null,null,null,null,null,null,null,null,null,null,null,null,null,null,null,null,null,null,null,null,null,null,null,null,null,null,null,null,null,null,null,null,null,null,null,null,null,null,null,null,null,null,"ข้อ 6",null,"ข้อ2",null,"ป.4/13",null,null,null,null,null,null,null,null,null,null,null,null,null,null,null,null,null,null,null,null,null,null,null,null,null,null,null,null,null,null,null,null,null,null,null,null,null,null,null,null,null,null,null,null,null,null,null,null,null,null,null,null,null,null,null,null,null,null,null,null,null,null,null,null,null,null,null,null,null,null,null,"ม.3/7"]
[null,"ว 5.1",null,null,"ม.3/8",null,null,null,null,null,null,null,null,null,null,null,null,null,null,null,null,null,null,null,null,null,null,null,null,null,null,null,null,null,null,null,null,null,null,null,null,null,null,null,null,null,null,null,null,null,null,null,null,null,null,null,null,null,null,null,null,null,null,null,null,null,null,null,null,"ข้อ 7",null,"ข้อ3",null,"ป.4/14",null,null,null,null,null,null,null,null,null,null,null,null,null,null,null,null,null,null,null,null,null,null,null,null,null,null,null,null,null,null,null,null,null,null,null,null,null,null,null,null,null,null,null,null,null,null,null,null,null,null,null,null,null,null,null,null,null,null,null,null,null,null,null,null,null,null,null,null,null,null,null,"ม.3/8"]
[null,"ว 6.1",null,null,"ม.3/9",null,null,null,null,null,null,null,null,null,null,null,null,null,null,null,null,null,null,null,null,null,null,null,null,null,null,null,null,null,null,null,null,null,null,null,null,null,null,null,null,null,null,null,null,null,null,null,null,null,null,null,null,null,null,null,null,null,null,null,null,null,null,null,null,"ข้อ 8",null,"ข้อ4",null,"ป.4/15",null,null,null,null,null,null,null,null,null,null,null,null,null,null,null,null,null,null,null,null,null,null,null,null,null,null,null,null,null,null,null,null,null,null,null,null,null,null,null,null,null,null,null,null,null,null,null,null,null,null,null,null,null,null,null,null,null,null,null,null,null,null,null,null,null,null,null,null,null,null,null,"ม.3/9"]
[null,"ว 7.1",null,null,"ม.3/10",null,null,null,null,null,null,null,null,null,null,null,null,null,null,null,null,null,null,null,null,null,null,null,null,null,null,null,null,null,null,null,null,null,null,null,null,null,null,null,null,null,null,null,null,null,null,null,null,null,null,null,null,null,null,null,null,null,null,null,null,null,null,null,null,"ข้อ 9",null,"ข้อ5",null,"ป.5/1",null,null,null,null,null,null,null,null,null,null,null,null,null,null,null,null,null,null,null,null,null,null,null,null,null,null,null,null,null,null,null,null,null,null,null,null,null,null,null,null,null,null,null,null,null,null,null,null,null,null,null,null,null,null,null,null,null,null,null,null,null,null,null,null,null,null,null,null,null,null,null,"ม.3/10"]
[null,"ว 7.2",null,null,"ม.4-6/1",null,null,null,null,null,null,null,null,null,null,null,null,null,null,null,null,null,null,null,null,null,null,null,null,null,null,null,null,null,null,null,null,null,null,null,null,null,null,null,null,null,null,null,null,null,null,null,null,null,null,null,null,null,null,null,null,null,null,null,null,null,null,null,null,"ข้อ 10",null,"ข้อ6",null,"ป.5/2",null,null,null,null,null,null,null,null,null,null,null,null,null,null,null,null,null,null,null,null,null,null,null,null,null,null,null,null,null,null,null,null,null,null,null,null,null,null,null,null,null,null,null,null,null,null,null,null,null,null,null,null,null,null,null,null,null,null,null,null,null,null,null,null,null,null,null,null,null,null,null,"ม.4-6/1"]
[null,"ว 8.1",null,null,"ม.4-6/2",null,null,null,null,null,null,null,null,null,null,null,null,null,null,null,null,null,null,null,null,null,null,null,null,null,null,null,null,null,null,null,null,null,null,null,null,null,null,null,null,null,null,null,null,null,null,null,null,null,null,null,null,null,null,null,null,null,null,null,null,null,null,null,null,"ข้อ 11",null,"ข้อ7",null,"ป.5/3",null,null,null,null,null,null,null,null,null,null,null,null,null,null,null,null,null,null,null,null,null,null,null,null,null,null,null,null,null,null,null,null,null,null,null,null,null,null,null,null,null,null,null,null,null,null,null,null,null,null,null,null,null,null,null,null,null,null,null,null,null,null,null,null,null,null,null,null,null,null,null,"ม.4-6/2"]
[null,"ส 1.1",null,null,"ม.4-6/3",null,null,null,null,null,null,null,null,null,null,null,null,null,null,null,null,null,null,null,null,null,null,null,null,null,null,null,null,null,null,null,null,null,null,null,null,null,null,null,null,null,null,null,null,null,null,null,null,null,null,null,null,null,null,null,null,null,null,null,null,null,null,null,null,"ข้อ 12",null,"ข้อ8",null,"ป.5/4",null,null,null,null,null,null,null,null,null,null,null,null,null,null,null,null,null,null,null,null,null,null,null,null,null,null,null,null,null,null,null,null,null,null,null,null,null,null,null,null,null,null,null,null,null,null,null,null,null,null,null,null,null,null,null,null,null,null,null,null,null,null,null,null,null,null,null,null,null,null,null,"ม.4-6/3"]
[null,"ส 1.2",null,null,"ม.4-6/4",null,null,null,null,null,null,null,null,null,null,null,null,null,null,null,null,null,null,null,null,null,null,null,null,null,null,null,null,null,null,null,null,null,null,null,null,null,null,null,null,null,null,null,null,null,null,null,null,null,null,null,null,null,null,null,null,null,null,null,null,null,null,null,null,"ข้อ 13",null,"ข้อ9",null,"ป.5/5",null,null,null,null,null,null,null,null,null,null,null,null,null,null,null,null,null,null,null,null,null,null,null,null,null,null,null,null,null,null,null,null,null,null,null,null,null,null,null,null,null,null,null,null,null,null,null,null,null,null,null,null,null,null,null,null,null,null,null,null,null,null,null,null,null,null,null,null,null,null,null,"ม.4-6/4"]
[null,"ส 2.1",null,null,"ม.4-6/5",null,null,null,null,null,null,null,null,null,null,null,null,null,null,null,null,null,null,null,null,null,null,null,null,null,null,null,null,null,null,null,null,null,null,null,null,null,null,null,null,null,null,null,null,null,null,null,null,null,null,null,null,null,null,null,null,null,null,null,null,null,null,null,null,"ข้อ 14",null,"ข้อ10",null,"ป.5/6",null,null,null,null,null,null,null,null,null,null,null,null,null,null,null,null,null,null,null,null,null,null,null,null,null,null,null,null,null,null,null,null,null,null,null,null,null,null,null,null,null,null,null,null,null,null,null,null,null,null,null,null,null,null,null,null,null,null,null,null,null,null,null,null,null,null,null,null,null,null,null,"ม.4-6/5"]
[null,"ส 2.2",null,null,"ม.4-6/6",null,null,null,null,null,null,null,null,null,null,null,null,null,null,null,null,null,null,null,null,null,null,null,null,null,null,null,null,null,null,null,null,null,null,null,null,null,null,null,null,null,null,null,null,null,null,null,null,null,null,null,null,null,null,null,null,null,null,null,null,null,null,null,null,"ข้อ 15",null,"ข้อ11",null,"ป.5/7",null,null,null,null,null,null,null,null,null,null,null,null,null,null,null,null,null,null,null,null,null,null,null,null,null,null,null,null,null,null,null,null,null,null,null,null,null,null,null,null,null,null,null,null,null,null,null,null,null,null,null,null,null,null,null,null,null,null,null,null,null,null,null,null,null,null,null,null,null,null,null,"ม.4-6/6"]
[null,"ส 3.1",null,null,"ม.4-6/7",null,null,null,null,null,null,null,null,null,null,null,null,null,null,null,null,null,null,null,null,null,null,null,null,null,null,null,null,null,null,null,null,null,null,null,null,null,null,null,null,null,null,null,null,null,null,null,null,null,null,null,null,null,null,null,null,null,null,null,null,null,null,null,null,"ข้อ 16",null,"ข้อ12",null,"ป.5/8",null,null,null,null,null,null,null,null,null,null,null,null,null,null,null,null,null,null,null,null,null,null,null,null,null,null,null,null,null,null,null,null,null,null,null,null,null,null,null,null,null,null,null,null,null,null,null,null,null,null,null,null,null,null,null,null,null,null,null,null,null,null,null,null,null,null,null,null,null,null,null,"ม.4-6/7"]
[null,"ส 3.2",null,null,"ม.4-6/8",null,null,null,null,null,null,null,null,null,null,null,null,null,null,null,null,null,null,null,null,null,null,null,null,null,null,null,null,null,null,null,null,null,null,null,null,null,null,null,null,null,null,null,null,null,null,null,null,null,null,null,null,null,null,null,null,null,null,null,null,null,null,null,null,"ข้อ 17",null,"ข้อ13",null,"ป.5/9",null,null,null,null,null,null,null,null,null,null,null,null,null,null,null,null,null,null,null,null,null,null,null,null,null,null,null,null,null,null,null,null,null,null,null,null,null,null,null,null,null,null,null,null,null,null,null,null,null,null,null,null,null,null,null,null,null,null,null,null,null,null,null,null,null,null,null,null,null,null,null,"ม.4-6/8"]
[null,"ส 4.1",null,null,"ม.4-6/9",null,null,null,null,null,null,null,null,null,null,null,null,null,null,null,null,null,null,null,null,null,null,null,null,null,null,null,null,null,null,null,null,null,null,null,null,null,null,null,null,null,null,null,null,null,null,null,null,null,null,null,null,null,null,null,null,null,null,null,null,null,null,null,null,"ข้อ 18",null,"ข้อ14",null,"ป.5/10",null,null,null,null,null,null,null,null,null,null,null,null,null,null,null,null,null,null,null,null,null,null,null,null,null,null,null,null,null,null,null,null,null,null,null,null,null,null,null,null,null,null,null,null,null,null,null,null,null,null,null,null,null,null,null,null,null,null,null,null,null,null,null,null,null,null,null,null,null,null,null,"ม.4-6/9"]
[null,"ส 4.2",null,null,"ม.4-6/10",null,null,null,null,null,null,null,null,null,null,null,null,null,null,null,null,null,null,null,null,null,null,null,null,null,null,null,null,null,null,null,null,null,null,null,null,null,null,null,null,null,null,null,null,null,null,null,null,null,null,null,null,null,null,null,null,null,null,null,null,null,null,null,null,"ข้อ 19",null,"ข้อ15",null,"ป.5/11",null,null,null,null,null,null,null,null,null,null,null,null,null,null,null,null,null,null,null,null,null,null,null,null,null,null,null,null,null,null,null,null,null,null,null,null,null,null,null,null,null,null,null,null,null,null,null,null,null,null,null,null,null,null,null,null,null,null,null,null,null,null,null,null,null,null,null,null,null,null,null,"ม.4-6/10"]
[null,"ส 4.2",null,null,"ม.4-6/11",null,null,null,null,null,null,null,null,null,null,null,null,null,null,null,null,null,null,null,null,null,null,null,null,null,null,null,null,null,null,null,null,null,null,null,null,null,null,null,null,null,null,null,null,null,null,null,null,null,null,null,null,null,null,null,null,null,null,null,null,null,null,null,null,"ข้อ 20",null,"ข้อ16",null,"ป.5/12",null,null,null,null,null,null,null,null,null,null,null,null,null,null,null,null,null,null,null,null,null,null,null,null,null,null,null,null,null,null,null,null,null,null,null,null,null,null,null,null,null,null,null,null,null,null,null,null,null,null,null,null,null,null,null,null,null,null,null,null,null,null,null,null,null,null,null,null,null,null,null,"ม.4-6/11"]
[null,"ส 5.1",null,null,"ม.4-6/12",null,null,null,null,null,null,null,null,null,null,null,null,null,null,null,null,null,null,null,null,null,null,null,null,null,null,null,null,null,null,null,null,null,null,null,null,null,null,null,null,null,null,null,null,null,null,null,null,null,null,null,null,null,null,null,null,null,null,null,null,null,null,null,null,"ข้อ 21",null,"ข้อ17",null,"ป.5/13",null,null,null,null,null,null,null,null,null,null,null,null,null,null,null,null,null,null,null,null,null,null,null,null,null,null,null,null,null,null,null,null,null,null,null,null,null,null,null,null,null,null,null,null,null,null,null,null,null,null,null,null,null,null,null,null,null,null,null,null,null,null,null,null,null,null,null,null,null,null,null,"ม.4-6/12"]
[null,"ส 5.2",null,null,"ม.4-6/13",null,null,null,null,null,null,null,null,null,null,null,null,null,null,null,null,null,null,null,null,null,null,null,null,null,null,null,null,null,null,null,null,null,null,null,null,null,null,null,null,null,null,null,null,null,null,null,null,null,null,null,null,null,null,null,null,null,null,null,null,null,null,null,null,"ข้อ 22",null,"ข้อ18",null,"ป.5/14",null,null,null,null,null,null,null,null,null,null,null,null,null,null,null,null,null,null,null,null,null,null,null,null,null,null,null,null,null,null,null,null,null,null,null,null,null,null,null,null,null,null,null,null,null,null,null,null,null,null,null,null,null,null,null,null,null,null,null,null,null,null,null,null,null,null,null,null,null,null,null,"ม.4-6/13"]
[null,"พ 1.1",null,null,"ม.4-6/14",null,null,null,null,null,null,null,null,null,null,null,null,null,null,null,null,null,null,null,null,null,null,null,null,null,null,null,null,null,null,null,null,null,null,null,null,null,null,null,null,null,null,null,null,null,null,null,null,null,null,null,null,null,null,null,null,null,null,null,null,null,null,null,null,"ข้อ 23",null,"ข้อ19",null,"ป.5/15",null,null,null,null,null,null,null,null,null,null,null,null,null,null,null,null,null,null,null,null,null,null,null,null,null,null,null,null,null,null,null,null,null,null,null,null,null,null,null,null,null,null,null,null,null,null,null,null,null,null,null,null,null,null,null,null,null,null,null,null,null,null,null,null,null,null,null,null,null,null,null,"ม.4-6/14"]
[null,"พ 2.1",null,null,"ม.4-6/15",null,null,null,null,null,null,null,null,null,null,null,null,null,null,null,null,null,null,null,null,null,null,null,null,null,null,null,null,null,null,null,null,null,null,null,null,null,null,null,null,null,null,null,null,null,null,null,null,null,null,null,null,null,null,null,null,null,null,null,null,null,null,null,null,"ข้อ 24",null,"ข้อ20",null,"ป.6/1",null,null,null,null,null,null,null,null,null,null,null,null,null,null,null,null,null,null,null,null,null,null,null,null,null,null,null,null,null,null,null,null,null,null,null,null,null,null,null,null,null,null,null,null,null,null,null,null,null,null,null,null,null,null,null,null,null,null,null,null,null,null,null,null,null,null,null,null,null,null,null,"ม.4-6/15"]
[null,"พ 3.1",null,null,"ม.4-6/16",null,null,null,null,null,null,null,null,null,null,null,null,null,null,null,null,null,null,null,null,null,null,null,null,null,null,null,null,null,null,null,null,null,null,null,null,null,null,null,null,null,null,null,null,null,null,null,null,null,null,null,null,null,null,null,null,null,null,null,null,null,null,null,null,"ข้อ 25",null,"ข้อ21",null,"ป.6/2",null,null,null,null,null,null,null,null,null,null,null,null,null,null,null,null,null,null,null,null,null,null,null,null,null,null,null,null,null,null,null,null,null,null,null,null,null,null,null,null,null,null,null,null,null,null,null,null,null,null,null,null,null,null,null,null,null,null,null,null,null,null,null,null,null,null,null,null,null,null,null,"ม.4-6/16"]
[null,"พ 3.2",null,null,"ม.4-6/17",null,null,null,null,null,null,null,null,null,null,null,null,null,null,null,null,null,null,null,null,null,null,null,null,null,null,null,null,null,null,null,null,null,null,null,null,null,null,null,null,null,null,null,null,null,null,null,null,null,null,null,null,null,null,null,null,null,null,null,null,null,null,null,null,"ข้อ 26",null,"ข้อ22",null,"ป.6/3",null,null,null,null,null,null,null,null,null,null,null,null,null,null,null,null,null,null,null,null,null,null,null,null,null,null,null,null,null,null,null,null,null,null,null,null,null,null,null,null,null,null,null,null,null,null,null,null,null,null,null,null,null,null,null,null,null,null,null,null,null,null,null,null,null,null,null,null,null,null,null,"ม.4-6/17"]
[null,"พ 4.1",null,null,"ม.4-6/18",null,null,null,null,null,null,null,null,null,null,null,null,null,null,null,null,null,null,null,null,null,null,null,null,null,null,null,null,null,null,null,null,null,null,null,null,null,null,null,null,null,null,null,null,null,null,null,null,null,null,null,null,null,null,null,null,null,null,null,null,null,null,null,null,"ข้อ 27",null,"ข้อ23",null,"ป.6/4",null,null,null,null,null,null,null,null,null,null,null,null,null,null,null,null,null,null,null,null,null,null,null,null,null,null,null,null,null,null,null,null,null,null,null,null,null,null,null,null,null,null,null,null,null,null,null,null,null,null,null,null,null,null,null,null,null,null,null,null,null,null,null,null,null,null,null,null,null,null,null,"ม.4-6/18"]
[null,"พ 5.1",null,null,"ม.4-6/19",null,null,null,null,null,null,null,null,null,null,null,null,null,null,null,null,null,null,null,null,null,null,null,null,null,null,null,null,null,null,null,null,null,null,null,null,null,null,null,null,null,null,null,null,null,null,null,null,null,null,null,null,null,null,null,null,null,null,null,null,null,null,null,null,"ข้อ 28",null,"ข้อ24",null,"ป.6/5",null,null,null,null,null,null,null,null,null,null,null,null,null,null,null,null,null,null,null,null,null,null,null,null,null,null,null,null,null,null,null,null,null,null,null,null,null,null,null,null,null,null,null,null,null,null,null,null,null,null,null,null,null,null,null,null,null,null,null,null,null,null,null,null,null,null,null,null,null,null,null,"ม.4-6/19"]
[null,"ศ. 1.1",null,null,"ม.4-6/20",null,null,null,null,null,null,null,null,null,null,null,null,null,null,null,null,null,null,null,null,null,null,null,null,null,null,null,null,null,null,null,null,null,null,null,null,null,null,null,null,null,null,null,null,null,null,null,null,null,null,null,null,null,null,null,null,null,null,null,null,null,null,null,null,"ข้อ 29",null,"ข้อ25",null,"ป.6/6",null,null,null,null,null,null,null,null,null,null,null,null,null,null,null,null,null,null,null,null,null,null,null,null,null,null,null,null,null,null,null,null,null,null,null,null,null,null,null,null,null,null,null,null,null,null,null,null,null,null,null,null,null,null,null,null,null,null,null,null,null,null,null,null,null,null,null,null,null,null,null,"ม.4-6/20"]
[null,"ศ 1.2",null,null,"ม.4-6/21",null,null,null,null,null,null,null,null,null,null,null,null,null,null,null,null,null,null,null,null,null,null,null,null,null,null,null,null,null,null,null,null,null,null,null,null,null,null,null,null,null,null,null,null,null,null,null,null,null,null,null,null,null,null,null,null,null,null,null,null,null,null,null,null,"ข้อ 30",null,"ข้อ26",null,"ป.6/7",null,null,null,null,null,null,null,null,null,null,null,null,null,null,null,null,null,null,null,null,null,null,null,null,null,null,null,null,null,null,null,null,null,null,null,null,null,null,null,null,null,null,null,null,null,null,null,null,null,null,null,null,null,null,null,null,null,null,null,null,null,null,null,null,null,null,null,null,null,null,null,"ม.4-6/21"]
[null,"ศ 2.1",null,null,"ม.4-6/22",null,null,null,null,null,null,null,null,null,null,null,null,null,null,null,null,null,null,null,null,null,null,null,null,null,null,null,null,null,null,null,null,null,null,null,null,null,null,null,null,null,null,null,null,null,null,null,null,null,null,null,null,null,null,null,null,null,null,null,null,null,null,null,null,null,null,"ข้อ27",null,"ป.6/8",null,null,null,null,null,null,null,null,null,null,null,null,null,null,null,null,null,null,null,null,null,null,null,null,null,null,null,null,null,null,null,null,null,null,null,null,null,null,null,null,null,null,null,null,null,null,null,null,null,null,null,null,null,null,null,null,null,null,null,null,null,null,null,null,null,null,null,null,null,null,null,"ม.4-6/22"]
[null,"ศ 2.2",null,null,"ม.4-6/23",null,null,null,null,null,null,null,null,null,null,null,null,null,null,null,null,null,null,null,null,null,null,null,null,null,null,null,null,null,null,null,null,null,null,null,null,null,null,null,null,null,null,null,null,null,null,null,null,null,null,null,null,null,null,null,null,null,null,null,null,null,null,null,null,null,null,"ข้อ28",null,"ป.6/9",null,null,null,null,null,null,null,null,null,null,null,null,null,null,null,null,null,null,null,null,null,null,null,null,null,null,null,null,null,null,null,null,null,null,null,null,null,null,null,null,null,null,null,null,null,null,null,null,null,null,null,null,null,null,null,null,null,null,null,null,null,null,null,null,null,null,null,null,null,null,null,"ม.4-6/23"]
[null,"ศ 3.1",null,null,"ม.4-6/24",null,null,null,null,null,null,null,null,null,null,null,null,null,null,null,null,null,null,null,null,null,null,null,null,null,null,null,null,null,null,null,null,null,null,null,null,null,null,null,null,null,null,null,null,null,null,null,null,null,null,null,null,null,null,null,null,null,null,null,null,null,null,null,null,null,null,"ข้อ29",null,"ป.6/10",null,null,null,null,null,null,null,null,null,null,null,null,null,null,null,null,null,null,null,null,null,null,null,null,null,null,null,null,null,null,null,null,null,null,null,null,null,null,null,null,null,null,null,null,null,null,null,null,null,null,null,null,null,null,null,null,null,null,null,null,null,null,null,null,null,null,null,null,null,null,null,"ม.4-6/24"]
[null,"ศ 3.2",null,null,"ม.4-6/25",null,null,null,null,null,null,null,null,null,null,null,null,null,null,null,null,null,null,null,null,null,null,null,null,null,null,null,null,null,null,null,null,null,null,null,null,null,null,null,null,null,null,null,null,null,null,null,null,null,null,null,null,null,null,null,null,null,null,null,null,null,null,null,null,null,null,"ข้อ30",null,"ป.6/11",null,null,null,null,null,null,null,null,null,null,null,null,null,null,null,null,null,null,null,null,null,null,null,null,null,null,null,null,null,null,null,null,null,null,null,null,null,null,null,null,null,null,null,null,null,null,null,null,null,null,null,null,null,null,null,null,null,null,null,null,null,null,null,null,null,null,null,null,null,null,null,"ม.4-6/25"]
[null,"ง 1.1",null,null,"ม.4-6/26",null,null,null,null,null,null,null,null,null,null,null,null,null,null,null,null,null,null,null,null,null,null,null,null,null,null,null,null,null,null,null,null,null,null,null,null,null,null,null,null,null,null,null,null,null,null,null,null,null,null,null,null,null,null,null,null,null,null,null,null,null,null,null,null,null,null,"-",null,"ป.6/12",null,null,null,null,null,null,null,null,null,null,null,null,null,null,null,null,null,null,null,null,null,null,null,null,null,null,null,null,null,null,null,null,null,null,null,null,null,null,null,null,null,null,null,null,null,null,null,null,null,null,null,null,null,null,null,null,null,null,null,null,null,null,null,null,null,null,null,null,null,null,null,"ม.4-6/26"]
[null,"ง 2.1",null,null,"ม.4-6/27",null,null,null,null,null,null,null,null,null,null,null,null,null,null,null,null,null,null,null,null,null,null,null,null,null,null,null,null,null,null,null,null,null,null,null,null,null,null,null,null,null,null,null,null,null,null,null,null,null,null,null,null,null,null,null,null,null,null,null,null,null,null,null,null,null,null,1,null,"ป.6/13",null,null,null,null,null,null,null,null,null,null,null,null,null,null,null,null,null,null,null,null,null,null,null,null,null,null,null,null,null,null,null,null,null,null,null,null,null,null,null,null,null,null,null,null,null,null,null,null,null,null,null,null,null,null,null,null,null,null,null,null,null,null,null,null,null,null,null,null,null,null,null,"ม.4-6/27"]
[null,"ง 3.1",null,null,"ม.4-6/28",null,null,null,null,null,null,null,null,null,null,null,null,null,null,null,null,null,null,null,null,null,null,null,null,null,null,null,null,null,null,null,null,null,null,null,null,null,null,null,null,null,null,null,null,null,null,null,null,null,null,null,null,null,null,null,null,null,null,null,null,null,null,null,null,null,null,2,null,"ป.6/14",null,null,null,null,null,null,null,null,null,null,null,null,null,null,null,null,null,null,null,null,null,null,null,null,null,null,null,null,null,null,null,null,null,null,null,null,null,null,null,null,null,null,null,null,null,null,null,null,null,null,null,null,null,null,null,null,null,null,null,null,null,null,null,null,null,null,null,null,null,null,null,"ม.4-6/28"]
[null,"ง 4.1",null,null,"ม.4-6/29",null,null,null,null,null,null,null,null,null,null,null,null,null,null,null,null,null,null,null,null,null,null,null,null,null,null,null,null,null,null,null,null,null,null,null,null,null,null,null,null,null,null,null,null,null,null,null,null,null,null,null,null,null,null,null,null,null,null,null,null,null,null,null,null,null,null,3,null,"ป.6/15",null,null,null,null,null,null,null,null,null,null,null,null,null,null,null,null,null,null,null,null,null,null,null,null,null,null,null,null,null,null,null,null,null,null,null,null,null,null,null,null,null,null,null,null,null,null,null,null,null,null,null,null,null,null,null,null,null,null,null,null,null,null,null,null,null,null,null,null,null,null,null,"ม.4-6/29"]
[null,"ต 1.1",null,null,"ม.4-6/30",null,null,null,null,null,null,null,null,null,null,null,null,null,null,null,null,null,null,null,null,null,null,null,null,null,null,null,null,null,null,null,null,null,null,null,null,null,null,null,null,null,null,null,null,null,null,null,null,null,null,null,null,null,null,null,null,null,null,null,null,null,null,null,null,null,null,4,null,null,null,null,null,null,null,null,null,null,null,null,null,null,null,null,null,null,null,null,null,null,null,null,null,null,null,null,null,null,null,null,null,null,null,null,null,null,null,null,null,null,null,null,null,null,null,null,null,null,null,null,null,null,null,null,null,null,null,null,null,null,null,null,null,null,null,null,null,null,null,null,null,"ม.4-6/30"]
[null,"ต 1.2",null,null,null,null,null,null,null,null,null,null,null,null,null,null,null,null,null,null,null,null,null,null,null,null,null,null,null,null,null,null,null,null,null,null,null,null,null,null,null,null,null,null,null,null,null,null,null,null,null,null,null,null,null,null,null,null,null,null,null,null,null,null,null,null,null,null,null,null,null,5]
[null,"ต 1.3"]
[null,"ต 2.1"]
[null,"ต 2.2"]
[null,"ต 3.1"]
[null,"ต 4.1"]
[null,"ต 4.2"]

{"sheet":"คุณลักษณะอันพึงประสงค์","index":7,"n_rows":54,"n_cols":31,"rows_kept":54,"cut":false,"hidden":true,"merged":[[1,0,1,2],[7,28,11,28],[12,28,14,28],[2,4,2,11],[2,13,3,13],[2,2,3,2],[2,3,3,3],[2,16,3,16],[2,17,2,24],[2,12,3,12],[2,26,3,26],[4,29,4,30],[2,0,3,0],[2,1,3,1],[5,28,6,28],[2,25,3,25]]}
[null,null,"การประเมิน","คุณลักษณะอันพึงประสงค์ ภาคเรียนที่ 1",null,null,null,null,null,null,null,null,null,null,null,null,"คุณลักษณะอันพึงประสงค์"]
[{"$f":"\"นักเรียน\"&ปก!AF11&ปก!AL11","v":"นักเรียนชั้นประถมศึกษาปีที่ 2/2"},null,null,{"$f":"ใบรายชื่อ!$A$4","v":"รายวิชาหน้าที่พลเมือง    รหัสวิชา  -    ปีการศึกษา 2565"},null,null,null,null,null,null,null,null,null,null,null,null,{"$f":"ใบรายชื่อ!$A$4","v":"รายวิชาหน้าที่พลเมือง    รหัสวิชา  -    ปีการศึกษา 2565"}]
["เลขที่","เลขประจำตัว","ชื่อ - ชื่อสกุล","เลขที่","คุณลักษณะอันพึงประสงค์ข้อที่",null,null,null,null,null,null,null,"ระดับผลการประเมิน","ผลการประเมิน\nภาคเรียนที่ 1",null,null,"เลขที่","คุณลักษณะอันพึงประสงค์ข้อที่",null,null,null,null,null,null,null,"ระดับผลการประเมิน","ผลการประเมิน"]
[null,null,null,null,1,2,3,4,5,6,7,8,null,null,null,null,null,1,2,3,4,5,6,7,8,null,null,null,"เกณฑ์การประเมินคุณลักษณะอันพึงประสงค์"]
[1,{"$f":"ใส่ชื่อ!C2","v":2836},{"$f":"ใส่ชื่อ!D2&ใส่ชื่อ!#REF!&\"    \"&ใส่ชื่อ!#REF!","v":{"$error":"#REF!"}},1,null,null,null,null,null,null,null,null,{"$f":"IF(N5=\"\",\"\",IF(N5=\"ดีเยี่ยม\",3,IF(N5=\"ดี\",2,IF(N5=\"ผ่าน\",1,IF(N5=\"ไม่ผ่าน\",0)))))","v":""},{"$f":"IF(E5=\"\",\"\",(IF(F5=\"\",\"\",(IF(G5=\"\",\"\",(IF(H5=\"\",\"\",(IF(I5=\"\",\"\",(IF(J5=\"\",\"\",IF(K5=\"\",\"\",(IF(L5=\"\",\"\",(IF(COUNTIF(E5:L5,0)>0,\"ไม่ผ่าน\",IF(AND(COUNTIF(E5:L5,3)>=5,COUNTIF(E5:L5,\"<2\")=0),\"ดีเยี่ยม\",IF(OR(AND(AND(COUNTIF(E5:L5,3)>=1,COUNTIF(E5:L5,3)<=4),COUNTIF(E5:L5,\"<2\")=0),COUNTIF(E5:L5,2)=8,AND(COUNTIF(E5:L5,\">=2\")>=5,COUNTIF(E5:L5,1)>0)),\"ดี\",IF(OR(COUNTIF(E5:L5,1)=8,AND(COUNTIF(E5:L5,\">=2\")>=1,COUNTIF(E5:L5,\">=2\")<=4)),\"ผ่าน\",\"ไม่ผ่าน\")))))))))))))))))))","v":""},"เก็บ+กลาง",{"$f":"SUM(#REF!,#REF!)","v":{"$error":"#REF!"}},1,null,null,null,null,null,null,null,null,{"$f":"IF(AA5=\"\",\"\",IF(AA5=\"ดีเยี่ยม\",3,IF(AA5=\"ดี\",2,IF(AA5=\"ผ่าน\",1,IF(AA5=\"ไม่ผ่าน\",0)))))","v":""},{"$f":"IF(R5=\"\",\"\",(IF(S5=\"\",\"\",(IF(T5=\"\",\"\",(IF(U5=\"\",\"\",(IF(V5=\"\",\"\",(IF(W5=\"\",\"\",IF(X5=\"\",\"\",(IF(Y5=\"\",\"\",(IF(COUNTIF(R5:Y5,0)>0,\"ไม่ผ่าน\",IF(AND(COUNTIF(R5:Y5,3)>=5,COUNTIF(R5:Y5,\"<2\")=0),\"ดีเยี่ยม\",IF(OR(AND(AND(COUNTIF(R5:Y5,3)>=1,COUNTIF(R5:Y5,3)<=4),COUNTIF(R5:Y5,\"<2\")=0),COUNTIF(R5:Y5,2)=8,AND(COUNTIF(R5:Y5,\">=2\")>=5,COUNTIF(R5:Y5,1)>0)),\"ดี\",IF(OR(COUNTIF(R5:Y5,1)=8,AND(COUNTIF(R5:Y5,\">=2\")>=1,COUNTIF(R5:Y5,\">=2\")<=4)),\"ผ่าน\",\"ไม่ผ่าน\")))))))))))))))))))","v":""},null,"ระดับ","เกณฑ์การพิจรณา"]
[2,{"$f":"ใส่ชื่อ!C3","v":2840},{"$f":"ใส่ชื่อ!D3&ใส่ชื่อ!#REF!&\"    \"&ใส่ชื่อ!#REF!","v":{"$error":"#REF!"}},2,null,null,null,null,null,null,null,null,{"$f":"IF(N6=\"\",\"\",IF(N6=\"ดีเยี่ยม\",3,IF(N6=\"ดี\",2,IF(N6=\"ผ่าน\",1,IF(N6=\"ไม่ผ่าน\",0)))))","v":""},{"$f":"IF(E6=\"\",\"\",(IF(F6=\"\",\"\",(IF(G6=\"\",\"\",(IF(H6=\"\",\"\",(IF(I6=\"\",\"\",(IF(J6=\"\",\"\",IF(K6=\"\",\"\",(IF(L6=\"\",\"\",(IF(COUNTIF(E6:L6,0)>0,\"ไม่ผ่าน\",IF(AND(COUNTIF(E6:L6,3)>=5,COUNTIF(E6:L6,\"<2\")=0),\"ดีเยี่ยม\",IF(OR(AND(AND(COUNTIF(E6:L6,3)>=1,COUNTIF(E6:L6,3)<=4),COUNTIF(E6:L6,\"<2\")=0),COUNTIF(E6:L6,2)=8,AND(COUNTIF(E6:L6,\">=2\")>=5,COUNTIF(E6:L6,1)>0)),\"ดี\",IF(OR(COUNTIF(E6:L6,1)=8,AND(COUNTIF(E6:L6,\">=2\")>=1,COUNTIF(E6:L6,\">=2\")<=4)),\"ผ่าน\",\"ไม่ผ่าน\")))))))))))))))))))","v":""},"ปลาย",{"$f":"#REF!","v":{"$error":"#REF!"}},2,null,null,null,null,null,null,null,null,{"$f":"IF(AA6=\"\",\"\",IF(AA6=\"ดีเยี่ยม\",3,IF(AA6=\"ดี\",2,IF(AA6=\"ผ่าน\",1,IF(AA6=\"ไม่ผ่าน\",0)))))","v":""},{"$f":"IF(R6=\"\",\"\",(IF(S6=\"\",\"\",(IF(T6=\"\",\"\",(IF(U6=\"\",\"\",(IF(V6=\"\",\"\",(IF(W6=\"\",\"\",IF(X6=\"\",\"\",(IF(Y6=\"\",\"\",(IF(COUNTIF(R6:Y6,0)>0,\"ไม่ผ่าน\",IF(AND(COUNTIF(R6:Y6,3)>=5,COUNTIF(R6:Y6,\"<2\")=0),\"ดีเยี่ยม\",IF(OR(AND(AND(COUNTIF(R6:Y6,3)>=1,COUNTIF(R6:Y6,3)<=4),COUNTIF(R6:Y6,\"<2\")=0),COUNTIF(R6:Y6,2)=8,AND(COUNTIF(R6:Y6,\">=2\")>=5,COUNTIF(R6:Y6,1)>0)),\"ดี\",IF(OR(COUNTIF(R6:Y6,1)=8,AND(COUNTIF(R6:Y6,\">=2\")>=1,COUNTIF(R6:Y6,\">=2\")<=4)),\"ผ่าน\",\"ไม่ผ่าน\")))))))))))))))))))","v":""},null,"ดีเยี่ยม(3)",1,"ได้ผลการประเมินระดับดีเยี่ยม จำนวน 5-8 คุณลักษณะ และไม่มีคุณลักษณะใด"]
[3,{"$f":"ใส่ชื่อ!C4","v":2842},{"$f":"ใส่ชื่อ!D4&ใส่ชื่อ!#REF!&\"    \"&ใส่ชื่อ!#REF!","v":{"$error":"#REF!"}},3,null,null,null,null,null,null,null,null,"",{"$f":"IF(E7=\"\",\"\",(IF(F7=\"\",\"\",(IF(G7=\"\",\"\",(IF(H7=\"\",\"\",(IF(I7=\"\",\"\",(IF(J7=\"\",\"\",IF(K7=\"\",\"\",(IF(L7=\"\",\"\",(IF(COUNTIF(E7:L7,0)>0,\"ไม่ผ่าน\",IF(AND(COUNTIF(E7:L7,3)>=5,COUNTIF(E7:L7,\"<2\")=0),\"ดีเยี่ยม\",IF(OR(AND(AND(COUNTIF(E7:L7,3)>=1,COUNTIF(E7:L7,3)<=4),COUNTIF(E7:L7,\"<2\")=0),COUNTIF(E7:L7,2)=8,AND(COUNTIF(E7:L7,\">=2\")>=5,COUNTIF(E7:L7,1)>0)),\"ดี\",IF(OR(COUNTIF(E7:L7,1)=8,AND(COUNTIF(E7:L7,\">=2\")>=1,COUNTIF(E7:L7,\">=2\")<=4)),\"ผ่าน\",\"ไม่ผ่าน\")))))))))))))))))))","v":""},"รวม",{"$f":"SUM(P5+P6)","v":{"$error":"#REF!"}},3,null,null,null,null,null,null,null,null,"",{"$f":"IF(R7=\"\",\"\",(IF(S7=\"\",\"\",(IF(T7=\"\",\"\",(IF(U7=\"\",\"\",(IF(V7=\"\",\"\",(IF(W7=\"\",\"\",IF(X7=\"\",\"\",(IF(Y7=\"\",\"\",(IF(COUNTIF(R7:Y7,0)>0,\"ไม่ผ่าน\",IF(AND(COUNTIF(R7:Y7,3)>=5,COUNTIF(R7:Y7,\"<2\")=0),\"ดีเยี่ยม\",IF(OR(AND(AND(COUNTIF(R7:Y7,3)>=1,COUNTIF(R7:Y7,3)<=4),COUNTIF(R7:Y7,\"<2\")=0),COUNTIF(R7:Y7,2)=8,AND(COUNTIF(R7:Y7,\">=2\")>=5,COUNTIF(R7:Y7,1)>0)),\"ดี\",IF(OR(COUNTIF(R7:Y7,1)=8,AND(COUNTIF(R7:Y7,\">=2\")>=1,COUNTIF(R7:Y7,\">=2\")<=4)),\"ผ่าน\",\"ไม่ผ่าน\")))))))))))))))))))","v":""},null,null,null,"ได้ผลการประเมินต่ำกว่าระดับดี"]
[4,{"$f":"ใส่ชื่อ!C5","v":2844},{"$f":"ใส่ชื่อ!D5&ใส่ชื่อ!#REF!&\"    \"&ใส่ชื่อ!#REF!","v":{"$error":"#REF!"}},4,null,null,null,null,null,null,null,null,"","",null,null,4,null,null,null,null,null,null,null,null,"","",null,"ดี(2)",1,"ได้ผลการประเมินระดับดีเยี่ยม จำนวน 1-4 คุณลักษณะ และไม่มีคุณลักษณะใด"]
[5,{"$f":"ใส่ชื่อ!C6","v":2845},{"$f":"ใส่ชื่อ!D6&ใส่ชื่อ!#REF!&\"    \"&ใส่ชื่อ!#REF!","v":{"$error":"#REF!"}},5,null,null,null,null,null,null,null,null,"","",null,null,5,null,null,null,null,null,null,null,null,"","",null,null,null,"ได้ผลการประเมินต่ำกว่าระดับดี หรือ"]
[6,{"$f":"ใส่ชื่อ!C7","v":2846},{"$f":"ใส่ชื่อ!D7&ใส่ชื่อ!#REF!&\"    \"&ใส่ชื่อ!#REF!","v":{"$error":"#REF!"}},6,null,null,null,null,null,null,null,null,"","",null,null,6,null,null,null,null,null,null,null,null,"","",null,null,2,"ได้ผลการประเมินระดับดี ทั้ง 8 คุณลักษณะ หรือ"]
[7,{"$f":"ใส่ชื่อ!C8","v":2847},{"$f":"ใส่ชื่อ!D8&ใส่ชื่อ!#REF!&\"    \"&ใส่ชื่อ!#REF!","v":{"$error":"#REF!"}},7,null,null,null,null,null,null,null,null,"","",null,null,7,null,null,null,null,null,null,null,null,"","",null,null,3,"ได้ผลการประเมินตั้งแต่ระดับดีขึ้นไป จำนวน 5-7 คุณลักษณะ และมีบางคุณลักษณะ"]
[8,{"$f":"ใส่ชื่อ!C9","v":2855},{"$f":"ใส่ชื่อ!D9&ใส่ชื่อ!#REF!&\"    \"&ใส่ชื่อ!#REF!","v":{"$error":"#REF!"}},8,null,null,null,null,null,null,null,null,"","",null,null,8,null,null,null,null,null,null,null,null,"","",null,null,null,"ได้ผลการประเมินระดับผ่าน"]
[9,{"$f":"ใส่ชื่อ!C10","v":2856},{"$f":"ใส่ชื่อ!D10&ใส่ชื่อ!#REF!&\"    \"&ใส่ชื่อ!#REF!","v":{"$error":"#REF!"}},9,null,null,null,null,null,null,null,null,"","",null,null,9,null,null,null,null,null,null,null,null,"","",null,"ผ่าน(1)",1,"ได้ผลการประเมินระดับผ่าน ทั้ง 8 คุณลักษณะ หรือ"]
[10,{"$f":"ใส่ชื่อ!C11","v":2863},{"$f":"ใส่ชื่อ!D11&ใส่ชื่อ!#REF!&\"    \"&ใส่ชื่อ!#REF!","v":{"$error":"#REF!"}},10,null,null,null,null,null,null,null,null,"","",null,null,10,null,null,null,null,null,null,null,null,"","",null,null,2,"ได้ผลการประเมินระดับดีขึ้นไป จำนวน 1-4 คุณลักษณะ และคุณลักษณะที่เหลือ"]
[11,{"$f":"ใส่ชื่อ!C12","v":2918},{"$f":"ใส่ชื่อ!D12&ใส่ชื่อ!#REF!&\"    \"&ใส่ชื่อ!#REF!","v":{"$error":"#REF!"}},11,null,null,null,null,null,null,null,null,"","",null,null,11,null,null,null,null,null,null,null,null,"","",null,null,null,"ได้ผลการประเมินระดับผ่าน"]
[12,{"$f":"ใส่ชื่อ!C13","v":2919},{"$f":"ใส่ชื่อ!D13&ใส่ชื่อ!#REF!&\"    \"&ใส่ชื่อ!#REF!","v":{"$error":"#REF!"}},12,null,null,null,null,null,null,null,null,"","",null,null,12,null,null,null,null,null,null,null,null,"","",null,"ไม่ผ่าน(0)",1,"ได้ผลการประเมินระดับไม่ผ่าน ตั้งแต่ 1 คุณลักษณะขึ้นไป"]
[13,{"$f":"ใส่ชื่อ!C14","v":2946},{"$f":"ใส่ชื่อ!D14&ใส่ชื่อ!#REF!&\"    \"&ใส่ชื่อ!#REF!","v":{"$error":"#REF!"}},13,null,null,null,null,null,null,null,null,"","",null,null,13,null,null,null,null,null,null,null,null,"",""]
[14,{"$f":"ใส่ชื่อ!C15","v":3010},{"$f":"ใส่ชื่อ!D15&ใส่ชื่อ!#REF!&\"    \"&ใส่ชื่อ!#REF!","v":{"$error":"#REF!"}},14,null,null,null,null,null,null,null,null,"","",null,null,14,null,null,null,null,null,null,null,null,"",""]
[15,{"$f":"ใส่ชื่อ!C16","v":3043},{"$f":"ใส่ชื่อ!D16&ใส่ชื่อ!#REF!&\"    \"&ใส่ชื่อ!#REF!","v":{"$error":"#REF!"}},15,null,null,null,null,null,null,null,null,"","",null,null,15,null,null,null,null,null,null,null,null,"",""]
[16,{"$f":"ใส่ชื่อ!C17","v":3084},{"$f":"ใส่ชื่อ!D17&ใส่ชื่อ!#REF!&\"    \"&ใส่ชื่อ!#REF!","v":{"$error":"#REF!"}},16,null,null,null,null,null,null,null,null,"","",null,null,16,null,null,null,null,null,null,null,null,"","",null,null,{"$f":"COUNTIF($AA$5:$AA$54,\"ไม่ผ่าน\")","v":0}]
[17,{"$f":"ใส่ชื่อ!C18","v":3098},{"$f":"ใส่ชื่อ!D18&ใส่ชื่อ!#REF!&\"    \"&ใส่ชื่อ!#REF!","v":{"$error":"#REF!"}},17,null,null,null,null,null,null,null,null,"","",null,null,17,null,null,null,null,null,null,null,null,"","",null,null,{"$f":"COUNTIF($AA$5:$AA$54,\"ผ่าน\")","v":0}]
[18,{"$f":"ใส่ชื่อ!C19","v":3111},{"$f":"ใส่ชื่อ!D19&ใส่ชื่อ!#REF!&\"    \"&ใส่ชื่อ!#REF!","v":{"$error":"#REF!"}},18,null,null,null,null,null,null,null,null,"","",null,null,18,null,null,null,null,null,null,null,null,"","",null,null,{"$f":"COUNTIF($AA$5:$AA$54,\"ดี\")","v":0}]
[19,{"$f":"ใส่ชื่อ!C20","v":3181},{"$f":"ใส่ชื่อ!D20&ใส่ชื่อ!#REF!&\"    \"&ใส่ชื่อ!#REF!","v":{"$error":"#REF!"}},19,null,null,null,null,null,null,null,null,"","",null,null,19,null,null,null,null,null,null,null,null,"","",null,null,{"$f":"COUNTIF($AA$5:$AA$54,\"ดีเยี่ยม\")","v":0}]
[20,{"$f":"ใส่ชื่อ!C21","v":0},{"$f":"ใส่ชื่อ!D21&ใส่ชื่อ!#REF!&\"    \"&ใส่ชื่อ!#REF!","v":{"$error":"#REF!"}},20,null,null,null,null,null,null,null,null,"","",null,null,20,null,null,null,null,null,null,null,null,"",""]
[21,{"$f":"ใส่ชื่อ!C22","v":0},{"$f":"ใส่ชื่อ!D22&ใส่ชื่อ!#REF!&\"    \"&ใส่ชื่อ!#REF!","v":{"$error":"#REF!"}},21,null,null,null,null,null,null,null,null,"","",null,null,21,null,null,null,null,null,null,null,null,"",""]
[22,{"$f":"ใส่ชื่อ!C23","v":0},{"$f":"ใส่ชื่อ!D23&ใส่ชื่อ!#REF!&\"    \"&ใส่ชื่อ!#REF!","v":{"$error":"#REF!"}},22,null,null,null,null,null,null,null,null,"","",null,null,22,null,null,null,null,null,null,null,null,"",""]
[23,{"$f":"ใส่ชื่อ!C24","v":0},{"$f":"ใส่ชื่อ!D24&ใส่ชื่อ!#REF!&\"    \"&ใส่ชื่อ!#REF!","v":{"$error":"#REF!"}},23,null,null,null,null,null,null,null,null,"","",null,null,23,null,null,null,null,null,null,null,null,"",""]
[24,{"$f":"ใส่ชื่อ!C25","v":0},{"$f":"ใส่ชื่อ!D25&ใส่ชื่อ!#REF!&\"    \"&ใส่ชื่อ!#REF!","v":{"$error":"#REF!"}},24,null,null,null,null,null,null,null,null,"","",null,null,24,null,null,null,null,null,null,null,null,"",""]
[25,{"$f":"ใส่ชื่อ!C26","v":0},{"$f":"ใส่ชื่อ!D26&ใส่ชื่อ!#REF!&\"    \"&ใส่ชื่อ!#REF!","v":{"$error":"#REF!"}},25,null,null,null,null,null,null,null,null,"","",null,null,25,null,null,null,null,null,null,null,null,"",""]
[26,{"$f":"ใส่ชื่อ!C27","v":0},{"$f":"ใส่ชื่อ!D27&ใส่ชื่อ!#REF!&\"    \"&ใส่ชื่อ!#REF!","v":{"$error":"#REF!"}},26,null,null,null,null,null,null,null,null,"","",null,null,26,null,null,null,null,null,null,null,null,"",""]
[27,{"$f":"ใส่ชื่อ!C28","v":0},{"$f":"ใส่ชื่อ!D28&ใส่ชื่อ!#REF!&\"    \"&ใส่ชื่อ!#REF!","v":{"$error":"#REF!"}},27,null,null,null,null,null,null,null,null,"","",null,null,27,null,null,null,null,null,null,null,null,"",""]
[28,{"$f":"ใส่ชื่อ!C29","v":0},{"$f":"ใส่ชื่อ!D29&ใส่ชื่อ!#REF!&\"    \"&ใส่ชื่อ!#REF!","v":{"$error":"#REF!"}},28,null,null,null,null,null,null,null,null,"","",null,null,28,null,null,null,null,null,null,null,null,"",""]
[29,{"$f":"ใส่ชื่อ!C30","v":0},{"$f":"ใส่ชื่อ!D30&ใส่ชื่อ!#REF!&\"    \"&ใส่ชื่อ!#REF!","v":{"$error":"#REF!"}},29,null,null,null,null,null,null,null,null,"","",null,null,29,null,null,null,null,null,null,null,null,"",""]
[30,{"$f":"ใส่ชื่อ!C31","v":0},{"$f":"ใส่ชื่อ!D31&ใส่ชื่อ!#REF!&\"    \"&ใส่ชื่อ!#REF!","v":{"$error":"#REF!"}},30,null,null,null,null,null,null,null,null,"","",null,null,30,null,null,null,null,null,null,null,null,"",""]
[31,{"$f":"ใส่ชื่อ!C32","v":0},{"$f":"ใส่ชื่อ!D32&ใส่ชื่อ!#REF!&\"    \"&ใส่ชื่อ!#REF!","v":{"$error":"#REF!"}},31,null,null,null,null,null,null,null,null,"","",null,null,31,null,null,null,null,null,null,null,null,"",""]
[32,{"$f":"ใส่ชื่อ!C33","v":0},{"$f":"ใส่ชื่อ!D33&ใส่ชื่อ!#REF!&\"    \"&ใส่ชื่อ!#REF!","v":{"$error":"#REF!"}},32,null,null,null,null,null,null,null,null,"","",null,null,32,null,null,null,null,null,null,null,null,"",""]
[33,{"$f":"ใส่ชื่อ!C34","v":0},{"$f":"ใส่ชื่อ!D34&ใส่ชื่อ!#REF!&\"    \"&ใส่ชื่อ!#REF!","v":{"$error":"#REF!"}},33,null,null,null,null,null,null,null,null,"","",null,null,33,null,null,null,null,null,null,null,null,"",""]
[34,{"$f":"ใส่ชื่อ!C35","v":0},{"$f":"ใส่ชื่อ!D35&ใส่ชื่อ!#REF!&\"    \"&ใส่ชื่อ!#REF!","v":{"$error":"#REF!"}},34,null,null,null,null,null,null,null,null,"","",null,null,34,null,null,null,null,null,null,null,null,"",""]
[35,{"$f":"ใส่ชื่อ!C36","v":0},{"$f":"ใส่ชื่อ!D36&ใส่ชื่อ!#REF!&\"    \"&ใส่ชื่อ!#REF!","v":{"$error":"#REF!"}},35,null,null,null,null,null,null,null,null,"","",null,null,35,null,null,null,null,null,null,null,null,"",""]
[36,{"$f":"ใส่ชื่อ!C37","v":0},{"$f":"ใส่ชื่อ!D37&ใส่ชื่อ!#REF!&\"    \"&ใส่ชื่อ!#REF!","v":{"$error":"#REF!"}},36,null,null,null,null,null,null,null,null,"","",null,null,36,null,null,null,null,null,null,null,null,"",""]
[37,{"$f":"ใส่ชื่อ!C38","v":0},{"$f":"ใส่ชื่อ!D38&ใส่ชื่อ!#REF!&\"    \"&ใส่ชื่อ!#REF!","v":{"$error":"#REF!"}},37,null,null,null,null,null,null,null,null,"","",null,null,37,null,null,null,null,null,null,null,null,"",""]
[38,{"$f":"ใส่ชื่อ!C39","v":0},{"$f":"ใส่ชื่อ!D39&ใส่ชื่อ!#REF!&\"    \"&ใส่ชื่อ!#REF!","v":{"$error":"#REF!"}},38,null,null,null,null,null,null,null,null,"","",null,null,38,null,null,null,null,null,null,null,null,"",""]
[39,{"$f":"ใส่ชื่อ!C40","v":0},{"$f":"ใส่ชื่อ!D40&ใส่ชื่อ!#REF!&\"    \"&ใส่ชื่อ!#REF!","v":{"$error":"#REF!"}},39,null,null,null,null,null,null,null,null,"","",null,null,39,null,null,null,null,null,null,null,null,"",""]
[40,{"$f":"ใส่ชื่อ!C41","v":0},{"$f":"ใส่ชื่อ!D41&ใส่ชื่อ!#REF!&\"    \"&ใส่ชื่อ!#REF!","v":{"$error":"#REF!"}},40,null,null,null,null,null,null,null,null,"","",null,null,40,null,null,null,null,null,null,null,null,"",""]
[41,{"$f":"ใส่ชื่อ!C42","v":0},{"$f":"ใส่ชื่อ!D42&ใส่ชื่อ!#REF!&\"    \"&ใส่ชื่อ!#REF!","v":{"$error":"#REF!"}},41,null,null,null,null,null,null,null,null,"","",null,null,41,null,null,null,null,null,null,null,null,"",""]
[42,{"$f":"ใส่ชื่อ!C43","v":0},{"$f":"ใส่ชื่อ!D43&ใส่ชื่อ!#REF!&\"    \"&ใส่ชื่อ!#REF!","v":{"$error":"#REF!"}},42,null,null,null,null,null,null,null,null,"","",null,null,42,null,null,null,null,null,null,null,null,"",""]
[43,{"$f":"ใส่ชื่อ!C44","v":0},{"$f":"ใส่ชื่อ!D44&ใส่ชื่อ!#REF!&\"    \"&ใส่ชื่อ!#REF!","v":{"$error":"#REF!"}},43,null,null,null,null,null,null,null,null,"","",null,null,43,null,null,null,null,null,null,null,null,"",""]
[44,{"$f":"ใส่ชื่อ!C45","v":0},{"$f":"ใส่ชื่อ!D45&ใส่ชื่อ!#REF!&\"    \"&ใส่ชื่อ!#REF!","v":{"$error":"#REF!"}},44,null,null,null,null,null,null,null,null,"","",null,null,44,null,null,null,null,null,null,null,null,"",""]
[45,{"$f":"ใส่ชื่อ!C46","v":0},{"$f":"ใส่ชื่อ!D46&ใส่ชื่อ!#REF!&\"    \"&ใส่ชื่อ!#REF!","v":{"$error":"#REF!"}},45,null,null,null,null,null,null,null,null,"","",null,null,45,null,null,null,null,null,null,null,null,"",""]
[46,{"$f":"ใส่ชื่อ!C47","v":0},{"$f":"ใส่ชื่อ!D47&ใส่ชื่อ!#REF!&\"    \"&ใส่ชื่อ!#REF!","v":{"$error":"#REF!"}},46,null,null,null,null,null,null,null,null,"","",null,null,46,null,null,null,null,null,null,null,null,"",""]
[47,{"$f":"ใส่ชื่อ!C48","v":0},{"$f":"ใส่ชื่อ!D48&ใส่ชื่อ!#REF!&\"    \"&ใส่ชื่อ!#REF!","v":{"$error":"#REF!"}},47,null,null,null,null,null,null,null,null,"","",null,null,47,null,null,null,null,null,null,null,null,"",""]
[48,{"$f":"ใส่ชื่อ!C49","v":0},{"$f":"ใส่ชื่อ!D49&ใส่ชื่อ!#REF!&\"    \"&ใส่ชื่อ!#REF!","v":{"$error":"#REF!"}},48,null,null,null,null,null,null,null,null,"","",null,null,48,null,null,null,null,null,null,null,null,"",""]
[49,{"$f":"ใส่ชื่อ!C50","v":0},{"$f":"ใส่ชื่อ!D50&ใส่ชื่อ!#REF!&\"    \"&ใส่ชื่อ!#REF!","v":{"$error":"#REF!"}},49,null,null,null,null,null,null,null,null,"","",null,null,49,null,null,null,null,null,null,null,null,"",""]
[50,{"$f":"ใส่ชื่อ!C51","v":0},{"$f":"ใส่ชื่อ!D51&ใส่ชื่อ!#REF!&\"    \"&ใส่ชื่อ!#REF!","v":{"$error":"#REF!"}},50,null,null,null,null,null,null,null,null,"","",null,null,50,null,null,null,null,null,null,null,null,"",""]

{"sheet":"อ่าน คิด วิเคราะห์","index":8,"n_rows":54,"n_cols":26,"rows_kept":54,"cut":false,"hidden":true,"merged":[[15,22,16,25],[21,23,22,25],[23,23,24,25],[25,23,26,25],[17,22,18,22],[19,22,20,22],[21,22,22,22],[23,22,24,22],[25,22,26,22],[19,23,20,25],[17,23,18,25],[7,23,8,23],[9,23,10,23],[11,23,13,23],[7,25,8,25],[9,25,10,25],[11,25,13,25],[3,22,3,25],[4,24,4,25],[5,23,6,23],[2,0,3,0],[2,1,3,1],[2,2,3,2],[2,4,2,8],[2,9,3,10],[2,13,3,13],[2,3,3,3],[2,14,2,18],[2,19,3,20],[5,25,6,25]]}
[null,null,"การประเมินความสามารถ","ในการอ่าน คิดวิเคราะห์ และเขียน ภาคเรียนที่ 1",null,null,null,null,null,null,null,null,null,"ในการอ่าน คิดวิเคราะห์ และเขียน"]
[null,null,{"$f":"\"นักเรียน\"&ปก!AF11&ปก!AL11&\" \"","v":"นักเรียนชั้นประถมศึกษาปีที่ 2/2 "},{"$f":"ใบรายชื่อ!$A$4","v":"รายวิชาหน้าที่พลเมือง    รหัสวิชา  -    ปีการศึกษา 2565"},null,null,null,null,null,null,null,null,null,{"$f":"ใบรายชื่อ!$A$4","v":"รายวิชาหน้าที่พลเมือง    รหัสวิชา  -    ปีการศึกษา 2565"}]
["เลขที่","เลขประจำตัว","ชื่อ - ชื่อสกุล","เลขที่","ตัวชี้วัดความสามารถในการอ่าน คิดวิเคราะห์ และเขียน",null,null,null,null,"ผลการประเมิน\nภาคเรียนที่ 1",null,null,null,"เลขที่","ตัวชี้วัดความสามารถในการอ่าน คิดวิเคราะห์ และเขียน",null,null,null,null,"ผลการประเมิน"]
[null,null,null,null,1,2,3,4,5,null,null,null,null,null,1,2,3,4,5,null,null,null,"เกณฑ์การประเมินความสามารถในการอ่าน คิดวิเคราะห์ และเขียน"]
[1,{"$f":"ใส่ชื่อ!C2","v":2836},{"$f":"ใส่ชื่อ!D2&ใส่ชื่อ!#REF!&\"   \"&ใส่ชื่อ!#REF!","v":{"$error":"#REF!"}},1,null,null,null,null,null,{"$f":"IF(E5=\"\",\"\",(IF(F5=\"\",\"\",(IF(G5=\"\",\"\",(IF(H5=\"\",\"\",(IF(I5=\"\",\"\",(SUM(E5:I5)/5))))))))))","v":""},{"$f":"IF(J5=\"\",\"\",(IF(J5>=2.5,\"ดีเยี่ยม\",(IF(J5>=1.5,\"ดี\",(IF(J5>=0.6,\"ผ่าน\",(IF(J5<=0.4,\"ไม่ผ่าน\")))))))))","v":""},"เก็บ+กลาง",{"$f":"SUM(#REF!,#REF!)","v":{"$error":"#REF!"}},1,null,null,null,null,null,{"$f":"IF(O5=\"\",\"\",(IF(P5=\"\",\"\",(IF(Q5=\"\",\"\",(IF(R5=\"\",\"\",(IF(S5=\"\",\"\",(SUM(O5:S5)/5))))))))))","v":""},{"$f":"IF(T5=\"\",\"\",(IF(T5>=2.5,\"ดีเยี่ยม\",(IF(T5>=1.5,\"ดี\",(IF(T5>=0.6,\"ผ่าน\",(IF(T5<=0.4,\"ไม่ผ่าน\")))))))))","v":""},null,null,"ระดับ","เกณฑ์การพิจรณา"]
[2,{"$f":"ใส่ชื่อ!C3","v":2840},{"$f":"ใส่ชื่อ!D3&ใส่ชื่อ!#REF!&\"   \"&ใส่ชื่อ!#REF!","v":{"$error":"#REF!"}},2,null,null,null,null,null,{"$f":"IF(E6=\"\",\"\",(IF(F6=\"\",\"\",(IF(G6=\"\",\"\",(IF(H6=\"\",\"\",(IF(I6=\"\",\"\",(SUM(E6:I6)/5))))))))))","v":""},{"$f":"IF(J6=\"\",\"\",(IF(J6>=2.5,\"ดีเยี่ยม\",(IF(J6>=1.5,\"ดี\",(IF(J6>=0.6,\"ผ่าน\",(IF(J6<=0.4,\"ไม่ผ่าน\")))))))))","v":""},"ปลาย",{"$f":"#REF!","v":{"$error":"#REF!"}},2,null,null,null,null,null,{"$f":"IF(O6=\"\",\"\",(IF(P6=\"\",\"\",(IF(Q6=\"\",\"\",(IF(R6=\"\",\"\",(IF(S6=\"\",\"\",(SUM(O6:S6)/5))))))))))","v":""},{"$f":"IF(T6=\"\",\"\",(IF(T6>=2.5,\"ดีเยี่ยม\",(IF(T6>=1.5,\"ดี\",(IF(T6>=0.6,\"ผ่าน\",(IF(T6<=0.4,\"ไม่ผ่าน\")))))))))","v":""},null,null,"ดีเยี่ยม(3)",null,"มีผลงานที่แสดงถึงความสามารถในการอ่าน คิดวิเคราะห์ และเขียน ที่มีคุณภาพดีเลิศอยู่เสมอ"]
[3,{"$f":"ใส่ชื่อ!C4","v":2842},{"$f":"ใส่ชื่อ!D4&ใส่ชื่อ!#REF!&\"   \"&ใส่ชื่อ!#REF!","v":{"$error":"#REF!"}},3,null,null,null,null,null,{"$f":"IF(E7=\"\",\"\",(IF(F7=\"\",\"\",(IF(G7=\"\",\"\",(IF(H7=\"\",\"\",(IF(I7=\"\",\"\",(SUM(E7:I7)/5))))))))))","v":""},"","รวม",{"$f":"SUM(M5+M6)","v":{"$error":"#REF!"}},3,null,null,null,null,null,{"$f":"IF(O7=\"\",\"\",(IF(P7=\"\",\"\",(IF(Q7=\"\",\"\",(IF(R7=\"\",\"\",(IF(S7=\"\",\"\",(SUM(O7:S7)/5))))))))))","v":""},""]
[4,{"$f":"ใส่ชื่อ!C5","v":2844},{"$f":"ใส่ชื่อ!D5&ใส่ชื่อ!#REF!&\"   \"&ใส่ชื่อ!#REF!","v":{"$error":"#REF!"}},4,null,null,null,null,null,"","",null,null,4,null,null,null,null,null,"","",null,null,"ดี(2)",null,"มีผลงานที่แสดงถึงความสามารถในการอ่าน คิดวิเคราะห์ และเขียน เป็นที่ยอมรับ"]
[5,{"$f":"ใส่ชื่อ!C6","v":2845},{"$f":"ใส่ชื่อ!D6&ใส่ชื่อ!#REF!&\"   \"&ใส่ชื่อ!#REF!","v":{"$error":"#REF!"}},5,null,null,null,null,null,"","",null,null,5,null,null,null,null,null,"",""]
[6,{"$f":"ใส่ชื่อ!C7","v":2846},{"$f":"ใส่ชื่อ!D7&ใส่ชื่อ!#REF!&\"   \"&ใส่ชื่อ!#REF!","v":{"$error":"#REF!"}},6,null,null,null,null,null,"","",null,null,6,null,null,null,null,null,"","",null,null,"ผ่าน(1)",null,"มีผลงานที่แสดงถึงความสามารถในการอ่าน คิดวิเคราะห์ และเขียน ทีมีข้อบกพร่องบางประการ"]
[7,{"$f":"ใส่ชื่อ!C8","v":2847},{"$f":"ใส่ชื่อ!D8&ใส่ชื่อ!#REF!&\"   \"&ใส่ชื่อ!#REF!","v":{"$error":"#REF!"}},7,null,null,null,null,null,"","",null,null,7,null,null,null,null,null,"",""]
[8,{"$f":"ใส่ชื่อ!C9","v":2855},{"$f":"ใส่ชื่อ!D9&ใส่ชื่อ!#REF!&\"   \"&ใส่ชื่อ!#REF!","v":{"$error":"#REF!"}},8,null,null,null,null,null,"","",null,null,8,null,null,null,null,null,"","",null,null,"ไม่ผ่าน(0)",null,"ไม่มีผลงานที่แสดงถึงความสามารถในการอ่าน คิดวิเคราะห์ และเขียนหรือถ้ามีผลงาน\nผลงานนั้นยังมีข้อบกพร่องที่ต้องได้รับการปรับปรุงแก้ไขหลายประการ"]
[9,{"$f":"ใส่ชื่อ!C10","v":2856},{"$f":"ใส่ชื่อ!D10&ใส่ชื่อ!#REF!&\"   \"&ใส่ชื่อ!#REF!","v":{"$error":"#REF!"}},9,null,null,null,null,null,"","",null,null,9,null,null,null,null,null,"",""]
[10,{"$f":"ใส่ชื่อ!C11","v":2863},{"$f":"ใส่ชื่อ!D11&ใส่ชื่อ!#REF!&\"   \"&ใส่ชื่อ!#REF!","v":{"$error":"#REF!"}},10,null,null,null,null,null,"","",null,null,10,null,null,null,null,null,"",""]
[11,{"$f":"ใส่ชื่อ!C12","v":2918},{"$f":"ใส่ชื่อ!D12&ใส่ชื่อ!#REF!&\"   \"&ใส่ชื่อ!#REF!","v":{"$error":"#REF!"}},11,null,null,null,null,null,"","",null,null,11,null,null,null,null,null,"",""]
[12,{"$f":"ใส่ชื่อ!C13","v":2919},{"$f":"ใส่ชื่อ!D13&ใส่ชื่อ!#REF!&\"   \"&ใส่ชื่อ!#REF!","v":{"$error":"#REF!"}},12,null,null,null,null,null,"","",null,null,12,null,null,null,null,null,"","",null,{"$f":"\" \"&\"ตัวชี้วัดความสามารถในการอ่าน คิดวิคราะห์ และเขียน \"&\"ระดับชั้น\"&ปก!AN11&\" \"&IF(ปก!C19=3,\"(ม.1-3)\",IF(ปก!C19=4,\"(ม.4-6)\"))","v":" ตัวชี้วัดความสามารถในการอ่าน คิดวิคราะห์ และเขียน ระดับชั้นระดับประถมศึกษาตอนต้น(ป.1-3) FALSE"}]
[13,{"$f":"ใส่ชื่อ!C14","v":2946},{"$f":"ใส่ชื่อ!D14&ใส่ชื่อ!#REF!&\"   \"&ใส่ชื่อ!#REF!","v":{"$error":"#REF!"}},13,null,null,null,null,null,"","",null,null,13,null,null,null,null,null,"",""]
[14,{"$f":"ใส่ชื่อ!C15","v":3010},{"$f":"ใส่ชื่อ!D15&ใส่ชื่อ!#REF!&\"   \"&ใส่ชื่อ!#REF!","v":{"$error":"#REF!"}},14,null,null,null,null,null,"","",null,null,14,null,null,null,null,null,"","",null,"1.",{"$f":"IF(ปก!BA2=\"บ\",\"สามารถคัดสรรสื่อที่ต้องการอ่านเพื่อหาข้อมูลสารสนเทศได้ตามวัตถุประสงค์ สามารถสร้างความเข้าใจและประยุกต์ใช้ความรู้จากการอ่าน \",IF(ปก!BA2=\"พ\",\"สามารถอ่านเพื่อการศึกษาค้นคว้า เพิ่มพูนความรู้ ประสบการณ์ และการประยุกต์ใช้ในชีวิตประจำวัน\"))","v":false}]
[15,{"$f":"ใส่ชื่อ!C16","v":3043},{"$f":"ใส่ชื่อ!D16&ใส่ชื่อ!#REF!&\"   \"&ใส่ชื่อ!#REF!","v":{"$error":"#REF!"}},15,null,null,null,null,null,"","",null,null,15,null,null,null,null,null,"",""]
[16,{"$f":"ใส่ชื่อ!C17","v":3084},{"$f":"ใส่ชื่อ!D17&ใส่ชื่อ!#REF!&\"   \"&ใส่ชื่อ!#REF!","v":{"$error":"#REF!"}},16,null,null,null,null,null,"","",null,null,16,null,null,null,null,null,"","",null,"2.",{"$f":"IF(ปก!BA2=\"บ\",\"สามารถจับประเด็นสำคัญและประเด็นสนับสนุน โต้แย้ง\",IF(ปก!BA2=\"พ\",\"สามารถจับประเด็นสำคัญ ลำดับเหตุการณ์จากการอ่านสื่อที่มีความซับซ้อน\"))","v":false}]
[17,{"$f":"ใส่ชื่อ!C18","v":3098},{"$f":"ใส่ชื่อ!D18&ใส่ชื่อ!#REF!&\"   \"&ใส่ชื่อ!#REF!","v":{"$error":"#REF!"}},17,null,null,null,null,null,"","",null,null,17,null,null,null,null,null,"",""]
[18,{"$f":"ใส่ชื่อ!C19","v":3111},{"$f":"ใส่ชื่อ!D19&ใส่ชื่อ!#REF!&\"   \"&ใส่ชื่อ!#REF!","v":{"$error":"#REF!"}},18,null,null,null,null,null,"","",null,null,18,null,null,null,null,null,"","",null,"3.",{"$f":"IF(ปก!BA2=\"บ\",\"สามารถวิเคราะห์ วิจารณ์ ความสมเหตุสมผล ความน่าเชื่อถือ ลำดับความเป็นไปได้ของเรื่องที่อ่าน\",IF(ปก!BA2=\"พ\",\"สามารถวิเคราะห์สิ่งที่ผู้เขียนต้องการสื่อสารกับผู้อ่าน และสามารถวิพากษ์ ให้ข้อเสนอแนะในแง่มุมต่างๆ\"))","v":false}]
[19,{"$f":"ใส่ชื่อ!C20","v":3181},{"$f":"ใส่ชื่อ!D20&ใส่ชื่อ!#REF!&\"   \"&ใส่ชื่อ!#REF!","v":{"$error":"#REF!"}},19,null,null,null,null,null,"","",null,null,19,null,null,null,null,null,"",""]
[20,{"$f":"ใส่ชื่อ!C21","v":0},{"$f":"ใส่ชื่อ!D21&ใส่ชื่อ!#REF!&\"   \"&ใส่ชื่อ!#REF!","v":{"$error":"#REF!"}},20,null,null,null,null,null,"","",null,null,20,null,null,null,null,null,"","",null,"4.",{"$f":"IF(ปก!BA2=\"บ\",\"สามารถสรุปคุณค่า แนวคิด แง่คิดที่ได้จากการอ่าน\",IF(ปก!BA2=\"พ\",\"สามารถประเมินความน่าเชื่อถือ คุณค่า แนวคิดที่ได้จากสิ่งที่อ่านอย่างหลากหลาย\"))","v":false}]
[21,{"$f":"ใส่ชื่อ!C22","v":0},{"$f":"ใส่ชื่อ!D22&ใส่ชื่อ!#REF!&\"   \"&ใส่ชื่อ!#REF!","v":{"$error":"#REF!"}},21,null,null,null,null,null,"","",null,null,21,null,null,null,null,null,"",""]
[22,{"$f":"ใส่ชื่อ!C23","v":0},{"$f":"ใส่ชื่อ!D23&ใส่ชื่อ!#REF!&\"   \"&ใส่ชื่อ!#REF!","v":{"$error":"#REF!"}},22,null,null,null,null,null,"","",null,null,22,null,null,null,null,null,"","",null,"5.",{"$f":"IF(ปก!BA2=\"บ\",\"สามารถสรุป อภิปราย ขยายความ แสดงความคิดเห็น โต้แย้ง สนันสนุน โน้มน้าว โดยการเขียนสื่อสารในรูปแบบต่างๆ เช่น ผังความคิด เป็นต้น\",IF(ปก!BA2=\"พ\",\"สามารถเขียนแสดงความคิดเห็น โต้แย้ง สรุป โดยมีข้อมูลอธิบายสนับสนุนอย่างเพียงพอ และสมเหตุสมผล\"))","v":false}]
[23,{"$f":"ใส่ชื่อ!C24","v":0},{"$f":"ใส่ชื่อ!D24&ใส่ชื่อ!#REF!&\"   \"&ใส่ชื่อ!#REF!","v":{"$error":"#REF!"}},23,null,null,null,null,null,"","",null,null,23,null,null,null,null,null,"",""]
[24,{"$f":"ใส่ชื่อ!C25","v":0},{"$f":"ใส่ชื่อ!D25&ใส่ชื่อ!#REF!&\"   \"&ใส่ชื่อ!#REF!","v":{"$error":"#REF!"}},24,null,null,null,null,null,"","",null,null,24,null,null,null,null,null,"",""]
[25,{"$f":"ใส่ชื่อ!C26","v":0},{"$f":"ใส่ชื่อ!D26&ใส่ชื่อ!#REF!&\"   \"&ใส่ชื่อ!#REF!","v":{"$error":"#REF!"}},25,null,null,null,null,null,"","",null,null,25,null,null,null,null,null,"",""]
[26,{"$f":"ใส่ชื่อ!C27","v":0},{"$f":"ใส่ชื่อ!D27&ใส่ชื่อ!#REF!&\"   \"&ใส่ชื่อ!#REF!","v":{"$error":"#REF!"}},26,null,null,null,null,null,"","",null,null,26,null,null,null,null,null,"","",null,null,{"$f":"COUNTIF($U$5:$U$54,\"ไม่ผ่าน\")","v":0}]
[27,{"$f":"ใส่ชื่อ!C28","v":0},{"$f":"ใส่ชื่อ!D28&ใส่ชื่อ!#REF!&\"   \"&ใส่ชื่อ!#REF!","v":{"$error":"#REF!"}},27,null,null,null,null,null,"","",null,null,27,null,null,null,null,null,"","",null,null,{"$f":"COUNTIF($U$5:$U$54,\"ผ่าน\")","v":0}]
[28,{"$f":"ใส่ชื่อ!C29","v":0},{"$f":"ใส่ชื่อ!D29&ใส่ชื่อ!#REF!&\"   \"&ใส่ชื่อ!#REF!","v":{"$error":"#REF!"}},28,null,null,null,null,null,"","",null,null,28,null,null,null,null,null,"","",null,null,{"$f":"COUNTIF($U$5:$U$54,\"ดี\")","v":0}]
[29,{"$f":"ใส่ชื่อ!C30","v":0},{"$f":"ใส่ชื่อ!D30&ใส่ชื่อ!#REF!&\"   \"&ใส่ชื่อ!#REF!","v":{"$error":"#REF!"}},29,null,null,null,null,null,"","",null,null,29,null,null,null,null,null,"","",null,null,{"$f":"COUNTIF($U$5:$U$54,\"ดีเยี่ยม\")","v":0}]
[30,{"$f":"ใส่ชื่อ!C31","v":0},{"$f":"ใส่ชื่อ!D31&ใส่ชื่อ!#REF!&\"   \"&ใส่ชื่อ!#REF!","v":{"$error":"#REF!"}},30,null,null,null,null,null,"","",null,null,30,null,null,null,null,null,"",""]
[31,{"$f":"ใส่ชื่อ!C32","v":0},{"$f":"ใส่ชื่อ!D32&ใส่ชื่อ!#REF!&\"   \"&ใส่ชื่อ!#REF!","v":{"$error":"#REF!"}},31,null,null,null,null,null,"","",null,null,31,null,null,null,null,null,"",""]
[32,{"$f":"ใส่ชื่อ!C33","v":0},{"$f":"ใส่ชื่อ!D33&ใส่ชื่อ!#REF!&\"   \"&ใส่ชื่อ!#REF!","v":{"$error":"#REF!"}},32,null,null,null,null,null,"","",null,null,32,null,null,null,null,null,"",""]
[33,{"$f":"ใส่ชื่อ!C34","v":0},{"$f":"ใส่ชื่อ!D34&ใส่ชื่อ!#REF!&\"   \"&ใส่ชื่อ!#REF!","v":{"$error":"#REF!"}},33,null,null,null,null,null,"",{"$f":"IF(J37=\"\",\"\",(IF(J37>=2.5,\"ดีเยี่ยม\",(IF(J37>=1.5,\"ดี\",(IF(J37>=0.6,\"ผ่าน\",(IF(J37<=0.4,\"ไม่ผ่าน\")))))))))","v":""},null,null,33,null,null,null,null,null,"",{"$f":"IF(T37=\"\",\"\",(IF(T37>=2.5,\"ดีเยี่ยม\",(IF(T37>=1.5,\"ดี\",(IF(T37>=0.6,\"ผ่าน\",(IF(T37<=0.4,\"ไม่ผ่าน\")))))))))","v":""}]
[34,{"$f":"ใส่ชื่อ!C35","v":0},{"$f":"ใส่ชื่อ!D35&ใส่ชื่อ!#REF!&\"   \"&ใส่ชื่อ!#REF!","v":{"$error":"#REF!"}},34,null,null,null,null,null,"","",null,null,34,null,null,null,null,null,"",{"$f":"IF(T38=\"\",\"\",(IF(T38>=2.5,\"ดีเยี่ยม\",(IF(T38>=1.5,\"ดี\",(IF(T38>=0.6,\"ผ่าน\",(IF(T38<=0.4,\"ไม่ผ่าน\")))))))))","v":""}]
[35,{"$f":"ใส่ชื่อ!C36","v":0},{"$f":"ใส่ชื่อ!D36&ใส่ชื่อ!#REF!&\"   \"&ใส่ชื่อ!#REF!","v":{"$error":"#REF!"}},35,null,null,null,null,null,"","",null,null,35,null,null,null,null,null,"",""]
[36,{"$f":"ใส่ชื่อ!C37","v":0},{"$f":"ใส่ชื่อ!D37&ใส่ชื่อ!#REF!&\"   \"&ใส่ชื่อ!#REF!","v":{"$error":"#REF!"}},36,null,null,null,null,null,"","",null,null,36,null,null,null,null,null,"",""]
[37,{"$f":"ใส่ชื่อ!C38","v":0},{"$f":"ใส่ชื่อ!D38&ใส่ชื่อ!#REF!&\"   \"&ใส่ชื่อ!#REF!","v":{"$error":"#REF!"}},37,null,null,null,null,null,"","",null,null,37,null,null,null,null,null,"",""]
[38,{"$f":"ใส่ชื่อ!C39","v":0},{"$f":"ใส่ชื่อ!D39&ใส่ชื่อ!#REF!&\"   \"&ใส่ชื่อ!#REF!","v":{"$error":"#REF!"}},38,null,null,null,null,null,"","",null,null,38,null,null,null,null,null,"",""]
[39,{"$f":"ใส่ชื่อ!C40","v":0},{"$f":"ใส่ชื่อ!D40&ใส่ชื่อ!#REF!&\"   \"&ใส่ชื่อ!#REF!","v":{"$error":"#REF!"}},39,null,null,null,null,null,"","",null,null,39,null,null,null,null,null,"",""]
[40,{"$f":"ใส่ชื่อ!C41","v":0},{"$f":"ใส่ชื่อ!D41&ใส่ชื่อ!#REF!&\"   \"&ใส่ชื่อ!#REF!","v":{"$error":"#REF!"}},40,null,null,null,null,null,"","",null,null,40,null,null,null,null,null,"",""]
[41,{"$f":"ใส่ชื่อ!C42","v":0},{"$f":"ใส่ชื่อ!D42&ใส่ชื่อ!#REF!&\"   \"&ใส่ชื่อ!#REF!","v":{"$error":"#REF!"}},41,null,null,null,null,null,{"$f":"IF(E45=\"\",\"\",(IF(F45=\"\",\"\",(IF(G45=\"\",\"\",(IF(H45=\"\",\"\",(IF(I45=\"\",\"\",(SUM(E45:I45)/5))))))))))","v":""},{"$f":"IF(J45=\"\",\"\",(IF(J45>=2.5,\"ดีเยี่ยม\",(IF(J45>=1.5,\"ดี\",(IF(J45>=0.6,\"ผ่าน\",(IF(J45<=0.4,\"ไม่ผ่าน\")))))))))","v":""},null,null,41,null,null,null,null,null,{"$f":"IF(O45=\"\",\"\",(IF(P45=\"\",\"\",(IF(Q45=\"\",\"\",(IF(R45=\"\",\"\",(IF(S45=\"\",\"\",(SUM(O45:S45)/5))))))))))","v":""},{"$f":"IF(T45=\"\",\"\",(IF(T45>=2.5,\"ดีเยี่ยม\",(IF(T45>=1.5,\"ดี\",(IF(T45>=0.6,\"ผ่าน\",(IF(T45<=0.4,\"ไม่ผ่าน\")))))))))","v":""}]
[42,{"$f":"ใส่ชื่อ!C43","v":0},{"$f":"ใส่ชื่อ!D43&ใส่ชื่อ!#REF!&\"   \"&ใส่ชื่อ!#REF!","v":{"$error":"#REF!"}},42,null,null,null,null,null,"","",null,null,42,null,null,null,null,null,"",""]
[43,{"$f":"ใส่ชื่อ!C44","v":0},{"$f":"ใส่ชื่อ!D44&ใส่ชื่อ!#REF!&\"   \"&ใส่ชื่อ!#REF!","v":{"$error":"#REF!"}},43,null,null,null,null,null,"","",null,null,43,null,null,null,null,null,"",""]
[44,{"$f":"ใส่ชื่อ!C45","v":0},{"$f":"ใส่ชื่อ!D45&ใส่ชื่อ!#REF!&\"   \"&ใส่ชื่อ!#REF!","v":{"$error":"#REF!"}},44,null,null,null,null,null,"","",null,null,44,null,null,null,null,null,"",""]
[45,{"$f":"ใส่ชื่อ!C46","v":0},{"$f":"ใส่ชื่อ!D46&ใส่ชื่อ!#REF!&\"   \"&ใส่ชื่อ!#REF!","v":{"$error":"#REF!"}},45,null,null,null,null,null,"","",null,null,45,null,null,null,null,null,"",""]
[46,{"$f":"ใส่ชื่อ!C47","v":0},{"$f":"ใส่ชื่อ!D47&ใส่ชื่อ!#REF!&\"   \"&ใส่ชื่อ!#REF!","v":{"$error":"#REF!"}},46,null,null,null,null,null,"","",null,null,46,null,null,null,null,null,"",""]
[47,{"$f":"ใส่ชื่อ!C48","v":0},{"$f":"ใส่ชื่อ!D48&ใส่ชื่อ!#REF!&\"   \"&ใส่ชื่อ!#REF!","v":{"$error":"#REF!"}},47,null,null,null,null,null,"","",null,null,47,null,null,null,null,null,"",""]
[48,{"$f":"ใส่ชื่อ!C49","v":0},{"$f":"ใส่ชื่อ!D49&ใส่ชื่อ!#REF!&\"   \"&ใส่ชื่อ!#REF!","v":{"$error":"#REF!"}},48,null,null,null,null,null,"","",null,null,48,null,null,null,null,null,"",""]
[49,{"$f":"ใส่ชื่อ!C50","v":0},{"$f":"ใส่ชื่อ!D50&ใส่ชื่อ!#REF!&\"   \"&ใส่ชื่อ!#REF!","v":{"$error":"#REF!"}},49,null,null,null,null,null,"","",null,null,49,null,null,null,null,null,"",""]
[50,{"$f":"ใส่ชื่อ!C51","v":0},{"$f":"ใส่ชื่อ!D51&ใส่ชื่อ!#REF!&\"   \"&ใส่ชื่อ!#REF!","v":{"$error":"#REF!"}},50,null,null,null,null,null,"","",null,null,50,null,null,null,null,null,"",""]

{"sheet":"สรุปผลสัมฤทธิ์","index":9,"n_rows":58,"n_cols":15,"rows_kept":58,"cut":false,"hidden":false,"merged":[[56,10,56,12],[49,10,49,12],[50,10,50,12],[51,10,51,12],[55,10,55,12],[54,10,54,12],[45,10,45,12],[46,10,46,12],[44,10,44,12],[47,10,47,12],[48,10,48,12],[9,10,9,12],[12,10,12,12],[4,10,6,12],[7,10,7,12],[0,0,0,12],[1,0,1,12],[2,0,2,12],[4,0,6,0],[4,1,6,1],[4,2,6,2],[4,9,6,9],[4,3,6,3],[4,4,4,6],[4,7,6,7],[4,8,6,8],[32,10,32,12],[38,10,38,12],[26,10,26,12],[29,10,29,12],[15,10,15,12]]}
[{"$f":"\"ผลการประเมินคุณภาพผู้เรียนระดับชั้นเรียน   \"&\"รายวิชา \"&ปก!C26&\"  รหัสวิชา \"&ปก!C27","v":"ผลการประเมินคุณภาพผู้เรียนระดับชั้นเรียน   รายวิชา หน้าที่พลเมือง  รหัสวิชา  -"}]
[{"$f":"\"ชั้นประถมศึกษาปีที่ \"&ปก!C21&\"/\"&ปก!C22&\"    ปีการศึกษา \"&ปก!C27","v":"ชั้นประถมศึกษาปีที่ 2/2    ปีการศึกษา  -"}]
[{"$f":"ปก!C5&\"  สังกัด\"&ปก!C8&\"  อำเภอ\"&ปก!C6&\"  จังหวัด\"&ปก!C7","v":"โรงเรียนวัดสิงห์ทอง  สังกัดองค์การบริหารส่วนจังหวัดนนทบุรี  อำเภอปากเกร็ด  จังหวัดนนทบุรี"}]
[]
["เลขที่","เลขประจำตัว","ชื่อ - สกุล","เวลา\nเรียน\nร้อยละ","คะแนน",null,null,"ผลการเรียน","อ่าน คิด วิเคราะห์และเขียน","คุณลักษณะ\nอันพึงประสงค์","สรุปผลการพัฒนาคุณภาพ"]
[null,null,null,null,"ภาคเรียนที่ 1","ภาคเรียนที่ 2","รวมรายปี"]
[null,null,null,null,{"$f":"ประเมินผลการเรียนเทอม2!DP6","v":50},{"$f":"ประเมินผลการเรียนเทอม2!DQ6","v":50},{"$f":"ประเมินผลการเรียนเทอม2!DS6","v":100}]
[{"$f":"IF(ใส่ชื่อ!A2=\"\",\"\",ใส่ชื่อ!A2)","v":1},{"$f":"IF(ใส่ชื่อ!C2=\"\",\"\",ใบรายชื่อ!B7)","v":2836},{"$f":"CONCATENATE(ใส่ชื่อ!D2,ใส่ชื่อ!E2&\"  \"&ใส่ชื่อ!F2)","v":"เด็กชายธิติวัฒน์  ขุนสิทธิ์"},{"$f":"IF(เวลาเรียน!L9=0,\"\",เวลาเรียน!L9)","v":100},{"$f":"IF(A8=\"\",\"\",ประเมินผลการเรียนเทอม2!DP7)","v":40},{"$f":"IF(A8=\"\",\"\",ประเมินผลการเรียนเทอม2!DQ7)","v":42.5},{"$f":"IF(A8=\"\",\"\",ประเมินผลการเรียนเทอม2!DS7)","v":82.5},{"$f":"ประเมินผลการเรียนเทอม2!DT7","v":4},{"$f":"ประเมินผลการเรียนเทอม2!CQ7","v":"ดย"},{"$f":"ประเมินผลการเรียนเทอม2!DB7","v":"ดย"},"จำนวนนักเรียนทั้งหมด"]
[{"$f":"IF(ใส่ชื่อ!A3=\"\",\"\",ใส่ชื่อ!A3)","v":2},{"$f":"IF(ใส่ชื่อ!C3=\"\",\"\",ใบรายชื่อ!B8)","v":2840},{"$f":"CONCATENATE(ใส่ชื่อ!D3,ใส่ชื่อ!E3&\"  \"&ใส่ชื่อ!F3)","v":"เด็กชายอภิชาติ  ล่องสุวรรณ"},{"$f":"IF(เวลาเรียน!L10=0,\"\",เวลาเรียน!L10)","v":100},{"$f":"IF(A9=\"\",\"\",ประเมินผลการเรียนเทอม2!DP8)","v":30.5},{"$f":"IF(A9=\"\",\"\",ประเมินผลการเรียนเทอม2!DQ8)","v":40.5},{"$f":"IF(A9=\"\",\"\",ประเมินผลการเรียนเทอม2!DS8)","v":71},{"$f":"ประเมินผลการเรียนเทอม2!DT8","v":3},{"$f":"ประเมินผลการเรียนเทอม2!CQ8","v":"ดย"},{"$f":"ประเมินผลการเรียนเทอม2!DB8","v":"ดย"},"จำนวน",{"$f":"ปก!Z24","v":20},"คน"]
[{"$f":"IF(ใส่ชื่อ!A4=\"\",\"\",ใส่ชื่อ!A4)","v":3},{"$f":"IF(ใส่ชื่อ!C4=\"\",\"\",ใบรายชื่อ!B9)","v":2842},{"$f":"CONCATENATE(ใส่ชื่อ!D4,ใส่ชื่อ!E4&\"  \"&ใส่ชื่อ!F4)","v":"เด็กชายเมธัส  ป้อมเมือง"},{"$f":"IF(เวลาเรียน!L11=0,\"\",เวลาเรียน!L11)","v":100},{"$f":"IF(A10=\"\",\"\",ประเมินผลการเรียนเทอม2!DP9)","v":38},{"$f":"IF(A10=\"\",\"\",ประเมินผลการเรียนเทอม2!DQ9)","v":42},{"$f":"IF(A10=\"\",\"\",ประเมินผลการเรียนเทอม2!DS9)","v":80},{"$f":"ประเมินผลการเรียนเทอม2!DT9","v":4},{"$f":"ประเมินผลการเรียนเทอม2!CQ9","v":"ดย"},{"$f":"ประเมินผลการเรียนเทอม2!DB9","v":"ดย"},"นักเรียนที่ได้ระดับ ดี(3) ขึ้นไป"]
[{"$f":"IF(ใส่ชื่อ!A5=\"\",\"\",ใส่ชื่อ!A5)","v":4},{"$f":"IF(ใส่ชื่อ!C5=\"\",\"\",ใบรายชื่อ!B10)","v":2844},{"$f":"CONCATENATE(ใส่ชื่อ!D5,ใส่ชื่อ!E5&\"  \"&ใส่ชื่อ!F5)","v":"เด็กหญิงพรณิสา  เพ็ชรจั่น"},{"$f":"IF(เวลาเรียน!L12=0,\"\",เวลาเรียน!L12)","v":100},{"$f":"IF(A11=\"\",\"\",ประเมินผลการเรียนเทอม2!DP10)","v":42},{"$f":"IF(A11=\"\",\"\",ประเมินผลการเรียนเทอม2!DQ10)","v":47},{"$f":"IF(A11=\"\",\"\",ประเมินผลการเรียนเทอม2!DS10)","v":89},{"$f":"ประเมินผลการเรียนเทอม2!DT10","v":4},{"$f":"ประเมินผลการเรียนเทอม2!CQ10","v":"ดย"},{"$f":"ประเมินผลการเรียนเทอม2!DB10","v":"ดย"},"จำนวน",{"$f":"ปก!AH24+ปก!AF24+ปก!AD24","v":18},"คน"]
[{"$f":"IF(ใส่ชื่อ!A6=\"\",\"\",ใส่ชื่อ!A6)","v":5},{"$f":"IF(ใส่ชื่อ!C6=\"\",\"\",ใบรายชื่อ!B11)","v":2845},{"$f":"CONCATENATE(ใส่ชื่อ!D6,ใส่ชื่อ!E6&\"  \"&ใส่ชื่อ!F6)","v":"เด็กหญิงบุญฑริกา  นิ่มอ่อน"},{"$f":"IF(เวลาเรียน!L13=0,\"\",เวลาเรียน!L13)","v":100},{"$f":"IF(A12=\"\",\"\",ประเมินผลการเรียนเทอม2!DP11)","v":30},{"$f":"IF(A12=\"\",\"\",ประเมินผลการเรียนเทอม2!DQ11)","v":40},{"$f":"IF(A12=\"\",\"\",ประเมินผลการเรียนเทอม2!DS11)","v":70},{"$f":"ประเมินผลการเรียนเทอม2!DT11","v":3},{"$f":"ประเมินผลการเรียนเทอม2!CQ11","v":"ด"},{"$f":"ประเมินผลการเรียนเทอม2!DB11","v":"ด"},"คิดเป็นร้อยละ",{"$f":"ปก!AL26","v":90}]
[{"$f":"IF(ใส่ชื่อ!A7=\"\",\"\",ใส่ชื่อ!A7)","v":6},{"$f":"IF(ใส่ชื่อ!C7=\"\",\"\",ใบรายชื่อ!B12)","v":2846},{"$f":"CONCATENATE(ใส่ชื่อ!D7,ใส่ชื่อ!E7&\"  \"&ใส่ชื่อ!F7)","v":"เด็กหญิงรัญชิดา  นรเนตร"},{"$f":"IF(เวลาเรียน!L14=0,\"\",เวลาเรียน!L14)","v":100},{"$f":"IF(A13=\"\",\"\",ประเมินผลการเรียนเทอม2!DP12)","v":30.5},{"$f":"IF(A13=\"\",\"\",ประเมินผลการเรียนเทอม2!DQ12)","v":40},{"$f":"IF(A13=\"\",\"\",ประเมินผลการเรียนเทอม2!DS12)","v":70.5},{"$f":"ประเมินผลการเรียนเทอม2!DT12","v":3},{"$f":"ประเมินผลการเรียนเทอม2!CQ12","v":"ดย"},{"$f":"ประเมินผลการเรียนเทอม2!DB12","v":"ดย"},"นักเรียนที่ไม่ผ่านการประเมิน"]
[{"$f":"IF(ใส่ชื่อ!A8=\"\",\"\",ใส่ชื่อ!A8)","v":7},{"$f":"IF(ใส่ชื่อ!C8=\"\",\"\",ใบรายชื่อ!B13)","v":2847},{"$f":"CONCATENATE(ใส่ชื่อ!D8,ใส่ชื่อ!E8&\"  \"&ใส่ชื่อ!F8)","v":"เด็กหญิงอริสา  วีระวิทยกุญชร"},{"$f":"IF(เวลาเรียน!L15=0,\"\",เวลาเรียน!L15)","v":100},{"$f":"IF(A14=\"\",\"\",ประเมินผลการเรียนเทอม2!DP13)","v":35.5},{"$f":"IF(A14=\"\",\"\",ประเมินผลการเรียนเทอม2!DQ13)","v":40},{"$f":"IF(A14=\"\",\"\",ประเมินผลการเรียนเทอม2!DS13)","v":75.5},{"$f":"ประเมินผลการเรียนเทอม2!DT13","v":3.5},{"$f":"ประเมินผลการเรียนเทอม2!CQ13","v":"ดย"},{"$f":"ประเมินผลการเรียนเทอม2!DB13","v":"ดย"},"จำนวน",{"$f":"ปก!AT24+ปก!AR24","v":0},"คน"]
[{"$f":"IF(ใส่ชื่อ!A9=\"\",\"\",ใส่ชื่อ!A9)","v":8},{"$f":"IF(ใส่ชื่อ!C9=\"\",\"\",ใบรายชื่อ!B14)","v":2855},{"$f":"CONCATENATE(ใส่ชื่อ!D9,ใส่ชื่อ!E9&\"  \"&ใส่ชื่อ!F9)","v":"เด็กหญิงณัฐวรา  ธนกิจชัยชนะ"},{"$f":"IF(เวลาเรียน!L16=0,\"\",เวลาเรียน!L16)","v":100},{"$f":"IF(A15=\"\",\"\",ประเมินผลการเรียนเทอม2!DP14)","v":32.5},{"$f":"IF(A15=\"\",\"\",ประเมินผลการเรียนเทอม2!DQ14)","v":40},{"$f":"IF(A15=\"\",\"\",ประเมินผลการเรียนเทอม2!DS14)","v":72.5},{"$f":"ประเมินผลการเรียนเทอม2!DT14","v":3},{"$f":"ประเมินผลการเรียนเทอม2!CQ14","v":"ดย"},{"$f":"ประเมินผลการเรียนเทอม2!DB14","v":"ดย"},"คิดเป็นร้อยละ",{"$f":"ปก!AL27","v":0}]
[{"$f":"IF(ใส่ชื่อ!A10=\"\",\"\",ใส่ชื่อ!A10)","v":9},{"$f":"IF(ใส่ชื่อ!C10=\"\",\"\",ใบรายชื่อ!B15)","v":2856},{"$f":"CONCATENATE(ใส่ชื่อ!D10,ใส่ชื่อ!E10&\"  \"&ใส่ชื่อ!F10)","v":"เด็กชายอักคเชน  ดอกกระถิน"},{"$f":"IF(เวลาเรียน!L17=0,\"\",เวลาเรียน!L17)","v":100},{"$f":"IF(A16=\"\",\"\",ประเมินผลการเรียนเทอม2!DP15)","v":33.5},{"$f":"IF(A16=\"\",\"\",ประเมินผลการเรียนเทอม2!DQ15)","v":41.5},{"$f":"IF(A16=\"\",\"\",ประเมินผลการเรียนเทอม2!DS15)","v":75},{"$f":"ประเมินผลการเรียนเทอม2!DT15","v":3.5},{"$f":"ประเมินผลการเรียนเทอม2!CQ15","v":"ดย"},{"$f":"ประเมินผลการเรียนเทอม2!DB15","v":"ดย"},"สรุปผลการเรียน"]
[{"$f":"IF(ใส่ชื่อ!A11=\"\",\"\",ใส่ชื่อ!A11)","v":10},{"$f":"IF(ใส่ชื่อ!C11=\"\",\"\",ใบรายชื่อ!B16)","v":2863},{"$f":"CONCATENATE(ใส่ชื่อ!D11,ใส่ชื่อ!E11&\"  \"&ใส่ชื่อ!F11)","v":"เด็กหญิงณัฐณิชา  วงศ์บุศรัตน์"},{"$f":"IF(เวลาเรียน!L18=0,\"\",เวลาเรียน!L18)","v":100},{"$f":"IF(A17=\"\",\"\",ประเมินผลการเรียนเทอม2!DP16)","v":40.5},{"$f":"IF(A17=\"\",\"\",ประเมินผลการเรียนเทอม2!DQ16)","v":42},{"$f":"IF(A17=\"\",\"\",ประเมินผลการเรียนเทอม2!DS16)","v":82.5},{"$f":"ประเมินผลการเรียนเทอม2!DT16","v":4},{"$f":"ประเมินผลการเรียนเทอม2!CQ16","v":"ดย"},{"$f":"ประเมินผลการเรียนเทอม2!DB16","v":"ดย"},"ระดับฯ","จำนวน","ร้อยละ"]
[{"$f":"IF(ใส่ชื่อ!A12=\"\",\"\",ใส่ชื่อ!A12)","v":11},{"$f":"IF(ใส่ชื่อ!C12=\"\",\"\",ใบรายชื่อ!B17)","v":2918},{"$f":"CONCATENATE(ใส่ชื่อ!D12,ใส่ชื่อ!E12&\"  \"&ใส่ชื่อ!F12)","v":"เด็กชายณัฐวุฒิ  เปรมผล"},{"$f":"IF(เวลาเรียน!L19=0,\"\",เวลาเรียน!L19)","v":100},{"$f":"IF(A18=\"\",\"\",ประเมินผลการเรียนเทอม2!DP17)","v":32.5},{"$f":"IF(A18=\"\",\"\",ประเมินผลการเรียนเทอม2!DQ17)","v":38.5},{"$f":"IF(A18=\"\",\"\",ประเมินผลการเรียนเทอม2!DS17)","v":71},{"$f":"ประเมินผลการเรียนเทอม2!DT17","v":3},{"$f":"ประเมินผลการเรียนเทอม2!CQ17","v":"ดย"},{"$f":"ประเมินผลการเรียนเทอม2!DB17","v":"ดย"},4,{"$f":"ปก!AD24","v":8},{"$f":"ปก!AD25","v":40}]
[{"$f":"IF(ใส่ชื่อ!A13=\"\",\"\",ใส่ชื่อ!A13)","v":12},{"$f":"IF(ใส่ชื่อ!C13=\"\",\"\",ใบรายชื่อ!B18)","v":2919},{"$f":"CONCATENATE(ใส่ชื่อ!D13,ใส่ชื่อ!E13&\"  \"&ใส่ชื่อ!F13)","v":"เด็กชายธนาธิป  สังข์โพธิ์"},{"$f":"IF(เวลาเรียน!L20=0,\"\",เวลาเรียน!L20)","v":100},{"$f":"IF(A19=\"\",\"\",ประเมินผลการเรียนเทอม2!DP18)","v":30},{"$f":"IF(A19=\"\",\"\",ประเมินผลการเรียนเทอม2!DQ18)","v":35},{"$f":"IF(A19=\"\",\"\",ประเมินผลการเรียนเทอม2!DS18)","v":65},{"$f":"ประเมินผลการเรียนเทอม2!DT18","v":2.5},{"$f":"ประเมินผลการเรียนเทอม2!CQ18","v":"ด"},{"$f":"ประเมินผลการเรียนเทอม2!DB18","v":"ด"},3.5,{"$f":"ปก!AF24","v":2},{"$f":"ปก!AF25","v":10},{"$f":"SUM(#REF!)","v":{"$error":"#REF!"}},{"$f":"SUM(#REF!)","v":{"$error":"#REF!"}}]
[{"$f":"IF(ใส่ชื่อ!A14=\"\",\"\",ใส่ชื่อ!A14)","v":13},{"$f":"IF(ใส่ชื่อ!C14=\"\",\"\",ใบรายชื่อ!B19)","v":2946},{"$f":"CONCATENATE(ใส่ชื่อ!D14,ใส่ชื่อ!E14&\"  \"&ใส่ชื่อ!F14)","v":"เด็กหญิงน้ำหวาน  พม่า"},{"$f":"IF(เวลาเรียน!L21=0,\"\",เวลาเรียน!L21)","v":100},{"$f":"IF(A20=\"\",\"\",ประเมินผลการเรียนเทอม2!DP19)","v":31.5},{"$f":"IF(A20=\"\",\"\",ประเมินผลการเรียนเทอม2!DQ19)","v":38.5},{"$f":"IF(A20=\"\",\"\",ประเมินผลการเรียนเทอม2!DS19)","v":70},{"$f":"ประเมินผลการเรียนเทอม2!DT19","v":3},{"$f":"ประเมินผลการเรียนเทอม2!CQ19","v":"ดย"},{"$f":"ประเมินผลการเรียนเทอม2!DB19","v":"ดย"},3,{"$f":"ปก!AH24","v":8},{"$f":"ปก!AH25","v":40}]
[{"$f":"IF(ใส่ชื่อ!A15=\"\",\"\",ใส่ชื่อ!A15)","v":14},{"$f":"IF(ใส่ชื่อ!C15=\"\",\"\",ใบรายชื่อ!B20)","v":3010},{"$f":"CONCATENATE(ใส่ชื่อ!D15,ใส่ชื่อ!E15&\"  \"&ใส่ชื่อ!F15)","v":"เด็กหญิงชลิตา  ยมนา"},{"$f":"IF(เวลาเรียน!L22=0,\"\",เวลาเรียน!L22)","v":100},{"$f":"IF(A21=\"\",\"\",ประเมินผลการเรียนเทอม2!DP20)","v":31},{"$f":"IF(A21=\"\",\"\",ประเมินผลการเรียนเทอม2!DQ20)","v":34},{"$f":"IF(A21=\"\",\"\",ประเมินผลการเรียนเทอม2!DS20)","v":65},{"$f":"ประเมินผลการเรียนเทอม2!DT20","v":2.5},{"$f":"ประเมินผลการเรียนเทอม2!CQ20","v":"ด"},{"$f":"ประเมินผลการเรียนเทอม2!DB20","v":"ด"},2.5,{"$f":"ปก!AJ24","v":2},{"$f":"ปก!AJ25","v":10}]
[{"$f":"IF(ใส่ชื่อ!A16=\"\",\"\",ใส่ชื่อ!A16)","v":15},{"$f":"IF(ใส่ชื่อ!C16=\"\",\"\",ใบรายชื่อ!B21)","v":3043},{"$f":"CONCATENATE(ใส่ชื่อ!D16,ใส่ชื่อ!E16&\"  \"&ใส่ชื่อ!F16)","v":"เด็กหญิงฉัตรพรรณราย  แสงรัตนายนต์"},{"$f":"IF(เวลาเรียน!L23=0,\"\",เวลาเรียน!L23)","v":100},{"$f":"IF(A22=\"\",\"\",ประเมินผลการเรียนเทอม2!DP21)","v":41.5},{"$f":"IF(A22=\"\",\"\",ประเมินผลการเรียนเทอม2!DQ21)","v":45.5},{"$f":"IF(A22=\"\",\"\",ประเมินผลการเรียนเทอม2!DS21)","v":87},{"$f":"ประเมินผลการเรียนเทอม2!DT21","v":4},{"$f":"ประเมินผลการเรียนเทอม2!CQ21","v":"ดย"},{"$f":"ประเมินผลการเรียนเทอม2!DB21","v":"ดย"},2,{"$f":"ปก!AL24","v":0},{"$f":"ปก!AL25","v":""}]
[{"$f":"IF(ใส่ชื่อ!A17=\"\",\"\",ใส่ชื่อ!A17)","v":16},{"$f":"IF(ใส่ชื่อ!C17=\"\",\"\",ใบรายชื่อ!B22)","v":3084},{"$f":"CONCATENATE(ใส่ชื่อ!D17,ใส่ชื่อ!E17&\"  \"&ใส่ชื่อ!F17)","v":"เด็กชายธนวุฒิ   -"},{"$f":"IF(เวลาเรียน!L24=0,\"\",เวลาเรียน!L24)","v":100},{"$f":"IF(A23=\"\",\"\",ประเมินผลการเรียนเทอม2!DP22)","v":45},{"$f":"IF(A23=\"\",\"\",ประเมินผลการเรียนเทอม2!DQ22)","v":46},{"$f":"IF(A23=\"\",\"\",ประเมินผลการเรียนเทอม2!DS22)","v":91},{"$f":"ประเมินผลการเรียนเทอม2!DT22","v":4},{"$f":"ประเมินผลการเรียนเทอม2!CQ22","v":"ดย"},{"$f":"ประเมินผลการเรียนเทอม2!DB22","v":"ดย"},1.5,{"$f":"ปก!AN24","v":0},{"$f":"ปก!AN25","v":""}]
[{"$f":"IF(ใส่ชื่อ!A18=\"\",\"\",ใส่ชื่อ!A18)","v":17},{"$f":"IF(ใส่ชื่อ!C18=\"\",\"\",ใบรายชื่อ!B23)","v":3098},{"$f":"CONCATENATE(ใส่ชื่อ!D18,ใส่ชื่อ!E18&\"  \"&ใส่ชื่อ!F18)","v":"เด็กหญิงวรรณพิชชา  จันไทย"},{"$f":"IF(เวลาเรียน!L25=0,\"\",เวลาเรียน!L25)","v":100},{"$f":"IF(A24=\"\",\"\",ประเมินผลการเรียนเทอม2!DP23)","v":31},{"$f":"IF(A24=\"\",\"\",ประเมินผลการเรียนเทอม2!DQ23)","v":40},{"$f":"IF(A24=\"\",\"\",ประเมินผลการเรียนเทอม2!DS23)","v":71},{"$f":"ประเมินผลการเรียนเทอม2!DT23","v":3},{"$f":"ประเมินผลการเรียนเทอม2!CQ23","v":"ดย"},{"$f":"ประเมินผลการเรียนเทอม2!DB23","v":"ดย"},1,{"$f":"ปก!AP24","v":0},{"$f":"ปก!AP25","v":""}]
[{"$f":"IF(ใส่ชื่อ!A19=\"\",\"\",ใส่ชื่อ!A19)","v":18},{"$f":"IF(ใส่ชื่อ!C19=\"\",\"\",ใบรายชื่อ!B24)","v":3111},{"$f":"CONCATENATE(ใส่ชื่อ!D19,ใส่ชื่อ!E19&\"  \"&ใส่ชื่อ!F19)","v":"เด็กหญิงมานาทิพย์  สมดี"},{"$f":"IF(เวลาเรียน!L26=0,\"\",เวลาเรียน!L26)","v":100},{"$f":"IF(A25=\"\",\"\",ประเมินผลการเรียนเทอม2!DP24)","v":38.5},{"$f":"IF(A25=\"\",\"\",ประเมินผลการเรียนเทอม2!DQ24)","v":41.5},{"$f":"IF(A25=\"\",\"\",ประเมินผลการเรียนเทอม2!DS24)","v":80},{"$f":"ประเมินผลการเรียนเทอม2!DT24","v":4},{"$f":"ประเมินผลการเรียนเทอม2!CQ24","v":"ดย"},{"$f":"ประเมินผลการเรียนเทอม2!DB24","v":"ดย"},0,{"$f":"ปก!AR24","v":0},{"$f":"ปก!AR25","v":""}]
[{"$f":"IF(ใส่ชื่อ!A20=\"\",\"\",ใส่ชื่อ!A20)","v":19},{"$f":"IF(ใส่ชื่อ!C20=\"\",\"\",ใบรายชื่อ!B25)","v":3181},{"$f":"CONCATENATE(ใส่ชื่อ!D20,ใส่ชื่อ!E20&\"  \"&ใส่ชื่อ!F20)","v":"เด็กหญิงชุติกาญจน์  เอี่ยมโสด"},{"$f":"IF(เวลาเรียน!L27=0,\"\",เวลาเรียน!L27)","v":100},{"$f":"IF(A26=\"\",\"\",ประเมินผลการเรียนเทอม2!DP25)","v":35},{"$f":"IF(A26=\"\",\"\",ประเมินผลการเรียนเทอม2!DQ25)","v":35.5},{"$f":"IF(A26=\"\",\"\",ประเมินผลการเรียนเทอม2!DS25)","v":70.5},{"$f":"ประเมินผลการเรียนเทอม2!DT25","v":3},{"$f":"ประเมินผลการเรียนเทอม2!CQ25","v":"ดย"},{"$f":"ประเมินผลการเรียนเทอม2!DB25","v":"ดย"},"มส",{"$f":"ปก!AT24","v":0},{"$f":"ปก!AT25","v":""}]
[{"$f":"IF(ใส่ชื่อ!A21=\"\",\"\",ใส่ชื่อ!A21)","v":20},{"$f":"IF(ใส่ชื่อ!C21=\"\",\"\",ใบรายชื่อ!B26)","v":""},{"$f":"CONCATENATE(ใส่ชื่อ!D21,ใส่ชื่อ!E21&\"  \"&ใส่ชื่อ!F21)","v":"เด็กหญิงฐิตาภรณ์  แย้มนาค"},{"$f":"IF(เวลาเรียน!L28=0,\"\",เวลาเรียน!L28)","v":100},{"$f":"IF(A27=\"\",\"\",ประเมินผลการเรียนเทอม2!DP26)","v":42},{"$f":"IF(A27=\"\",\"\",ประเมินผลการเรียนเทอม2!DQ26)","v":38},{"$f":"IF(A27=\"\",\"\",ประเมินผลการเรียนเทอม2!DS26)","v":80},{"$f":"ประเมินผลการเรียนเทอม2!DT26","v":4},{"$f":"ประเมินผลการเรียนเทอม2!CQ26","v":"ดย"},{"$f":"ประเมินผลการเรียนเทอม2!DB26","v":"ดย"},"ผลการเรียนเฉลี่ยรายชั้นเรียน"]
[{"$f":"IF(ใส่ชื่อ!A22=\"\",\"\",ใส่ชื่อ!A22)","v":""},{"$f":"IF(ใส่ชื่อ!C22=\"\",\"\",ใบรายชื่อ!B27)","v":""},{"$f":"CONCATENATE(ใส่ชื่อ!D22,ใส่ชื่อ!E22&\"  \"&ใส่ชื่อ!F22)","v":"  "},{"$f":"IF(เวลาเรียน!L29=0,\"\",เวลาเรียน!L29)","v":""},{"$f":"IF(A28=\"\",\"\",ประเมินผลการเรียนเทอม2!DP27)","v":""},{"$f":"IF(A28=\"\",\"\",ประเมินผลการเรียนเทอม2!DQ27)","v":""},{"$f":"IF(A28=\"\",\"\",ประเมินผลการเรียนเทอม2!DS27)","v":""},{"$f":"ประเมินผลการเรียนเทอม2!DT27","v":""},{"$f":"ประเมินผลการเรียนเทอม2!CQ27","v":""},{"$f":"ประเมินผลการเรียนเทอม2!DB27","v":""},"ร้อยละ",{"$f":"ปก!AX26","v":3.4}]
[{"$f":"IF(ใส่ชื่อ!A23=\"\",\"\",ใส่ชื่อ!A23)","v":""},{"$f":"IF(ใส่ชื่อ!C23=\"\",\"\",ใบรายชื่อ!B28)","v":""},{"$f":"CONCATENATE(ใส่ชื่อ!D23,ใส่ชื่อ!E23&\"  \"&ใส่ชื่อ!F23)","v":"  "},{"$f":"IF(เวลาเรียน!L30=0,\"\",เวลาเรียน!L30)","v":""},{"$f":"IF(A29=\"\",\"\",ประเมินผลการเรียนเทอม2!DP28)","v":""},{"$f":"IF(A29=\"\",\"\",ประเมินผลการเรียนเทอม2!DQ28)","v":""},{"$f":"IF(A29=\"\",\"\",ประเมินผลการเรียนเทอม2!DS28)","v":""},{"$f":"ประเมินผลการเรียนเทอม2!DT28","v":""},{"$f":"ประเมินผลการเรียนเทอม2!CQ28","v":""},{"$f":"ประเมินผลการเรียนเทอม2!DB28","v":""},"SD",{"$f":"ปก!AX27","v":0.55250625145308307}]
[{"$f":"IF(ใส่ชื่อ!A24=\"\",\"\",ใส่ชื่อ!A24)","v":""},{"$f":"IF(ใส่ชื่อ!C24=\"\",\"\",ใบรายชื่อ!B29)","v":""},{"$f":"CONCATENATE(ใส่ชื่อ!D24,ใส่ชื่อ!E24&\"  \"&ใส่ชื่อ!F24)","v":"  "},{"$f":"IF(เวลาเรียน!L31=0,\"\",เวลาเรียน!L31)","v":""},{"$f":"IF(A30=\"\",\"\",ประเมินผลการเรียนเทอม2!DP29)","v":""},{"$f":"IF(A30=\"\",\"\",ประเมินผลการเรียนเทอม2!DQ29)","v":""},{"$f":"IF(A30=\"\",\"\",ประเมินผลการเรียนเทอม2!DS29)","v":""},{"$f":"ประเมินผลการเรียนเทอม2!DT29","v":""},{"$f":"ประเมินผลการเรียนเทอม2!CQ29","v":""},{"$f":"ประเมินผลการเรียนเทอม2!DB29","v":""},"คะแนนเฉลี่ยรายชั้นเรียน"]
[{"$f":"IF(ใส่ชื่อ!A25=\"\",\"\",ใส่ชื่อ!A25)","v":""},{"$f":"IF(ใส่ชื่อ!C25=\"\",\"\",ใบรายชื่อ!B30)","v":""},{"$f":"CONCATENATE(ใส่ชื่อ!D25,ใส่ชื่อ!E25&\"  \"&ใส่ชื่อ!F25)","v":"  "},{"$f":"IF(เวลาเรียน!L32=0,\"\",เวลาเรียน!L32)","v":""},{"$f":"IF(A31=\"\",\"\",ประเมินผลการเรียนเทอม2!DP30)","v":""},{"$f":"IF(A31=\"\",\"\",ประเมินผลการเรียนเทอม2!DQ30)","v":""},{"$f":"IF(A31=\"\",\"\",ประเมินผลการเรียนเทอม2!DS30)","v":""},{"$f":"ประเมินผลการเรียนเทอม2!DT30","v":""},{"$f":"ประเมินผลการเรียนเทอม2!CQ30","v":""},{"$f":"ประเมินผลการเรียนเทอม2!DB30","v":""},"ภาคเรียนที่1","ภาคเรียนที่2","ปีการศึกษา",{"$f":"SUM(#REF!)","v":{"$error":"#REF!"}},{"$f":"SUM(#REF!)","v":{"$error":"#REF!"}}]
[{"$f":"IF(ใส่ชื่อ!A26=\"\",\"\",ใส่ชื่อ!A26)","v":""},{"$f":"IF(ใส่ชื่อ!C26=\"\",\"\",ใบรายชื่อ!B31)","v":""},{"$f":"CONCATENATE(ใส่ชื่อ!D26,ใส่ชื่อ!E26&\"  \"&ใส่ชื่อ!F26)","v":"  "},{"$f":"IF(เวลาเรียน!L33=0,\"\",เวลาเรียน!L33)","v":""},{"$f":"IF(A32=\"\",\"\",ประเมินผลการเรียนเทอม2!DP31)","v":""},{"$f":"IF(A32=\"\",\"\",ประเมินผลการเรียนเทอม2!DQ31)","v":""},{"$f":"IF(A32=\"\",\"\",ประเมินผลการเรียนเทอม2!DS31)","v":""},{"$f":"ประเมินผลการเรียนเทอม2!DT31","v":""},{"$f":"ประเมินผลการเรียนเทอม2!CQ31","v":""},{"$f":"ประเมินผลการเรียนเทอม2!DB31","v":""},{"$f":"IF(E58=0,\"-\",AVERAGE(E8:E57))","v":35.549999999999997},{"$f":"IF(F58=0,\"-\",AVERAGE(F8:F57))","v":40.4},{"$f":"IF(G58=0,\"-\",AVERAGE(G8:G57))","v":75.95}]
[{"$f":"IF(ใส่ชื่อ!A27=\"\",\"\",ใส่ชื่อ!A27)","v":""},{"$f":"IF(ใส่ชื่อ!C27=\"\",\"\",ใบรายชื่อ!B32)","v":""},{"$f":"CONCATENATE(ใส่ชื่อ!D27,ใส่ชื่อ!E27&\"  \"&ใส่ชื่อ!F27)","v":"  "},{"$f":"IF(เวลาเรียน!L34=0,\"\",เวลาเรียน!L34)","v":""},{"$f":"IF(A33=\"\",\"\",ประเมินผลการเรียนเทอม2!DP32)","v":""},{"$f":"IF(A33=\"\",\"\",ประเมินผลการเรียนเทอม2!DQ32)","v":""},{"$f":"IF(A33=\"\",\"\",ประเมินผลการเรียนเทอม2!DS32)","v":""},{"$f":"ประเมินผลการเรียนเทอม2!DT32","v":""},{"$f":"ประเมินผลการเรียนเทอม2!CQ32","v":""},{"$f":"ประเมินผลการเรียนเทอม2!DB32","v":""},"สรุปผลการอ่าน คิด วิเคราะห์ และเขียน"]
[{"$f":"IF(ใส่ชื่อ!A28=\"\",\"\",ใส่ชื่อ!A28)","v":""},{"$f":"IF(ใส่ชื่อ!C28=\"\",\"\",ใบรายชื่อ!B33)","v":""},{"$f":"CONCATENATE(ใส่ชื่อ!D28,ใส่ชื่อ!E28&\"  \"&ใส่ชื่อ!F28)","v":"  "},{"$f":"IF(เวลาเรียน!L35=0,\"\",เวลาเรียน!L35)","v":""},{"$f":"IF(A34=\"\",\"\",ประเมินผลการเรียนเทอม2!DP33)","v":""},{"$f":"IF(A34=\"\",\"\",ประเมินผลการเรียนเทอม2!DQ33)","v":""},{"$f":"IF(A34=\"\",\"\",ประเมินผลการเรียนเทอม2!DS33)","v":""},{"$f":"ประเมินผลการเรียนเทอม2!DT33","v":""},{"$f":"ประเมินผลการเรียนเทอม2!CQ33","v":""},{"$f":"ประเมินผลการเรียนเทอม2!DB33","v":""},"ผลประเมิน","จำนวน","ร้อยละ"]
[{"$f":"IF(ใส่ชื่อ!A29=\"\",\"\",ใส่ชื่อ!A29)","v":""},{"$f":"IF(ใส่ชื่อ!C29=\"\",\"\",ใบรายชื่อ!B34)","v":""},{"$f":"CONCATENATE(ใส่ชื่อ!D29,ใส่ชื่อ!E29&\"  \"&ใส่ชื่อ!F29)","v":"  "},{"$f":"IF(เวลาเรียน!L36=0,\"\",เวลาเรียน!L36)","v":""},{"$f":"IF(A35=\"\",\"\",ประเมินผลการเรียนเทอม2!DP34)","v":""},{"$f":"IF(A35=\"\",\"\",ประเมินผลการเรียนเทอม2!DQ34)","v":""},{"$f":"IF(A35=\"\",\"\",ประเมินผลการเรียนเทอม2!DS34)","v":""},{"$f":"ประเมินผลการเรียนเทอม2!DT34","v":""},{"$f":"ประเมินผลการเรียนเทอม2!CQ34","v":""},{"$f":"ประเมินผลการเรียนเทอม2!DB34","v":""},"ดีเยี่ยม",{"$f":"ปก!AC30","v":17},{"$f":"ปก!AC31","v":85}]
[{"$f":"IF(ใส่ชื่อ!A30=\"\",\"\",ใส่ชื่อ!A30)","v":""},{"$f":"IF(ใส่ชื่อ!C30=\"\",\"\",ใบรายชื่อ!B35)","v":""},{"$f":"CONCATENATE(ใส่ชื่อ!D30,ใส่ชื่อ!E30&\"  \"&ใส่ชื่อ!F30)","v":"  "},{"$f":"IF(เวลาเรียน!L37=0,\"\",เวลาเรียน!L37)","v":""},{"$f":"IF(A36=\"\",\"\",ประเมินผลการเรียนเทอม2!DP35)","v":""},{"$f":"IF(A36=\"\",\"\",ประเมินผลการเรียนเทอม2!DQ35)","v":""},{"$f":"IF(A36=\"\",\"\",ประเมินผลการเรียนเทอม2!DS35)","v":""},{"$f":"ประเมินผลการเรียนเทอม2!DT35","v":""},{"$f":"ประเมินผลการเรียนเทอม2!CQ35","v":""},{"$f":"ประเมินผลการเรียนเทอม2!DB35","v":""},"ดี",{"$f":"ปก!AF30","v":3},{"$f":"ปก!AF31","v":15}]
[{"$f":"IF(ใส่ชื่อ!A31=\"\",\"\",ใส่ชื่อ!A31)","v":""},{"$f":"IF(ใส่ชื่อ!C31=\"\",\"\",ใบรายชื่อ!B36)","v":""},{"$f":"CONCATENATE(ใส่ชื่อ!D31,ใส่ชื่อ!E31&\"  \"&ใส่ชื่อ!F31)","v":"  "},{"$f":"IF(เวลาเรียน!L38=0,\"\",เวลาเรียน!L38)","v":""},{"$f":"IF(A37=\"\",\"\",ประเมินผลการเรียนเทอม2!DP36)","v":""},{"$f":"IF(A37=\"\",\"\",ประเมินผลการเรียนเทอม2!DQ36)","v":""},{"$f":"IF(A37=\"\",\"\",ประเมินผลการเรียนเทอม2!DS36)","v":""},{"$f":"ประเมินผลการเรียนเทอม2!DT36","v":""},{"$f":"ประเมินผลการเรียนเทอม2!CQ36","v":""},{"$f":"ประเมินผลการเรียนเทอม2!DB36","v":""},"ผ่าน",{"$f":"ปก!AI30","v":0},{"$f":"ปก!AI31","v":""},{"$f":"SUM(#REF!)","v":{"$error":"#REF!"}},{"$f":"SUM(#REF!)","v":{"$error":"#REF!"}}]
[{"$f":"IF(ใส่ชื่อ!A32=\"\",\"\",ใส่ชื่อ!A32)","v":""},{"$f":"IF(ใส่ชื่อ!C32=\"\",\"\",ใบรายชื่อ!B37)","v":""},{"$f":"CONCATENATE(ใส่ชื่อ!D32,ใส่ชื่อ!E32&\"  \"&ใส่ชื่อ!F32)","v":"  "},{"$f":"IF(เวลาเรียน!L39=0,\"\",เวลาเรียน!L39)","v":""},{"$f":"IF(A38=\"\",\"\",ประเมินผลการเรียนเทอม2!DP37)","v":""},{"$f":"IF(A38=\"\",\"\",ประเมินผลการเรียนเทอม2!DQ37)","v":""},{"$f":"IF(A38=\"\",\"\",ประเมินผลการเรียนเทอม2!DS37)","v":""},{"$f":"ประเมินผลการเรียนเทอม2!DT37","v":""},{"$f":"ประเมินผลการเรียนเทอม2!CQ37","v":""},{"$f":"ประเมินผลการเรียนเทอม2!DB37","v":""},"ไม่ผ่าน",{"$f":"ปก!AL30","v":0},{"$f":"ปก!AL31","v":""}]
[{"$f":"IF(ใส่ชื่อ!A33=\"\",\"\",ใส่ชื่อ!A33)","v":""},{"$f":"IF(ใส่ชื่อ!C33=\"\",\"\",ใบรายชื่อ!B38)","v":""},{"$f":"CONCATENATE(ใส่ชื่อ!D33,ใส่ชื่อ!E33&\"  \"&ใส่ชื่อ!F33)","v":"  "},{"$f":"IF(เวลาเรียน!L40=0,\"\",เวลาเรียน!L40)","v":""},{"$f":"IF(A39=\"\",\"\",ประเมินผลการเรียนเทอม2!DP38)","v":""},{"$f":"IF(A39=\"\",\"\",ประเมินผลการเรียนเทอม2!DQ38)","v":""},{"$f":"IF(A39=\"\",\"\",ประเมินผลการเรียนเทอม2!DS38)","v":""},{"$f":"ประเมินผลการเรียนเทอม2!DT38","v":""},{"$f":"ประเมินผลการเรียนเทอม2!CQ38","v":""},{"$f":"ประเมินผลการเรียนเทอม2!DB38","v":""},"สรุปผลการประเมินคุณลักษณะอันพึงประสงค์"]
[{"$f":"IF(ใส่ชื่อ!A34=\"\",\"\",ใส่ชื่อ!A34)","v":""},{"$f":"IF(ใส่ชื่อ!C34=\"\",\"\",ใบรายชื่อ!B39)","v":""},{"$f":"CONCATENATE(ใส่ชื่อ!D34,ใส่ชื่อ!E34&\"  \"&ใส่ชื่อ!F34)","v":"  "},{"$f":"IF(เวลาเรียน!L41=0,\"\",เวลาเรียน!L41)","v":""},{"$f":"IF(A40=\"\",\"\",ประเมินผลการเรียนเทอม2!DP39)","v":""},{"$f":"IF(A40=\"\",\"\",ประเมินผลการเรียนเทอม2!DQ39)","v":""},{"$f":"IF(A40=\"\",\"\",ประเมินผลการเรียนเทอม2!DS39)","v":""},{"$f":"ประเมินผลการเรียนเทอม2!DT39","v":""},{"$f":"ประเมินผลการเรียนเทอม2!CQ39","v":""},{"$f":"ประเมินผลการเรียนเทอม2!DB39","v":""},"ผลประเมิน","จำนวน","ร้อยละ"]
[{"$f":"IF(ใส่ชื่อ!A35=\"\",\"\",ใส่ชื่อ!A35)","v":""},{"$f":"IF(ใส่ชื่อ!C35=\"\",\"\",ใบรายชื่อ!B40)","v":""},{"$f":"CONCATENATE(ใส่ชื่อ!D35,ใส่ชื่อ!E35&\"  \"&ใส่ชื่อ!F35)","v":"  "},{"$f":"IF(เวลาเรียน!L42=0,\"\",เวลาเรียน!L42)","v":""},{"$f":"IF(A41=\"\",\"\",ประเมินผลการเรียนเทอม2!DP40)","v":""},{"$f":"IF(A41=\"\",\"\",ประเมินผลการเรียนเทอม2!DQ40)","v":""},{"$f":"IF(A41=\"\",\"\",ประเมินผลการเรียนเทอม2!DS40)","v":""},{"$f":"ประเมินผลการเรียนเทอม2!DT40","v":""},{"$f":"ประเมินผลการเรียนเทอม2!CQ40","v":""},{"$f":"ประเมินผลการเรียนเทอม2!DB40","v":""},"ดีเยี่ยม",{"$f":"ปก!AO30","v":17},{"$f":"ปก!AO31","v":85}]
[{"$f":"IF(ใส่ชื่อ!A36=\"\",\"\",ใส่ชื่อ!A36)","v":""},{"$f":"IF(ใส่ชื่อ!C36=\"\",\"\",ใบรายชื่อ!B41)","v":""},{"$f":"CONCATENATE(ใส่ชื่อ!D36,ใส่ชื่อ!E36&\"  \"&ใส่ชื่อ!F36)","v":"  "},{"$f":"IF(เวลาเรียน!L43=0,\"\",เวลาเรียน!L43)","v":""},{"$f":"IF(A42=\"\",\"\",ประเมินผลการเรียนเทอม2!DP41)","v":""},{"$f":"IF(A42=\"\",\"\",ประเมินผลการเรียนเทอม2!DQ41)","v":""},{"$f":"IF(A42=\"\",\"\",ประเมินผลการเรียนเทอม2!DS41)","v":""},{"$f":"ประเมินผลการเรียนเทอม2!DT41","v":""},{"$f":"ประเมินผลการเรียนเทอม2!CQ41","v":""},{"$f":"ประเมินผลการเรียนเทอม2!DB41","v":""},"ดี",{"$f":"ปก!AR30","v":3},{"$f":"ปก!AR31","v":15}]
[{"$f":"IF(ใส่ชื่อ!A37=\"\",\"\",ใส่ชื่อ!A37)","v":""},{"$f":"IF(ใส่ชื่อ!C37=\"\",\"\",ใบรายชื่อ!B42)","v":""},{"$f":"CONCATENATE(ใส่ชื่อ!D37,ใส่ชื่อ!E37&\"  \"&ใส่ชื่อ!F37)","v":"  "},{"$f":"IF(เวลาเรียน!L44=0,\"\",เวลาเรียน!L44)","v":""},{"$f":"IF(A43=\"\",\"\",ประเมินผลการเรียนเทอม2!DP42)","v":""},{"$f":"IF(A43=\"\",\"\",ประเมินผลการเรียนเทอม2!DQ42)","v":""},{"$f":"IF(A43=\"\",\"\",ประเมินผลการเรียนเทอม2!DS42)","v":""},{"$f":"ประเมินผลการเรียนเทอม2!DT42","v":""},{"$f":"ประเมินผลการเรียนเทอม2!CQ42","v":""},{"$f":"ประเมินผลการเรียนเทอม2!DB42","v":""},"ผ่าน",{"$f":"ปก!AU30","v":0},{"$f":"ปก!AU31","v":""},{"$f":"SUM(#REF!)","v":{"$error":"#REF!"}},{"$f":"SUM(#REF!)","v":{"$error":"#REF!"}}]
[{"$f":"IF(ใส่ชื่อ!A38=\"\",\"\",ใส่ชื่อ!A38)","v":""},{"$f":"IF(ใส่ชื่อ!C38=\"\",\"\",ใบรายชื่อ!B43)","v":""},{"$f":"CONCATENATE(ใส่ชื่อ!D38,ใส่ชื่อ!E38&\"  \"&ใส่ชื่อ!F38)","v":"  "},{"$f":"IF(เวลาเรียน!L45=0,\"\",เวลาเรียน!L45)","v":""},{"$f":"IF(A44=\"\",\"\",ประเมินผลการเรียนเทอม2!DP43)","v":""},{"$f":"IF(A44=\"\",\"\",ประเมินผลการเรียนเทอม2!DQ43)","v":""},{"$f":"IF(A44=\"\",\"\",ประเมินผลการเรียนเทอม2!DS43)","v":""},{"$f":"ประเมินผลการเรียนเทอม2!DT43","v":""},{"$f":"ประเมินผลการเรียนเทอม2!CQ43","v":""},{"$f":"ประเมินผลการเรียนเทอม2!DB43","v":""},"ไม่ผ่าน",{"$f":"ปก!AX30","v":0},{"$f":"ปก!AX31","v":""}]
[{"$f":"IF(ใส่ชื่อ!A39=\"\",\"\",ใส่ชื่อ!A39)","v":""},{"$f":"IF(ใส่ชื่อ!C39=\"\",\"\",ใบรายชื่อ!B44)","v":""},{"$f":"CONCATENATE(ใส่ชื่อ!D39,ใส่ชื่อ!E39&\"  \"&ใส่ชื่อ!F39)","v":"  "},{"$f":"IF(เวลาเรียน!L46=0,\"\",เวลาเรียน!L46)","v":""},{"$f":"IF(A45=\"\",\"\",ประเมินผลการเรียนเทอม2!DP44)","v":""},{"$f":"IF(A45=\"\",\"\",ประเมินผลการเรียนเทอม2!DQ44)","v":""},{"$f":"IF(A45=\"\",\"\",ประเมินผลการเรียนเทอม2!DS44)","v":""},{"$f":"ประเมินผลการเรียนเทอม2!DT44","v":""},{"$f":"ประเมินผลการเรียนเทอม2!CQ44","v":""},{"$f":"ประเมินผลการเรียนเทอม2!DB44","v":""}]
[{"$f":"IF(ใส่ชื่อ!A40=\"\",\"\",ใส่ชื่อ!A40)","v":""},{"$f":"IF(ใส่ชื่อ!C40=\"\",\"\",ใบรายชื่อ!B45)","v":""},{"$f":"CONCATENATE(ใส่ชื่อ!D40,ใส่ชื่อ!E40&\"  \"&ใส่ชื่อ!F40)","v":"  "},{"$f":"IF(เวลาเรียน!L47=0,\"\",เวลาเรียน!L47)","v":""},{"$f":"IF(A46=\"\",\"\",ประเมินผลการเรียนเทอม2!DP45)","v":""},{"$f":"IF(A46=\"\",\"\",ประเมินผลการเรียนเทอม2!DQ45)","v":""},{"$f":"IF(A46=\"\",\"\",ประเมินผลการเรียนเทอม2!DS45)","v":""},{"$f":"ประเมินผลการเรียนเทอม2!DT45","v":""},{"$f":"ประเมินผลการเรียนเทอม2!CQ45","v":""},{"$f":"ประเมินผลการเรียนเทอม2!DB45","v":""},"ลงชื่อ......................................................."]
[{"$f":"IF(ใส่ชื่อ!A41=\"\",\"\",ใส่ชื่อ!A41)","v":""},{"$f":"IF(ใส่ชื่อ!C41=\"\",\"\",ใบรายชื่อ!B46)","v":""},{"$f":"CONCATENATE(ใส่ชื่อ!D41,ใส่ชื่อ!E41&\"  \"&ใส่ชื่อ!F41)","v":"  "},{"$f":"IF(เวลาเรียน!L48=0,\"\",เวลาเรียน!L48)","v":""},{"$f":"IF(A47=\"\",\"\",ประเมินผลการเรียนเทอม2!DP46)","v":""},{"$f":"IF(A47=\"\",\"\",ประเมินผลการเรียนเทอม2!DQ46)","v":""},{"$f":"IF(A47=\"\",\"\",ประเมินผลการเรียนเทอม2!DS46)","v":""},{"$f":"ประเมินผลการเรียนเทอม2!DT46","v":""},{"$f":"ประเมินผลการเรียนเทอม2!CQ46","v":""},{"$f":"ประเมินผลการเรียนเทอม2!DB46","v":""},{"$f":"IF(ปก!C29=\"\",\"\",(\"(\"&ปก!C29&\")\"))","v":"(นายฐิตวัฒน์ เคลื่อนคล้อย)"}]
[{"$f":"IF(ใส่ชื่อ!A42=\"\",\"\",ใส่ชื่อ!A42)","v":""},{"$f":"IF(ใส่ชื่อ!C42=\"\",\"\",ใบรายชื่อ!B47)","v":""},{"$f":"CONCATENATE(ใส่ชื่อ!D42,ใส่ชื่อ!E42&\"  \"&ใส่ชื่อ!F42)","v":"  "},{"$f":"IF(เวลาเรียน!L49=0,\"\",เวลาเรียน!L49)","v":""},{"$f":"IF(A48=\"\",\"\",ประเมินผลการเรียนเทอม2!DP47)","v":""},{"$f":"IF(A48=\"\",\"\",ประเมินผลการเรียนเทอม2!DQ47)","v":""},{"$f":"IF(A48=\"\",\"\",ประเมินผลการเรียนเทอม2!DS47)","v":""},{"$f":"ประเมินผลการเรียนเทอม2!DT47","v":""},{"$f":"ประเมินผลการเรียนเทอม2!CQ47","v":""},{"$f":"ประเมินผลการเรียนเทอม2!DB47","v":""},"ครูผู้สอน"]
[{"$f":"IF(ใส่ชื่อ!A43=\"\",\"\",ใส่ชื่อ!A43)","v":""},{"$f":"IF(ใส่ชื่อ!C43=\"\",\"\",ใบรายชื่อ!B48)","v":""},{"$f":"CONCATENATE(ใส่ชื่อ!D43,ใส่ชื่อ!E43&\"  \"&ใส่ชื่อ!F43)","v":"  "},{"$f":"IF(เวลาเรียน!L50=0,\"\",เวลาเรียน!L50)","v":""},{"$f":"IF(A49=\"\",\"\",ประเมินผลการเรียนเทอม2!DP48)","v":""},{"$f":"IF(A49=\"\",\"\",ประเมินผลการเรียนเทอม2!DQ48)","v":""},{"$f":"IF(A49=\"\",\"\",ประเมินผลการเรียนเทอม2!DS48)","v":""},{"$f":"ประเมินผลการเรียนเทอม2!DT48","v":""},{"$f":"ประเมินผลการเรียนเทอม2!CQ48","v":""},{"$f":"ประเมินผลการเรียนเทอม2!DB48","v":""},"หัวหน้ากลุ่มสาระฯ..............................................."]
[{"$f":"IF(ใส่ชื่อ!A44=\"\",\"\",ใส่ชื่อ!A44)","v":""},{"$f":"IF(ใส่ชื่อ!C44=\"\",\"\",ใบรายชื่อ!B49)","v":""},{"$f":"CONCATENATE(ใส่ชื่อ!D44,ใส่ชื่อ!E44&\"  \"&ใส่ชื่อ!F44)","v":"  "},{"$f":"IF(เวลาเรียน!L51=0,\"\",เวลาเรียน!L51)","v":""},{"$f":"IF(A50=\"\",\"\",ประเมินผลการเรียนเทอม2!DP49)","v":""},{"$f":"IF(A50=\"\",\"\",ประเมินผลการเรียนเทอม2!DQ49)","v":""},{"$f":"IF(A50=\"\",\"\",ประเมินผลการเรียนเทอม2!DS49)","v":""},{"$f":"ประเมินผลการเรียนเทอม2!DT49","v":""},{"$f":"ประเมินผลการเรียนเทอม2!CQ49","v":""},{"$f":"ประเมินผลการเรียนเทอม2!DB49","v":""},"หัวหน้างานวัดผลฯ ......................................."]
[{"$f":"IF(ใส่ชื่อ!A45=\"\",\"\",ใส่ชื่อ!A45)","v":""},{"$f":"IF(ใส่ชื่อ!C45=\"\",\"\",ใบรายชื่อ!B50)","v":""},{"$f":"CONCATENATE(ใส่ชื่อ!D45,ใส่ชื่อ!E45&\"  \"&ใส่ชื่อ!F45)","v":"  "},{"$f":"IF(เวลาเรียน!L52=0,\"\",เวลาเรียน!L52)","v":""},{"$f":"IF(A51=\"\",\"\",ประเมินผลการเรียนเทอม2!DP50)","v":""},{"$f":"IF(A51=\"\",\"\",ประเมินผลการเรียนเทอม2!DQ50)","v":""},{"$f":"IF(A51=\"\",\"\",ประเมินผลการเรียนเทอม2!DS50)","v":""},{"$f":"ประเมินผลการเรียนเทอม2!DT50","v":""},{"$f":"ประเมินผลการเรียนเทอม2!CQ50","v":""},{"$f":"ประเมินผลการเรียนเทอม2!DB50","v":""},"นายทะเบียน ..........................................."]
[{"$f":"IF(ใส่ชื่อ!A46=\"\",\"\",ใส่ชื่อ!A46)","v":""},{"$f":"IF(ใส่ชื่อ!C46=\"\",\"\",ใบรายชื่อ!B51)","v":""},{"$f":"CONCATENATE(ใส่ชื่อ!D46,ใส่ชื่อ!E46&\"  \"&ใส่ชื่อ!F46)","v":"  "},{"$f":"IF(เวลาเรียน!L53=0,\"\",เวลาเรียน!L53)","v":""},{"$f":"IF(A52=\"\",\"\",ประเมินผลการเรียนเทอม2!DP51)","v":""},{"$f":"IF(A52=\"\",\"\",ประเมินผลการเรียนเทอม2!DQ51)","v":""},{"$f":"IF(A52=\"\",\"\",ประเมินผลการเรียนเทอม2!DS51)","v":""},{"$f":"ประเมินผลการเรียนเทอม2!DT51","v":""},{"$f":"ประเมินผลการเรียนเทอม2!CQ51","v":""},{"$f":"ประเมินผลการเรียนเทอม2!DB51","v":""},"รองฯวิชาการ.........................................."]
[{"$f":"IF(ใส่ชื่อ!A47=\"\",\"\",ใส่ชื่อ!A47)","v":""},{"$f":"IF(ใส่ชื่อ!C47=\"\",\"\",ใบรายชื่อ!B52)","v":""},{"$f":"CONCATENATE(ใส่ชื่อ!D47,ใส่ชื่อ!E47&\"  \"&ใส่ชื่อ!F47)","v":"  "},{"$f":"IF(เวลาเรียน!L54=0,\"\",เวลาเรียน!L54)","v":""},{"$f":"IF(A53=\"\",\"\",ประเมินผลการเรียนเทอม2!DP52)","v":""},{"$f":"IF(A53=\"\",\"\",ประเมินผลการเรียนเทอม2!DQ52)","v":""},{"$f":"IF(A53=\"\",\"\",ประเมินผลการเรียนเทอม2!DS52)","v":""},{"$f":"ประเมินผลการเรียนเทอม2!DT52","v":""},{"$f":"ประเมินผลการเรียนเทอม2!CQ52","v":""},{"$f":"ประเมินผลการเรียนเทอม2!DB52","v":""}]
[{"$f":"IF(ใส่ชื่อ!A48=\"\",\"\",ใส่ชื่อ!A48)","v":""},{"$f":"IF(ใส่ชื่อ!C48=\"\",\"\",ใบรายชื่อ!B53)","v":""},{"$f":"CONCATENATE(ใส่ชื่อ!D48,ใส่ชื่อ!E48&\"  \"&ใส่ชื่อ!F48)","v":"  "},{"$f":"IF(เวลาเรียน!L55=0,\"\",เวลาเรียน!L55)","v":""},{"$f":"IF(A54=\"\",\"\",ประเมินผลการเรียนเทอม2!DP53)","v":""},{"$f":"IF(A54=\"\",\"\",ประเมินผลการเรียนเทอม2!DQ53)","v":""},{"$f":"IF(A54=\"\",\"\",ประเมินผลการเรียนเทอม2!DS53)","v":""},{"$f":"ประเมินผลการเรียนเทอม2!DT53","v":""},{"$f":"ประเมินผลการเรียนเทอม2!CQ53","v":""},{"$f":"ประเมินผลการเรียนเทอม2!DB53","v":""},"ลงชื่อ......................................................."]
[{"$f":"IF(ใส่ชื่อ!A49=\"\",\"\",ใส่ชื่อ!A49)","v":""},{"$f":"IF(ใส่ชื่อ!C49=\"\",\"\",ใบรายชื่อ!B54)","v":""},{"$f":"CONCATENATE(ใส่ชื่อ!D49,ใส่ชื่อ!E49&\"  \"&ใส่ชื่อ!F49)","v":"  "},{"$f":"IF(เวลาเรียน!L56=0,\"\",เวลาเรียน!L56)","v":""},{"$f":"IF(A55=\"\",\"\",ประเมินผลการเรียนเทอม2!DP54)","v":""},{"$f":"IF(A55=\"\",\"\",ประเมินผลการเรียนเทอม2!DQ54)","v":""},{"$f":"IF(A55=\"\",\"\",ประเมินผลการเรียนเทอม2!DS54)","v":""},{"$f":"ประเมินผลการเรียนเทอม2!DT54","v":""},{"$f":"ประเมินผลการเรียนเทอม2!CQ54","v":""},{"$f":"ประเมินผลการเรียนเทอม2!DB54","v":""},{"$f":"ปก!AO41","v":"(นางชญาดา สุขวงค์ตานนท์)"}]
[{"$f":"IF(ใส่ชื่อ!A50=\"\",\"\",ใส่ชื่อ!A50)","v":""},{"$f":"IF(ใส่ชื่อ!C50=\"\",\"\",ใบรายชื่อ!B55)","v":""},{"$f":"CONCATENATE(ใส่ชื่อ!D50,ใส่ชื่อ!E50&\"  \"&ใส่ชื่อ!F50)","v":"  "},{"$f":"IF(เวลาเรียน!L57=0,\"\",เวลาเรียน!L57)","v":""},{"$f":"IF(A56=\"\",\"\",ประเมินผลการเรียนเทอม2!DP55)","v":""},{"$f":"IF(A56=\"\",\"\",ประเมินผลการเรียนเทอม2!DQ55)","v":""},{"$f":"IF(A56=\"\",\"\",ประเมินผลการเรียนเทอม2!DS55)","v":""},{"$f":"ประเมินผลการเรียนเทอม2!DT55","v":""},{"$f":"ประเมินผลการเรียนเทอม2!CQ55","v":""},{"$f":"ประเมินผลการเรียนเทอม2!DB55","v":""},{"$f":"IF(ปก!AN40=\"ลงชื่อ...........................................ผู้อำนวยการสถานศึกษา\",\"ผู้อำนวยการสถานศึกษา\",\"รักษาการผู้อำนวยการสถานศึกษา\")","v":"ผู้อำนวยการสถานศึกษา"}]
[{"$f":"IF(ใส่ชื่อ!A51=\"\",\"\",ใส่ชื่อ!A51)","v":""},{"$f":"IF(ใส่ชื่อ!C51=\"\",\"\",ใบรายชื่อ!B56)","v":""},{"$f":"CONCATENATE(ใส่ชื่อ!D51,ใส่ชื่อ!E51&\"  \"&ใส่ชื่อ!F51)","v":"  "},{"$f":"IF(เวลาเรียน!L58=0,\"\",เวลาเรียน!L58)","v":""},{"$f":"IF(A57=\"\",\"\",ประเมินผลการเรียนเทอม2!DP56)","v":""},{"$f":"IF(A57=\"\",\"\",ประเมินผลการเรียนเทอม2!DQ56)","v":""},{"$f":"IF(A57=\"\",\"\",ประเมินผลการเรียนเทอม2!DS56)","v":""},{"$f":"ประเมินผลการเรียนเทอม2!DT56","v":""},{"$f":"ประเมินผลการเรียนเทอม2!CQ56","v":""},{"$f":"ประเมินผลการเรียนเทอม2!DB56","v":""}," ............./............../..............."]
[null,null,null,null,{"$f":"SUM(E8:E57)","v":711},{"$f":"SUM(F8:F57)","v":808},{"$f":"SUM(G8:G57)","v":1519}]

{"sheet":"กำหนดชิ้นงานฯ","index":10,"n_rows":141,"n_cols":7,"rows_kept":141,"cut":false,"hidden":false,"merged":[[42,2,42,8],[42,29,42,33],[40,0,40,3],[40,7,40,8],[40,27,40,30],[41,0,41,3],[41,7,41,8],[41,27,41,30],[2,0,2,1],[2,27,2,28],[0,0,0,6],[0,7,0,8],[0,27,0,33],[1,0,1,6],[1,27,1,33]]}
[{"$f":"\"ภาระงานชิ้นงานที่มอบหมาย รายวิชา\"&ปก!AS15","v":"ภาระงานชิ้นงานที่มอบหมาย รายวิชา -"}]
[{"$f":"\"ปีการศึกษา \"&ปก!C16","v":"ปีการศึกษา 2565"}]
["ลำดับงานที่/\nสอบหน่วยที่",null,"ชื่อ ชิ้นงาน/ภาระงาน/การสอบ/กิจกรรม/\nเครื่องมือวัดผล",{"$f":"IF(ปก!C25=\"\",\"ความสัมพันธ์กับตัวชี้วัด/   ผลการเรียนรู้\",IF(ปก!C25=\"พื้นฐาน\",\"ตอบสนองตัวชี้วัดที่\",IF(ปก!C25=\"เพิ่มเติม\",\"ตอบสนองผลการเรียนรู้ที่\")))","v":"ตอบสนองตัวชี้วัดที่"},"คะแนน","กำหนดส่ง/\nกำหนดสอบ","หมายเหตุ"]
[]
[]
[]
[]
[]
[]
[]
[]
[]
[]
[]
[]
[]
[]
[]
[]
[]
[]
[]
[]
[]
[]
[]
[]
[]
[]
[]
[]
[]
[]
[]
[]
[]
[]
[]
[]
[]
["คะแนนรวม (เก็บ)",null,null,null,{"$f":"SUM(E4:E40)","v":0}]
[{"$f":"\"คะแนนเก็บจริง( \"&[3]ประเมินผลการเรียน!AB6&\" คะแนน)\"","v":"คะแนนเก็บจริง( 80 คะแนน)"}]
[]
[]
[]
[]
[]
[]
[]
[]
[]
[null,null,null,null,null,"ม.1/1"]
[null,null,null,null,null,"ม.1/2"]
[null,null,null,null,null,"ม.1/3"]
[null,null,null,null,null,"ม.1/4"]
[null,null,null,null,null,"ม.1/5"]
[null,null,null,null,null,"ม.1/6"]
[null,null,null,null,null,"ม.1/7"]
[null,null,null,null,null,"ม.1/8"]
[null,null,null,null,null,"ม.1/9"]
[null,null,null,null,null,"ม.1/10"]
[null,null,null,null,null,"ม.2/1"]
[null,null,null,null,null,"ม.2/2"]
[null,null,null,null,null,"ม.2/3"]
[null,null,null,null,null,"ม.2/4"]
[null,null,null,null,null,"ม.2/5"]
[null,null,null,null,null,"ม.2/6"]
[null,null,null,null,null,"ม.2/7"]
[null,null,null,null,null,"ม.2/8"]
[null,null,null,null,null,"ม.2/9"]
[null,null,null,null,null,"ม.2/10"]
[null,null,null,null,null,"ม.3/1"]
[null,null,null,null,null,"ม.3/2"]
[null,null,null,null,null,"ม.3/3"]
[null,null,null,null,null,"ม.3/4"]
[null,null,null,null,null,"ม.3/5"]
[null,null,null,null,null,"ม.3/6"]
[null,null,null,null,null,"ม.3/7"]
[null,null,null,null,null,"ม.3/8"]
[null,null,null,null,null,"ม.3/9"]
[null,null,null,null,null,"ม.3/10"]
[null,null,null,null,null,"ม.4-6/1"]
[null,null,null,null,null,"ม.4-6/2"]
[null,null,null,null,null,"ม.4-6/3"]
[null,null,null,null,null,"ม.4-6/4"]
[null,null,null,null,null,"ม.4-6/5"]
[null,null,null,null,null,"ม.4-6/6"]
[null,null,null,null,null,"ม.4-6/7"]
[null,null,null,null,null,"ม.4-6/8"]
[null,null,null,null,null,"ม.4-6/9"]
[null,null,null,null,null,"ม.4-6/10"]
[null,null,null,null,null,"ม.4-6/11"]
[null,null,null,null,null,"ม.4-6/12"]
[null,null,null,null,null,"ม.4-6/13"]
[null,null,null,null,null,"ม.4-6/14"]
[null,null,null,null,null,"ม.4-6/15"]
[null,null,null,null,null,"ม.4-6/16"]
[null,null,null,null,null,"ม.4-6/17"]
[null,null,null,null,null,"ม.4-6/18"]
[null,null,null,null,null,"ม.4-6/19"]
[null,null,null,null,null,"ม.4-6/20"]
[null,null,null,null,null,"ม.4-6/21"]
[null,null,null,null,null,"ม.4-6/22"]
[null,null,null,null,null,"ม.4-6/23"]
[null,null,null,null,null,"ม.4-6/24"]
[null,null,null,null,null,"ม.4-6/25"]
[null,null,null,null,null,"ม.4-6/26"]
[null,null,null,null,null,"ม.4-6/27"]
[null,null,null,null,null,"ม.4-6/28"]
[null,null,null,null,null,"ม.4-6/29"]
[null,null,null,null,null,"ม.4-6/30"]
[null,null,null,null,null,"ข้อ 1"]
[null,null,null,null,null,"ข้อ 2"]
[null,null,null,null,null,"ข้อ 3"]
[null,null,null,null,null,"ข้อ 4"]
[null,null,null,null,null,"ข้อ 5"]
[null,null,null,null,null,"ข้อ 6"]
[null,null,null,null,null,"ข้อ 7"]
[null,null,null,null,null,"ข้อ 8"]
[null,null,null,null,null,"ข้อ 9"]
[null,null,null,null,null,"ข้อ 10"]
[null,null,null,null,null,"ข้อ 11"]
[null,null,null,null,null,"ข้อ 12"]
[null,null,null,null,null,"ข้อ 13"]
[null,null,null,null,null,"ข้อ 14"]
[null,null,null,null,null,"ข้อ 15"]
[null,null,null,null,null,"ข้อ 16"]
[null,null,null,null,null,"ข้อ 17"]
[null,null,null,null,null,"ข้อ 18"]
[null,null,null,null,null,"ข้อ 19"]
[null,null,null,null,null,"ข้อ 20"]
[null,null,null,null,null,"ข้อ 21"]
[null,null,null,null,null,"ข้อ 22"]
[null,null,null,null,null,"ข้อ 23"]
[null,null,null,null,null,"ข้อ 24"]
[null,null,null,null,null,"ข้อ 25"]
[null,null,null,null,null,"ข้อ 26"]
[null,null,null,null,null,"ข้อ 27"]
[null,null,null,null,null,"ข้อ 28"]
[null,null,null,null,null,"ข้อ 29"]
[null,null,null,null,null,"ข้อ 30"]

{"sheet":"แผนภูมิสรุป","index":11,"n_rows":39,"n_cols":13,"rows_kept":39,"cut":false,"hidden":false,"merged":[[1,0,1,9],[13,0,13,9],[25,0,25,9]]}
[]
[{"$f":"\"แผนภูมิแสดงจำนวนนักเรียนที่ได้ระดับผลการเรียน รายวิชา \"&ปก!C26&\" รหัสวิชา \"&ปก!C27","v":"แผนภูมิแสดงจำนวนนักเรียนที่ได้ระดับผลการเรียน รายวิชา หน้าที่พลเมือง รหัสวิชา  -"}]
[]
[]
[]
[]
[]
[]
[]
[]
[]
[]
[]
["แผนภูมิแสดงร้อยละของนักเรียนที่ได้ระดับผลการเรียนแต่ละระดับ"]
[]
[]
[]
[]
[]
[]
[]
[]
[]
[]
[]
["แผนภูมิแสดงร้อยละของนักเรียนที่ได้ผลการเรียนระดับดี(3) ขึ้นไป"]
[]
[]
[]
[]
[]
[]
[]
[]
[]
[]
[null,null,null,null,null,null,null,null,null,null,null,null,{"$f":"SUM(ปก!AD24:AI24)","v":18}]
[null,null,null,null,null,null,null,null,null,null,null,null,{"$f":"SUM(ปก!AJ23:AQ23)","v":7}]
[null,null,null,null,null,null,null,null,null,null,null,null,{"$f":"ปก!AR23:AU23","v":{"$error":"#VALUE!"}}]

{"sheet":"โครงสร้างรายวิชา","index":12,"n_rows":196,"n_cols":32,"rows_kept":196,"cut":false,"hidden":false,"merged":[[93,1,93,3],[94,1,94,3],[0,0,0,5],[0,27,0,32],[1,27,2,27],[49,27,50,27],[49,8,50,8],[48,7,48,8],[1,4,1,7],[46,0,46,8],[49,4,49,7],[1,8,2,8],[1,0,2,0],[48,0,48,6],[1,1,2,3],[49,1,50,3],[79,1,79,3],[86,1,86,3],[87,1,87,3],[88,1,88,3],[96,0,96,8],[91,1,91,3],[92,1,92,3],[95,1,95,3],[89,1,89,3],[90,1,90,3],[80,1,80,3],[81,1,81,3],[82,1,82,3],[83,1,83,3],[84,1,84,3],[85,1,85,3],[77,0,78,3],[1,28,2,30],[1,31,1,34],[77,27,78,30],[49,0,50,0],[1,35,2,35],[46,27,46,35],[48,27,48,33],[48,34,48,35],[49,28,50,30],[49,31,49,34],[49,35,50,35],[79,28,79,30],[80,28,80,30],[81,28,81,30],[82,28,82,30],[83,28,83,30],[84,28,84,30],[85,28,85,30],[86,28,86,30],[87,28,87,30],[88,28,88,30],[96,27,96,35],[89,28,89,30],[90,28,90,30],[91,28,91,30],[92,28,92,30],[95,28,95,30]]}
[{"$f":"\"โครงสร้างรายวิชา \"&ปก!AC15&\"  \"&\"รหัสวิชา\"&\" \"&ปก!AS15","v":"โครงสร้างรายวิชา หน้าที่พลเมือง  รหัสวิชา  -"}]
["ข้อที่",{"$f":"IF(ปก!C25=\"\",\"\",IF(ปก!C25=\"พื้นฐาน\",\"ตัวชี้วัด\",IF(ปก!C25=\"เพิ่มเติม\",\"ผลการเรียนรู้\")))","v":"ตัวชี้วัด"},null,null,"คะแนนประเมินผลรายปี",null,null,null,"รวม\nปี"]
[null,null,null,null,"ระหว่างภาคเรียนที่ 1","สอบ\nปลาย\nภาคเรียนที่ 1","ระหว่างภาคเรียนที่ 2","สอบ\nปลาย\nภาคเรียนที่ 2"]
[null,null,null,null,null,null,null,null,{"$f":"SUM(E4:H4)","v":0}]
[null,null,null,null,null,null,null,null,{"$f":"SUM(E5:H5)","v":0}]
[null,null,null,null,null,null,null,null,0]
[null,null,null,null,null,null,null,null,0]
[null,null,null,null,null,null,null,null,0]
[null,null,null,null,null,null,null,null,0]
[null,null,null,null,null,null,null,null,0]
[null,null,null,null,null,null,null,null,0]
[null,null,null,null,null,null,null,null,0]
[null,null,null,null,null,null,null,null,0]
[null,null,null,null,null,null,null,null,0]
[null,null,null,null,null,null,null,null,0]
[null,null,null,null,null,null,null,null,0]
[null,null,null,null,null,null,null,null,0]
[null,null,null,null,null,null,null,null,0]
[null,null,null,null,null,null,null,null,0]
[null,null,null,null,null,null,null,null,0]
[null,null,null,null,null,null,null,null,0]
[null,null,null,null,null,null,null,null,0]
[null,null,null,null,null,null,null,null,0]
[null,null,null,null,null,null,null,null,0]
[null,null,null,null,null,null,null,null,0]
[null,null,null,null,null,null,null,null,0]
[null,null,null,null,null,null,null,null,0]
[null,null,null,null,null,null,null,null,0]
[null,null,null,null,null,null,null,null,0]
[null,null,null,null,null,null,null,null,0]
[null,null,null,null,null,null,null,null,0]
[null,null,null,null,null,null,null,null,{"$f":"SUM(E32:H32)","v":0}]
[null,null,null,null,null,null,null,null,0]
[null,null,null,null,null,null,null,null,0]
[null,null,null,null,null,null,null,null,0]
[null,null,null,null,null,null,null,null,0]
[null,null,null,null,null,null,null,null,0]
[null,null,null,null,null,null,null,null,0]
[null,null,null,null,null,null,null,null,0]
[null,null,null,null,null,null,null,null,0]
[null,null,null,null,null,null,null,null,0]
[null,null,null,null,null,null,null,null,0]
[null,null,null,null,null,null,null,null,0]
[null,null,null,null,null,null,null,null,0]
[null,null,null,null,null,null,null,null,0]
[null,null,null,null,null,null,null,null,0]
[{"$f":"\"เวลาเรียน  \"&ปก!AC16&\"  \"&ปก!AE16","v":"เวลาเรียน  40  ชั่วโมงต่อปี"}]
[]
[{"$f":"\"โครงสร้างรายวิชา \"&ปก!AC15&\"  \"&\"รหัสวิชา\"&\" \"&ปก!AS15&\"  (หน้า 2)\"","v":"โครงสร้างรายวิชา หน้าที่พลเมือง  รหัสวิชา  -  (หน้า 2)"}]
["ข้อที่",{"$f":"IF(ปก!C25=\"\",\"\",IF(ปก!C25=\"พื้นฐาน\",\"ตัวชี้วัด\",IF(ปก!C25=\"เพิ่มเติม\",\"ผลการเรียนรู้\")))","v":"ตัวชี้วัด"},null,null,"คะแนนประเมินผลรายปี",null,null,null,"รวม"]
[null,null,null,null,"ระหว่างภาคเรียนที่ 1","สอบ\nปลาย\nภาคเรียนที่ 1","ระหว่างภาคเรียนที่ 2","สอบ\nปลาย\nภาคเรียนที่ 2"]
[null,null,null,null,null,null,null,null,{"$f":"SUM(E52:H52)","v":0}]
[null,null,null,null,null,null,null,null,{"$f":"SUM(E53:H53)","v":0}]
[null,null,null,null,null,null,null,null,0]
[null,null,null,null,null,null,null,null,0]
[null,null,null,null,null,null,null,null,0]
[null,null,null,null,null,null,null,null,0]
[null,null,null,null,null,null,null,null,0]
[null,null,null,null,null,null,null,null,0]
[null,null,null,null,null,null,null,null,0]
[null,null,null,null,null,null,null,null,0]
[null,null,null,null,null,null,null,null,0]
[null,null,null,null,null,null,null,null,0]
[null,null,null,null,null,null,null,null,0]
[null,null,null,null,null,null,null,null,0]
[null,null,null,null,null,null,null,null,0]
[null,null,null,null,null,null,null,null,0]
[null,null,null,null,null,null,null,null,0]
[null,null,null,null,null,null,null,null,0]
[null,null,null,null,null,null,null,null,0]
[null,null,null,null,null,null,null,null,0]
[null,null,null,null,null,null,null,null,0]
[null,null,null,null,null,null,null,null,0]
[null,null,null,null,null,null,null,null,0]
[null,null,null,null,null,null,null,null,0]
[null,null,null,null,null,null,null,null,0]
[null,null,null,null,null,null,null,null,0]
["คะแนนรวม (100 คะแนน)",null,null,null,{"$f":"SUM(E4:E46,E52:E77)","v":0},{"$f":"SUM(F4:F46,F52:F77)","v":0},{"$f":"SUM(G4:G46,G52:G77)","v":0},{"$f":"SUM(H4:H46,H52:H77)","v":0},{"$f":"SUM(E78:H78)","v":0}]
[null,null,null,null,{"$f":"IF(E78=ประเมินผลการเรียนเทอม1!DG6/2,ประเมินผลการเรียนเทอม1!DG6/2,\"รวมผิด\")","v":"รวมผิด"},{"$f":"IF(ประเมินผลการเรียนเทอม1!DI6/2=F78,ประเมินผลการเรียนเทอม1!DI6/2,\"รวมผิด\")","v":"รวมผิด"},{"$f":"IF(ประเมินผลการเรียนเทอม2!DG6/2=G78,ประเมินผลการเรียนเทอม2!DG6/2,\"รวมผิด\")","v":"รวมผิด"},{"$f":"IF(ประเมินผลการเรียนเทอม2!DI6/2=H78,ประเมินผลการเรียนเทอม2!DI6/2,\"รวมผิด\")","v":"รวมผิด"},{"$f":"IF(SUM(E79:H79)=I78,SUM(E79:H79),\"รวมผิด\")","v":0}]
["ข้อที่","การอ่าน คิด วิเคราะห์ และเขียน",null,null,"คะแนน"]
[1,{"$f":"IF(ปก!C25=\"\",\"\",IF(ปก!C18=\"ประถมศึกษาตอนต้น(ป.1-3)\",\"สามารถอ่านและหาประสบการณ์จากสื่อที่หลากหลาย\",IF(ปก!C18=\"ประถมศึกษาตอนปลาย(ป.4-6)\",\"สามารถอ่านเพื่อหาข้อมูลสารสนเทศเสริมประสบการณ์จากสื่อประเภทต่างๆ\")))","v":"สามารถอ่านและหาประสบการณ์จากสื่อที่หลากหลาย"},null,null,"0-3"]
[2,{"$f":"IF(ปก!C25=\"\",\"\",IF(ปก!C18=\"ประถมศึกษาตอนต้น(ป.1-3)\",\"สามารถจับประเด็นสำคัญ ข้อเท็จจริง ความคิดเห็นเรื่องที่อ่าน\",IF(ปก!C18=\"ประถมศึกษาตอนปลาย(ป.4-6)\",\"สามารถจับประเด็นสำคัญ เปรียบเทียบ เชื่อมโยงความเป็นเหตุเป็นผลจากเรื่องที่อ่าน\")))","v":"สามารถจับประเด็นสำคัญ ข้อเท็จจริง ความคิดเห็นเรื่องที่อ่าน"},null,null,"0-3",3,"= ดีเยี่ยม (ดย)"]
[3,{"$f":"IF(ปก!C25=\"\",\"\",IF(ปก!C18=\"ประถมศึกษาตอนต้น(ป.1-3)\",\"สามารถเปรียบเทียบแง่มุมต่างๆ เช่น ข้อดี ข้อเสีย ประโยชน์ โทษ ความเหมาะสม ไม่เหมาะสม\",IF(ปก!C18=\"ประถมศึกษาตอนปลาย(ป.4-6)\",\"สามารถเชื่อมโยงความสัมพันธ์ของเรื่องราว เหตุการณ์ของเรื่องที่อ่าน\")))","v":"สามารถเปรียบเทียบแง่มุมต่างๆ เช่น ข้อดี ข้อเสีย ประโยชน์ โทษ ความเหมาะสม ไม่เหมาะสม"},null,null,"0-3",2,"= ดี (ด)"]
[4,{"$f":"IF(ปก!C25=\"\",\"\",IF(ปก!C18=\"ประถมศึกษาตอนต้น(ป.1-3)\",\"สามารถแสดงความคิดเห็นต่อเรื่องที่อ่าน โดยมีเหตุผลประกอบ\",IF(ปก!C18=\"ประถมศึกษาตอนปลาย(ป.4-6)\",\"สามารถแสดงความคิดเห็นต่อเรื่องที่อ่าน โดยมีเหตุผลสนับสนุน\")))","v":"สามารถแสดงความคิดเห็นต่อเรื่องที่อ่าน โดยมีเหตุผลประกอบ"},null,null,"0-3",1,"= ผ่าน (ผ)"]
[5,{"$f":"IF(ปก!C25=\"\",\"\",IF(ปก!C18=\"ประถมศึกษาตอนต้น(ป.1-3)\",\"สามารถถ่ายทอดความคิดเห็น ความรู้สึกจากเรื่องที่อ่านโดยการเขียน\",IF(ปก!C18=\"ประถมศึกษาตอนปลาย(ป.4-6)\",\"สามารถถ่ายทอดความเข้าใจ ความคิดเห็น คุณค่าจากเรื่องที่อ่านโดยการเขียน\")))","v":"สามารถถ่ายทอดความคิดเห็น ความรู้สึกจากเรื่องที่อ่านโดยการเขียน"},null,null,"0-3",0,"= ไม่ผ่าน"]
["ข้อที่","คุณลักษณะอันพึงประสงค์",null,null,"คะแนน"]
[1,"รักชาติ ศาสตร์ กษัตริย์",null,null,"0-3"]
[2,"ชื่อสัตย์สุจริต",null,null,"0-3"]
[3,"มีวินัย",null,null,"0-3"]
[4,"ใฝ่เรียนรู้",null,null,"0-3"]
[5,"อยู่อย่างพอเพียง",null,null,"0-3"]
[6,"มุ่งมันในการทำงาน",null,null,"0-3"]
[7,"รักความเป็นไทย",null,null,"0-3"]
[8,"มีจิตสาธารณะ"]
[9,"เอื้อเฟื้อเผื่อแผ่"]
[10,"กตัญญูรู้คุณ",null,null,"0-3"]
[]
[]
[]
[]
[]
[]
[]
[]
[]
[]
[null,null,null,null,null,"ม.1/1",null,null,null,null,null,null,null,null,null,null,null,null,null,null,null,null,null,null,null,null,null,null,null,null,null,"ม.1/1"]
[null,null,null,null,null,"ม.1/2",null,null,null,null,null,null,null,null,null,null,null,null,null,null,null,null,null,null,null,null,null,null,null,null,null,"ม.1/2"]
[null,null,null,null,null,"ม.1/3",null,null,null,null,null,null,null,null,null,null,null,null,null,null,null,null,null,null,null,null,null,null,null,null,null,"ม.1/3"]
[null,null,null,null,null,"ม.1/4",null,null,null,null,null,null,null,null,null,null,null,null,null,null,null,null,null,null,null,null,null,null,null,null,null,"ม.1/4"]
[null,null,null,null,null,"ม.1/5",null,null,null,null,null,null,null,null,null,null,null,null,null,null,null,null,null,null,null,null,null,null,null,null,null,"ม.1/5"]
[null,null,null,null,null,"ม.1/6",null,null,null,null,null,null,null,null,null,null,null,null,null,null,null,null,null,null,null,null,null,null,null,null,null,"ม.1/6"]
[null,null,null,null,null,"ม.1/7",null,null,null,null,null,null,null,null,null,null,null,null,null,null,null,null,null,null,null,null,null,null,null,null,null,"ม.1/7"]
[null,null,null,null,null,"ม.1/8",null,null,null,null,null,null,null,null,null,null,null,null,null,null,null,null,null,null,null,null,null,null,null,null,null,"ม.1/8"]
[null,null,null,null,null,"ม.1/9",null,null,null,null,null,null,null,null,null,null,null,null,null,null,null,null,null,null,null,null,null,null,null,null,null,"ม.1/9"]
[null,null,null,null,null,"ม.1/10",null,null,null,null,null,null,null,null,null,null,null,null,null,null,null,null,null,null,null,null,null,null,null,null,null,"ม.1/10"]
[null,null,null,null,null,"ม.2/1",null,null,null,null,null,null,null,null,null,null,null,null,null,null,null,null,null,null,null,null,null,null,null,null,null,"ม.2/1"]
[null,null,null,null,null,"ม.2/2",null,null,null,null,null,null,null,null,null,null,null,null,null,null,null,null,null,null,null,null,null,null,null,null,null,"ม.2/2"]
[null,null,null,null,null,"ม.2/3",null,null,null,null,null,null,null,null,null,null,null,null,null,null,null,null,null,null,null,null,null,null,null,null,null,"ม.2/3"]
[null,null,null,null,null,"ม.2/4",null,null,null,null,null,null,null,null,null,null,null,null,null,null,null,null,null,null,null,null,null,null,null,null,null,"ม.2/4"]
[null,null,null,null,null,"ม.2/5",null,null,null,null,null,null,null,null,null,null,null,null,null,null,null,null,null,null,null,null,null,null,null,null,null,"ม.2/5"]
[null,null,null,null,null,"ม.2/6",null,null,null,null,null,null,null,null,null,null,null,null,null,null,null,null,null,null,null,null,null,null,null,null,null,"ม.2/6"]
[null,null,null,null,null,"ม.2/7",null,null,null,null,null,null,null,null,null,null,null,null,null,null,null,null,null,null,null,null,null,null,null,null,null,"ม.2/7"]
[null,null,null,null,null,"ม.2/8",null,null,null,null,null,null,null,null,null,null,null,null,null,null,null,null,null,null,null,null,null,null,null,null,null,"ม.2/8"]
[null,null,null,null,null,"ม.2/9",null,null,null,null,null,null,null,null,null,null,null,null,null,null,null,null,null,null,null,null,null,null,null,null,null,"ม.2/9"]
[null,null,null,null,null,"ม.2/10",null,null,null,null,null,null,null,null,null,null,null,null,null,null,null,null,null,null,null,null,null,null,null,null,null,"ม.2/10"]
[null,null,null,null,null,"ม.3/1",null,null,null,null,null,null,null,null,null,null,null,null,null,null,null,null,null,null,null,null,null,null,null,null,null,"ม.3/1"]
[null,null,null,null,null,"ม.3/2",null,null,null,null,null,null,null,null,null,null,null,null,null,null,null,null,null,null,null,null,null,null,null,null,null,"ม.3/2"]
[null,null,null,null,null,"ม.3/3",null,null,null,null,null,null,null,null,null,null,null,null,null,null,null,null,null,null,null,null,null,null,null,null,null,"ม.3/3"]
[null,null,null,null,null,"ม.3/4",null,null,null,null,null,null,null,null,null,null,null,null,null,null,null,null,null,null,null,null,null,null,null,null,null,"ม.3/4"]
[null,null,null,null,null,"ม.3/5",null,null,null,null,null,null,null,null,null,null,null,null,null,null,null,null,null,null,null,null,null,null,null,null,null,"ม.3/5"]
[null,null,null,null,null,"ม.3/6",null,null,null,null,null,null,null,null,null,null,null,null,null,null,null,null,null,null,null,null,null,null,null,null,null,"ม.3/6"]
[null,null,null,null,null,"ม.3/7",null,null,null,null,null,null,null,null,null,null,null,null,null,null,null,null,null,null,null,null,null,null,null,null,null,"ม.3/7"]
[null,null,null,null,null,"ม.3/8",null,null,null,null,null,null,null,null,null,null,null,null,null,null,null,null,null,null,null,null,null,null,null,null,null,"ม.3/8"]
[null,null,null,null,null,"ม.3/9",null,null,null,null,null,null,null,null,null,null,null,null,null,null,null,null,null,null,null,null,null,null,null,null,null,"ม.3/9"]
[null,null,null,null,null,"ม.3/10",null,null,null,null,null,null,null,null,null,null,null,null,null,null,null,null,null,null,null,null,null,null,null,null,null,"ม.3/10"]
[null,null,null,null,null,"ม.4-6/1",null,null,null,null,null,null,null,null,null,null,null,null,null,null,null,null,null,null,null,null,null,null,null,null,null,"ม.4-6/1"]
[null,null,null,null,null,"ม.4-6/2",null,null,null,null,null,null,null,null,null,null,null,null,null,null,null,null,null,null,null,null,null,null,null,null,null,"ม.4-6/2"]
[null,null,null,null,null,"ม.4-6/3",null,null,null,null,null,null,null,null,null,null,null,null,null,null,null,null,null,null,null,null,null,null,null,null,null,"ม.4-6/3"]
[null,null,null,null,null,"ม.4-6/4",null,null,null,null,null,null,null,null,null,null,null,null,null,null,null,null,null,null,null,null,null,null,null,null,null,"ม.4-6/4"]
[null,null,null,null,null,"ม.4-6/5",null,null,null,null,null,null,null,null,null,null,null,null,null,null,null,null,null,null,null,null,null,null,null,null,null,"ม.4-6/5"]
[null,null,null,null,null,"ม.4-6/6",null,null,null,null,null,null,null,null,null,null,null,null,null,null,null,null,null,null,null,null,null,null,null,null,null,"ม.4-6/6"]
[null,null,null,null,null,"ม.4-6/7",null,null,null,null,null,null,null,null,null,null,null,null,null,null,null,null,null,null,null,null,null,null,null,null,null,"ม.4-6/7"]
[null,null,null,null,null,"ม.4-6/8",null,null,null,null,null,null,null,null,null,null,null,null,null,null,null,null,null,null,null,null,null,null,null,null,null,"ม.4-6/8"]
[null,null,null,null,null,"ม.4-6/9",null,null,null,null,null,null,null,null,null,null,null,null,null,null,null,null,null,null,null,null,null,null,null,null,null,"ม.4-6/9"]
[null,null,null,null,null,"ม.4-6/10",null,null,null,null,null,null,null,null,null,null,null,null,null,null,null,null,null,null,null,null,null,null,null,null,null,"ม.4-6/10"]
[null,null,null,null,null,"ม.4-6/11",null,null,null,null,null,null,null,null,null,null,null,null,null,null,null,null,null,null,null,null,null,null,null,null,null,"ม.4-6/11"]
[null,null,null,null,null,"ม.4-6/12",null,null,null,null,null,null,null,null,null,null,null,null,null,null,null,null,null,null,null,null,null,null,null,null,null,"ม.4-6/12"]
[null,null,null,null,null,"ม.4-6/13",null,null,null,null,null,null,null,null,null,null,null,null,null,null,null,null,null,null,null,null,null,null,null,null,null,"ม.4-6/13"]
[null,null,null,null,null,"ม.4-6/14",null,null,null,null,null,null,null,null,null,null,null,null,null,null,null,null,null,null,null,null,null,null,null,null,null,"ม.4-6/14"]
[null,null,null,null,null,"ม.4-6/15",null,null,null,null,null,null,null,null,null,null,null,null,null,null,null,null,null,null,null,null,null,null,null,null,null,"ม.4-6/15"]
[null,null,null,null,null,"ม.4-6/16",null,null,null,null,null,null,null,null,null,null,null,null,null,null,null,null,null,null,null,null,null,null,null,null,null,"ม.4-6/16"]
[null,null,null,null,null,"ม.4-6/17",null,null,null,null,null,null,null,null,null,null,null,null,null,null,null,null,null,null,null,null,null,null,null,null,null,"ม.4-6/17"]
[null,null,null,null,null,"ม.4-6/18",null,null,null,null,null,null,null,null,null,null,null,null,null,null,null,null,null,null,null,null,null,null,null,null,null,"ม.4-6/18"]
[null,null,null,null,null,"ม.4-6/19",null,null,null,null,null,null,null,null,null,null,null,null,null,null,null,null,null,null,null,null,null,null,null,null,null,"ม.4-6/19"]
[null,null,null,null,null,"ม.4-6/20",null,null,null,null,null,null,null,null,null,null,null,null,null,null,null,null,null,null,null,null,null,null,null,null,null,"ม.4-6/20"]
[null,null,null,null,null,"ม.4-6/21",null,null,null,null,null,null,null,null,null,null,null,null,null,null,null,null,null,null,null,null,null,null,null,null,null,"ม.4-6/21"]
[null,null,null,null,null,"ม.4-6/22",null,null,null,null,null,null,null,null,null,null,null,null,null,null,null,null,null,null,null,null,null,null,null,null,null,"ม.4-6/22"]
[null,null,null,null,null,"ม.4-6/23",null,null,null,null,null,null,null,null,null,null,null,null,null,null,null,null,null,null,null,null,null,null,null,null,null,"ม.4-6/23"]
[null,null,null,null,null,"ม.4-6/24",null,null,null,null,null,null,null,null,null,null,null,null,null,null,null,null,null,null,null,null,null,null,null,null,null,"ม.4-6/24"]
[null,null,null,null,null,"ม.4-6/25",null,null,null,null,null,null,null,null,null,null,null,null,null,null,null,null,null,null,null,null,null,null,null,null,null,"ม.4-6/25"]
[null,null,null,null,null,"ม.4-6/26",null,null,null,null,null,null,null,null,null,null,null,null,null,null,null,null,null,null,null,null,null,null,null,null,null,"ม.4-6/26"]
[null,null,null,null,null,"ม.4-6/27",null,null,null,null,null,null,null,null,null,null,null,null,null,null,null,null,null,null,null,null,null,null,null,null,null,"ม.4-6/27"]
[null,null,null,null,null,"ม.4-6/28",null,null,null,null,null,null,null,null,null,null,null,null,null,null,null,null,null,null,null,null,null,null,null,null,null,"ม.4-6/28"]
[null,null,null,null,null,"ม.4-6/29",null,null,null,null,null,null,null,null,null,null,null,null,null,null,null,null,null,null,null,null,null,null,null,null,null,"ม.4-6/29"]
[null,null,null,null,null,"ม.4-6/30",null,null,null,null,null,null,null,null,null,null,null,null,null,null,null,null,null,null,null,null,null,null,null,null,null,"ม.4-6/30"]
[null,null,null,null,null,"ข้อ 1",null,null,null,null,null,null,null,null,null,null,null,null,null,null,null,null,null,null,null,null,null,null,null,null,null,"ข้อ 1"]
[null,null,null,null,null,"ข้อ 2",null,null,null,null,null,null,null,null,null,null,null,null,null,null,null,null,null,null,null,null,null,null,null,null,null,"ข้อ 2"]
[null,null,null,null,null,"ข้อ 3",null,null,null,null,null,null,null,null,null,null,null,null,null,null,null,null,null,null,null,null,null,null,null,null,null,"ข้อ 3"]
[null,null,null,null,null,"ข้อ 4",null,null,null,null,null,null,null,null,null,null,null,null,null,null,null,null,null,null,null,null,null,null,null,null,null,"ข้อ 4"]
[null,null,null,null,null,"ข้อ 5",null,null,null,null,null,null,null,null,null,null,null,null,null,null,null,null,null,null,null,null,null,null,null,null,null,"ข้อ 5"]
[null,null,null,null,null,"ข้อ 6",null,null,null,null,null,null,null,null,null,null,null,null,null,null,null,null,null,null,null,null,null,null,null,null,null,"ข้อ 6"]
[null,null,null,null,null,"ข้อ 7",null,null,null,null,null,null,null,null,null,null,null,null,null,null,null,null,null,null,null,null,null,null,null,null,null,"ข้อ 7"]
[null,null,null,null,null,"ข้อ 8",null,null,null,null,null,null,null,null,null,null,null,null,null,null,null,null,null,null,null,null,null,null,null,null,null,"ข้อ 8"]
[null,null,null,null,null,"ข้อ 9",null,null,null,null,null,null,null,null,null,null,null,null,null,null,null,null,null,null,null,null,null,null,null,null,null,"ข้อ 9"]
[null,null,null,null,null,"ข้อ 10",null,null,null,null,null,null,null,null,null,null,null,null,null,null,null,null,null,null,null,null,null,null,null,null,null,"ข้อ 10"]
[null,null,null,null,null,"ข้อ 11",null,null,null,null,null,null,null,null,null,null,null,null,null,null,null,null,null,null,null,null,null,null,null,null,null,"ข้อ 11"]
[null,null,null,null,null,"ข้อ 12",null,null,null,null,null,null,null,null,null,null,null,null,null,null,null,null,null,null,null,null,null,null,null,null,null,"ข้อ 12"]
[null,null,null,null,null,"ข้อ 13",null,null,null,null,null,null,null,null,null,null,null,null,null,null,null,null,null,null,null,null,null,null,null,null,null,"ข้อ 13"]
[null,null,null,null,null,"ข้อ 14",null,null,null,null,null,null,null,null,null,null,null,null,null,null,null,null,null,null,null,null,null,null,null,null,null,"ข้อ 14"]
[null,null,null,null,null,"ข้อ 15",null,null,null,null,null,null,null,null,null,null,null,null,null,null,null,null,null,null,null,null,null,null,null,null,null,"ข้อ 15"]
[null,null,null,null,null,"ข้อ 16",null,null,null,null,null,null,null,null,null,null,null,null,null,null,null,null,null,null,null,null,null,null,null,null,null,"ข้อ 16"]
[null,null,null,null,null,"ข้อ 17",null,null,null,null,null,null,null,null,null,null,null,null,null,null,null,null,null,null,null,null,null,null,null,null,null,"ข้อ 17"]
[null,null,null,null,null,"ข้อ 18",null,null,null,null,null,null,null,null,null,null,null,null,null,null,null,null,null,null,null,null,null,null,null,null,null,"ข้อ 18"]
[null,null,null,null,null,"ข้อ 19",null,null,null,null,null,null,null,null,null,null,null,null,null,null,null,null,null,null,null,null,null,null,null,null,null,"ข้อ 19"]
[null,null,null,null,null,"ข้อ 20",null,null,null,null,null,null,null,null,null,null,null,null,null,null,null,null,null,null,null,null,null,null,null,null,null,"ข้อ 20"]
[null,null,null,null,null,"ข้อ 21",null,null,null,null,null,null,null,null,null,null,null,null,null,null,null,null,null,null,null,null,null,null,null,null,null,"ข้อ 21"]
[null,null,null,null,null,"ข้อ 22",null,null,null,null,null,null,null,null,null,null,null,null,null,null,null,null,null,null,null,null,null,null,null,null,null,"ข้อ 22"]
[null,null,null,null,null,"ข้อ 23",null,null,null,null,null,null,null,null,null,null,null,null,null,null,null,null,null,null,null,null,null,null,null,null,null,"ข้อ 23"]
[null,null,null,null,null,"ข้อ 24",null,null,null,null,null,null,null,null,null,null,null,null,null,null,null,null,null,null,null,null,null,null,null,null,null,"ข้อ 24"]
[null,null,null,null,null,"ข้อ 25",null,null,null,null,null,null,null,null,null,null,null,null,null,null,null,null,null,null,null,null,null,null,null,null,null,"ข้อ 25"]
[null,null,null,null,null,"ข้อ 26",null,null,null,null,null,null,null,null,null,null,null,null,null,null,null,null,null,null,null,null,null,null,null,null,null,"ข้อ 26"]
[null,null,null,null,null,"ข้อ 27",null,null,null,null,null,null,null,null,null,null,null,null,null,null,null,null,null,null,null,null,null,null,null,null,null,"ข้อ 27"]
[null,null,null,null,null,"ข้อ 28",null,null,null,null,null,null,null,null,null,null,null,null,null,null,null,null,null,null,null,null,null,null,null,null,null,"ข้อ 28"]
[null,null,null,null,null,"ข้อ 29",null,null,null,null,null,null,null,null,null,null,null,null,null,null,null,null,null,null,null,null,null,null,null,null,null,"ข้อ 29"]
[null,null,null,null,null,"ข้อ 30",null,null,null,null,null,null,null,null,null,null,null,null,null,null,null,null,null,null,null,null,null,null,null,null,null,"ข้อ 30"]

{"sheet":"Sheet1","index":13,"n_rows":52,"n_cols":9,"rows_kept":52,"cut":false,"hidden":false,"merged":[]}
["StudentID","รหัส","คำนำหน้า","ชื่อ","นามสกุล","คะแนน","เกรด","เกรด"]
[null,null,null,null,null,null,null,"",{"$f":"[1]ปก!C27&\" ม\"&[1]ปก!C21&\"-\"&[1]ปก!C22&\" \"&[1]ปก!C29","v":" ม- "}]
[null,null,null,null,null,null,null,""]
[null,null,null,null,null,null,null,""]
[null,null,null,null,null,null,null,""]
[null,null,null,null,null,null,null,""]
[null,null,null,null,null,null,null,""]
[null,null,null,null,null,null,null,""]
[null,null,null,null,null,null,null,""]
[null,null,null,null,null,null,null,""]
[null,null,null,null,null,null,null,""]
[null,null,null,null,null,null,null,""]
[null,null,null,null,null,null,null,""]
[null,null,null,null,null,null,null,""]
[null,null,null,null,null,null,null,""]
[null,null,null,null,null,null,null,""]
[null,null,null,null,null,null,null,""]
[null,null,null,null,null,null,null,""]
[null,null,null,null,null,null,null,""]
[null,null,null,null,null,null,null,""]
[null,null,null,null,null,null,null,""]
[null,null,null,null,null,null,null,""]
[null,null,null,null,null,null,null,""]
[null,null,null,null,null,null,null,""]
[null,null,null,null,null,null,null,""]
[null,null,null,null,null,null,null,""]
[null,null,null,null,null,null,null,""]
[null,null,null,null,null,null,null,""]
[null,null,null,null,null,null,null,""]
[null,null,null,null,null,null,null,""]
[null,null,null,null,null,null,null,""]
[null,null,null,null,null,null,null,""]
[null,null,null,null,null,null,null,""]
[null,null,null,null,null,null,null,""]
[null,null,null,null,null,null,null,""]
[null,null,null,null,null,null,null,""]
[null,null,null,null,null,null,null,""]
[null,null,null,null,null,null,null,""]
[null,null,null,null,null,null,null,""]
[null,null,null,null,null,null,null,""]
[null,null,null,null,null,null,null,""]
[null,null,null,null,null,null,null,""]
[null,null,null,null,null,null,null,""]
[null,null,null,null,null,null,null,""]
[null,null,null,null,null,null,null,""]
[null,null,null,null,null,null,null,""]
[null,null,null,null,null,null,null,""]
[null,null,null,null,null,null,null,""]
[null,null,null,null,null,null,null,""]
[null,null,null,null,null,null,null,""]
[null,null,null,null,null,null,null,""]
["ท21102"]